Workbook

Sheet Samenvatting
A1: Gemeentelijke gebouwen
A2: Contract Einddatum | B2: 44926
A4: Klantnummer | B4: Klantnaam | C4: Perceel | D4: Aantal van Eancode Aansluiting | E4: Verbruik piek | F4: Verbruik dal | G4: Aantal van Eancode Aansluiting | L4: som verbruik gemeente | O4: som verbruik OV | R4: totaal | S4: GvOs
A5: K20000320 | B5: Gemeente Montfoort | C5: Gemeentelijke gebouwen | D5: 80 | E5: =SUMIFS('Aansluitingen & verbruik'!$AB$2:$AB$4129,'Aansluitingen & verbruik'!$B$2:$B$4129,Samenvatting!B5,'Aansluitingen & verbruik'!$E$2:$E$4129,Samenvatting!C5) -> 693849.25 | F5: =SUMIFS('Aansluitingen & verbruik'!$AC$2:$AC$4129,'Aansluitingen & verbruik'!$B$2:$B$4129,Samenvatting!B5,'Aansluitingen & verbruik'!$E$2:$E$4129,Samenvatting!C5) -> 593412.75 | G5: =+GETPIVOTDATA("Eancode Aansluiting",$A$4,"Klantnummer","K20000320","Klantnaam","Gemeente Montfoort","Perceel","Gemeentelijke gebouwen") -> 80 | L5: =+E5+F5 -> 1287262 | O5: =+L43 -> 382692 | R5: =+L5+O5 -> 1669954 | S5: =+R5/1000 -> 1669.954
A6: K20000325 | B6: Gemeente IJsselstein | C6: Gemeentelijke gebouwen | D6: 125 | E6: =SUMIFS('Aansluitingen & verbruik'!$AB$2:$AB$4129,'Aansluitingen & verbruik'!$B$2:$B$4129,Samenvatting!B6,'Aansluitingen & verbruik'!$E$2:$E$4129,Samenvatting!C6) -> 1143327.6 | F6: =SUMIFS('Aansluitingen & verbruik'!$AC$2:$AC$4129,'Aansluitingen & verbruik'!$B$2:$B$4129,Samenvatting!B6,'Aansluitingen & verbruik'!$E$2:$E$4129,Samenvatting!C6) -> 626819.4 | G6: =+GETPIVOTDATA("Eancode Aansluiting",$A$4,"Klantnummer","K20000325","Klantnaam","Gemeente IJsselstein","Perceel","Gemeentelijke gebouwen") -> 125 | L6: =+E6+F6 -> 1770147 | O6: =+SUMIF($B$31:$B$40,B6,$L$31:$L$40) -> 1474285 | R6: =+L6+O6 -> 3244432 | S6: =+R6/1000 -> 3244.432
A7: K20011088 | B7: Gemeente Lopik | C7: Gemeentelijke gebouwen | D7: 77 | E7: =SUMIFS('Aansluitingen & verbruik'!$AB$2:$AB$4129,'Aansluitingen & verbruik'!$B$2:$B$4129,Samenvatting!B7,'Aansluitingen & verbruik'!$E$2:$E$4129,Samenvatting!C7) -> 390217 | F7: =SUMIFS('Aansluitingen & verbruik'!$AC$2:$AC$4129,'Aansluitingen & verbruik'!$B$2:$B$4129,Samenvatting!B7,'Aansluitingen & verbruik'!$E$2:$E$4129,Samenvatting!C7) -> 357683 | G7: =+GETPIVOTDATA("Eancode Aansluiting",$A$4,"Klantnummer","K20011088","Klantnaam","Gemeente Lopik","Perceel","Gemeentelijke gebouwen") -> 77 | L7: =+E7+F7 -> 747900 | O7: =+SUMIF($B$31:$B$40,B7,$L$31:$L$40) -> 291090 | R7: =+L7+O7 -> 1038990 | S7: =+R7/1000 -> 1038.99
A8: K20014139 | B8: Gemeente Baarn | C8: Gemeentelijke gebouwen | D8: 90 | E8: =SUMIFS('Aansluitingen & verbruik'!$AB$2:$AB$4129,'Aansluitingen & verbruik'!$B$2:$B$4129,Samenvatting!B8,'Aansluitingen & verbruik'!$E$2:$E$4129,Samenvatting!C8) -> 504552.15 | F8: =SUMIFS('Aansluitingen & verbruik'!$AC$2:$AC$4129,'Aansluitingen & verbruik'!$B$2:$B$4129,Samenvatting!B8,'Aansluitingen & verbruik'!$E$2:$E$4129,Samenvatting!C8) -> 598889.85 | G8: =+GETPIVOTDATA("Eancode Aansluiting",$A$4,"Klantnummer","K20014139","Klantnaam","Gemeente Baarn","Perceel","Gemeentelijke gebouwen") -> 90 | L8: =+E8+F8 -> 1103442 | O8: =+SUMIF($B$31:$B$40,B8,$L$31:$L$40) -> 0 | R8: =+L8+O8 -> 1103442 | S8: =+R8/1000 -> 1103.442
A9: K20021659 | B9: Gemeente Zeist | C9: Gemeentelijke gebouwen | D9: 198 | E9: =SUMIFS('Aansluitingen & verbruik'!$AB$2:$AB$4129,'Aansluitingen & verbruik'!$B$2:$B$4129,Samenvatting!B9,'Aansluitingen & verbruik'!$E$2:$E$4129,Samenvatting!C9) -> 1759591.6 | F9: =SUMIFS('Aansluitingen & verbruik'!$AC$2:$AC$4129,'Aansluitingen & verbruik'!$B$2:$B$4129,Samenvatting!B9,'Aansluitingen & verbruik'!$E$2:$E$4129,Samenvatting!C9) -> 1467959.5 | G9: =+GETPIVOTDATA("Eancode Aansluiting",$A$4,"Klantnummer","K20021659","Klantnaam","Gemeente Zeist","Perceel","Gemeentelijke gebouwen") -> 198 | L9: =+E9+F9 -> 3227551 | O9: =+SUMIF($B$31:$B$40,B9,$L$31:$L$40) -> 1707313 | R9: =+L9+O9 -> 4934864 | S9: =+R9/1000 -> 4934.864
A10: K20024221 | B10: Gemeente Soest | C10: Gemeentelijke gebouwen | D10: 135 | E10: =SUMIFS('Aansluitingen & verbruik'!$AB$2:$AB$4129,'Aansluitingen & verbruik'!$B$2:$B$4129,Samenvatting!B10,'Aansluitingen & verbruik'!$E$2:$E$4129,Samenvatting!C10) -> 1304468 | F10: =SUMIFS('Aansluitingen & verbruik'!$AC$2:$AC$4129,'Aansluitingen & verbruik'!$B$2:$B$4129,Samenvatting!B10,'Aansluitingen & verbruik'!$E$2:$E$4129,Samenvatting!C10) -> 1801780 | G10: =+GETPIVOTDATA("Eancode Aansluiting",$A$4,"Klantnummer","K20024221","Klantnaam","Gemeente Soest","Perceel","Gemeentelijke gebouwen") -> 135 | L10: =+E10+F10 -> 3106248 | O10: =+SUMIF($B$31:$B$40,B10,$L$31:$L$40) -> 0 | R10: =+L10+O10 -> 3106248 | S10: =+R10/1000 -> 3106.248
A11: K20041473 | B11: Gemeente Bunnik | C11: Gemeentelijke gebouwen | D11: 159 | E11: =SUMIFS('Aansluitingen & verbruik'!$AB$2:$AB$4129,'Aansluitingen & verbruik'!$B$2:$B$4129,Samenvatting!B11,'Aansluitingen & verbruik'!$E$2:$E$4129,Samenvatting!C11) -> 386764.9 | F11: =SUMIFS('Aansluitingen & verbruik'!$AC$2:$AC$4129,'Aansluitingen & verbruik'!$B$2:$B$4129,Samenvatting!B11,'Aansluitingen & verbruik'!$E$2:$E$4129,Samenvatting!C11) -> 218516.1 | G11: =+GETPIVOTDATA("Eancode Aansluiting",$A$4,"Klantnummer","K20041473","Klantnaam","Gemeente Bunnik","Perceel","Gemeentelijke gebouwen") -> 159 | L11: =+E11+F11 -> 605281 | O11: =+SUMIF($B$31:$B$40,B11,$L$31:$L$40) -> 459089 | R11: =+L11+O11 -> 1064370 | S11: =+R11/1000 -> 1064.37
A12: K20041475 | B12: Gemeente de Bilt | C12: Gemeentelijke gebouwen | D12: 209 | E12: =SUMIFS('Aansluitingen & verbruik'!$AB$2:$AB$4129,'Aansluitingen & verbruik'!$B$2:$B$4129,Samenvatting!B12,'Aansluitingen & verbruik'!$E$2:$E$4129,Samenvatting!C12) -> 574276.2 | F12: =SUMIFS('Aansluitingen & verbruik'!$AC$2:$AC$4129,'Aansluitingen & verbruik'!$B$2:$B$4129,Samenvatting!B12,'Aansluitingen & verbruik'!$E$2:$E$4129,Samenvatting!C12) -> 356911.8 | G12: =+GETPIVOTDATA("Eancode Aansluiting",$A$4,"Klantnummer","K20041475","Klantnaam","Gemeente de Bilt","Perceel","Gemeentelijke gebouwen") -> 209 | L12: =+E12+F12 -> 931188 | O12: =+SUMIF($B$31:$B$40,B12,$L$31:$L$40) -> 1047136 | R12: =+L12+O12 -> 1978324 | S12: =+R12/1000 -> 1978.324
A13: K20041482 | B13: Gemeente Houten | C13: Gemeentelijke gebouwen | D13: 240 | E13: =SUMIFS('Aansluitingen & verbruik'!$AB$2:$AB$4129,'Aansluitingen & verbruik'!$B$2:$B$4129,Samenvatting!B13,'Aansluitingen & verbruik'!$E$2:$E$4129,Samenvatting!C13) -> 1469286.8 | F13: =SUMIFS('Aansluitingen & verbruik'!$AC$2:$AC$4129,'Aansluitingen & verbruik'!$B$2:$B$4129,Samenvatting!B13,'Aansluitingen & verbruik'!$E$2:$E$4129,Samenvatting!C13) -> 936396.2 | G13: =+GETPIVOTDATA("Eancode Aansluiting",$A$4,"Klantnummer","K20041482","Klantnaam","Gemeente Houten","Perceel","Gemeentelijke gebouwen") -> 240 | L13: =+E13+F13 -> 2405683 | O13: =+L44 -> 1820000 | R13: =+L13+O13 -> 4225683 | S13: =+R13/1000 -> 4225.683
A14: K20041484 | B14: Gemeente Leusden | C14: Gemeentelijke gebouwen | D14: 240 | E14: =SUMIFS('Aansluitingen & verbruik'!$AB$2:$AB$4129,'Aansluitingen & verbruik'!$B$2:$B$4129,Samenvatting!B14,'Aansluitingen & verbruik'!$E$2:$E$4129,Samenvatting!C14) -> 773478.4 | F14: =SUMIFS('Aansluitingen & verbruik'!$AC$2:$AC$4129,'Aansluitingen & verbruik'!$B$2:$B$4129,Samenvatting!B14,'Aansluitingen & verbruik'!$E$2:$E$4129,Samenvatting!C14) -> 534662.6 | G14: =+GETPIVOTDATA("Eancode Aansluiting",$A$4,"Klantnummer","K20041484","Klantnaam","Gemeente Leusden","Perceel","Gemeentelijke gebouwen") -> 240 | L14: =+E14+F14 -> 1308141 | O14: =+SUMIF($B$31:$B$40,B14,$L$31:$L$40) -> 341825 | R14: =+L14+O14 -> 1649966 | S14: =+R14/1000 -> 1649.966
A15: K20041485 | B15: Gemeente Nieuwegein | C15: Gemeentelijke gebouwen | D15: 355 | E15: =SUMIFS('Aansluitingen & verbruik'!$AB$2:$AB$4129,'Aansluitingen & verbruik'!$B$2:$B$4129,Samenvatting!B15,'Aansluitingen & verbruik'!$E$2:$E$4129,Samenvatting!C15) -> 2806359.4 | F15: =SUMIFS('Aansluitingen & verbruik'!$AC$2:$AC$4129,'Aansluitingen & verbruik'!$B$2:$B$4129,Samenvatting!B15,'Aansluitingen & verbruik'!$E$2:$E$4129,Samenvatting!C15) -> 1674328.6 | G15: =+GETPIVOTDATA("Eancode Aansluiting",$A$4,"Klantnummer","K20041485","Klantnaam","Gemeente Nieuwegein","Perceel","Gemeentelijke gebouwen") -> 355 | L15: =+E15+F15 -> 4480688 | O15: =+SUMIF($B$31:$B$40,B15,$L$31:$L$40) -> 0 | R15: =+L15+O15 -> 4480688 | S15: =+R15/1000 -> 4480.688
A16: K20041498 | B16: Gemeente Stichtse Vecht | C16: Gemeentelijke gebouwen | D16: 559 | E16: =SUMIFS('Aansluitingen & verbruik'!$AB$2:$AB$4129,'Aansluitingen & verbruik'!$B$2:$B$4129,Samenvatting!B16,'Aansluitingen & verbruik'!$E$2:$E$4129,Samenvatting!C16) -> 2879319.3 | F16: =SUMIFS('Aansluitingen & verbruik'!$AC$2:$AC$4129,'Aansluitingen & verbruik'!$B$2:$B$4129,Samenvatting!B16,'Aansluitingen & verbruik'!$E$2:$E$4129,Samenvatting!C16) -> 1792434.7 | G16: =+GETPIVOTDATA("Eancode Aansluiting",$A$4,"Klantnummer","K20041498","Klantnaam","Gemeente Stichtse Vecht","Perceel","Gemeentelijke gebouwen") -> 559 | L16: =+E16+F16 -> 4671754 | O16: =+SUMIF($B$31:$B$40,B16,$L$31:$L$40) -> 2238188 | R16: =+L16+O16 -> 6909942 | S16: =+R16/1000 -> 6909.942
A17: K20041500 | B17: Gemeente Utrechtse Heuvelrug | C17: Gemeentelijke gebouwen | D17: 325 | E17: =SUMIFS('Aansluitingen & verbruik'!$AB$2:$AB$4129,'Aansluitingen & verbruik'!$B$2:$B$4129,Samenvatting!B17,'Aansluitingen & verbruik'!$E$2:$E$4129,Samenvatting!C17) -> 1006077.1 | F17: =SUMIFS('Aansluitingen & verbruik'!$AC$2:$AC$4129,'Aansluitingen & verbruik'!$B$2:$B$4129,Samenvatting!B17,'Aansluitingen & verbruik'!$E$2:$E$4129,Samenvatting!C17) -> 617047.85 | G17: =+GETPIVOTDATA("Eancode Aansluiting",$A$4,"Klantnummer","K20041500","Klantnaam","Gemeente Utrechtse Heuvelrug","Perceel","Gemeentelijke gebouwen") -> 325 | L17: =+E17+F17 -> 1623125 | O17: =+SUMIF($B$31:$B$40,B17,$L$31:$L$40) -> 1270544 | R17: =+L17+O17 -> 2893669 | S17: =+R17/1000 -> 2893.669
A18: K20041501 | B18: Gemeente Veenendaal | C18: Gemeentelijke gebouwen | D18: 160 | E18: =SUMIFS('Aansluitingen & verbruik'!$AB$2:$AB$4129,'Aansluitingen & verbruik'!$B$2:$B$4129,Samenvatting!B18,'Aansluitingen & verbruik'!$E$2:$E$4129,Samenvatting!C18) -> 1545770.9 | F18: =SUMIFS('Aansluitingen & verbruik'!$AC$2:$AC$4129,'Aansluitingen & verbruik'!$B$2:$B$4129,Samenvatting!B18,'Aansluitingen & verbruik'!$E$2:$E$4129,Samenvatting!C18) -> 1199797.1 | G18: =+GETPIVOTDATA("Eancode Aansluiting",$A$4,"Klantnummer","K20041501","Klantnaam","Gemeente Veenendaal","Perceel","Gemeentelijke gebouwen") -> 160 | L18: =+E18+F18 -> 2745568 | O18: =+SUMIF($B$31:$B$40,B18,$L$31:$L$40) -> 74446 | R18: =+L18+O18 -> 2820014 | S18: =+R18/1000 -> 2820.014
A19: K20041506 | B19: Gemeente Wijk bij Duurstede | C19: Gemeentelijke gebouwen | D19: 197 | E19: =SUMIFS('Aansluitingen & verbruik'!$AB$2:$AB$4129,'Aansluitingen & verbruik'!$B$2:$B$4129,Samenvatting!B19,'Aansluitingen & verbruik'!$E$2:$E$4129,Samenvatting!C19) -> 0 | F19: =SUMIFS('Aansluitingen & verbruik'!$AC$2:$AC$4129,'Aansluitingen & verbruik'!$B$2:$B$4129,Samenvatting!B19,'Aansluitingen & verbruik'!$E$2:$E$4129,Samenvatting!C19) -> 0 | G19: 0 | I19: doet niet mee met elektriciteitslevering | L19: =+E19+F19 -> 0 | O19: =+SUMIF($B$31:$B$40,B19,$L$31:$L$40) -> 0 | R19: =+L19+O19 -> 0 | S19: =+R19/1000 -> 0
A20: K20041507 | B20: Gemeente Woerden | C20: Gemeentelijke gebouwen | D20: 292 | E20: =SUMIFS('Aansluitingen & verbruik'!$AB$2:$AB$4129,'Aansluitingen & verbruik'!$B$2:$B$4129,Samenvatting!B20,'Aansluitingen & verbruik'!$E$2:$E$4129,Samenvatting!C20) -> 1659737.5 | F20: =SUMIFS('Aansluitingen & verbruik'!$AC$2:$AC$4129,'Aansluitingen & verbruik'!$B$2:$B$4129,Samenvatting!B20,'Aansluitingen & verbruik'!$E$2:$E$4129,Samenvatting!C20) -> 1394577.5 | G20: =+GETPIVOTDATA("Eancode Aansluiting",$A$4,"Klantnummer","K20041507","Klantnaam","Gemeente Woerden","Perceel","Gemeentelijke gebouwen") -> 292 | L20: =+E20+F20 -> 3054315 | O20: =+SUMIF($B$31:$B$40,B20,$L$31:$L$40) -> 1526785 | R20: =+L20+O20 -> 4581100 | S20: =+R20/1000 -> 4581.1
A21: K20042110 | B21: Openbaar Onderwijs Wijk bij Duurstede | C21: Gemeentelijke gebouwen | D21: 6 | E21: 0 | F21: 0 | G21: 0 | I21: doet niet mee met elektriciteitslevering | L21: =+E21+F21 -> 0 | O21: =+SUMIF($B$31:$B$40,B21,$L$31:$L$40) -> 0 | R21: =+L21+O21 -> 0 | S21: =+R21/1000 -> 0
A22: K20053485 | B22: Gemeente Oudewater | C22: Gemeentelijke gebouwen | D22: 105 | E22: =SUMIFS('Aansluitingen & verbruik'!$AB$2:$AB$4129,'Aansluitingen & verbruik'!$B$2:$B$4129,Samenvatting!B22,'Aansluitingen & verbruik'!$E$2:$E$4129,Samenvatting!C22) -> 301925.25 | F22: =SUMIFS('Aansluitingen & verbruik'!$AC$2:$AC$4129,'Aansluitingen & verbruik'!$B$2:$B$4129,Samenvatting!B22,'Aansluitingen & verbruik'!$E$2:$E$4129,Samenvatting!C22) -> 248885.75 | G22: =+GETPIVOTDATA("Eancode Aansluiting",$A$4,"Klantnummer","K20053485","Klantnaam","Gemeente Oudewater","Perceel","Gemeentelijke gebouwen") -> 105 | L22: =+E22+F22 -> 550811 | O22: =+SUMIF($B$31:$B$40,B22,$L$31:$L$40) -> 0 | R22: =+L22+O22 -> 550811 | S22: =+R22/1000 -> 550.811
A23: K20055120 | B23: Stichting VOILA | C23: Gemeentelijke gebouwen | D23: 7 | E23: =SUMIFS('Aansluitingen & verbruik'!$AB$2:$AB$4129,'Aansluitingen & verbruik'!$B$2:$B$4129,Samenvatting!B23,'Aansluitingen & verbruik'!$E$2:$E$4129,Samenvatting!C23) -> 448319 | F23: =SUMIFS('Aansluitingen & verbruik'!$AC$2:$AC$4129,'Aansluitingen & verbruik'!$B$2:$B$4129,Samenvatting!B23,'Aansluitingen & verbruik'!$E$2:$E$4129,Samenvatting!C23) -> 327659 | G23: =+GETPIVOTDATA("Eancode Aansluiting",$A$4,"Klantnummer","K20055120","Klantnaam","Stichting VOILA","Perceel","Gemeentelijke gebouwen") -> 7 | L23: =+E23+F23 -> 775978 | O23: =+SUMIF($B$31:$B$40,B23,$L$31:$L$40) -> 0 | R23: =+L23+O23 -> 775978 | S23: =+R23/1000 -> 775.978
A24: K20060168 | B24: Stichting De Groene Belevenis | C24: Gemeentelijke gebouwen | D24: 1 | E24: =SUMIFS('Aansluitingen & verbruik'!$AB$2:$AB$4129,'Aansluitingen & verbruik'!$B$2:$B$4129,Samenvatting!B24,'Aansluitingen & verbruik'!$E$2:$E$4129,Samenvatting!C24) -> 2220 | F24: =SUMIFS('Aansluitingen & verbruik'!$AC$2:$AC$4129,'Aansluitingen & verbruik'!$B$2:$B$4129,Samenvatting!B24,'Aansluitingen & verbruik'!$E$2:$E$4129,Samenvatting!C24) -> 2099 | G24: =+GETPIVOTDATA("Eancode Aansluiting",$A$4,"Klantnummer","K20060168","Klantnaam","Stichting De Groene Belevenis","Perceel","Gemeentelijke gebouwen") -> 1 | L24: =+E24+F24 -> 4319 | O24: =+SUMIF($B$31:$B$40,B24,$L$31:$L$40) -> 0 | R24: =+L24+O24 -> 4319 | S24: =+R24/1000 -> 4.319
A25: Eindtotaal | D25: 3560 | E25: =SUM(E5:E24) -> 19649540 | F25: =SUM(F5:F24) -> 14749861 | G25: =SUM(G5:G24) -> 3357 | J25: =+E25+F25 -> 34399401 | S25: =SUM(S5:S24) -> 47032.794
A27: Openbare verlichting
A28: Contract Einddatum | B28: 44926
A30: Klantnummer | B30: Klantnaam | C30: Perceel | D30: Aantal van Eancode Aansluiting | E30: Verbruik piek | F30: Verbruik dal | G30: Aantal van Eancode Aansluiting | L30: som verbruik
A31: K20000325 | B31: Gemeente IJsselstein | C31: Openbare verlichting | D31: 13 | E31: =SUMIFS('Aansluitingen & verbruik'!$AB$2:$AB$4129,'Aansluitingen & verbruik'!$B$2:$B$4129,Samenvatting!B31,'Aansluitingen & verbruik'!$E$2:$E$4129,Samenvatting!C31) -> 501205.35 | F31: =SUMIFS('Aansluitingen & verbruik'!$AC$2:$AC$4129,'Aansluitingen & verbruik'!$B$2:$B$4129,Samenvatting!B31,'Aansluitingen & verbruik'!$E$2:$E$4129,Samenvatting!C31) -> 973079.65 | G31: 13 | L31: =+E31+F31 -> 1474285
A32: K20011088 | B32: Gemeente Lopik | C32: Openbare verlichting | D32: 1 | E32: =SUMIFS('Aansluitingen & verbruik'!$AB$2:$AB$4129,'Aansluitingen & verbruik'!$B$2:$B$4129,Samenvatting!B32,'Aansluitingen & verbruik'!$E$2:$E$4129,Samenvatting!C32) -> 70975 | F32: =SUMIFS('Aansluitingen & verbruik'!$AC$2:$AC$4129,'Aansluitingen & verbruik'!$B$2:$B$4129,Samenvatting!B32,'Aansluitingen & verbruik'!$E$2:$E$4129,Samenvatting!C32) -> 220115 | G32: 1 | L32: =+E32+F32 -> 291090
A33: K20021659 | B33: Gemeente Zeist | C33: Openbare verlichting | D33: 21 | E33: =SUMIFS('Aansluitingen & verbruik'!$AB$2:$AB$4129,'Aansluitingen & verbruik'!$B$2:$B$4129,Samenvatting!B33,'Aansluitingen & verbruik'!$E$2:$E$4129,Samenvatting!C33) -> 558621.15 | F33: =SUMIFS('Aansluitingen & verbruik'!$AC$2:$AC$4129,'Aansluitingen & verbruik'!$B$2:$B$4129,Samenvatting!B33,'Aansluitingen & verbruik'!$E$2:$E$4129,Samenvatting!C33) -> 1148691.9 | G33: 21 | L33: =+E33+F33 -> 1707313
A34: K20041473 | B34: Gemeente Bunnik | C34: Openbare verlichting | D34: 2 | E34: =SUMIFS('Aansluitingen & verbruik'!$AB$2:$AB$4129,'Aansluitingen & verbruik'!$B$2:$B$4129,Samenvatting!B34,'Aansluitingen & verbruik'!$E$2:$E$4129,Samenvatting!C34) -> 112929 | F34: =SUMIFS('Aansluitingen & verbruik'!$AC$2:$AC$4129,'Aansluitingen & verbruik'!$B$2:$B$4129,Samenvatting!B34,'Aansluitingen & verbruik'!$E$2:$E$4129,Samenvatting!C34) -> 346160 | G34: 2 | L34: =+E34+F34 -> 459089
A35: K20041475 | B35: Gemeente de Bilt | C35: Openbare verlichting | D35: 52 | E35: =SUMIFS('Aansluitingen & verbruik'!$AB$2:$AB$4129,'Aansluitingen & verbruik'!$B$2:$B$4129,Samenvatting!B35,'Aansluitingen & verbruik'!$E$2:$E$4129,Samenvatting!C35) -> 254435 | F35: =SUMIFS('Aansluitingen & verbruik'!$AC$2:$AC$4129,'Aansluitingen & verbruik'!$B$2:$B$4129,Samenvatting!B35,'Aansluitingen & verbruik'!$E$2:$E$4129,Samenvatting!C35) -> 792701 | G35: 52 | L35: =+E35+F35 -> 1047136
A36: K20041484 | B36: Gemeente Leusden | C36: Openbare verlichting | D36: 3 | E36: =SUMIFS('Aansluitingen & verbruik'!$AB$2:$AB$4129,'Aansluitingen & verbruik'!$B$2:$B$4129,Samenvatting!B36,'Aansluitingen & verbruik'!$E$2:$E$4129,Samenvatting!C36) -> 82943 | F36: =SUMIFS('Aansluitingen & verbruik'!$AC$2:$AC$4129,'Aansluitingen & verbruik'!$B$2:$B$4129,Samenvatting!B36,'Aansluitingen & verbruik'!$E$2:$E$4129,Samenvatting!C36) -> 258882 | G36: 3 | L36: =+E36+F36 -> 341825
A37: K20041498 | B37: Gemeente Stichtse Vecht | C37: Openbare verlichting | D37: 22 | E37: =SUMIFS('Aansluitingen & verbruik'!$AB$2:$AB$4129,'Aansluitingen & verbruik'!$B$2:$B$4129,Samenvatting!B37,'Aansluitingen & verbruik'!$E$2:$E$4129,Samenvatting!C37) -> 633817 | F37: =SUMIFS('Aansluitingen & verbruik'!$AC$2:$AC$4129,'Aansluitingen & verbruik'!$B$2:$B$4129,Samenvatting!B37,'Aansluitingen & verbruik'!$E$2:$E$4129,Samenvatting!C37) -> 1604371 | G37: 22 | L37: =+E37+F37 -> 2238188
A38: K20041500 | B38: Gemeente Utrechtse Heuvelrug | C38: Openbare verlichting | D38: 2 | E38: =SUMIFS('Aansluitingen & verbruik'!$AB$2:$AB$4129,'Aansluitingen & verbruik'!$B$2:$B$4129,Samenvatting!B38,'Aansluitingen & verbruik'!$E$2:$E$4129,Samenvatting!C38) -> 306888 | F38: =SUMIFS('Aansluitingen & verbruik'!$AC$2:$AC$4129,'Aansluitingen & verbruik'!$B$2:$B$4129,Samenvatting!B38,'Aansluitingen & verbruik'!$E$2:$E$4129,Samenvatting!C38) -> 963656 | G38: 2 | L38: =+E38+F38 -> 1270544
A39: K20041501 | B39: Gemeente Veenendaal | C39: Openbare verlichting | D39: 3 | E39: =SUMIFS('Aansluitingen & verbruik'!$AB$2:$AB$4129,'Aansluitingen & verbruik'!$B$2:$B$4129,Samenvatting!B39,'Aansluitingen & verbruik'!$E$2:$E$4129,Samenvatting!C39) -> 27898 | F39: =SUMIFS('Aansluitingen & verbruik'!$AC$2:$AC$4129,'Aansluitingen & verbruik'!$B$2:$B$4129,Samenvatting!B39,'Aansluitingen & verbruik'!$E$2:$E$4129,Samenvatting!C39) -> 46548 | G39: 3 | L39: =+E39+F39 -> 74446
A40: K20041507 | B40: Gemeente Woerden | C40: Openbare verlichting | D40: 12 | E40: =SUMIFS('Aansluitingen & verbruik'!$AB$2:$AB$4129,'Aansluitingen & verbruik'!$B$2:$B$4129,Samenvatting!B40,'Aansluitingen & verbruik'!$E$2:$E$4129,Samenvatting!C40) -> 402786 | F40: =SUMIFS('Aansluitingen & verbruik'!$AC$2:$AC$4129,'Aansluitingen & verbruik'!$B$2:$B$4129,Samenvatting!B40,'Aansluitingen & verbruik'!$E$2:$E$4129,Samenvatting!C40) -> 1123999 | G40: 12 | L40: =+E40+F40 -> 1526785
A41: Eindtotaal | D41: 131 | E41: =SUM(E31:E40) -> 2952497.5 | F41: =SUM(F31:F40) -> 7478203.5 | G41: 131
A43: Additioneel per 1/1/2023 | B43: Gemeente Montfoort | C43: Openbare Verlichting | D43: (totaal) | E43: 93960 | F43: 288732 | G43: 2 | L43: =+E43+F43 -> 382692
B44: Gemeente Houten | C44: Openbare Verlichting | E44: 400000 | F44: 1420000 | G44: 1 | L44: =+E44+F44 -> 1820000
C46: Totaal Openbare Verlichting | E46: =+SUM(E41:E44) -> 3446457.5 | F46: =+SUM(F41:F44) -> 9186935.5 | G46: =+SUM(G41:G44) -> 134 | J46: =+E46+F46 -> 12633393

Sheet Aansluitingen & verbruik
A1: Klantnummer | B1: Klantnaam | C1: KVK-nummer | D1: Top Contract | E1: Perceel | F1: Bovenliggend Contract | G1: Contract | H1: Eancode Aansluiting | I1: Contract Begindatum | J1: Contract Einddatum | K1: Actief Contract | L1: Contract Status | M1: Fysieke Status | N1: Aansluiting Straat | O1: Aansluiting Huisnr | P1: Aansluiting Toevoeging | Q1: Aansluiting Postcode | R1: Aansluiting Plaats | S1: Profielcategorie | T1: Product Type | U1: Marktsegment | V1: Frequentie Bemetering | W1: Slimme Meter | X1: Administratief Aan | Y1: Facturatiebasis | Z1: Product Omschrijving | AA1: SJV Ingangsdatum | AB1: SJV Piek | AC1: SJV Dal | AD1: SJV TL Piek | AE1: SJV TL Dal | AF1: SJV Gas | AG1: Capaciteit | AH1: Gefactureerd Verbruik Piek 2021 | AI1: Gefactureerd Verbruik Dal 2021 | AJ1: Gefactureerd Verbruik TL Piek 2021 | AK1: Gefactureerd Verbruik TL Dal 2021 | AL1: Gefactureerd Verbruik Gas 2021 | AM1: Verzamelnota | AN1: Verzamelnota Naam | AO1: Te Factureren Rekening | AP1: Te Factureren Klantnaam | AQ1: Te Factureren TAV | AR1: Factuuradres | AS1: Factuur Emailadres | AT1: Betalingsmethode | AU1: Bankrekening | AV1: Klantsleutel | AW1: Betalingstermijn | AX1: Facturatiecyclus | AY1: Klantkenmerk | AZ1: Locatie Informatie | BA1: Meterverzoekgroep | BB1: Meternummer | BC1: VolgendeVerzoekdatum | BD1: MeterverzoekAanmaakCyclus | BE1: Netbeheerder | BF1: Netgebied | BG1: Regiocode | BH1: Captarcode | BI1: Captarcode Omschrijving | BJ1: Maxverbruik Gas | BK1: Verblijfsfunctie | BL1: Complexbepaling | BM1: Blokverwarming | BN1: Zakelijk Verbruik | BO1: WKK Verklaring | BP1: E-Optel verklaring | BQ1: E-Optel ID | BR1: Cluster | BS1: WOZ Cluster | BT1: Contract Actief
A2: K20014139 | B2: Gemeente Baarn | C2: 32167607 | D2: O32397362 | E2: Gemeentelijke gebouwen | F2: O32515446 | G2: O32519608 | H2: 871687400002102372 | I2: 44197 | J2: 44926 | K2: Ja | L2: Factureerbaar | M2: In bedrijf | N2: Brink | O2: 2 | P2: A | Q2: 3743 EC | R2: Baarn | S2: E1B | T2: Elek | U2: Kleinverbruik | V2: JRL Jaarlijks | W2: Ja | X2: Administratief aan | Y2: Voorschotten toegelaten | Z2: E_DVK - Profielklik | AA2: 44566 | AB2: 2254 | AC2: 2816 | AG2: 0 | AH2: 2254 | AI2: 2816 | AJ2: 0 | AK2: 0 | AL2: 0 | AM2: FAS2735224 | AN2: KV | AO2: K20014139 | AP2: Gemeente Baarn | AQ2: Mevr C Bouwmeester | AR2: Postbus 1003 3740 BA BAARN | AT2: OV | AU2: NL28BNGH0285000594 | AV2: 594 | AW2: D14 | AX2: 3M | AZ2: N H KERK | BA2: Groep op factuurstrc | BB2: E0052004479730219 | BE2: Stedin Netbeheer Utrecht | BF2: 871687400000002254 | BG2: 0 | BH2: 8742030102119 | BI2: 3x25A | BJ2: 0 | BK2: Ja | BL2: Nee | BT2: 1
A3: K20014139 | B3: Gemeente Baarn | C3: 32167607 | D3: O32397362 | E3: Gemeentelijke gebouwen | F3: O32515446 | G3: O32519609 | H3: 871687400002108817 | I3: 44197 | J3: 44926 | K3: Ja | L3: Factureerbaar | M3: In bedrijf | N3: Bosstraat | O3: 44 | P3: 46 | Q3: 3743 GB | R3: Baarn | S3: E1B | T3: Elek | U3: Kleinverbruik | V3: JRL Jaarlijks | W3: Ja | X3: Administratief aan | Y3: Voorschotten toegelaten | Z3: E_DVK - Profielklik | AA3: 44567 | AB3: 251 | AC3: 103 | AG3: 0 | AH3: 251 | AI3: 103 | AJ3: 0 | AK3: 0 | AL3: 0 | AM3: FAS2735224 | AN3: KV | AO3: K20014139 | AP3: Gemeente Baarn | AQ3: Mevr C Bouwmeester | AR3: Postbus 1003 3740 BA BAARN | AT3: OV | AU3: NL28BNGH0285000594 | AV3: 594 | AW3: D14 | AX3: 3M | AZ3: PEKINGTUIN AANSL FONTYN | BA3: Groep op factuurstrc | BB3: E0052004479582219 | BE3: Stedin Netbeheer Utrecht | BF3: 871687400000002254 | BG3: 0 | BH3: 8742030102119 | BI3: 3x25A | BJ3: 0 | BK3: Nee | BL3: Nee | BT3: 1
A4: K20014139 | B4: Gemeente Baarn | C4: 32167607 | D4: O32397362 | E4: Gemeentelijke gebouwen | F4: O32515446 | G4: O32519610 | H4: 871687400002191680 | I4: 44197 | J4: 44926 | K4: Ja | L4: Factureerbaar | M4: In bedrijf | N4: Rutgers Van Rozenburgln | O4: 1 | Q4: 3744 MC | R4: Baarn | S4: E1B | T4: Elek | U4: Kleinverbruik | V4: JRL Jaarlijks | W4: Ja | X4: Administratief aan | Y4: Voorschotten toegelaten | Z4: E_DVK - Profielklik | AA4: 44566 | AB4: 460 | AC4: 396 | AG4: 0 | AH4: 460 | AI4: 396 | AJ4: 0 | AK4: 0 | AL4: 0 | AM4: FAS2735224 | AN4: KV | AO4: K20014139 | AP4: Gemeente Baarn | AQ4: Mevr C Bouwmeester | AR4: Postbus 1003 3740 BA BAARN | AT4: OV | AU4: NL28BNGH0285000594 | AV4: 594 | AW4: D14 | AX4: 3M | AZ4: TO NR 17 | BA4: Groep op factuurstrc | BB4: E0054007601856920 | BE4: Stedin Netbeheer Utrecht | BF4: 871687400000002254 | BG4: 0 | BH4: 8742030102119 | BI4: 3x25A | BJ4: 0 | BK4: Nee | BL4: Nee | BT4: 1
A5: K20014139 | B5: Gemeente Baarn | C5: 32167607 | D5: O32397362 | E5: Gemeentelijke gebouwen | F5: O32515446 | G5: O32519611 | H5: 871687400002192274 | I5: 44197 | J5: 44926 | K5: Ja | L5: Factureerbaar | M5: In bedrijf | N5: Koudelaan | O5: 14 | P5: BYD | Q5: 3749 AM | R5: LAGE VUURSCHE | S5: E1B | T5: Elek | U5: Kleinverbruik | V5: JRL Jaarlijks | W5: Ja | X5: Administratief aan | Y5: Voorschotten toegelaten | Z5: E_DVK - Profielklik | AA5: 44197 | AB5: 398 | AC5: 424 | AD5: 0 | AE5: 0 | AG5: 0 | AH5: 400 | AI5: 426 | AJ5: 0 | AK5: 0 | AL5: 0 | AM5: FAS2735224 | AN5: KV | AO5: K20014139 | AP5: Gemeente Baarn | AQ5: Mevr C Bouwmeester | AR5: Postbus 1003 3740 BA BAARN | AT5: OV | AU5: NL28BNGH0285000594 | AV5: 594 | AW5: D14 | AX5: 3M | AZ5: rioolgemaal | BA5: Groep op factuurstrc | BB5: E0060100001991520 | BE5: Stedin Netbeheer Utrecht | BF5: 871687400000002254 | BG5: 0 | BH5: 8742030102119 | BI5: 3x25A | BJ5: 0 | BK5: Nee | BL5: Nee | BT5: 1
A6: K20014139 | B6: Gemeente Baarn | C6: 32167607 | D6: O32397362 | E6: Gemeentelijke gebouwen | F6: O32515446 | G6: O32519612 | H6: 871687400002193325 | I6: 44197 | J6: 44926 | K6: Ja | L6: Factureerbaar | M6: In bedrijf | N6: Kloosterlaan | O6: 27 | Q6: 3749 AJ | R6: LAGE VUURSCHE | S6: E1B | T6: Elek | U6: Kleinverbruik | V6: JRL Jaarlijks | W6: Ja | X6: Administratief aan | Y6: Voorschotten toegelaten | Z6: E_DVK - Profielklik | AA6: 44567 | AB6: 258 | AC6: 226 | AG6: 0 | AH6: 258 | AI6: 226 | AJ6: 0 | AK6: 0 | AL6: 0 | AM6: FAS2735224 | AN6: KV | AO6: K20014139 | AP6: Gemeente Baarn | AQ6: Mevr C Bouwmeester | AR6: Postbus 1003 3740 BA BAARN | AT6: OV | AU6: NL28BNGH0285000594 | AV6: 594 | AW6: D14 | AX6: 3M | BA6: Groep op factuurstrc | BB6: E0060100002004720 | BE6: Stedin Netbeheer Utrecht | BF6: 871687400000002254 | BG6: 0 | BH6: 8742030102119 | BI6: 3x25A | BJ6: 0 | BK6: Ja | BL6: Nee | BT6: 1
A7: K20014139 | B7: Gemeente Baarn | C7: 32167607 | D7: O32397362 | E7: Gemeentelijke gebouwen | F7: O32515446 | G7: O32519613 | H7: 871687400002196593 | I7: 44197 | J7: 44926 | K7: Ja | L7: Factureerbaar | M7: In bedrijf | N7: Emmalaan | O7: 5 | P7: V | Q7: 3743 DJ | R7: Baarn | S7: E1A | T7: Elek | U7: Kleinverbruik | V7: JRL Jaarlijks | W7: Nee | Y7: Voorschotten toegelaten | Z7: E_DVK - Profielklik | AA7: 44378 | AB7: 1051 | AC7: 0 | AG7: 0 | AH7: 901 | AI7: 152 | AJ7: 0 | AK7: 0 | AL7: 0 | AM7: FAS2735224 | AN7: KV | AO7: K20014139 | AP7: Gemeente Baarn | AQ7: Mevr C Bouwmeester | AR7: Postbus 1003 3740 BA BAARN | AT7: OV | AU7: NL28BNGH0285000594 | AV7: 594 | AW7: D14 | AX7: 3M | AZ7: VYVERPOMP | BA7: Groep op factuurstrc | BB7: 9313564O | BE7: Stedin Netbeheer Utrecht | BF7: 871687400000002254 | BG7: 0 | BH7: 8742030102119 | BI7: 3x25A | BJ7: 0 | BK7: Nee | BL7: Nee | BT7: 1
A8: K20014139 | B8: Gemeente Baarn | C8: 32167607 | D8: O32397362 | E8: Gemeentelijke gebouwen | F8: O32515446 | G8: O32519614 | H8: 871687400002215898 | I8: 44197 | J8: 44926 | K8: Ja | L8: Factureerbaar | M8: In bedrijf | N8: Hilversumsestraatweg | O8: 18 | P8: BY | Q8: 3744 KC | R8: Baarn | S8: E1B | T8: Elek | U8: Kleinverbruik | V8: JRL Jaarlijks | W8: Ja | X8: Administratief aan | Y8: Voorschotten toegelaten | Z8: E_DVK - Profielklik | AA8: 44567 | AB8: 526 | AC8: 279 | AG8: 0 | AH8: 526 | AI8: 279 | AJ8: 0 | AK8: 0 | AL8: 0 | AM8: FAS2735224 | AN8: KV | AO8: K20014139 | AP8: Gemeente Baarn | AQ8: Mevr C Bouwmeester | AR8: Postbus 1003 3740 BA BAARN | AT8: OV | AU8: NL28BNGH0285000594 | AV8: 594 | AW8: D14 | AX8: 3M | AZ8: rioolgemaal | BA8: Groep op factuurstrc | BB8: E0054007583946320 | BE8: Stedin Netbeheer Utrecht | BF8: 871687400000002254 | BG8: 0 | BH8: 8742030102119 | BI8: 3x25A | BJ8: 0 | BK8: Nee | BL8: Nee | BT8: 1
A9: K20014139 | B9: Gemeente Baarn | C9: 32167607 | D9: O32397362 | E9: Gemeentelijke gebouwen | F9: O32515446 | G9: O32519615 | H9: 871687400002215973 | I9: 44197 | J9: 44926 | K9: Ja | L9: Factureerbaar | M9: In bedrijf | N9: Hilversumsestraatweg | O9: 22 | P9: BY | Q9: 3744 KC | R9: Baarn | S9: E1B | T9: Elek | U9: Kleinverbruik | V9: JRL Jaarlijks | W9: Ja | X9: Administratief aan | Y9: Voorschotten toegelaten | Z9: E_DVK - Profielklik | AA9: 44656 | AB9: 21 | AC9: 21 | AG9: 0 | AH9: 12 | AI9: 12 | AJ9: 0 | AK9: 0 | AL9: 0 | AM9: FAS2735224 | AN9: KV | AO9: K20014139 | AP9: Gemeente Baarn | AQ9: Mevr C Bouwmeester | AR9: Postbus 1003 3740 BA BAARN | AT9: OV | AU9: NL28BNGH0285000594 | AV9: 594 | AW9: D14 | AX9: 3M | AZ9: rioolgemaal | BA9: Groep op factuurstrc | BB9: E0054007583945820 | BE9: Stedin Netbeheer Utrecht | BF9: 871687400000002254 | BG9: 0 | BH9: 8742030102119 | BI9: 3x25A | BJ9: 0 | BK9: Nee | BL9: Nee | BT9: 1
A10: K20014139 | B10: Gemeente Baarn | C10: 32167607 | D10: O32397362 | E10: Gemeentelijke gebouwen | F10: O32515446 | G10: O32519616 | H10: 871687400002216079 | I10: 44197 | J10: 44926 | K10: Ja | L10: Factureerbaar | M10: In bedrijf | N10: Hilversumsestraatweg | O10: 4 | P10: BY | Q10: 3744 KC | R10: Baarn | S10: E1B | T10: Elek | U10: Kleinverbruik | V10: JRL Jaarlijks | W10: Ja | X10: Administratief aan | Y10: Voorschotten toegelaten | Z10: E_DVK - Profielklik | AA10: 44567 | AB10: 748 | AC10: 528 | AG10: 0 | AH10: 748 | AI10: 528 | AJ10: 0 | AK10: 0 | AL10: 0 | AM10: FAS2735224 | AN10: KV | AO10: K20014139 | AP10: Gemeente Baarn | AQ10: Mevr C Bouwmeester | AR10: Postbus 1003 3740 BA BAARN | AT10: OV | AU10: NL28BNGH0285000594 | AV10: 594 | AW10: D14 | AX10: 3M | AZ10: rioolgemaal | BA10: Groep op factuurstrc | BB10: E0054007496539419 | BE10: Stedin Netbeheer Utrecht | BF10: 871687400000002254 | BG10: 0 | BH10: 8742030102119 | BI10: 3x25A | BJ10: 0 | BK10: Nee | BL10: Nee | BT10: 1
A11: K20014139 | B11: Gemeente Baarn | C11: 32167607 | D11: O32397362 | E11: Gemeentelijke gebouwen | F11: O32515446 | G11: O32519617 | H11: 871687400002216154 | I11: 44197 | J11: 44926 | K11: Ja | L11: Factureerbaar | M11: In bedrijf | N11: Hilversumsestraatweg | O11: 2 | P11: NST | Q11: 3744 KC | R11: Baarn | S11: E1B | T11: Elek | U11: Kleinverbruik | V11: JRL Jaarlijks | W11: Ja | X11: Administratief aan | Y11: Voorschotten toegelaten | Z11: E_DVK - Profielklik | AA11: 44197 | AB11: 459 | AC11: 460 | AD11: 0 | AE11: 0 | AG11: 0 | AH11: 462 | AI11: 462 | AJ11: 0 | AK11: 0 | AL11: 0 | AM11: FAS2735224 | AN11: KV | AO11: K20014139 | AP11: Gemeente Baarn | AQ11: Mevr C Bouwmeester | AR11: Postbus 1003 3740 BA BAARN | AT11: OV | AU11: NL28BNGH0285000594 | AV11: 594 | AW11: D14 | AX11: 3M | AZ11: HK BOSWEG RIOOLGEMAAL | BA11: Groep op factuurstrc | BB11: E0060100001891220 | BE11: Stedin Netbeheer Utrecht | BF11: 871687400000002254 | BG11: 0 | BH11: 8742030102119 | BI11: 3x25A | BJ11: 0 | BK11: Nee | BL11: Nee | BT11: 1
A12: K20014139 | B12: Gemeente Baarn | C12: 32167607 | D12: O32397362 | E12: Gemeentelijke gebouwen | F12: O32515446 | G12: O32519618 | H12: 871687400002218004 | I12: 44197 | J12: 44926 | K12: Ja | L12: Factureerbaar | M12: In bedrijf | N12: Hilversumsestraatweg | O12: 13 | P12: BY | Q12: 3744 KB | R12: Baarn | S12: E1B | T12: Elek | U12: Kleinverbruik | V12: JRL Jaarlijks | W12: Ja | X12: Administratief aan | Y12: Voorschotten toegelaten | Z12: E_DVK - Profielklik | AA12: 44197 | AB12: 419 | AC12: 414 | AD12: 0 | AE12: 0 | AG12: 0 | AH12: 421 | AI12: 417 | AJ12: 0 | AK12: 0 | AL12: 0 | AM12: FAS2735224 | AN12: KV | AO12: K20014139 | AP12: Gemeente Baarn | AQ12: Mevr C Bouwmeester | AR12: Postbus 1003 3740 BA BAARN | AT12: OV | AU12: NL28BNGH0285000594 | AV12: 594 | AW12: D14 | AX12: 3M | AZ12: PARALLELWG RIOOLGEMAAL | BA12: Groep op factuurstrc | BB12: E0054007560802119 | BE12: Stedin Netbeheer Utrecht | BF12: 871687400000002254 | BG12: 0 | BH12: 8742030102119 | BI12: 3x25A | BJ12: 0 | BK12: Nee | BL12: Nee | BT12: 1
A13: K20014139 | B13: Gemeente Baarn | C13: 32167607 | D13: O32397362 | E13: Gemeentelijke gebouwen | F13: O32515446 | G13: O32519619 | H13: 871687400002234752 | I13: 44197 | J13: 44926 | K13: Ja | L13: Factureerbaar | M13: In bedrijf | N13: Van Heemstralaan | O13: 15 | P13: BIJ | Q13: 3743 AJ | R13: Baarn | S13: E1B | T13: Elek | U13: Kleinverbruik | V13: JRL Jaarlijks | W13: Ja | X13: Administratief aan | Y13: Voorschotten toegelaten | Z13: E_DVK - Profielklik | AA13: 44566 | AB13: 116 | AC13: 117 | AG13: 0 | AH13: 116 | AI13: 117 | AJ13: 0 | AK13: 0 | AL13: 0 | AM13: FAS2735224 | AN13: KV | AO13: K20014139 | AP13: Gemeente Baarn | AQ13: Mevr C Bouwmeester | AR13: Postbus 1003 3740 BA BAARN | AT13: OV | AU13: NL28BNGH0285000594 | AV13: 594 | AW13: D14 | AX13: 3M | AZ13: rioolgemaal | BA13: Groep op factuurstrc | BB13: E0052004479582519 | BE13: Stedin Netbeheer Utrecht | BF13: 871687400000002254 | BG13: 0 | BH13: 8742030102119 | BI13: 3x25A | BJ13: 0 | BK13: Nee | BL13: Nee | BT13: 1
A14: K20014139 | B14: Gemeente Baarn | C14: 32167607 | D14: O32397362 | E14: Gemeentelijke gebouwen | F14: O32515446 | G14: O32519620 | H14: 871687400007562225 | I14: 44197 | J14: 44926 | K14: Ja | L14: Factureerbaar | M14: In bedrijf | N14: EEMWEG | O14: 102 | P14: A | Q14: 3741 LB | R14: Baarn | S14: E1B | T14: Elek | U14: Kleinverbruik | V14: JRL Jaarlijks | W14: Ja | X14: Administratief aan | Y14: Voorschotten toegelaten | Z14: E_DVK - Profielklik | AA14: 44567 | AB14: 2836 | AC14: 2324 | AG14: 0 | AH14: 2962 | AI14: 2369 | AJ14: 0 | AK14: 0 | AL14: 0 | AM14: FAS2735224 | AN14: KV | AO14: K20014139 | AP14: Gemeente Baarn | AQ14: Mevr C Bouwmeester | AR14: Postbus 1003 3740 BA BAARN | AT14: OV | AU14: NL28BNGH0285000594 | AV14: 594 | AW14: D14 | AX14: 3M | BA14: Groep op factuurstrc | BB14: E0054007560768019 | BE14: Stedin Netbeheer Utrecht | BF14: 871687400000002254 | BG14: 0 | BH14: 8742030102119 | BI14: 3x25A | BJ14: 0 | BK14: Ja | BL14: Nee | BT14: 1
A15: K20014139 | B15: Gemeente Baarn | C15: 32167607 | D15: O32397362 | E15: Gemeentelijke gebouwen | F15: O32515446 | G15: O32519621 | H15: 871687400007565110 | I15: 44197 | J15: 44926 | K15: Ja | L15: Factureerbaar | M15: In bedrijf | N15: EEMWEG | O15: 68 | P15: BY | Q15: 3741 LC | R15: Baarn | S15: E1A | T15: Elek | U15: Kleinverbruik | V15: JRL Jaarlijks | W15: Nee | Y15: Voorschotten toegelaten | Z15: E_DVK - Profielklik | AA15: 44378 | AB15: 528.45 | AC15: 284.55 | AG15: 0 | AH15: 530 | AI15: 286 | AJ15: 0 | AK15: 0 | AL15: 0 | AM15: FAS2735224 | AN15: KV | AO15: K20014139 | AP15: Gemeente Baarn | AQ15: Mevr C Bouwmeester | AR15: Postbus 1003 3740 BA BAARN | AT15: OV | AU15: NL28BNGH0285000594 | AV15: 594 | AW15: D14 | AX15: 3M | AZ15: rioolgemaal | BA15: Groep op factuurstrc | BB15: 8606274L | BE15: Stedin Netbeheer Utrecht | BF15: 871687400000002254 | BG15: 0 | BH15: 8742030102119 | BI15: 3x25A | BJ15: 0 | BK15: Nee | BL15: Nee | BT15: 1
A16: K20014139 | B16: Gemeente Baarn | C16: 32167607 | D16: O32397362 | E16: Gemeentelijke gebouwen | F16: O32515446 | G16: O32519622 | H16: 871687400007565387 | I16: 44197 | J16: 44926 | K16: Ja | L16: Factureerbaar | M16: In bedrijf | N16: Zuidereind | O16: 35 | P16: NST | Q16: 3741 LG | R16: Baarn | S16: E1B | T16: Elek | U16: Kleinverbruik | V16: JRL Jaarlijks | W16: Ja | X16: Administratief aan | Y16: Voorschotten toegelaten | Z16: E_DVK - Profielklik | AA16: 44216 | AB16: 0 | AC16: 0 | AG16: 0 | AH16: 0 | AI16: 0 | AJ16: 0 | AK16: 0 | AL16: 0 | AM16: FAS2735224 | AN16: KV | AO16: K20014139 | AP16: Gemeente Baarn | AQ16: Mevr C Bouwmeester | AR16: Postbus 1003 3740 BA BAARN | AT16: OV | AU16: NL28BNGH0285000594 | AV16: 594 | AW16: D14 | AX16: 3M | AZ16: STALEN KAST TBV GEMAAL | BA16: Groep op factuurstrc | BB16: E0060100002602320 | BE16: Stedin Netbeheer Utrecht | BF16: 871687400000002254 | BG16: 0 | BH16: 8742030102119 | BI16: 3x25A | BJ16: 0 | BK16: Nee | BL16: Nee | BT16: 1
A17: K20014139 | B17: Gemeente Baarn | C17: 32167607 | D17: O32397362 | E17: Gemeentelijke gebouwen | F17: O32515446 | G17: O32519623 | H17: 871687400007565721 | I17: 44197 | J17: 44926 | K17: Ja | L17: Factureerbaar | M17: In bedrijf | N17: Zuidereind | O17: 27 | P17: BY | Q17: 3741 LG | R17: Baarn | S17: E1B | T17: Elek | U17: Kleinverbruik | V17: JRL Jaarlijks | W17: Ja | X17: Administratief aan | Y17: Voorschotten toegelaten | Z17: E_DVK - Profielklik | AA17: 44567 | AB17: 205 | AC17: 154 | AG17: 0 | AH17: 205 | AI17: 154 | AJ17: 0 | AK17: 0 | AL17: 0 | AM17: FAS2735224 | AN17: KV | AO17: K20014139 | AP17: Gemeente Baarn | AQ17: Mevr C Bouwmeester | AR17: Postbus 1003 3740 BA BAARN | AT17: OV | AU17: NL28BNGH0285000594 | AV17: 594 | AW17: D14 | AX17: 3M | BA17: Groep op factuurstrc | BB17: E0054007619227120 | BE17: Stedin Netbeheer Utrecht | BF17: 871687400000002254 | BG17: 0 | BH17: 8742030102119 | BI17: 3x25A | BJ17: 0 | BK17: Ja | BL17: Nee | BT17: 1
A18: K20014139 | B18: Gemeente Baarn | C18: 32167607 | D18: O32397362 | E18: Gemeentelijke gebouwen | F18: O32515446 | G18: O32519624 | H18: 871687400007565790 | I18: 44197 | J18: 44926 | K18: Ja | L18: Factureerbaar | M18: In bedrijf | N18: Zuidereind | O18: 21 | P18: BY | Q18: 3741 LG | R18: Baarn | S18: E1B | T18: Elek | U18: Kleinverbruik | V18: JRL Jaarlijks | W18: Ja | X18: Administratief aan | Y18: Voorschotten toegelaten | Z18: E_DVK - Profielklik | AA18: 44567 | AB18: 220 | AC18: 195 | AG18: 0 | AH18: 220 | AI18: 195 | AJ18: 0 | AK18: 0 | AL18: 0 | AM18: FAS2735224 | AN18: KV | AO18: K20014139 | AP18: Gemeente Baarn | AQ18: Mevr C Bouwmeester | AR18: Postbus 1003 3740 BA BAARN | AT18: OV | AU18: NL28BNGH0285000594 | AV18: 594 | AW18: D14 | AX18: 3M | BA18: Groep op factuurstrc | BB18: E0060100002602620 | BE18: Stedin Netbeheer Utrecht | BF18: 871687400000002254 | BG18: 0 | BH18: 8742030102119 | BI18: 3x25A | BJ18: 0 | BK18: Ja | BL18: Nee | BT18: 1
A19: K20014139 | B19: Gemeente Baarn | C19: 32167607 | D19: O32397362 | E19: Gemeentelijke gebouwen | F19: O32515446 | G19: O32519625 | H19: 871687400007565929 | I19: 44197 | J19: 44926 | K19: Ja | L19: Factureerbaar | M19: In bedrijf | N19: Zuidereind | O19: 2 | P19: TO | Q19: 3741 LG | R19: Baarn | S19: E1B | T19: Elek | U19: Kleinverbruik | V19: JRL Jaarlijks | W19: Ja | X19: Administratief aan | Y19: Voorschotten toegelaten | Z19: E_DVK - Profielklik | AA19: 44655 | AB19: 626 | AC19: 594 | AG19: 0 | AH19: 590 | AI19: 516 | AJ19: 0 | AK19: 0 | AL19: 0 | AM19: FAS2735224 | AN19: KV | AO19: K20014139 | AP19: Gemeente Baarn | AQ19: Mevr C Bouwmeester | AR19: Postbus 1003 3740 BA BAARN | AT19: OV | AU19: NL28BNGH0285000594 | AV19: 594 | AW19: D14 | AX19: 3M | AZ19: TO | BA19: Groep op factuurstrc | BB19: E0060100001965820 | BE19: Stedin Netbeheer Utrecht | BF19: 871687400000002254 | BG19: 0 | BH19: 8742030102119 | BI19: 3x25A | BJ19: 0 | BK19: Nee | BL19: Nee | BT19: 1
A20: K20014139 | B20: Gemeente Baarn | C20: 32167607 | D20: O32397362 | E20: Gemeentelijke gebouwen | F20: O32515446 | G20: O32519626 | H20: 871687400007565998 | I20: 44197 | J20: 44926 | K20: Ja | L20: Factureerbaar | M20: In bedrijf | N20: Zuidereind | O20: 31 | P20: BY | Q20: 3741 LG | R20: Baarn | S20: E1B | T20: Elek | U20: Kleinverbruik | V20: JRL Jaarlijks | W20: Ja | X20: Administratief aan | Y20: Voorschotten toegelaten | Z20: E_DVK - Profielklik | AA20: 44567 | AB20: 566 | AC20: 448 | AG20: 0 | AH20: 566 | AI20: 448 | AJ20: 0 | AK20: 0 | AL20: 0 | AM20: FAS2735224 | AN20: KV | AO20: K20014139 | AP20: Gemeente Baarn | AQ20: Mevr C Bouwmeester | AR20: Postbus 1003 3740 BA BAARN | AT20: OV | AU20: NL28BNGH0285000594 | AV20: 594 | AW20: D14 | AX20: 3M | BA20: Groep op factuurstrc | BB20: E0054007619227220 | BE20: Stedin Netbeheer Utrecht | BF20: 871687400000002254 | BG20: 0 | BH20: 8742030102119 | BI20: 3x25A | BJ20: 0 | BK20: Ja | BL20: Nee | BT20: 1
A21: K20014139 | B21: Gemeente Baarn | C21: 32167607 | D21: O32397362 | E21: Gemeentelijke gebouwen | F21: O32515446 | G21: O32519627 | H21: 871687400007566063 | I21: 44197 | J21: 44926 | K21: Ja | L21: Factureerbaar | M21: In bedrijf | N21: Grimmesteinseweg | O21: 2 | P21: BY | Q21: 3741 LH | R21: Baarn | S21: E1B | T21: Elek | U21: Kleinverbruik | V21: JRL Jaarlijks | W21: Ja | X21: Administratief aan | Y21: Voorschotten toegelaten | Z21: E_DVK - Profielklik | AA21: 44567 | AB21: 79 | AC21: 64 | AG21: 0 | AH21: 79 | AI21: 64 | AJ21: 0 | AK21: 0 | AL21: 0 | AM21: FAS2735224 | AN21: KV | AO21: K20014139 | AP21: Gemeente Baarn | AQ21: Mevr C Bouwmeester | AR21: Postbus 1003 3740 BA BAARN | AT21: OV | AU21: NL28BNGH0285000594 | AV21: 594 | AW21: D14 | AX21: 3M | BA21: Groep op factuurstrc | BB21: E0060100002602520 | BE21: Stedin Netbeheer Utrecht | BF21: 871687400000002254 | BG21: 0 | BH21: 8742030102119 | BI21: 3x25A | BJ21: 0 | BK21: Ja | BL21: Nee | BT21: 1
A22: K20014139 | B22: Gemeente Baarn | C22: 32167607 | D22: O32397362 | E22: Gemeentelijke gebouwen | F22: O32515446 | G22: O32519628 | H22: 871687400007576109 | I22: 44197 | J22: 44926 | K22: Ja | L22: Factureerbaar | M22: In bedrijf | N22: De Geerenweg | O22: 1 | P22: TO | Q22: 3741 RP | R22: Baarn | S22: E1B | T22: Elek | U22: Kleinverbruik | V22: JRL Jaarlijks | W22: Ja | X22: Administratief aan | Y22: Voorschotten toegelaten | Z22: E_DVK - Profielklik | AA22: 44566 | AB22: 10958 | AC22: 12333 | AG22: 0 | AH22: 10958 | AI22: 12333 | AJ22: 0 | AK22: 0 | AL22: 0 | AM22: FAS2735224 | AN22: KV | AO22: K20014139 | AP22: Gemeente Baarn | AQ22: Mevr C Bouwmeester | AR22: Postbus 1003 3740 BA BAARN | AT22: OV | AU22: NL28BNGH0285000594 | AV22: 594 | AW22: D14 | AX22: 3M | AZ22: TO | BA22: Groep op factuurstrc | BB22: E0054007619227720 | BE22: Stedin Netbeheer Utrecht | BF22: 871687400000002254 | BG22: 0 | BH22: 8742030102119 | BI22: 3x25A | BJ22: 0 | BK22: Nee | BL22: Nee | BT22: 1
A23: K20014139 | B23: Gemeente Baarn | C23: 32167607 | D23: O32397362 | E23: Gemeentelijke gebouwen | F23: O32515446 | G23: O32519629 | H23: 871687400007580977 | I23: 44197 | J23: 44926 | K23: Ja | L23: Factureerbaar | M23: In bedrijf | N23: De Geerenweg | O23: 11 | P23: AC | Q23: 3741 RP | R23: Baarn | S23: E1A | T23: Elek | U23: Kleinverbruik | V23: JRL Jaarlijks | W23: Nee | Y23: Voorschotten toegelaten | Z23: E_DVK - Profielklik | AA23: 44378 | AB23: 24.7 | AC23: 13.3 | AG23: 0 | AH23: 25 | AI23: 13 | AJ23: 0 | AK23: 0 | AL23: 0 | AM23: FAS2735224 | AN23: KV | AO23: K20014139 | AP23: Gemeente Baarn | AQ23: Mevr C Bouwmeester | AR23: Postbus 1003 3740 BA BAARN | AT23: OV | AU23: NL28BNGH0285000594 | AV23: 594 | AW23: D14 | AX23: 3M | AZ23: pompgemaal | BA23: Groep op factuurstrc | BB23: 8809879L | BE23: Stedin Netbeheer Utrecht | BF23: 871687400000002254 | BG23: 0 | BH23: 8742030102119 | BI23: 3x25A | BJ23: 0 | BK23: Nee | BL23: Nee | BT23: 1
A24: K20014139 | B24: Gemeente Baarn | C24: 32167607 | D24: O32397362 | E24: Gemeentelijke gebouwen | F24: O32515446 | G24: O32519630 | H24: 871687400007581066 | I24: 44197 | J24: 44926 | K24: Ja | L24: Factureerbaar | M24: In bedrijf | N24: De Geerenweg | O24: 8 | Q24: 3741 RS | R24: Baarn | S24: E1B | T24: Elek | U24: Kleinverbruik | V24: JRL Jaarlijks | W24: Ja | X24: Administratief aan | Y24: Voorschotten toegelaten | Z24: E_DVK - Profielklik | AA24: 44567 | AB24: 48 | AC24: 40 | AG24: 0 | AH24: 48 | AI24: 40 | AJ24: 0 | AK24: 0 | AL24: 0 | AM24: FAS2735224 | AN24: KV | AO24: K20014139 | AP24: Gemeente Baarn | AQ24: Mevr C Bouwmeester | AR24: Postbus 1003 3740 BA BAARN | AT24: OV | AU24: NL28BNGH0285000594 | AV24: 594 | AW24: D14 | AX24: 3M | AZ24: pompgemaal | BA24: Groep op factuurstrc | BB24: E0044007118735318 | BE24: Stedin Netbeheer Utrecht | BF24: 871687400000002254 | BG24: 0 | BH24: 8742030102119 | BI24: 3x25A | BJ24: 0 | BK24: Nee | BL24: Nee | BT24: 1
A25: K20014139 | B25: Gemeente Baarn | C25: 32167607 | D25: O32397362 | E25: Gemeentelijke gebouwen | F25: O32515446 | G25: O32519631 | H25: 871687400007586177 | I25: 44197 | J25: 44926 | K25: Ja | L25: Factureerbaar | M25: In bedrijf | N25: Hoofdstraat | O25: 3 | Q25: 3741 AC | R25: Baarn | S25: E1B | T25: Elek | U25: Kleinverbruik | V25: JRL Jaarlijks | W25: Ja | X25: Administratief aan | Y25: Voorschotten toegelaten | Z25: E_DVK - Profielklik | AA25: 44566 | AB25: 683 | AC25: 1136 | AG25: 0 | AH25: 683 | AI25: 1136 | AJ25: 0 | AK25: 0 | AL25: 0 | AM25: FAS2735224 | AN25: KV | AO25: K20014139 | AP25: Gemeente Baarn | AQ25: Mevr C Bouwmeester | AR25: Postbus 1003 3740 BA BAARN | AT25: OV | AU25: NL28BNGH0285000594 | AV25: 594 | AW25: D14 | AX25: 3M | AZ25: Algemene Voorziening | BA25: Groep op factuurstrc | BB25: E0035005521413220 | BE25: Stedin Netbeheer Utrecht | BF25: 871687400000002254 | BG25: 0 | BH25: 8742030102119 | BI25: 3x25A | BJ25: 0 | BK25: Ja | BL25: Nee | BT25: 1
A26: K20014139 | B26: Gemeente Baarn | C26: 32167607 | D26: O32397362 | E26: Gemeentelijke gebouwen | F26: O32515446 | G26: O32519632 | H26: 871687400007602464 | I26: 44197 | J26: 44529 | K26: Nee | L26: Eindafrekening | M26: Gesloopt | N26: Wagenaarlaan | O26: 10 | Q26: 3741 GE | R26: Baarn | S26: E2A | T26: Elek | U26: Kleinverbruik | V26: JRL Jaarlijks | W26: Nee | Y26: Voorschotten toegelaten | Z26: E_DVK - Profielklik | AA26: 44378 | AB26: 45602 | AC26: 0 | AG26: 0 | AH26: 25207 | AI26: 27240 | AJ26: 0 | AK26: 0 | AL26: 0 | AM26: FAS2735224 | AN26: KV | AO26: K20014139 | AP26: Gemeente Baarn | AQ26: Mevr C Bouwmeester | AR26: Postbus 1003 3740 BA BAARN | AT26: OV | AU26: NL28BNGH0285000594 | AV26: 594 | AW26: D14 | AX26: 3M | BA26: Groep op factuurstrc | BB26: 9517546O | BE26: Stedin Netbeheer Utrecht | BF26: 871687400000002254 | BG26: 0 | BH26: 8742030104113 | BI26: 3x50A | BJ26: 0 | BK26: Ja | BL26: Nee | BT26: 1
A27: K20014139 | B27: Gemeente Baarn | C27: 32167607 | D27: O32397362 | E27: Gemeentelijke gebouwen | F27: O32515446 | G27: O32519633 | H27: 871687400007605915 | I27: 44197 | J27: 44493 | K27: Nee | L27: Eindafrekening | M27: Gesloopt | N27: Prof. Meijerslaan | O27: 3 | Q27: 3741 XG | R27: Baarn | S27: E1A | T27: Elek | U27: Kleinverbruik | V27: JRL Jaarlijks | W27: Nee | Y27: Voorschotten toegelaten | Z27: E_DVK - Profielklik | AA27: 44378 | AB27: 28866 | AC27: 0 | AG27: 0 | AH27: 3312 | AI27: 15209 | AJ27: 0 | AK27: 0 | AL27: 0 | AM27: FAS2735224 | AN27: KV | AO27: K20014139 | AP27: Gemeente Baarn | AQ27: Mevr C Bouwmeester | AR27: Postbus 1003 3740 BA BAARN | AT27: OV | AU27: NL28BNGH0285000594 | AV27: 594 | AW27: D14 | AX27: 3M | BA27: Groep op factuurstrc | BB27: 19456209 | BE27: Stedin Netbeheer Utrecht | BF27: 871687400000002254 | BG27: 0 | BH27: 8742030102119 | BI27: 3x25A | BJ27: 0 | BK27: Ja | BL27: Nee | BT27: 1
A28: K20014139 | B28: Gemeente Baarn | C28: 32167607 | D28: O32397362 | E28: Gemeentelijke gebouwen | F28: O32515446 | G28: O32519634 | H28: 871687400007636278 | I28: 44197 | J28: 44926 | K28: Ja | L28: Factureerbaar | M28: In bedrijf | N28: Tolweg | O28: 6 | P28: NST | Q28: 3741 LK | R28: Baarn | S28: E1B | T28: Elek | U28: Kleinverbruik | V28: JRL Jaarlijks | W28: Ja | X28: Administratief aan | Y28: Voorschotten toegelaten | Z28: E_DVK - Profielklik | AA28: 44348 | AB28: 690 | AC28: 9439 | AG28: 0 | AH28: 878 | AI28: 7721 | AJ28: 0 | AK28: 0 | AL28: 0 | AM28: FAS2735224 | AN28: KV | AO28: K20014139 | AP28: Gemeente Baarn | AQ28: Mevr C Bouwmeester | AR28: Postbus 1003 3740 BA BAARN | AT28: OV | AU28: NL28BNGH0285000594 | AV28: 594 | AW28: D14 | AX28: 3M | AZ28: Naast | BA28: Groep op factuurstrc | BB28: E0046004049695617 | BE28: Stedin Netbeheer Utrecht | BF28: 871687400000002254 | BG28: 0 | BH28: 8742030102119 | BI28: 3x25A | BJ28: 0 | BK28: Nee | BL28: Nee | BT28: 1
A29: K20014139 | B29: Gemeente Baarn | C29: 32167607 | D29: O32397362 | E29: Gemeentelijke gebouwen | F29: O32515446 | G29: O32519635 | H29: 871687400007643047 | I29: 44197 | J29: 44926 | K29: Ja | L29: Factureerbaar | M29: In bedrijf | N29: Bisschopswaai | O29: 7 | P29: BY | Q29: 3741 LL | R29: Baarn | S29: E1B | T29: Elek | U29: Kleinverbruik | V29: JRL Jaarlijks | W29: Ja | X29: Administratief aan | Y29: Voorschotten toegelaten | Z29: E_DVK - Profielklik | AA29: 44567 | AB29: 734 | AC29: 618 | AG29: 0 | AH29: 734 | AI29: 618 | AJ29: 0 | AK29: 0 | AL29: 0 | AM29: FAS2735224 | AN29: KV | AO29: K20014139 | AP29: Gemeente Baarn | AQ29: Mevr C Bouwmeester | AR29: Postbus 1003 3740 BA BAARN | AT29: OV | AU29: NL28BNGH0285000594 | AV29: 594 | AW29: D14 | AX29: 3M | BA29: Groep op factuurstrc | BB29: E0060100001965920 | BE29: Stedin Netbeheer Utrecht | BF29: 871687400000002254 | BG29: 0 | BH29: 8742030102119 | BI29: 3x25A | BJ29: 0 | BK29: Ja | BL29: Nee | BT29: 1
A30: K20014139 | B30: Gemeente Baarn | C30: 32167607 | D30: O32397362 | E30: Gemeentelijke gebouwen | F30: O32515446 | G30: O32519636 | H30: 871687400007687850 | I30: 44197 | J30: 44926 | K30: Ja | L30: Factureerbaar | M30: In bedrijf | N30: Burgemeester Penstraat | O30: 6 | Q30: 3741 AH | R30: Baarn | S30: E1B | T30: Elek | U30: Kleinverbruik | V30: JRL Jaarlijks | W30: Ja | X30: Administratief aan | Y30: Voorschotten toegelaten | Z30: E_DVK - Profielklik | AA30: 44566 | AB30: 3001 | AC30: 2593 | AG30: 0 | AH30: 3001 | AI30: 2593 | AJ30: 0 | AK30: 0 | AL30: 0 | AM30: FAS2735224 | AN30: KV | AO30: K20014139 | AP30: Gemeente Baarn | AQ30: Mevr C Bouwmeester | AR30: Postbus 1003 3740 BA BAARN | AT30: OV | AU30: NL28BNGH0285000594 | AV30: 594 | AW30: D14 | AX30: 3M | BA30: Groep op factuurstrc | BB30: E0044007144804318 | BE30: Stedin Netbeheer Utrecht | BF30: 871687400000002254 | BG30: 0 | BH30: 8742030102119 | BI30: 3x25A | BJ30: 0 | BK30: Ja | BL30: Nee | BT30: 1
A31: K20014139 | B31: Gemeente Baarn | C31: 32167607 | D31: O32397362 | E31: Gemeentelijke gebouwen | F31: O32515446 | G31: O32519637 | H31: 871687400007687911 | I31: 44197 | J31: 44926 | K31: Ja | L31: Factureerbaar | M31: In bedrijf | N31: Burgemeester Penstraat | O31: 4 | Q31: 3741 AH | R31: Baarn | S31: E1B | T31: Elek | U31: Kleinverbruik | V31: JRL Jaarlijks | W31: Ja | X31: Administratief aan | Y31: Voorschotten toegelaten | Z31: E_DVK - Profielklik | AA31: 44567 | AB31: 576 | AC31: 649 | AG31: 0 | AH31: 576 | AI31: 649 | AJ31: 0 | AK31: 0 | AL31: 0 | AM31: FAS2735224 | AN31: KV | AO31: K20014139 | AP31: Gemeente Baarn | AQ31: Mevr C Bouwmeester | AR31: Postbus 1003 3740 BA BAARN | AT31: OV | AU31: NL28BNGH0285000594 | AV31: 594 | AW31: D14 | AX31: 3M | BA31: Groep op factuurstrc | BB31: E0053007546762219 | BE31: Stedin Netbeheer Utrecht | BF31: 871687400000002254 | BG31: 0 | BH31: 8742030102119 | BI31: 3x25A | BJ31: 0 | BK31: Ja | BL31: Nee | BT31: 1
A32: K20014139 | B32: Gemeente Baarn | C32: 32167607 | D32: O32397362 | E32: Gemeentelijke gebouwen | F32: O32515446 | G32: O32519638 | H32: 871687400007730051 | I32: 44197 | J32: 44926 | K32: Ja | L32: Factureerbaar | M32: In bedrijf | N32: Kerkstraat | O32: 28 | Q32: 3741 AK | R32: Baarn | S32: E2A | T32: Elek | U32: Kleinverbruik | V32: JRL Jaarlijks | W32: Nee | Y32: Voorschotten toegelaten | Z32: E_DVK - Profielklik | AA32: 44378 | AB32: 25651 | AC32: 0 | AG32: 0 | AH32: 21773 | AI32: 3954 | AJ32: 0 | AK32: 0 | AL32: 0 | AM32: FAS2735224 | AN32: KV | AO32: K20014139 | AP32: Gemeente Baarn | AQ32: Mevr C Bouwmeester | AR32: Postbus 1003 3740 BA BAARN | AT32: OV | AU32: NL28BNGH0285000594 | AV32: 594 | AW32: D14 | AX32: 3M | BA32: Groep op factuurstrc | BB32: 31383979 | BE32: Stedin Netbeheer Utrecht | BF32: 871687400000002254 | BG32: 0 | BH32: 8742030105110 | BI32: 3x63A | BJ32: 0 | BK32: Ja | BL32: Nee | BT32: 1
A33: K20014139 | B33: Gemeente Baarn | C33: 32167607 | D33: O32397362 | E33: Gemeentelijke gebouwen | F33: O32515446 | G33: O32519639 | H33: 871687400007738880 | I33: 44197 | J33: 44926 | K33: Ja | L33: Factureerbaar | M33: In bedrijf | N33: Hermesweg | O33: 14 | Q33: 3741 GP | R33: Baarn | S33: E1B | T33: Elek | U33: Kleinverbruik | V33: JRL Jaarlijks | W33: Ja | X33: Administratief aan | Y33: Voorschotten toegelaten | Z33: E_DVK - Profielklik | AA33: 44567 | AB33: 2774 | AC33: 2064 | AG33: 0 | AH33: 2774 | AI33: 2064 | AJ33: 0 | AK33: 0 | AL33: 0 | AM33: FAS2735224 | AN33: KV | AO33: K20014139 | AP33: Gemeente Baarn | AQ33: Mevr C Bouwmeester | AR33: Postbus 1003 3740 BA BAARN | AT33: OV | AU33: NL28BNGH0285000594 | AV33: 594 | AW33: D14 | AX33: 3M | AZ33: THV RIOOLGEMAAL | BA33: Groep op factuurstrc | BB33: E0054007618870720 | BE33: Stedin Netbeheer Utrecht | BF33: 871687400000002254 | BG33: 0 | BH33: 8742030102119 | BI33: 3x25A | BJ33: 0 | BK33: Nee | BL33: Nee | BT33: 1
A34: K20014139 | B34: Gemeente Baarn | C34: 32167607 | D34: O32397362 | E34: Gemeentelijke gebouwen | F34: O32515446 | G34: O32519640 | H34: 871687400007784283 | I34: 44197 | J34: 44318 | K34: Nee | L34: Eindafrekening | M34: Gesloopt | N34: Plataanlaan | O34: 1 | Q34: 3741 WE | R34: Baarn | S34: E2B | T34: Elek | U34: Kleinverbruik | V34: JRL Jaarlijks | W34: Nee | Y34: Voorschotten toegelaten | Z34: E_DVK - Profielklik | AA34: 44216 | AB34: 4988 | AC34: 4500 | AG34: 0 | AH34: 245 | AI34: 1286 | AJ34: 0 | AK34: 0 | AL34: 0 | AM34: FAS2735224 | AN34: KV | AO34: K20014139 | AP34: Gemeente Baarn | AQ34: Mevr C Bouwmeester | AR34: Postbus 1003 3740 BA BAARN | AT34: OV | AU34: NL28BNGH0285000594 | AV34: 594 | AW34: D14 | AX34: 3M | AZ34: BOEMERANG PLATAAN | BA34: Groep op factuurstrc | BB34: E0044007126642218 | BE34: Stedin Netbeheer Utrecht | BF34: 871687400000002254 | BG34: 0 | BH34: 8742030104113 | BI34: 3x50A | BJ34: 0 | BK34: Ja | BL34: Nee | BT34: 1
A35: K20014139 | B35: Gemeente Baarn | C35: 32167607 | D35: O32397362 | E35: Gemeentelijke gebouwen | F35: O32515446 | G35: O32519641 | H35: 871687400007870764 | I35: 44197 | J35: 44926 | K35: Ja | L35: Factureerbaar | M35: In bedrijf | N35: Drakenburgerweg | O35: 25 | P35: BY | Q35: 3741 GK | R35: Baarn | S35: E1A | T35: Elek | U35: Kleinverbruik | V35: JRL Jaarlijks | W35: Nee | Y35: Voorschotten toegelaten | Z35: E_DVK - Profielklik | AA35: 44378 | AB35: 677 | AC35: 0 | AG35: 0 | AH35: 454 | AI35: 224 | AJ35: 0 | AK35: 0 | AL35: 0 | AM35: FAS2735224 | AN35: KV | AO35: K20014139 | AP35: Gemeente Baarn | AQ35: Mevr C Bouwmeester | AR35: Postbus 1003 3740 BA BAARN | AT35: OV | AU35: NL28BNGH0285000594 | AV35: 594 | AW35: D14 | AX35: 3M | BA35: Groep op factuurstrc | BB35: 89259329 | BE35: Stedin Netbeheer Utrecht | BF35: 871687400000002254 | BG35: 0 | BH35: 8742030102119 | BI35: 3x25A | BJ35: 0 | BK35: Ja | BL35: Nee | BT35: 1
A36: K20014139 | B36: Gemeente Baarn | C36: 32167607 | D36: O32397362 | E36: Gemeentelijke gebouwen | F36: O32515446 | G36: O32519642 | H36: 871687400007882927 | I36: 44197 | J36: 44926 | K36: Ja | L36: Factureerbaar | M36: In bedrijf | N36: Eemnesserweg | O36: 80 | P36: TO | Q36: 3741 GC | R36: Baarn | S36: E1B | T36: Elek | U36: Kleinverbruik | V36: JRL Jaarlijks | W36: Ja | X36: Administratief aan | Y36: Voorschotten toegelaten | Z36: E_DVK - Profielklik | AA36: 44567 | AB36: 515 | AC36: 346 | AG36: 0 | AH36: 515 | AI36: 346 | AJ36: 0 | AK36: 0 | AL36: 0 | AM36: FAS2735224 | AN36: KV | AO36: K20014139 | AP36: Gemeente Baarn | AQ36: Mevr C Bouwmeester | AR36: Postbus 1003 3740 BA BAARN | AT36: OV | AU36: NL28BNGH0285000594 | AV36: 594 | AW36: D14 | AX36: 3M | AZ36: VOLIERE/PUBL.WERK. | BA36: Groep op factuurstrc | BB36: E0051005480806920 | BE36: Stedin Netbeheer Utrecht | BF36: 871687400000002254 | BG36: 0 | BH36: 8742030102119 | BI36: 3x25A | BJ36: 0 | BK36: Nee | BL36: Nee | BT36: 1
A37: K20014139 | B37: Gemeente Baarn | C37: 32167607 | D37: O32397362 | E37: Gemeentelijke gebouwen | F37: O32515446 | G37: O32577200 | H37: 871687400007952736 | I37: 44197 | J37: 44926 | K37: Ja | L37: Factureerbaar | M37: In bedrijf | N37: Heemskerklaan | O37: 25 | Q37: 3742 AK | R37: Baarn | S37: E2B | T37: Elek | U37: Kleinverbruik | V37: JRL Jaarlijks | W37: Ja | X37: Administratief aan | Y37: Voorschotten toegelaten | Z37: E_DVK - Profielklik | AA37: 44566 | AB37: 15261 | AC37: 15728 | AG37: 0 | AH37: 15261 | AI37: 15728 | AJ37: 0 | AK37: 0 | AL37: 0 | AM37: FAS2735224 | AN37: KV | AO37: K20014139 | AP37: Gemeente Baarn | AQ37: Mevr C Bouwmeester | AR37: Postbus 1003 3740 BA BAARN | AT37: OV | AU37: NL28BNGH0285000594 | AV37: 594 | AW37: D14 | AX37: 3M | AY37: Heemskerklaan 25 | AZ37: 3742 AK Baarn | BA37: Groep op factuurstrc | BB37: E0054007468899519 | BE37: Stedin Netbeheer Utrecht | BF37: 871687400000002254 | BG37: 0 | BH37: 8742030104113 | BI37: 3x50A | BJ37: 0 | BK37: Ja | BL37: Nee | BT37: 1
A38: K20014139 | B38: Gemeente Baarn | C38: 32167607 | D38: O32397362 | E38: Gemeentelijke gebouwen | F38: O32515446 | G38: O32519643 | H38: 871687400007985765 | I38: 44197 | J38: 44926 | K38: Ja | L38: Factureerbaar | M38: In bedrijf | N38: Baarnsche Dijk | O38: 2 | Q38: 3741 LR | R38: Baarn | S38: E1B | T38: Elek | U38: Kleinverbruik | V38: JRL Jaarlijks | W38: Ja | X38: Administratief aan | Y38: Voorschotten toegelaten | Z38: E_DVK - Profielklik | AA38: 44566 | AB38: 8335 | AC38: 9321 | AG38: 0 | AH38: 8335 | AI38: 9321 | AJ38: 0 | AK38: 0 | AL38: 0 | AM38: FAS2735224 | AN38: KV | AO38: K20014139 | AP38: Gemeente Baarn | AQ38: Mevr C Bouwmeester | AR38: Postbus 1003 3740 BA BAARN | AT38: OV | AU38: NL28BNGH0285000594 | AV38: 594 | AW38: D14 | AX38: 3M | AZ38: 2 GEMALEN (1 KAST) | BA38: Groep op factuurstrc | BB38: E0060100002422920 | BE38: Stedin Netbeheer Utrecht | BF38: 871687400000002254 | BG38: 0 | BH38: 8742030102119 | BI38: 3x25A | BJ38: 0 | BK38: Nee | BL38: Nee | BT38: 1
A39: K20014139 | B39: Gemeente Baarn | C39: 32167607 | D39: O32397362 | E39: Gemeentelijke gebouwen | F39: O32515446 | G39: O32519644 | H39: 871687400007986960 | I39: 44197 | J39: 44926 | K39: Ja | L39: Factureerbaar | M39: In bedrijf | N39: Piet Heinlaan | O39: 11 | P39: NST | Q39: 3742 AN | R39: Baarn | S39: E1B | T39: Elek | U39: Kleinverbruik | V39: JRL Jaarlijks | W39: Ja | X39: Administratief aan | Y39: Voorschotten toegelaten | Z39: E_DVK - Profielklik | AA39: 44566 | AB39: 1706 | AC39: 1567 | AG39: 0 | AH39: 1706 | AI39: 1567 | AJ39: 0 | AK39: 0 | AL39: 0 | AM39: FAS2735224 | AN39: KV | AO39: K20014139 | AP39: Gemeente Baarn | AQ39: Mevr C Bouwmeester | AR39: Postbus 1003 3740 BA BAARN | AT39: OV | AU39: NL28BNGH0285000594 | AV39: 594 | AW39: D14 | AX39: 3M | AZ39: Naast | BA39: Groep op factuurstrc | BB39: E0060100002005320 | BE39: Stedin Netbeheer Utrecht | BF39: 871687400000002254 | BG39: 0 | BH39: 8742030102119 | BI39: 3x25A | BJ39: 0 | BK39: Nee | BL39: Nee | BT39: 1
A40: K20014139 | B40: Gemeente Baarn | C40: 32167607 | D40: O32397362 | E40: Gemeentelijke gebouwen | F40: O32515446 | G40: O32519645 | H40: 871687400008045697 | I40: 44197 | J40: 44926 | K40: Ja | L40: Factureerbaar | M40: In bedrijf | N40: Torenlaan | O40: 77 | P40: BY | Q40: 3742 CS | R40: Baarn | S40: E1B | T40: Elek | U40: Kleinverbruik | V40: JRL Jaarlijks | W40: Ja | X40: Administratief aan | Y40: Voorschotten toegelaten | Z40: E_DVK - Profielklik | AA40: 44567 | AB40: 367 | AC40: 246 | AG40: 0 | AH40: 385 | AI40: 239 | AJ40: 0 | AK40: 0 | AL40: 0 | AM40: FAS2735224 | AN40: KV | AO40: K20014139 | AP40: Gemeente Baarn | AQ40: Mevr C Bouwmeester | AR40: Postbus 1003 3740 BA BAARN | AT40: OV | AU40: NL28BNGH0285000594 | AV40: 594 | AW40: D14 | AX40: 3M | BA40: Groep op factuurstrc | BB40: E0051005545047020 | BE40: Stedin Netbeheer Utrecht | BF40: 871687400000002254 | BG40: 0 | BH40: 8742030102119 | BI40: 3x25A | BJ40: 0 | BK40: Ja | BL40: Nee | BT40: 1
A41: K20014139 | B41: Gemeente Baarn | C41: 32167607 | D41: O32397362 | E41: Gemeentelijke gebouwen | F41: O32515446 | G41: O32519646 | H41: 871687400008085969 | I41: 44197 | J41: 44926 | K41: Ja | L41: Factureerbaar | M41: In bedrijf | N41: Oosterstraat | O41: 177 | P41: AC | Q41: 3742 SP | R41: Baarn | S41: E1B | T41: Elek | U41: Kleinverbruik | V41: JRL Jaarlijks | W41: Ja | X41: Administratief aan | Y41: Voorschotten toegelaten | Z41: E_DVK - Profielklik | AA41: 44567 | AB41: 97 | AC41: 44 | AG41: 0 | AH41: 197 | AI41: 68 | AJ41: 0 | AK41: 0 | AL41: 0 | AM41: FAS2735224 | AN41: KV | AO41: K20014139 | AP41: Gemeente Baarn | AQ41: Mevr C Bouwmeester | AR41: Postbus 1003 3740 BA BAARN | AT41: OV | AU41: NL28BNGH0285000594 | AV41: 594 | AW41: D14 | AX41: 3M | AZ41: PUBLIEKE WERKEN | BA41: Groep op factuurstrc | BB41: E0053007546684719 | BE41: Stedin Netbeheer Utrecht | BF41: 871687400000002254 | BG41: 0 | BH41: 8742030102119 | BI41: 3x25A | BJ41: 0 | BK41: Ja | BL41: Nee | BT41: 1
A42: K20014139 | B42: Gemeente Baarn | C42: 32167607 | D42: O32397362 | E42: Gemeentelijke gebouwen | F42: O32515446 | G42: O32519647 | H42: 871687400008104851 | I42: 44197 | J42: 44926 | K42: Ja | L42: Factureerbaar | M42: In bedrijf | N42: August Janssenweg | O42: 40 | P42: BYA | Q42: 3742 RX | R42: Baarn | S42: E1B | T42: Elek | U42: Kleinverbruik | V42: JRL Jaarlijks | W42: Ja | X42: Administratief aan | Y42: Voorschotten toegelaten | Z42: E_DVK - Profielklik | AA42: 44567 | AB42: 163 | AC42: 135 | AG42: 0 | AH42: 164 | AI42: 132 | AJ42: 0 | AK42: 0 | AL42: 0 | AM42: FAS2735224 | AN42: KV | AO42: K20014139 | AP42: Gemeente Baarn | AQ42: Mevr C Bouwmeester | AR42: Postbus 1003 3740 BA BAARN | AT42: OV | AU42: NL28BNGH0285000594 | AV42: 594 | AW42: D14 | AX42: 3M | AZ42: rioolgemaal | BA42: Groep op factuurstrc | BB42: E0054007618855920 | BE42: Stedin Netbeheer Utrecht | BF42: 871687400000002254 | BG42: 0 | BH42: 8742030102119 | BI42: 3x25A | BJ42: 0 | BK42: Nee | BL42: Nee | BT42: 1
A43: K20014139 | B43: Gemeente Baarn | C43: 32167607 | D43: O32397362 | E43: Gemeentelijke gebouwen | F43: O32515446 | G43: O32519648 | H43: 871687400008107548 | I43: 44197 | J43: 44926 | K43: Ja | L43: Factureerbaar | M43: In bedrijf | N43: Wijkamplaan | O43: 71 | Q43: 3742 WP | R43: Baarn | S43: E1B | T43: Elek | U43: Kleinverbruik | V43: JRL Jaarlijks | W43: Ja | X43: Administratief aan | Y43: Voorschotten toegelaten | Z43: E_DVK - Profielklik | AA43: 44566 | AB43: 2564 | AC43: 1395 | AG43: 0 | AH43: 2564 | AI43: 1395 | AJ43: 0 | AK43: 0 | AL43: 0 | AM43: FAS2735224 | AN43: KV | AO43: K20014139 | AP43: Gemeente Baarn | AQ43: Mevr C Bouwmeester | AR43: Postbus 1003 3740 BA BAARN | AT43: OV | AU43: NL28BNGH0285000594 | AV43: 594 | AW43: D14 | AX43: 3M | AZ43: PUBLIEKE WERKEN | BA43: Groep op factuurstrc | BB43: E0049007491675619 | BE43: Stedin Netbeheer Utrecht | BF43: 871687400000002254 | BG43: 0 | BH43: 8742030102119 | BI43: 3x25A | BJ43: 0 | BK43: Nee | BL43: Nee | BT43: 1
A44: K20014139 | B44: Gemeente Baarn | C44: 32167607 | D44: O32397362 | E44: Gemeentelijke gebouwen | F44: O32515446 | G44: O32519649 | H44: 871687400008133035 | I44: 44197 | J44: 44926 | K44: Ja | L44: Factureerbaar | M44: In bedrijf | N44: EEMWEG | O44: 38 | P44: TO | Q44: 3742 LB | R44: Baarn | S44: E2B | T44: Elek | U44: Kleinverbruik | V44: JRL Jaarlijks | W44: Ja | X44: Administratief aan | Y44: Voorschotten toegelaten | Z44: E_DVK - Profielklik | AA44: 44368 | AB44: 27219 | AC44: 25684 | AG44: 0 | AH44: 32910 | AI44: 30128 | AJ44: 0 | AK44: 0 | AL44: 0 | AM44: FAS2735224 | AN44: KV | AO44: K20014139 | AP44: Gemeente Baarn | AQ44: Mevr C Bouwmeester | AR44: Postbus 1003 3740 BA BAARN | AT44: OV | AU44: NL28BNGH0285000594 | AV44: 594 | AW44: D14 | AX44: 3M | AZ44: DOORMANLAAN | BA44: Groep op factuurstrc | BB44: 0012693169 | BE44: Stedin Netbeheer Utrecht | BF44: 871687400000002254 | BG44: 0 | BH44: 8742030105110 | BI44: 3x63A | BJ44: 0 | BK44: Ja | BL44: Nee | BT44: 1
A45: K20014139 | B45: Gemeente Baarn | C45: 32167607 | D45: O32397362 | E45: Gemeentelijke gebouwen | F45: O32515446 | G45: O32519650 | H45: 871687400008181456 | I45: 44197 | J45: 44926 | K45: Ja | L45: Factureerbaar | M45: In bedrijf | N45: De Aak | O45: 37 | P45: TO | Q45: 3742 GV | R45: Baarn | S45: E1B | T45: Elek | U45: Kleinverbruik | V45: JRL Jaarlijks | W45: Ja | X45: Administratief aan | Y45: Voorschotten toegelaten | Z45: E_DVK - Profielklik | AA45: 44567 | AB45: 2904 | AC45: 2886 | AG45: 0 | AH45: 2904 | AI45: 2886 | AJ45: 0 | AK45: 0 | AL45: 0 | AM45: FAS2735224 | AN45: KV | AO45: K20014139 | AP45: Gemeente Baarn | AQ45: Mevr C Bouwmeester | AR45: Postbus 1003 3740 BA BAARN | AT45: OV | AU45: NL28BNGH0285000594 | AV45: 594 | AW45: D14 | AX45: 3M | AZ45: TO | BA45: Groep op factuurstrc | BB45: E0060100001966520 | BE45: Stedin Netbeheer Utrecht | BF45: 871687400000002254 | BG45: 0 | BH45: 8742030102119 | BI45: 3x25A | BJ45: 0 | BK45: Nee | BL45: Nee | BT45: 1
A46: K20014139 | B46: Gemeente Baarn | C46: 32167607 | D46: O32397362 | E46: Gemeentelijke gebouwen | F46: O32515446 | G46: O32519651 | H46: 871687400008189681 | I46: 44197 | J46: 44926 | K46: Ja | L46: Factureerbaar | M46: In bedrijf | N46: Horizon | O46: 19 | P46: 21 | Q46: 3742 ZD | R46: Baarn | S46: E1B | T46: Elek | U46: Kleinverbruik | V46: JRL Jaarlijks | W46: Ja | X46: Administratief aan | Y46: Voorschotten toegelaten | Z46: E_DVK - Profielklik | AA46: 44299 | AB46: 1066 | AC46: 949 | AG46: 0 | AH46: 1027 | AI46: 894 | AJ46: 0 | AK46: 0 | AL46: 0 | AM46: FAS2735224 | AN46: KV | AO46: K20014139 | AP46: Gemeente Baarn | AQ46: Mevr C Bouwmeester | AR46: Postbus 1003 3740 BA BAARN | AT46: OV | AU46: NL28BNGH0285000594 | AV46: 594 | AW46: D14 | AX46: 3M | AZ46: rioolgemaal | BA46: Groep op factuurstrc | BB46: E0060100002421920 | BE46: Stedin Netbeheer Utrecht | BF46: 871687400000002254 | BG46: 0 | BH46: 8742030102119 | BI46: 3x25A | BJ46: 0 | BK46: Nee | BL46: Nee | BT46: 1
A47: K20014139 | B47: Gemeente Baarn | C47: 32167607 | D47: O32397362 | E47: Gemeentelijke gebouwen | F47: O32515446 | G47: O32519652 | H47: 871687400008193251 | I47: 44197 | J47: 44926 | K47: Ja | L47: Factureerbaar | M47: In bedrijf | N47: Floriszlaan | O47: 23 | P47: BY | Q47: 3742 MK | R47: Baarn | S47: E1B | T47: Elek | U47: Kleinverbruik | V47: JRL Jaarlijks | W47: Ja | X47: Administratief aan | Y47: Voorschotten toegelaten | Z47: E_DVK - Profielklik | AA47: 44566 | AB47: 1062 | AC47: 892 | AG47: 0 | AH47: 1062 | AI47: 892 | AJ47: 0 | AK47: 0 | AL47: 0 | AM47: FAS2735224 | AN47: KV | AO47: K20014139 | AP47: Gemeente Baarn | AQ47: Mevr C Bouwmeester | AR47: Postbus 1003 3740 BA BAARN | AT47: OV | AU47: NL28BNGH0285000594 | AV47: 594 | AW47: D14 | AX47: 3M | BA47: Groep op factuurstrc | BB47: E0054007618855820 | BE47: Stedin Netbeheer Utrecht | BF47: 871687400000002254 | BG47: 0 | BH47: 8742030102119 | BI47: 3x25A | BJ47: 0 | BK47: Ja | BL47: Nee | BT47: 1
A48: K20014139 | B48: Gemeente Baarn | C48: 32167607 | D48: O32397362 | E48: Gemeentelijke gebouwen | F48: O32515446 | G48: O32519653 | H48: 871687400008201291 | I48: 44197 | J48: 44926 | K48: Ja | L48: Factureerbaar | M48: In bedrijf | N48: Zwanenweide | O48: 21 | P48: NST | Q48: 3742 XW | R48: Baarn | S48: E1B | T48: Elek | U48: Kleinverbruik | V48: JRL Jaarlijks | W48: Ja | X48: Administratief aan | Y48: Voorschotten toegelaten | Z48: E_DVK - Profielklik | AA48: 44566 | AB48: 2621 | AC48: 2613 | AG48: 0 | AH48: 2066 | AI48: 1713 | AJ48: 0 | AK48: 0 | AL48: 0 | AM48: FAS2735224 | AN48: KV | AO48: K20014139 | AP48: Gemeente Baarn | AQ48: Mevr C Bouwmeester | AR48: Postbus 1003 3740 BA BAARN | AT48: OV | AU48: NL28BNGH0285000594 | AV48: 594 | AW48: D14 | AX48: 3M | AZ48: DRAINAGEGEMAAL | BA48: Groep op factuurstrc | BB48: E0054008329683221 | BE48: Stedin Netbeheer Utrecht | BF48: 871687400000002254 | BG48: 0 | BH48: 8742030102119 | BI48: 3x25A | BJ48: 0 | BK48: Nee | BL48: Nee | BT48: 1
A49: K20014139 | B49: Gemeente Baarn | C49: 32167607 | D49: O32397362 | E49: Gemeentelijke gebouwen | F49: O32515446 | G49: O32519654 | H49: 871687400008239942 | I49: 44197 | J49: 44926 | K49: Ja | L49: Factureerbaar | M49: In bedrijf | N49: Zwanenweide | O49: 38 | P49: BY | Q49: 3742 XX | R49: Baarn | S49: E1B | T49: Elek | U49: Kleinverbruik | V49: JRL Jaarlijks | W49: Ja | X49: Administratief aan | Y49: Voorschotten toegelaten | Z49: E_DVK - Profielklik | AA49: 44566 | AB49: 962 | AC49: 676 | AG49: 0 | AH49: 962 | AI49: 676 | AJ49: 0 | AK49: 0 | AL49: 0 | AM49: FAS2735224 | AN49: KV | AO49: K20014139 | AP49: Gemeente Baarn | AQ49: Mevr C Bouwmeester | AR49: Postbus 1003 3740 BA BAARN | AT49: OV | AU49: NL28BNGH0285000594 | AV49: 594 | AW49: D14 | AX49: 3M | AZ49: rioolgemaal | BA49: Groep op factuurstrc | BB49: E0060100001966320 | BE49: Stedin Netbeheer Utrecht | BF49: 871687400000002254 | BG49: 0 | BH49: 8742030102119 | BI49: 3x25A | BJ49: 0 | BK49: Nee | BL49: Nee | BT49: 1
A50: K20014139 | B50: Gemeente Baarn | C50: 32167607 | D50: O32397362 | E50: Gemeentelijke gebouwen | F50: O32515446 | G50: O32519655 | H50: 871687400008243871 | I50: 44197 | J50: 44926 | K50: Ja | L50: Factureerbaar | M50: In bedrijf | N50: Bilderdijklaan | O50: 31 | P50: BY | Q50: 3743 HR | R50: Baarn | S50: E1B | T50: Elek | U50: Kleinverbruik | V50: JRL Jaarlijks | W50: Ja | X50: Administratief aan | Y50: Voorschotten toegelaten | Z50: E_DVK - Profielklik | AA50: 44567 | AB50: 494 | AC50: 252 | AG50: 0 | AH50: 494 | AI50: 252 | AJ50: 0 | AK50: 0 | AL50: 0 | AM50: FAS2735224 | AN50: KV | AO50: K20014139 | AP50: Gemeente Baarn | AQ50: Mevr C Bouwmeester | AR50: Postbus 1003 3740 BA BAARN | AT50: OV | AU50: NL28BNGH0285000594 | AV50: 594 | AW50: D14 | AX50: 3M | AZ50: FONTYN | BA50: Groep op factuurstrc | BB50: E0051004431120818 | BE50: Stedin Netbeheer Utrecht | BF50: 871687400000002254 | BG50: 0 | BH50: 8742030102119 | BI50: 3x25A | BJ50: 0 | BK50: Nee | BL50: Nee | BT50: 1
A51: K20014139 | B51: Gemeente Baarn | C51: 32167607 | D51: O32397362 | E51: Gemeentelijke gebouwen | F51: O32515446 | G51: O32519656 | H51: 871687400008243932 | I51: 44197 | J51: 44926 | K51: Ja | L51: Factureerbaar | M51: In bedrijf | N51: Bilderdijklaan | O51: 17 | P51: BY | Q51: 3743 HR | R51: Baarn | S51: E1A | T51: Elek | U51: Kleinverbruik | V51: JRL Jaarlijks | W51: Nee | Y51: Voorschotten toegelaten | Z51: E_DVK - Profielklik | AA51: 44378 | AB51: 0 | AC51: 0 | AG51: 0 | AH51: 0 | AI51: 0 | AJ51: 0 | AK51: 0 | AL51: 0 | AM51: FAS2735224 | AN51: KV | AO51: K20014139 | AP51: Gemeente Baarn | AQ51: Mevr C Bouwmeester | AR51: Postbus 1003 3740 BA BAARN | AT51: OV | AU51: NL28BNGH0285000594 | AV51: 594 | AW51: D14 | AX51: 3M | AZ51: FONTYN | BA51: Groep op factuurstrc | BB51: 9204790F | BE51: Stedin Netbeheer Utrecht | BF51: 871687400000002254 | BG51: 0 | BH51: 8742030102119 | BI51: 3x25A | BJ51: 0 | BK51: Nee | BL51: Nee | BT51: 1
A52: K20014139 | B52: Gemeente Baarn | C52: 32167607 | D52: O32397362 | E52: Gemeentelijke gebouwen | F52: O32515446 | G52: O32519657 | H52: 871687400008261547 | I52: 44197 | J52: 44926 | K52: Ja | L52: Factureerbaar | M52: In bedrijf | N52: Praamgracht | O52: 5 | P52: BY | Q52: 3743 AC | R52: Baarn | S52: E1B | T52: Elek | U52: Kleinverbruik | V52: JRL Jaarlijks | W52: Ja | X52: Administratief aan | Y52: Voorschotten toegelaten | Z52: E_DVK - Profielklik | AA52: 44567 | AB52: 170 | AC52: 161 | AG52: 0 | AH52: 170 | AI52: 161 | AJ52: 0 | AK52: 0 | AL52: 0 | AM52: FAS2735224 | AN52: KV | AO52: K20014139 | AP52: Gemeente Baarn | AQ52: Mevr C Bouwmeester | AR52: Postbus 1003 3740 BA BAARN | AT52: OV | AU52: NL28BNGH0285000594 | AV52: 594 | AW52: D14 | AX52: 3M | AZ52: rioolgemaal | BA52: Groep op factuurstrc | BB52: E0052004479582319 | BE52: Stedin Netbeheer Utrecht | BF52: 871687400000002254 | BG52: 0 | BH52: 8742030102119 | BI52: 3x25A | BJ52: 0 | BK52: Nee | BL52: Nee | BT52: 1
A53: K20014139 | B53: Gemeente Baarn | C53: 32167607 | D53: O32397362 | E53: Gemeentelijke gebouwen | F53: O32515446 | G53: O32519658 | H53: 871687400008273779 | I53: 44197 | J53: 44926 | K53: Ja | L53: Factureerbaar | M53: In bedrijf | N53: Julianalaan | O53: 6 | P53: NST | Q53: 3743 JG | R53: Baarn | S53: E2B | T53: Elek | U53: Kleinverbruik | V53: JRL Jaarlijks | W53: Ja | X53: Administratief aan | Y53: Voorschotten toegelaten | Z53: E_DVK - Profielklik | AA53: 44566 | AB53: 0 | AC53: 0 | AG53: 0 | AH53: 0 | AI53: 0 | AJ53: 0 | AK53: 0 | AL53: 0 | AM53: FAS2735224 | AN53: KV | AO53: K20014139 | AP53: Gemeente Baarn | AQ53: Mevr C Bouwmeester | AR53: Postbus 1003 3740 BA BAARN | AT53: OV | AU53: NL28BNGH0285000594 | AV53: 594 | AW53: D14 | AX53: 3M | AZ53: BRANDPUT/PW | BA53: Groep op factuurstrc | BB53: E0052005309128619 | BE53: Stedin Netbeheer Utrecht | BF53: 871687400000002254 | BG53: 0 | BH53: 8742030104113 | BI53: 3x50A | BJ53: 0 | BK53: Nee | BL53: Nee | BT53: 1
A54: K20014139 | B54: Gemeente Baarn | C54: 32167607 | D54: O32397362 | E54: Gemeentelijke gebouwen | F54: O32515446 | G54: O32519659 | H54: 871687400008284324 | I54: 44197 | J54: 44257 | K54: Nee | L54: Eindafrekening | M54: In bedrijf | N54: Smutslaan | O54: 6 | P54: A | Q54: 3743 CG | R54: Baarn | S54: E1A | T54: Elek | U54: Kleinverbruik | V54: JRL Jaarlijks | W54: Nee | Y54: Voorschotten toegelaten | Z54: E_DVK - Profielklik | AA54: 44197 | AB54: 489 | AC54: 1 | AD54: 0 | AE54: 0 | AG54: 0 | AH54: 74 | AI54: 40 | AJ54: 0 | AK54: 0 | AL54: 0 | AM54: FAS2735224 | AN54: KV | AO54: K20014139 | AP54: Gemeente Baarn | AQ54: Mevr C Bouwmeester | AR54: Postbus 1003 3740 BA BAARN | AT54: OV | AU54: NL28BNGH0285000594 | AV54: 594 | AW54: D14 | AX54: 3M | AZ54: KINDERDAGVERBLYF | BA54: Groep op factuurstrc | BB54: 8816799D | BE54: Stedin Netbeheer Utrecht | BF54: 871687400000002254 | BG54: 0 | BH54: 8742030102119 | BI54: 3x25A | BJ54: 0 | BK54: Ja | BL54: Nee | BT54: 1
A55: K20014139 | B55: Gemeente Baarn | C55: 32167607 | D55: O32397362 | E55: Gemeentelijke gebouwen | F55: O32515446 | G55: O32519660 | H55: 871687400008346008 | I55: 44197 | J55: 44926 | K55: Ja | L55: Factureerbaar | M55: In bedrijf | N55: Zevenlindenweg | O55: 2 | P55: BY | Q55: 3744 BC | R55: Baarn | S55: E1B | T55: Elek | U55: Kleinverbruik | V55: JRL Jaarlijks | W55: Ja | X55: Administratief aan | Y55: Voorschotten toegelaten | Z55: E_DVK - Profielklik | AA55: 44197 | AB55: 930 | AC55: 643 | AD55: 0 | AE55: 0 | AG55: 0 | AH55: 936 | AI55: 647 | AJ55: 0 | AK55: 0 | AL55: 0 | AM55: FAS2735224 | AN55: KV | AO55: K20014139 | AP55: Gemeente Baarn | AQ55: Mevr C Bouwmeester | AR55: Postbus 1003 3740 BA BAARN | AT55: OV | AU55: NL28BNGH0285000594 | AV55: 594 | AW55: D14 | AX55: 3M | AZ55: rioolgemaal | BA55: Groep op factuurstrc | BB55: E0060100001891020 | BE55: Stedin Netbeheer Utrecht | BF55: 871687400000002254 | BG55: 0 | BH55: 8742030102119 | BI55: 3x25A | BJ55: 0 | BK55: Nee | BL55: Nee | BT55: 1
A56: K20014139 | B56: Gemeente Baarn | C56: 32167607 | D56: O32397362 | E56: Gemeentelijke gebouwen | F56: O32515446 | G56: O32519661 | H56: 871687400008349337 | I56: 44197 | J56: 44926 | K56: Ja | L56: Factureerbaar | M56: In bedrijf | N56: Zevenlindenweg | O56: 5 | P56: B 7 | Q56: 3744 BC | R56: Baarn | S56: E1B | T56: Elek | U56: Kleinverbruik | V56: JRL Jaarlijks | W56: Ja | X56: Administratief aan | Y56: Voorschotten toegelaten | Z56: E_DVK - Profielklik | AA56: 44567 | AB56: 669 | AC56: 1649 | AG56: 0 | AH56: 741 | AI56: 1820 | AJ56: 0 | AK56: 0 | AL56: 0 | AM56: FAS2735224 | AN56: KV | AO56: K20014139 | AP56: Gemeente Baarn | AQ56: Mevr C Bouwmeester | AR56: Postbus 1003 3740 BA BAARN | AT56: OV | AU56: NL28BNGH0285000594 | AV56: 594 | AW56: D14 | AX56: 3M | AZ56: RIOOLGEMAAL TO BUNG 54 | BA56: Groep op factuurstrc | BB56: E0054008326260121 | BE56: Stedin Netbeheer Utrecht | BF56: 871687400000002254 | BG56: 0 | BH56: 8742030102119 | BI56: 3x25A | BJ56: 0 | BK56: Nee | BL56: Nee | BT56: 1
A57: K20014139 | B57: Gemeente Baarn | C57: 32167607 | D57: O32397362 | E57: Gemeentelijke gebouwen | F57: O32515446 | G57: O32519662 | H57: 871687400008457520 | I57: 44197 | J57: 44926 | K57: Ja | L57: Factureerbaar | M57: In bedrijf | N57: Laanstraat | O57: 1 | Q57: 3743 BA | R57: Baarn | T57: Elek | U57: Grootverbruik | V57: TMT Telemetrie | W57: Nee | Y57: Enkel afrekeningen | Z57: E_DVK - Profielklik | AA57: 44652 | AB57: 126380 | AC57: 85813 | AD57: 0 | AE57: 533 | AG57: 128 | AH57: 128108 | AI57: 91180 | AJ57: 0 | AK57: -374 | AL57: 0 | AM57: FAS2735225 | AN57: GV | AO57: K20014139 | AP57: Gemeente Baarn | AQ57: Mevr C Bouwmeester | AR57: Postbus 1003 3740 BA BAARN | AT57: OV | AU57: NL28BNGH0285000594 | AV57: 594 | AW57: D14 | AX57: 1M | BA57: Groep op factuurstrc | BC57: 44562 | BD57: 12M | BE57: Stedin Netbeheer Utrecht | BF57: 871687400000002254 | BG57: 0 | BJ57: 0 | BK57: Ja | BL57: Nee | BT57: 1
A58: K20014139 | B58: Gemeente Baarn | C58: 32167607 | D58: O32397362 | E58: Gemeentelijke gebouwen | F58: O32515446 | G58: O32519663 | H58: 871687400008880656 | I58: 44197 | J58: 44926 | K58: Ja | L58: Factureerbaar | M58: In bedrijf | N58: EEMWEG | O58: 66 | Q58: 3741 LC | R58: Baarn | T58: Elek | U58: Grootverbruik | V58: TMT Telemetrie | W58: Nee | Y58: Enkel afrekeningen | Z58: E_DVK - Profielklik | AA58: 44652 | AB58: 241 | AC58: 367 | AG58: 55 | AH58: 236 | AI58: 326 | AJ58: 0 | AK58: 0 | AL58: 0 | AM58: FAS2735225 | AN58: GV | AO58: K20014139 | AP58: Gemeente Baarn | AQ58: Mevr C Bouwmeester | AR58: Postbus 1003 3740 BA BAARN | AT58: OV | AU58: NL28BNGH0285000594 | AV58: 594 | AW58: D14 | AX58: 1M | BA58: Groep op factuurstrc | BC58: 44562 | BD58: 12M | BE58: Stedin Netbeheer Utrecht | BF58: 871687400000002254 | BG58: 0 | BJ58: 0 | BK58: Ja | BL58: Nee | BT58: 1
A59: K20014139 | B59: Gemeente Baarn | C59: 32167607 | D59: O32397362 | E59: Gemeentelijke gebouwen | F59: O32515446 | G59: O32519664 | H59: 871687400008886382 | I59: 44197 | J59: 44926 | K59: Ja | L59: Factureerbaar | M59: In bedrijf | N59: Javalaan | O59: 20 | P59: TO | Q59: 3742 CP | R59: Baarn | S59: E1B | T59: Elek | U59: Kleinverbruik | V59: JRL Jaarlijks | W59: Ja | X59: Administratief aan | Y59: Voorschotten toegelaten | Z59: E_DVK - Profielklik | AA59: 44566 | AB59: 1297 | AC59: 1061 | AG59: 0 | AH59: 1297 | AI59: 1061 | AJ59: 0 | AK59: 0 | AL59: 0 | AM59: FAS2735224 | AN59: KV | AO59: K20014139 | AP59: Gemeente Baarn | AQ59: Mevr C Bouwmeester | AR59: Postbus 1003 3740 BA BAARN | AT59: OV | AU59: NL28BNGH0285000594 | AV59: 594 | AW59: D14 | AX59: 3M | AZ59: VRI kast | BA59: Groep op factuurstrc | BB59: E0031003724947416 | BE59: Stedin Netbeheer Utrecht | BF59: 871687400000002254 | BG59: 0 | BH59: 8742030102119 | BI59: 3x25A | BJ59: 0 | BK59: Nee | BL59: Nee | BT59: 1
A60: K20014139 | B60: Gemeente Baarn | C60: 32167607 | D60: O32397362 | E60: Gemeentelijke gebouwen | F60: O32515446 | G60: O32519665 | H60: 871687400008907537 | I60: 44197 | J60: 44926 | K60: Ja | L60: Factureerbaar | M60: In bedrijf | N60: Prof Fockema Andreaeln | O60: 13 | P60: TO | Q60: 3741 EJ | R60: Baarn | S60: E2B | T60: Elek | U60: Kleinverbruik | V60: JRL Jaarlijks | W60: Ja | X60: Administratief aan | Y60: Voorschotten toegelaten | Z60: E_DVK - Profielklik | AA60: 44566 | AB60: 476 | AC60: 345 | AG60: 0 | AH60: 476 | AI60: 345 | AJ60: 0 | AK60: 0 | AL60: 0 | AM60: FAS2735224 | AN60: KV | AO60: K20014139 | AP60: Gemeente Baarn | AQ60: Mevr C Bouwmeester | AR60: Postbus 1003 3740 BA BAARN | AT60: OV | AU60: NL28BNGH0285000594 | AV60: 594 | AW60: D14 | AX60: 3M | BA60: Groep op factuurstrc | BB60: E0054008329681521 | BE60: Stedin Netbeheer Utrecht | BF60: 871687400000002254 | BG60: 0 | BH60: 8742030105110 | BI60: 3x63A | BJ60: 0 | BK60: Ja | BL60: Nee | BT60: 1
A61: K20014139 | B61: Gemeente Baarn | C61: 32167607 | D61: O32397362 | E61: Gemeentelijke gebouwen | F61: O32515446 | G61: O32519666 | H61: 871687400008954432 | I61: 44197 | J61: 44926 | K61: Ja | L61: Factureerbaar | M61: In bedrijf | N61: Pijnenburg | O61: 2 | P61: BIJ | Q61: 3744 BW | R61: Baarn | S61: E1B | T61: Elek | U61: Kleinverbruik | V61: JRL Jaarlijks | W61: Ja | X61: Administratief aan | Y61: Voorschotten toegelaten | Z61: E_DVK - Profielklik | AA61: 44567 | AB61: 307 | AC61: 288 | AG61: 0 | AH61: 307 | AI61: 288 | AJ61: 0 | AK61: 0 | AL61: 0 | AM61: FAS2735224 | AN61: KV | AO61: K20014139 | AP61: Gemeente Baarn | AQ61: Mevr C Bouwmeester | AR61: Postbus 1003 3740 BA BAARN | AT61: OV | AU61: NL28BNGH0285000594 | AV61: 594 | AW61: D14 | AX61: 3M | BA61: Groep op factuurstrc | BB61: E0060100001992020 | BE61: Stedin Netbeheer Utrecht | BF61: 871687400000002254 | BG61: 0 | BH61: 8742030102119 | BI61: 3x25A | BJ61: 0 | BK61: Ja | BL61: Nee | BT61: 1
A62: K20014139 | B62: Gemeente Baarn | C62: 32167607 | D62: O32397362 | E62: Gemeentelijke gebouwen | F62: O32515446 | G62: O32519667 | H62: 871687400008954449 | I62: 44197 | J62: 44926 | K62: Ja | L62: Factureerbaar | M62: In bedrijf | N62: Pijnenburg | O62: 7 | P62: BIJ | Q62: 3744 BW | R62: Baarn | S62: E1B | T62: Elek | U62: Kleinverbruik | V62: JRL Jaarlijks | W62: Ja | X62: Administratief aan | Y62: Voorschotten toegelaten | Z62: E_DVK - Profielklik | AA62: 44322 | AB62: 247 | AC62: 14 | AG62: 0 | AH62: 120 | AI62: 38 | AJ62: 0 | AK62: 0 | AL62: 0 | AM62: FAS2735224 | AN62: KV | AO62: K20014139 | AP62: Gemeente Baarn | AQ62: Mevr C Bouwmeester | AR62: Postbus 1003 3740 BA BAARN | AT62: OV | AU62: NL28BNGH0285000594 | AV62: 594 | AW62: D14 | AX62: 3M | BA62: Groep op factuurstrc | BB62: E0060100001992320 | BE62: Stedin Netbeheer Utrecht | BF62: 871687400000002254 | BG62: 0 | BH62: 8742030102119 | BI62: 3x25A | BJ62: 0 | BK62: Ja | BL62: Nee | BT62: 1
A63: K20014139 | B63: Gemeente Baarn | C63: 32167607 | D63: O32397362 | E63: Gemeentelijke gebouwen | F63: O32515446 | G63: O32519668 | H63: 871687400008954456 | I63: 44197 | J63: 44926 | K63: Ja | L63: Factureerbaar | M63: In bedrijf | N63: Torenlaan | O63: 88 | P63: BIJ | Q63: 3743 HH | R63: Baarn | S63: E1B | T63: Elek | U63: Kleinverbruik | V63: JRL Jaarlijks | W63: Ja | X63: Administratief aan | Y63: Voorschotten toegelaten | Z63: E_DVK - Profielklik | AA63: 44567 | AB63: 628 | AC63: 803 | AG63: 0 | AH63: 628 | AI63: 803 | AJ63: 0 | AK63: 0 | AL63: 0 | AM63: FAS2735224 | AN63: KV | AO63: K20014139 | AP63: Gemeente Baarn | AQ63: Mevr C Bouwmeester | AR63: Postbus 1003 3740 BA BAARN | AT63: OV | AU63: NL28BNGH0285000594 | AV63: 594 | AW63: D14 | AX63: 3M | BA63: Groep op factuurstrc | BB63: E0052004479582419 | BE63: Stedin Netbeheer Utrecht | BF63: 871687400000002254 | BG63: 0 | BH63: 8742030102119 | BI63: 3x25A | BJ63: 0 | BK63: Ja | BL63: Nee | BT63: 1
A64: K20014139 | B64: Gemeente Baarn | C64: 32167607 | D64: O32397362 | E64: Gemeentelijke gebouwen | F64: O32515446 | G64: O32519669 | H64: 871687400008954463 | I64: 44197 | J64: 44926 | K64: Ja | L64: Factureerbaar | M64: In bedrijf | N64: Biltseweg | O64: 2 | P64: AC | Q64: 3744 BV | R64: Baarn | S64: E1B | T64: Elek | U64: Kleinverbruik | V64: JRL Jaarlijks | W64: Ja | X64: Administratief aan | Y64: Voorschotten toegelaten | Z64: E_DVK - Profielklik | AA64: 44368 | AB64: 1624 | AC64: 299 | AG64: 0 | AH64: 919 | AI64: 1749 | AJ64: 0 | AK64: 0 | AL64: 0 | AM64: FAS2735224 | AN64: KV | AO64: K20014139 | AP64: Gemeente Baarn | AQ64: Mevr C Bouwmeester | AR64: Postbus 1003 3740 BA BAARN | AT64: OV | AU64: NL28BNGH0285000594 | AV64: 594 | AW64: D14 | AX64: 3M | BA64: Groep op factuurstrc | BB64: E0060100001989720 | BE64: Stedin Netbeheer Utrecht | BF64: 871687400000002254 | BG64: 0 | BH64: 8742030102119 | BI64: 3x25A | BJ64: 0 | BK64: Ja | BL64: Nee | BT64: 1
A65: K20014139 | B65: Gemeente Baarn | C65: 32167607 | D65: O32397362 | E65: Gemeentelijke gebouwen | F65: O32515446 | G65: O32519670 | H65: 871687400008960969 | I65: 44197 | J65: 44926 | K65: Ja | L65: Factureerbaar | M65: In bedrijf | N65: Pijnenburg | O65: 8 | P65: BIJ | Q65: 3744 BW | R65: Baarn | S65: E1B | T65: Elek | U65: Kleinverbruik | V65: JRL Jaarlijks | W65: Ja | X65: Administratief aan | Y65: Voorschotten toegelaten | Z65: E_DVK - Profielklik | AA65: 44567 | AB65: 354 | AC65: 399 | AG65: 0 | AH65: 347 | AI65: 390 | AJ65: 0 | AK65: 0 | AL65: 0 | AM65: FAS2735224 | AN65: KV | AO65: K20014139 | AP65: Gemeente Baarn | AQ65: Mevr C Bouwmeester | AR65: Postbus 1003 3740 BA BAARN | AT65: OV | AU65: NL28BNGH0285000594 | AV65: 594 | AW65: D14 | AX65: 3M | BA65: Groep op factuurstrc | BB65: E0060100001991820 | BE65: Stedin Netbeheer Utrecht | BF65: 871687400000002254 | BG65: 0 | BH65: 8742030102119 | BI65: 3x25A | BJ65: 0 | BK65: Ja | BL65: Nee | BT65: 1
A66: K20014139 | B66: Gemeente Baarn | C66: 32167607 | D66: O32397362 | E66: Gemeentelijke gebouwen | F66: O32515446 | G66: O32519671 | H66: 871687400009149387 | I66: 44197 | J66: 44926 | K66: Ja | L66: Factureerbaar | M66: In bedrijf | N66: Zevenlindenweg | O66: 6 | P66: GMA | Q66: 3744 BC | R66: Baarn | S66: E1B | T66: Elek | U66: Kleinverbruik | V66: JRL Jaarlijks | W66: Ja | X66: Administratief aan | Y66: Voorschotten toegelaten | Z66: E_DVK - Profielklik | AA66: 44566 | AB66: 618 | AC66: 552 | AG66: 0 | AH66: 618 | AI66: 552 | AJ66: 0 | AK66: 0 | AL66: 0 | AM66: FAS2735224 | AN66: KV | AO66: K20014139 | AP66: Gemeente Baarn | AQ66: Mevr C Bouwmeester | AR66: Postbus 1003 3740 BA BAARN | AT66: OV | AU66: NL28BNGH0285000594 | AV66: 594 | AW66: D14 | AX66: 3M | AZ66: Rioolpomp | BA66: Groep op factuurstrc | BB66: E0054007618878520 | BE66: Stedin Netbeheer Utrecht | BF66: 871687400000002254 | BG66: 0 | BH66: 8742030102119 | BI66: 3x25A | BJ66: 0 | BK66: Nee | BL66: Nee | BT66: 1
A67: K20014139 | B67: Gemeente Baarn | C67: 32167607 | D67: O32397362 | E67: Gemeentelijke gebouwen | F67: O32515446 | G67: O32519672 | H67: 871687400009164557 | I67: 44197 | J67: 44926 | K67: Ja | L67: Factureerbaar | M67: In bedrijf | N67: Oud-Eemnesserweg | O67: 3 | P67: BY | Q67: 3741 MP | R67: Baarn | S67: E1B | T67: Elek | U67: Kleinverbruik | V67: JRL Jaarlijks | W67: Ja | X67: Administratief aan | Y67: Voorschotten toegelaten | Z67: E_DVK - Profielklik | AA67: 44567 | AB67: 346 | AC67: 272 | AG67: 0 | AH67: 346 | AI67: 272 | AJ67: 0 | AK67: 0 | AL67: 0 | AM67: FAS2735224 | AN67: KV | AO67: K20014139 | AP67: Gemeente Baarn | AQ67: Mevr C Bouwmeester | AR67: Postbus 1003 3740 BA BAARN | AT67: OV | AU67: NL28BNGH0285000594 | AV67: 594 | AW67: D14 | AX67: 3M | BA67: Groep op factuurstrc | BB67: E0054007496536519 | BE67: Stedin Netbeheer Utrecht | BF67: 871687400000002254 | BG67: 0 | BH67: 8742030102119 | BI67: 3x25A | BJ67: 0 | BK67: Ja | BL67: Nee | BT67: 1
A68: K20014139 | B68: Gemeente Baarn | C68: 32167607 | D68: O32397362 | E68: Gemeentelijke gebouwen | F68: O32515446 | G68: O32519673 | H68: 871687400009164663 | I68: 44197 | J68: 44926 | K68: Ja | L68: Factureerbaar | M68: In bedrijf | N68: Karnemelksweg | O68: 1 | P68: BIJ | Q68: 3749 AH | R68: LAGE VUURSCHE | S68: E1B | T68: Elek | U68: Kleinverbruik | V68: JRL Jaarlijks | W68: Ja | X68: Administratief aan | Y68: Voorschotten toegelaten | Z68: E_DVK - Profielklik | AA68: 44197 | AB68: 2040 | AC68: 2355 | AD68: 0 | AE68: 0 | AG68: 0 | AH68: 2052 | AI68: 2368 | AJ68: 0 | AK68: 0 | AL68: 0 | AM68: FAS2735224 | AN68: KV | AO68: K20014139 | AP68: Gemeente Baarn | AQ68: Mevr C Bouwmeester | AR68: Postbus 1003 3740 BA BAARN | AT68: OV | AU68: NL28BNGH0285000594 | AV68: 594 | AW68: D14 | AX68: 3M | BA68: Groep op factuurstrc | BB68: E0060100001991920 | BE68: Stedin Netbeheer Utrecht | BF68: 871687400000002254 | BG68: 0 | BH68: 8742030102119 | BI68: 3x25A | BJ68: 0 | BK68: Ja | BL68: Nee | BT68: 1
A69: K20014139 | B69: Gemeente Baarn | C69: 32167607 | D69: O32397362 | E69: Gemeentelijke gebouwen | F69: O32515446 | G69: O32519674 | H69: 871687400009164687 | I69: 44197 | J69: 44926 | K69: Ja | L69: Factureerbaar | M69: In bedrijf | N69: Zandheuvelweg | O69: 5 | P69: BIJ | Q69: 3744 QQ | R69: Baarn | S69: E1B | T69: Elek | U69: Kleinverbruik | V69: JRL Jaarlijks | W69: Ja | X69: Administratief aan | Y69: Voorschotten toegelaten | Z69: E_DVK - Profielklik | AA69: 44567 | AB69: 349 | AC69: 336 | AG69: 0 | AH69: 349 | AI69: 336 | AJ69: 0 | AK69: 0 | AL69: 0 | AM69: FAS2735224 | AN69: KV | AO69: K20014139 | AP69: Gemeente Baarn | AQ69: Mevr C Bouwmeester | AR69: Postbus 1003 3740 BA BAARN | AT69: OV | AU69: NL28BNGH0285000594 | AV69: 594 | AW69: D14 | AX69: 3M | BA69: Groep op factuurstrc | BB69: E0060100002073520 | BE69: Stedin Netbeheer Utrecht | BF69: 871687400000002254 | BG69: 0 | BH69: 8742030102119 | BI69: 3x25A | BJ69: 0 | BK69: Ja | BL69: Nee | BT69: 1
A70: K20014139 | B70: Gemeente Baarn | C70: 32167607 | D70: O32397362 | E70: Gemeentelijke gebouwen | F70: O32515446 | G70: O32519675 | H70: 871687400009164700 | I70: 44197 | J70: 44926 | K70: Ja | L70: Factureerbaar | M70: In bedrijf | N70: Wildenburglaan | O70: 4 | P70: T/O | Q70: 3744 MK | R70: Baarn | S70: E1B | T70: Elek | U70: Kleinverbruik | V70: JRL Jaarlijks | W70: Ja | X70: Administratief aan | Y70: Voorschotten toegelaten | Z70: E_DVK - Profielklik | AA70: 44566 | AB70: 179 | AC70: 209 | AG70: 0 | AH70: 179 | AI70: 209 | AJ70: 0 | AK70: 0 | AL70: 0 | AM70: FAS2735224 | AN70: KV | AO70: K20014139 | AP70: Gemeente Baarn | AQ70: Mevr C Bouwmeester | AR70: Postbus 1003 3740 BA BAARN | AT70: OV | AU70: NL28BNGH0285000594 | AV70: 594 | AW70: D14 | AX70: 3M | BA70: Groep op factuurstrc | BB70: E0054007496537319 | BE70: Stedin Netbeheer Utrecht | BF70: 871687400000002254 | BG70: 0 | BH70: 8742030102119 | BI70: 3x25A | BJ70: 0 | BK70: Ja | BL70: Nee | BT70: 1
A71: K20014139 | B71: Gemeente Baarn | C71: 32167607 | D71: O32397362 | E71: Gemeentelijke gebouwen | F71: O32515446 | G71: O32519676 | H71: 871687400009164717 | I71: 44197 | J71: 44926 | K71: Ja | L71: Factureerbaar | M71: In bedrijf | N71: Dr Albert Schweitzerwg | O71: 7 | P71: T/O | Q71: 3744 MG | R71: Baarn | S71: E1B | T71: Elek | U71: Kleinverbruik | V71: JRL Jaarlijks | W71: Ja | X71: Administratief aan | Y71: Voorschotten toegelaten | Z71: E_DVK - Profielklik | AA71: 44567 | AB71: 91 | AC71: 55 | AG71: 0 | AH71: 91 | AI71: 55 | AJ71: 0 | AK71: 0 | AL71: 0 | AM71: FAS2735224 | AN71: KV | AO71: K20014139 | AP71: Gemeente Baarn | AQ71: Mevr C Bouwmeester | AR71: Postbus 1003 3740 BA BAARN | AT71: OV | AU71: NL28BNGH0285000594 | AV71: 594 | AW71: D14 | AX71: 3M | BA71: Groep op factuurstrc | BB71: E0054007496535619 | BE71: Stedin Netbeheer Utrecht | BF71: 871687400000002254 | BG71: 0 | BH71: 8742030102119 | BI71: 3x25A | BJ71: 0 | BK71: Ja | BL71: Nee | BT71: 1
A72: K20014139 | B72: Gemeente Baarn | C72: 32167607 | D72: O32397362 | E72: Gemeentelijke gebouwen | F72: O32515446 | G72: O32519677 | H72: 871687400009164724 | I72: 44197 | J72: 44926 | K72: Ja | L72: Factureerbaar | M72: In bedrijf | N72: Groeneveld | O72: 5 | P72: NST | Q72: 3744 ML | R72: Baarn | S72: E1B | T72: Elek | U72: Kleinverbruik | V72: JRL Jaarlijks | W72: Ja | X72: Administratief aan | Y72: Voorschotten toegelaten | Z72: E_DVK - Profielklik | AA72: 44567 | AB72: 437 | AC72: 472 | AG72: 0 | AH72: 437 | AI72: 472 | AJ72: 0 | AK72: 0 | AL72: 0 | AM72: FAS2735224 | AN72: KV | AO72: K20014139 | AP72: Gemeente Baarn | AQ72: Mevr C Bouwmeester | AR72: Postbus 1003 3740 BA BAARN | AT72: OV | AU72: NL28BNGH0285000594 | AV72: 594 | AW72: D14 | AX72: 3M | BA72: Groep op factuurstrc | BB72: E0060100002190120 | BE72: Stedin Netbeheer Utrecht | BF72: 871687400000002254 | BG72: 0 | BH72: 8742030102119 | BI72: 3x25A | BJ72: 0 | BK72: Ja | BL72: Nee | BT72: 1
A73: K20014139 | B73: Gemeente Baarn | C73: 32167607 | D73: O32397362 | E73: Gemeentelijke gebouwen | F73: O32515446 | G73: O32519678 | H73: 871687400009238005 | I73: 44197 | J73: 44926 | K73: Ja | L73: Factureerbaar | M73: In bedrijf | N73: Eemdijk | O73: 2 | P73: NST | Q73: 3741 LJ | R73: Baarn | S73: E1B | T73: Elek | U73: Kleinverbruik | V73: JRL Jaarlijks | W73: Ja | X73: Administratief aan | Y73: Voorschotten toegelaten | Z73: E_DVK - Profielklik | AA73: 44567 | AB73: 94 | AC73: 103 | AG73: 0 | AH73: 94 | AI73: 103 | AJ73: 0 | AK73: 0 | AL73: 0 | AM73: FAS2735224 | AN73: KV | AO73: K20014139 | AP73: Gemeente Baarn | AQ73: Mevr C Bouwmeester | AR73: Postbus 1003 3740 BA BAARN | AT73: OV | AU73: NL28BNGH0285000594 | AV73: 594 | AW73: D14 | AX73: 3M | BA73: Groep op factuurstrc | BB73: E0060100002421420 | BE73: Stedin Netbeheer Utrecht | BF73: 871687400000002254 | BG73: 0 | BH73: 8742030102119 | BI73: 3x25A | BJ73: 0 | BK73: Ja | BL73: Nee | BT73: 1
A74: K20014139 | B74: Gemeente Baarn | C74: 32167607 | D74: O32397362 | E74: Gemeentelijke gebouwen | F74: O32515446 | G74: O32519679 | H74: 871687400009238395 | I74: 44197 | J74: 44926 | K74: Ja | L74: Factureerbaar | M74: In bedrijf | N74: Ravensteinselaan | O74: 1 | P74: BIJ | Q74: 3744 MJ | R74: Baarn | S74: E1B | T74: Elek | U74: Kleinverbruik | V74: JRL Jaarlijks | W74: Ja | X74: Administratief aan | Y74: Voorschotten toegelaten | Z74: E_DVK - Profielklik | AA74: 44567 | AB74: 983 | AC74: 667 | AG74: 0 | AH74: 983 | AI74: 667 | AJ74: 0 | AK74: 0 | AL74: 0 | AM74: FAS2735224 | AN74: KV | AO74: K20014139 | AP74: Gemeente Baarn | AQ74: Mevr C Bouwmeester | AR74: Postbus 1003 3740 BA BAARN | AT74: OV | AU74: NL28BNGH0285000594 | AV74: 594 | AW74: D14 | AX74: 3M | BA74: Groep op factuurstrc | BB74: E0060100002190220 | BE74: Stedin Netbeheer Utrecht | BF74: 871687400000002254 | BG74: 0 | BH74: 8742030102119 | BI74: 3x25A | BJ74: 0 | BK74: Ja | BL74: Nee | BT74: 1
A75: K20014139 | B75: Gemeente Baarn | C75: 32167607 | D75: O32397362 | E75: Gemeentelijke gebouwen | F75: O32515446 | G75: O32519680 | H75: 871687400009239804 | I75: 44197 | J75: 44926 | K75: Ja | L75: Factureerbaar | M75: In bedrijf | N75: Koudelaan | O75: 14 | P75: NST | Q75: 3749 AM | R75: LAGE VUURSCHE | S75: E1B | T75: Elek | U75: Kleinverbruik | V75: JRL Jaarlijks | W75: Ja | X75: Administratief aan | Y75: Voorschotten toegelaten | Z75: E_DVK - Profielklik | AA75: 44567 | AB75: 59 | AC75: 62 | AG75: 0 | AH75: 59 | AI75: 62 | AJ75: 0 | AK75: 0 | AL75: 0 | AM75: FAS2735224 | AN75: KV | AO75: K20014139 | AP75: Gemeente Baarn | AQ75: Mevr C Bouwmeester | AR75: Postbus 1003 3740 BA BAARN | AT75: OV | AU75: NL28BNGH0285000594 | AV75: 594 | AW75: D14 | AX75: 3M | AZ75: Rioolpomp | BA75: Groep op factuurstrc | BB75: E0060100001991420 | BE75: Stedin Netbeheer Utrecht | BF75: 871687400000002254 | BG75: 0 | BH75: 8742030102119 | BI75: 3x25A | BJ75: 0 | BK75: Nee | BL75: Nee | BT75: 1
A76: K20014139 | B76: Gemeente Baarn | C76: 32167607 | D76: O32397362 | E76: Gemeentelijke gebouwen | F76: O32515446 | G76: O32519681 | H76: 871687400009239811 | I76: 44197 | J76: 44926 | K76: Ja | L76: Factureerbaar | M76: In bedrijf | N76: Zwarteweg | O76: 3 | P76: NST | Q76: 3749 AT | R76: LAGE VUURSCHE | S76: E1B | T76: Elek | U76: Kleinverbruik | V76: JRL Jaarlijks | W76: Ja | X76: Administratief aan | Y76: Voorschotten toegelaten | Z76: E_DVK - Profielklik | AA76: 44655 | AB76: 63 | AC76: 168 | AG76: 0 | AH76: 64 | AI76: 169 | AJ76: 0 | AK76: 0 | AL76: 0 | AM76: FAS2735224 | AN76: KV | AO76: K20014139 | AP76: Gemeente Baarn | AQ76: Mevr C Bouwmeester | AR76: Postbus 1003 3740 BA BAARN | AT76: OV | AU76: NL28BNGH0285000594 | AV76: 594 | AW76: D14 | AX76: 3M | AZ76: Rioolpomp | BA76: Groep op factuurstrc | BB76: E0060100002004620 | BE76: Stedin Netbeheer Utrecht | BF76: 871687400000002254 | BG76: 0 | BH76: 8742030102119 | BI76: 3x25A | BJ76: 0 | BK76: Nee | BL76: Nee | BT76: 1
A77: K20014139 | B77: Gemeente Baarn | C77: 32167607 | D77: O32397362 | E77: Gemeentelijke gebouwen | F77: O32515446 | G77: O32519682 | H77: 871687400009239828 | I77: 44197 | J77: 44926 | K77: Ja | L77: Factureerbaar | M77: In bedrijf | N77: Amsterdamsestraatweg | O77: 31 | P77: NST | Q77: 3744 MA | R77: Baarn | S77: E1B | T77: Elek | U77: Kleinverbruik | V77: JRL Jaarlijks | W77: Ja | X77: Administratief aan | Y77: Voorschotten toegelaten | Z77: E_DVK - Profielklik | AA77: 44566 | AB77: 73 | AC77: 65 | AG77: 0 | AH77: 73 | AI77: 65 | AJ77: 0 | AK77: 0 | AL77: 0 | AM77: FAS2735224 | AN77: KV | AO77: K20014139 | AP77: Gemeente Baarn | AQ77: Mevr C Bouwmeester | AR77: Postbus 1003 3740 BA BAARN | AT77: OV | AU77: NL28BNGH0285000594 | AV77: 594 | AW77: D14 | AX77: 3M | AZ77: Rioolpomp hoek Hilversumsestr.weg | BA77: Groep op factuurstrc | BB77: E0054007618878720 | BE77: Stedin Netbeheer Utrecht | BF77: 871687400000002254 | BG77: 0 | BH77: 8742030102119 | BI77: 3x25A | BJ77: 0 | BK77: Nee | BL77: Nee | BT77: 1
A78: K20014139 | B78: Gemeente Baarn | C78: 32167607 | D78: O32397362 | E78: Gemeentelijke gebouwen | F78: O32515446 | G78: O32519683 | H78: 871687400009248158 | I78: 44197 | J78: 44926 | K78: Ja | L78: Factureerbaar | M78: In bedrijf | N78: Ocrieteiland | O78: 1 | P78: BIJ | Q78: 3741 LD | R78: Baarn | S78: E1B | T78: Elek | U78: Kleinverbruik | V78: JRL Jaarlijks | W78: Ja | X78: Administratief aan | Y78: Voorschotten toegelaten | Z78: E_DVK - Profielklik | AA78: 44566 | AB78: 41 | AC78: 45 | AG78: 0 | AH78: 41 | AI78: 45 | AJ78: 0 | AK78: 0 | AL78: 0 | AM78: FAS2735224 | AN78: KV | AO78: K20014139 | AP78: Gemeente Baarn | AQ78: Mevr C Bouwmeester | AR78: Postbus 1003 3740 BA BAARN | AT78: OV | AU78: NL28BNGH0285000594 | AV78: 594 | AW78: D14 | AX78: 3M | AZ78: rioolgemaal | BA78: Groep op factuurstrc | BB78: E0054007560768319 | BE78: Stedin Netbeheer Utrecht | BF78: 871687400000002254 | BG78: 0 | BH78: 8742030102119 | BI78: 3x25A | BJ78: 0 | BK78: Nee | BL78: Nee | BT78: 1
A79: K20014139 | B79: Gemeente Baarn | C79: 32167607 | D79: O32397362 | E79: Gemeentelijke gebouwen | F79: O32515446 | G79: O32519684 | H79: 871687400009257525 | I79: 44197 | J79: 44926 | K79: Ja | L79: Factureerbaar | M79: In bedrijf | N79: Faas Eliaslaan | O79: 47 | P79: NST | Q79: 3742 AS | R79: Baarn | S79: E1B | T79: Elek | U79: Kleinverbruik | V79: JRL Jaarlijks | W79: Ja | X79: Administratief aan | Y79: Voorschotten toegelaten | Z79: E_DVK - Profielklik | AA79: 44447 | AB79: 15 | AC79: 14 | AG79: 0 | AH79: 20 | AI79: 17 | AJ79: 0 | AK79: 0 | AL79: 0 | AM79: FAS2735224 | AN79: KV | AO79: K20014139 | AP79: Gemeente Baarn | AQ79: Mevr C Bouwmeester | AR79: Postbus 1003 3740 BA BAARN | AT79: OV | AU79: NL28BNGH0285000594 | AV79: 594 | AW79: D14 | AX79: 3M | AZ79: Kast t.b.v. toegangshek | BA79: Groep op factuurstrc | BB79: E0054008329681321 | BE79: Stedin Netbeheer Utrecht | BF79: 871687400000002254 | BG79: 0 | BH79: 8742030102119 | BI79: 3x25A | BJ79: 0 | BK79: Nee | BL79: Nee | BT79: 1
A80: K20014139 | B80: Gemeente Baarn | C80: 32167607 | D80: O32397362 | E80: Gemeentelijke gebouwen | F80: O32515446 | G80: O32519685 | H80: 871687400009270067 | I80: 44197 | J80: 44926 | K80: Ja | L80: Factureerbaar | M80: In bedrijf | N80: Bosbadlaan | O80: 4 | P80: BIJ | Q80: 3744 KD | R80: Baarn | S80: E2B | T80: Elek | U80: Kleinverbruik | V80: JRL Jaarlijks | W80: Ja | X80: Administratief aan | Y80: Voorschotten toegelaten | Z80: E_DVK - Profielklik | AA80: 44567 | AB80: 1486 | AC80: 1145 | AG80: 0 | AH80: 1486 | AI80: 1145 | AJ80: 0 | AK80: 0 | AL80: 0 | AM80: FAS2735224 | AN80: KV | AO80: K20014139 | AP80: Gemeente Baarn | AQ80: Mevr C Bouwmeester | AR80: Postbus 1003 3740 BA BAARN | AT80: OV | AU80: NL28BNGH0285000594 | AV80: 594 | AW80: D14 | AX80: 3M | AZ80: rioolgemaal | BA80: Groep op factuurstrc | BB80: E0054007496537419 | BE80: Stedin Netbeheer Utrecht | BF80: 871687400000002254 | BG80: 0 | BH80: 8742030103116 | BI80: 3x35A | BJ80: 0 | BK80: Nee | BL80: Nee | BT80: 1
A81: K20014139 | B81: Gemeente Baarn | C81: 32167607 | D81: O32397362 | E81: Gemeentelijke gebouwen | F81: O32515446 | G81: O32519686 | H81: 871687400009278971 | I81: 44197 | J81: 44926 | K81: Ja | L81: Factureerbaar | M81: In bedrijf | N81: 300 Roedenlaan | O81: 2 | P81: T/O | Q81: 3439 AP | R81: LAGE VUURSCHE | S81: E1B | T81: Elek | U81: Kleinverbruik | V81: JRL Jaarlijks | W81: Ja | X81: Administratief aan | Y81: Voorschotten toegelaten | Z81: E_DVK - Profielklik | AA81: 44567 | AB81: 247 | AC81: 303 | AG81: 0 | AH81: 247 | AI81: 303 | AJ81: 0 | AK81: 0 | AL81: 0 | AM81: FAS2735224 | AN81: KV | AO81: K20014139 | AP81: Gemeente Baarn | AQ81: Mevr C Bouwmeester | AR81: Postbus 1003 3740 BA BAARN | AT81: OV | AU81: NL28BNGH0285000594 | AV81: 594 | AW81: D14 | AX81: 3M | AZ81: Rioolpomp | BA81: Groep op factuurstrc | BB81: E0060100000638619 | BE81: Stedin Netbeheer Utrecht | BF81: 871687400000002254 | BG81: 0 | BH81: 8742030102119 | BI81: 3x25A | BJ81: 0 | BK81: Nee | BL81: Nee | BT81: 1
A82: K20014139 | B82: Gemeente Baarn | C82: 32167607 | D82: O32397362 | E82: Gemeentelijke gebouwen | F82: O32515446 | G82: O32519687 | H82: 871687400009289465 | I82: 44197 | J82: 44926 | K82: Ja | L82: Factureerbaar | M82: In bedrijf | N82: Drakenburgerweg | O82: 137 | P82: T/O | Q82: 3741 GM | R82: Baarn | S82: E1B | T82: Elek | U82: Kleinverbruik | V82: JRL Jaarlijks | W82: Ja | X82: Administratief aan | Y82: Voorschotten toegelaten | Z82: E_DVK - Profielklik | AA82: 44567 | AB82: 1548 | AC82: 1432 | AG82: 0 | AH82: 1548 | AI82: 1432 | AJ82: 0 | AK82: 0 | AL82: 0 | AM82: FAS2735224 | AN82: KV | AO82: K20014139 | AP82: Gemeente Baarn | AQ82: Mevr C Bouwmeester | AR82: Postbus 1003 3740 BA BAARN | AT82: OV | AU82: NL28BNGH0285000594 | AV82: 594 | AW82: D14 | AX82: 3M | AZ82: rioolgemaal | BA82: Groep op factuurstrc | BB82: E0060100002073620 | BE82: Stedin Netbeheer Utrecht | BF82: 871687400000002254 | BG82: 0 | BH82: 8742030102119 | BI82: 3x25A | BJ82: 0 | BK82: Nee | BL82: Nee | BT82: 1
A83: K20014139 | B83: Gemeente Baarn | C83: 32167607 | D83: O32397362 | E83: Gemeentelijke gebouwen | F83: O32515446 | G83: O32519688 | H83: 871687400009913094 | I83: 44197 | J83: 44926 | K83: Ja | L83: Factureerbaar | M83: In bedrijf | N83: Brink | O83: 16 | P83: T/O | Q83: 3741 AL | R83: Baarn | S83: E1B | T83: Elek | U83: Kleinverbruik | V83: JRL Jaarlijks | W83: Ja | X83: Administratief aan | Y83: Voorschotten toegelaten | Z83: E_DVK - Profielklik | AA83: 44368 | AB83: 3454 | AC83: 82 | AG83: 0 | AH83: 6321 | AI83: 194 | AJ83: 0 | AK83: 0 | AL83: 0 | AM83: FAS2735224 | AN83: KV | AO83: K20014139 | AP83: Gemeente Baarn | AQ83: Mevr C Bouwmeester | AR83: Postbus 1003 3740 BA BAARN | AT83: OV | AU83: NL28BNGH0285000594 | AV83: 594 | AW83: D14 | AX83: 3M | AZ83: Marktputkast nr. 1 | BA83: Groep op factuurstrc | BB83: E0054007601857020 | BE83: Stedin Netbeheer Utrecht | BF83: 871687400000002254 | BG83: 0 | BH83: 8742030102119 | BI83: 3x25A | BJ83: 0 | BK83: Nee | BL83: Nee | BT83: 1
A84: K20014139 | B84: Gemeente Baarn | C84: 32167607 | D84: O32397362 | E84: Gemeentelijke gebouwen | F84: O32515446 | G84: O32519689 | H84: 871687400009913100 | I84: 44197 | J84: 44926 | K84: Ja | L84: Factureerbaar | M84: In bedrijf | N84: Brink | O84: 18 | P84: T/O | Q84: 3741 AL | R84: Baarn | S84: E2B | T84: Elek | U84: Kleinverbruik | V84: JRL Jaarlijks | W84: Ja | X84: Administratief aan | Y84: Voorschotten toegelaten | Z84: E_DVK - Profielklik | AA84: 44566 | AB84: 4524 | AC84: 2787 | AG84: 0 | AH84: 4524 | AI84: 2787 | AJ84: 0 | AK84: 0 | AL84: 0 | AM84: FAS2735224 | AN84: KV | AO84: K20014139 | AP84: Gemeente Baarn | AQ84: Mevr C Bouwmeester | AR84: Postbus 1003 3740 BA BAARN | AT84: OV | AU84: NL28BNGH0285000594 | AV84: 594 | AW84: D14 | AX84: 3M | AZ84: Marktputkast nr. 2 | BA84: Groep op factuurstrc | BB84: E0054007601856820 | BE84: Stedin Netbeheer Utrecht | BF84: 871687400000002254 | BG84: 0 | BH84: 8742030105110 | BI84: 3x63A | BJ84: 0 | BK84: Nee | BL84: Nee | BT84: 1
A85: K20014139 | B85: Gemeente Baarn | C85: 32167607 | D85: O32397362 | E85: Gemeentelijke gebouwen | F85: O32515446 | G85: O32519690 | H85: 871687400009913117 | I85: 44197 | J85: 44926 | K85: Ja | L85: Factureerbaar | M85: In bedrijf | N85: Brink | O85: 22 | P85: T/O | Q85: 3741 AL | R85: Baarn | S85: E2B | T85: Elek | U85: Kleinverbruik | V85: JRL Jaarlijks | W85: Ja | X85: Administratief aan | Y85: Voorschotten toegelaten | Z85: E_DVK - Profielklik | AA85: 44662 | AB85: 5709 | AC85: 46 | AG85: 0 | AH85: 6080 | AI85: 327 | AJ85: 0 | AK85: 0 | AL85: 0 | AM85: FAS2735224 | AN85: KV | AO85: K20014139 | AP85: Gemeente Baarn | AQ85: Mevr C Bouwmeester | AR85: Postbus 1003 3740 BA BAARN | AT85: OV | AU85: NL28BNGH0285000594 | AV85: 594 | AW85: D14 | AX85: 3M | AZ85: Marktputkast nr. 3 | BA85: Groep op factuurstrc | BB85: E0054007601856720 | BE85: Stedin Netbeheer Utrecht | BF85: 871687400000002254 | BG85: 0 | BH85: 8742030105110 | BI85: 3x63A | BJ85: 0 | BK85: Nee | BL85: Nee | BT85: 1
A86: K20014139 | B86: Gemeente Baarn | C86: 32167607 | D86: O32397362 | E86: Gemeentelijke gebouwen | F86: O32515446 | G86: O32519691 | H86: 871687400009913124 | I86: 44197 | J86: 44926 | K86: Ja | L86: Factureerbaar | M86: In bedrijf | N86: Brink | O86: 24 | P86: T/O | Q86: 3741 AL | R86: Baarn | S86: E2B | T86: Elek | U86: Kleinverbruik | V86: JRL Jaarlijks | W86: Ja | X86: Administratief aan | Y86: Voorschotten toegelaten | Z86: E_DVK - Profielklik | AA86: 44197 | AB86: 5056 | AC86: 0 | AD86: 0 | AE86: 0 | AG86: 0 | AH86: 5085 | AI86: 0 | AJ86: 0 | AK86: 0 | AL86: 0 | AM86: FAS2735224 | AN86: KV | AO86: K20014139 | AP86: Gemeente Baarn | AQ86: Mevr C Bouwmeester | AR86: Postbus 1003 3740 BA BAARN | AT86: OV | AU86: NL28BNGH0285000594 | AV86: 594 | AW86: D14 | AX86: 3M | AZ86: Marktputkast nr. 4 | BA86: Groep op factuurstrc | BB86: E0054007601856220 | BE86: Stedin Netbeheer Utrecht | BF86: 871687400000002254 | BG86: 0 | BH86: 8742030104113 | BI86: 3x50A | BJ86: 0 | BK86: Nee | BL86: Nee | BT86: 1
A87: K20014139 | B87: Gemeente Baarn | C87: 32167607 | D87: O32397362 | E87: Gemeentelijke gebouwen | F87: O32515446 | G87: O32519692 | H87: 871687400009963945 | I87: 44197 | J87: 44926 | K87: Ja | L87: Factureerbaar | M87: In bedrijf | N87: De Geerenweg | O87: 8 | P87: NST | Q87: 3741 RS | R87: Baarn | S87: E1B | T87: Elek | U87: Kleinverbruik | V87: JRL Jaarlijks | W87: Ja | X87: Administratief aan | Y87: Voorschotten toegelaten | Z87: E_DVK - Profielklik | AA87: 44565 | AB87: 666 | AC87: 414 | AG87: 0 | AH87: 666 | AI87: 414 | AJ87: 0 | AK87: 0 | AL87: 0 | AM87: FAS2735224 | AN87: KV | AO87: K20014139 | AP87: Gemeente Baarn | AQ87: Mevr C Bouwmeester | AR87: Postbus 1003 3740 BA BAARN | AT87: OV | AU87: NL28BNGH0285000594 | AV87: 594 | AW87: D14 | AX87: 3M | AZ87: VRI KAST - Gemeente Baarn | BA87: Groep op factuurstrc | BB87: 90319902 | BE87: Stedin Netbeheer Utrecht | BF87: 871687400000002254 | BG87: 0 | BH87: 8742030102119 | BI87: 3x25A | BJ87: 0 | BK87: Nee | BL87: Nee | BT87: 1
A88: K20014139 | B88: Gemeente Baarn | C88: 32167607 | D88: O32397362 | E88: Gemeentelijke gebouwen | F88: O32515446 | G88: O32519693 | H88: 871687400010092078 | I88: 44197 | J88: 44926 | K88: Ja | L88: Factureerbaar | M88: In bedrijf | N88: Torenlaan | O88: 88 | P88: VRI | Q88: 3743 HJ | R88: Baarn | S88: E1B | T88: Elek | U88: Kleinverbruik | V88: JRL Jaarlijks | W88: Ja | X88: Administratief aan | Y88: Voorschotten toegelaten | Z88: E_DVK - Profielklik | AA88: 44567 | AB88: 426 | AC88: 408 | AG88: 0 | AH88: 429 | AI88: 415 | AJ88: 0 | AK88: 0 | AL88: 0 | AM88: FAS2735224 | AN88: KV | AO88: K20014139 | AP88: Gemeente Baarn | AQ88: Mevr C Bouwmeester | AR88: Postbus 1003 3740 BA BAARN | AT88: OV | AU88: NL28BNGH0285000594 | AV88: 594 | AW88: D14 | AX88: 3M | AZ88: VRI KAST - Gemeente Baarn | BA88: Groep op factuurstrc | BB88: E0051004431121818 | BE88: Stedin Netbeheer Utrecht | BF88: 871687400000002254 | BG88: 0 | BH88: 8742030102119 | BI88: 3x25A | BJ88: 0 | BK88: Nee | BL88: Nee | BT88: 1
A89: K20014139 | B89: Gemeente Baarn | C89: 32167607 | D89: O32397362 | E89: Gemeentelijke gebouwen | F89: O32515446 | G89: O32519694 | H89: 871687400010112943 | I89: 44197 | J89: 44926 | K89: Ja | L89: Factureerbaar | M89: In bedrijf | N89: Torenlaan | O89: 77 | P89: NABY | Q89: 3742 CS | R89: Baarn | S89: E1B | T89: Elek | U89: Kleinverbruik | V89: JRL Jaarlijks | W89: Ja | X89: Administratief aan | Y89: Voorschotten toegelaten | Z89: E_DVK - Profielklik | AA89: 44567 | AB89: 171 | AC89: 136 | AG89: 0 | AH89: 149 | AI89: 142 | AJ89: 0 | AK89: 0 | AL89: 0 | AM89: FAS2735224 | AN89: KV | AO89: K20014139 | AP89: Gemeente Baarn | AQ89: Mevr C Bouwmeester | AR89: Postbus 1003 3740 BA BAARN | AT89: OV | AU89: NL28BNGH0285000594 | AV89: 594 | AW89: D14 | AX89: 3M | AZ89: rioolgemaal | BA89: Groep op factuurstrc | BB89: E0054007824772821 | BE89: Stedin Netbeheer Utrecht | BF89: 871687400000002254 | BG89: 0 | BH89: 8742030102119 | BI89: 3x25A | BJ89: 0 | BK89: Nee | BL89: Nee | BT89: 1
A90: K20014139 | B90: Gemeente Baarn | C90: 32167607 | D90: O32397362 | E90: Gemeentelijke gebouwen | F90: O32515446 | G90: O32859522 | H90: 871687460008183676 | I90: 44562 | J90: 44926 | K90: Ja | L90: Factureerbaar | M90: In bedrijf | N90: Stationsweg | O90: 18 | Q90: 3743 EN | R90: Baarn | S90: E4A | T90: Elek | U90: Artikel 1 lid 2 of lid 3 | V90: AND Anders bemeten | W90: Nee | Y90: Voorschotten toegelaten | Z90: E_DVK - Profielklik | AA90: 44562 | AB90: 117482 | AC90: 367588 | AD90: 0 | AE90: 0 | AG90: 0 | AH90: 118373 | AI90: 364858 | AJ90: 0 | AK90: 0 | AL90: 0 | AM90: FAS3455413 | AN90: openbare verlichting | AO90: K20014139 | AP90: Gemeente Baarn | AQ90: Mevr C Bouwmeester | AR90: Postbus 1003 3740 BA BAARN | AT90: OV | AU90: NL28BNGH0285000594 | AV90: 594 | AW90: D14 | AX90: 3M | AY90: openbare verlichting | AZ90: Baarn | BA90: Groep op factuurstrc | BE90: Stedin Netbeheer Utrecht | BF90: 871687400000002254 | BG90: 0 | BJ90: 0 | BK90: Nee | BL90: Ja | BT90: 1
A91: K20014139 | B91: Gemeente Baarn | C91: 32167607 | D91: O32397362 | E91: Gemeentelijke gebouwen | F91: O32515446 | G91: O32859527 | H91: 871687460008191633 | I91: 44562 | J91: 44926 | K91: Ja | L91: Factureerbaar | M91: In bedrijf | N91: Stationsweg | O91: 18 | Q91: 3743 EN | R91: Baarn | S91: E4A | T91: Elek | U91: Artikel 1 lid 2 of lid 3 | V91: AND Anders bemeten | W91: Nee | Y91: Voorschotten toegelaten | Z91: E_DVK - Profielklik | AA91: 44562 | AB91: 1910 | AC91: 6036 | AD91: 0 | AE91: 0 | AG91: 0 | AH91: 1916 | AI91: 5998 | AJ91: 0 | AK91: 0 | AL91: 0 | AM91: FAS3455418 | AN91: openbare verlichting | AO91: K20014139 | AP91: Gemeente Baarn | AQ91: Mevr C Bouwmeester | AR91: Postbus 1003 3740 BA BAARN | AT91: OV | AU91: NL28BNGH0285000594 | AV91: 594 | AW91: D14 | AX91: 3M | AY91: openbare verlichting | AZ91: Baarn | BA91: Groep op factuurstrc | BE91: Stedin Netbeheer Utrecht | BF91: 871687400000002254 | BG91: 0 | BJ91: 0 | BK91: Nee | BL91: Ja | BT91: 1
A92: K20014139 | B92: Gemeente Baarn | C92: 32167607 | D92: O32397362 | E92: Gemeentelijke gebouwen | F92: O32515446 | G92: O32519695 | H92: 871687460009124852 | I92: 44197 | J92: 44926 | K92: Ja | L92: Factureerbaar | M92: In bedrijf | N92: OUDE AMSTERDAMSESTRWG | O92: 4 | Q92: 3741 MR | R92: Baarn | S92: E2B | T92: Elek | U92: Kleinverbruik | V92: JRL Jaarlijks | W92: Ja | X92: Administratief aan | Y92: Voorschotten toegelaten | Z92: E_DVK - Profielklik | AA92: 44566 | AB92: 19759 | AC92: 14881 | AG92: 0 | AH92: 19759 | AI92: 14881 | AJ92: 0 | AK92: 0 | AL92: 0 | AM92: FAS2735224 | AN92: KV | AO92: K20014139 | AP92: Gemeente Baarn | AQ92: Mevr C Bouwmeester | AR92: Postbus 1003 3740 BA BAARN | AT92: OV | AU92: NL28BNGH0285000594 | AV92: 594 | AW92: D14 | AX92: 3M | BA92: Groep op factuurstrc | BB92: E0003300005129214 | BE92: Stedin Netbeheer Utrecht | BF92: 871687400000002254 | BG92: 0 | BH92: 8742030106117 | BI92: 3x80A | BJ92: 0 | BK92: Ja | BL92: Nee | BT92: 1
A93: K20014139 | B93: Gemeente Baarn | C93: 32167607 | D93: O32397362 | E93: Gemeentelijke gebouwen | F93: O32515446 | G93: O32519696 | H93: 871687460009638076 | I93: 44197 | J93: 44926 | K93: Ja | L93: Factureerbaar | M93: In bedrijf | N93: Stationsweg | O93: 39 | P93: AC | Q93: 3743 EM | R93: Baarn | T93: Elek | U93: Grootverbruik | V93: TMT Telemetrie | W93: Nee | Y93: Enkel afrekeningen | Z93: E_DVK - Profielklik | AA93: 44656 | AB93: 284 | AC93: 446 | AG93: 147 | AH93: 110 | AI93: 192 | AJ93: 0 | AK93: 0 | AL93: 0 | AM93: FAS2735225 | AN93: GV | AO93: K20014139 | AP93: Gemeente Baarn | AQ93: Mevr C Bouwmeester | AR93: Postbus 1003 3740 BA BAARN | AT93: OV | AU93: NL28BNGH0285000594 | AV93: 594 | AW93: D14 | AX93: 1M | BA93: Groep op factuurstrc | BC93: 44562 | BD93: 12M | BE93: Stedin Netbeheer Utrecht | BF93: 871687400000002254 | BG93: 0 | BJ93: 0 | BK93: Ja | BL93: Nee | BT93: 1
A94: K20014139 | B94: Gemeente Baarn | C94: 32167607 | D94: O32397362 | E94: Gemeentelijke gebouwen | F94: O32515446 | G94: O32519697 | H94: 871687460010580890 | I94: 44197 | J94: 44926 | K94: Ja | L94: Factureerbaar | M94: In bedrijf | N94: Laanstraat | O94: 36 | P94: ELP | Q94: 3743 BG | R94: Baarn | S94: E1B | T94: Elek | U94: Kleinverbruik | V94: JRL Jaarlijks | W94: Ja | X94: Administratief aan | Y94: Voorschotten toegelaten | Z94: E_DVK - Profielklik | AA94: 44566 | AB94: 0 | AC94: 0 | AG94: 0 | AH94: 0 | AI94: 0 | AJ94: 0 | AK94: 0 | AL94: 0 | AM94: FAS2735224 | AN94: KV | AO94: K20014139 | AP94: Gemeente Baarn | AQ94: Mevr C Bouwmeester | AR94: Postbus 1003 3740 BA BAARN | AT94: OV | AU94: NL28BNGH0285000594 | AV94: 594 | AW94: D14 | AX94: 3M | BA94: Groep op factuurstrc | BB94: E0043007074867818 | BE94: Stedin Netbeheer Utrecht | BF94: 871687400000002254 | BG94: 0 | BH94: 8742030101129 | BI94: Netwerkkosten | BJ94: 0 | BK94: Ja | BL94: Nee | BT94: 1
A95: K20014139 | B95: Gemeente Baarn | C95: 32167607 | D95: O32397362 | E95: Gemeentelijke gebouwen | F95: O32515446 | G95: O32519698 | H95: 871687460010586724 | I95: 44197 | J95: 44926 | K95: Ja | L95: Factureerbaar | M95: In bedrijf | N95: Laanstraat | O95: 20 | P95: FLP | Q95: 3743 BE | R95: Baarn | S95: E1B | T95: Elek | U95: Kleinverbruik | V95: JRL Jaarlijks | W95: Ja | X95: Administratief aan | Y95: Voorschotten toegelaten | Z95: E_DVK - Profielklik | AA95: 44567 | AB95: 0 | AC95: 1 | AG95: 0 | AH95: 0 | AI95: 1 | AJ95: 0 | AK95: 0 | AL95: 0 | AM95: FAS2735224 | AN95: KV | AO95: K20014139 | AP95: Gemeente Baarn | AQ95: Mevr C Bouwmeester | AR95: Postbus 1003 3740 BA BAARN | AT95: OV | AU95: NL28BNGH0285000594 | AV95: 594 | AW95: D14 | AX95: 3M | BA95: Groep op factuurstrc | BB95: E0043007070295218 | BE95: Stedin Netbeheer Utrecht | BF95: 871687400000002254 | BG95: 0 | BH95: 8742030101129 | BI95: Netwerkkosten | BJ95: 0 | BK95: Ja | BL95: Nee | BT95: 1
A96: K20041473 | B96: Gemeente Bunnik | C96: 30278213 | D96: O32397362 | E96: Gemeentelijke gebouwen | F96: O32397363 | G96: O32520103 | H96: 871687400004702778 | I96: 44197 | J96: 44926 | K96: Ja | L96: Factureerbaar | M96: In bedrijf | N96: Provincialeweg | O96: 63 | Q96: 3981 AM | R96: BUNNIK | S96: E1B | T96: Elek | U96: Kleinverbruik | V96: JRL Jaarlijks | W96: Ja | X96: Administratief aan | Y96: Voorschotten toegelaten | Z96: E_DVK - Profielklik | AA96: 44567 | AB96: 976 | AC96: 1261 | AG96: 0 | AH96: 976 | AI96: 1261 | AJ96: 0 | AK96: 0 | AL96: 0 | AM96: FAS2989890 | AO96: K20041473 | AP96: Gemeente Bunnik | AR96: Postbus 5 3980 CA BUNNIK | AS96: info@algemenebegraafplaatsodijk.nl | AT96: OV | AU96: NL71BNGH0285001566 | AV96: 566 | AW96: D30 | AX96: 3M | AY96: Begraafplaats | AZ96: PROVINCIALE WEG 63 - BUNNIK | BA96: Groep op factuurstrc | BB96: E0043006891185117 | BE96: Stedin Netbeheer Utrecht | BF96: 871687400000002254 | BG96: 0 | BH96: 8742030102119 | BI96: 3x25A | BJ96: 0 | BK96: Ja | BL96: Nee | BT96: 1
A97: K20041473 | B97: Gemeente Bunnik | C97: 30278213 | D97: O32397362 | E97: Gemeentelijke gebouwen | F97: O32397363 | G97: O32520104 | H97: 871687400004789137 | I97: 44197 | J97: 44926 | K97: Ja | L97: Factureerbaar | M97: In bedrijf | N97: Langstraat | O97: 2 | P97: NST | Q97: 3981 EV | R97: BUNNIK | S97: E2B | T97: Elek | U97: Kleinverbruik | V97: JRL Jaarlijks | W97: Ja | X97: Administratief aan | Y97: Voorschotten toegelaten | Z97: E_DVK - Profielklik | AA97: 44567 | AB97: 2758 | AC97: 302 | AG97: 0 | AH97: 2758 | AI97: 302 | AJ97: 0 | AK97: 0 | AL97: 0 | AM97: FAS2736708 | AN97: Gemeente Bunnik Overig KV elektriciteit | AO97: K20041473 | AP97: Gemeente Bunnik | AR97: Postbus 5 3980 CA BUNNIK | AT97: OV | AU97: NL71BNGH0285001566 | AV97: 566 | AW97: D30 | AX97: 3M | AY97: marktkast | AZ97: Langstraat 2 NST - BUNNIK | BA97: Groep op factuurstrc | BB97: E0044006890093117 | BE97: Stedin Netbeheer Utrecht | BF97: 871687400000002254 | BG97: 0 | BH97: 8742030105110 | BI97: 3x63A | BJ97: 0 | BK97: Ja | BL97: Nee | BT97: 1
A98: K20041473 | B98: Gemeente Bunnik | C98: 30278213 | D98: O32397362 | E98: Gemeentelijke gebouwen | F98: O32397363 | G98: O32903196 | H98: 871687400004876882 | I98: 44562 | J98: 44926 | K98: Ja | L98: Factureerbaar | M98: In bedrijf | N98: Rijnzichtlaan | O98: 11 | P98: A | Q98: 3981 BS | R98: BUNNIK | S98: E1B | T98: Elek | U98: Kleinverbruik | V98: JRL Jaarlijks | W98: Ja | X98: Administratief aan | Y98: Voorschotten toegelaten | Z98: E_DVK - Profielklik | AA98: 44653 | AB98: 1530 | AC98: 919 | AG98: 0 | AH98: 1425 | AI98: 913 | AJ98: 0 | AK98: 0 | AL98: 0 | AM98: FAS3545909 | AO98: K20041473 | AP98: Gemeente Bunnik | AR98: Postbus 5 3980 CA BUNNIK | AT98: OV | AU98: NL71BNGH0285001566 | AV98: 566 | AW98: D30 | AX98: 3M | AY98: Stichting Sporthuis Bunnik | BA98: Groep op factuurstrc | BB98: E0044006890098317 | BE98: Stedin Netbeheer Utrecht | BF98: 871687400000002254 | BG98: 0 | BH98: 8742030102119 | BI98: 3x25A | BJ98: 0 | BK98: Ja | BL98: Nee | BT98: 1
A99: K20041473 | B99: Gemeente Bunnik | C99: 30278213 | D99: O32397362 | E99: Gemeentelijke gebouwen | F99: O32397363 | G99: O32903197 | H99: 871687400004898969 | I99: 44562 | J99: 44926 | K99: Ja | L99: Factureerbaar | M99: In bedrijf | N99: Camminghalaan | O99: 25 | Q99: 3981 GD | R99: BUNNIK | S99: E1A | T99: Elek | U99: Kleinverbruik | V99: JRL Jaarlijks | W99: Nee | Y99: Voorschotten toegelaten | Z99: E_DVK - Profielklik | AA99: 44562 | AB99: 11351 | AC99: 1 | AD99: 0 | AE99: 0 | AG99: 0 | AH99: 938 | AI99: 922 | AJ99: 0 | AK99: 0 | AL99: 0 | AM99: FAS3545911 | AO99: K20041473 | AP99: Gemeente Bunnik | AR99: Postbus 5 3980 CA BUNNIK | AT99: OV | AU99: NL71BNGH0285001566 | AV99: 566 | AW99: D30 | AX99: 3M | AY99: Stichting Sporthuis Bunnik | BA99: Groep op factuurstrc | BB99: 9604805O | BE99: Stedin Netbeheer Utrecht | BF99: 871687400000002254 | BG99: 0 | BH99: 8742030102119 | BI99: 3x25A | BJ99: 0 | BK99: Ja | BL99: Nee | BT99: 1
A100: K20041473 | B100: Gemeente Bunnik | C100: 30278213 | D100: O32397362 | E100: Gemeentelijke gebouwen | F100: O32397363 | G100: O32520105 | H100: 871687400004998256 | I100: 44197 | J100: 44926 | K100: Ja | L100: Factureerbaar | M100: In bedrijf | N100: Rumpsterweg | O100: 4 | Q100: 3981 AK | R100: BUNNIK | S100: E2B | T100: Elek | U100: Kleinverbruik | V100: JRL Jaarlijks | W100: Ja | X100: Administratief aan | Y100: Voorschotten toegelaten | Z100: E_DVK - Profielklik | AA100: 44566 | AB100: 13488 | AC100: 9795 | AG100: 0 | AH100: 13402 | AI100: 9752 | AJ100: 0 | AK100: 0 | AL100: 0 | AM100: FAS2736709 | AN100: Gemeente Bunnik Gebouw - KV Elektriciteit | AO100: K20041473 | AP100: Gemeente Bunnik | AR100: Postbus 5 3980 CA BUNNIK | AT100: OV | AU100: NL71BNGH0285001566 | AV100: 566 | AW100: D30 | AX100: 3M | AY100: Gemeentewerf | AZ100: RUMPSTERWEG 4 - BUNNIK | BA100: Groep op factuurstrc | BB100: E0044006903917117 | BE100: Stedin Netbeheer Utrecht | BF100: 871687400000002254 | BG100: 0 | BH100: 8742030104113 | BI100: 3x50A | BJ100: 0 | BK100: Nee | BL100: Nee | BT100: 1
...
