Workbook

Sheet Samenvatting
A1: Gemeentelijke gebouwen
A2: Contract Einddatum | B2: 44926
A4: Klantnummer | B4: Klantnaam | C4: Perceel | D4: Aantal van Eancode Aansluiting | E4: Verbruik piek | F4: Verbruik dal | G4: Aantal van Eancode Aansluiting | L4: som verbruik gemeente | O4: som verbruik OV | R4: totaal | S4: GvOs
A5: K20000320 | B5: Gemeente Montfoort | C5: Gemeentelijke gebouwen | D5: 80 | E5: =SUMIFS('Aansluitingen & verbruik'!$AB$2:$AB$4129,'Aansluitingen & verbruik'!$B$2:$B$4129,Samenvatting!B5,'Aansluitingen & verbruik'!$E$2:$E$4129,Samenvatting!C5) -> 693849.25 | F5: =SUMIFS('Aansluitingen & verbruik'!$AC$2:$AC$4129,'Aansluitingen & verbruik'!$B$2:$B$4129,Samenvatting!B5,'Aansluitingen & verbruik'!$E$2:$E$4129,Samenvatting!C5) -> 593412.75 | G5: =+GETPIVOTDATA("Eancode Aansluiting",$A$4,"Klantnummer","K20000320","Klantnaam","Gemeente Montfoort","Perceel","Gemeentelijke gebouwen") -> 80 | L5: =+E5+F5 -> 1287262 | O5: =+L43 -> 382692 | R5: =+L5+O5 -> 1669954 | S5: =+R5/1000 -> 1669.954
A6: K20000325 | B6: Gemeente IJsselstein | C6: Gemeentelijke gebouwen | D6: 125 | E6: =SUMIFS('Aansluitingen & verbruik'!$AB$2:$AB$4129,'Aansluitingen & verbruik'!$B$2:$B$4129,Samenvatting!B6,'Aansluitingen & verbruik'!$E$2:$E$4129,Samenvatting!C6) -> 1143327.6 | F6: =SUMIFS('Aansluitingen & verbruik'!$AC$2:$AC$4129,'Aansluitingen & verbruik'!$B$2:$B$4129,Samenvatting!B6,'Aansluitingen & verbruik'!$E$2:$E$4129,Samenvatting!C6) -> 626819.4 | G6: =+GETPIVOTDATA("Eancode Aansluiting",$A$4,"Klantnummer","K20000325","Klantnaam","Gemeente IJsselstein","Perceel","Gemeentelijke gebouwen") -> 125 | L6: =+E6+F6 -> 1770147 | O6: =+SUMIF($B$31:$B$40,B6,$L$31:$L$40) -> 1474285 | R6: =+L6+O6 -> 3244432 | S6: =+R6/1000 -> 3244.432
A7: K20011088 | B7: Gemeente Lopik | C7: Gemeentelijke gebouwen | D7: 77 | E7: =SUMIFS('Aansluitingen & verbruik'!$AB$2:$AB$4129,'Aansluitingen & verbruik'!$B$2:$B$4129,Samenvatting!B7,'Aansluitingen & verbruik'!$E$2:$E$4129,Samenvatting!C7) -> 390217 | F7: =SUMIFS('Aansluitingen & verbruik'!$AC$2:$AC$4129,'Aansluitingen & verbruik'!$B$2:$B$4129,Samenvatting!B7,'Aansluitingen & verbruik'!$E$2:$E$4129,Samenvatting!C7) -> 357683 | G7: =+GETPIVOTDATA("Eancode Aansluiting",$A$4,"Klantnummer","K20011088","Klantnaam","Gemeente Lopik","Perceel","Gemeentelijke gebouwen") -> 77 | L7: =+E7+F7 -> 747900 | O7: =+SUMIF($B$31:$B$40,B7,$L$31:$L$40) -> 291090 | R7: =+L7+O7 -> 1038990 | S7: =+R7/1000 -> 1038.99
A8: K20014139 | B8: Gemeente Baarn | C8: Gemeentelijke gebouwen | D8: 90 | E8: =SUMIFS('Aansluitingen & verbruik'!$AB$2:$AB$4129,'Aansluitingen & verbruik'!$B$2:$B$4129,Samenvatting!B8,'Aansluitingen & verbruik'!$E$2:$E$4129,Samenvatting!C8) -> 504552.15 | F8: =SUMIFS('Aansluitingen & verbruik'!$AC$2:$AC$4129,'Aansluitingen & verbruik'!$B$2:$B$4129,Samenvatting!B8,'Aansluitingen & verbruik'!$E$2:$E$4129,Samenvatting!C8) -> 598889.85 | G8: =+GETPIVOTDATA("Eancode Aansluiting",$A$4,"Klantnummer","K20014139","Klantnaam","Gemeente Baarn","Perceel","Gemeentelijke gebouwen") -> 90 | L8: =+E8+F8 -> 1103442 | O8: =+SUMIF($B$31:$B$40,B8,$L$31:$L$40) -> 0 | R8: =+L8+O8 -> 1103442 | S8: =+R8/1000 -> 1103.442
A9: K20021659 | B9: Gemeente Zeist | C9: Gemeentelijke gebouwen | D9: 198 | E9: =SUMIFS('Aansluitingen & verbruik'!$AB$2:$AB$4129,'Aansluitingen & verbruik'!$B$2:$B$4129,Samenvatting!B9,'Aansluitingen & verbruik'!$E$2:$E$4129,Samenvatting!C9) -> 1759591.6 | F9: =SUMIFS('Aansluitingen & verbruik'!$AC$2:$AC$4129,'Aansluitingen & verbruik'!$B$2:$B$4129,Samenvatting!B9,'Aansluitingen & verbruik'!$E$2:$E$4129,Samenvatting!C9) -> 1467959.5 | G9: =+GETPIVOTDATA("Eancode Aansluiting",$A$4,"Klantnummer","K20021659","Klantnaam","Gemeente Zeist","Perceel","Gemeentelijke gebouwen") -> 198 | L9: =+E9+F9 -> 3227551 | O9: =+SUMIF($B$31:$B$40,B9,$L$31:$L$40) -> 1707313 | R9: =+L9+O9 -> 4934864 | S9: =+R9/1000 -> 4934.864
A10: K20024221 | B10: Gemeente Soest | C10: Gemeentelijke gebouwen | D10: 135 | E10: =SUMIFS('Aansluitingen & verbruik'!$AB$2:$AB$4129,'Aansluitingen & verbruik'!$B$2:$B$4129,Samenvatting!B10,'Aansluitingen & verbruik'!$E$2:$E$4129,Samenvatting!C10) -> 1304468 | F10: =SUMIFS('Aansluitingen & verbruik'!$AC$2:$AC$4129,'Aansluitingen & verbruik'!$B$2:$B$4129,Samenvatting!B10,'Aansluitingen & verbruik'!$E$2:$E$4129,Samenvatting!C10) -> 1801780 | G10: =+GETPIVOTDATA("Eancode Aansluiting",$A$4,"Klantnummer","K20024221","Klantnaam","Gemeente Soest","Perceel","Gemeentelijke gebouwen") -> 135 | L10: =+E10+F10 -> 3106248 | O10: =+SUMIF($B$31:$B$40,B10,$L$31:$L$40) -> 0 | R10: =+L10+O10 -> 3106248 | S10: =+R10/1000 -> 3106.248
A11: K20041473 | B11: Gemeente Bunnik | C11: Gemeentelijke gebouwen | D11: 159 | E11: =SUMIFS('Aansluitingen & verbruik'!$AB$2:$AB$4129,'Aansluitingen & verbruik'!$B$2:$B$4129,Samenvatting!B11,'Aansluitingen & verbruik'!$E$2:$E$4129,Samenvatting!C11) -> 386764.9 | F11: =SUMIFS('Aansluitingen & verbruik'!$AC$2:$AC$4129,'Aansluitingen & verbruik'!$B$2:$B$4129,Samenvatting!B11,'Aansluitingen & verbruik'!$E$2:$E$4129,Samenvatting!C11) -> 218516.1 | G11: =+GETPIVOTDATA("Eancode Aansluiting",$A$4,"Klantnummer","K20041473","Klantnaam","Gemeente Bunnik","Perceel","Gemeentelijke gebouwen") -> 159 | L11: =+E11+F11 -> 605281 | O11: =+SUMIF($B$31:$B$40,B11,$L$31:$L$40) -> 459089 | R11: =+L11+O11 -> 1064370 | S11: =+R11/1000 -> 1064.37
A12: K20041475 | B12: Gemeente de Bilt | C12: Gemeentelijke gebouwen | D12: 209 | E12: =SUMIFS('Aansluitingen & verbruik'!$AB$2:$AB$4129,'Aansluitingen & verbruik'!$B$2:$B$4129,Samenvatting!B12,'Aansluitingen & verbruik'!$E$2:$E$4129,Samenvatting!C12) -> 574276.2 | F12: =SUMIFS('Aansluitingen & verbruik'!$AC$2:$AC$4129,'Aansluitingen & verbruik'!$B$2:$B$4129,Samenvatting!B12,'Aansluitingen & verbruik'!$E$2:$E$4129,Samenvatting!C12) -> 356911.8 | G12: =+GETPIVOTDATA("Eancode Aansluiting",$A$4,"Klantnummer","K20041475","Klantnaam","Gemeente de Bilt","Perceel","Gemeentelijke gebouwen") -> 209 | L12: =+E12+F12 -> 931188 | O12: =+SUMIF($B$31:$B$40,B12,$L$31:$L$40) -> 1047136 | R12: =+L12+O12 -> 1978324 | S12: =+R12/1000 -> 1978.324
A13: K20041482 | B13: Gemeente Houten | C13: Gemeentelijke gebouwen | D13: 240 | E13: =SUMIFS('Aansluitingen & verbruik'!$AB$2:$AB$4129,'Aansluitingen & verbruik'!$B$2:$B$4129,Samenvatting!B13,'Aansluitingen & verbruik'!$E$2:$E$4129,Samenvatting!C13) -> 1469286.8 | F13: =SUMIFS('Aansluitingen & verbruik'!$AC$2:$AC$4129,'Aansluitingen & verbruik'!$B$2:$B$4129,Samenvatting!B13,'Aansluitingen & verbruik'!$E$2:$E$4129,Samenvatting!C13) -> 936396.2 | G13: =+GETPIVOTDATA("Eancode Aansluiting",$A$4,"Klantnummer","K20041482","Klantnaam","Gemeente Houten","Perceel","Gemeentelijke gebouwen") -> 240 | L13: =+E13+F13 -> 2405683 | O13: =+L44 -> 1820000 | R13: =+L13+O13 -> 4225683 | S13: =+R13/1000 -> 4225.683
A14: K20041484 | B14: Gemeente Leusden | C14: Gemeentelijke gebouwen | D14: 240 | E14: =SUMIFS('Aansluitingen & verbruik'!$AB$2:$AB$4129,'Aansluitingen & verbruik'!$B$2:$B$4129,Samenvatting!B14,'Aansluitingen & verbruik'!$E$2:$E$4129,Samenvatting!C14) -> 773478.4 | F14: =SUMIFS('Aansluitingen & verbruik'!$AC$2:$AC$4129,'Aansluitingen & verbruik'!$B$2:$B$4129,Samenvatting!B14,'Aansluitingen & verbruik'!$E$2:$E$4129,Samenvatting!C14) -> 534662.6 | G14: =+GETPIVOTDATA("Eancode Aansluiting",$A$4,"Klantnummer","K20041484","Klantnaam","Gemeente Leusden","Perceel","Gemeentelijke gebouwen") -> 240 | L14: =+E14+F14 -> 1308141 | O14: =+SUMIF($B$31:$B$40,B14,$L$31:$L$40) -> 341825 | R14: =+L14+O14 -> 1649966 | S14: =+R14/1000 -> 1649.966
A15: K20041485 | B15: Gemeente Nieuwegein | C15: Gemeentelijke gebouwen | D15: 355 | E15: =SUMIFS('Aansluitingen & verbruik'!$AB$2:$AB$4129,'Aansluitingen & verbruik'!$B$2:$B$4129,Samenvatting!B15,'Aansluitingen & verbruik'!$E$2:$E$4129,Samenvatting!C15) -> 2806359.4 | F15: =SUMIFS('Aansluitingen & verbruik'!$AC$2:$AC$4129,'Aansluitingen & verbruik'!$B$2:$B$4129,Samenvatting!B15,'Aansluitingen & verbruik'!$E$2:$E$4129,Samenvatting!C15) -> 1674328.6 | G15: =+GETPIVOTDATA("Eancode Aansluiting",$A$4,"Klantnummer","K20041485","Klantnaam","Gemeente Nieuwegein","Perceel","Gemeentelijke gebouwen") -> 355 | L15: =+E15+F15 -> 4480688 | O15: =+SUMIF($B$31:$B$40,B15,$L$31:$L$40) -> 0 | R15: =+L15+O15 -> 4480688 | S15: =+R15/1000 -> 4480.688
A16: K20041498 | B16: Gemeente Stichtse Vecht | C16: Gemeentelijke gebouwen | D16: 559 | E16: =SUMIFS('Aansluitingen & verbruik'!$AB$2:$AB$4129,'Aansluitingen & verbruik'!$B$2:$B$4129,Samenvatting!B16,'Aansluitingen & verbruik'!$E$2:$E$4129,Samenvatting!C16) -> 2879319.3 | F16: =SUMIFS('Aansluitingen & verbruik'!$AC$2:$AC$4129,'Aansluitingen & verbruik'!$B$2:$B$4129,Samenvatting!B16,'Aansluitingen & verbruik'!$E$2:$E$4129,Samenvatting!C16) -> 1792434.7 | G16: =+GETPIVOTDATA("Eancode Aansluiting",$A$4,"Klantnummer","K20041498","Klantnaam","Gemeente Stichtse Vecht","Perceel","Gemeentelijke gebouwen") -> 559 | L16: =+E16+F16 -> 4671754 | O16: =+SUMIF($B$31:$B$40,B16,$L$31:$L$40) -> 2238188 | R16: =+L16+O16 -> 6909942 | S16: =+R16/1000 -> 6909.942
A17: K20041500 | B17: Gemeente Utrechtse Heuvelrug | C17: Gemeentelijke gebouwen | D17: 325 | E17: =SUMIFS('Aansluitingen & verbruik'!$AB$2:$AB$4129,'Aansluitingen & verbruik'!$B$2:$B$4129,Samenvatting!B17,'Aansluitingen & verbruik'!$E$2:$E$4129,Samenvatting!C17) -> 1006077.1 | F17: =SUMIFS('Aansluitingen & verbruik'!$AC$2:$AC$4129,'Aansluitingen & verbruik'!$B$2:$B$4129,Samenvatting!B17,'Aansluitingen & verbruik'!$E$2:$E$4129,Samenvatting!C17) -> 617047.85 | G17: =+GETPIVOTDATA("Eancode Aansluiting",$A$4,"Klantnummer","K20041500","Klantnaam","Gemeente Utrechtse Heuvelrug","Perceel","Gemeentelijke gebouwen") -> 325 | L17: =+E17+F17 -> 1623125 | O17: =+SUMIF($B$31:$B$40,B17,$L$31:$L$40) -> 1270544 | R17: =+L17+O17 -> 2893669 | S17: =+R17/1000 -> 2893.669
A18: K20041501 | B18: Gemeente Veenendaal | C18: Gemeentelijke gebouwen | D18: 160 | E18: =SUMIFS('Aansluitingen & verbruik'!$AB$2:$AB$4129,'Aansluitingen & verbruik'!$B$2:$B$4129,Samenvatting!B18,'Aansluitingen & verbruik'!$E$2:$E$4129,Samenvatting!C18) -> 1545770.9 | F18: =SUMIFS('Aansluitingen & verbruik'!$AC$2:$AC$4129,'Aansluitingen & verbruik'!$B$2:$B$4129,Samenvatting!B18,'Aansluitingen & verbruik'!$E$2:$E$4129,Samenvatting!C18) -> 1199797.1 | G18: =+GETPIVOTDATA("Eancode Aansluiting",$A$4,"Klantnummer","K20041501","Klantnaam","Gemeente Veenendaal","Perceel","Gemeentelijke gebouwen") -> 160 | L18: =+E18+F18 -> 2745568 | O18: =+SUMIF($B$31:$B$40,B18,$L$31:$L$40) -> 74446 | R18: =+L18+O18 -> 2820014 | S18: =+R18/1000 -> 2820.014
A19: K20041506 | B19: Gemeente Wijk bij Duurstede | C19: Gemeentelijke gebouwen | D19: 197 | E19: =SUMIFS('Aansluitingen & verbruik'!$AB$2:$AB$4129,'Aansluitingen & verbruik'!$B$2:$B$4129,Samenvatting!B19,'Aansluitingen & verbruik'!$E$2:$E$4129,Samenvatting!C19) -> 0 | F19: =SUMIFS('Aansluitingen & verbruik'!$AC$2:$AC$4129,'Aansluitingen & verbruik'!$B$2:$B$4129,Samenvatting!B19,'Aansluitingen & verbruik'!$E$2:$E$4129,Samenvatting!C19) -> 0 | G19: 0 | I19: doet niet mee met elektriciteitslevering | L19: =+E19+F19 -> 0 | O19: =+SUMIF($B$31:$B$40,B19,$L$31:$L$40) -> 0 | R19: =+L19+O19 -> 0 | S19: =+R19/1000 -> 0
A20: K20041507 | B20: Gemeente Woerden | C20: Gemeentelijke gebouwen | D20: 292 | E20: =SUMIFS('Aansluitingen & verbruik'!$AB$2:$AB$4129,'Aansluitingen & verbruik'!$B$2:$B$4129,Samenvatting!B20,'Aansluitingen & verbruik'!$E$2:$E$4129,Samenvatting!C20) -> 1659737.5 | F20: =SUMIFS('Aansluitingen & verbruik'!$AC$2:$AC$4129,'Aansluitingen & verbruik'!$B$2:$B$4129,Samenvatting!B20,'Aansluitingen & verbruik'!$E$2:$E$4129,Samenvatting!C20) -> 1394577.5 | G20: =+GETPIVOTDATA("Eancode Aansluiting",$A$4,"Klantnummer","K20041507","Klantnaam","Gemeente Woerden","Perceel","Gemeentelijke gebouwen") -> 292 | L20: =+E20+F20 -> 3054315 | O20: =+SUMIF($B$31:$B$40,B20,$L$31:$L$40) -> 1526785 | R20: =+L20+O20 -> 4581100 | S20: =+R20/1000 -> 4581.1
A21: K20042110 | B21: Openbaar Onderwijs Wijk bij Duurstede | C21: Gemeentelijke gebouwen | D21: 6 | E21: 0 | F21: 0 | G21: 0 | I21: doet niet mee met elektriciteitslevering | L21: =+E21+F21 -> 0 | O21: =+SUMIF($B$31:$B$40,B21,$L$31:$L$40) -> 0 | R21: =+L21+O21 -> 0 | S21: =+R21/1000 -> 0
A22: K20053485 | B22: Gemeente Oudewater | C22: Gemeentelijke gebouwen | D22: 105 | E22: =SUMIFS('Aansluitingen & verbruik'!$AB$2:$AB$4129,'Aansluitingen & verbruik'!$B$2:$B$4129,Samenvatting!B22,'Aansluitingen & verbruik'!$E$2:$E$4129,Samenvatting!C22) -> 301925.25 | F22: =SUMIFS('Aansluitingen & verbruik'!$AC$2:$AC$4129,'Aansluitingen & verbruik'!$B$2:$B$4129,Samenvatting!B22,'Aansluitingen & verbruik'!$E$2:$E$4129,Samenvatting!C22) -> 248885.75 | G22: =+GETPIVOTDATA("Eancode Aansluiting",$A$4,"Klantnummer","K20053485","Klantnaam","Gemeente Oudewater","Perceel","Gemeentelijke gebouwen") -> 105 | L22: =+E22+F22 -> 550811 | O22: =+SUMIF($B$31:$B$40,B22,$L$31:$L$40) -> 0 | R22: =+L22+O22 -> 550811 | S22: =+R22/1000 -> 550.811
A23: K20055120 | B23: Stichting VOILA | C23: Gemeentelijke gebouwen | D23: 7 | E23: =SUMIFS('Aansluitingen & verbruik'!$AB$2:$AB$4129,'Aansluitingen & verbruik'!$B$2:$B$4129,Samenvatting!B23,'Aansluitingen & verbruik'!$E$2:$E$4129,Samenvatting!C23) -> 448319 | F23: =SUMIFS('Aansluitingen & verbruik'!$AC$2:$AC$4129,'Aansluitingen & verbruik'!$B$2:$B$4129,Samenvatting!B23,'Aansluitingen & verbruik'!$E$2:$E$4129,Samenvatting!C23) -> 327659 | G23: =+GETPIVOTDATA("Eancode Aansluiting",$A$4,"Klantnummer","K20055120","Klantnaam","Stichting VOILA","Perceel","Gemeentelijke gebouwen") -> 7 | L23: =+E23+F23 -> 775978 | O23: =+SUMIF($B$31:$B$40,B23,$L$31:$L$40) -> 0 | R23: =+L23+O23 -> 775978 | S23: =+R23/1000 -> 775.978
A24: K20060168 | B24: Stichting De Groene Belevenis | C24: Gemeentelijke gebouwen | D24: 1 | E24: =SUMIFS('Aansluitingen & verbruik'!$AB$2:$AB$4129,'Aansluitingen & verbruik'!$B$2:$B$4129,Samenvatting!B24,'Aansluitingen & verbruik'!$E$2:$E$4129,Samenvatting!C24) -> 2220 | F24: =SUMIFS('Aansluitingen & verbruik'!$AC$2:$AC$4129,'Aansluitingen & verbruik'!$B$2:$B$4129,Samenvatting!B24,'Aansluitingen & verbruik'!$E$2:$E$4129,Samenvatting!C24) -> 2099 | G24: =+GETPIVOTDATA("Eancode Aansluiting",$A$4,"Klantnummer","K20060168","Klantnaam","Stichting De Groene Belevenis","Perceel","Gemeentelijke gebouwen") -> 1 | L24: =+E24+F24 -> 4319 | O24: =+SUMIF($B$31:$B$40,B24,$L$31:$L$40) -> 0 | R24: =+L24+O24 -> 4319 | S24: =+R24/1000 -> 4.319
A25: Eindtotaal | D25: 3560 | E25: =SUM(E5:E24) -> 19649540 | F25: =SUM(F5:F24) -> 14749861 | G25: =SUM(G5:G24) -> 3357 | J25: =+E25+F25 -> 34399401 | S25: =SUM(S5:S24) -> 47032.794
A27: Openbare verlichting
A28: Contract Einddatum | B28: 44926
A30: Klantnummer | B30: Klantnaam | C30: Perceel | D30: Aantal van Eancode Aansluiting | E30: Verbruik piek | F30: Verbruik dal | G30: Aantal van Eancode Aansluiting | L30: som verbruik
A31: K20000325 | B31: Gemeente IJsselstein | C31: Openbare verlichting | D31: 13 | E31: =SUMIFS('Aansluitingen & verbruik'!$AB$2:$AB$4129,'Aansluitingen & verbruik'!$B$2:$B$4129,Samenvatting!B31,'Aansluitingen & verbruik'!$E$2:$E$4129,Samenvatting!C31) -> 501205.35 | F31: =SUMIFS('Aansluitingen & verbruik'!$AC$2:$AC$4129,'Aansluitingen & verbruik'!$B$2:$B$4129,Samenvatting!B31,'Aansluitingen & verbruik'!$E$2:$E$4129,Samenvatting!C31) -> 973079.65 | G31: 13 | L31: =+E31+F31 -> 1474285
A32: K20011088 | B32: Gemeente Lopik | C32: Openbare verlichting | D32: 1 | E32: =SUMIFS('Aansluitingen & verbruik'!$AB$2:$AB$4129,'Aansluitingen & verbruik'!$B$2:$B$4129,Samenvatting!B32,'Aansluitingen & verbruik'!$E$2:$E$4129,Samenvatting!C32) -> 70975 | F32: =SUMIFS('Aansluitingen & verbruik'!$AC$2:$AC$4129,'Aansluitingen & verbruik'!$B$2:$B$4129,Samenvatting!B32,'Aansluitingen & verbruik'!$E$2:$E$4129,Samenvatting!C32) -> 220115 | G32: 1 | L32: =+E32+F32 -> 291090
A33: K20021659 | B33: Gemeente Zeist | C33: Openbare verlichting | D33: 21 | E33: =SUMIFS('Aansluitingen & verbruik'!$AB$2:$AB$4129,'Aansluitingen & verbruik'!$B$2:$B$4129,Samenvatting!B33,'Aansluitingen & verbruik'!$E$2:$E$4129,Samenvatting!C33) -> 558621.15 | F33: =SUMIFS('Aansluitingen & verbruik'!$AC$2:$AC$4129,'Aansluitingen & verbruik'!$B$2:$B$4129,Samenvatting!B33,'Aansluitingen & verbruik'!$E$2:$E$4129,Samenvatting!C33) -> 1148691.9 | G33: 21 | L33: =+E33+F33 -> 1707313
A34: K20041473 | B34: Gemeente Bunnik | C34: Openbare verlichting | D34: 2 | E34: =SUMIFS('Aansluitingen & verbruik'!$AB$2:$AB$4129,'Aansluitingen & verbruik'!$B$2:$B$4129,Samenvatting!B34,'Aansluitingen & verbruik'!$E$2:$E$4129,Samenvatting!C34) -> 112929 | F34: =SUMIFS('Aansluitingen & verbruik'!$AC$2:$AC$4129,'Aansluitingen & verbruik'!$B$2:$B$4129,Samenvatting!B34,'Aansluitingen & verbruik'!$E$2:$E$4129,Samenvatting!C34) -> 346160 | G34: 2 | L34: =+E34+F34 -> 459089
A35: K20041475 | B35: Gemeente de Bilt | C35: Openbare verlichting | D35: 52 | E35: =SUMIFS('Aansluitingen & verbruik'!$AB$2:$AB$4129,'Aansluitingen & verbruik'!$B$2:$B$4129,Samenvatting!B35,'Aansluitingen & verbruik'!$E$2:$E$4129,Samenvatting!C35) -> 254435 | F35: =SUMIFS('Aansluitingen & verbruik'!$AC$2:$AC$4129,'Aansluitingen & verbruik'!$B$2:$B$4129,Samenvatting!B35,'Aansluitingen & verbruik'!$E$2:$E$4129,Samenvatting!C35) -> 792701 | G35: 52 | L35: =+E35+F35 -> 1047136
A36: K20041484 | B36: Gemeente Leusden | C36: Openbare verlichting | D36: 3 | E36: =SUMIFS('Aansluitingen & verbruik'!$AB$2:$AB$4129,'Aansluitingen & verbruik'!$B$2:$B$4129,Samenvatting!B36,'Aansluitingen & verbruik'!$E$2:$E$4129,Samenvatting!C36) -> 82943 | F36: =SUMIFS('Aansluitingen & verbruik'!$AC$2:$AC$4129,'Aansluitingen & verbruik'!$B$2:$B$4129,Samenvatting!B36,'Aansluitingen & verbruik'!$E$2:$E$4129,Samenvatting!C36) -> 258882 | G36: 3 | L36: =+E36+F36 -> 341825
A37: K20041498 | B37: Gemeente Stichtse Vecht | C37: Openbare verlichting | D37: 22 | E37: =SUMIFS('Aansluitingen & verbruik'!$AB$2:$AB$4129,'Aansluitingen & verbruik'!$B$2:$B$4129,Samenvatting!B37,'Aansluitingen & verbruik'!$E$2:$E$4129,Samenvatting!C37) -> 633817 | F37: =SUMIFS('Aansluitingen & verbruik'!$AC$2:$AC$4129,'Aansluitingen & verbruik'!$B$2:$B$4129,Samenvatting!B37,'Aansluitingen & verbruik'!$E$2:$E$4129,Samenvatting!C37) -> 1604371 | G37: 22 | L37: =+E37+F37 -> 2238188
A38: K20041500 | B38: Gemeente Utrechtse Heuvelrug | C38: Openbare verlichting | D38: 2 | E38: =SUMIFS('Aansluitingen & verbruik'!$AB$2:$AB$4129,'Aansluitingen & verbruik'!$B$2:$B$4129,Samenvatting!B38,'Aansluitingen & verbruik'!$E$2:$E$4129,Samenvatting!C38) -> 306888 | F38: =SUMIFS('Aansluitingen & verbruik'!$AC$2:$AC$4129,'Aansluitingen & verbruik'!$B$2:$B$4129,Samenvatting!B38,'Aansluitingen & verbruik'!$E$2:$E$4129,Samenvatting!C38) -> 963656 | G38: 2 | L38: =+E38+F38 -> 1270544
A39: K20041501 | B39: Gemeente Veenendaal | C39: Openbare verlichting | D39: 3 | E39: =SUMIFS('Aansluitingen & verbruik'!$AB$2:$AB$4129,'Aansluitingen & verbruik'!$B$2:$B$4129,Samenvatting!B39,'Aansluitingen & verbruik'!$E$2:$E$4129,Samenvatting!C39) -> 27898 | F39: =SUMIFS('Aansluitingen & verbruik'!$AC$2:$AC$4129,'Aansluitingen & verbruik'!$B$2:$B$4129,Samenvatting!B39,'Aansluitingen & verbruik'!$E$2:$E$4129,Samenvatting!C39) -> 46548 | G39: 3 | L39: =+E39+F39 -> 74446
A40: K20041507 | B40: Gemeente Woerden | C40: Openbare verlichting | D40: 12 | E40: =SUMIFS('Aansluitingen & verbruik'!$AB$2:$AB$4129,'Aansluitingen & verbruik'!$B$2:$B$4129,Samenvatting!B40,'Aansluitingen & verbruik'!$E$2:$E$4129,Samenvatting!C40) -> 402786 | F40: =SUMIFS('Aansluitingen & verbruik'!$AC$2:$AC$4129,'Aansluitingen & verbruik'!$B$2:$B$4129,Samenvatting!B40,'Aansluitingen & verbruik'!$E$2:$E$4129,Samenvatting!C40) -> 1123999 | G40: 12 | L40: =+E40+F40 -> 1526785
A41: Eindtotaal | D41: 131 | E41: =SUM(E31:E40) -> 2952497.5 | F41: =SUM(F31:F40) -> 7478203.5 | G41: 131
A43: Additioneel per 1/1/2023 | B43: Gemeente Montfoort | C43: Openbare Verlichting | D43: (totaal) | E43: 93960 | F43: 288732 | G43: 2 | L43: =+E43+F43 -> 382692
B44: Gemeente Houten | C44: Openbare Verlichting | E44: 400000 | F44: 1420000 | G44: 1 | L44: =+E44+F44 -> 1820000
...

Sheet Aansluitingen & verbruik
A1: Klantnummer | B1: Klantnaam | C1: KVK-nummer | D1: Top Contract | E1: Perceel | F1: Bovenliggend Contract | G1: Contract | H1: Eancode Aansluiting | I1: Contract Begindatum | J1: Contract Einddatum | K1: Actief Contract | L1: Contract Status | M1: Fysieke Status | N1: Aansluiting Straat | O1: Aansluiting Huisnr | P1: Aansluiting Toevoeging | Q1: Aansluiting Postcode | R1: Aansluiting Plaats | S1: Profielcategorie | T1: Product Type | U1: Marktsegment | V1: Frequentie Bemetering | W1: Slimme Meter | X1: Administratief Aan | Y1: Facturatiebasis | Z1: Product Omschrijving | AA1: SJV Ingangsdatum | AB1: SJV Piek | AC1: SJV Dal | AD1: SJV TL Piek | AE1: SJV TL Dal | AF1: SJV Gas | AG1: Capaciteit | AH1: Gefactureerd Verbruik Piek 2021 | AI1: Gefactureerd Verbruik Dal 2021 | AJ1: Gefactureerd Verbruik TL Piek 2021 | AK1: Gefactureerd Verbruik TL Dal 2021 | AL1: Gefactureerd Verbruik Gas 2021 | AM1: Verzamelnota | AN1: Verzamelnota Naam | AO1: Te Factureren Rekening | AP1: Te Factureren Klantnaam | AQ1: Te Factureren TAV | AR1: Factuuradres | AS1: Factuur Emailadres | AT1: Betalingsmethode | AU1: Bankrekening | AV1: Klantsleutel | AW1: Betalingstermijn | AX1: Facturatiecyclus | AY1: Klantkenmerk | AZ1: Locatie Informatie | BA1: Meterverzoekgroep | BB1: Meternummer | BC1: VolgendeVerzoekdatum | BD1: MeterverzoekAanmaakCyclus | BE1: Netbeheerder | BF1: Netgebied | BG1: Regiocode | BH1: Captarcode | BI1: Captarcode Omschrijving | BJ1: Maxverbruik Gas | BK1: Verblijfsfunctie | BL1: Complexbepaling | BM1: Blokverwarming | BN1: Zakelijk Verbruik | BO1: WKK Verklaring | BP1: E-Optel verklaring | BQ1: E-Optel ID | BR1: Cluster | BS1: WOZ Cluster | BT1: Contract Actief
A2: K20014139 | B2: Gemeente Baarn | C2: 32167607 | D2: O32397362 | E2: Gemeentelijke gebouwen | F2: O32515446 | G2: O32519608 | H2: 871687400002102372 | I2: 44197 | J2: 44926 | K2: Ja | L2: Factureerbaar | M2: In bedrijf | N2: Brink | O2: 2 | P2: A | Q2: 3743 EC | R2: Baarn | S2: E1B | T2: Elek | U2: Kleinverbruik | V2: JRL Jaarlijks | W2: Ja | X2: Administratief aan | Y2: Voorschotten toegelaten | Z2: E_DVK - Profielklik | AA2: 44566 | AB2: 2254 | AC2: 2816 | AG2: 0 | AH2: 2254 | AI2: 2816 | AJ2: 0 | AK2: 0 | AL2: 0 | AM2: FAS2735224 | AN2: KV | AO2: K20014139 | AP2: Gemeente Baarn | AQ2: Mevr C Bouwmeester | AR2: Postbus 1003 3740 BA BAARN | AT2: OV | AU2: NL28BNGH0285000594 | AV2: 594 | AW2: D14 | AX2: 3M | AZ2: N H KERK | BA2: Groep op factuurstrc | BB2: E0052004479730219 | BE2: Stedin Netbeheer Utrecht | BF2: 871687400000002254 | BG2: 0 | BH2: 8742030102119 | BI2: 3x25A | BJ2: 0 | BK2: Ja | BL2: Nee | BT2: 1
A3: K20014139 | B3: Gemeente Baarn | C3: 32167607 | D3: O32397362 | E3: Gemeentelijke gebouwen | F3: O32515446 | G3: O32519609 | H3: 871687400002108817 | I3: 44197 | J3: 44926 | K3: Ja | L3: Factureerbaar | M3: In bedrijf | N3: Bosstraat | O3: 44 | P3: 46 | Q3: 3743 GB | R3: Baarn | S3: E1B | T3: Elek | U3: Kleinverbruik | V3: JRL Jaarlijks | W3: Ja | X3: Administratief aan | Y3: Voorschotten toegelaten | Z3: E_DVK - Profielklik | AA3: 44567 | AB3: 251 | AC3: 103 | AG3: 0 | AH3: 251 | AI3: 103 | AJ3: 0 | AK3: 0 | AL3: 0 | AM3: FAS2735224 | AN3: KV | AO3: K20014139 | AP3: Gemeente Baarn | AQ3: Mevr C Bouwmeester | AR3: Postbus 1003 3740 BA BAARN | AT3: OV | AU3: NL28BNGH0285000594 | AV3: 594 | AW3: D14 | AX3: 3M | AZ3: PEKINGTUIN AANSL FONTYN | BA3: Groep op factuurstrc | BB3: E0052004479582219 | BE3: Stedin Netbeheer Utrecht | BF3: 871687400000002254 | BG3: 0 | BH3: 8742030102119 | BI3: 3x25A | BJ3: 0 | BK3: Nee | BL3: Nee | BT3: 1
A4: K20014139 | B4: Gemeente Baarn | C4: 32167607 | D4: O32397362 | E4: Gemeentelijke gebouwen | F4: O32515446 | G4: O32519610 | H4: 871687400002191680 | I4: 44197 | J4: 44926 | K4: Ja | L4: Factureerbaar | M4: In bedrijf | N4: Rutgers Van Rozenburgln | O4: 1 | Q4: 3744 MC | R4: Baarn | S4: E1B | T4: Elek | U4: Kleinverbruik | V4: JRL Jaarlijks | W4: Ja | X4: Administratief aan | Y4: Voorschotten toegelaten | Z4: E_DVK - Profielklik | AA4: 44566 | AB4: 460 | AC4: 396 | AG4: 0 | AH4: 460 | AI4: 396 | AJ4: 0 | AK4: 0 | AL4: 0 | AM4: FAS2735224 | AN4: KV | AO4: K20014139 | AP4: Gemeente Baarn | AQ4: Mevr C Bouwmeester | AR4: Postbus 1003 3740 BA BAARN | AT4: OV | AU4: NL28BNGH0285000594 | AV4: 594 | AW4: D14 | AX4: 3M | AZ4: TO NR 17 | BA4: Groep op factuurstrc | BB4: E0054007601856920 | BE4: Stedin Netbeheer Utrecht | BF4: 871687400000002254 | BG4: 0 | BH4: 8742030102119 | BI4: 3x25A | BJ4: 0 | BK4: Nee | BL4: Nee | BT4: 1
A5: K20014139 | B5: Gemeente Baarn | C5: 32167607 | D5: O32397362 | E5: Gemeentelijke gebouwen | F5: O32515446 | G5: O32519611 | H5: 871687400002192274 | I5: 44197 | J5: 44926 | K5: Ja | L5: Factureerbaar | M5: In bedrijf | N5: Koudelaan | O5: 14 | P5: BYD | Q5: 3749 AM | R5: LAGE VUURSCHE | S5: E1B | T5: Elek | U5: Kleinverbruik | V5: JRL Jaarlijks | W5: Ja | X5: Administratief aan | Y5: Voorschotten toegelaten | Z5: E_DVK - Profielklik | AA5: 44197 | AB5: 398 | AC5: 424 | AD5: 0 | AE5: 0 | AG5: 0 | AH5: 400 | AI5: 426 | AJ5: 0 | AK5: 0 | AL5: 0 | AM5: FAS2735224 | AN5: KV | AO5: K20014139 | AP5: Gemeente Baarn | AQ5: Mevr C Bouwmeester | AR5: Postbus 1003 3740 BA BAARN | AT5: OV | AU5: NL28BNGH0285000594 | AV5: 594 | AW5: D14 | AX5: 3M | AZ5: rioolgemaal | BA5: Groep op factuurstrc | BB5: E0060100001991520 | BE5: Stedin Netbeheer Utrecht | BF5: 871687400000002254 | BG5: 0 | BH5: 8742030102119 | BI5: 3x25A | BJ5: 0 | BK5: Nee | BL5: Nee | BT5: 1
A6: K20014139 | B6: Gemeente Baarn | C6: 32167607 | D6: O32397362 | E6: Gemeentelijke gebouwen | F6: O32515446 | G6: O32519612 | H6: 871687400002193325 | I6: 44197 | J6: 44926 | K6: Ja | L6: Factureerbaar | M6: In bedrijf | N6: Kloosterlaan | O6: 27 | Q6: 3749 AJ | R6: LAGE VUURSCHE | S6: E1B | T6: Elek | U6: Kleinverbruik | V6: JRL Jaarlijks | W6: Ja | X6: Administratief aan | Y6: Voorschotten toegelaten | Z6: E_DVK - Profielklik | AA6: 44567 | AB6: 258 | AC6: 226 | AG6: 0 | AH6: 258 | AI6: 226 | AJ6: 0 | AK6: 0 | AL6: 0 | AM6: FAS2735224 | AN6: KV | AO6: K20014139 | AP6: Gemeente Baarn | AQ6: Mevr C Bouwmeester | AR6: Postbus 1003 3740 BA BAARN | AT6: OV | AU6: NL28BNGH0285000594 | AV6: 594 | AW6: D14 | AX6: 3M | BA6: Groep op factuurstrc | BB6: E0060100002004720 | BE6: Stedin Netbeheer Utrecht | BF6: 871687400000002254 | BG6: 0 | BH6: 8742030102119 | BI6: 3x25A | BJ6: 0 | BK6: Ja | BL6: Nee | BT6: 1
A7: K20014139 | B7: Gemeente Baarn | C7: 32167607 | D7: O32397362 | E7: Gemeentelijke gebouwen | F7: O32515446 | G7: O32519613 | H7: 871687400002196593 | I7: 44197 | J7: 44926 | K7: Ja | L7: Factureerbaar | M7: In bedrijf | N7: Emmalaan | O7: 5 | P7: V | Q7: 3743 DJ | R7: Baarn | S7: E1A | T7: Elek | U7: Kleinverbruik | V7: JRL Jaarlijks | W7: Nee | Y7: Voorschotten toegelaten | Z7: E_DVK - Profielklik | AA7: 44378 | AB7: 1051 | AC7: 0 | AG7: 0 | AH7: 901 | AI7: 152 | AJ7: 0 | AK7: 0 | AL7: 0 | AM7: FAS2735224 | AN7: KV | AO7: K20014139 | AP7: Gemeente Baarn | AQ7: Mevr C Bouwmeester | AR7: Postbus 1003 3740 BA BAARN | AT7: OV | AU7: NL28BNGH0285000594 | AV7: 594 | AW7: D14 | AX7: 3M | AZ7: VYVERPOMP | BA7: Groep op factuurstrc | BB7: 9313564O | BE7: Stedin Netbeheer Utrecht | BF7: 871687400000002254 | BG7: 0 | BH7: 8742030102119 | BI7: 3x25A | BJ7: 0 | BK7: Nee | BL7: Nee | BT7: 1
A8: K20014139 | B8: Gemeente Baarn | C8: 32167607 | D8: O32397362 | E8: Gemeentelijke gebouwen | F8: O32515446 | G8: O32519614 | H8: 871687400002215898 | I8: 44197 | J8: 44926 | K8: Ja | L8: Factureerbaar | M8: In bedrijf | N8: Hilversumsestraatweg | O8: 18 | P8: BY | Q8: 3744 KC | R8: Baarn | S8: E1B | T8: Elek | U8: Kleinverbruik | V8: JRL Jaarlijks | W8: Ja | X8: Administratief aan | Y8: Voorschotten toegelaten | Z8: E_DVK - Profielklik | AA8: 44567 | AB8: 526 | AC8: 279 | AG8: 0 | AH8: 526 | AI8: 279 | AJ8: 0 | AK8: 0 | AL8: 0 | AM8: FAS2735224 | AN8: KV | AO8: K20014139 | AP8: Gemeente Baarn | AQ8: Mevr C Bouwmeester | AR8: Postbus 1003 3740 BA BAARN | AT8: OV | AU8: NL28BNGH0285000594 | AV8: 594 | AW8: D14 | AX8: 3M | AZ8: rioolgemaal | BA8: Groep op factuurstrc | BB8: E0054007583946320 | BE8: Stedin Netbeheer Utrecht | BF8: 871687400000002254 | BG8: 0 | BH8: 8742030102119 | BI8: 3x25A | BJ8: 0 | BK8: Nee | BL8: Nee | BT8: 1
A9: K20014139 | B9: Gemeente Baarn | C9: 32167607 | D9: O32397362 | E9: Gemeentelijke gebouwen | F9: O32515446 | G9: O32519615 | H9: 871687400002215973 | I9: 44197 | J9: 44926 | K9: Ja | L9: Factureerbaar | M9: In bedrijf | N9: Hilversumsestraatweg | O9: 22 | P9: BY | Q9: 3744 KC | R9: Baarn | S9: E1B | T9: Elek | U9: Kleinverbruik | V9: JRL Jaarlijks | W9: Ja | X9: Administratief aan | Y9: Voorschotten toegelaten | Z9: E_DVK - Profielklik | AA9: 44656 | AB9: 21 | AC9: 21 | AG9: 0 | AH9: 12 | AI9: 12 | AJ9: 0 | AK9: 0 | AL9: 0 | AM9: FAS2735224 | AN9: KV | AO9: K20014139 | AP9: Gemeente Baarn | AQ9: Mevr C Bouwmeester | AR9: Postbus 1003 3740 BA BAARN | AT9: OV | AU9: NL28BNGH0285000594 | AV9: 594 | AW9: D14 | AX9: 3M | AZ9: rioolgemaal | BA9: Groep op factuurstrc | BB9: E0054007583945820 | BE9: Stedin Netbeheer Utrecht | BF9: 871687400000002254 | BG9: 0 | BH9: 8742030102119 | BI9: 3x25A | BJ9: 0 | BK9: Nee | BL9: Nee | BT9: 1
A10: K20014139 | B10: Gemeente Baarn | C10: 32167607 | D10: O32397362 | E10: Gemeentelijke gebouwen | F10: O32515446 | G10: O32519616 | H10: 871687400002216079 | I10: 44197 | J10: 44926 | K10: Ja | L10: Factureerbaar | M10: In bedrijf | N10: Hilversumsestraatweg | O10: 4 | P10: BY | Q10: 3744 KC | R10: Baarn | S10: E1B | T10: Elek | U10: Kleinverbruik | V10: JRL Jaarlijks | W10: Ja | X10: Administratief aan | Y10: Voorschotten toegelaten | Z10: E_DVK - Profielklik | AA10: 44567 | AB10: 748 | AC10: 528 | AG10: 0 | AH10: 748 | AI10: 528 | AJ10: 0 | AK10: 0 | AL10: 0 | AM10: FAS2735224 | AN10: KV | AO10: K20014139 | AP10: Gemeente Baarn | AQ10: Mevr C Bouwmeester | AR10: Postbus 1003 3740 BA BAARN | AT10: OV | AU10: NL28BNGH0285000594 | AV10: 594 | AW10: D14 | AX10: 3M | AZ10: rioolgemaal | BA10: Groep op factuurstrc | BB10: E0054007496539419 | BE10: Stedin Netbeheer Utrecht | BF10: 871687400000002254 | BG10: 0 | BH10: 8742030102119 | BI10: 3x25A | BJ10: 0 | BK10: Nee | BL10: Nee | BT10: 1
A11: K20014139 | B11: Gemeente Baarn | C11: 32167607 | D11: O32397362 | E11: Gemeentelijke gebouwen | F11: O32515446 | G11: O32519617 | H11: 871687400002216154 | I11: 44197 | J11: 44926 | K11: Ja | L11: Factureerbaar | M11: In bedrijf | N11: Hilversumsestraatweg | O11: 2 | P11: NST | Q11: 3744 KC | R11: Baarn | S11: E1B | T11: Elek | U11: Kleinverbruik | V11: JRL Jaarlijks | W11: Ja | X11: Administratief aan | Y11: Voorschotten toegelaten | Z11: E_DVK - Profielklik | AA11: 44197 | AB11: 459 | AC11: 460 | AD11: 0 | AE11: 0 | AG11: 0 | AH11: 462 | AI11: 462 | AJ11: 0 | AK11: 0 | AL11: 0 | AM11: FAS2735224 | AN11: KV | AO11: K20014139 | AP11: Gemeente Baarn | AQ11: Mevr C Bouwmeester | AR11: Postbus 1003 3740 BA BAARN | AT11: OV | AU11: NL28BNGH0285000594 | AV11: 594 | AW11: D14 | AX11: 3M | AZ11: HK BOSWEG RIOOLGEMAAL | BA11: Groep op factuurstrc | BB11: E0060100001891220 | BE11: Stedin Netbeheer Utrecht | BF11: 871687400000002254 | BG11: 0 | BH11: 8742030102119 | BI11: 3x25A | BJ11: 0 | BK11: Nee | BL11: Nee | BT11: 1
A12: K20014139 | B12: Gemeente Baarn | C12: 32167607 | D12: O32397362 | E12: Gemeentelijke gebouwen | F12: O32515446 | G12: O32519618 | H12: 871687400002218004 | I12: 44197 | J12: 44926 | K12: Ja | L12: Factureerbaar | M12: In bedrijf | N12: Hilversumsestraatweg | O12: 13 | P12: BY | Q12: 3744 KB | R12: Baarn | S12: E1B | T12: Elek | U12: Kleinverbruik | V12: JRL Jaarlijks | W12: Ja | X12: Administratief aan | Y12: Voorschotten toegelaten | Z12: E_DVK - Profielklik | AA12: 44197 | AB12: 419 | AC12: 414 | AD12: 0 | AE12: 0 | AG12: 0 | AH12: 421 | AI12: 417 | AJ12: 0 | AK12: 0 | AL12: 0 | AM12: FAS2735224 | AN12: KV | AO12: K20014139 | AP12: Gemeente Baarn | AQ12: Mevr C Bouwmeester | AR12: Postbus 1003 3740 BA BAARN | AT12: OV | AU12: NL28BNGH0285000594 | AV12: 594 | AW12: D14 | AX12: 3M | AZ12: PARALLELWG RIOOLGEMAAL | BA12: Groep op factuurstrc | BB12: E0054007560802119 | BE12: Stedin Netbeheer Utrecht | BF12: 871687400000002254 | BG12: 0 | BH12: 8742030102119 | BI12: 3x25A | BJ12: 0 | BK12: Nee | BL12: Nee | BT12: 1
A13: K20014139 | B13: Gemeente Baarn | C13: 32167607 | D13: O32397362 | E13: Gemeentelijke gebouwen | F13: O32515446 | G13: O32519619 | H13: 871687400002234752 | I13: 44197 | J13: 44926 | K13: Ja | L13: Factureerbaar | M13: In bedrijf | N13: Van Heemstralaan | O13: 15 | P13: BIJ | Q13: 3743 AJ | R13: Baarn | S13: E1B | T13: Elek | U13: Kleinverbruik | V13: JRL Jaarlijks | W13: Ja | X13: Administratief aan | Y13: Voorschotten toegelaten | Z13: E_DVK - Profielklik | AA13: 44566 | AB13: 116 | AC13: 117 | AG13: 0 | AH13: 116 | AI13: 117 | AJ13: 0 | AK13: 0 | AL13: 0 | AM13: FAS2735224 | AN13: KV | AO13: K20014139 | AP13: Gemeente Baarn | AQ13: Mevr C Bouwmeester | AR13: Postbus 1003 3740 BA BAARN | AT13: OV | AU13: NL28BNGH0285000594 | AV13: 594 | AW13: D14 | AX13: 3M | AZ13: rioolgemaal | BA13: Groep op factuurstrc | BB13: E0052004479582519 | BE13: Stedin Netbeheer Utrecht | BF13: 871687400000002254 | BG13: 0 | BH13: 8742030102119 | BI13: 3x25A | BJ13: 0 | BK13: Nee | BL13: Nee | BT13: 1
A14: K20014139 | B14: Gemeente Baarn | C14: 32167607 | D14: O32397362 | E14: Gemeentelijke gebouwen | F14: O32515446 | G14: O32519620 | H14: 871687400007562225 | I14: 44197 | J14: 44926 | K14: Ja | L14: Factureerbaar | M14: In bedrijf | N14: EEMWEG | O14: 102 | P14: A | Q14: 3741 LB | R14: Baarn | S14: E1B | T14: Elek | U14: Kleinverbruik | V14: JRL Jaarlijks | W14: Ja | X14: Administratief aan | Y14: Voorschotten toegelaten | Z14: E_DVK - Profielklik | AA14: 44567 | AB14: 2836 | AC14: 2324 | AG14: 0 | AH14: 2962 | AI14: 2369 | AJ14: 0 | AK14: 0 | AL14: 0 | AM14: FAS2735224 | AN14: KV | AO14: K20014139 | AP14: Gemeente Baarn | AQ14: Mevr C Bouwmeester | AR14: Postbus 1003 3740 BA BAARN | AT14: OV | AU14: NL28BNGH0285000594 | AV14: 594 | AW14: D14 | AX14: 3M | BA14: Groep op factuurstrc | BB14: E0054007560768019 | BE14: Stedin Netbeheer Utrecht | BF14: 871687400000002254 | BG14: 0 | BH14: 8742030102119 | BI14: 3x25A | BJ14: 0 | BK14: Ja | BL14: Nee | BT14: 1
A15: K20014139 | B15: Gemeente Baarn | C15: 32167607 | D15: O32397362 | E15: Gemeentelijke gebouwen | F15: O32515446 | G15: O32519621 | H15: 871687400007565110 | I15: 44197 | J15: 44926 | K15: Ja | L15: Factureerbaar | M15: In bedrijf | N15: EEMWEG | O15: 68 | P15: BY | Q15: 3741 LC | R15: Baarn | S15: E1A | T15: Elek | U15: Kleinverbruik | V15: JRL Jaarlijks | W15: Nee | Y15: Voorschotten toegelaten | Z15: E_DVK - Profielklik | AA15: 44378 | AB15: 528.45 | AC15: 284.55 | AG15: 0 | AH15: 530 | AI15: 286 | AJ15: 0 | AK15: 0 | AL15: 0 | AM15: FAS2735224 | AN15: KV | AO15: K20014139 | AP15: Gemeente Baarn | AQ15: Mevr C Bouwmeester | AR15: Postbus 1003 3740 BA BAARN | AT15: OV | AU15: NL28BNGH0285000594 | AV15: 594 | AW15: D14 | AX15: 3M | AZ15: rioolgemaal | BA15: Groep op factuurstrc | BB15: 8606274L | BE15: Stedin Netbeheer Utrecht | BF15: 871687400000002254 | BG15: 0 | BH15: 8742030102119 | BI15: 3x25A | BJ15: 0 | BK15: Nee | BL15: Nee | BT15: 1
A16: K20014139 | B16: Gemeente Baarn | C16: 32167607 | D16: O32397362 | E16: Gemeentelijke gebouwen | F16: O32515446 | G16: O32519622 | H16: 871687400007565387 | I16: 44197 | J16: 44926 | K16: Ja | L16: Factureerbaar | M16: In bedrijf | N16: Zuidereind | O16: 35 | P16: NST | Q16: 3741 LG | R16: Baarn | S16: E1B | T16: Elek | U16: Kleinverbruik | V16: JRL Jaarlijks | W16: Ja | X16: Administratief aan | Y16: Voorschotten toegelaten | Z16: E_DVK - Profielklik | AA16: 44216 | AB16: 0 | AC16: 0 | AG16: 0 | AH16: 0 | AI16: 0 | AJ16: 0 | AK16: 0 | AL16: 0 | AM16: FAS2735224 | AN16: KV | AO16: K20014139 | AP16: Gemeente Baarn | AQ16: Mevr C Bouwmeester | AR16: Postbus 1003 3740 BA BAARN | AT16: OV | AU16: NL28BNGH0285000594 | AV16: 594 | AW16: D14 | AX16: 3M | AZ16: STALEN KAST TBV GEMAAL | BA16: Groep op factuurstrc | BB16: E0060100002602320 | BE16: Stedin Netbeheer Utrecht | BF16: 871687400000002254 | BG16: 0 | BH16: 8742030102119 | BI16: 3x25A | BJ16: 0 | BK16: Nee | BL16: Nee | BT16: 1
A17: K20014139 | B17: Gemeente Baarn | C17: 32167607 | D17: O32397362 | E17: Gemeentelijke gebouwen | F17: O32515446 | G17: O32519623 | H17: 871687400007565721 | I17: 44197 | J17: 44926 | K17: Ja | L17: Factureerbaar | M17: In bedrijf | N17: Zuidereind | O17: 27 | P17: BY | Q17: 3741 LG | R17: Baarn | S17: E1B | T17: Elek | U17: Kleinverbruik | V17: JRL Jaarlijks | W17: Ja | X17: Administratief aan | Y17: Voorschotten toegelaten | Z17: E_DVK - Profielklik | AA17: 44567 | AB17: 205 | AC17: 154 | AG17: 0 | AH17: 205 | AI17: 154 | AJ17: 0 | AK17: 0 | AL17: 0 | AM17: FAS2735224 | AN17: KV | AO17: K20014139 | AP17: Gemeente Baarn | AQ17: Mevr C Bouwmeester | AR17: Postbus 1003 3740 BA BAARN | AT17: OV | AU17: NL28BNGH0285000594 | AV17: 594 | AW17: D14 | AX17: 3M | BA17: Groep op factuurstrc | BB17: E0054007619227120 | BE17: Stedin Netbeheer Utrecht | BF17: 871687400000002254 | BG17: 0 | BH17: 8742030102119 | BI17: 3x25A | BJ17: 0 | BK17: Ja | BL17: Nee | BT17: 1
A18: K20014139 | B18: Gemeente Baarn | C18: 32167607 | D18: O32397362 | E18: Gemeentelijke gebouwen | F18: O32515446 | G18: O32519624 | H18: 871687400007565790 | I18: 44197 | J18: 44926 | K18: Ja | L18: Factureerbaar | M18: In bedrijf | N18: Zuidereind | O18: 21 | P18: BY | Q18: 3741 LG | R18: Baarn | S18: E1B | T18: Elek | U18: Kleinverbruik | V18: JRL Jaarlijks | W18: Ja | X18: Administratief aan | Y18: Voorschotten toegelaten | Z18: E_DVK - Profielklik | AA18: 44567 | AB18: 220 | AC18: 195 | AG18: 0 | AH18: 220 | AI18: 195 | AJ18: 0 | AK18: 0 | AL18: 0 | AM18: FAS2735224 | AN18: KV | AO18: K20014139 | AP18: Gemeente Baarn | AQ18: Mevr C Bouwmeester | AR18: Postbus 1003 3740 BA BAARN | AT18: OV | AU18: NL28BNGH0285000594 | AV18: 594 | AW18: D14 | AX18: 3M | BA18: Groep op factuurstrc | BB18: E0060100002602620 | BE18: Stedin Netbeheer Utrecht | BF18: 871687400000002254 | BG18: 0 | BH18: 8742030102119 | BI18: 3x25A | BJ18: 0 | BK18: Ja | BL18: Nee | BT18: 1
A19: K20014139 | B19: Gemeente Baarn | C19: 32167607 | D19: O32397362 | E19: Gemeentelijke gebouwen | F19: O32515446 | G19: O32519625 | H19: 871687400007565929 | I19: 44197 | J19: 44926 | K19: Ja | L19: Factureerbaar | M19: In bedrijf | N19: Zuidereind | O19: 2 | P19: TO | Q19: 3741 LG | R19: Baarn | S19: E1B | T19: Elek | U19: Kleinverbruik | V19: JRL Jaarlijks | W19: Ja | X19: Administratief aan | Y19: Voorschotten toegelaten | Z19: E_DVK - Profielklik | AA19: 44655 | AB19: 626 | AC19: 594 | AG19: 0 | AH19: 590 | AI19: 516 | AJ19: 0 | AK19: 0 | AL19: 0 | AM19: FAS2735224 | AN19: KV | AO19: K20014139 | AP19: Gemeente Baarn | AQ19: Mevr C Bouwmeester | AR19: Postbus 1003 3740 BA BAARN | AT19: OV | AU19: NL28BNGH0285000594 | AV19: 594 | AW19: D14 | AX19: 3M | AZ19: TO | BA19: Groep op factuurstrc | BB19: E0060100001965820 | BE19: Stedin Netbeheer Utrecht | BF19: 871687400000002254 | BG19: 0 | BH19: 8742030102119 | BI19: 3x25A | BJ19: 0 | BK19: Nee | BL19: Nee | BT19: 1
A20: K20014139 | B20: Gemeente Baarn | C20: 32167607 | D20: O32397362 | E20: Gemeentelijke gebouwen | F20: O32515446 | G20: O32519626 | H20: 871687400007565998 | I20: 44197 | J20: 44926 | K20: Ja | L20: Factureerbaar | M20: In bedrijf | N20: Zuidereind | O20: 31 | P20: BY | Q20: 3741 LG | R20: Baarn | S20: E1B | T20: Elek | U20: Kleinverbruik | V20: JRL Jaarlijks | W20: Ja | X20: Administratief aan | Y20: Voorschotten toegelaten | Z20: E_DVK - Profielklik | AA20: 44567 | AB20: 566 | AC20: 448 | AG20: 0 | AH20: 566 | AI20: 448 | AJ20: 0 | AK20: 0 | AL20: 0 | AM20: FAS2735224 | AN20: KV | AO20: K20014139 | AP20: Gemeente Baarn | AQ20: Mevr C Bouwmeester | AR20: Postbus 1003 3740 BA BAARN | AT20: OV | AU20: NL28BNGH0285000594 | AV20: 594 | AW20: D14 | AX20: 3M | BA20: Groep op factuurstrc | BB20: E0054007619227220 | BE20: Stedin Netbeheer Utrecht | BF20: 871687400000002254 | BG20: 0 | BH20: 8742030102119 | BI20: 3x25A | BJ20: 0 | BK20: Ja | BL20: Nee | BT20: 1
A21: K20014139 | B21: Gemeente Baarn | C21: 32167607 | D21: O32397362 | E21: Gemeentelijke gebouwen | F21: O32515446 | G21: O32519627 | H21: 871687400007566063 | I21: 44197 | J21: 44926 | K21: Ja | L21: Factureerbaar | M21: In bedrijf | N21: Grimmesteinseweg | O21: 2 | P21: BY | Q21: 3741 LH | R21: Baarn | S21: E1B | T21: Elek | U21: Kleinverbruik | V21: JRL Jaarlijks | W21: Ja | X21: Administratief aan | Y21: Voorschotten toegelaten | Z21: E_DVK - Profielklik | AA21: 44567 | AB21: 79 | AC21: 64 | AG21: 0 | AH21: 79 | AI21: 64 | AJ21: 0 | AK21: 0 | AL21: 0 | AM21: FAS2735224 | AN21: KV | AO21: K20014139 | AP21: Gemeente Baarn | AQ21: Mevr C Bouwmeester | AR21: Postbus 1003 3740 BA BAARN | AT21: OV | AU21: NL28BNGH0285000594 | AV21: 594 | AW21: D14 | AX21: 3M | BA21: Groep op factuurstrc | BB21: E0060100002602520 | BE21: Stedin Netbeheer Utrecht | BF21: 871687400000002254 | BG21: 0 | BH21: 8742030102119 | BI21: 3x25A | BJ21: 0 | BK21: Ja | BL21: Nee | BT21: 1
A22: K20014139 | B22: Gemeente Baarn | C22: 32167607 | D22: O32397362 | E22: Gemeentelijke gebouwen | F22: O32515446 | G22: O32519628 | H22: 871687400007576109 | I22: 44197 | J22: 44926 | K22: Ja | L22: Factureerbaar | M22: In bedrijf | N22: De Geerenweg | O22: 1 | P22: TO | Q22: 3741 RP | R22: Baarn | S22: E1B | T22: Elek | U22: Kleinverbruik | V22: JRL Jaarlijks | W22: Ja | X22: Administratief aan | Y22: Voorschotten toegelaten | Z22: E_DVK - Profielklik | AA22: 44566 | AB22: 10958 | AC22: 12333 | AG22: 0 | AH22: 10958 | AI22: 12333 | AJ22: 0 | AK22: 0 | AL22: 0 | AM22: FAS2735224 | AN22: KV | AO22: K20014139 | AP22: Gemeente Baarn | AQ22: Mevr C Bouwmeester | AR22: Postbus 1003 3740 BA BAARN | AT22: OV | AU22: NL28BNGH0285000594 | AV22: 594 | AW22: D14 | AX22: 3M | AZ22: TO | BA22: Groep op factuurstrc | BB22: E0054007619227720 | BE22: Stedin Netbeheer Utrecht | BF22: 871687400000002254 | BG22: 0 | BH22: 8742030102119 | BI22: 3x25A | BJ22: 0 | BK22: Nee | BL22: Nee | BT22: 1
A23: K20014139 | B23: Gemeente Baarn | C23: 32167607 | D23: O32397362 | E23: Gemeentelijke gebouwen | F23: O32515446 | G23: O32519629 | H23: 871687400007580977 | I23: 44197 | J23: 44926 | K23: Ja | L23: Factureerbaar | M23: In bedrijf | N23: De Geerenweg | O23: 11 | P23: AC | Q23: 3741 RP | R23: Baarn | S23: E1A | T23: Elek | U23: Kleinverbruik | V23: JRL Jaarlijks | W23: Nee | Y23: Voorschotten toegelaten | Z23: E_DVK - Profielklik | AA23: 44378 | AB23: 24.7 | AC23: 13.3 | AG23: 0 | AH23: 25 | AI23: 13 | AJ23: 0 | AK23: 0 | AL23: 0 | AM23: FAS2735224 | AN23: KV | AO23: K20014139 | AP23: Gemeente Baarn | AQ23: Mevr C Bouwmeester | AR23: Postbus 1003 3740 BA BAARN | AT23: OV | AU23: NL28BNGH0285000594 | AV23: 594 | AW23: D14 | AX23: 3M | AZ23: pompgemaal | BA23: Groep op factuurstrc | BB23: 8809879L | BE23: Stedin Netbeheer Utrecht | BF23: 871687400000002254 | BG23: 0 | BH23: 8742030102119 | BI23: 3x25A | BJ23: 0 | BK23: Nee | BL23: Nee | BT23: 1
A24: K20014139 | B24: Gemeente Baarn | C24: 32167607 | D24: O32397362 | E24: Gemeentelijke gebouwen | F24: O32515446 | G24: O32519630 | H24: 871687400007581066 | I24: 44197 | J24: 44926 | K24: Ja | L24: Factureerbaar | M24: In bedrijf | N24: De Geerenweg | O24: 8 | Q24: 3741 RS | R24: Baarn | S24: E1B | T24: Elek | U24: Kleinverbruik | V24: JRL Jaarlijks | W24: Ja | X24: Administratief aan | Y24: Voorschotten toegelaten | Z24: E_DVK - Profielklik | AA24: 44567 | AB24: 48 | AC24: 40 | AG24: 0 | AH24: 48 | AI24: 40 | AJ24: 0 | AK24: 0 | AL24: 0 | AM24: FAS2735224 | AN24: KV | AO24: K20014139 | AP24: Gemeente Baarn | AQ24: Mevr C Bouwmeester | AR24: Postbus 1003 3740 BA BAARN | AT24: OV | AU24: NL28BNGH0285000594 | AV24: 594 | AW24: D14 | AX24: 3M | AZ24: pompgemaal | BA24: Groep op factuurstrc | BB24: E0044007118735318 | BE24: Stedin Netbeheer Utrecht | BF24: 871687400000002254 | BG24: 0 | BH24: 8742030102119 | BI24: 3x25A | BJ24: 0 | BK24: Nee | BL24: Nee | BT24: 1
A25: K20014139 | B25: Gemeente Baarn | C25: 32167607 | D25: O32397362 | E25: Gemeentelijke gebouwen | F25: O32515446 | G25: O32519631 | H25: 871687400007586177 | I25: 44197 | J25: 44926 | K25: Ja | L25: Factureerbaar | M25: In bedrijf | N25: Hoofdstraat | O25: 3 | Q25: 3741 AC | R25: Baarn | S25: E1B | T25: Elek | U25: Kleinverbruik | V25: JRL Jaarlijks | W25: Ja | X25: Administratief aan | Y25: Voorschotten toegelaten | Z25: E_DVK - Profielklik | AA25: 44566 | AB25: 683 | AC25: 1136 | AG25: 0 | AH25: 683 | AI25: 1136 | AJ25: 0 | AK25: 0 | AL25: 0 | AM25: FAS2735224 | AN25: KV | AO25: K20014139 | AP25: Gemeente Baarn | AQ25: Mevr C Bouwmeester | AR25: Postbus 1003 3740 BA BAARN | AT25: OV | AU25: NL28BNGH0285000594 | AV25: 594 | AW25: D14 | AX25: 3M | AZ25: Algemene Voorziening | BA25: Groep op factuurstrc | BB25: E0035005521413220 | BE25: Stedin Netbeheer Utrecht | BF25: 871687400000002254 | BG25: 0 | BH25: 8742030102119 | BI25: 3x25A | BJ25: 0 | BK25: Ja | BL25: Nee | BT25: 1
A26: K20014139 | B26: Gemeente Baarn | C26: 32167607 | D26: O32397362 | E26: Gemeentelijke gebouwen | F26: O32515446 | G26: O32519632 | H26: 871687400007602464 | I26: 44197 | J26: 44529 | K26: Nee | L26: Eindafrekening | M26: Gesloopt | N26: Wagenaarlaan | O26: 10 | Q26: 3741 GE | R26: Baarn | S26: E2A | T26: Elek | U26: Kleinverbruik | V26: JRL Jaarlijks | W26: Nee | Y26: Voorschotten toegelaten | Z26: E_DVK - Profielklik | AA26: 44378 | AB26: 45602 | AC26: 0 | AG26: 0 | AH26: 25207 | AI26: 27240 | AJ26: 0 | AK26: 0 | AL26: 0 | AM26: FAS2735224 | AN26: KV | AO26: K20014139 | AP26: Gemeente Baarn | AQ26: Mevr C Bouwmeester | AR26: Postbus 1003 3740 BA BAARN | AT26: OV | AU26: NL28BNGH0285000594 | AV26: 594 | AW26: D14 | AX26: 3M | BA26: Groep op factuurstrc | BB26: 9517546O | BE26: Stedin Netbeheer Utrecht | BF26: 871687400000002254 | BG26: 0 | BH26: 8742030104113 | BI26: 3x50A | BJ26: 0 | BK26: Ja | BL26: Nee | BT26: 1
A27: K20014139 | B27: Gemeente Baarn | C27: 32167607 | D27: O32397362 | E27: Gemeentelijke gebouwen | F27: O32515446 | G27: O32519633 | H27: 871687400007605915 | I27: 44197 | J27: 44493 | K27: Nee | L27: Eindafrekening | M27: Gesloopt | N27: Prof. Meijerslaan | O27: 3 | Q27: 3741 XG | R27: Baarn | S27: E1A | T27: Elek | U27: Kleinverbruik | V27: JRL Jaarlijks | W27: Nee | Y27: Voorschotten toegelaten | Z27: E_DVK - Profielklik | AA27: 44378 | AB27: 28866 | AC27: 0 | AG27: 0 | AH27: 3312 | AI27: 15209 | AJ27: 0 | AK27: 0 | AL27: 0 | AM27: FAS2735224 | AN27: KV | AO27: K20014139 | AP27: Gemeente Baarn | AQ27: Mevr C Bouwmeester | AR27: Postbus 1003 3740 BA BAARN | AT27: OV | AU27: NL28BNGH0285000594 | AV27: 594 | AW27: D14 | AX27: 3M | BA27: Groep op factuurstrc | BB27: 19456209 | BE27: Stedin Netbeheer Utrecht | BF27: 871687400000002254 | BG27: 0 | BH27: 8742030102119 | BI27: 3x25A | BJ27: 0 | BK27: Ja | BL27: Nee | BT27: 1
A28: K20014139 | B28: Gemeente Baarn | C28: 32167607 | D28: O32397362 | E28: Gemeentelijke gebouwen | F28: O32515446 | G28: O32519634 | H28: 871687400007636278 | I28: 44197 | J28: 44926 | K28: Ja | L28: Factureerbaar | M28: In bedrijf | N28: Tolweg | O28: 6 | P28: NST | Q28: 3741 LK | R28: Baarn | S28: E1B | T28: Elek | U28: Kleinverbruik | V28: JRL Jaarlijks | W28: Ja | X28: Administratief aan | Y28: Voorschotten toegelaten | Z28: E_DVK - Profielklik | AA28: 44348 | AB28: 690 | AC28: 9439 | AG28: 0 | AH28: 878 | AI28: 7721 | AJ28: 0 | AK28: 0 | AL28: 0 | AM28: FAS2735224 | AN28: KV | AO28: K20014139 | AP28: Gemeente Baarn | AQ28: Mevr C Bouwmeester | AR28: Postbus 1003 3740 BA BAARN | AT28: OV | AU28: NL28BNGH0285000594 | AV28: 594 | AW28: D14 | AX28: 3M | AZ28: Naast | BA28: Groep op factuurstrc | BB28: E0046004049695617 | BE28: Stedin Netbeheer Utrecht | BF28: 871687400000002254 | BG28: 0 | BH28: 8742030102119 | BI28: 3x25A | BJ28: 0 | BK28: Nee | BL28: Nee | BT28: 1
A29: K20014139 | B29: Gemeente Baarn | C29: 32167607 | D29: O32397362 | E29: Gemeentelijke gebouwen | F29: O32515446 | G29: O32519635 | H29: 871687400007643047 | I29: 44197 | J29: 44926 | K29: Ja | L29: Factureerbaar | M29: In bedrijf | N29: Bisschopswaai | O29: 7 | P29: BY | Q29: 3741 LL | R29: Baarn | S29: E1B | T29: Elek | U29: Kleinverbruik | V29: JRL Jaarlijks | W29: Ja | X29: Administratief aan | Y29: Voorschotten toegelaten | Z29: E_DVK - Profielklik | AA29: 44567 | AB29: 734 | AC29: 618 | AG29: 0 | AH29: 734 | AI29: 618 | AJ29: 0 | AK29: 0 | AL29: 0 | AM29: FAS2735224 | AN29: KV | AO29: K20014139 | AP29: Gemeente Baarn | AQ29: Mevr C Bouwmeester | AR29: Postbus 1003 3740 BA BAARN | AT29: OV | AU29: NL28BNGH0285000594 | AV29: 594 | AW29: D14 | AX29: 3M | BA29: Groep op factuurstrc | BB29: E0060100001965920 | BE29: Stedin Netbeheer Utrecht | BF29: 871687400000002254 | BG29: 0 | BH29: 8742030102119 | BI29: 3x25A | BJ29: 0 | BK29: Ja | BL29: Nee | BT29: 1
A30: K20014139 | B30: Gemeente Baarn | C30: 32167607 | D30: O32397362 | E30: Gemeentelijke gebouwen | F30: O32515446 | G30: O32519636 | H30: 871687400007687850 | I30: 44197 | J30: 44926 | K30: Ja | L30: Factureerbaar | M30: In bedrijf | N30: Burgemeester Penstraat | O30: 6 | Q30: 3741 AH | R30: Baarn | S30: E1B | T30: Elek | U30: Kleinverbruik | V30: JRL Jaarlijks | W30: Ja | X30: Administratief aan | Y30: Voorschotten toegelaten | Z30: E_DVK - Profielklik | AA30: 44566 | AB30: 3001 | AC30: 2593 | AG30: 0 | AH30: 3001 | AI30: 2593 | AJ30: 0 | AK30: 0 | AL30: 0 | AM30: FAS2735224 | AN30: KV | AO30: K20014139 | AP30: Gemeente Baarn | AQ30: Mevr C Bouwmeester | AR30: Postbus 1003 3740 BA BAARN | AT30: OV | AU30: NL28BNGH0285000594 | AV30: 594 | AW30: D14 | AX30: 3M | BA30: Groep op factuurstrc | BB30: E0044007144804318 | BE30: Stedin Netbeheer Utrecht | BF30: 871687400000002254 | BG30: 0 | BH30: 8742030102119 | BI30: 3x25A | BJ30: 0 | BK30: Ja | BL30: Nee | BT30: 1
A31: K20014139 | B31: Gemeente Baarn | C31: 32167607 | D31: O32397362 | E31: Gemeentelijke gebouwen | F31: O32515446 | G31: O32519637 | H31: 871687400007687911 | I31: 44197 | J31: 44926 | K31: Ja | L31: Factureerbaar | M31: In bedrijf | N31: Burgemeester Penstraat | O31: 4 | Q31: 3741 AH | R31: Baarn | S31: E1B | T31: Elek | U31: Kleinverbruik | V31: JRL Jaarlijks | W31: Ja | X31: Administratief aan | Y31: Voorschotten toegelaten | Z31: E_DVK - Profielklik | AA31: 44567 | AB31: 576 | AC31: 649 | AG31: 0 | AH31: 576 | AI31: 649 | AJ31: 0 | AK31: 0 | AL31: 0 | AM31: FAS2735224 | AN31: KV | AO31: K20014139 | AP31: Gemeente Baarn | AQ31: Mevr C Bouwmeester | AR31: Postbus 1003 3740 BA BAARN | AT31: OV | AU31: NL28BNGH0285000594 | AV31: 594 | AW31: D14 | AX31: 3M | BA31: Groep op factuurstrc | BB31: E0053007546762219 | BE31: Stedin Netbeheer Utrecht | BF31: 871687400000002254 | BG31: 0 | BH31: 8742030102119 | BI31: 3x25A | BJ31: 0 | BK31: Ja | BL31: Nee | BT31: 1
A32: K20014139 | B32: Gemeente Baarn | C32: 32167607 | D32: O32397362 | E32: Gemeentelijke gebouwen | F32: O32515446 | G32: O32519638 | H32: 871687400007730051 | I32: 44197 | J32: 44926 | K32: Ja | L32: Factureerbaar | M32: In bedrijf | N32: Kerkstraat | O32: 28 | Q32: 3741 AK | R32: Baarn | S32: E2A | T32: Elek | U32: Kleinverbruik | V32: JRL Jaarlijks | W32: Nee | Y32: Voorschotten toegelaten | Z32: E_DVK - Profielklik | AA32: 44378 | AB32: 25651 | AC32: 0 | AG32: 0 | AH32: 21773 | AI32: 3954 | AJ32: 0 | AK32: 0 | AL32: 0 | AM32: FAS2735224 | AN32: KV | AO32: K20014139 | AP32: Gemeente Baarn | AQ32: Mevr C Bouwmeester | AR32: Postbus 1003 3740 BA BAARN | AT32: OV | AU32: NL28BNGH0285000594 | AV32: 594 | AW32: D14 | AX32: 3M | BA32: Groep op factuurstrc | BB32: 31383979 | BE32: Stedin Netbeheer Utrecht | BF32: 871687400000002254 | BG32: 0 | BH32: 8742030105110 | BI32: 3x63A | BJ32: 0 | BK32: Ja | BL32: Nee | BT32: 1
A33: K20014139 | B33: Gemeente Baarn | C33: 32167607 | D33: O32397362 | E33: Gemeentelijke gebouwen | F33: O32515446 | G33: O32519639 | H33: 871687400007738880 | I33: 44197 | J33: 44926 | K33: Ja | L33: Factureerbaar | M33: In bedrijf | N33: Hermesweg | O33: 14 | Q33: 3741 GP | R33: Baarn | S33: E1B | T33: Elek | U33: Kleinverbruik | V33: JRL Jaarlijks | W33: Ja | X33: Administratief aan | Y33: Voorschotten toegelaten | Z33: E_DVK - Profielklik | AA33: 44567 | AB33: 2774 | AC33: 2064 | AG33: 0 | AH33: 2774 | AI33: 2064 | AJ33: 0 | AK33: 0 | AL33: 0 | AM33: FAS2735224 | AN33: KV | AO33: K20014139 | AP33: Gemeente Baarn | AQ33: Mevr C Bouwmeester | AR33: Postbus 1003 3740 BA BAARN | AT33: OV | AU33: NL28BNGH0285000594 | AV33: 594 | AW33: D14 | AX33: 3M | AZ33: THV RIOOLGEMAAL | BA33: Groep op factuurstrc | BB33: E0054007618870720 | BE33: Stedin Netbeheer Utrecht | BF33: 871687400000002254 | BG33: 0 | BH33: 8742030102119 | BI33: 3x25A | BJ33: 0 | BK33: Nee | BL33: Nee | BT33: 1
A34: K20014139 | B34: Gemeente Baarn | C34: 32167607 | D34: O32397362 | E34: Gemeentelijke gebouwen | F34: O32515446 | G34: O32519640 | H34: 871687400007784283 | I34: 44197 | J34: 44318 | K34: Nee | L34: Eindafrekening | M34: Gesloopt | N34: Plataanlaan | O34: 1 | Q34: 3741 WE | R34: Baarn | S34: E2B | T34: Elek | U34: Kleinverbruik | V34: JRL Jaarlijks | W34: Nee | Y34: Voorschotten toegelaten | Z34: E_DVK - Profielklik | AA34: 44216 | AB34: 4988 | AC34: 4500 | AG34: 0 | AH34: 245 | AI34: 1286 | AJ34: 0 | AK34: 0 | AL34: 0 | AM34: FAS2735224 | AN34: KV | AO34: K20014139 | AP34: Gemeente Baarn | AQ34: Mevr C Bouwmeester | AR34: Postbus 1003 3740 BA BAARN | AT34: OV | AU34: NL28BNGH0285000594 | AV34: 594 | AW34: D14 | AX34: 3M | AZ34: BOEMERANG PLATAAN | BA34: Groep op factuurstrc | BB34: E0044007126642218 | BE34: Stedin Netbeheer Utrecht | BF34: 871687400000002254 | BG34: 0 | BH34: 8742030104113 | BI34: 3x50A | BJ34: 0 | BK34: Ja | BL34: Nee | BT34: 1
A35: K20014139 | B35: Gemeente Baarn | C35: 32167607 | D35: O32397362 | E35: Gemeentelijke gebouwen | F35: O32515446 | G35: O32519641 | H35: 871687400007870764 | I35: 44197 | J35: 44926 | K35: Ja | L35: Factureerbaar | M35: In bedrijf | N35: Drakenburgerweg | O35: 25 | P35: BY | Q35: 3741 GK | R35: Baarn | S35: E1A | T35: Elek | U35: Kleinverbruik | V35: JRL Jaarlijks | W35: Nee | Y35: Voorschotten toegelaten | Z35: E_DVK - Profielklik | AA35: 44378 | AB35: 677 | AC35: 0 | AG35: 0 | AH35: 454 | AI35: 224 | AJ35: 0 | AK35: 0 | AL35: 0 | AM35: FAS2735224 | AN35: KV | AO35: K20014139 | AP35: Gemeente Baarn | AQ35: Mevr C Bouwmeester | AR35: Postbus 1003 3740 BA BAARN | AT35: OV | AU35: NL28BNGH0285000594 | AV35: 594 | AW35: D14 | AX35: 3M | BA35: Groep op factuurstrc | BB35: 89259329 | BE35: Stedin Netbeheer Utrecht | BF35: 871687400000002254 | BG35: 0 | BH35: 8742030102119 | BI35: 3x25A | BJ35: 0 | BK35: Ja | BL35: Nee | BT35: 1
A36: K20014139 | B36: Gemeente Baarn | C36: 32167607 | D36: O32397362 | E36: Gemeentelijke gebouwen | F36: O32515446 | G36: O32519642 | H36: 871687400007882927 | I36: 44197 | J36: 44926 | K36: Ja | L36: Factureerbaar | M36: In bedrijf | N36: Eemnesserweg | O36: 80 | P36: TO | Q36: 3741 GC | R36: Baarn | S36: E1B | T36: Elek | U36: Kleinverbruik | V36: JRL Jaarlijks | W36: Ja | X36: Administratief aan | Y36: Voorschotten toegelaten | Z36: E_DVK - Profielklik | AA36: 44567 | AB36: 515 | AC36: 346 | AG36: 0 | AH36: 515 | AI36: 346 | AJ36: 0 | AK36: 0 | AL36: 0 | AM36: FAS2735224 | AN36: KV | AO36: K20014139 | AP36: Gemeente Baarn | AQ36: Mevr C Bouwmeester | AR36: Postbus 1003 3740 BA BAARN | AT36: OV | AU36: NL28BNGH0285000594 | AV36: 594 | AW36: D14 | AX36: 3M | AZ36: VOLIERE/PUBL.WERK. | BA36: Groep op factuurstrc | BB36: E0051005480806920 | BE36: Stedin Netbeheer Utrecht | BF36: 871687400000002254 | BG36: 0 | BH36: 8742030102119 | BI36: 3x25A | BJ36: 0 | BK36: Nee | BL36: Nee | BT36: 1
A37: K20014139 | B37: Gemeente Baarn | C37: 32167607 | D37: O32397362 | E37: Gemeentelijke gebouwen | F37: O32515446 | G37: O32577200 | H37: 871687400007952736 | I37: 44197 | J37: 44926 | K37: Ja | L37: Factureerbaar | M37: In bedrijf | N37: Heemskerklaan | O37: 25 | Q37: 3742 AK | R37: Baarn | S37: E2B | T37: Elek | U37: Kleinverbruik | V37: JRL Jaarlijks | W37: Ja | X37: Administratief aan | Y37: Voorschotten toegelaten | Z37: E_DVK - Profielklik | AA37: 44566 | AB37: 15261 | AC37: 15728 | AG37: 0 | AH37: 15261 | AI37: 15728 | AJ37: 0 | AK37: 0 | AL37: 0 | AM37: FAS2735224 | AN37: KV | AO37: K20014139 | AP37: Gemeente Baarn | AQ37: Mevr C Bouwmeester | AR37: Postbus 1003 3740 BA BAARN | AT37: OV | AU37: NL28BNGH0285000594 | AV37: 594 | AW37: D14 | AX37: 3M | AY37: Heemskerklaan 25 | AZ37: 3742 AK Baarn | BA37: Groep op factuurstrc | BB37: E0054007468899519 | BE37: Stedin Netbeheer Utrecht | BF37: 871687400000002254 | BG37: 0 | BH37: 8742030104113 | BI37: 3x50A | BJ37: 0 | BK37: Ja | BL37: Nee | BT37: 1
A38: K20014139 | B38: Gemeente Baarn | C38: 32167607 | D38: O32397362 | E38: Gemeentelijke gebouwen | F38: O32515446 | G38: O32519643 | H38: 871687400007985765 | I38: 44197 | J38: 44926 | K38: Ja | L38: Factureerbaar | M38: In bedrijf | N38: Baarnsche Dijk | O38: 2 | Q38: 3741 LR | R38: Baarn | S38: E1B | T38: Elek | U38: Kleinverbruik | V38: JRL Jaarlijks | W38: Ja | X38: Administratief aan | Y38: Voorschotten toegelaten | Z38: E_DVK - Profielklik | AA38: 44566 | AB38: 8335 | AC38: 9321 | AG38: 0 | AH38: 8335 | AI38: 9321 | AJ38: 0 | AK38: 0 | AL38: 0 | AM38: FAS2735224 | AN38: KV | AO38: K20014139 | AP38: Gemeente Baarn | AQ38: Mevr C Bouwmeester | AR38: Postbus 1003 3740 BA BAARN | AT38: OV | AU38: NL28BNGH0285000594 | AV38: 594 | AW38: D14 | AX38: 3M | AZ38: 2 GEMALEN (1 KAST) | BA38: Groep op factuurstrc | BB38: E0060100002422920 | BE38: Stedin Netbeheer Utrecht | BF38: 871687400000002254 | BG38: 0 | BH38: 8742030102119 | BI38: 3x25A | BJ38: 0 | BK38: Nee | BL38: Nee | BT38: 1
A39: K20014139 | B39: Gemeente Baarn | C39: 32167607 | D39: O32397362 | E39: Gemeentelijke gebouwen | F39: O32515446 | G39: O32519644 | H39: 871687400007986960 | I39: 44197 | J39: 44926 | K39: Ja | L39: Factureerbaar | M39: In bedrijf | N39: Piet Heinlaan | O39: 11 | P39: NST | Q39: 3742 AN | R39: Baarn | S39: E1B | T39: Elek | U39: Kleinverbruik | V39: JRL Jaarlijks | W39: Ja | X39: Administratief aan | Y39: Voorschotten toegelaten | Z39: E_DVK - Profielklik | AA39: 44566 | AB39: 1706 | AC39: 1567 | AG39: 0 | AH39: 1706 | AI39: 1567 | AJ39: 0 | AK39: 0 | AL39: 0 | AM39: FAS2735224 | AN39: KV | AO39: K20014139 | AP39: Gemeente Baarn | AQ39: Mevr C Bouwmeester | AR39: Postbus 1003 3740 BA BAARN | AT39: OV | AU39: NL28BNGH0285000594 | AV39: 594 | AW39: D14 | AX39: 3M | AZ39: Naast | BA39: Groep op factuurstrc | BB39: E0060100002005320 | BE39: Stedin Netbeheer Utrecht | BF39: 871687400000002254 | BG39: 0 | BH39: 8742030102119 | BI39: 3x25A | BJ39: 0 | BK39: Nee | BL39: Nee | BT39: 1
A40: K20014139 | B40: Gemeente Baarn | C40: 32167607 | D40: O32397362 | E40: Gemeentelijke gebouwen | F40: O32515446 | G40: O32519645 | H40: 871687400008045697 | I40: 44197 | J40: 44926 | K40: Ja | L40: Factureerbaar | M40: In bedrijf | N40: Torenlaan | O40: 77 | P40: BY | Q40: 3742 CS | R40: Baarn | S40: E1B | T40: Elek | U40: Kleinverbruik | V40: JRL Jaarlijks | W40: Ja | X40: Administratief aan | Y40: Voorschotten toegelaten | Z40: E_DVK - Profielklik | AA40: 44567 | AB40: 367 | AC40: 246 | AG40: 0 | AH40: 385 | AI40: 239 | AJ40: 0 | AK40: 0 | AL40: 0 | AM40: FAS2735224 | AN40: KV | AO40: K20014139 | AP40: Gemeente Baarn | AQ40: Mevr C Bouwmeester | AR40: Postbus 1003 3740 BA BAARN | AT40: OV | AU40: NL28BNGH0285000594 | AV40: 594 | AW40: D14 | AX40: 3M | BA40: Groep op factuurstrc | BB40: E0051005545047020 | BE40: Stedin Netbeheer Utrecht | BF40: 871687400000002254 | BG40: 0 | BH40: 8742030102119 | BI40: 3x25A | BJ40: 0 | BK40: Ja | BL40: Nee | BT40: 1
...
