Workbook

Sheet Samenvatting
C1: SJV (Nm3)
A2: Gemeente/deelnemer | B2: Kolom1 | C2: standaardjaarverbruik | D2: Kolom2 | E2: Aansluitingen (G1, G2A) | F2: Verbruik (G1, G2A) | G2: Aansluitingen G2C | H2: Verbruik G2C | I2: Aansluitingen GXX | J2: Verbruik GXX
A3: Gemeente Baarn | C3: =+SUMIF('Platte data'!A$2:A$289,A3,'Platte data'!W$2:W$289) -> 106548 | E3: =+SUMIF('Platte data'!$A$2:$A$289,Samenvatting!$A3,'Platte data'!$Y$2:$Y$289) -> 7 | F3: =+SUMIF('Platte data'!$A$2:$A$289,Samenvatting!$A3,'Platte data'!$AB$2:$AB$289) -> 53442 | G3: =+SUMIF('Platte data'!$A$2:$A$289,Samenvatting!$A3,'Platte data'!$Z$2:$Z$289) -> 1 | H3: =+SUMIF('Platte data'!$A$2:$A$289,Samenvatting!$A3,'Platte data'!$AC$2:$AC$289) -> 53106 | I3: =+SUMIF('Platte data'!$A$2:$A$289,Samenvatting!$A3,'Platte data'!$AA$2:$AA$289) -> 0 | J3: =+SUMIF('Platte data'!$A$2:$A$289,Samenvatting!$A3,'Platte data'!$AD$2:$AD$289) -> 0
A4: Gemeente Bunnik | C4: =+SUMIF('Platte data'!A$2:A$289,A4,'Platte data'!W$2:W$289) -> 43343 | E4: =+SUMIF('Platte data'!$A$2:$A$289,Samenvatting!$A4,'Platte data'!$Y$2:$Y$289) -> 3 | F4: =+SUMIF('Platte data'!$A$2:$A$289,Samenvatting!$A4,'Platte data'!$AB$2:$AB$289) -> 13362 | G4: =+SUMIF('Platte data'!$A$2:$A$289,Samenvatting!$A4,'Platte data'!$Z$2:$Z$289) -> 1 | H4: =+SUMIF('Platte data'!$A$2:$A$289,Samenvatting!$A4,'Platte data'!$AC$2:$AC$289) -> 29981 | I4: =+SUMIF('Platte data'!$A$2:$A$289,Samenvatting!$A4,'Platte data'!$AA$2:$AA$289) -> 0 | J4: =+SUMIF('Platte data'!$A$2:$A$289,Samenvatting!$A4,'Platte data'!$AD$2:$AD$289) -> 0
A5: Gemeente De Bilt | C5: =+SUMIF('Platte data'!A$2:A$289,A5,'Platte data'!W$2:W$289) -> 243453 | E5: =+SUMIF('Platte data'!$A$2:$A$289,Samenvatting!$A5,'Platte data'!$Y$2:$Y$289) -> 13 | F5: =+SUMIF('Platte data'!$A$2:$A$289,Samenvatting!$A5,'Platte data'!$AB$2:$AB$289) -> 79119 | G5: =+SUMIF('Platte data'!$A$2:$A$289,Samenvatting!$A5,'Platte data'!$Z$2:$Z$289) -> 4 | H5: =+SUMIF('Platte data'!$A$2:$A$289,Samenvatting!$A5,'Platte data'!$AC$2:$AC$289) -> 164334 | I5: =+SUMIF('Platte data'!$A$2:$A$289,Samenvatting!$A5,'Platte data'!$AA$2:$AA$289) -> 0 | J5: =+SUMIF('Platte data'!$A$2:$A$289,Samenvatting!$A5,'Platte data'!$AD$2:$AD$289) -> 0
A6: Gemeente Houten | C6: =+SUMIF('Platte data'!A$2:A$289,A6,'Platte data'!W$2:W$289) -> 397948 | E6: =+SUMIF('Platte data'!$A$2:$A$289,Samenvatting!$A6,'Platte data'!$Y$2:$Y$289) -> 28 | F6: =+SUMIF('Platte data'!$A$2:$A$289,Samenvatting!$A6,'Platte data'!$AB$2:$AB$289) -> 325768 | G6: =+SUMIF('Platte data'!$A$2:$A$289,Samenvatting!$A6,'Platte data'!$Z$2:$Z$289) -> 1 | H6: =+SUMIF('Platte data'!$A$2:$A$289,Samenvatting!$A6,'Platte data'!$AC$2:$AC$289) -> 72180 | I6: =+SUMIF('Platte data'!$A$2:$A$289,Samenvatting!$A6,'Platte data'!$AA$2:$AA$289) -> 0 | J6: =+SUMIF('Platte data'!$A$2:$A$289,Samenvatting!$A6,'Platte data'!$AD$2:$AD$289) -> 0
A7: Gemeente Leusden | C7: =+SUMIF('Platte data'!A$2:A$289,A7,'Platte data'!W$2:W$289) -> 115185 | E7: =+SUMIF('Platte data'!$A$2:$A$289,Samenvatting!$A7,'Platte data'!$Y$2:$Y$289) -> 13 | F7: =+SUMIF('Platte data'!$A$2:$A$289,Samenvatting!$A7,'Platte data'!$AB$2:$AB$289) -> 81510 | G7: =+SUMIF('Platte data'!$A$2:$A$289,Samenvatting!$A7,'Platte data'!$Z$2:$Z$289) -> 1 | H7: =+SUMIF('Platte data'!$A$2:$A$289,Samenvatting!$A7,'Platte data'!$AC$2:$AC$289) -> 33675 | I7: =+SUMIF('Platte data'!$A$2:$A$289,Samenvatting!$A7,'Platte data'!$AA$2:$AA$289) -> 0 | J7: =+SUMIF('Platte data'!$A$2:$A$289,Samenvatting!$A7,'Platte data'!$AD$2:$AD$289) -> 0
A8: Gemeente Lopik | C8: =+SUMIF('Platte data'!A$2:A$289,A8,'Platte data'!W$2:W$289) -> 108373 | E8: =+SUMIF('Platte data'!$A$2:$A$289,Samenvatting!$A8,'Platte data'!$Y$2:$Y$289) -> 10 | F8: =+SUMIF('Platte data'!$A$2:$A$289,Samenvatting!$A8,'Platte data'!$AB$2:$AB$289) -> 60797 | G8: =+SUMIF('Platte data'!$A$2:$A$289,Samenvatting!$A8,'Platte data'!$Z$2:$Z$289) -> 2 | H8: =+SUMIF('Platte data'!$A$2:$A$289,Samenvatting!$A8,'Platte data'!$AC$2:$AC$289) -> 47576 | I8: =+SUMIF('Platte data'!$A$2:$A$289,Samenvatting!$A8,'Platte data'!$AA$2:$AA$289) -> 0 | J8: =+SUMIF('Platte data'!$A$2:$A$289,Samenvatting!$A8,'Platte data'!$AD$2:$AD$289) -> 0
A9: Gemeente Montfoort | C9: =+SUMIF('Platte data'!A$2:A$289,A9,'Platte data'!W$2:W$289) -> 19966 | E9: =+SUMIF('Platte data'!$A$2:$A$289,Samenvatting!$A9,'Platte data'!$Y$2:$Y$289) -> 4 | F9: =+SUMIF('Platte data'!$A$2:$A$289,Samenvatting!$A9,'Platte data'!$AB$2:$AB$289) -> 19966 | G9: =+SUMIF('Platte data'!$A$2:$A$289,Samenvatting!$A9,'Platte data'!$Z$2:$Z$289) -> 0 | H9: =+SUMIF('Platte data'!$A$2:$A$289,Samenvatting!$A9,'Platte data'!$AC$2:$AC$289) -> 0 | I9: =+SUMIF('Platte data'!$A$2:$A$289,Samenvatting!$A9,'Platte data'!$AA$2:$AA$289) -> 0 | J9: =+SUMIF('Platte data'!$A$2:$A$289,Samenvatting!$A9,'Platte data'!$AD$2:$AD$289) -> 0
A10: Gemeente Nieuwegein | C10: =+SUMIF('Platte data'!A$2:A$289,A10,'Platte data'!W$2:W$289) -> 384531 | E10: =+SUMIF('Platte data'!$A$2:$A$289,Samenvatting!$A10,'Platte data'!$Y$2:$Y$289) -> 20 | F10: =+SUMIF('Platte data'!$A$2:$A$289,Samenvatting!$A10,'Platte data'!$AB$2:$AB$289) -> 233682 | G10: =+SUMIF('Platte data'!$A$2:$A$289,Samenvatting!$A10,'Platte data'!$Z$2:$Z$289) -> 3 | H10: =+SUMIF('Platte data'!$A$2:$A$289,Samenvatting!$A10,'Platte data'!$AC$2:$AC$289) -> 150849 | I10: =+SUMIF('Platte data'!$A$2:$A$289,Samenvatting!$A10,'Platte data'!$AA$2:$AA$289) -> 0 | J10: =+SUMIF('Platte data'!$A$2:$A$289,Samenvatting!$A10,'Platte data'!$AD$2:$AD$289) -> 0
A11: Gemeente Oudewater | C11: =+SUMIF('Platte data'!A$2:A$289,A11,'Platte data'!W$2:W$289) -> 102534 | E11: =+SUMIF('Platte data'!$A$2:$A$289,Samenvatting!$A11,'Platte data'!$Y$2:$Y$289) -> 8 | F11: =+SUMIF('Platte data'!$A$2:$A$289,Samenvatting!$A11,'Platte data'!$AB$2:$AB$289) -> 102534 | G11: =+SUMIF('Platte data'!$A$2:$A$289,Samenvatting!$A11,'Platte data'!$Z$2:$Z$289) -> 0 | H11: =+SUMIF('Platte data'!$A$2:$A$289,Samenvatting!$A11,'Platte data'!$AC$2:$AC$289) -> 0 | I11: =+SUMIF('Platte data'!$A$2:$A$289,Samenvatting!$A11,'Platte data'!$AA$2:$AA$289) -> 0 | J11: =+SUMIF('Platte data'!$A$2:$A$289,Samenvatting!$A11,'Platte data'!$AD$2:$AD$289) -> 0
A12: Gemeente Stichtse Vecht | C12: =+SUMIF('Platte data'!A$2:A$289,A12,'Platte data'!W$2:W$289) -> 621522 | E12: =+SUMIF('Platte data'!$A$2:$A$289,Samenvatting!$A12,'Platte data'!$Y$2:$Y$289) -> 22 | F12: =+SUMIF('Platte data'!$A$2:$A$289,Samenvatting!$A12,'Platte data'!$AB$2:$AB$289) -> 219938 | G12: =+SUMIF('Platte data'!$A$2:$A$289,Samenvatting!$A12,'Platte data'!$Z$2:$Z$289) -> 3 | H12: =+SUMIF('Platte data'!$A$2:$A$289,Samenvatting!$A12,'Platte data'!$AC$2:$AC$289) -> 241841 | I12: =+SUMIF('Platte data'!$A$2:$A$289,Samenvatting!$A12,'Platte data'!$AA$2:$AA$289) -> 1 | J12: =+SUMIF('Platte data'!$A$2:$A$289,Samenvatting!$A12,'Platte data'!$AD$2:$AD$289) -> 159743
A13: Gemeente Soest | C13: =+SUMIF('Platte data'!A$2:A$289,A13,'Platte data'!W$2:W$289) -> 328562.63 | E13: =+SUMIF('Platte data'!$A$2:$A$289,Samenvatting!$A13,'Platte data'!$Y$2:$Y$289) -> 13 | F13: =+SUMIF('Platte data'!$A$2:$A$289,Samenvatting!$A13,'Platte data'!$AB$2:$AB$289) -> 104816.7 | G13: =+SUMIF('Platte data'!$A$2:$A$289,Samenvatting!$A13,'Platte data'!$Z$2:$Z$289) -> 5 | H13: =+SUMIF('Platte data'!$A$2:$A$289,Samenvatting!$A13,'Platte data'!$AC$2:$AC$289) -> 223745.93 | I13: =+SUMIF('Platte data'!$A$2:$A$289,Samenvatting!$A13,'Platte data'!$AA$2:$AA$289) -> 0 | J13: =+SUMIF('Platte data'!$A$2:$A$289,Samenvatting!$A13,'Platte data'!$AD$2:$AD$289) -> 0
A14: Gemeente Utrechtse Heuvelrug Commandiet B.V. | C14: =+SUMIF('Platte data'!A$2:A$289,A14,'Platte data'!W$2:W$289) -> 188031 | E14: =+SUMIF('Platte data'!$A$2:$A$289,Samenvatting!$A14,'Platte data'!$Y$2:$Y$289) -> 20 | F14: =+SUMIF('Platte data'!$A$2:$A$289,Samenvatting!$A14,'Platte data'!$AB$2:$AB$289) -> 129964 | G14: =+SUMIF('Platte data'!$A$2:$A$289,Samenvatting!$A14,'Platte data'!$Z$2:$Z$289) -> 2 | H14: =+SUMIF('Platte data'!$A$2:$A$289,Samenvatting!$A14,'Platte data'!$AC$2:$AC$289) -> 58067 | I14: =+SUMIF('Platte data'!$A$2:$A$289,Samenvatting!$A14,'Platte data'!$AA$2:$AA$289) -> 0 | J14: =+SUMIF('Platte data'!$A$2:$A$289,Samenvatting!$A14,'Platte data'!$AD$2:$AD$289) -> 0
... A27: Stichting Welzijn Stichtse Vecht | C27: =+SUMIF('Platte data'!A$2:A$289,A27,'Platte data'!W$2:W$289) -> 8480 | E27: =+SUMIF('Platte data'!$A$2:$A$289,Samenvatting!$A27,'Platte data'!$Y$2:$Y$289) -> 1 | F27: =+SUMIF('Platte data'!$A$2:$A$289,Samenvatting!$A27,'Platte data'!$AB$2:$AB$289) -> 8480 | G27: =+SUMIF('Platte data'!$A$2:$A$289,Samenvatting!$A27,'Platte data'!$Z$2:$Z$289) -> 0 | H27: =+SUMIF('Platte data'!$A$2:$A$289,Samenvatting!$A27,'Platte data'!$AC$2:$AC$289) -> 0 | I27: =+SUMIF('Platte data'!$A$2:$A$289,Samenvatting!$A27,'Platte data'!$AA$2:$AA$289) -> 0 | J27: =+SUMIF('Platte data'!$A$2:$A$289,Samenvatting!$A27,'Platte data'!$AD$2:$AD$289) -> 0
B28: totaal | C28: =+SUM(C3:C27) -> 4042778.6 | E28: =+SUM(E3:E27) -> 251 | F28: =+SUM(F3:F27) -> 2306757.7 | G28: =+SUM(G3:G27) -> 32 | H28: =+SUM(H3:H27) -> 1452517.9 | I28: =+SUM(I3:I27) -> 3 | J28: =+SUM(J3:J27) -> 283505

Sheet Platte data
A1: Customer Company Name | B1: Customer Chamber Of Commerce Number | C1: Customer Street | D1: Customer House No | E1: Customer House No Suffix | F1: Customer Postal Code | G1: Customer City | H1: Location Name | I1: Location Street | J1: Location House number | K1: Location Number suffix | L1: Location Postalcode | M1: Location City | N1: Product Type | O1: Usage Type | P1: Product EAN | Q1: Profile | R1: Capacity | S1: Meter Type | T1: Metering Method | U1: Administrative Status Smart Meter | V1: Technical Communication SM | W1: SJV | X1: Afgerekend verbruik 2021 | Y1: G1/G2A | Z1: G2C | AA1: GXX | AB1: G1/G2A | AC1: G2C | AD1: GXX
A2: Gemeente Baarn | B2: 32167607 | C2: Stationsweg | D2: 18 | F2: 3743 EN | G2: Baarn | I2: Laanstraat | J2: 1 | L2: 3743 BA | M2: BAARN | N2: Gas | O2: GV | P2: 871687400002065608 | Q2: G2C | T2: Maandelijks | W2: 53106 | X2: 52502 | Y2: {=+_xlfn.IFS($Q2="G1A",1,$Q2="G2A",1,TRUE,0)} -> 0 | Z2: =+IF(($Q2="G2C"),1,0) -> 1 | AA2: =+IF(($Q2="GXX"),1,0) -> 0 | AB2: =+IF(Y2=1,W2,0) -> 0 | AC2: =+IF(Z2=1,W2,0) -> 53106 | AD2: =+IF(AA2=1,X2,0) -> 0
A3: Gemeente Baarn | B3: 32167607 | C3: Stationsweg | D3: 18 | F3: 3743 EN | G3: Baarn | I3: Kerkstraat | J3: 28 | L3: 3741 AK | M3: BAARN | N3: Gas | O3: KV | P3: 871687400007730068 | Q3: G2A | R3: G10, t/m 16 m3 per uur | S3: Conventional | T3: Jaarlijks | W3: 21828 | X3: 21797 | Y3: {=+_xlfn.IFS($Q3="G1A",1,$Q3="G2A",1,TRUE,0)} -> 1 | Z3: =+IF(($Q3="G2C"),1,0) -> 0 | AA3: =+IF(($Q3="GXX"),1,0) -> 0 | AB3: =+IF(Y3=1,W3,0) -> 21828 | AC3: =+IF(Z3=1,W3,0) -> 0 | AD3: =+IF(AA3=1,X3,0) -> 0
A4: Gemeente Baarn | B4: 32167607 | C4: Stationsweg | D4: 18 | F4: 3743 EN | G4: Baarn | I4: Burgemeester Penstraat | J4: 6 | L4: 3741 AH | M4: BAARN | N4: Gas | O4: KV | P4: 871687400007687867 | Q4: G2A | R4: G16, t/m 25 m3 per uur | S4: Smart meter | T4: Jaarlijks | U4: On | V4: SMU (slimmer meter is uitleesbaar) | W4: 8089 | X4: 7945 | Y4: {=+_xlfn.IFS($Q4="G1A",1,$Q4="G2A",1,TRUE,0)} -> 1 | Z4: =+IF(($Q4="G2C"),1,0) -> 0 | AA4: =+IF(($Q4="GXX"),1,0) -> 0 | AB4: =+IF(Y4=1,W4,0) -> 8089 | AC4: =+IF(Z4=1,W4,0) -> 0 | AD4: =+IF(AA4=1,X4,0) -> 0
A5: Gemeente Baarn | B5: 32167607 | C5: Stationsweg | D5: 18 | F5: 3743 EN | G5: Baarn | I5: Wijkamplaan | J5: 71 | L5: 3742 WP | M5: BAARN | N5: Gas | O5: KV | P5: 871687400008107555 | Q5: G2A | R5: t/m G6, t/m 10 m3 per uur, jaarverbruik >= 4.000 m³ | S5: Smart meter | T5: Jaarlijks | U5: On | V5: SMU (slimmer meter is uitleesbaar) | W5: 8409 | X5: 8260 | Y5: {=+_xlfn.IFS($Q5="G1A",1,$Q5="G2A",1,TRUE,0)} -> 1 | Z5: =+IF(($Q5="G2C"),1,0) -> 0 | AA5: =+IF(($Q5="GXX"),1,0) -> 0 | AB5: =+IF(Y5=1,W5,0) -> 8409 | AC5: =+IF(Z5=1,W5,0) -> 0 | AD5: =+IF(AA5=1,X5,0) -> 0
A6: Gemeente Baarn | B6: 32167607 | C6: Stationsweg | D6: 18 | F6: 3743 EN | G6: Baarn | I6: Burgemeester Penstraat | J6: 4 | L6: 3741 AH | M6: BAARN | N6: Gas | O6: KV | P6: 871687400007687928 | Q6: G1A | R6: t/m G6, t/m 10 m3 per uur, jaarverbruik 500 m³ tot 4.000 m³ | S6: Smart meter | T6: Jaarlijks | U6: On | V6: SMU (slimmer meter is uitleesbaar) | W6: 1099 | X6: 435 | Y6: {=+_xlfn.IFS($Q6="G1A",1,$Q6="G2A",1,TRUE,0)} -> 1 | Z6: =+IF(($Q6="G2C"),1,0) -> 0 | AA6: =+IF(($Q6="GXX"),1,0) -> 0 | AB6: =+IF(Y6=1,W6,0) -> 1099 | AC6: =+IF(Z6=1,W6,0) -> 0 | AD6: =+IF(AA6=1,X6,0) -> 0
A7: Gemeente Baarn | B7: 32167607 | C7: Stationsweg | D7: 18 | F7: 3743 EN | G7: Baarn | I7: Piet Heinlaan | J7: 11 | K7: NST | L7: 3742 AN | M7: BAARN | N7: Gas | O7: KV | P7: 871687400007986977 | Q7: G1A | R7: t/m G6, t/m 10 m3 per uur, jaarverbruik 500 m³ tot 4.000 m³ | S7: Conventional | T7: Jaarlijks | W7: 1933 | X7: 1930 | Y7: {=+_xlfn.IFS($Q7="G1A",1,$Q7="G2A",1,TRUE,0)} -> 1 | Z7: =+IF(($Q7="G2C"),1,0) -> 0 | AA7: =+IF(($Q7="GXX"),1,0) -> 0 | AB7: =+IF(Y7=1,W7,0) -> 1933 | AC7: =+IF(Z7=1,W7,0) -> 0 | AD7: =+IF(AA7=1,X7,0) -> 0
A8: Gemeente Baarn | B8: 32167607 | C8: Stationsweg | D8: 18 | F8: 3743 EN | G8: Baarn | I8: Oude Amsterdamsestrwg | J8: 4 | L8: 3741 MR | M8: BAARN | N8: Gas | O8: KV | P8: 871687460009124869 | Q8: G1A | R8: t/m G6, t/m 10 m3 per uur, jaarverbruik >= 4.000 m³ | S8: Smart meter | T8: Jaarlijks | U8: On | V8: SMU (slimmer meter is uitleesbaar) | W8: 4225 | X8: 4162 | Y8: {=+_xlfn.IFS($Q8="G1A",1,$Q8="G2A",1,TRUE,0)} -> 1 | Z8: =+IF(($Q8="G2C"),1,0) -> 0 | AA8: =+IF(($Q8="GXX"),1,0) -> 0 | AB8: =+IF(Y8=1,W8,0) -> 4225 | AC8: =+IF(Z8=1,W8,0) -> 0 | AD8: =+IF(AA8=1,X8,0) -> 0
A9: Gemeente Baarn | B9: 32167607 | C9: Stationsweg | D9: 18 | F9: 3743 EN | G9: Baarn | I9: Heemskerklaan | J9: 25 | L9: 3742 AK | M9: BAARN | N9: Gas | O9: KV | P9: 871687400007952743 | Q9: G2A | R9: G10, t/m 16 m3 per uur | S9: Smart meter | T9: Jaarlijks | U9: On | V9: SMU (slimmer meter is uitleesbaar) | W9: 7859 | X9: 7754.8995 | Y9: {=+_xlfn.IFS($Q9="G1A",1,$Q9="G2A",1,TRUE,0)} -> 1 | Z9: =+IF(($Q9="G2C"),1,0) -> 0 | AA9: =+IF(($Q9="GXX"),1,0) -> 0 | AB9: =+IF(Y9=1,W9,0) -> 7859 | AC9: =+IF(Z9=1,W9,0) -> 0 | AD9: =+IF(AA9=1,X9,0) -> 0
A10: Gemeente Bunnik | B10: 30278213 | C10: Singelpark | D10: 1 | F10: 3984 NC | G10: Odijk | I10: Rumpsterweg | J10: 4 | L10: 3981 AK | M10: BUNNIK | N10: Gas | O10: KV | P10: 871689296900028245 | Q10: G2A | R10: G10, t/m 16 m3 per uur | S10: Smart meter | T10: Jaarlijks | U10: On | V10: SMU (slimmer meter is uitleesbaar) | W10: 1205 | X10: 3283.6377 | Y10: {=+_xlfn.IFS($Q10="G1A",1,$Q10="G2A",1,TRUE,0)} -> 1 | Z10: =+IF(($Q10="G2C"),1,0) -> 0 | AA10: =+IF(($Q10="GXX"),1,0) -> 0 | AB10: =+IF(Y10=1,W10,0) -> 1205 | AC10: =+IF(Z10=1,W10,0) -> 0 | AD10: =+IF(AA10=1,X10,0) -> 0
A11: Gemeente Bunnik | B11: 30278213 | C11: Singelpark | D11: 1 | F11: 3984 NC | G11: Odijk | I11: Rode Haan | J11: 1 | L11: 3985 PN | M11: WERKHOVEN | N11: Gas | O11: KV | P11: 871689296900061600 | Q11: G2A | R11: t/m G6, t/m 10 m3 per uur, jaarverbruik >= 4.000 m³ | S11: Conventional | T11: Jaarlijks | W11: 7011 | X11: 7005 | Y11: {=+_xlfn.IFS($Q11="G1A",1,$Q11="G2A",1,TRUE,0)} -> 1 | Z11: =+IF(($Q11="G2C"),1,0) -> 0 | AA11: =+IF(($Q11="GXX"),1,0) -> 0 | AB11: =+IF(Y11=1,W11,0) -> 7011 | AC11: =+IF(Z11=1,W11,0) -> 0 | AD11: =+IF(AA11=1,X11,0) -> 0
A12: Gemeente Bunnik | B12: 30278213 | C12: Singelpark | D12: 1 | F12: 3984 NC | G12: Odijk | I12: Singelpark | J12: 1 | L12: 3984 NC | M12: ODIJK | N12: Gas | O12: GV | P12: 871689296900051687 | Q12: G2C | T12: Maandelijks | W12: 29981 | X12: 29424 | Y12: {=+_xlfn.IFS($Q12="G1A",1,$Q12="G2A",1,TRUE,0)} -> 0 | Z12: =+IF(($Q12="G2C"),1,0) -> 1 | AA12: =+IF(($Q12="GXX"),1,0) -> 0 | AB12: =+IF(Y12=1,W12,0) -> 0 | AC12: =+IF(Z12=1,W12,0) -> 29981 | AD12: =+IF(AA12=1,X12,0) -> 0
A13: Gemeente Bunnik | B13: 30278213 | C13: Singelpark | D13: 1 | F13: 3984 NC | G13: Odijk | I13: Stationsweg | J13: 49 | L13: 3981 AB | M13: BUNNIK | N13: Gas | O13: KV | P13: 871689260009543619 | Q13: G2A | R13: t/m G6, t/m 10 m3 per uur, jaarverbruik >= 4.000 m³ | S13: Smart meter | T13: Jaarlijks | U13: On | V13: SMU (slimmer meter is uitleesbaar) | W13: 5146 | X13: 5055 | Y13: {=+_xlfn.IFS($Q13="G1A",1,$Q13="G2A",1,TRUE,0)} -> 1 | Z13: =+IF(($Q13="G2C"),1,0) -> 0 | AA13: =+IF(($Q13="GXX"),1,0) -> 0 | AB13: =+IF(Y13=1,W13,0) -> 5146 | AC13: =+IF(Z13=1,W13,0) -> 0 | AD13: =+IF(AA13=1,X13,0) -> 0
A14: Gemeente De Bilt | B14: 30286795 | C14: Soestdijkseweg Zuid | D14: 173 | F14: 3721 AB | G14: Bilthoven | I14: Koningin Wilhelminaweg | J14: 439 | L14: 3737 BE | M14: GROENEKAN | N14: Gas | O14: KV | P14: 871687400004407345 | Q14: G1A | R14: t/m G6, t/m 10 m3 per uur, jaarverbruik 500 m³ tot 4.000 m³ | S14: Smart meter | T14: Jaarlijks | U14: On | V14: SMU (slimmer meter is uitleesbaar) | W14: 2902 | X14: 2859 | Y14: {=+_xlfn.IFS($Q14="G1A",1,$Q14="G2A",1,TRUE,0)} -> 1 | Z14: =+IF(($Q14="G2C"),1,0) -> 0 | AA14: =+IF(($Q14="GXX"),1,0) -> 0 | AB14: =+IF(Y14=1,W14,0) -> 2902 | AC14: =+IF(Z14=1,W14,0) -> 0 | AD14: =+IF(AA14=1,X14,0) -> 0
A15: Gemeente De Bilt | B15: 30286795 | C15: Soestdijkseweg Zuid | D15: 173 | F15: 3721 AB | G15: Bilthoven | I15: Dr. Welfferweg | J15: 38 | L15: 3615 AN | M15: WESTBROEK | N15: Gas | O15: KV | P15: 871687400004734472 | Q15: G1A | R15: t/m G6, t/m 10 m3 per uur, jaarverbruik 500 m³ tot 4.000 m³ | S15: Smart meter | T15: Jaarlijks | U15: On | V15: SMU (slimmer meter is uitleesbaar) | W15: 2665 | X15: 2626 | Y15: {=+_xlfn.IFS($Q15="G1A",1,$Q15="G2A",1,TRUE,0)} -> 1 | Z15: =+IF(($Q15="G2C"),1,0) -> 0 | AA15: =+IF(($Q15="GXX"),1,0) -> 0 | AB15: =+IF(Y15=1,W15,0) -> 2665 | AC15: =+IF(Z15=1,W15,0) -> 0 | AD15: =+IF(AA15=1,X15,0) -> 0
A16: Gemeente De Bilt | B16: 30286795 | C16: Soestdijkseweg Zuid | D16: 173 | F16: 3721 AB | G16: Bilthoven | I16: Marie Curieweg | J16: 1 | L16: 3731 CE | M16: DE BILT | N16: Gas | O16: KV | P16: 871689296900070459 | Q16: G2A | R16: G16, t/m 25 m3 per uur | S16: Conventional | T16: Jaarlijks | W16: 8138 | X16: 8131 | Y16: {=+_xlfn.IFS($Q16="G1A",1,$Q16="G2A",1,TRUE,0)} -> 1 | Z16: =+IF(($Q16="G2C"),1,0) -> 0 | AA16: =+IF(($Q16="GXX"),1,0) -> 0 | AB16: =+IF(Y16=1,W16,0) -> 8138 | AC16: =+IF(Z16=1,W16,0) -> 0 | AD16: =+IF(AA16=1,X16,0) -> 0
A17: Gemeente De Bilt | B17: 30286795 | C17: Soestdijkseweg Zuid | D17: 173 | F17: 3721 AB | G17: Bilthoven | I17: Leyenseweg | J17: 40 | L17: 3721 BD | M17: BILTHOVEN | N17: Gas | O17: KV | P17: 871689296900167630 | Q17: G2A | R17: G25, t/m 40 m3 per uur | S17: Conventional | T17: Jaarlijks | W17: 25005 | X17: 24982 | Y17: {=+_xlfn.IFS($Q17="G1A",1,$Q17="G2A",1,TRUE,0)} -> 1 | Z17: =+IF(($Q17="G2C"),1,0) -> 0 | AA17: =+IF(($Q17="GXX"),1,0) -> 0 | AB17: =+IF(Y17=1,W17,0) -> 25005 | AC17: =+IF(Z17=1,W17,0) -> 0 | AD17: =+IF(AA17=1,X17,0) -> 0
A18: Gemeente De Bilt | B18: 30286795 | C18: Soestdijkseweg Zuid | D18: 173 | F18: 3721 AB | G18: Bilthoven | I18: Industrieweg | J18: 9 | K18: A | L18: 3738 JW | M18: MAARTENSDIJK | N18: Gas | O18: KV | P18: 871687460010707075 | Q18: G1A | R18: t/m G6, t/m 10 m3 per uur, jaarverbruik 500 m³ tot 4.000 m³ | S18: Smart meter | T18: Jaarlijks | U18: On | V18: SMU (slimmer meter is uitleesbaar) | W18: 1685 | X18: 1660 | Y18: {=+_xlfn.IFS($Q18="G1A",1,$Q18="G2A",1,TRUE,0)} -> 1 | Z18: =+IF(($Q18="G2C"),1,0) -> 0 | AA18: =+IF(($Q18="GXX"),1,0) -> 0 | AB18: =+IF(Y18=1,W18,0) -> 1685 | AC18: =+IF(Z18=1,W18,0) -> 0 | AD18: =+IF(AA18=1,X18,0) -> 0
A19: Gemeente De Bilt | B19: 30286795 | C19: Soestdijkseweg Zuid | D19: 173 | F19: 3721 AB | G19: Bilthoven | I19: Soestdijkseweg Zuid | J19: 173 | L19: 3721 AB | M19: BILTHOVEN | N19: Gas | O19: GV | P19: 871689296900124114 | Q19: G2C | T19: Maandelijks | W19: 56257 | X19: 56262 | Y19: {=+_xlfn.IFS($Q19="G1A",1,$Q19="G2A",1,TRUE,0)} -> 0 | Z19: =+IF(($Q19="G2C"),1,0) -> 1 | AA19: =+IF(($Q19="GXX"),1,0) -> 0 | AB19: =+IF(Y19=1,W19,0) -> 0 | AC19: =+IF(Z19=1,W19,0) -> 56257 | AD19: =+IF(AA19=1,X19,0) -> 0
A20: Gemeente De Bilt | B20: 30286795 | C20: Soestdijkseweg Zuid | D20: 173 | F20: 3721 AB | G20: Bilthoven | I20: Koningin Wilhelminaweg | J20: 9 | L20: 3738 JZ | M20: MAARTENSDIJK | N20: Gas | O20: KV | P20: 871687400004581137 | Q20: G1A | R20: t/m G6, t/m 10 m3 per uur, jaarverbruik 500 m³ tot 4.000 m³ | S20: Smart meter | T20: Jaarlijks | U20: On | V20: SMN (slimme meter is NIET uitleesbaar) | W20: 3822 | X20: 3326.2834 | Y20: {=+_xlfn.IFS($Q20="G1A",1,$Q20="G2A",1,TRUE,0)} -> 1 | Z20: =+IF(($Q20="G2C"),1,0) -> 0 | AA20: =+IF(($Q20="GXX"),1,0) -> 0 | AB20: =+IF(Y20=1,W20,0) -> 3822 | AC20: =+IF(Z20=1,W20,0) -> 0 | AD20: =+IF(AA20=1,X20,0) -> 0
A21: Gemeente De Bilt | B21: 30286795 | C21: Soestdijkseweg Zuid | D21: 173 | F21: 3721 AB | G21: Bilthoven | I21: Jasmijnstraat | J21: 6 | L21: 3732 EC | M21: DE BILT | N21: Gas | O21: KV | P21: 871689260011776173 | Q21: G2A | R21: G16, t/m 25 m3 per uur | S21: Smart meter | T21: Jaarlijks | U21: On | V21: SMN (slimme meter is NIET uitleesbaar) | W21: 7301 | X21: 1599 | Y21: {=+_xlfn.IFS($Q21="G1A",1,$Q21="G2A",1,TRUE,0)} -> 1 | Z21: =+IF(($Q21="G2C"),1,0) -> 0 | AA21: =+IF(($Q21="GXX"),1,0) -> 0 | AB21: =+IF(Y21=1,W21,0) -> 7301 | AC21: =+IF(Z21=1,W21,0) -> 0 | AD21: =+IF(AA21=1,X21,0) -> 0
A22: Gemeente De Bilt | B22: 30286795 | C22: Soestdijkseweg Zuid | D22: 173 | F22: 3721 AB | G22: Bilthoven | I22: Dr. Welfferweg | J22: 36 | L22: 3615 AN | M22: WESTBROEK | N22: Gas | O22: KV | P22: 871687400004734359 | Q22: G1A | R22: t/m G6, t/m 10 m3 per uur, jaarverbruik 500 m³ tot 4.000 m³ | S22: Smart meter | T22: Jaarlijks | U22: On | V22: SMU (slimmer meter is uitleesbaar) | W22: 1861 | X22: 1833 | Y22: {=+_xlfn.IFS($Q22="G1A",1,$Q22="G2A",1,TRUE,0)} -> 1 | Z22: =+IF(($Q22="G2C"),1,0) -> 0 | AA22: =+IF(($Q22="GXX"),1,0) -> 0 | AB22: =+IF(Y22=1,W22,0) -> 1861 | AC22: =+IF(Z22=1,W22,0) -> 0 | AD22: =+IF(AA22=1,X22,0) -> 0
A23: Gemeente De Bilt | B23: 30286795 | C23: Soestdijkseweg Zuid | D23: 173 | F23: 3721 AB | G23: Bilthoven | I23: Leyenseweg | J23: 40 | K23: A | L23: 3721 BD | M23: BILTHOVEN | N23: Gas | O23: KV | P23: 871689296900209071 | Q23: G1A | R23: t/m G6, t/m 10 m3 per uur, jaarverbruik 500 m³ tot 4.000 m³ | S23: Conventional | T23: Jaarlijks | W23: 3922 | X23: 3919 | Y23: {=+_xlfn.IFS($Q23="G1A",1,$Q23="G2A",1,TRUE,0)} -> 1 | Z23: =+IF(($Q23="G2C"),1,0) -> 0 | AA23: =+IF(($Q23="GXX"),1,0) -> 0 | AB23: =+IF(Y23=1,W23,0) -> 3922 | AC23: =+IF(Z23=1,W23,0) -> 0 | AD23: =+IF(AA23=1,X23,0) -> 0
A24: Gemeente De Bilt | B24: 30286795 | C24: Soestdijkseweg Zuid | D24: 173 | F24: 3721 AB | G24: Bilthoven | I24: 1e Brandenburgerweg | J24: 38 | L24: 3721 MJ | M24: BILTHOVEN | N24: Gas | O24: KV | P24: 871687400009657646 | Q24: G2A | R24: t/m G6, t/m 10 m3 per uur, jaarverbruik >= 4.000 m³ | S24: Smart meter | T24: Jaarlijks | U24: On | V24: SMU (slimmer meter is uitleesbaar) | W24: 7197 | X24: 7069 | Y24: {=+_xlfn.IFS($Q24="G1A",1,$Q24="G2A",1,TRUE,0)} -> 1 | Z24: =+IF(($Q24="G2C"),1,0) -> 0 | AA24: =+IF(($Q24="GXX"),1,0) -> 0 | AB24: =+IF(Y24=1,W24,0) -> 7197 | AC24: =+IF(Z24=1,W24,0) -> 0 | AD24: =+IF(AA24=1,X24,0) -> 0
A25: Gemeente De Bilt | B25: 30286795 | C25: Soestdijkseweg Zuid | D25: 173 | F25: 3721 AB | G25: Bilthoven | I25: Henri Dunantplein | J25: 4 | K25: C | L25: 3731 CL | M25: DE BILT | N25: Gas | O25: KV | P25: 871689296900072293 | Q25: G1A | R25: t/m G6, t/m 10 m3 per uur, jaarverbruik 500 m³ tot 4.000 m³ | S25: Smart meter | T25: Jaarlijks | U25: On | V25: SMU (slimmer meter is uitleesbaar) | W25: 1909 | X25: 1402.2031 | Y25: {=+_xlfn.IFS($Q25="G1A",1,$Q25="G2A",1,TRUE,0)} -> 1 | Z25: =+IF(($Q25="G2C"),1,0) -> 0 | AA25: =+IF(($Q25="GXX"),1,0) -> 0 | AB25: =+IF(Y25=1,W25,0) -> 1909 | AC25: =+IF(Z25=1,W25,0) -> 0 | AD25: =+IF(AA25=1,X25,0) -> 0
A26: Gemeente De Bilt | B26: 30286795 | C26: Soestdijkseweg Zuid | D26: 173 | F26: 3721 AB | G26: Bilthoven | I26: Soestdijkseweg Zuid | J26: 173 | L26: 3721 AB | M26: BILTHOVEN | N26: Gas | O26: GV | P26: 871689296900124121 | Q26: G2C | T26: Maandelijks | W26: 21780 | X26: 21323 | Y26: {=+_xlfn.IFS($Q26="G1A",1,$Q26="G2A",1,TRUE,0)} -> 0 | Z26: =+IF(($Q26="G2C"),1,0) -> 1 | AA26: =+IF(($Q26="GXX"),1,0) -> 0 | AB26: =+IF(Y26=1,W26,0) -> 0 | AC26: =+IF(Z26=1,W26,0) -> 21780 | AD26: =+IF(AA26=1,X26,0) -> 0
A27: Gemeente De Bilt | B27: 30286795 | C27: Soestdijkseweg Zuid | D27: 173 | F27: 3721 AB | G27: Bilthoven | I27: Weltevreden | J27: 24 | K27: A | L27: 3731 AL | M27: DE BILT | N27: Gas | O27: GV | P27: 871689296900108619 | Q27: G2C | T27: Maandelijks | W27: 35764 | X27: 36334 | Y27: {=+_xlfn.IFS($Q27="G1A",1,$Q27="G2A",1,TRUE,0)} -> 0 | Z27: =+IF(($Q27="G2C"),1,0) -> 1 | AA27: =+IF(($Q27="GXX"),1,0) -> 0 | AB27: =+IF(Y27=1,W27,0) -> 0 | AC27: =+IF(Z27=1,W27,0) -> 35764 | AD27: =+IF(AA27=1,X27,0) -> 0
A28: Gemeente De Bilt | B28: 30286795 | C28: Soestdijkseweg Zuid | D28: 173 | F28: 3721 AB | G28: Bilthoven | I28: Soestdijkseweg Zuid | J28: 208 | L28: 3721 AJ | M28: BILTHOVEN | N28: Gas | O28: GV | P28: 871689296900124398 | Q28: G2C | T28: Maandelijks | W28: 50533 | X28: 17534 | Y28: {=+_xlfn.IFS($Q28="G1A",1,$Q28="G2A",1,TRUE,0)} -> 0 | Z28: =+IF(($Q28="G2C"),1,0) -> 1 | AA28: =+IF(($Q28="GXX"),1,0) -> 0 | AB28: =+IF(Y28=1,W28,0) -> 0 | AC28: =+IF(Z28=1,W28,0) -> 50533 | AD28: =+IF(AA28=1,X28,0) -> 0
A29: Gemeente De Bilt | B29: 30286795 | C29: Soestdijkseweg Zuid | D29: 173 | F29: 3721 AB | G29: Bilthoven | I29: Groenekanseweg | J29: 87 | L29: 3737 AD | M29: GROENEKAN | N29: Gas | O29: KV | P29: 871687400004412578 | Q29: G2A | R29: G16, t/m 25 m3 per uur | S29: Conventional | T29: Jaarlijks | W29: 11085 | X29: 11085 | Y29: {=+_xlfn.IFS($Q29="G1A",1,$Q29="G2A",1,TRUE,0)} -> 1 | Z29: =+IF(($Q29="G2C"),1,0) -> 0 | AA29: =+IF(($Q29="GXX"),1,0) -> 0 | AB29: =+IF(Y29=1,W29,0) -> 11085 | AC29: =+IF(Z29=1,W29,0) -> 0 | AD29: =+IF(AA29=1,X29,0) -> 0
A30: Gemeente De Bilt | B30: 30286795 | C30: Soestdijkseweg Zuid | D30: 173 | F30: 3721 AB | G30: Bilthoven | I30: Weltevreden | J30: 20 | L30: 3731 AL | M30: DE BILT | N30: Gas | O30: KV | P30: 871689296900108602 | Q30: G1A | R30: t/m G6, t/m 10 m3 per uur, jaarverbruik 500 m³ tot 4.000 m³ | S30: Smart meter | T30: Jaarlijks | U30: On | V30: SMU (slimmer meter is uitleesbaar) | W30: 1627 | X30: 1603 | Y30: {=+_xlfn.IFS($Q30="G1A",1,$Q30="G2A",1,TRUE,0)} -> 1 | Z30: =+IF(($Q30="G2C"),1,0) -> 0 | AA30: =+IF(($Q30="GXX"),1,0) -> 0 | AB30: =+IF(Y30=1,W30,0) -> 1627 | AC30: =+IF(Z30=1,W30,0) -> 0 | AD30: =+IF(AA30=1,X30,0) -> 0
A31: Gemeente Houten | B31: 30279619 | C31: Onderdoor | D31: 25 | F31: 3995 DW | G31: Houten | H31: Kinderboerderij | I31: Keercamp | J31: 15 | L31: 3992 RV | M31: HOUTEN | N31: Gas | O31: KV | P31: 871687400005289667 | Q31: G1A | R31: t/m G6, t/m 10 m3 per uur, jaarverbruik 500 m³ tot 4.000 m³ | S31: Smart meter | T31: Jaarlijks | U31: On | V31: SMU (slimmer meter is uitleesbaar) | W31: 1500 | X31: 1478 | Y31: {=+_xlfn.IFS($Q31="G1A",1,$Q31="G2A",1,TRUE,0)} -> 1 | Z31: =+IF(($Q31="G2C"),1,0) -> 0 | AA31: =+IF(($Q31="GXX"),1,0) -> 0 | AB31: =+IF(Y31=1,W31,0) -> 1500 | AC31: =+IF(Z31=1,W31,0) -> 0 | AD31: =+IF(AA31=1,X31,0) -> 0
A32: Gemeente Houten | B32: 30279619 | C32: Onderdoor | D32: 25 | F32: 3995 DW | G32: Houten | H32: Voormalig Politiebureau | I32: De Slinger | J32: 2 | L32: 3995 DE | M32: HOUTEN | N32: Gas | O32: KV | P32: 871687400005884404 | Q32: G2A | R32: t/m G6, t/m 10 m3 per uur, jaarverbruik >= 4.000 m³ | S32: Conventional | T32: Jaarlijks | W32: 8978 | X32: 8483.8657 | Y32: {=+_xlfn.IFS($Q32="G1A",1,$Q32="G2A",1,TRUE,0)} -> 1 | Z32: =+IF(($Q32="G2C"),1,0) -> 0 | AA32: =+IF(($Q32="GXX"),1,0) -> 0 | AB32: =+IF(Y32=1,W32,0) -> 8978 | AC32: =+IF(Z32=1,W32,0) -> 0 | AD32: =+IF(AA32=1,X32,0) -> 0
A33: Gemeente Houten | B33: 30279619 | C33: Onderdoor | D33: 25 | F33: 3995 DW | G33: Houten | H33: Huis van Houten | I33: Onderdoor | J33: 160 | L33: 3995 DX | M33: HOUTEN | N33: Gas | O33: KV | P33: 871687400008598605 | Q33: G2A | R33: G25, t/m 40 m3 per uur | S33: Conventional | T33: Jaarlijks | W33: 37814 | X33: 36901.187 | Y33: {=+_xlfn.IFS($Q33="G1A",1,$Q33="G2A",1,TRUE,0)} -> 1 | Z33: =+IF(($Q33="G2C"),1,0) -> 0 | AA33: =+IF(($Q33="GXX"),1,0) -> 0 | AB33: =+IF(Y33=1,W33,0) -> 37814 | AC33: =+IF(Z33=1,W33,0) -> 0 | AD33: =+IF(AA33=1,X33,0) -> 0
A34: Gemeente Houten | B34: 30279619 | C34: Onderdoor | D34: 25 | F34: 3995 DW | G34: Houten | H34: Gemeentehuis | I34: Het Kant | J34: 2 | L34: 3995 DZ | M34: HOUTEN | N34: Gas | O34: GV | P34: 871687400008642964 | Q34: G2C | T34: Maandelijks | W34: 72180 | X34: 70058 | Y34: {=+_xlfn.IFS($Q34="G1A",1,$Q34="G2A",1,TRUE,0)} -> 0 | Z34: =+IF(($Q34="G2C"),1,0) -> 1 | AA34: =+IF(($Q34="GXX"),1,0) -> 0 | AB34: =+IF(Y34=1,W34,0) -> 0 | AC34: =+IF(Z34=1,W34,0) -> 72180 | AD34: =+IF(AA34=1,X34,0) -> 0
A35: Gemeente Houten | B35: 30279619 | C35: Onderdoor | D35: 25 | F35: 3995 DW | G35: Houten | H35: Montessorischool | I35: Vikingenpoort | J35: 30 | L35: 3991 JS | M35: HOUTEN | N35: Gas | O35: KV | P35: 871687400005910783 | Q35: G2A | R35: G10, t/m 16 m3 per uur | S35: Smart meter | T35: Jaarlijks | U35: On | V35: SMU (slimmer meter is uitleesbaar) | W35: 12887 | X35: 12658 | Y35: {=+_xlfn.IFS($Q35="G1A",1,$Q35="G2A",1,TRUE,0)} -> 1 | Z35: =+IF(($Q35="G2C"),1,0) -> 0 | AA35: =+IF(($Q35="GXX"),1,0) -> 0 | AB35: =+IF(Y35=1,W35,0) -> 12887 | AC35: =+IF(Z35=1,W35,0) -> 0 | AD35: =+IF(AA35=1,X35,0) -> 0
A36: Gemeente Houten | B36: 30279619 | C36: Onderdoor | D36: 25 | F36: 3995 DW | G36: Houten | H36: Gemeentewerf | I36: De Brug | J36: 11 | L36: 3991 LN | M36: HOUTEN | N36: Gas | O36: KV | P36: 871687400005401823 | Q36: G2A | R36: t/m G6, t/m 10 m3 per uur, jaarverbruik >= 4.000 m³ | S36: Conventional | T36: Jaarlijks | W36: 6063 | X36: 5219.4833 | Y36: {=+_xlfn.IFS($Q36="G1A",1,$Q36="G2A",1,TRUE,0)} -> 1 | Z36: =+IF(($Q36="G2C"),1,0) -> 0 | AA36: =+IF(($Q36="GXX"),1,0) -> 0 | AB36: =+IF(Y36=1,W36,0) -> 6063 | AC36: =+IF(Z36=1,W36,0) -> 0 | AD36: =+IF(AA36=1,X36,0) -> 0
A37: Gemeente Houten | B37: 30279619 | C37: Onderdoor | D37: 25 | F37: 3995 DW | G37: Houten | H37: De Bengelbongerd | I37: Dijkhoeve | J37: 1 | L37: 3992 XV | M37: HOUTEN | N37: Gas | O37: KV | P37: 871687400009075518 | Q37: G2A | R37: G16, t/m 25 m3 per uur | S37: Conventional | T37: Jaarlijks | W37: 17898 | X37: 17337.024 | Y37: {=+_xlfn.IFS($Q37="G1A",1,$Q37="G2A",1,TRUE,0)} -> 1 | Z37: =+IF(($Q37="G2C"),1,0) -> 0 | AA37: =+IF(($Q37="GXX"),1,0) -> 0 | AB37: =+IF(Y37=1,W37,0) -> 17898 | AC37: =+IF(Z37=1,W37,0) -> 0 | AD37: =+IF(AA37=1,X37,0) -> 0
A38: Gemeente Houten | B38: 30279619 | C38: Onderdoor | D38: 25 | F38: 3995 DW | G38: Houten | H38: Brandweerpost Oost | I38: Binnenweg | J38: 22 | L38: 3994 AN | M38: HOUTEN | N38: Gas | O38: KV | P38: 871687400010090661 | Q38: G2A | R38: t/m G6, t/m 10 m3 per uur, jaarverbruik >= 4.000 m³ | S38: Smart meter | T38: Jaarlijks | U38: On | V38: SMU (slimmer meter is uitleesbaar) | W38: 7373 | X38: 7242 | Y38: {=+_xlfn.IFS($Q38="G1A",1,$Q38="G2A",1,TRUE,0)} -> 1 | Z38: =+IF(($Q38="G2C"),1,0) -> 0 | AA38: =+IF(($Q38="GXX"),1,0) -> 0 | AB38: =+IF(Y38=1,W38,0) -> 7373 | AC38: =+IF(Z38=1,W38,0) -> 0 | AD38: =+IF(AA38=1,X38,0) -> 0
A39: Gemeente Houten | B39: 30279619 | C39: Onderdoor | D39: 25 | F39: 3995 DW | G39: Houten | H39: Gymzaal Julianastraat | I39: Koningin Julianastraat | J39: 14 | L39: 3991 DJ | M39: HOUTEN | N39: Gas | O39: KV | P39: 871687400005860668 | Q39: G2A | R39: t/m G6, t/m 10 m3 per uur, jaarverbruik >= 4.000 m³ | S39: Conventional | T39: Jaarlijks | W39: 6207 | X39: 4628.0296 | Y39: {=+_xlfn.IFS($Q39="G1A",1,$Q39="G2A",1,TRUE,0)} -> 1 | Z39: =+IF(($Q39="G2C"),1,0) -> 0 | AA39: =+IF(($Q39="GXX"),1,0) -> 0 | AB39: =+IF(Y39=1,W39,0) -> 6207 | AC39: =+IF(Z39=1,W39,0) -> 0 | AD39: =+IF(AA39=1,X39,0) -> 0
A40: Gemeente Houten | B40: 30279619 | C40: Onderdoor | D40: 25 | F40: 3995 DW | G40: Houten | H40: Begraafplaats Oud Wulven | I40: Oud Wulfseweg | J40: 6 | L40: 3992 LT | M40: HOUTEN | N40: Gas | O40: KV | P40: 871687400009289236 | Q40: G1A | R40: t/m G6, t/m 10 m3 per uur, jaarverbruik 500 m³ tot 4.000 m³ | S40: Smart meter | T40: Jaarlijks | U40: On | V40: SMU (slimmer meter is uitleesbaar) | W40: 563 | X40: 555 | Y40: {=+_xlfn.IFS($Q40="G1A",1,$Q40="G2A",1,TRUE,0)} -> 1 | Z40: =+IF(($Q40="G2C"),1,0) -> 0 | AA40: =+IF(($Q40="GXX"),1,0) -> 0 | AB40: =+IF(Y40=1,W40,0) -> 563 | AC40: =+IF(Z40=1,W40,0) -> 0 | AD40: =+IF(AA40=1,X40,0) -> 0
...

Sheet Meetdata 2019
A1: Date | C1: E_871687400008441314 | D1: E_871689200000091375 | E1: E_871689250000001867
C2: Volume | D2: Volume | E2: Volume
A3: 43466.25 | C3: 21.580893 | D3: 12.311629 | E3: 2.0471993
A4: 43466.292 | C4: 22.604492 | D4: 12.311629 | E4: 4.0943986
A5: 43466.333 | C5: 22.604492 | D5: 11.28803 | E5: 11.28803
A6: 43466.375 | C6: 22.604492 | D6: 14.387262 | E6: 3.070799
A7: 43466.417 | C7: 21.580893 | D7: 11.28803 | E7: 5.1464316
A8: 43466.458 | C8: 22.604492 | D8: 12.311629 | E8: 6.1700313
A9: 43466.5 | C9: 21.580893 | D9: 11.28803 | E9: 2.0471993
A10: 43466.542 | C10: 21.580893 | D10: 11.28803 | E10: 6.1700313
A11: 43466.583 | C11: 21.580893 | D11: 11.28803 | E11: 2.0471993
A12: 43466.625 | C12: 21.580893 | D12: 10.26443 | E12: 6.1700313
A13: 43466.667 | C13: 25.675291 | D13: 13.335229 | E13: 4.0943986
A14: 43466.708 | C14: 28.774524 | D14: 11.28803 | E14: 6.1700313
... A2134: 43555.042 | C2134: 30.764856 | D2134: 10.235997 | E2134: 3.070799
A2135: 43555.083
A2136: 43555.125 | C2136: 28.717657 | D2136: 12.283196 | E2136: 4.0943986
A2137: 43555.167 | C2137: 29.76969 | D2137: 12.283196 | E2137: 2.0471993
A2138: 43555.208 | C2138: 29.76969 | D2138: 10.235997 | E2138: 2.0471993
A2139: 43555.25 | C2139: 28.74609 | D2139: 12.283196 | E2139: 4.0943986
A2140: 43555.292 | C2140: 42.081319 | D2140: 11.259596 | E2140: 2.0471993
A2141: 43555.333 | C2141: 39.01052 | D2141: 11.28803 | E2141: 4.0943986
A2142: 43555.375 | C2142: 34.916122 | D2142: 11.28803 | E2142: 5.1179983
A2143: 43555.417 | C2143: 39.01052 | D2143: 11.28803 | E2143: 2.0471993
A2144: 43555.458 | C2144: 39.01052 | D2144: 10.26443 | E2144: 4.0943986
A2145: 43555.5 | C2145: 36.963321 | D2145: 8.2172306 | E2145: 2.0471993
A2146: 43555.542 | C2146: 34.916122 | D2146: 8.2172306 | E2146: 2.0471993
A2147: 43555.583 | C2147: 33.892522 | D2147: 7.1936309 | E2147: 2.0471993
... A8762: 43831.208 | C8762: 42.792152 | D8762: 19.33466 | E8762: 5.089565

Sheet Meetdata 2020
A1: Date | C1: E_871687400008441314 | D1: E_871689200000091375 | E1: E_871689250000001867
C2: Volume | D2: Volume | E2: Volume
A3: 43831.25 | C3: 42.792152 | D3: 20.35826 | E3: 7.1367643
A4: 43831.292 | C4: 44.839352 | D4: 19.33466 | E4: 6.1131646
A5: 43831.333 | C5: 47.910151 | D5: 21.38186 | E5: 13.249929
A6: 43831.375 | C6: 47.910151 | D6: 19.33466 | E6: 15.268695
A7: 43831.417 | C7: 48.93375 | D7: 21.38186 | E7: 8.1603639
A8: 43831.458 | C8: 45.891385 | D8: 20.386693 | E8: 6.1131646
A9: 43831.5 | C9: 47.938584 | D9: 22.405459 | E9: 9.1839636
A10: 43831.542 | C10: 45.919818 | D10: 21.410293 | E10: 14.273529
A11: 43831.583 | C11: 46.943418 | D11: 20.386693 | E11: 9.1839636
A12: 43831.625 | C12: 45.919818 | D12: 21.410293 | E12: 11.20273
A13: 43831.667 | C13: 44.896218 | D13: 18.339494 | E13: 9.1839636
A14: 43831.708 | C14: 48.990617 | D14: 19.363094 | E14: 7.1367643
... A2110: 43919.042 | C2110: 6.1131646 | D2110: 15.297128 | E2110: 2.0471993
A2111: 43919.083
A2112: 43919.125 | C2112: 5.1179983 | D2112: 11.231163 | E2112: 6.1131646
A2113: 43919.167 | C2113: 8.1603639 | D2113: 14.273529 | E2113: 3.070799
A2114: 43919.208 | C2114: 12.254763 | D2114: 14.273529 | E2114: 5.089565
A2115: 43919.25 | C2115: 15.297128 | D2115: 12.254763 | E2115: 3.070799
A2116: 43919.292 | C2116: 19.391527 | D2116: 16.320728 | E2116: 9.1839636
A2117: 43919.333 | C2117: 16.320728 | D2117: 14.273529 | E2117: 13.249929
A2118: 43919.375 | C2118: 14.273529 | D2118: 13.249929 | E2118: 6.1131646
A2119: 43919.417 | C2119: 10.207563 | D2119: 15.297128 | E2119: 7.1367643
A2120: 43919.458 | C2120: 13.278362 | D2120: 12.226329 | E2120: 6.1131646
A2121: 43919.5 | C2121: 26.528291 | D2121: 13.249929 | E2121: 8.1603639
A2122: 43919.542 | C2122: 25.504691 | D2122: 14.273529 | E2122: 6.1131646
A2123: 43919.583 | C2123: 17.344328 | D2123: 12.226329 | E2123: 4.0659653
... A8786: 44197.208 | C8786: 14.301962 | D8786: 18.339494 | E8786: 4.0659653

Sheet Meetdata 2021
A1: Date | C1: E_871687400008441314 | D1: E_871689200000091375 | E1: E_871689250000001867
C2: Volume | D2: Volume | E2: Volume
A3: 44197.25 | C3: 14.301962 | D3: 19.363094 | E3: 6.1131646
A4: 44197.292 | C4: 21.438726 | D4: 21.38186 | E4: 10.17913
A5: 44197.333 | C5: 29.59909 | D5: 20.35826 | E5: 14.245095
A6: 44197.375 | C6: 24.509525 | D6: 17.315894 | E6: 14.245095
A7: 44197.417 | C7: 21.438726 | D7: 18.311061 | E7: 10.17913
A8: 44197.458 | C8: 18.367927 | D8: 19.33466 | E8: 9.1555303
A9: 44197.5 | C9: 17.344328 | D9: 18.311061 | E9: 8.1319306
A10: 44197.542 | C10: 18.367927 | D10: 13.221496 | E10: 7.1367643
A11: 44197.583 | C11: 23.457492 | D11: 17.315894 | E11: 8.1319306
A12: 44197.625 | C12: 24.481092 | D12: 15.268695 | E12: 6.1131646
A13: 44197.667 | C13: 32.641456 | D13: 16.292295 | E13: 7.1367643
A14: 44197.708 | C14: 27.551891 | D14: 18.311061 | E14: 8.1319306
... A2062: 44283.042 | C2062: 13.335229 | D2062: 12.283196 | E2062: 4.0943986
A2063: 44283.083
A2064: 44283.125 | C2064: 6.141598 | D2064: 14.330395 | E2064: 4.0943986
A2065: 44283.167 | C2065: 24.594825 | D2065: 16.377595 | E2065: 4.0943986
A2066: 44283.208 | C2066: 20.500426 | D2066: 14.330395 | E2066: 3.070799
A2067: 44283.25 | C2067: 23.571225 | D2067: 16.377595 | E2067: 4.0943986
A2068: 44283.292 | C2068: 17.429628 | D2068: 15.353995 | E2068: 10.235997
A2069: 44283.333 | C2069: 20.500426 | D2069: 13.306796 | E2069: 10.235997
A2070: 44283.375 | C2070: 18.453227 | D2070: 13.306796 | E2070: 5.1179983
A2071: 44283.417 | C2071: 16.406028 | D2071: 10.235997 | E2071: 5.1179983
A2072: 44283.458 | C2072: 12.311629 | D2072: 9.2123969 | E2072: 4.0943986
A2073: 44283.5 | C2073: 27.694057 | D2073: 12.283196 | E2073: 4.0943986
A2074: 44283.542 | C2074: 20.52886 | D2074: 10.235997 | E2074: 4.0943986
A2075: 44283.583 | C2075: 16.406028 | D2075: 10.235997 | E2075: 4.0943986
... A8762: 44562.208 | C8762: 10.26443 | D8762: 10.26443 | E8762: 2.0471993
