Workbook

Sheet Samenvatting
C1: SJV (Nm3)
A2: Gemeente/deelnemer | B2: Kolom1 | C2: standaardjaarverbruik | D2: Kolom2 | E2: Aansluitingen (G1, G2A) | F2: Verbruik (G1, G2A) | G2: Aansluitingen G2C | H2: Verbruik G2C | I2: Aansluitingen GXX | J2: Verbruik GXX
A3: Gemeente Baarn | C3: =+SUMIF('Platte data'!A$2:A$289,A3,'Platte data'!W$2:W$289) -> 106548 | E3: =+SUMIF('Platte data'!$A$2:$A$289,Samenvatting!$A3,'Platte data'!$Y$2:$Y$289) -> 7 | F3: =+SUMIF('Platte data'!$A$2:$A$289,Samenvatting!$A3,'Platte data'!$AB$2:$AB$289) -> 53442 | G3: =+SUMIF('Platte data'!$A$2:$A$289,Samenvatting!$A3,'Platte data'!$Z$2:$Z$289) -> 1 | H3: =+SUMIF('Platte data'!$A$2:$A$289,Samenvatting!$A3,'Platte data'!$AC$2:$AC$289) -> 53106 | I3: =+SUMIF('Platte data'!$A$2:$A$289,Samenvatting!$A3,'Platte data'!$AA$2:$AA$289) -> 0 | J3: =+SUMIF('Platte data'!$A$2:$A$289,Samenvatting!$A3,'Platte data'!$AD$2:$AD$289) -> 0
A4: Gemeente Bunnik | C4: =+SUMIF('Platte data'!A$2:A$289,A4,'Platte data'!W$2:W$289) -> 43343 | E4: =+SUMIF('Platte data'!$A$2:$A$289,Samenvatting!$A4,'Platte data'!$Y$2:$Y$289) -> 3 | F4: =+SUMIF('Platte data'!$A$2:$A$289,Samenvatting!$A4,'Platte data'!$AB$2:$AB$289) -> 13362 | G4: =+SUMIF('Platte data'!$A$2:$A$289,Samenvatting!$A4,'Platte data'!$Z$2:$Z$289) -> 1 | H4: =+SUMIF('Platte data'!$A$2:$A$289,Samenvatting!$A4,'Platte data'!$AC$2:$AC$289) -> 29981 | I4: =+SUMIF('Platte data'!$A$2:$A$289,Samenvatting!$A4,'Platte data'!$AA$2:$AA$289) -> 0 | J4: =+SUMIF('Platte data'!$A$2:$A$289,Samenvatting!$A4,'Platte data'!$AD$2:$AD$289) -> 0
A5: Gemeente De Bilt | C5: =+SUMIF('Platte data'!A$2:A$289,A5,'Platte data'!W$2:W$289) -> 243453 | E5: =+SUMIF('Platte data'!$A$2:$A$289,Samenvatting!$A5,'Platte data'!$Y$2:$Y$289) -> 13 | F5: =+SUMIF('Platte data'!$A$2:$A$289,Samenvatting!$A5,'Platte data'!$AB$2:$AB$289) -> 79119 | G5: =+SUMIF('Platte data'!$A$2:$A$289,Samenvatting!$A5,'Platte data'!$Z$2:$Z$289) -> 4 | H5: =+SUMIF('Platte data'!$A$2:$A$289,Samenvatting!$A5,'Platte data'!$AC$2:$AC$289) -> 164334 | I5: =+SUMIF('Platte data'!$A$2:$A$289,Samenvatting!$A5,'Platte data'!$AA$2:$AA$289) -> 0 | J5: =+SUMIF('Platte data'!$A$2:$A$289,Samenvatting!$A5,'Platte data'!$AD$2:$AD$289) -> 0
A6: Gemeente Houten | C6: =+SUMIF('Platte data'!A$2:A$289,A6,'Platte data'!W$2:W$289) -> 397948 | E6: =+SUMIF('Platte data'!$A$2:$A$289,Samenvatting!$A6,'Platte data'!$Y$2:$Y$289) -> 28 | F6: =+SUMIF('Platte data'!$A$2:$A$289,Samenvatting!$A6,'Platte data'!$AB$2:$AB$289) -> 325768 | G6: =+SUMIF('Platte data'!$A$2:$A$289,Samenvatting!$A6,'Platte data'!$Z$2:$Z$289) -> 1 | H6: =+SUMIF('Platte data'!$A$2:$A$289,Samenvatting!$A6,'Platte data'!$AC$2:$AC$289) -> 72180 | I6: =+SUMIF('Platte data'!$A$2:$A$289,Samenvatting!$A6,'Platte data'!$AA$2:$AA$289) -> 0 | J6: =+SUMIF('Platte data'!$A$2:$A$289,Samenvatting!$A6,'Platte data'!$AD$2:$AD$289) -> 0
A7: Gemeente Leusden | C7: =+SUMIF('Platte data'!A$2:A$289,A7,'Platte data'!W$2:W$289) -> 115185 | E7: =+SUMIF('Platte data'!$A$2:$A$289,Samenvatting!$A7,'Platte data'!$Y$2:$Y$289) -> 13 | F7: =+SUMIF('Platte data'!$A$2:$A$289,Samenvatting!$A7,'Platte data'!$AB$2:$AB$289) -> 81510 | G7: =+SUMIF('Platte data'!$A$2:$A$289,Samenvatting!$A7,'Platte data'!$Z$2:$Z$289) -> 1 | H7: =+SUMIF('Platte data'!$A$2:$A$289,Samenvatting!$A7,'Platte data'!$AC$2:$AC$289) -> 33675 | I7: =+SUMIF('Platte data'!$A$2:$A$289,Samenvatting!$A7,'Platte data'!$AA$2:$AA$289) -> 0 | J7: =+SUMIF('Platte data'!$A$2:$A$289,Samenvatting!$A7,'Platte data'!$AD$2:$AD$289) -> 0
A8: Gemeente Lopik | C8: =+SUMIF('Platte data'!A$2:A$289,A8,'Platte data'!W$2:W$289) -> 108373 | E8: =+SUMIF('Platte data'!$A$2:$A$289,Samenvatting!$A8,'Platte data'!$Y$2:$Y$289) -> 10 | F8: =+SUMIF('Platte data'!$A$2:$A$289,Samenvatting!$A8,'Platte data'!$AB$2:$AB$289) -> 60797 | G8: =+SUMIF('Platte data'!$A$2:$A$289,Samenvatting!$A8,'Platte data'!$Z$2:$Z$289) -> 2 | H8: =+SUMIF('Platte data'!$A$2:$A$289,Samenvatting!$A8,'Platte data'!$AC$2:$AC$289) -> 47576 | I8: =+SUMIF('Platte data'!$A$2:$A$289,Samenvatting!$A8,'Platte data'!$AA$2:$AA$289) -> 0 | J8: =+SUMIF('Platte data'!$A$2:$A$289,Samenvatting!$A8,'Platte data'!$AD$2:$AD$289) -> 0
A9: Gemeente Montfoort | C9: =+SUMIF('Platte data'!A$2:A$289,A9,'Platte data'!W$2:W$289) -> 19966 | E9: =+SUMIF('Platte data'!$A$2:$A$289,Samenvatting!$A9,'Platte data'!$Y$2:$Y$289) -> 4 | F9: =+SUMIF('Platte data'!$A$2:$A$289,Samenvatting!$A9,'Platte data'!$AB$2:$AB$289) -> 19966 | G9: =+SUMIF('Platte data'!$A$2:$A$289,Samenvatting!$A9,'Platte data'!$Z$2:$Z$289) -> 0 | H9: =+SUMIF('Platte data'!$A$2:$A$289,Samenvatting!$A9,'Platte data'!$AC$2:$AC$289) -> 0 | I9: =+SUMIF('Platte data'!$A$2:$A$289,Samenvatting!$A9,'Platte data'!$AA$2:$AA$289) -> 0 | J9: =+SUMIF('Platte data'!$A$2:$A$289,Samenvatting!$A9,'Platte data'!$AD$2:$AD$289) -> 0
A10: Gemeente Nieuwegein | C10: =+SUMIF('Platte data'!A$2:A$289,A10,'Platte data'!W$2:W$289) -> 384531 | E10: =+SUMIF('Platte data'!$A$2:$A$289,Samenvatting!$A10,'Platte data'!$Y$2:$Y$289) -> 20 | F10: =+SUMIF('Platte data'!$A$2:$A$289,Samenvatting!$A10,'Platte data'!$AB$2:$AB$289) -> 233682 | G10: =+SUMIF('Platte data'!$A$2:$A$289,Samenvatting!$A10,'Platte data'!$Z$2:$Z$289) -> 3 | H10: =+SUMIF('Platte data'!$A$2:$A$289,Samenvatting!$A10,'Platte data'!$AC$2:$AC$289) -> 150849 | I10: =+SUMIF('Platte data'!$A$2:$A$289,Samenvatting!$A10,'Platte data'!$AA$2:$AA$289) -> 0 | J10: =+SUMIF('Platte data'!$A$2:$A$289,Samenvatting!$A10,'Platte data'!$AD$2:$AD$289) -> 0
A11: Gemeente Oudewater | C11: =+SUMIF('Platte data'!A$2:A$289,A11,'Platte data'!W$2:W$289) -> 102534 | E11: =+SUMIF('Platte data'!$A$2:$A$289,Samenvatting!$A11,'Platte data'!$Y$2:$Y$289) -> 8 | F11: =+SUMIF('Platte data'!$A$2:$A$289,Samenvatting!$A11,'Platte data'!$AB$2:$AB$289) -> 102534 | G11: =+SUMIF('Platte data'!$A$2:$A$289,Samenvatting!$A11,'Platte data'!$Z$2:$Z$289) -> 0 | H11: =+SUMIF('Platte data'!$A$2:$A$289,Samenvatting!$A11,'Platte data'!$AC$2:$AC$289) -> 0 | I11: =+SUMIF('Platte data'!$A$2:$A$289,Samenvatting!$A11,'Platte data'!$AA$2:$AA$289) -> 0 | J11: =+SUMIF('Platte data'!$A$2:$A$289,Samenvatting!$A11,'Platte data'!$AD$2:$AD$289) -> 0
A12: Gemeente Stichtse Vecht | C12: =+SUMIF('Platte data'!A$2:A$289,A12,'Platte data'!W$2:W$289) -> 621522 | E12: =+SUMIF('Platte data'!$A$2:$A$289,Samenvatting!$A12,'Platte data'!$Y$2:$Y$289) -> 22 | F12: =+SUMIF('Platte data'!$A$2:$A$289,Samenvatting!$A12,'Platte data'!$AB$2:$AB$289) -> 219938 | G12: =+SUMIF('Platte data'!$A$2:$A$289,Samenvatting!$A12,'Platte data'!$Z$2:$Z$289) -> 3 | H12: =+SUMIF('Platte data'!$A$2:$A$289,Samenvatting!$A12,'Platte data'!$AC$2:$AC$289) -> 241841 | I12: =+SUMIF('Platte data'!$A$2:$A$289,Samenvatting!$A12,'Platte data'!$AA$2:$AA$289) -> 1 | J12: =+SUMIF('Platte data'!$A$2:$A$289,Samenvatting!$A12,'Platte data'!$AD$2:$AD$289) -> 159743
A13: Gemeente Soest | C13: =+SUMIF('Platte data'!A$2:A$289,A13,'Platte data'!W$2:W$289) -> 328562.63 | E13: =+SUMIF('Platte data'!$A$2:$A$289,Samenvatting!$A13,'Platte data'!$Y$2:$Y$289) -> 13 | F13: =+SUMIF('Platte data'!$A$2:$A$289,Samenvatting!$A13,'Platte data'!$AB$2:$AB$289) -> 104816.7 | G13: =+SUMIF('Platte data'!$A$2:$A$289,Samenvatting!$A13,'Platte data'!$Z$2:$Z$289) -> 5 | H13: =+SUMIF('Platte data'!$A$2:$A$289,Samenvatting!$A13,'Platte data'!$AC$2:$AC$289) -> 223745.93 | I13: =+SUMIF('Platte data'!$A$2:$A$289,Samenvatting!$A13,'Platte data'!$AA$2:$AA$289) -> 0 | J13: =+SUMIF('Platte data'!$A$2:$A$289,Samenvatting!$A13,'Platte data'!$AD$2:$AD$289) -> 0
A14: Gemeente Utrechtse Heuvelrug Commandiet B.V. | C14: =+SUMIF('Platte data'!A$2:A$289,A14,'Platte data'!W$2:W$289) -> 188031 | E14: =+SUMIF('Platte data'!$A$2:$A$289,Samenvatting!$A14,'Platte data'!$Y$2:$Y$289) -> 20 | F14: =+SUMIF('Platte data'!$A$2:$A$289,Samenvatting!$A14,'Platte data'!$AB$2:$AB$289) -> 129964 | G14: =+SUMIF('Platte data'!$A$2:$A$289,Samenvatting!$A14,'Platte data'!$Z$2:$Z$289) -> 2 | H14: =+SUMIF('Platte data'!$A$2:$A$289,Samenvatting!$A14,'Platte data'!$AC$2:$AC$289) -> 58067 | I14: =+SUMIF('Platte data'!$A$2:$A$289,Samenvatting!$A14,'Platte data'!$AA$2:$AA$289) -> 0 | J14: =+SUMIF('Platte data'!$A$2:$A$289,Samenvatting!$A14,'Platte data'!$AD$2:$AD$289) -> 0
... A27: Stichting Welzijn Stichtse Vecht | C27: =+SUMIF('Platte data'!A$2:A$289,A27,'Platte data'!W$2:W$289) -> 8480 | E27: =+SUMIF('Platte data'!$A$2:$A$289,Samenvatting!$A27,'Platte data'!$Y$2:$Y$289) -> 1 | F27: =+SUMIF('Platte data'!$A$2:$A$289,Samenvatting!$A27,'Platte data'!$AB$2:$AB$289) -> 8480 | G27: =+SUMIF('Platte data'!$A$2:$A$289,Samenvatting!$A27,'Platte data'!$Z$2:$Z$289) -> 0 | H27: =+SUMIF('Platte data'!$A$2:$A$289,Samenvatting!$A27,'Platte data'!$AC$2:$AC$289) -> 0 | I27: =+SUMIF('Platte data'!$A$2:$A$289,Samenvatting!$A27,'Platte data'!$AA$2:$AA$289) -> 0 | J27: =+SUMIF('Platte data'!$A$2:$A$289,Samenvatting!$A27,'Platte data'!$AD$2:$AD$289) -> 0
B28: totaal | C28: =+SUM(C3:C27) -> 4042778.6 | E28: =+SUM(E3:E27) -> 251 | F28: =+SUM(F3:F27) -> 2306757.7 | G28: =+SUM(G3:G27) -> 32 | H28: =+SUM(H3:H27) -> 1452517.9 | I28: =+SUM(I3:I27) -> 3 | J28: =+SUM(J3:J27) -> 283505

Sheet Platte data
A1: Customer Company Name | B1: Customer Chamber Of Commerce Number | C1: Customer Street | D1: Customer House No | E1: Customer House No Suffix | F1: Customer Postal Code | G1: Customer City | H1: Location Name | I1: Location Street | J1: Location House number | K1: Location Number suffix | L1: Location Postalcode | M1: Location City | N1: Product Type | O1: Usage Type | P1: Product EAN | Q1: Profile | R1: Capacity | S1: Meter Type | T1: Metering Method | U1: Administrative Status Smart Meter | V1: Technical Communication SM | W1: SJV | X1: Afgerekend verbruik 2021 | Y1: G1/G2A | Z1: G2C | AA1: GXX | AB1: G1/G2A | AC1: G2C | AD1: GXX
A2: Gemeente Baarn | B2: 32167607 | C2: Stationsweg | D2: 18 | F2: 3743 EN | G2: Baarn | I2: Laanstraat | J2: 1 | L2: 3743 BA | M2: BAARN | N2: Gas | O2: GV | P2: 871687400002065608 | Q2: G2C | T2: Maandelijks | W2: 53106 | X2: 52502 | Y2: {=+_xlfn.IFS($Q2="G1A",1,$Q2="G2A",1,TRUE,0)} -> 0 | Z2: =+IF(($Q2="G2C"),1,0) -> 1 | AA2: =+IF(($Q2="GXX"),1,0) -> 0 | AB2: =+IF(Y2=1,W2,0) -> 0 | AC2: =+IF(Z2=1,W2,0) -> 53106 | AD2: =+IF(AA2=1,X2,0) -> 0
A3: Gemeente Baarn | B3: 32167607 | C3: Stationsweg | D3: 18 | F3: 3743 EN | G3: Baarn | I3: Kerkstraat | J3: 28 | L3: 3741 AK | M3: BAARN | N3: Gas | O3: KV | P3: 871687400007730068 | Q3: G2A | R3: G10, t/m 16 m3 per uur | S3: Conventional | T3: Jaarlijks | W3: 21828 | X3: 21797 | Y3: {=+_xlfn.IFS($Q3="G1A",1,$Q3="G2A",1,TRUE,0)} -> 1 | Z3: =+IF(($Q3="G2C"),1,0) -> 0 | AA3: =+IF(($Q3="GXX"),1,0) -> 0 | AB3: =+IF(Y3=1,W3,0) -> 21828 | AC3: =+IF(Z3=1,W3,0) -> 0 | AD3: =+IF(AA3=1,X3,0) -> 0
A4: Gemeente Baarn | B4: 32167607 | C4: Stationsweg | D4: 18 | F4: 3743 EN | G4: Baarn | I4: Burgemeester Penstraat | J4: 6 | L4: 3741 AH | M4: BAARN | N4: Gas | O4: KV | P4: 871687400007687867 | Q4: G2A | R4: G16, t/m 25 m3 per uur | S4: Smart meter | T4: Jaarlijks | U4: On | V4: SMU (slimmer meter is uitleesbaar) | W4: 8089 | X4: 7945 | Y4: {=+_xlfn.IFS($Q4="G1A",1,$Q4="G2A",1,TRUE,0)} -> 1 | Z4: =+IF(($Q4="G2C"),1,0) -> 0 | AA4: =+IF(($Q4="GXX"),1,0) -> 0 | AB4: =+IF(Y4=1,W4,0) -> 8089 | AC4: =+IF(Z4=1,W4,0) -> 0 | AD4: =+IF(AA4=1,X4,0) -> 0
A5: Gemeente Baarn | B5: 32167607 | C5: Stationsweg | D5: 18 | F5: 3743 EN | G5: Baarn | I5: Wijkamplaan | J5: 71 | L5: 3742 WP | M5: BAARN | N5: Gas | O5: KV | P5: 871687400008107555 | Q5: G2A | R5: t/m G6, t/m 10 m3 per uur, jaarverbruik >= 4.000 m³ | S5: Smart meter | T5: Jaarlijks | U5: On | V5: SMU (slimmer meter is uitleesbaar) | W5: 8409 | X5: 8260 | Y5: {=+_xlfn.IFS($Q5="G1A",1,$Q5="G2A",1,TRUE,0)} -> 1 | Z5: =+IF(($Q5="G2C"),1,0) -> 0 | AA5: =+IF(($Q5="GXX"),1,0) -> 0 | AB5: =+IF(Y5=1,W5,0) -> 8409 | AC5: =+IF(Z5=1,W5,0) -> 0 | AD5: =+IF(AA5=1,X5,0) -> 0
A6: Gemeente Baarn | B6: 32167607 | C6: Stationsweg | D6: 18 | F6: 3743 EN | G6: Baarn | I6: Burgemeester Penstraat | J6: 4 | L6: 3741 AH | M6: BAARN | N6: Gas | O6: KV | P6: 871687400007687928 | Q6: G1A | R6: t/m G6, t/m 10 m3 per uur, jaarverbruik 500 m³ tot 4.000 m³ | S6: Smart meter | T6: Jaarlijks | U6: On | V6: SMU (slimmer meter is uitleesbaar) | W6: 1099 | X6: 435 | Y6: {=+_xlfn.IFS($Q6="G1A",1,$Q6="G2A",1,TRUE,0)} -> 1 | Z6: =+IF(($Q6="G2C"),1,0) -> 0 | AA6: =+IF(($Q6="GXX"),1,0) -> 0 | AB6: =+IF(Y6=1,W6,0) -> 1099 | AC6: =+IF(Z6=1,W6,0) -> 0 | AD6: =+IF(AA6=1,X6,0) -> 0
A7: Gemeente Baarn | B7: 32167607 | C7: Stationsweg | D7: 18 | F7: 3743 EN | G7: Baarn | I7: Piet Heinlaan | J7: 11 | K7: NST | L7: 3742 AN | M7: BAARN | N7: Gas | O7: KV | P7: 871687400007986977 | Q7: G1A | R7: t/m G6, t/m 10 m3 per uur, jaarverbruik 500 m³ tot 4.000 m³ | S7: Conventional | T7: Jaarlijks | W7: 1933 | X7: 1930 | Y7: {=+_xlfn.IFS($Q7="G1A",1,$Q7="G2A",1,TRUE,0)} -> 1 | Z7: =+IF(($Q7="G2C"),1,0) -> 0 | AA7: =+IF(($Q7="GXX"),1,0) -> 0 | AB7: =+IF(Y7=1,W7,0) -> 1933 | AC7: =+IF(Z7=1,W7,0) -> 0 | AD7: =+IF(AA7=1,X7,0) -> 0
A8: Gemeente Baarn | B8: 32167607 | C8: Stationsweg | D8: 18 | F8: 3743 EN | G8: Baarn | I8: Oude Amsterdamsestrwg | J8: 4 | L8: 3741 MR | M8: BAARN | N8: Gas | O8: KV | P8: 871687460009124869 | Q8: G1A | R8: t/m G6, t/m 10 m3 per uur, jaarverbruik >= 4.000 m³ | S8: Smart meter | T8: Jaarlijks | U8: On | V8: SMU (slimmer meter is uitleesbaar) | W8: 4225 | X8: 4162 | Y8: {=+_xlfn.IFS($Q8="G1A",1,$Q8="G2A",1,TRUE,0)} -> 1 | Z8: =+IF(($Q8="G2C"),1,0) -> 0 | AA8: =+IF(($Q8="GXX"),1,0) -> 0 | AB8: =+IF(Y8=1,W8,0) -> 4225 | AC8: =+IF(Z8=1,W8,0) -> 0 | AD8: =+IF(AA8=1,X8,0) -> 0
A9: Gemeente Baarn | B9: 32167607 | C9: Stationsweg | D9: 18 | F9: 3743 EN | G9: Baarn | I9: Heemskerklaan | J9: 25 | L9: 3742 AK | M9: BAARN | N9: Gas | O9: KV | P9: 871687400007952743 | Q9: G2A | R9: G10, t/m 16 m3 per uur | S9: Smart meter | T9: Jaarlijks | U9: On | V9: SMU (slimmer meter is uitleesbaar) | W9: 7859 | X9: 7754.8995 | Y9: {=+_xlfn.IFS($Q9="G1A",1,$Q9="G2A",1,TRUE,0)} -> 1 | Z9: =+IF(($Q9="G2C"),1,0) -> 0 | AA9: =+IF(($Q9="GXX"),1,0) -> 0 | AB9: =+IF(Y9=1,W9,0) -> 7859 | AC9: =+IF(Z9=1,W9,0) -> 0 | AD9: =+IF(AA9=1,X9,0) -> 0
A10: Gemeente Bunnik | B10: 30278213 | C10: Singelpark | D10: 1 | F10: 3984 NC | G10: Odijk | I10: Rumpsterweg | J10: 4 | L10: 3981 AK | M10: BUNNIK | N10: Gas | O10: KV | P10: 871689296900028245 | Q10: G2A | R10: G10, t/m 16 m3 per uur | S10: Smart meter | T10: Jaarlijks | U10: On | V10: SMU (slimmer meter is uitleesbaar) | W10: 1205 | X10: 3283.6377 | Y10: {=+_xlfn.IFS($Q10="G1A",1,$Q10="G2A",1,TRUE,0)} -> 1 | Z10: =+IF(($Q10="G2C"),1,0) -> 0 | AA10: =+IF(($Q10="GXX"),1,0) -> 0 | AB10: =+IF(Y10=1,W10,0) -> 1205 | AC10: =+IF(Z10=1,W10,0) -> 0 | AD10: =+IF(AA10=1,X10,0) -> 0
A11: Gemeente Bunnik | B11: 30278213 | C11: Singelpark | D11: 1 | F11: 3984 NC | G11: Odijk | I11: Rode Haan | J11: 1 | L11: 3985 PN | M11: WERKHOVEN | N11: Gas | O11: KV | P11: 871689296900061600 | Q11: G2A | R11: t/m G6, t/m 10 m3 per uur, jaarverbruik >= 4.000 m³ | S11: Conventional | T11: Jaarlijks | W11: 7011 | X11: 7005 | Y11: {=+_xlfn.IFS($Q11="G1A",1,$Q11="G2A",1,TRUE,0)} -> 1 | Z11: =+IF(($Q11="G2C"),1,0) -> 0 | AA11: =+IF(($Q11="GXX"),1,0) -> 0 | AB11: =+IF(Y11=1,W11,0) -> 7011 | AC11: =+IF(Z11=1,W11,0) -> 0 | AD11: =+IF(AA11=1,X11,0) -> 0
A12: Gemeente Bunnik | B12: 30278213 | C12: Singelpark | D12: 1 | F12: 3984 NC | G12: Odijk | I12: Singelpark | J12: 1 | L12: 3984 NC | M12: ODIJK | N12: Gas | O12: GV | P12: 871689296900051687 | Q12: G2C | T12: Maandelijks | W12: 29981 | X12: 29424 | Y12: {=+_xlfn.IFS($Q12="G1A",1,$Q12="G2A",1,TRUE,0)} -> 0 | Z12: =+IF(($Q12="G2C"),1,0) -> 1 | AA12: =+IF(($Q12="GXX"),1,0) -> 0 | AB12: =+IF(Y12=1,W12,0) -> 0 | AC12: =+IF(Z12=1,W12,0) -> 29981 | AD12: =+IF(AA12=1,X12,0) -> 0
A13: Gemeente Bunnik | B13: 30278213 | C13: Singelpark | D13: 1 | F13: 3984 NC | G13: Odijk | I13: Stationsweg | J13: 49 | L13: 3981 AB | M13: BUNNIK | N13: Gas | O13: KV | P13: 871689260009543619 | Q13: G2A | R13: t/m G6, t/m 10 m3 per uur, jaarverbruik >= 4.000 m³ | S13: Smart meter | T13: Jaarlijks | U13: On | V13: SMU (slimmer meter is uitleesbaar) | W13: 5146 | X13: 5055 | Y13: {=+_xlfn.IFS($Q13="G1A",1,$Q13="G2A",1,TRUE,0)} -> 1 | Z13: =+IF(($Q13="G2C"),1,0) -> 0 | AA13: =+IF(($Q13="GXX"),1,0) -> 0 | AB13: =+IF(Y13=1,W13,0) -> 5146 | AC13: =+IF(Z13=1,W13,0) -> 0 | AD13: =+IF(AA13=1,X13,0) -> 0
A14: Gemeente De Bilt | B14: 30286795 | C14: Soestdijkseweg Zuid | D14: 173 | F14: 3721 AB | G14: Bilthoven | I14: Koningin Wilhelminaweg | J14: 439 | L14: 3737 BE | M14: GROENEKAN | N14: Gas | O14: KV | P14: 871687400004407345 | Q14: G1A | R14: t/m G6, t/m 10 m3 per uur, jaarverbruik 500 m³ tot 4.000 m³ | S14: Smart meter | T14: Jaarlijks | U14: On | V14: SMU (slimmer meter is uitleesbaar) | W14: 2902 | X14: 2859 | Y14: {=+_xlfn.IFS($Q14="G1A",1,$Q14="G2A",1,TRUE,0)} -> 1 | Z14: =+IF(($Q14="G2C"),1,0) -> 0 | AA14: =+IF(($Q14="GXX"),1,0) -> 0 | AB14: =+IF(Y14=1,W14,0) -> 2902 | AC14: =+IF(Z14=1,W14,0) -> 0 | AD14: =+IF(AA14=1,X14,0) -> 0
A15: Gemeente De Bilt | B15: 30286795 | C15: Soestdijkseweg Zuid | D15: 173 | F15: 3721 AB | G15: Bilthoven | I15: Dr. Welfferweg | J15: 38 | L15: 3615 AN | M15: WESTBROEK | N15: Gas | O15: KV | P15: 871687400004734472 | Q15: G1A | R15: t/m G6, t/m 10 m3 per uur, jaarverbruik 500 m³ tot 4.000 m³ | S15: Smart meter | T15: Jaarlijks | U15: On | V15: SMU (slimmer meter is uitleesbaar) | W15: 2665 | X15: 2626 | Y15: {=+_xlfn.IFS($Q15="G1A",1,$Q15="G2A",1,TRUE,0)} -> 1 | Z15: =+IF(($Q15="G2C"),1,0) -> 0 | AA15: =+IF(($Q15="GXX"),1,0) -> 0 | AB15: =+IF(Y15=1,W15,0) -> 2665 | AC15: =+IF(Z15=1,W15,0) -> 0 | AD15: =+IF(AA15=1,X15,0) -> 0
A16: Gemeente De Bilt | B16: 30286795 | C16: Soestdijkseweg Zuid | D16: 173 | F16: 3721 AB | G16: Bilthoven | I16: Marie Curieweg | J16: 1 | L16: 3731 CE | M16: DE BILT | N16: Gas | O16: KV | P16: 871689296900070459 | Q16: G2A | R16: G16, t/m 25 m3 per uur | S16: Conventional | T16: Jaarlijks | W16: 8138 | X16: 8131 | Y16: {=+_xlfn.IFS($Q16="G1A",1,$Q16="G2A",1,TRUE,0)} -> 1 | Z16: =+IF(($Q16="G2C"),1,0) -> 0 | AA16: =+IF(($Q16="GXX"),1,0) -> 0 | AB16: =+IF(Y16=1,W16,0) -> 8138 | AC16: =+IF(Z16=1,W16,0) -> 0 | AD16: =+IF(AA16=1,X16,0) -> 0
A17: Gemeente De Bilt | B17: 30286795 | C17: Soestdijkseweg Zuid | D17: 173 | F17: 3721 AB | G17: Bilthoven | I17: Leyenseweg | J17: 40 | L17: 3721 BD | M17: BILTHOVEN | N17: Gas | O17: KV | P17: 871689296900167630 | Q17: G2A | R17: G25, t/m 40 m3 per uur | S17: Conventional | T17: Jaarlijks | W17: 25005 | X17: 24982 | Y17: {=+_xlfn.IFS($Q17="G1A",1,$Q17="G2A",1,TRUE,0)} -> 1 | Z17: =+IF(($Q17="G2C"),1,0) -> 0 | AA17: =+IF(($Q17="GXX"),1,0) -> 0 | AB17: =+IF(Y17=1,W17,0) -> 25005 | AC17: =+IF(Z17=1,W17,0) -> 0 | AD17: =+IF(AA17=1,X17,0) -> 0
A18: Gemeente De Bilt | B18: 30286795 | C18: Soestdijkseweg Zuid | D18: 173 | F18: 3721 AB | G18: Bilthoven | I18: Industrieweg | J18: 9 | K18: A | L18: 3738 JW | M18: MAARTENSDIJK | N18: Gas | O18: KV | P18: 871687460010707075 | Q18: G1A | R18: t/m G6, t/m 10 m3 per uur, jaarverbruik 500 m³ tot 4.000 m³ | S18: Smart meter | T18: Jaarlijks | U18: On | V18: SMU (slimmer meter is uitleesbaar) | W18: 1685 | X18: 1660 | Y18: {=+_xlfn.IFS($Q18="G1A",1,$Q18="G2A",1,TRUE,0)} -> 1 | Z18: =+IF(($Q18="G2C"),1,0) -> 0 | AA18: =+IF(($Q18="GXX"),1,0) -> 0 | AB18: =+IF(Y18=1,W18,0) -> 1685 | AC18: =+IF(Z18=1,W18,0) -> 0 | AD18: =+IF(AA18=1,X18,0) -> 0
A19: Gemeente De Bilt | B19: 30286795 | C19: Soestdijkseweg Zuid | D19: 173 | F19: 3721 AB | G19: Bilthoven | I19: Soestdijkseweg Zuid | J19: 173 | L19: 3721 AB | M19: BILTHOVEN | N19: Gas | O19: GV | P19: 871689296900124114 | Q19: G2C | T19: Maandelijks | W19: 56257 | X19: 56262 | Y19: {=+_xlfn.IFS($Q19="G1A",1,$Q19="G2A",1,TRUE,0)} -> 0 | Z19: =+IF(($Q19="G2C"),1,0) -> 1 | AA19: =+IF(($Q19="GXX"),1,0) -> 0 | AB19: =+IF(Y19=1,W19,0) -> 0 | AC19: =+IF(Z19=1,W19,0) -> 56257 | AD19: =+IF(AA19=1,X19,0) -> 0
A20: Gemeente De Bilt | B20: 30286795 | C20: Soestdijkseweg Zuid | D20: 173 | F20: 3721 AB | G20: Bilthoven | I20: Koningin Wilhelminaweg | J20: 9 | L20: 3738 JZ | M20: MAARTENSDIJK | N20: Gas | O20: KV | P20: 871687400004581137 | Q20: G1A | R20: t/m G6, t/m 10 m3 per uur, jaarverbruik 500 m³ tot 4.000 m³ | S20: Smart meter | T20: Jaarlijks | U20: On | V20: SMN (slimme meter is NIET uitleesbaar) | W20: 3822 | X20: 3326.2834 | Y20: {=+_xlfn.IFS($Q20="G1A",1,$Q20="G2A",1,TRUE,0)} -> 1 | Z20: =+IF(($Q20="G2C"),1,0) -> 0 | AA20: =+IF(($Q20="GXX"),1,0) -> 0 | AB20: =+IF(Y20=1,W20,0) -> 3822 | AC20: =+IF(Z20=1,W20,0) -> 0 | AD20: =+IF(AA20=1,X20,0) -> 0
A21: Gemeente De Bilt | B21: 30286795 | C21: Soestdijkseweg Zuid | D21: 173 | F21: 3721 AB | G21: Bilthoven | I21: Jasmijnstraat | J21: 6 | L21: 3732 EC | M21: DE BILT | N21: Gas | O21: KV | P21: 871689260011776173 | Q21: G2A | R21: G16, t/m 25 m3 per uur | S21: Smart meter | T21: Jaarlijks | U21: On | V21: SMN (slimme meter is NIET uitleesbaar) | W21: 7301 | X21: 1599 | Y21: {=+_xlfn.IFS($Q21="G1A",1,$Q21="G2A",1,TRUE,0)} -> 1 | Z21: =+IF(($Q21="G2C"),1,0) -> 0 | AA21: =+IF(($Q21="GXX"),1,0) -> 0 | AB21: =+IF(Y21=1,W21,0) -> 7301 | AC21: =+IF(Z21=1,W21,0) -> 0 | AD21: =+IF(AA21=1,X21,0) -> 0
A22: Gemeente De Bilt | B22: 30286795 | C22: Soestdijkseweg Zuid | D22: 173 | F22: 3721 AB | G22: Bilthoven | I22: Dr. Welfferweg | J22: 36 | L22: 3615 AN | M22: WESTBROEK | N22: Gas | O22: KV | P22: 871687400004734359 | Q22: G1A | R22: t/m G6, t/m 10 m3 per uur, jaarverbruik 500 m³ tot 4.000 m³ | S22: Smart meter | T22: Jaarlijks | U22: On | V22: SMU (slimmer meter is uitleesbaar) | W22: 1861 | X22: 1833 | Y22: {=+_xlfn.IFS($Q22="G1A",1,$Q22="G2A",1,TRUE,0)} -> 1 | Z22: =+IF(($Q22="G2C"),1,0) -> 0 | AA22: =+IF(($Q22="GXX"),1,0) -> 0 | AB22: =+IF(Y22=1,W22,0) -> 1861 | AC22: =+IF(Z22=1,W22,0) -> 0 | AD22: =+IF(AA22=1,X22,0) -> 0
A23: Gemeente De Bilt | B23: 30286795 | C23: Soestdijkseweg Zuid | D23: 173 | F23: 3721 AB | G23: Bilthoven | I23: Leyenseweg | J23: 40 | K23: A | L23: 3721 BD | M23: BILTHOVEN | N23: Gas | O23: KV | P23: 871689296900209071 | Q23: G1A | R23: t/m G6, t/m 10 m3 per uur, jaarverbruik 500 m³ tot 4.000 m³ | S23: Conventional | T23: Jaarlijks | W23: 3922 | X23: 3919 | Y23: {=+_xlfn.IFS($Q23="G1A",1,$Q23="G2A",1,TRUE,0)} -> 1 | Z23: =+IF(($Q23="G2C"),1,0) -> 0 | AA23: =+IF(($Q23="GXX"),1,0) -> 0 | AB23: =+IF(Y23=1,W23,0) -> 3922 | AC23: =+IF(Z23=1,W23,0) -> 0 | AD23: =+IF(AA23=1,X23,0) -> 0
A24: Gemeente De Bilt | B24: 30286795 | C24: Soestdijkseweg Zuid | D24: 173 | F24: 3721 AB | G24: Bilthoven | I24: 1e Brandenburgerweg | J24: 38 | L24: 3721 MJ | M24: BILTHOVEN | N24: Gas | O24: KV | P24: 871687400009657646 | Q24: G2A | R24: t/m G6, t/m 10 m3 per uur, jaarverbruik >= 4.000 m³ | S24: Smart meter | T24: Jaarlijks | U24: On | V24: SMU (slimmer meter is uitleesbaar) | W24: 7197 | X24: 7069 | Y24: {=+_xlfn.IFS($Q24="G1A",1,$Q24="G2A",1,TRUE,0)} -> 1 | Z24: =+IF(($Q24="G2C"),1,0) -> 0 | AA24: =+IF(($Q24="GXX"),1,0) -> 0 | AB24: =+IF(Y24=1,W24,0) -> 7197 | AC24: =+IF(Z24=1,W24,0) -> 0 | AD24: =+IF(AA24=1,X24,0) -> 0
A25: Gemeente De Bilt | B25: 30286795 | C25: Soestdijkseweg Zuid | D25: 173 | F25: 3721 AB | G25: Bilthoven | I25: Henri Dunantplein | J25: 4 | K25: C | L25: 3731 CL | M25: DE BILT | N25: Gas | O25: KV | P25: 871689296900072293 | Q25: G1A | R25: t/m G6, t/m 10 m3 per uur, jaarverbruik 500 m³ tot 4.000 m³ | S25: Smart meter | T25: Jaarlijks | U25: On | V25: SMU (slimmer meter is uitleesbaar) | W25: 1909 | X25: 1402.2031 | Y25: {=+_xlfn.IFS($Q25="G1A",1,$Q25="G2A",1,TRUE,0)} -> 1 | Z25: =+IF(($Q25="G2C"),1,0) -> 0 | AA25: =+IF(($Q25="GXX"),1,0) -> 0 | AB25: =+IF(Y25=1,W25,0) -> 1909 | AC25: =+IF(Z25=1,W25,0) -> 0 | AD25: =+IF(AA25=1,X25,0) -> 0
A26: Gemeente De Bilt | B26: 30286795 | C26: Soestdijkseweg Zuid | D26: 173 | F26: 3721 AB | G26: Bilthoven | I26: Soestdijkseweg Zuid | J26: 173 | L26: 3721 AB | M26: BILTHOVEN | N26: Gas | O26: GV | P26: 871689296900124121 | Q26: G2C | T26: Maandelijks | W26: 21780 | X26: 21323 | Y26: {=+_xlfn.IFS($Q26="G1A",1,$Q26="G2A",1,TRUE,0)} -> 0 | Z26: =+IF(($Q26="G2C"),1,0) -> 1 | AA26: =+IF(($Q26="GXX"),1,0) -> 0 | AB26: =+IF(Y26=1,W26,0) -> 0 | AC26: =+IF(Z26=1,W26,0) -> 21780 | AD26: =+IF(AA26=1,X26,0) -> 0
A27: Gemeente De Bilt | B27: 30286795 | C27: Soestdijkseweg Zuid | D27: 173 | F27: 3721 AB | G27: Bilthoven | I27: Weltevreden | J27: 24 | K27: A | L27: 3731 AL | M27: DE BILT | N27: Gas | O27: GV | P27: 871689296900108619 | Q27: G2C | T27: Maandelijks | W27: 35764 | X27: 36334 | Y27: {=+_xlfn.IFS($Q27="G1A",1,$Q27="G2A",1,TRUE,0)} -> 0 | Z27: =+IF(($Q27="G2C"),1,0) -> 1 | AA27: =+IF(($Q27="GXX"),1,0) -> 0 | AB27: =+IF(Y27=1,W27,0) -> 0 | AC27: =+IF(Z27=1,W27,0) -> 35764 | AD27: =+IF(AA27=1,X27,0) -> 0
A28: Gemeente De Bilt | B28: 30286795 | C28: Soestdijkseweg Zuid | D28: 173 | F28: 3721 AB | G28: Bilthoven | I28: Soestdijkseweg Zuid | J28: 208 | L28: 3721 AJ | M28: BILTHOVEN | N28: Gas | O28: GV | P28: 871689296900124398 | Q28: G2C | T28: Maandelijks | W28: 50533 | X28: 17534 | Y28: {=+_xlfn.IFS($Q28="G1A",1,$Q28="G2A",1,TRUE,0)} -> 0 | Z28: =+IF(($Q28="G2C"),1,0) -> 1 | AA28: =+IF(($Q28="GXX"),1,0) -> 0 | AB28: =+IF(Y28=1,W28,0) -> 0 | AC28: =+IF(Z28=1,W28,0) -> 50533 | AD28: =+IF(AA28=1,X28,0) -> 0
A29: Gemeente De Bilt | B29: 30286795 | C29: Soestdijkseweg Zuid | D29: 173 | F29: 3721 AB | G29: Bilthoven | I29: Groenekanseweg | J29: 87 | L29: 3737 AD | M29: GROENEKAN | N29: Gas | O29: KV | P29: 871687400004412578 | Q29: G2A | R29: G16, t/m 25 m3 per uur | S29: Conventional | T29: Jaarlijks | W29: 11085 | X29: 11085 | Y29: {=+_xlfn.IFS($Q29="G1A",1,$Q29="G2A",1,TRUE,0)} -> 1 | Z29: =+IF(($Q29="G2C"),1,0) -> 0 | AA29: =+IF(($Q29="GXX"),1,0) -> 0 | AB29: =+IF(Y29=1,W29,0) -> 11085 | AC29: =+IF(Z29=1,W29,0) -> 0 | AD29: =+IF(AA29=1,X29,0) -> 0
A30: Gemeente De Bilt | B30: 30286795 | C30: Soestdijkseweg Zuid | D30: 173 | F30: 3721 AB | G30: Bilthoven | I30: Weltevreden | J30: 20 | L30: 3731 AL | M30: DE BILT | N30: Gas | O30: KV | P30: 871689296900108602 | Q30: G1A | R30: t/m G6, t/m 10 m3 per uur, jaarverbruik 500 m³ tot 4.000 m³ | S30: Smart meter | T30: Jaarlijks | U30: On | V30: SMU (slimmer meter is uitleesbaar) | W30: 1627 | X30: 1603 | Y30: {=+_xlfn.IFS($Q30="G1A",1,$Q30="G2A",1,TRUE,0)} -> 1 | Z30: =+IF(($Q30="G2C"),1,0) -> 0 | AA30: =+IF(($Q30="GXX"),1,0) -> 0 | AB30: =+IF(Y30=1,W30,0) -> 1627 | AC30: =+IF(Z30=1,W30,0) -> 0 | AD30: =+IF(AA30=1,X30,0) -> 0
A31: Gemeente Houten | B31: 30279619 | C31: Onderdoor | D31: 25 | F31: 3995 DW | G31: Houten | H31: Kinderboerderij | I31: Keercamp | J31: 15 | L31: 3992 RV | M31: HOUTEN | N31: Gas | O31: KV | P31: 871687400005289667 | Q31: G1A | R31: t/m G6, t/m 10 m3 per uur, jaarverbruik 500 m³ tot 4.000 m³ | S31: Smart meter | T31: Jaarlijks | U31: On | V31: SMU (slimmer meter is uitleesbaar) | W31: 1500 | X31: 1478 | Y31: {=+_xlfn.IFS($Q31="G1A",1,$Q31="G2A",1,TRUE,0)} -> 1 | Z31: =+IF(($Q31="G2C"),1,0) -> 0 | AA31: =+IF(($Q31="GXX"),1,0) -> 0 | AB31: =+IF(Y31=1,W31,0) -> 1500 | AC31: =+IF(Z31=1,W31,0) -> 0 | AD31: =+IF(AA31=1,X31,0) -> 0
A32: Gemeente Houten | B32: 30279619 | C32: Onderdoor | D32: 25 | F32: 3995 DW | G32: Houten | H32: Voormalig Politiebureau | I32: De Slinger | J32: 2 | L32: 3995 DE | M32: HOUTEN | N32: Gas | O32: KV | P32: 871687400005884404 | Q32: G2A | R32: t/m G6, t/m 10 m3 per uur, jaarverbruik >= 4.000 m³ | S32: Conventional | T32: Jaarlijks | W32: 8978 | X32: 8483.8657 | Y32: {=+_xlfn.IFS($Q32="G1A",1,$Q32="G2A",1,TRUE,0)} -> 1 | Z32: =+IF(($Q32="G2C"),1,0) -> 0 | AA32: =+IF(($Q32="GXX"),1,0) -> 0 | AB32: =+IF(Y32=1,W32,0) -> 8978 | AC32: =+IF(Z32=1,W32,0) -> 0 | AD32: =+IF(AA32=1,X32,0) -> 0
A33: Gemeente Houten | B33: 30279619 | C33: Onderdoor | D33: 25 | F33: 3995 DW | G33: Houten | H33: Huis van Houten | I33: Onderdoor | J33: 160 | L33: 3995 DX | M33: HOUTEN | N33: Gas | O33: KV | P33: 871687400008598605 | Q33: G2A | R33: G25, t/m 40 m3 per uur | S33: Conventional | T33: Jaarlijks | W33: 37814 | X33: 36901.187 | Y33: {=+_xlfn.IFS($Q33="G1A",1,$Q33="G2A",1,TRUE,0)} -> 1 | Z33: =+IF(($Q33="G2C"),1,0) -> 0 | AA33: =+IF(($Q33="GXX"),1,0) -> 0 | AB33: =+IF(Y33=1,W33,0) -> 37814 | AC33: =+IF(Z33=1,W33,0) -> 0 | AD33: =+IF(AA33=1,X33,0) -> 0
A34: Gemeente Houten | B34: 30279619 | C34: Onderdoor | D34: 25 | F34: 3995 DW | G34: Houten | H34: Gemeentehuis | I34: Het Kant | J34: 2 | L34: 3995 DZ | M34: HOUTEN | N34: Gas | O34: GV | P34: 871687400008642964 | Q34: G2C | T34: Maandelijks | W34: 72180 | X34: 70058 | Y34: {=+_xlfn.IFS($Q34="G1A",1,$Q34="G2A",1,TRUE,0)} -> 0 | Z34: =+IF(($Q34="G2C"),1,0) -> 1 | AA34: =+IF(($Q34="GXX"),1,0) -> 0 | AB34: =+IF(Y34=1,W34,0) -> 0 | AC34: =+IF(Z34=1,W34,0) -> 72180 | AD34: =+IF(AA34=1,X34,0) -> 0
A35: Gemeente Houten | B35: 30279619 | C35: Onderdoor | D35: 25 | F35: 3995 DW | G35: Houten | H35: Montessorischool | I35: Vikingenpoort | J35: 30 | L35: 3991 JS | M35: HOUTEN | N35: Gas | O35: KV | P35: 871687400005910783 | Q35: G2A | R35: G10, t/m 16 m3 per uur | S35: Smart meter | T35: Jaarlijks | U35: On | V35: SMU (slimmer meter is uitleesbaar) | W35: 12887 | X35: 12658 | Y35: {=+_xlfn.IFS($Q35="G1A",1,$Q35="G2A",1,TRUE,0)} -> 1 | Z35: =+IF(($Q35="G2C"),1,0) -> 0 | AA35: =+IF(($Q35="GXX"),1,0) -> 0 | AB35: =+IF(Y35=1,W35,0) -> 12887 | AC35: =+IF(Z35=1,W35,0) -> 0 | AD35: =+IF(AA35=1,X35,0) -> 0
A36: Gemeente Houten | B36: 30279619 | C36: Onderdoor | D36: 25 | F36: 3995 DW | G36: Houten | H36: Gemeentewerf | I36: De Brug | J36: 11 | L36: 3991 LN | M36: HOUTEN | N36: Gas | O36: KV | P36: 871687400005401823 | Q36: G2A | R36: t/m G6, t/m 10 m3 per uur, jaarverbruik >= 4.000 m³ | S36: Conventional | T36: Jaarlijks | W36: 6063 | X36: 5219.4833 | Y36: {=+_xlfn.IFS($Q36="G1A",1,$Q36="G2A",1,TRUE,0)} -> 1 | Z36: =+IF(($Q36="G2C"),1,0) -> 0 | AA36: =+IF(($Q36="GXX"),1,0) -> 0 | AB36: =+IF(Y36=1,W36,0) -> 6063 | AC36: =+IF(Z36=1,W36,0) -> 0 | AD36: =+IF(AA36=1,X36,0) -> 0
A37: Gemeente Houten | B37: 30279619 | C37: Onderdoor | D37: 25 | F37: 3995 DW | G37: Houten | H37: De Bengelbongerd | I37: Dijkhoeve | J37: 1 | L37: 3992 XV | M37: HOUTEN | N37: Gas | O37: KV | P37: 871687400009075518 | Q37: G2A | R37: G16, t/m 25 m3 per uur | S37: Conventional | T37: Jaarlijks | W37: 17898 | X37: 17337.024 | Y37: {=+_xlfn.IFS($Q37="G1A",1,$Q37="G2A",1,TRUE,0)} -> 1 | Z37: =+IF(($Q37="G2C"),1,0) -> 0 | AA37: =+IF(($Q37="GXX"),1,0) -> 0 | AB37: =+IF(Y37=1,W37,0) -> 17898 | AC37: =+IF(Z37=1,W37,0) -> 0 | AD37: =+IF(AA37=1,X37,0) -> 0
A38: Gemeente Houten | B38: 30279619 | C38: Onderdoor | D38: 25 | F38: 3995 DW | G38: Houten | H38: Brandweerpost Oost | I38: Binnenweg | J38: 22 | L38: 3994 AN | M38: HOUTEN | N38: Gas | O38: KV | P38: 871687400010090661 | Q38: G2A | R38: t/m G6, t/m 10 m3 per uur, jaarverbruik >= 4.000 m³ | S38: Smart meter | T38: Jaarlijks | U38: On | V38: SMU (slimmer meter is uitleesbaar) | W38: 7373 | X38: 7242 | Y38: {=+_xlfn.IFS($Q38="G1A",1,$Q38="G2A",1,TRUE,0)} -> 1 | Z38: =+IF(($Q38="G2C"),1,0) -> 0 | AA38: =+IF(($Q38="GXX"),1,0) -> 0 | AB38: =+IF(Y38=1,W38,0) -> 7373 | AC38: =+IF(Z38=1,W38,0) -> 0 | AD38: =+IF(AA38=1,X38,0) -> 0
A39: Gemeente Houten | B39: 30279619 | C39: Onderdoor | D39: 25 | F39: 3995 DW | G39: Houten | H39: Gymzaal Julianastraat | I39: Koningin Julianastraat | J39: 14 | L39: 3991 DJ | M39: HOUTEN | N39: Gas | O39: KV | P39: 871687400005860668 | Q39: G2A | R39: t/m G6, t/m 10 m3 per uur, jaarverbruik >= 4.000 m³ | S39: Conventional | T39: Jaarlijks | W39: 6207 | X39: 4628.0296 | Y39: {=+_xlfn.IFS($Q39="G1A",1,$Q39="G2A",1,TRUE,0)} -> 1 | Z39: =+IF(($Q39="G2C"),1,0) -> 0 | AA39: =+IF(($Q39="GXX"),1,0) -> 0 | AB39: =+IF(Y39=1,W39,0) -> 6207 | AC39: =+IF(Z39=1,W39,0) -> 0 | AD39: =+IF(AA39=1,X39,0) -> 0
A40: Gemeente Houten | B40: 30279619 | C40: Onderdoor | D40: 25 | F40: 3995 DW | G40: Houten | H40: Begraafplaats Oud Wulven | I40: Oud Wulfseweg | J40: 6 | L40: 3992 LT | M40: HOUTEN | N40: Gas | O40: KV | P40: 871687400009289236 | Q40: G1A | R40: t/m G6, t/m 10 m3 per uur, jaarverbruik 500 m³ tot 4.000 m³ | S40: Smart meter | T40: Jaarlijks | U40: On | V40: SMU (slimmer meter is uitleesbaar) | W40: 563 | X40: 555 | Y40: {=+_xlfn.IFS($Q40="G1A",1,$Q40="G2A",1,TRUE,0)} -> 1 | Z40: =+IF(($Q40="G2C"),1,0) -> 0 | AA40: =+IF(($Q40="GXX"),1,0) -> 0 | AB40: =+IF(Y40=1,W40,0) -> 563 | AC40: =+IF(Z40=1,W40,0) -> 0 | AD40: =+IF(AA40=1,X40,0) -> 0
A41: Gemeente Houten | B41: 30279619 | C41: Onderdoor | D41: 25 | F41: 3995 DW | G41: Houten | H41: Stichting aan de Slinger | I41: De Slinger | J41: 44 | L41: 3995 DE | M41: HOUTEN | N41: Gas | O41: KV | P41: 871687400005879011 | Q41: G2A | R41: G25, t/m 40 m3 per uur | S41: Conventional | T41: Jaarlijks | W41: 48500 | X41: 50626.597 | Y41: {=+_xlfn.IFS($Q41="G1A",1,$Q41="G2A",1,TRUE,0)} -> 1 | Z41: =+IF(($Q41="G2C"),1,0) -> 0 | AA41: =+IF(($Q41="GXX"),1,0) -> 0 | AB41: =+IF(Y41=1,W41,0) -> 48500 | AC41: =+IF(Z41=1,W41,0) -> 0 | AD41: =+IF(AA41=1,X41,0) -> 0
A42: Gemeente Houten | B42: 30279619 | C42: Onderdoor | D42: 25 | F42: 3995 DW | G42: Houten | H42: SCC de Vuurtoren | I42: Zijdemos | J42: 30 | L42: 3994 KE | M42: HOUTEN | N42: Gas | O42: KV | P42: 871687400009435800 | Q42: G2A | R42: t/m G6, t/m 10 m3 per uur, jaarverbruik >= 4.000 m³ | S42: Conventional | T42: Jaarlijks | W42: 5919 | X42: 5125.6938 | Y42: {=+_xlfn.IFS($Q42="G1A",1,$Q42="G2A",1,TRUE,0)} -> 1 | Z42: =+IF(($Q42="G2C"),1,0) -> 0 | AA42: =+IF(($Q42="GXX"),1,0) -> 0 | AB42: =+IF(Y42=1,W42,0) -> 5919 | AC42: =+IF(Z42=1,W42,0) -> 0 | AD42: =+IF(AA42=1,X42,0) -> 0
A43: Gemeente Houten | B43: 30279619 | C43: Onderdoor | D43: 25 | F43: 3995 DW | G43: Houten | H43: Sporthal de Molenwiek | I43: Papiermolen | J43: 3 | L43: 3994 DJ | M43: HOUTEN | N43: Gas | O43: KV | P43: 871687400009048697 | Q43: G2A | R43: G25, t/m 40 m3 per uur | S43: Conventional | T43: Jaarlijks | W43: 17765 | X43: 16112.153 | Y43: {=+_xlfn.IFS($Q43="G1A",1,$Q43="G2A",1,TRUE,0)} -> 1 | Z43: =+IF(($Q43="G2C"),1,0) -> 0 | AA43: =+IF(($Q43="GXX"),1,0) -> 0 | AB43: =+IF(Y43=1,W43,0) -> 17765 | AC43: =+IF(Z43=1,W43,0) -> 0 | AD43: =+IF(AA43=1,X43,0) -> 0
A44: Gemeente Houten | B44: 30279619 | C44: Onderdoor | D44: 25 | F44: 3995 DW | G44: Houten | H44: Gymzaal de Plantage | I44: Plantagepolder | J44: 55 | L44: 3991 ZE | M44: HOUTEN | N44: Gas | O44: KV | P44: 871687400009193755 | Q44: G1A | R44: t/m G6, t/m 10 m3 per uur, jaarverbruik >= 4.000 m³ | S44: Smart meter | T44: Jaarlijks | U44: On | V44: SMU (slimmer meter is uitleesbaar) | W44: 5477 | X44: 5396 | Y44: {=+_xlfn.IFS($Q44="G1A",1,$Q44="G2A",1,TRUE,0)} -> 1 | Z44: =+IF(($Q44="G2C"),1,0) -> 0 | AA44: =+IF(($Q44="GXX"),1,0) -> 0 | AB44: =+IF(Y44=1,W44,0) -> 5477 | AC44: =+IF(Z44=1,W44,0) -> 0 | AD44: =+IF(AA44=1,X44,0) -> 0
A45: Gemeente Houten | B45: 30279619 | C45: Onderdoor | D45: 25 | F45: 3995 DW | G45: Houten | H45: Dependance Gemeentehuis | I45: Het Kant | J45: 3 | L45: 3995 DZ | M45: HOUTEN | N45: Gas | O45: KV | P45: 871687400005884572 | Q45: G2A | R45: G10, t/m 16 m3 per uur | S45: Conventional | T45: Jaarlijks | W45: 14213 | X45: 12840.521 | Y45: {=+_xlfn.IFS($Q45="G1A",1,$Q45="G2A",1,TRUE,0)} -> 1 | Z45: =+IF(($Q45="G2C"),1,0) -> 0 | AA45: =+IF(($Q45="GXX"),1,0) -> 0 | AB45: =+IF(Y45=1,W45,0) -> 14213 | AC45: =+IF(Z45=1,W45,0) -> 0 | AD45: =+IF(AA45=1,X45,0) -> 0
A46: Gemeente Houten | B46: 30279619 | C46: Onderdoor | D46: 25 | F46: 3995 DW | G46: Houten | H46: Loods (ex Geurts) | I46: Hofspoor | J46: 17 | L46: 3994 VZ | M46: HOUTEN | N46: Gas | O46: KV | P46: 871687400005489791 | Q46: G1A | R46: t/m G6, t/m 10 m3 per uur, jaarverbruik < 500 m³ | S46: Smart meter | T46: Jaarlijks | U46: On | V46: SMU (slimmer meter is uitleesbaar) | W46: 0 | X46: #N/A | Y46: {=+_xlfn.IFS($Q46="G1A",1,$Q46="G2A",1,TRUE,0)} -> 1 | Z46: =+IF(($Q46="G2C"),1,0) -> 0 | AA46: =+IF(($Q46="GXX"),1,0) -> 0 | AB46: =+IF(Y46=1,W46,0) -> 0 | AC46: =+IF(Z46=1,W46,0) -> 0 | AD46: =+IF(AA46=1,X46,0) -> 0
A47: Gemeente Houten | B47: 30279619 | C47: Onderdoor | D47: 25 | F47: 3995 DW | G47: Houten | H47: Sportpark de Kruisboog - Delta | I47: Kruisboog | J47: 2 | L47: 3994 AE | M47: HOUTEN | N47: Gas | O47: KV | P47: 871687400008829716 | Q47: G2A | R47: G10, t/m 16 m3 per uur | S47: Conventional | T47: Jaarlijks | W47: 12414 | X47: 12271.216 | Y47: {=+_xlfn.IFS($Q47="G1A",1,$Q47="G2A",1,TRUE,0)} -> 1 | Z47: =+IF(($Q47="G2C"),1,0) -> 0 | AA47: =+IF(($Q47="GXX"),1,0) -> 0 | AB47: =+IF(Y47=1,W47,0) -> 12414 | AC47: =+IF(Z47=1,W47,0) -> 0 | AD47: =+IF(AA47=1,X47,0) -> 0
A48: Gemeente Houten | B48: 30279619 | C48: Onderdoor | D48: 25 | F48: 3995 DW | G48: Houten | H48: Sportpark Oud Wulven - SV Houten | I48: Oud Wulfseweg | J48: 2 | K48: BY | L48: 3992 LT | M48: HOUTEN | N48: Gas | O48: KV | P48: 871687400008626636 | Q48: G2A | R48: G16, t/m 25 m3 per uur | S48: Smart meter | T48: Jaarlijks | U48: On | V48: SMN (slimme meter is NIET uitleesbaar) | W48: 16366 | X48: 15997.951 | Y48: {=+_xlfn.IFS($Q48="G1A",1,$Q48="G2A",1,TRUE,0)} -> 1 | Z48: =+IF(($Q48="G2C"),1,0) -> 0 | AA48: =+IF(($Q48="GXX"),1,0) -> 0 | AB48: =+IF(Y48=1,W48,0) -> 16366 | AC48: =+IF(Z48=1,W48,0) -> 0 | AD48: =+IF(AA48=1,X48,0) -> 0
A49: Gemeente Houten | B49: 30279619 | C49: Onderdoor | D49: 25 | F49: 3995 DW | G49: Houten | H49: Fietstransferium Centrum | I49: Onderdoor | J49: 80 | L49: 3995 DX | M49: HOUTEN | N49: Gas | O49: KV | P49: 871687400010242060 | Q49: G1A | R49: t/m G6, t/m 10 m3 per uur, jaarverbruik 500 m³ tot 4.000 m³ | S49: Smart meter | T49: Jaarlijks | U49: On | V49: SMU (slimmer meter is uitleesbaar) | W49: 3524 | X49: 3472 | Y49: {=+_xlfn.IFS($Q49="G1A",1,$Q49="G2A",1,TRUE,0)} -> 1 | Z49: =+IF(($Q49="G2C"),1,0) -> 0 | AA49: =+IF(($Q49="GXX"),1,0) -> 0 | AB49: =+IF(Y49=1,W49,0) -> 3524 | AC49: =+IF(Z49=1,W49,0) -> 0 | AD49: =+IF(AA49=1,X49,0) -> 0
A50: Gemeente Houten | B50: 30279619 | C50: Onderdoor | D50: 25 | F50: 3995 DW | G50: Houten | H50: SCC de Meerkoet | I50: Meerkoetweide | J50: 39 | L50: 3993 EB | M50: HOUTEN | N50: Gas | O50: KV | P50: 871687400008592740 | Q50: G1A | R50: t/m G6, t/m 10 m3 per uur, jaarverbruik 500 m³ tot 4.000 m³ | S50: Conventional | T50: Jaarlijks | W50: 2870 | X50: 2473.5041 | Y50: {=+_xlfn.IFS($Q50="G1A",1,$Q50="G2A",1,TRUE,0)} -> 1 | Z50: =+IF(($Q50="G2C"),1,0) -> 0 | AA50: =+IF(($Q50="GXX"),1,0) -> 0 | AB50: =+IF(Y50=1,W50,0) -> 2870 | AC50: =+IF(Z50=1,W50,0) -> 0 | AD50: =+IF(AA50=1,X50,0) -> 0
A51: Gemeente Houten | B51: 30279619 | C51: Onderdoor | D51: 25 | F51: 3995 DW | G51: Houten | H51: Gymzaal Klavertje Vier | I51: Eggeveld | J51: 2 | L51: 3993 GE | M51: HOUTEN | N51: Gas | O51: KV | P51: 871687400008617979 | Q51: G2A | R51: G10, t/m 16 m3 per uur | S51: Conventional | T51: Jaarlijks | W51: 10080 | X51: 8819.8336 | Y51: {=+_xlfn.IFS($Q51="G1A",1,$Q51="G2A",1,TRUE,0)} -> 1 | Z51: =+IF(($Q51="G2C"),1,0) -> 0 | AA51: =+IF(($Q51="GXX"),1,0) -> 0 | AB51: =+IF(Y51=1,W51,0) -> 10080 | AC51: =+IF(Z51=1,W51,0) -> 0 | AD51: =+IF(AA51=1,X51,0) -> 0
A52: Gemeente Houten | B52: 30279619 | C52: Onderdoor | D52: 25 | F52: 3995 DW | G52: Houten | H52: Schoolwoningen Merantihout | I52: Merantihout | J52: 14 | L52: 3991 MW | M52: HOUTEN | N52: Gas | O52: KV | P52: 871687400010481032 | Q52: G2A | R52: G10, t/m 16 m3 per uur | S52: Smart meter | T52: Jaarlijks | U52: On | V52: SMU (slimmer meter is uitleesbaar) | W52: 4445 | X52: 4324 | Y52: {=+_xlfn.IFS($Q52="G1A",1,$Q52="G2A",1,TRUE,0)} -> 1 | Z52: =+IF(($Q52="G2C"),1,0) -> 0 | AA52: =+IF(($Q52="GXX"),1,0) -> 0 | AB52: =+IF(Y52=1,W52,0) -> 4445 | AC52: =+IF(Z52=1,W52,0) -> 0 | AD52: =+IF(AA52=1,X52,0) -> 0
A53: Gemeente Houten | B53: 30279619 | C53: Onderdoor | D53: 25 | F53: 3995 DW | G53: Houten | H53: Sporthal de Kruisboog | I53: Kruisboog | J53: 17 | L53: 3994 AE | M53: HOUTEN | N53: Gas | O53: KV | P53: 871687400009532806 | Q53: G2A | R53: G25, t/m 40 m3 per uur | S53: Conventional | T53: Jaarlijks | W53: 21196 | X53: 20606.45 | Y53: {=+_xlfn.IFS($Q53="G1A",1,$Q53="G2A",1,TRUE,0)} -> 1 | Z53: =+IF(($Q53="G2C"),1,0) -> 0 | AA53: =+IF(($Q53="GXX"),1,0) -> 0 | AB53: =+IF(Y53=1,W53,0) -> 21196 | AC53: =+IF(Z53=1,W53,0) -> 0 | AD53: =+IF(AA53=1,X53,0) -> 0
A54: Gemeente Houten | B54: 30279619 | C54: Onderdoor | D54: 25 | F54: 3995 DW | G54: Houten | H54: Schoolwoningen Plantagepolder | I54: Plantagepolder | J54: 6 | L54: 3991 ZE | M54: HOUTEN | N54: Gas | O54: KV | P54: 871687400010184858 | Q54: G2A | R54: G10, t/m 16 m3 per uur | S54: Conventional | T54: Jaarlijks | W54: 6740 | X54: 5862.004 | Y54: {=+_xlfn.IFS($Q54="G1A",1,$Q54="G2A",1,TRUE,0)} -> 1 | Z54: =+IF(($Q54="G2C"),1,0) -> 0 | AA54: =+IF(($Q54="GXX"),1,0) -> 0 | AB54: =+IF(Y54=1,W54,0) -> 6740 | AC54: =+IF(Z54=1,W54,0) -> 0 | AD54: =+IF(AA54=1,X54,0) -> 0
A55: Gemeente Houten | B55: 30279619 | C55: Onderdoor | D55: 25 | F55: 3995 DW | G55: Houten | H55: SCC de Heuvel | I55: Keercamp | J55: 15 | L55: 3992 RV | M55: HOUTEN | N55: Gas | O55: KV | P55: 871687400005289643 | Q55: G2A | R55: G10, t/m 16 m3 per uur | S55: Conventional | T55: Jaarlijks | W55: 8309 | X55: 7801.3992 | Y55: {=+_xlfn.IFS($Q55="G1A",1,$Q55="G2A",1,TRUE,0)} -> 1 | Z55: =+IF(($Q55="G2C"),1,0) -> 0 | AA55: =+IF(($Q55="GXX"),1,0) -> 0 | AB55: =+IF(Y55=1,W55,0) -> 8309 | AC55: =+IF(Z55=1,W55,0) -> 0 | AD55: =+IF(AA55=1,X55,0) -> 0
A56: Gemeente Houten | B56: 30279619 | C56: Onderdoor | D56: 25 | F56: 3995 DW | G56: Houten | H56: SCC de Grund | I56: De Poort | J56: 79 | L56: 3991 DX | M56: HOUTEN | N56: Gas | O56: KV | P56: 871687400005987297 | Q56: G2A | R56: G16, t/m 25 m3 per uur | S56: Smart meter | T56: Jaarlijks | U56: On | V56: SMU (slimmer meter is uitleesbaar) | W56: 10052 | X56: 9873 | Y56: {=+_xlfn.IFS($Q56="G1A",1,$Q56="G2A",1,TRUE,0)} -> 1 | Z56: =+IF(($Q56="G2C"),1,0) -> 0 | AA56: =+IF(($Q56="GXX"),1,0) -> 0 | AB56: =+IF(Y56=1,W56,0) -> 10052 | AC56: =+IF(Z56=1,W56,0) -> 0 | AD56: =+IF(AA56=1,X56,0) -> 0
A57: Gemeente Houten | B57: 30279619 | C57: Onderdoor | D57: 25 | F57: 3995 DW | G57: Houten | H57: Gymzaal de Bijenkorf | I57: Riddersborch | J57: 145 | L57: 3992 BK | M57: HOUTEN | N57: Gas | O57: KV | P57: 871687400008628692 | Q57: G1A | R57: t/m G6, t/m 10 m3 per uur, jaarverbruik >= 4.000 m³ | S57: Conventional | T57: Jaarlijks | W57: 4432 | X57: 4362.9182 | Y57: {=+_xlfn.IFS($Q57="G1A",1,$Q57="G2A",1,TRUE,0)} -> 1 | Z57: =+IF(($Q57="G2C"),1,0) -> 0 | AA57: =+IF(($Q57="GXX"),1,0) -> 0 | AB57: =+IF(Y57=1,W57,0) -> 4432 | AC57: =+IF(Z57=1,W57,0) -> 0 | AD57: =+IF(AA57=1,X57,0) -> 0
A58: Gemeente Houten | B58: 30279619 | C58: Onderdoor | D58: 25 | F58: 3995 DW | G58: Houten | H58: Brandweerpost Schalkwijk | I58: Schalkwijkseweg | J58: 32 | L58: 3998 LZ | M58: SCHALKWIJK | N58: Gas | O58: KV | P58: 871687400010655754 | Q58: G1A | R58: t/m G6, t/m 10 m3 per uur, jaarverbruik 500 m³ tot 4.000 m³ | S58: Smart meter | T58: Jaarlijks | U58: On | V58: SMU (slimmer meter is uitleesbaar) | W58: 3621 | X58: 3567 | Y58: {=+_xlfn.IFS($Q58="G1A",1,$Q58="G2A",1,TRUE,0)} -> 1 | Z58: =+IF(($Q58="G2C"),1,0) -> 0 | AA58: =+IF(($Q58="GXX"),1,0) -> 0 | AB58: =+IF(Y58=1,W58,0) -> 3621 | AC58: =+IF(Z58=1,W58,0) -> 0 | AD58: =+IF(AA58=1,X58,0) -> 0
A59: Gemeente Houten | B59: 30279619 | C59: Onderdoor | D59: 25 | F59: 3995 DW | G59: Houten | H59: Brandweerpost Houten | I59: De Brug | J59: 2 | L59: 3991 LN | M59: HOUTEN | N59: Gas | O59: KV | P59: 871687400008829662 | Q59: G2A | R59: G25, t/m 40 m3 per uur | S59: Conventional | T59: Jaarlijks | W59: 30562 | X59: 26932.055 | Y59: {=+_xlfn.IFS($Q59="G1A",1,$Q59="G2A",1,TRUE,0)} -> 1 | Z59: =+IF(($Q59="G2C"),1,0) -> 0 | AA59: =+IF(($Q59="GXX"),1,0) -> 0 | AB59: =+IF(Y59=1,W59,0) -> 30562 | AC59: =+IF(Z59=1,W59,0) -> 0 | AD59: =+IF(AA59=1,X59,0) -> 0
A60: Gemeente IJsselstein | B60: 30279625 | C60: Overtoom | D60: 1 | F60: 3401 BK | G60: IJsselstein | I60: Zomerdijk | J60: 42 | K60: C | L60: 3402 MJ | M60: IJSSELSTEIN UT | N60: Gas | O60: KV | P60: 871687460009392404 | Q60: G2A | R60: G10, t/m 16 m3 per uur | S60: Smart meter | T60: Jaarlijks | U60: On | V60: SMU (slimmer meter is uitleesbaar) | W60: 14847 | X60: 14583 | Y60: {=+_xlfn.IFS($Q60="G1A",1,$Q60="G2A",1,TRUE,0)} -> 1 | Z60: =+IF(($Q60="G2C"),1,0) -> 0 | AA60: =+IF(($Q60="GXX"),1,0) -> 0 | AB60: =+IF(Y60=1,W60,0) -> 14847 | AC60: =+IF(Z60=1,W60,0) -> 0 | AD60: =+IF(AA60=1,X60,0) -> 0
A61: Gemeente IJsselstein | B61: 30279625 | C61: Overtoom | D61: 1 | F61: 3401 BK | G61: IJsselstein | I61: Kamerlingh Onneslaan | J61: 26 | L61: 3401 MZ | M61: IJSSELSTEIN UT | N61: Gas | O61: KV | P61: 871687400010272579 | Q61: G2A | R61: G25, t/m 40 m3 per uur | S61: Conventional | T61: Jaarlijks | W61: 18306 | X61: 19418.84 | Y61: {=+_xlfn.IFS($Q61="G1A",1,$Q61="G2A",1,TRUE,0)} -> 1 | Z61: =+IF(($Q61="G2C"),1,0) -> 0 | AA61: =+IF(($Q61="GXX"),1,0) -> 0 | AB61: =+IF(Y61=1,W61,0) -> 18306 | AC61: =+IF(Z61=1,W61,0) -> 0 | AD61: =+IF(AA61=1,X61,0) -> 0
A62: Gemeente IJsselstein | B62: 30279625 | C62: Overtoom | D62: 1 | F62: 3401 BK | G62: IJsselstein | I62: Benschopperstraat | J62: 41 | K62: A | L62: 3401 DG | M62: IJSSELSTEIN UT | N62: Gas | O62: KV | P62: 871687400002573691 | Q62: G1A | R62: t/m G6, t/m 10 m3 per uur, jaarverbruik 500 m³ tot 4.000 m³ | S62: Smart meter | T62: Jaarlijks | U62: On | V62: SMU (slimmer meter is uitleesbaar) | W62: 651 | X62: 641 | Y62: {=+_xlfn.IFS($Q62="G1A",1,$Q62="G2A",1,TRUE,0)} -> 1 | Z62: =+IF(($Q62="G2C"),1,0) -> 0 | AA62: =+IF(($Q62="GXX"),1,0) -> 0 | AB62: =+IF(Y62=1,W62,0) -> 651 | AC62: =+IF(Z62=1,W62,0) -> 0 | AD62: =+IF(AA62=1,X62,0) -> 0
A63: Gemeente IJsselstein | B63: 30279625 | C63: Overtoom | D63: 1 | F63: 3401 BK | G63: IJsselstein | I63: Jan van der Heydenweg | J63: 244 | L63: 3401 RJ | M63: IJSSELSTEIN UT | N63: Gas | O63: KV | P63: 871687400002230518 | Q63: G2A | R63: G25, t/m 40 m3 per uur | S63: Conventional | T63: Jaarlijks | W63: 13947 | X63: 16839.524 | Y63: {=+_xlfn.IFS($Q63="G1A",1,$Q63="G2A",1,TRUE,0)} -> 1 | Z63: =+IF(($Q63="G2C"),1,0) -> 0 | AA63: =+IF(($Q63="GXX"),1,0) -> 0 | AB63: =+IF(Y63=1,W63,0) -> 13947 | AC63: =+IF(Z63=1,W63,0) -> 0 | AD63: =+IF(AA63=1,X63,0) -> 0
A64: Gemeente IJsselstein | B64: 30279625 | C64: Overtoom | D64: 1 | F64: 3401 BK | G64: IJsselstein | I64: Mr. Abbink Spainkstraat | J64: 36 | L64: 3401 ZH | M64: IJSSELSTEIN UT | N64: Gas | O64: KV | P64: 871687400009174600 | Q64: G2A | R64: G25, t/m 40 m3 per uur | S64: Conventional | T64: Jaarlijks | W64: 29506 | X64: 26630 | Y64: {=+_xlfn.IFS($Q64="G1A",1,$Q64="G2A",1,TRUE,0)} -> 1 | Z64: =+IF(($Q64="G2C"),1,0) -> 0 | AA64: =+IF(($Q64="GXX"),1,0) -> 0 | AB64: =+IF(Y64=1,W64,0) -> 29506 | AC64: =+IF(Z64=1,W64,0) -> 0 | AD64: =+IF(AA64=1,X64,0) -> 0
A65: Gemeente IJsselstein | B65: 30279625 | C65: Overtoom | D65: 1 | F65: 3401 BK | G65: IJsselstein | I65: Poortdijk | J65: 34 | L65: 3402 BS | M65: IJSSELSTEIN UT | N65: Gas | O65: KV | P65: 871687400009433233 | Q65: G1A | R65: t/m G6, t/m 10 m3 per uur, jaarverbruik 500 m³ tot 4.000 m³ | S65: Smart meter | T65: Jaarlijks | U65: On | V65: SMU (slimmer meter is uitleesbaar) | W65: 3872 | X65: 3815 | Y65: {=+_xlfn.IFS($Q65="G1A",1,$Q65="G2A",1,TRUE,0)} -> 1 | Z65: =+IF(($Q65="G2C"),1,0) -> 0 | AA65: =+IF(($Q65="GXX"),1,0) -> 0 | AB65: =+IF(Y65=1,W65,0) -> 3872 | AC65: =+IF(Z65=1,W65,0) -> 0 | AD65: =+IF(AA65=1,X65,0) -> 0
A66: Gemeente IJsselstein | B66: 30279625 | C66: Overtoom | D66: 1 | F66: 3401 BK | G66: IJsselstein | I66: Oranje Nassaulaan | J66: 50 | L66: 3402 CS | M66: IJSSELSTEIN UT | N66: Gas | O66: GV | P66: 871687400008641264 | Q66: G2C | T66: Maandelijks | W66: 41139 | X66: 38608 | Y66: {=+_xlfn.IFS($Q66="G1A",1,$Q66="G2A",1,TRUE,0)} -> 0 | Z66: =+IF(($Q66="G2C"),1,0) -> 1 | AA66: =+IF(($Q66="GXX"),1,0) -> 0 | AB66: =+IF(Y66=1,W66,0) -> 0 | AC66: =+IF(Z66=1,W66,0) -> 41139 | AD66: =+IF(AA66=1,X66,0) -> 0
A67: Gemeente IJsselstein | B67: 30279625 | C67: Overtoom | D67: 1 | F67: 3401 BK | G67: IJsselstein | I67: Hitteschild | J67: 4 | L67: 3402 EA | M67: IJSSELSTEIN UT | N67: Gas | O67: KV | P67: 871687400002971206 | Q67: G2A | R67: G16, t/m 25 m3 per uur | S67: Conventional | T67: Jaarlijks | W67: 18670 | X67: 15530.568 | Y67: {=+_xlfn.IFS($Q67="G1A",1,$Q67="G2A",1,TRUE,0)} -> 1 | Z67: =+IF(($Q67="G2C"),1,0) -> 0 | AA67: =+IF(($Q67="GXX"),1,0) -> 0 | AB67: =+IF(Y67=1,W67,0) -> 18670 | AC67: =+IF(Z67=1,W67,0) -> 0 | AD67: =+IF(AA67=1,X67,0) -> 0
A68: Gemeente IJsselstein | B68: 30279625 | C68: Overtoom | D68: 1 | F68: 3401 BK | G68: IJsselstein | I68: Sint Petersburglaan | J68: 27 | L68: 3404 CV | M68: IJSSELSTEIN UT | N68: Gas | O68: KV | P68: 871687400002461264 | Q68: G2A | R68: G16, t/m 25 m3 per uur | S68: Smart meter | T68: Jaarlijks | U68: On | V68: SMU (slimmer meter is uitleesbaar) | W68: 10842 | X68: 10649 | Y68: {=+_xlfn.IFS($Q68="G1A",1,$Q68="G2A",1,TRUE,0)} -> 1 | Z68: =+IF(($Q68="G2C"),1,0) -> 0 | AA68: =+IF(($Q68="GXX"),1,0) -> 0 | AB68: =+IF(Y68=1,W68,0) -> 10842 | AC68: =+IF(Z68=1,W68,0) -> 0 | AD68: =+IF(AA68=1,X68,0) -> 0
A69: Gemeente IJsselstein | B69: 30279625 | C69: Overtoom | D69: 1 | F69: 3401 BK | G69: IJsselstein | I69: Noord IJsseldijk | J69: 55 | L69: 3402 PG | M69: IJSSELSTEIN UT | N69: Gas | O69: KV | P69: 871687400008588866 | Q69: G1A | R69: t/m G6, t/m 10 m3 per uur, jaarverbruik < 500 m³ | S69: Conventional | T69: Jaarlijks | W69: 223 | X69: 225.96373 | Y69: {=+_xlfn.IFS($Q69="G1A",1,$Q69="G2A",1,TRUE,0)} -> 1 | Z69: =+IF(($Q69="G2C"),1,0) -> 0 | AA69: =+IF(($Q69="GXX"),1,0) -> 0 | AB69: =+IF(Y69=1,W69,0) -> 223 | AC69: =+IF(Z69=1,W69,0) -> 0 | AD69: =+IF(AA69=1,X69,0) -> 0
A70: Gemeente IJsselstein | B70: 30279625 | C70: Overtoom | D70: 1 | F70: 3401 BK | G70: IJsselstein | I70: Noord IJsseldijk | J70: 57 | L70: 3402 PG | M70: IJSSELSTEIN UT | N70: Gas | O70: KV | P70: 871687400002799237 | Q70: G1A | R70: t/m G6, t/m 10 m3 per uur, jaarverbruik >= 4.000 m³ | S70: Smart meter | T70: Jaarlijks | U70: On | V70: SMU (slimmer meter is uitleesbaar) | W70: 4342 | X70: 4064.1501 | Y70: {=+_xlfn.IFS($Q70="G1A",1,$Q70="G2A",1,TRUE,0)} -> 1 | Z70: =+IF(($Q70="G2C"),1,0) -> 0 | AA70: =+IF(($Q70="GXX"),1,0) -> 0 | AB70: =+IF(Y70=1,W70,0) -> 4342 | AC70: =+IF(Z70=1,W70,0) -> 0 | AD70: =+IF(AA70=1,X70,0) -> 0
A71: Gemeente IJsselstein | B71: 30279625 | C71: Overtoom | D71: 1 | F71: 3401 BK | G71: IJsselstein | I71: Poortdijk | J71: 34 | L71: 3402 BS | M71: IJSSELSTEIN UT | N71: Gas | O71: KV | P71: 871687400008610482 | Q71: G2A | R71: G25, t/m 40 m3 per uur | S71: Conventional | T71: Jaarlijks | W71: 8291 | X71: 9006.1038 | Y71: {=+_xlfn.IFS($Q71="G1A",1,$Q71="G2A",1,TRUE,0)} -> 1 | Z71: =+IF(($Q71="G2C"),1,0) -> 0 | AA71: =+IF(($Q71="GXX"),1,0) -> 0 | AB71: =+IF(Y71=1,W71,0) -> 8291 | AC71: =+IF(Z71=1,W71,0) -> 0 | AD71: =+IF(AA71=1,X71,0) -> 0
A72: Gemeente IJsselstein | B72: 30279625 | C72: Overtoom | D72: 1 | F72: 3401 BK | G72: IJsselstein | I72: Televisiebaan | J72: 106 | L72: 3402 VH | M72: IJSSELSTEIN UT | N72: Gas | O72: KV | P72: 871687400003084776 | Q72: G2A | R72: G16, t/m 25 m3 per uur | S72: Smart meter | T72: Jaarlijks | U72: On | V72: SMU (slimmer meter is uitleesbaar) | W72: 12544 | X72: 14724.775 | Y72: {=+_xlfn.IFS($Q72="G1A",1,$Q72="G2A",1,TRUE,0)} -> 1 | Z72: =+IF(($Q72="G2C"),1,0) -> 0 | AA72: =+IF(($Q72="GXX"),1,0) -> 0 | AB72: =+IF(Y72=1,W72,0) -> 12544 | AC72: =+IF(Z72=1,W72,0) -> 0 | AD72: =+IF(AA72=1,X72,0) -> 0
A73: Gemeente IJsselstein | B73: 30279625 | C73: Overtoom | D73: 1 | F73: 3401 BK | G73: IJsselstein | I73: Zomerdijk | J73: 41 | L73: 3402 MJ | M73: IJSSELSTEIN UT | N73: Gas | O73: KV | P73: 871687400008610888 | Q73: G2A | R73: G16, t/m 25 m3 per uur | S73: Conventional | T73: Jaarlijks | W73: 5343 | X73: 4168.3274 | Y73: {=+_xlfn.IFS($Q73="G1A",1,$Q73="G2A",1,TRUE,0)} -> 1 | Z73: =+IF(($Q73="G2C"),1,0) -> 0 | AA73: =+IF(($Q73="GXX"),1,0) -> 0 | AB73: =+IF(Y73=1,W73,0) -> 5343 | AC73: =+IF(Z73=1,W73,0) -> 0 | AD73: =+IF(AA73=1,X73,0) -> 0
A74: Gemeente IJsselstein | B74: 30279625 | C74: Overtoom | D74: 1 | F74: 3401 BK | G74: IJsselstein | I74: Heemradenlaan | J74: 36 | L74: 3401 GX | M74: IJSSELSTEIN UT | N74: Gas | O74: KV | P74: 871687400002511112 | Q74: G2A | R74: G25, t/m 40 m3 per uur | S74: Conventional | T74: Jaarlijks | W74: 24136 | X74: 23470.596 | Y74: {=+_xlfn.IFS($Q74="G1A",1,$Q74="G2A",1,TRUE,0)} -> 1 | Z74: =+IF(($Q74="G2C"),1,0) -> 0 | AA74: =+IF(($Q74="GXX"),1,0) -> 0 | AB74: =+IF(Y74=1,W74,0) -> 24136 | AC74: =+IF(Z74=1,W74,0) -> 0 | AD74: =+IF(AA74=1,X74,0) -> 0
A75: Gemeente IJsselstein | B75: 30279625 | C75: Overtoom | D75: 1 | F75: 3401 BK | G75: IJsselstein | I75: Merkelbachlaan | J75: 2 | L75: 3404 EX | M75: IJSSELSTEIN UT | N75: Gas | O75: KV | P75: 871687400009022185 | Q75: G2A | R75: G16, t/m 25 m3 per uur | S75: Conventional | T75: Jaarlijks | W75: 36934 | X75: 34394.55 | Y75: {=+_xlfn.IFS($Q75="G1A",1,$Q75="G2A",1,TRUE,0)} -> 1 | Z75: =+IF(($Q75="G2C"),1,0) -> 0 | AA75: =+IF(($Q75="GXX"),1,0) -> 0 | AB75: =+IF(Y75=1,W75,0) -> 36934 | AC75: =+IF(Z75=1,W75,0) -> 0 | AD75: =+IF(AA75=1,X75,0) -> 0
A76: Gemeente Leusden | B76: 32167695 | C76: Fokkerstraat | D76: 16 | F76: 3833 LD | G76: Leusden | H76: 60306 Rozengaarde 22 22a 22b | I76: Rozengaarde | J76: 22 | K76: A | L76: 3831 CD | M76: LEUSDEN | N76: Gas | O76: KV | P76: 871687400008614275 | Q76: G1A | R76: t/m G6, t/m 10 m3 per uur, jaarverbruik 500 m³ tot 4.000 m³ | S76: Conventional | T76: Jaarlijks | W76: 3231 | X76: 2932.9443 | Y76: {=+_xlfn.IFS($Q76="G1A",1,$Q76="G2A",1,TRUE,0)} -> 1 | Z76: =+IF(($Q76="G2C"),1,0) -> 0 | AA76: =+IF(($Q76="GXX"),1,0) -> 0 | AB76: =+IF(Y76=1,W76,0) -> 3231 | AC76: =+IF(Z76=1,W76,0) -> 0 | AD76: =+IF(AA76=1,X76,0) -> 0
A77: Gemeente Leusden | B77: 32167695 | C77: Fokkerstraat | D77: 16 | F77: 3833 LD | G77: Leusden | H77: 60310 Hoefijzer 18 | I77: Hoefijzer | J77: 18 | L77: 3833 XB | M77: LEUSDEN | N77: Gas | O77: KV | P77: 871687400007134866 | Q77: G2A | R77: G16, t/m 25 m3 per uur | S77: Smart meter | T77: Jaarlijks | U77: On | V77: SMU (slimmer meter is uitleesbaar) | W77: 12227 | X77: 12010 | Y77: {=+_xlfn.IFS($Q77="G1A",1,$Q77="G2A",1,TRUE,0)} -> 1 | Z77: =+IF(($Q77="G2C"),1,0) -> 0 | AA77: =+IF(($Q77="GXX"),1,0) -> 0 | AB77: =+IF(Y77=1,W77,0) -> 12227 | AC77: =+IF(Z77=1,W77,0) -> 0 | AD77: =+IF(AA77=1,X77,0) -> 0
A78: Gemeente Leusden | B78: 32167695 | C78: Fokkerstraat | D78: 16 | F78: 3833 LD | G78: Leusden | H78: 60309 Gemeentehuis | I78: 't Erf | J78: 1 | L78: 3831 NA | M78: LEUSDEN | N78: Gas | O78: KV | P78: 871687460010524597 | Q78: G1A | R78: t/m G6, t/m 10 m3 per uur, jaarverbruik 500 m³ tot 4.000 m³ | S78: Smart meter | T78: Jaarlijks | U78: On | V78: SMN (slimme meter is NIET uitleesbaar) | W78: 1311 | X78: 1759.6549 | Y78: {=+_xlfn.IFS($Q78="G1A",1,$Q78="G2A",1,TRUE,0)} -> 1 | Z78: =+IF(($Q78="G2C"),1,0) -> 0 | AA78: =+IF(($Q78="GXX"),1,0) -> 0 | AB78: =+IF(Y78=1,W78,0) -> 1311 | AC78: =+IF(Z78=1,W78,0) -> 0 | AD78: =+IF(AA78=1,X78,0) -> 0
A79: Gemeente Leusden | B79: 32167695 | C79: Fokkerstraat | D79: 16 | F79: 3833 LD | G79: Leusden | H79: 60305 Walter v Amersfoortstraat 52-54 | I79: Walter van Amersfoortstr | J79: 52 | L79: 3791 AR | M79: ACHTERVELD | N79: Gas | O79: KV | P79: 871687400007435864 | Q79: G2A | R79: t/m G6, t/m 10 m3 per uur, jaarverbruik >= 4.000 m³ | S79: Conventional | T79: Jaarlijks | W79: 6247 | X79: 5731.3059 | Y79: {=+_xlfn.IFS($Q79="G1A",1,$Q79="G2A",1,TRUE,0)} -> 1 | Z79: =+IF(($Q79="G2C"),1,0) -> 0 | AA79: =+IF(($Q79="GXX"),1,0) -> 0 | AB79: =+IF(Y79=1,W79,0) -> 6247 | AC79: =+IF(Z79=1,W79,0) -> 0 | AD79: =+IF(AA79=1,X79,0) -> 0
A80: Gemeente Leusden | B80: 32167695 | C80: Fokkerstraat | D80: 16 | F80: 3833 LD | G80: Leusden | H80: 67503 Aula vlooswijkseweg | I80: Vlooswijkseweg | J80: 2 | L80: 3832 RG | M80: LEUSDEN | N80: Gas | O80: KV | P80: 871687400007388191 | Q80: G1A | R80: t/m G6, t/m 10 m3 per uur, jaarverbruik 500 m³ tot 4.000 m³ | S80: Conventional | T80: Jaarlijks | W80: 2476 | X80: 2304.8406 | Y80: {=+_xlfn.IFS($Q80="G1A",1,$Q80="G2A",1,TRUE,0)} -> 1 | Z80: =+IF(($Q80="G2C"),1,0) -> 0 | AA80: =+IF(($Q80="GXX"),1,0) -> 0 | AB80: =+IF(Y80=1,W80,0) -> 2476 | AC80: =+IF(Z80=1,W80,0) -> 0 | AD80: =+IF(AA80=1,X80,0) -> 0
A81: Gemeente Leusden | B81: 32167695 | C81: Fokkerstraat | D81: 16 | F81: 3833 LD | G81: Leusden | H81: 60410 Brandweerkazerne LC | I81: Burg van der Postlaan | J81: 1 | L81: 3833 VT | M81: LEUSDEN | N81: Gas | O81: KV | P81: 871687400007131094 | Q81: G2A | R81: G10, t/m 16 m3 per uur | S81: Smart meter | T81: Jaarlijks | U81: On | V81: SMU (slimmer meter is uitleesbaar) | W81: 12502 | X81: 12280 | Y81: {=+_xlfn.IFS($Q81="G1A",1,$Q81="G2A",1,TRUE,0)} -> 1 | Z81: =+IF(($Q81="G2C"),1,0) -> 0 | AA81: =+IF(($Q81="GXX"),1,0) -> 0 | AB81: =+IF(Y81=1,W81,0) -> 12502 | AC81: =+IF(Z81=1,W81,0) -> 0 | AD81: =+IF(AA81=1,X81,0) -> 0
A82: Gemeente Leusden | B82: 32167695 | C82: Fokkerstraat | D82: 16 | F82: 3833 LD | G82: Leusden | H82: 65224 gymzaal MFC Atria | I82: Asschatterweg | J82: 36 | K82: A | L82: 3831 JT | M82: LEUSDEN | N82: Gas | O82: KV | P82: 871687460009880734 | Q82: G1A | R82: t/m G6, t/m 10 m3 per uur, jaarverbruik >= 4.000 m³ | S82: Smart meter | T82: Jaarlijks | U82: On | V82: SMN (slimme meter is NIET uitleesbaar) | W82: 4020 | X82: 3741.0488 | Y82: {=+_xlfn.IFS($Q82="G1A",1,$Q82="G2A",1,TRUE,0)} -> 1 | Z82: =+IF(($Q82="G2C"),1,0) -> 0 | AA82: =+IF(($Q82="GXX"),1,0) -> 0 | AB82: =+IF(Y82=1,W82,0) -> 4020 | AC82: =+IF(Z82=1,W82,0) -> 0 | AD82: =+IF(AA82=1,X82,0) -> 0
A83: Gemeente Leusden | B83: 32167695 | C83: Fokkerstraat | D83: 16 | F83: 3833 LD | G83: Leusden | H83: 65223 Gymzaal MFC Atlas | I83: De Biezenkamp | J83: 350 | L83: 3831 JA | M83: LEUSDEN | N83: Gas | O83: KV | P83: 871687460009753601 | Q83: G1A | R83: t/m G6, t/m 10 m3 per uur, jaarverbruik 500 m³ tot 4.000 m³ | S83: Smart meter | T83: Jaarlijks | U83: On | V83: SMU (slimmer meter is uitleesbaar) | W83: 1825 | X83: 1798 | Y83: {=+_xlfn.IFS($Q83="G1A",1,$Q83="G2A",1,TRUE,0)} -> 1 | Z83: =+IF(($Q83="G2C"),1,0) -> 0 | AA83: =+IF(($Q83="GXX"),1,0) -> 0 | AB83: =+IF(Y83=1,W83,0) -> 1825 | AC83: =+IF(Z83=1,W83,0) -> 0 | AD83: =+IF(AA83=1,X83,0) -> 0
A84: Gemeente Leusden | B84: 32167695 | C84: Fokkerstraat | D84: 16 | F84: 3833 LD | G84: Leusden | H84: 60409 Brandweerkazerne Achterveld | I84: Meester van Bergenweg | J84: 3 | L84: 3791 AW | M84: ACHTERVELD | N84: Gas | O84: KV | P84: 871687400010293925 | Q84: G2A | R84: t/m G6, t/m 10 m3 per uur, jaarverbruik >= 4.000 m³ | S84: Conventional | T84: Jaarlijks | W84: 8881 | X84: 8192.5433 | Y84: {=+_xlfn.IFS($Q84="G1A",1,$Q84="G2A",1,TRUE,0)} -> 1 | Z84: =+IF(($Q84="G2C"),1,0) -> 0 | AA84: =+IF(($Q84="GXX"),1,0) -> 0 | AB84: =+IF(Y84=1,W84,0) -> 8881 | AC84: =+IF(Z84=1,W84,0) -> 0 | AD84: =+IF(AA84=1,X84,0) -> 0
A85: Gemeente Leusden | B85: 32167695 | C85: Fokkerstraat | D85: 16 | F85: 3833 LD | G85: Leusden | H85: 67301 Milieustraat | I85: Spieghelweg | J85: 2 | L85: 3833 AH | M85: LEUSDEN | N85: Gas | O85: KV | P85: 871687400008708615 | Q85: G1A | R85: t/m G6, t/m 10 m3 per uur, jaarverbruik < 500 m³ | S85: Conventional | T85: Jaarlijks | W85: 133 | X85: 120.68166 | Y85: {=+_xlfn.IFS($Q85="G1A",1,$Q85="G2A",1,TRUE,0)} -> 1 | Z85: =+IF(($Q85="G2C"),1,0) -> 0 | AA85: =+IF(($Q85="GXX"),1,0) -> 0 | AB85: =+IF(Y85=1,W85,0) -> 133 | AC85: =+IF(Z85=1,W85,0) -> 0 | AD85: =+IF(AA85=1,X85,0) -> 0
A86: Gemeente Leusden | B86: 32167695 | C86: Fokkerstraat | D86: 16 | F86: 3833 LD | G86: Leusden | H86: 65228 Sportzaal Achterveld | I86: Walter van Amersfoortstr | J86: 50 | L86: 3791 AR | M86: ACHTERVELD | N86: Gas | O86: KV | P86: 871687400007435956 | Q86: G2A | R86: G16, t/m 25 m3 per uur | S86: Conventional | T86: Jaarlijks | W86: 13392 | X86: 12499.322 | Y86: {=+_xlfn.IFS($Q86="G1A",1,$Q86="G2A",1,TRUE,0)} -> 1 | Z86: =+IF(($Q86="G2C"),1,0) -> 0 | AA86: =+IF(($Q86="GXX"),1,0) -> 0 | AB86: =+IF(Y86=1,W86,0) -> 13392 | AC86: =+IF(Z86=1,W86,0) -> 0 | AD86: =+IF(AA86=1,X86,0) -> 0
A87: Gemeente Leusden | B87: 32167695 | C87: Fokkerstraat | D87: 16 | F87: 3833 LD | G87: Leusden | H87: 60305 Walter v Amersfoortstraat 56-66 | I87: Walter van Amersfoortstr | J87: 54 | L87: 3791 AR | M87: ACHTERVELD | N87: Gas | O87: KV | P87: 871687400008616477 | Q87: G1A | R87: t/m G6, t/m 10 m3 per uur, jaarverbruik 500 m³ tot 4.000 m³ | S87: Conventional | T87: Jaarlijks | W87: 1278 | X87: 1172.8544 | Y87: {=+_xlfn.IFS($Q87="G1A",1,$Q87="G2A",1,TRUE,0)} -> 1 | Z87: =+IF(($Q87="G2C"),1,0) -> 0 | AA87: =+IF(($Q87="GXX"),1,0) -> 0 | AB87: =+IF(Y87=1,W87,0) -> 1278 | AC87: =+IF(Z87=1,W87,0) -> 0 | AD87: =+IF(AA87=1,X87,0) -> 0
A88: Gemeente Leusden | B88: 32167695 | C88: Fokkerstraat | D88: 16 | F88: 3833 LD | G88: Leusden | I88: De Twijnderij | J88: 32 | L88: 3831 CS | M88: LEUSDEN | N88: Gas | O88: KV | P88: 871687400006815308 | Q88: G2A | R88: G10, t/m 16 m3 per uur | S88: Conventional | T88: Jaarlijks | W88: 13987 | X88: 12809.555 | Y88: {=+_xlfn.IFS($Q88="G1A",1,$Q88="G2A",1,TRUE,0)} -> 1 | Z88: =+IF(($Q88="G2C"),1,0) -> 0 | AA88: =+IF(($Q88="GXX"),1,0) -> 0 | AB88: =+IF(Y88=1,W88,0) -> 13987 | AC88: =+IF(Z88=1,W88,0) -> 0 | AD88: =+IF(AA88=1,X88,0) -> 0
A89: Gemeente Leusden | B89: 32167695 | C89: Fokkerstraat | D89: 16 | F89: 3833 LD | G89: Leusden | H89: 65230 Sporthal De Korf | I89: De Smidse | J89: 1 | L89: 3831 NT | M89: LEUSDEN | N89: Gas | O89: GV | P89: 871687400008610994 | Q89: G2C | T89: Maandelijks | W89: 33675 | X89: 33359 | Y89: {=+_xlfn.IFS($Q89="G1A",1,$Q89="G2A",1,TRUE,0)} -> 0 | Z89: =+IF(($Q89="G2C"),1,0) -> 1 | AA89: =+IF(($Q89="GXX"),1,0) -> 0 | AB89: =+IF(Y89=1,W89,0) -> 0 | AC89: =+IF(Z89=1,W89,0) -> 33675 | AD89: =+IF(AA89=1,X89,0) -> 0
A90: Gemeente Lopik | B90: 50029886 | C90: Raadhuisplein | D90: 1 | F90: 3411 CH | G90: Lopik | I90: Hr Willem van Egmondstr | J90: 3 | L90: 3415 PW | M90: POLSBROEK | N90: Gas | O90: KV | P90: 871687400007729345 | Q90: G1A | R90: t/m G6, t/m 10 m3 per uur, jaarverbruik >= 4.000 m³ | S90: Smart meter | T90: Jaarlijks | U90: On | V90: SMU (slimmer meter is uitleesbaar) | W90: 4042 | X90: 3982 | Y90: {=+_xlfn.IFS($Q90="G1A",1,$Q90="G2A",1,TRUE,0)} -> 1 | Z90: =+IF(($Q90="G2C"),1,0) -> 0 | AA90: =+IF(($Q90="GXX"),1,0) -> 0 | AB90: =+IF(Y90=1,W90,0) -> 4042 | AC90: =+IF(Z90=1,W90,0) -> 0 | AD90: =+IF(AA90=1,X90,0) -> 0
A91: Gemeente Lopik | B91: 50029886 | C91: Raadhuisplein | D91: 1 | F91: 3411 CH | G91: Lopik | I91: De Akker | J91: 41 | L91: 3411 ZG | M91: LOPIK | N91: Gas | O91: KV | P91: 871687400008631289 | Q91: G1A | R91: t/m G6, t/m 10 m3 per uur, jaarverbruik 500 m³ tot 4.000 m³ | S91: Smart meter | T91: Jaarlijks | U91: On | V91: SMU (slimmer meter is uitleesbaar) | W91: 2566 | X91: 2528 | Y91: {=+_xlfn.IFS($Q91="G1A",1,$Q91="G2A",1,TRUE,0)} -> 1 | Z91: =+IF(($Q91="G2C"),1,0) -> 0 | AA91: =+IF(($Q91="GXX"),1,0) -> 0 | AB91: =+IF(Y91=1,W91,0) -> 2566 | AC91: =+IF(Z91=1,W91,0) -> 0 | AD91: =+IF(AA91=1,X91,0) -> 0
A92: Gemeente Lopik | B92: 50029886 | C92: Raadhuisplein | D92: 1 | F92: 3411 CH | G92: Lopik | I92: Graafdijk | J92: 48 | L92: 3411 JX | M92: LOPIK | N92: Gas | O92: KV | P92: 871687400007624404 | Q92: G2A | R92: t/m G6, t/m 10 m3 per uur, jaarverbruik >= 4.000 m³ | S92: Conventional | T92: Jaarlijks | W92: 5687 | X92: 5653.9768 | Y92: {=+_xlfn.IFS($Q92="G1A",1,$Q92="G2A",1,TRUE,0)} -> 1 | Z92: =+IF(($Q92="G2C"),1,0) -> 0 | AA92: =+IF(($Q92="GXX"),1,0) -> 0 | AB92: =+IF(Y92=1,W92,0) -> 5687 | AC92: =+IF(Z92=1,W92,0) -> 0 | AD92: =+IF(AA92=1,X92,0) -> 0
A93: Gemeente Lopik | B93: 50029886 | C93: Raadhuisplein | D93: 1 | F93: 3411 CH | G93: Lopik | I93: Lekdijk West | J93: 8 | L93: 3411 MT | M93: LOPIK | N93: Gas | O93: KV | P93: 871687400009078540 | Q93: G1A | R93: t/m G6, t/m 10 m3 per uur, jaarverbruik < 500 m³ | S93: Smart meter | T93: Jaarlijks | U93: On | V93: SMU (slimmer meter is uitleesbaar) | W93: 237 | X93: 233 | Y93: {=+_xlfn.IFS($Q93="G1A",1,$Q93="G2A",1,TRUE,0)} -> 1 | Z93: =+IF(($Q93="G2C"),1,0) -> 0 | AA93: =+IF(($Q93="GXX"),1,0) -> 0 | AB93: =+IF(Y93=1,W93,0) -> 237 | AC93: =+IF(Z93=1,W93,0) -> 0 | AD93: =+IF(AA93=1,X93,0) -> 0
A94: Gemeente Lopik | B94: 50029886 | C94: Raadhuisplein | D94: 1 | F94: 3411 CH | G94: Lopik | I94: Kerkstraat | J94: 1 | L94: 3413 MP | M94: JAARSVELD | N94: Gas | O94: KV | P94: 871687400007439503 | Q94: G2A | R94: t/m G6, t/m 10 m3 per uur, jaarverbruik >= 4.000 m³ | S94: Smart meter | T94: Jaarlijks | U94: On | V94: SMU (slimmer meter is uitleesbaar) | W94: 6816 | X94: 6568.982 | Y94: {=+_xlfn.IFS($Q94="G1A",1,$Q94="G2A",1,TRUE,0)} -> 1 | Z94: =+IF(($Q94="G2C"),1,0) -> 0 | AA94: =+IF(($Q94="GXX"),1,0) -> 0 | AB94: =+IF(Y94=1,W94,0) -> 6816 | AC94: =+IF(Z94=1,W94,0) -> 0 | AD94: =+IF(AA94=1,X94,0) -> 0
A95: Gemeente Lopik | B95: 50029886 | C95: Raadhuisplein | D95: 1 | F95: 3411 CH | G95: Lopik | I95: Dorp | J95: 197 | K95: A | L95: 3405 BD | M95: BENSCHOP | N95: Gas | O95: KV | P95: 871687460010170558 | Q95: G1A | R95: t/m G6, t/m 10 m3 per uur, jaarverbruik 500 m³ tot 4.000 m³ | S95: Smart meter | T95: Jaarlijks | U95: On | V95: SMN (slimme meter is NIET uitleesbaar) | W95: 2682 | X95: 2620.6675 | Y95: {=+_xlfn.IFS($Q95="G1A",1,$Q95="G2A",1,TRUE,0)} -> 1 | Z95: =+IF(($Q95="G2C"),1,0) -> 0 | AA95: =+IF(($Q95="GXX"),1,0) -> 0 | AB95: =+IF(Y95=1,W95,0) -> 2682 | AC95: =+IF(Z95=1,W95,0) -> 0 | AD95: =+IF(AA95=1,X95,0) -> 0
A96: Gemeente Lopik | B96: 50029886 | C96: Raadhuisplein | D96: 1 | F96: 3411 CH | G96: Lopik | I96: M A Reinaldaweg | J96: 3 | L96: 3411 MB | M96: LOPIK | N96: Gas | O96: KV | P96: 871687400010061975 | Q96: G2A | R96: G10, t/m 16 m3 per uur | S96: Conventional | T96: Jaarlijks | W96: 19171 | X96: 18707.608 | Y96: {=+_xlfn.IFS($Q96="G1A",1,$Q96="G2A",1,TRUE,0)} -> 1 | Z96: =+IF(($Q96="G2C"),1,0) -> 0 | AA96: =+IF(($Q96="GXX"),1,0) -> 0 | AB96: =+IF(Y96=1,W96,0) -> 19171 | AC96: =+IF(Z96=1,W96,0) -> 0 | AD96: =+IF(AA96=1,X96,0) -> 0
A97: Gemeente Lopik | B97: 50029886 | C97: Raadhuisplein | D97: 1 | F97: 3411 CH | G97: Lopik | I97: Emmalaan | J97: 66 | L97: 3411 XJ | M97: LOPIK | N97: Gas | O97: KV | P97: 871687400007646086 | Q97: G2A | R97: G16, t/m 25 m3 per uur | S97: Smart meter | T97: Jaarlijks | U97: On | V97: SMU (slimmer meter is uitleesbaar) | W97: 4858 | X97: 4772 | Y97: {=+_xlfn.IFS($Q97="G1A",1,$Q97="G2A",1,TRUE,0)} -> 1 | Z97: =+IF(($Q97="G2C"),1,0) -> 0 | AA97: =+IF(($Q97="GXX"),1,0) -> 0 | AB97: =+IF(Y97=1,W97,0) -> 4858 | AC97: =+IF(Z97=1,W97,0) -> 0 | AD97: =+IF(AA97=1,X97,0) -> 0
A98: Gemeente Lopik | B98: 50029886 | C98: Raadhuisplein | D98: 1 | F98: 3411 CH | G98: Lopik | I98: Churchill-laan | J98: 21 | L98: 3411 CE | M98: LOPIK | N98: Gas | O98: GV | P98: 871687400007663472 | Q98: G2C | T98: Maandelijks | W98: 20509 | X98: 19930 | Y98: {=+_xlfn.IFS($Q98="G1A",1,$Q98="G2A",1,TRUE,0)} -> 0 | Z98: =+IF(($Q98="G2C"),1,0) -> 1 | AA98: =+IF(($Q98="GXX"),1,0) -> 0 | AB98: =+IF(Y98=1,W98,0) -> 0 | AC98: =+IF(Z98=1,W98,0) -> 20509 | AD98: =+IF(AA98=1,X98,0) -> 0
A99: Gemeente Lopik | B99: 50029886 | C99: Raadhuisplein | D99: 1 | F99: 3411 CH | G99: Lopik | I99: Raadhuisplein | J99: 1 | L99: 3411 CH | M99: LOPIK | N99: Gas | O99: GV | P99: 871687400008613001 | Q99: G2C | T99: Maandelijks | W99: 27067 | X99: 26338 | Y99: {=+_xlfn.IFS($Q99="G1A",1,$Q99="G2A",1,TRUE,0)} -> 0 | Z99: =+IF(($Q99="G2C"),1,0) -> 1 | AA99: =+IF(($Q99="GXX"),1,0) -> 0 | AB99: =+IF(Y99=1,W99,0) -> 0 | AC99: =+IF(Z99=1,W99,0) -> 27067 | AD99: =+IF(AA99=1,X99,0) -> 0
A100: Gemeente Lopik | B100: 50029886 | C100: Raadhuisplein | D100: 1 | F100: 3411 CH | G100: Lopik | I100: De Akker | J100: 43 | L100: 3411 ZG | M100: LOPIK | N100: Gas | O100: KV | P100: 871687400008589993 | Q100: G2A | R100: t/m G6, t/m 10 m3 per uur, jaarverbruik >= 4.000 m³ | S100: Conventional | T100: Jaarlijks | W100: 5696 | X100: 1101.7278 | Y100: {=+_xlfn.IFS($Q100="G1A",1,$Q100="G2A",1,TRUE,0)} -> 1 | Z100: =+IF(($Q100="G2C"),1,0) -> 0 | AA100: =+IF(($Q100="GXX"),1,0) -> 0 | AB100: =+IF(Y100=1,W100,0) -> 5696 | AC100: =+IF(Z100=1,W100,0) -> 0 | AD100: =+IF(AA100=1,X100,0) -> 0
...

Sheet Meetdata 2019
A1: Date | C1: E_871687400008441314 | D1: E_871689200000091375 | E1: E_871689250000001867
C2: Volume | D2: Volume | E2: Volume
A3: 43466.25 | C3: 21.580893 | D3: 12.311629 | E3: 2.0471993
A4: 43466.292 | C4: 22.604492 | D4: 12.311629 | E4: 4.0943986
A5: 43466.333 | C5: 22.604492 | D5: 11.28803 | E5: 11.28803
A6: 43466.375 | C6: 22.604492 | D6: 14.387262 | E6: 3.070799
A7: 43466.417 | C7: 21.580893 | D7: 11.28803 | E7: 5.1464316
A8: 43466.458 | C8: 22.604492 | D8: 12.311629 | E8: 6.1700313
A9: 43466.5 | C9: 21.580893 | D9: 11.28803 | E9: 2.0471993
A10: 43466.542 | C10: 21.580893 | D10: 11.28803 | E10: 6.1700313
A11: 43466.583 | C11: 21.580893 | D11: 11.28803 | E11: 2.0471993
A12: 43466.625 | C12: 21.580893 | D12: 10.26443 | E12: 6.1700313
A13: 43466.667 | C13: 25.675291 | D13: 13.335229 | E13: 4.0943986
A14: 43466.708 | C14: 28.774524 | D14: 11.28803 | E14: 6.1700313
... A2134: 43555.042 | C2134: 30.764856 | D2134: 10.235997 | E2134: 3.070799
A2135: 43555.083
A2136: 43555.125 | C2136: 28.717657 | D2136: 12.283196 | E2136: 4.0943986
A2137: 43555.167 | C2137: 29.76969 | D2137: 12.283196 | E2137: 2.0471993
A2138: 43555.208 | C2138: 29.76969 | D2138: 10.235997 | E2138: 2.0471993
A2139: 43555.25 | C2139: 28.74609 | D2139: 12.283196 | E2139: 4.0943986
A2140: 43555.292 | C2140: 42.081319 | D2140: 11.259596 | E2140: 2.0471993
A2141: 43555.333 | C2141: 39.01052 | D2141: 11.28803 | E2141: 4.0943986
A2142: 43555.375 | C2142: 34.916122 | D2142: 11.28803 | E2142: 5.1179983
A2143: 43555.417 | C2143: 39.01052 | D2143: 11.28803 | E2143: 2.0471993
A2144: 43555.458 | C2144: 39.01052 | D2144: 10.26443 | E2144: 4.0943986
A2145: 43555.5 | C2145: 36.963321 | D2145: 8.2172306 | E2145: 2.0471993
A2146: 43555.542 | C2146: 34.916122 | D2146: 8.2172306 | E2146: 2.0471993
A2147: 43555.583 | C2147: 33.892522 | D2147: 7.1936309 | E2147: 2.0471993
... A8762: 43831.208 | C8762: 42.792152 | D8762: 19.33466 | E8762: 5.089565

Sheet Meetdata 2020
A1: Date | C1: E_871687400008441314 | D1: E_871689200000091375 | E1: E_871689250000001867
C2: Volume | D2: Volume | E2: Volume
A3: 43831.25 | C3: 42.792152 | D3: 20.35826 | E3: 7.1367643
A4: 43831.292 | C4: 44.839352 | D4: 19.33466 | E4: 6.1131646
A5: 43831.333 | C5: 47.910151 | D5: 21.38186 | E5: 13.249929
A6: 43831.375 | C6: 47.910151 | D6: 19.33466 | E6: 15.268695
A7: 43831.417 | C7: 48.93375 | D7: 21.38186 | E7: 8.1603639
A8: 43831.458 | C8: 45.891385 | D8: 20.386693 | E8: 6.1131646
A9: 43831.5 | C9: 47.938584 | D9: 22.405459 | E9: 9.1839636
A10: 43831.542 | C10: 45.919818 | D10: 21.410293 | E10: 14.273529
A11: 43831.583 | C11: 46.943418 | D11: 20.386693 | E11: 9.1839636
A12: 43831.625 | C12: 45.919818 | D12: 21.410293 | E12: 11.20273
A13: 43831.667 | C13: 44.896218 | D13: 18.339494 | E13: 9.1839636
A14: 43831.708 | C14: 48.990617 | D14: 19.363094 | E14: 7.1367643
... A2110: 43919.042 | C2110: 6.1131646 | D2110: 15.297128 | E2110: 2.0471993
A2111: 43919.083
A2112: 43919.125 | C2112: 5.1179983 | D2112: 11.231163 | E2112: 6.1131646
A2113: 43919.167 | C2113: 8.1603639 | D2113: 14.273529 | E2113: 3.070799
A2114: 43919.208 | C2114: 12.254763 | D2114: 14.273529 | E2114: 5.089565
A2115: 43919.25 | C2115: 15.297128 | D2115: 12.254763 | E2115: 3.070799
A2116: 43919.292 | C2116: 19.391527 | D2116: 16.320728 | E2116: 9.1839636
A2117: 43919.333 | C2117: 16.320728 | D2117: 14.273529 | E2117: 13.249929
A2118: 43919.375 | C2118: 14.273529 | D2118: 13.249929 | E2118: 6.1131646
A2119: 43919.417 | C2119: 10.207563 | D2119: 15.297128 | E2119: 7.1367643
A2120: 43919.458 | C2120: 13.278362 | D2120: 12.226329 | E2120: 6.1131646
A2121: 43919.5 | C2121: 26.528291 | D2121: 13.249929 | E2121: 8.1603639
A2122: 43919.542 | C2122: 25.504691 | D2122: 14.273529 | E2122: 6.1131646
A2123: 43919.583 | C2123: 17.344328 | D2123: 12.226329 | E2123: 4.0659653
... A8786: 44197.208 | C8786: 14.301962 | D8786: 18.339494 | E8786: 4.0659653

Sheet Meetdata 2021
A1: Date | C1: E_871687400008441314 | D1: E_871689200000091375 | E1: E_871689250000001867
C2: Volume | D2: Volume | E2: Volume
A3: 44197.25 | C3: 14.301962 | D3: 19.363094 | E3: 6.1131646
A4: 44197.292 | C4: 21.438726 | D4: 21.38186 | E4: 10.17913
A5: 44197.333 | C5: 29.59909 | D5: 20.35826 | E5: 14.245095
A6: 44197.375 | C6: 24.509525 | D6: 17.315894 | E6: 14.245095
A7: 44197.417 | C7: 21.438726 | D7: 18.311061 | E7: 10.17913
A8: 44197.458 | C8: 18.367927 | D8: 19.33466 | E8: 9.1555303
A9: 44197.5 | C9: 17.344328 | D9: 18.311061 | E9: 8.1319306
A10: 44197.542 | C10: 18.367927 | D10: 13.221496 | E10: 7.1367643
A11: 44197.583 | C11: 23.457492 | D11: 17.315894 | E11: 8.1319306
A12: 44197.625 | C12: 24.481092 | D12: 15.268695 | E12: 6.1131646
A13: 44197.667 | C13: 32.641456 | D13: 16.292295 | E13: 7.1367643
A14: 44197.708 | C14: 27.551891 | D14: 18.311061 | E14: 8.1319306
... A2062: 44283.042 | C2062: 13.335229 | D2062: 12.283196 | E2062: 4.0943986
A2063: 44283.083
A2064: 44283.125 | C2064: 6.141598 | D2064: 14.330395 | E2064: 4.0943986
A2065: 44283.167 | C2065: 24.594825 | D2065: 16.377595 | E2065: 4.0943986
A2066: 44283.208 | C2066: 20.500426 | D2066: 14.330395 | E2066: 3.070799
A2067: 44283.25 | C2067: 23.571225 | D2067: 16.377595 | E2067: 4.0943986
A2068: 44283.292 | C2068: 17.429628 | D2068: 15.353995 | E2068: 10.235997
A2069: 44283.333 | C2069: 20.500426 | D2069: 13.306796 | E2069: 10.235997
A2070: 44283.375 | C2070: 18.453227 | D2070: 13.306796 | E2070: 5.1179983
A2071: 44283.417 | C2071: 16.406028 | D2071: 10.235997 | E2071: 5.1179983
A2072: 44283.458 | C2072: 12.311629 | D2072: 9.2123969 | E2072: 4.0943986
A2073: 44283.5 | C2073: 27.694057 | D2073: 12.283196 | E2073: 4.0943986
A2074: 44283.542 | C2074: 20.52886 | D2074: 10.235997 | E2074: 4.0943986
A2075: 44283.583 | C2075: 16.406028 | D2075: 10.235997 | E2075: 4.0943986
... A8762: 44562.208 | C8762: 10.26443 | D8762: 10.26443 | E8762: 2.0471993
