Workbook

Sheet Totaal
B2: Perceel 1 Duurzame elektriciteits-leveringen | C2: gewicht | D2: Eneco | G2: Greenchoice
B4: kosten | C4: 0.6 | D4: =+'Kosten '!#REF! -> #REF! | E4: =D4*$C$4 -> #REF!
B7: kwaliteit | C7: 0.4 | D7: 7.17 | E7: =D7*$C$7 -> 2.868
C8: Score | E8: =SUM(E4:E7) -> #REF!
B12: Perceel 2 Duurzaam gas-leveringen | C12: gewicht | D12: Eneco | G12: Greenchoice | J12: Gazprom
B14: kosten | C14: 0.7 | D14: =+#REF! -> #REF! | E14: =+D14*$C$14 -> #REF! | G14: =+#REF! -> #REF! | H14: =+G14*$C$14 -> #REF! | J14: =+#REF! -> #REF! | K14: =+J14*$C$14 -> #REF!
B17: kwaliteit | C17: 0.3 | D17: =+#REF! -> #REF! | E17: =+D17*$C$17 -> #REF! | G17: =+#REF! -> #REF! | H17: =+G17*$C$17 -> #REF! | J17: =+#REF! -> #REF! | K17: =+J17*$C$17 -> #REF!
C18: Score | E18: =SUM(E14:E17) -> #REF! | H18: =SUM(H14:H17) -> #REF! | K18: =SUM(K14:K17) -> #REF!

Sheet Resultaat
B1: Inschrijver #1 | C1: Inschrijver #2 | D1: Inschrijver #3 | E1: Inschrijver #4 | F1: Inschrijver voorbeeld
A2: Kosten | B2: ='Kosten '!E22 -> 0 | C2: ='Kosten '!H22 -> 0 | D2: ='Kosten '!K22 -> 0 | E2: ='Kosten '!N22 -> 0 | F2: ='Kosten '!Q22 -> 1199500
A3: Waarde kwaliteit | B3: =-Kwaliteit!F20 -> 0 | C3: =-Kwaliteit!I20 -> 0 | D3: =-Kwaliteit!L20 -> 0 | E3: =-Kwaliteit!O20 -> 0 | F3: =-Kwaliteit!R20 -> -50850
A4: Inschrijfsom | B4: =+SUM(B2:B3) -> 0 | C4: =+SUM(C2:C3) -> 0 | D4: =+SUM(D2:D3) -> 0 | E4: =+SUM(E2:E3) -> 0 | F4: =+SUM(F2:F3) -> 1148650
B7: De Inschrijver met de laagste Inschrijfsom wint de Aanbesteding

Sheet Kosten 
A1: Kosten: leveringen
C2: Inschrijver #1 | F2: Inschrijver #2 | I2: Inschrijver #3 | L2: Inschrijver #4 | O2: Inschrijver voorbeeld
C3: opslag | D3: volume (MWh) | E3: Kosten | F3: opslag | G3: volume (MWh) | H3: Kosten | I3: opslag | J3: volume (MWh) | K3: Kosten | L3: opslag | M3: volume (MWh) | N3: Kosten | O3: opslag | P3: volume (MWh) | Q3: Kosten
A4: Blok #1 Elektriciteit | B4: Opslag hoogtarief OV | D4: 2500 | E4: =+D4*C4 -> 0 | G4: =+D4 -> 2500 | H4: =+G4*F4 -> 0 | J4: =+G4 -> 2500 | K4: =+J4*I4 -> 0 | M4: =+J4 -> 2500 | N4: =+M4*L4 -> 0 | O4: 20 | P4: =+M4 -> 2500 | Q4: =+P4*O4 -> 50000
B5: Opslag laagtarief OV | D5: 13000 | E5: =+D5*C5 -> 0 | G5: =+D5 -> 13000 | H5: =+G5*F5 -> 0 | J5: =+G5 -> 13000 | K5: =+J5*I5 -> 0 | M5: =+J5 -> 13000 | N5: =+M5*L5 -> 0 | O5: 17 | P5: =+M5 -> 13000 | Q5: =+P5*O5 -> 221000
A6: Blok #2 Elektriciteit | B6: Opslag hoogtarief overig | D6: 16000 | E6: =+D6*C6 -> 0 | G6: =+D6 -> 16000 | H6: =+G6*F6 -> 0 | J6: =+G6 -> 16000 | K6: =+J6*I6 -> 0 | M6: =+J6 -> 16000 | N6: =+M6*L6 -> 0 | O6: 22 | P6: =+M6 -> 16000 | Q6: =+P6*O6 -> 352000
B7: Opslag laagtarief overig | D7: 13000 | E7: =+D7*C7 -> 0 | G7: =+D7 -> 13000 | H7: =+G7*F7 -> 0 | J7: =+G7 -> 13000 | K7: =+J7*I7 -> 0 | M7: =+J7 -> 13000 | N7: =+M7*L7 -> 0 | O7: 16 | P7: =+M7 -> 13000 | Q7: =+P7*O7 -> 208000
C8: opslag | D8: volume (GvOs) | E8: Kosten | F8: opslag | G8: volume (GvOs) | H8: Kosten | I8: opslag | J8: volume (GvOs) | K8: Kosten | L8: opslag | M8: volume (GvOs) | N8: Kosten | O8: opslag | P8: volume (GvOs) | Q8: Kosten
A9: Verduurzaming elektra | B9: Kosten GvO wind NL | D9: 15500 | E9: =+D9*C9 -> 0 | G9: =+D9 -> 15500 | H9: =+G9*F9 -> 0 | J9: =+G9 -> 15500 | K9: =+J9*I9 -> 0 | M9: =+J9 -> 15500 | N9: =+M9*L9 -> 0 | O9: 4 | P9: =+M9 -> 15500 | Q9: =+P9*O9 -> 62000
B10: Kosten GvO zon NL | D10: 24000 | E10: =+D10*C10 -> 0 | G10: =+D10 -> 24000 | H10: =+G10*F10 -> 0 | J10: =+G10 -> 24000 | K10: =+J10*I10 -> 0 | M10: =+J10 -> 24000 | N10: =+M10*L10 -> 0 | O10: 4 | P10: =+M10 -> 24000 | Q10: =+P10*O10 -> 96000
B11: Kosten GvO wind EU | D11: 5000 | E11: =+D11*C11 -> 0 | G11: =+D11 -> 5000 | H11: =+G11*F11 -> 0 | J11: =+G11 -> 5000 | K11: =+J11*I11 -> 0 | M11: =+J11 -> 5000 | N11: =+M11*L11 -> 0 | O11: 2.5 | P11: =+M11 -> 5000 | Q11: =+P11*O11 -> 12500
B12: Kosten GvO zon EU | E12: =+D12*C12 -> 0 | G12: =+D12 -> 0 | H12: =+G12*F12 -> 0 | J12: =+G12 -> 0 | K12: =+J12*I12 -> 0 | M12: =+J12 -> 0 | N12: =+M12*L12 -> 0 | O12: 2.6 | P12: =+M12 -> 0 | Q12: =+P12*O12 -> 0
C13: opslag | D13: volume (Nm3) | E13: Kosten | F13: opslag | G13: volume (Nm3) | H13: Kosten | I13: opslag | J13: volume (Nm3) | K13: Kosten | L13: opslag | M13: volume (Nm3) | N13: Kosten | O13: opslag | P13: volume (Nm3) | Q13: Kosten
A14: Blok #3 Aardgas | B14: Opslag KV (G1/G2A)) | D14: 1600000 | E14: =+D14*C14 -> 0 | H14: =+G14*F14 -> 0 | K14: =+J14*I14 -> 0 | N14: =+M14*L14 -> 0 | O14: 8.5 | Q14: =+P14*O14/100 -> 0
A15: Blok #4 Aardgas | B15: Opslag GV (G2C, GXX) | D15: 2000000 | E15: =+D15*C15 -> 0 | H15: =+G15*F15 -> 0 | K15: =+J15*I15 -> 0 | N15: =+M15*L15 -> 0 | O15: 7 | Q15: =+P15*O15/100 -> 0
C16: opslag | D16: volume (Nm3) | E16: Kosten | F16: opslag | G16: volume (Nm3) | H16: Kosten | I16: opslag | J16: volume (Nm3) | K16: Kosten | L16: opslag | M16: volume (Nm3) | N16: Kosten | O16: opslag | P16: volume (Nm3) | Q16: Kosten
A17: Verduurzaming gas | B17: Kosten groengas | D17: 200000 | E17: =+D17*C17 -> 0 | G17: =+D17 -> 200000 | H17: =+G17*F17 -> 0 | J17: =+G17 -> 200000 | K17: =+J17*I17 -> 0 | M17: =+J17 -> 200000 | N17: =+M17*L17 -> 0 | O17: 14 | P17: =+M17 -> 200000 | Q17: =+P17*O17/100 -> 28000
B18: Kosten CO2 Gold Standard | D18: 3400000 | E18: =+D18*C18 -> 0 | G18: =+D18 -> 3400000 | H18: =+G18*F18 -> 0 | J18: =+G18 -> 3400000 | K18: =+J18*I18 -> 0 | M18: =+J18 -> 3400000 | N18: =+M18*L18 -> 0 | O18: 5 | P18: =+M18 -> 3400000 | Q18: =+P18*O18/100 -> 170000
B19: Kosten CO2 VeR | D19: 0 | E19: =+D19*C19 -> 0 | G19: =+D19 -> 0 | H19: =+G19*F19 -> 0 | J19: =+G19 -> 0 | K19: =+J19*I19 -> 0 | M19: =+J19 -> 0 | N19: =+M19*L19 -> 0 | O19: 3 | P19: =+M19 -> 0 | Q19: =+P19*O19 -> 0
G20: =+D20 -> 0 | J20: =+G20 -> 0 | M20: =+J20 -> 0 | P20: =+M20 -> 0
G21: =+D21 -> 0 | J21: =+G21 -> 0 | M21: =+J21 -> 0 | P21: =+M21 -> 0
D22: totaal | E22: =+SUM(E4:E7)+SUM(E9:E12)+SUM(E14:E15)+SUM(E17:E19) -> 0 | G22: totaal | H22: =+SUM(H4:H7)+SUM(H9:H12)+SUM(H14:H15)+SUM(H17:H19) -> 0 | J22: totaal | K22: =+SUM(K4:K7)+SUM(K9:K12)+SUM(K14:K15)+SUM(K17:K19) -> 0 | M22: totaal | N22: =+SUM(N4:N7)+SUM(N9:N12)+SUM(N14:N15)+SUM(N17:N19) -> 0 | P22: totaal | Q22: =+SUM(Q4:Q7)+SUM(Q9:Q12)+SUM(Q14:Q15)+SUM(Q17:Q19) -> 1199500

Sheet Kwaliteit
A1: Waarde: kwaliteit
D2: Inschrijver #1 | G2: Inschrijver #2 | J2: Inschrijver #3 | M2: Inschrijver #4 | P2: Inschrijver voorbeeld
F3: Waarde | G3: opslag | H3: volume (MWh) | I3: Kosten | J3: opslag | K3: volume (MWh) | L3: Kosten | M3: opslag | N3: volume (MWh) | O3: Kosten | P3: opslag | Q3: volume (MWh) | R3: Kosten
A4: Werkwijze bij de omgang met facturatie: | C4: 37000 | F4: =+E4*D4 -> 0 | H4: =+E4 -> 0 | I4: =+H4*G4 -> 0 | L4: =+K4*J4 -> 0 | O4: =+N4*M4 -> 0 | R4: =+Q4*P4 -> 0
A5: 0.2 | B5: Facturering van kleinverbruik met kleine volumes op basis van jaarfacturen met geen of één (halfjaarlijks) voorschot | C5: =+A5*C$4 -> 7400 | F5: =+E5*D5 -> 0 | H5: =+E5 -> 0 | I5: =+H5*G5 -> 0 | L5: =+K5*J5 -> 0 | O5: =+N5*M5 -> 0 | Q5: x | R5: =+IF((Q5="x"),C5,0) -> 7400
A6: 0.2 | B6: Geen tussentijdse afrekeningen en geen wijziging voorschotten bij kleinverbruik wegens meteropname maar afrekeningen per kalenderjaar ongeacht datum van meteropname voor de gehele verzamelfactuur of clusterfactuur. Verzamelfacturen clustering volgens opgave per gemeente. | C6: =+A6*C$4 -> 7400 | F6: =+E6*D6 -> 0 | I6: =+H6*G6 -> 0 | L6: =+K6*J6 -> 0 | O6: =+N6*M6 -> 0 | Q6: x | R6: =+IF((Q6="x"),C6,0) -> 7400
A7: 0.2 | B7: Separate facturering van voorschotten en jaarafrekeningen. | C7: =+A7*C$4 -> 7400 | R7: =+IF((Q7="x"),C7,0) -> 0
A8: 0.4 | B8: Jaaroverzichten (Excel-bestanden) van aansluitingen met verbruiken en facturen (PDF-bestanden) per deelnemer met geactualiseerde afnamevolume tbv bandbreedte, beschikbaar op verzoek en via Internet-portaal te downloaden. | C8: =+A8*C$4 -> 14800 | Q8: x | R8: =+IF((Q8="x"),C8,0) -> 14800
A10: Werkwijze additionele duurzame elektriciteitsleveringen | C10: 25000
A11: 1 | B11: Oplevering duurzame productieproject in 2022 | C11: =+A11*C$10 -> 25000
A12: 0.75 | B12: Oplevering duurzame productieproject in 2021 | C12: =+A12*C$10 -> 18750
A13: 0.5 | B13: Oplevering duurzame productieproject in 2020 | C13: =+A13*C$10 -> 12500
A14: 0.25 | B14: Oplevering duurzame productieproject in 2019 | C14: =+A14*C$10 -> 6250 | Q14: x | R14: =+IF((Q14="x"),C14,0) -> 6250
A15: 0 | B15: Oplevering duurzame voor 2019 | C15: =+A15*C$10 -> 0
A17: Werkwijze vervroegde aardgasleveringen | C17: 23000
A18: 1 | B18: Aantal dagen * € 250 | C18: =+A18*250 -> 250 | Q18: 60 | R18: =+Q18*$C$18 -> 15000
F19: =+E19*D19 -> 0 | I19: =+H19*G19 -> 0 | L19: =+K19*J19 -> 0 | O19: =+N19*M19 -> 0
E20: totaal | F20: =+SUM(F4:F19) -> 0 | H20: totaal | I20: =+SUM(I4:I19) -> 0 | K20: totaal | L20: =+SUM(L4:L19) -> 0 | N20: totaal | O20: =+SUM(O4:O19) -> 0 | Q20: totaal | R20: =+SUM(R4:R19) -> 50850
B26: 25000
B27: 37000
B28: 23000
