Workbook
Name bez: [1]Lijsten!$O$3:$O$793
Name bez: [1]Lijsten!$O$3:$O$793
Name bez: Lijsten!$C$3:$C$784
Name bezetting: [1]Lijsten!$U$3:$U$13
Name bezetting: [1]Lijsten!$U$3:$U$13
Name bezetting: Lijsten!$D$3:$D$18
Name cap: [1]Lijsten!$N$3:$N$109
Name cap: [1]Lijsten!$N$3:$N$109
Name cap: Lijsten!$B$3:$B$109
Name dag: Lijsten!$A$3:$A$9
Name ja: [1]Lijsten!$Q$2:$Q$4
Name ja: [1]Lijsten!$Q$2:$Q$4
Name ja: Lijsten!$E$2:$E$4
Name nacht: [1]Lijsten!$M$3:$M$5
Name nacht: [1]Lijsten!$M$3:$M$5
Name nacht: Lijsten!#REF!
Name type: [1]Lijsten!$D$3:$D$10

Sheet Versiebeheer
B3: Versiebeheer
B5: Versienummer: 1.0
B6: Datum: 18 mei 2022
B7: Jeugzorgregio: Haarlemmermeer

Sheet Algemene instructie
B2: Invulinstructie Rekentool Dagverblijf
B4: Algemene invulinstructie
B5: Deze rekentool helpt bij het bepalen van de juiste intensiteit van een dagverblijfgroep. Let op: dagbesteding en dagbehandeling vallen beide onder 'Dagverblijf'. Deze tool heeft 20 tabbladen voor dagverblijfgroepen. Het is de bedoeling om voor elk 'type' groep een tabblad in te vullen. Twee groepen zijn van hetzelfde type als ze op een aantal karakteristieken hetzelfde zijn: groepsgrootte, aantal begeleiders op de groep, openingsuren per week. Groepen die op deze kenmerken (nagenoeg) gelijk zijn, hoeft maar één tabblad te worden ingevuld. Geef dan bij vraag 1 op het tabblad aan voor hoeveel identieke groepen dit tabblad is ingevuld. De grijze cellen moeten worden ingevuld. Als de grijze cel is ingevuld, kleurt deze groen. De kleur groen betekent dus alleen: veld is ingevuld. Onder in de invultabel kleuren op het einde twee cellen oranje. De waarde van deze velden moeten 'realisitisch' zijn en kloppen met jullie eigen bedrijfsvoering. Goed dus om even te checken. Als de waarden niet kloppen, verander dan je invoer op de voorgaande invulvelden. Als alle gegevens op een tabblad zijn ingevuld, komt onderaan in het rood de begeleidingsintensiteit en de juiste voorziening te staan. Dit wordt alleen zichtbaar als inderdaad alle grijze velden zijn ingevuld! De ingevulde gegevens worden zichtbaar op het verzamelblad. Dit verzamelblad wordt door de inkoop gebruikt tijdens het inkoop-/beoordelings-/gunningsproces. Het gehele ingevulde Excelbestand moet als bijlage bij de inschrijving worden toegevoegd.
B6: Niet geschikt voor:
B7: Ambulante hulpverlening
B8: 24-uurs verblijf en gezinshuizen
B9: Woon- en verblijfgroepen
B10: Pleegzorg
B11: GGZ verblijf (voor ggz verblijf: gebruik de ggz-tariefklassen)
B12: LTA verblijfszorg

Sheet Invulinstructie per vraag
B2: Invulinstructie Rekentool Dagverblijf
B4: Toelichting per vraag | D4: Toelichting
B5: ='Dagverblijf groep 1'!B4 -> 1 | C5: ='Dagverblijf groep 1'!C4 -> Hoeveel verschillende fysieke groepen heeft u met (exact) dit profiel? | D5: Verschillende groepen die dezelfde karakteristieken hebben (groepsgrootte, verhouding begeleiders-jeugdigen, openingsuren per jaar) hoeft maar één tabblad te worden ingevuld. Hier kunt u aangeven voor hoeveel groepen deze informatie geldt.
B6: ='Dagverblijf groep 1'!B5 -> 2 | C6: ='Dagverblijf groep 1'!C5 -> Hoeveel % van deze capaciteit komt in 2023 ongeveer ten goede aan jeugdigen uit Haarlemmermeer? | D6: Het antwoord op deze vraag heeft geen directe gevolgen voor de berekening van de begeleidingsintensiteit. Het antwoord helpt bij het inschatten of de ingekochte capaciteit passend is voor de verwachte vraag. Let op: als u bij vraag 1 meerdere groepen heeft opgegeven, vul hier het percentage in over alle groepen waarvoor dit tabblad is ingevuld.
B7: ='Dagverblijf groep 1'!B6 -> 3 | C7: ='Dagverblijf groep 1'!C6 -> Gemiddeld aantal gepland aanwezige clïënten (alle, niet alleen de Haarlemmermeerse) per openingsdag | D7: Gepland aanwezig kan samenvallen met het aantal capaciteitsplaatsen. Het kan ook zijn dat standaard iets meer jeugdigen worden uitgenodigd om de gevolgen van no-show op te vangen. Het kan ook zijn dat standaard iets minder jeugdigen worden uitgenodigd dan het aantal capaciteitsplaatsen, bijvoorbeeld als de ernst van de problematiek (tijdelijk) te hoog is voo volledige bezetting. Tijdens vakantieweken is vaak ook sprake van lagere bezetting.
B8: ='Dagverblijf groep 1'!B7 -> 4 | C8: ='Dagverblijf groep 1'!C7 -> Bezettingsgraad | D8: Kies in het dropdownmenu de bezettingsgraad. Let op: het model gebruikt voor de intensiteitsbepaling mimimum percentages van 92,5%. Vul bij een lagere bezettingsgraad 92,5% in.
B9: ='Dagverblijf groep 1'!B8 -> 5 | C9: ='Dagverblijf groep 1'!C8 -> Gemiddeld aantal feitelijk aanwezig clïënten per openingsdag (wordt automatisch gevuld!) | D9: Automatisch ingevuld: bezettingsgraad x gemiddeld gepland aanwezig. Dit is het aantal cliënten waarover de begeleidingsintensiteit wordt berekend.
B10: ='Dagverblijf groep 1'!B9 -> 6 | C10: ='Dagverblijf groep 1'!C9 -> Aantal openingsdagen per week | D10: Kies in het dropdownmenu het aantal dagen dat de groep (meestal, in reguliere weken) geopend is. Halve dagen open = hele openingsdag.
B11: ='Dagverblijf groep 1'!B10 -> 7 | C11: ='Dagverblijf groep 1'!C10 -> Aantal openingsuren per week | D11: Vul het aantal uren in dat de groep (meestal, in reguliere weken) per week geopend is. Openingsuren zijn: tijden waarop de jeugdigen aanwezig kunnen en mogen zijn (conform de afspraken met de ouders). Tijd gedurende vervoer telt niet mee voor de openingsuren.
B12: ='Dagverblijf groep 1'!B11 -> 8 | C12: ='Dagverblijf groep 1'!C11 -> Openingsuren per jaar, rekening houdend met vakanties en gesloten (feest- & studie-)dagen | D12: Vul hier het aantal uren in dat de groep per jaar geopend is. Houdt hier rekening met vakantieperioden en feestdagen.
B13: ='Dagverblijf groep 1'!B12 -> 9 | C13: ='Dagverblijf groep 1'!C12 -> Productie 2023 in 'cliënturen' (wordt automatisch gevuld!) | D13: Dit veld wordt automatisch gevuld: openingsuren per jaar x aantal gemiddeld feitelijk aanwezige jeugdigen.
B14: ='Dagverblijf groep 1'!B13 -> 10 | C14: ='Dagverblijf groep 1'!C13 -> Aantal openingsweken per jaar (wordt automatisch gevuld!) | D14: Dit veld wordt automatisch gevuld: openingsuren per jaar / openingsuren per week.
B15: ='Dagverblijf groep 1'!B14 -> 11 | C15: ='Dagverblijf groep 1'!C14 -> Aantal openingsdagen (wordt automatisch gevuld!) | D15: Dit veld wordt automatisch gevuld: openingsuren per jaar / openingsuren per week x openingsdagen per week.
B16: ='Dagverblijf groep 1'!B15 -> 12 | C16: ='Dagverblijf groep 1'!C15 -> Totaal formatie groepsbegeleiders op deze groep (in fte) | D16: Deze vraag is 'inleidend' op vraag 14. Per zorgaanbieder verschilt welke informatie gemakkelijk beschikbaar is. Deze rekentool berekent eerst de bruto capaciteit in fte en uren, om daarna 'af te pellen' naar netto roosteruren per jaar (=vraag 14). Vraag 11, 12, 13 en 14 moeten met elkaar in verhouding staan.
... B24: ='Dagverblijf groep 1'!B23 -> 20 | C24: ='Dagverblijf groep 1'!C23 -> Begeleidingsintensiteit (wordt automatisch gevuld!) | D24: Wordt automatisch gevuld. Dit is de begeleidingsintensiteit: het aantal netto roosteruren per jeugdige per openingsuur.

Sheet Verzamelblad
B2: Inkoop jeugd Haarlemmermeer 2023
B5: Groep | C5: Aantal groepen met dit profiel | D5: Capaciteit | E5: Waarvan deel Haarlemmermeer | F5: Berekende intensiteit | G5: Intensiteit | H5: Uurtarief
B6: =Lijsten!O2 -> Dagverblijf groep 1 | C6: {=IFERROR(INDIRECT("'"&B6&"'!d"&ROW('Dagverblijf groep 1'!$4:$4)),"")} -> 0 | D6: {=IFERROR(INDIRECT("'"&B6&"'!d"&ROW('Dagverblijf groep 1'!$6:$6)),"")} -> 0 | E6: {=IFERROR(INDIRECT("'"&B6&"'!d"&ROW('Dagverblijf groep 1'!$5:$5)),"")} -> 0 | F6: {=IFERROR(INDIRECT("'"&B6&"'!d"&ROW('Dagverblijf groep 1'!$23:$23)),"")} | G6: =IFERROR(IF(F6>0,INDEX(Lijsten!$F$3:$H$6,MATCH(F6,Lijsten!$F$3:$F$6,1),3),""),"") | H6: =IFERROR(IF(F6>0,INDEX(Lijsten!$F$3:$L$6,MATCH(F6,Lijsten!$F$3:$F$6,1),7),""),"")
B7: =Lijsten!O3 -> Dagverblijf groep 2 | C7: {=IFERROR(INDIRECT("'"&B7&"'!d"&ROW('Dagverblijf groep 1'!$4:$4)),"")} -> 0 | D7: {=IFERROR(INDIRECT("'"&B7&"'!d"&ROW('Dagverblijf groep 1'!$6:$6)),"")} -> 0 | E7: {=IFERROR(INDIRECT("'"&B7&"'!d"&ROW('Dagverblijf groep 1'!$5:$5)),"")} -> 0 | F7: {=IFERROR(INDIRECT("'"&B7&"'!d"&ROW('Dagverblijf groep 1'!$23:$23)),"")} | G7: =IFERROR(IF(F7>0,INDEX(Lijsten!$F$3:$H$6,MATCH(F7,Lijsten!$F$3:$F$6,1),3),""),"") | H7: =IFERROR(IF(F7>0,INDEX(Lijsten!$F$3:$L$6,MATCH(F7,Lijsten!$F$3:$F$6,1),7),""),"")
B8: =Lijsten!O4 -> Dagverblijf groep 3 | C8: {=IFERROR(INDIRECT("'"&B8&"'!d"&ROW('Dagverblijf groep 1'!$4:$4)),"")} -> 0 | D8: {=IFERROR(INDIRECT("'"&B8&"'!d"&ROW('Dagverblijf groep 1'!$6:$6)),"")} -> 0 | E8: {=IFERROR(INDIRECT("'"&B8&"'!d"&ROW('Dagverblijf groep 1'!$5:$5)),"")} -> 0 | F8: {=IFERROR(INDIRECT("'"&B8&"'!d"&ROW('Dagverblijf groep 1'!$23:$23)),"")} | G8: =IFERROR(IF(F8>0,INDEX(Lijsten!$F$3:$H$6,MATCH(F8,Lijsten!$F$3:$F$6,1),3),""),"") | H8: =IFERROR(IF(F8>0,INDEX(Lijsten!$F$3:$L$6,MATCH(F8,Lijsten!$F$3:$F$6,1),7),""),"")
B9: =Lijsten!O5 -> Dagverblijf groep 4 | C9: {=IFERROR(INDIRECT("'"&B9&"'!d"&ROW('Dagverblijf groep 1'!$4:$4)),"")} -> 0 | D9: {=IFERROR(INDIRECT("'"&B9&"'!d"&ROW('Dagverblijf groep 1'!$6:$6)),"")} -> 0 | E9: {=IFERROR(INDIRECT("'"&B9&"'!d"&ROW('Dagverblijf groep 1'!$5:$5)),"")} -> 0 | F9: {=IFERROR(INDIRECT("'"&B9&"'!d"&ROW('Dagverblijf groep 1'!$23:$23)),"")} | G9: =IFERROR(IF(F9>0,INDEX(Lijsten!$F$3:$H$6,MATCH(F9,Lijsten!$F$3:$F$6,1),3),""),"") | H9: =IFERROR(IF(F9>0,INDEX(Lijsten!$F$3:$L$6,MATCH(F9,Lijsten!$F$3:$F$6,1),7),""),"")
B10: =Lijsten!O6 -> Dagverblijf groep 5 | C10: {=IFERROR(INDIRECT("'"&B10&"'!d"&ROW('Dagverblijf groep 1'!$4:$4)),"")} -> 0 | D10: {=IFERROR(INDIRECT("'"&B10&"'!d"&ROW('Dagverblijf groep 1'!$6:$6)),"")} -> 0 | E10: {=IFERROR(INDIRECT("'"&B10&"'!d"&ROW('Dagverblijf groep 1'!$5:$5)),"")} -> 0 | F10: {=IFERROR(INDIRECT("'"&B10&"'!d"&ROW('Dagverblijf groep 1'!$23:$23)),"")} | G10: =IFERROR(IF(F10>0,INDEX(Lijsten!$F$3:$H$6,MATCH(F10,Lijsten!$F$3:$F$6,1),3),""),"") | H10: =IFERROR(IF(F10>0,INDEX(Lijsten!$F$3:$L$6,MATCH(F10,Lijsten!$F$3:$F$6,1),7),""),"")
B11: =Lijsten!O7 -> Dagverblijf groep 6 | C11: {=IFERROR(INDIRECT("'"&B11&"'!d"&ROW('Dagverblijf groep 1'!$4:$4)),"")} -> 0 | D11: {=IFERROR(INDIRECT("'"&B11&"'!d"&ROW('Dagverblijf groep 1'!$6:$6)),"")} -> 0 | E11: {=IFERROR(INDIRECT("'"&B11&"'!d"&ROW('Dagverblijf groep 1'!$5:$5)),"")} -> 0 | F11: {=IFERROR(INDIRECT("'"&B11&"'!d"&ROW('Dagverblijf groep 1'!$23:$23)),"")} | G11: =IFERROR(IF(F11>0,INDEX(Lijsten!$F$3:$H$6,MATCH(F11,Lijsten!$F$3:$F$6,1),3),""),"") | H11: =IFERROR(IF(F11>0,INDEX(Lijsten!$F$3:$L$6,MATCH(F11,Lijsten!$F$3:$F$6,1),7),""),"")
B12: =Lijsten!O8 -> Dagverblijf groep 7 | C12: {=IFERROR(INDIRECT("'"&B12&"'!d"&ROW('Dagverblijf groep 1'!$4:$4)),"")} -> 0 | D12: {=IFERROR(INDIRECT("'"&B12&"'!d"&ROW('Dagverblijf groep 1'!$6:$6)),"")} -> 0 | E12: {=IFERROR(INDIRECT("'"&B12&"'!d"&ROW('Dagverblijf groep 1'!$5:$5)),"")} -> 0 | F12: {=IFERROR(INDIRECT("'"&B12&"'!d"&ROW('Dagverblijf groep 1'!$23:$23)),"")} | G12: =IFERROR(IF(F12>0,INDEX(Lijsten!$F$3:$H$6,MATCH(F12,Lijsten!$F$3:$F$6,1),3),""),"") | H12: =IFERROR(IF(F12>0,INDEX(Lijsten!$F$3:$L$6,MATCH(F12,Lijsten!$F$3:$F$6,1),7),""),"")
B13: =Lijsten!O9 -> Dagverblijf groep 8 | C13: {=IFERROR(INDIRECT("'"&B13&"'!d"&ROW('Dagverblijf groep 1'!$4:$4)),"")} -> 0 | D13: {=IFERROR(INDIRECT("'"&B13&"'!d"&ROW('Dagverblijf groep 1'!$6:$6)),"")} -> 0 | E13: {=IFERROR(INDIRECT("'"&B13&"'!d"&ROW('Dagverblijf groep 1'!$5:$5)),"")} -> 0 | F13: {=IFERROR(INDIRECT("'"&B13&"'!d"&ROW('Dagverblijf groep 1'!$23:$23)),"")} | G13: =IFERROR(IF(F13>0,INDEX(Lijsten!$F$3:$H$6,MATCH(F13,Lijsten!$F$3:$F$6,1),3),""),"") | H13: =IFERROR(IF(F13>0,INDEX(Lijsten!$F$3:$L$6,MATCH(F13,Lijsten!$F$3:$F$6,1),7),""),"")
B14: =Lijsten!O10 -> Dagverblijf groep 9 | C14: {=IFERROR(INDIRECT("'"&B14&"'!d"&ROW('Dagverblijf groep 1'!$4:$4)),"")} -> 0 | D14: {=IFERROR(INDIRECT("'"&B14&"'!d"&ROW('Dagverblijf groep 1'!$6:$6)),"")} -> 0 | E14: {=IFERROR(INDIRECT("'"&B14&"'!d"&ROW('Dagverblijf groep 1'!$5:$5)),"")} -> 0 | F14: {=IFERROR(INDIRECT("'"&B14&"'!d"&ROW('Dagverblijf groep 1'!$23:$23)),"")} | G14: =IFERROR(IF(F14>0,INDEX(Lijsten!$F$3:$H$6,MATCH(F14,Lijsten!$F$3:$F$6,1),3),""),"") | H14: =IFERROR(IF(F14>0,INDEX(Lijsten!$F$3:$L$6,MATCH(F14,Lijsten!$F$3:$F$6,1),7),""),"")
B15: =Lijsten!O11 -> Dagverblijf groep 10 | C15: {=IFERROR(INDIRECT("'"&B15&"'!d"&ROW('Dagverblijf groep 1'!$4:$4)),"")} -> 0 | D15: {=IFERROR(INDIRECT("'"&B15&"'!d"&ROW('Dagverblijf groep 1'!$6:$6)),"")} -> 0 | E15: {=IFERROR(INDIRECT("'"&B15&"'!d"&ROW('Dagverblijf groep 1'!$5:$5)),"")} -> 0 | F15: {=IFERROR(INDIRECT("'"&B15&"'!d"&ROW('Dagverblijf groep 1'!$23:$23)),"")} | G15: =IFERROR(IF(F15>0,INDEX(Lijsten!$F$3:$H$6,MATCH(F15,Lijsten!$F$3:$F$6,1),3),""),"") | H15: =IFERROR(IF(F15>0,INDEX(Lijsten!$F$3:$L$6,MATCH(F15,Lijsten!$F$3:$F$6,1),7),""),"")
B16: =Lijsten!O12 -> Dagverblijf groep 11 | C16: {=IFERROR(INDIRECT("'"&B16&"'!d"&ROW('Dagverblijf groep 1'!$4:$4)),"")} -> 0 | D16: {=IFERROR(INDIRECT("'"&B16&"'!d"&ROW('Dagverblijf groep 1'!$6:$6)),"")} -> 0 | E16: {=IFERROR(INDIRECT("'"&B16&"'!d"&ROW('Dagverblijf groep 1'!$5:$5)),"")} -> 0 | F16: {=IFERROR(INDIRECT("'"&B16&"'!d"&ROW('Dagverblijf groep 1'!$23:$23)),"")} | G16: =IFERROR(IF(F16>0,INDEX(Lijsten!$F$3:$H$6,MATCH(F16,Lijsten!$F$3:$F$6,1),3),""),"") | H16: =IFERROR(IF(F16>0,INDEX(Lijsten!$F$3:$L$6,MATCH(F16,Lijsten!$F$3:$F$6,1),7),""),"")
B17: =Lijsten!O13 -> Dagverblijf groep 12 | C17: {=IFERROR(INDIRECT("'"&B17&"'!d"&ROW('Dagverblijf groep 1'!$4:$4)),"")} -> 0 | D17: {=IFERROR(INDIRECT("'"&B17&"'!d"&ROW('Dagverblijf groep 1'!$6:$6)),"")} -> 0 | E17: {=IFERROR(INDIRECT("'"&B17&"'!d"&ROW('Dagverblijf groep 1'!$5:$5)),"")} -> 0 | F17: {=IFERROR(INDIRECT("'"&B17&"'!d"&ROW('Dagverblijf groep 1'!$23:$23)),"")} | G17: =IFERROR(IF(F17>0,INDEX(Lijsten!$F$3:$H$6,MATCH(F17,Lijsten!$F$3:$F$6,1),3),""),"") | H17: =IFERROR(IF(F17>0,INDEX(Lijsten!$F$3:$L$6,MATCH(F17,Lijsten!$F$3:$F$6,1),7),""),"")
... B55: =Lijsten!O51 -> Dagverblijf groep 50 | C55: {=IFERROR(INDIRECT("'"&B55&"'!d"&ROW('Dagverblijf groep 1'!$4:$4)),"")} -> 0 | D55: {=IFERROR(INDIRECT("'"&B55&"'!d"&ROW('Dagverblijf groep 1'!$6:$6)),"")} -> 0 | E55: {=IFERROR(INDIRECT("'"&B55&"'!d"&ROW('Dagverblijf groep 1'!$5:$5)),"")} -> 0 | F55: {=IFERROR(INDIRECT("'"&B55&"'!d"&ROW('Dagverblijf groep 1'!$23:$23)),"")} | G55: =IFERROR(IF(F55>0,INDEX(Lijsten!$F$3:$H$6,MATCH(F55,Lijsten!$F$3:$F$6,1),3),""),"") | H55: =IFERROR(IF(F55>0,INDEX(Lijsten!$F$3:$L$6,MATCH(F55,Lijsten!$F$3:$F$6,1),7),""),"")
B56: Totaal

Sheet Lijsten
J2: breedte | K2: gemiddeld | O2: Dagverblijf groep 1
A3: 1 | B3: 1 | C3: 1 | D3: 0.925 | E3: ja | F3: 0.1 | G3: 0.18999 | H3: Dagverblijf licht | I3: 0,10 - 0,19 | J3: 0.08999 | K3: 0.144995 | L3: 13.33323 | O3: Dagverblijf groep 2 | R3: 0,10 - 0,19
A4: 2 | B4: 2 | C4: 1.1 | D4: 0.93 | E4: nee | F4: 0.19 | G4: 0.27999 | H4: Dagverblijf middel | I4: 0,19 - 0,28 | J4: 0.08999 | K4: 0.234995 | L4: 18.585117 | O4: Dagverblijf groep 3 | R4: 0,19 - 0,28
A5: 3 | B5: 3 | C5: 1.2 | D5: 0.935 | F5: 0.28 | G5: 0.34999 | H5: Dagverblijf middelzwaar | I5: 0,28 - 0,35 | J5: 0.06999 | K5: 0.314995 | L5: 27.060951 | O5: Dagverblijf groep 4 | R5: 0,28 - 0,35
A6: 4 | B6: 4 | C6: 1.3 | D6: 0.94 | F6: 0.35 | G6: 0.59999 | H6: Dagverblijf zwaar | I6: 0,35 - 0,60 | J6: 0.24999 | K6: 0.474995 | L6: 34.287794 | O6: Dagverblijf groep 5 | R6: 0,35 - 0,60
A7: 5 | B7: 5 | C7: 1.4 | D7: 0.945 | O7: Dagverblijf groep 6
A8: 6 | B8: 6 | C8: 1.5 | D8: 0.95 | O8: Dagverblijf groep 7
A9: 7 | B9: 7 | C9: 1.6 | D9: 0.955 | O9: Dagverblijf groep 8
B10: 8 | C10: 1.7 | D10: 0.96 | O10: Dagverblijf groep 9
B11: 9 | C11: 1.8 | D11: 0.965 | O11: Dagverblijf groep 10
B12: 10 | C12: 1.9 | D12: 0.97 | O12: Dagverblijf groep 11
B13: 11 | C13: 2 | D13: 0.975 | O13: Dagverblijf groep 12
B14: 12 | C14: 2.1 | D14: 0.98 | O14: Dagverblijf groep 13
B15: 13 | C15: 2.2 | D15: 0.985 | O15: Dagverblijf groep 14
B16: 14 | C16: 2.3 | D16: 0.99 | O16: Dagverblijf groep 15
B17: 15 | C17: 2.4 | D17: 0.995 | O17: Dagverblijf groep 16
B18: 16 | C18: 2.5 | D18: 1 | O18: Dagverblijf groep 17
B19: 17 | C19: 2.6 | O19: Dagverblijf groep 18
B20: 18 | C20: 2.7 | O20: Dagverblijf groep 19
B21: 19 | C21: 2.8 | O21: Dagverblijf groep 20
B22: 20 | C22: 2.9 | O22: Dagverblijf groep 21
B23: 21 | C23: 3 | O23: Dagverblijf groep 22
B24: 22 | C24: 3.1 | O24: Dagverblijf groep 23
B25: 23 | C25: 3.2 | O25: Dagverblijf groep 24
B26: 24 | C26: 3.3 | O26: Dagverblijf groep 25
B27: 25 | C27: 3.4 | O27: Dagverblijf groep 26
B28: 26 | C28: 3.5 | O28: Dagverblijf groep 27
B29: 27 | C29: 3.6 | O29: Dagverblijf groep 28
B30: 28 | C30: 3.7 | O30: Dagverblijf groep 29
... B51: 49 | C51: 5.8 | O51: Dagverblijf groep 50
B52: 50 | C52: 5.9
B53: 51 | C53: 6
B54: 52 | C54: 6.1
B55: 53 | C55: 6.2
B56: 54 | C56: 6.3
B57: 55 | C57: 6.4
B58: 56 | C58: 6.5
B59: 57 | C59: 6.6
B60: 58 | C60: 6.7
B61: 59 | C61: 6.8
B62: 60 | C62: 6.9
B63: 61 | C63: 7
... B102: 100 | C102: 10.9
C103: 11
C104: 11.1
C105: 11.2
C106: 11.3
C107: 11.4
C108: 11.5
C109: 11.6
C110: 11.7
C111: 11.8
C112: 11.9
C113: 12
C114: 12.1
... C793: 80

Sheet Dagverblijf groep 1
C3: Kenmerken dagverblijfgroep | D3: GEPLAND IN 2023
B4: 1 | C4: Hoeveel verschillende fysieke groepen heeft u met (exact) dit profiel? | F4: Voorbeeld: de groepen 'Eik' en 'Beuk' zijn identieke groepen? Vul 2 in.
B5: 2 | C5: Hoeveel % van deze capaciteit komt in 2023 ongeveer ten goede aan jeugdigen uit Haarlemmermeer? | F5: Waarde invullen van 0-100%. Deze informatie wordt gebruikt ter raming van de toekomstige capaciteit.
B6: 3 | C6: Gemiddeld aantal gepland aanwezige clïënten (alle, niet alleen de Haarlemmermeerse) per openingsdag | F6: Dit hoeven niet uitsluitend jeugdigen te zijn onder de Jeugdwet
B7: 4 | C7: Bezettingsgraad | F7: Kies een percentage tussen 92,5% en 100%
B8: 5 | C8: Gemiddeld aantal feitelijk aanwezig clïënten per openingsdag (wordt automatisch gevuld!) | D8: =D6*D7 -> 0
B9: 6 | C9: Aantal openingsdagen per week
B10: 7 | C10: Aantal openingsuren per week | F10: Het betreft hier de uren waarop jeugdigen aanwezig mogen en kunnen zijn.
B11: 8 | C11: Openingsuren per jaar, rekening houdend met vakanties en gesloten (feest- & studie-)dagen
B12: 9 | C12: Productie 2023 in 'cliënturen' (wordt automatisch gevuld!) | D12: =D11*D8 -> 0
B13: 10 | C13: Aantal openingsweken per jaar (wordt automatisch gevuld!) | D13: =IFERROR(D11/D10,0) -> 0
B14: 11 | C14: Aantal openingsdagen (wordt automatisch gevuld!) | D14: =IFERROR((D11/D10*D9),0) -> 0
B15: 12 | C15: Totaal formatie groepsbegeleiders op deze groep (in fte) | F15: Uitsluitend uren van groepsbegeleiders, niet van gedragswetenschapper of behandelaren.
B16: 13 | C16: Totaal bruto uren groepbegeleiders beschikbaar (= fte x 1.877, wordt automatisch gevuld) | D16: =D15*(365/7)*36 -> 0
B17: 14 | C17: ="Netto roosteruren groepsbegeleiders op de groep TIJDENS de "&TEXT(D11,"#.###")&" openingsuren per jaar" -> Netto roosteruren groepsbegeleiders op de groep TIJDENS de openingsuren per jaar | F17: (voorbeeld: altijd 2 begeleiders op de groep? Roosteruren = openingsuren per jaar x 2)
B18: 15 | C18: Netto aanwezigheidsuren BUITEN de openingsuren van groepsbegeleiders per openingsdag | F18: Let op: per openingsdag! Deze tijd is uitdrukkelijk bedoeld als voor- en nabereiding en NIET bedoeld voor het leveren van ambulante jeugdhulp.
B19: 16 | C19: Netto aanwezigheidsuren per jaar BUITEN de openingsuren (wordt automatisch gevuld!) | D19: =IF(D18>0,D14*D18,"")
B20: 17 | C20: Overige (bruto) tijd van groepbegeleiders (wordt automatisch gevuld!) | D20: =IF(COUNTA(D16:D18)=3,D16-D17-D18,"")
B21: 18 | C21: …. aantal inroosterbare uren per fte begeleider per jaar… (wordt automatisch gevuld!) | D21: =IFERROR((D17+D19)/D15,"") | F21: =IF(COUNTA(D17:D18,D15)=3," Check: kloppen deze twee gele waarden met jullie administratie? Zie ook de invulinstructie.","")
B22: 19 | C22: …. dit aantal inroosterbare uren komt overeen met productiviteit van…. (wordt automatisch gevuld!) | D22: =IFERROR(D21/1878,"")
B23: 20 | C23: Begeleidingsintensiteit (wordt automatisch gevuld!) | D23: =IFERROR(IF(D17/D11/D8<Lijsten!F3,Lijsten!F3,IF(D17/D11/D8>Lijsten!G6,Lijsten!G6,D17/D11/D8)),"")
C25: =IFERROR(IF(D23>0,"Intensiteit: '"&INDEX(Lijsten!$F$3:$L$6,MATCH($D$23,Lijsten!F3:F6,1),3)&"'. Bandbreedte begeleidingsintensiteit: "&INDEX(Lijsten!$F$3:$L$6,MATCH($D$23,Lijsten!F3:F6,1),4)&". Tarief: "&TEXT(INDEX(Lijsten!$F$3:$L$6,MATCH(D23,Lijsten!F3:F6,1),7),"€00,00")& " per uur","Vul alle grijze velden in om de intensiteitsbepaling te zien."),"Vul alle grijze velden in om de intensiteitsbepaling te zien.") -> Vul alle grijze velden in om de intensiteitsbepaling te zien.

Sheet Dagverblijf groep 2
C3: Kenmerken dagverblijfgroep | D3: GEPLAND IN 2023
B4: 1 | C4: Hoeveel verschillende fysieke groepen heeft u met (exact) dit profiel? | F4: Voorbeeld: de groepen 'Eik' en 'Beuk' zijn identieke groepen? Vul 2 in.
B5: 2 | C5: Hoeveel % van deze capaciteit komt in 2023 ongeveer ten goede aan jeugdigen uit Haarlemmermeer? | F5: Waarde invullen van 0-100%. Deze informatie wordt gebruikt ter raming van de toekomstige capaciteit.
B6: 3 | C6: Gemiddeld aantal gepland aanwezige clïënten (alle, niet alleen de Haarlemmermeerse) per openingsdag | F6: Dit hoeven niet uitsluitend jeugdigen te zijn onder de Jeugdwet
B7: 4 | C7: Bezettingsgraad | F7: Kies een percentage tussen 92,5% en 100%
B8: 5 | C8: Gemiddeld aantal feitelijk aanwezig clïënten per openingsdag (wordt automatisch gevuld!) | D8: =D6*D7 -> 0
B9: 6 | C9: Aantal openingsdagen per week
B10: 7 | C10: Aantal openingsuren per week | F10: Het betreft hier de uren waarop jeugdigen aanwezig mogen en kunnen zijn.
B11: 8 | C11: Openingsuren per jaar, rekening houdend met vakanties en gesloten (feest- & studie-)dagen
B12: 9 | C12: Productie 2023 in 'cliënturen' (wordt automatisch gevuld!) | D12: =D11*D8 -> 0
B13: 10 | C13: Aantal openingsweken per jaar (wordt automatisch gevuld!) | D13: =IFERROR(D11/D10,0) -> 0
B14: 11 | C14: Aantal openingsdagen (wordt automatisch gevuld!) | D14: =IFERROR((D11/D10*D9),0) -> 0
B15: 12 | C15: Totaal formatie groepsbegeleiders op deze groep (in fte) | F15: Uitsluitend uren van groepsbegeleiders, niet van gedragswetenschapper of behandelaren.
B16: 13 | C16: Totaal bruto uren groepbegeleiders beschikbaar (= fte x 1.877, wordt automatisch gevuld) | D16: =D15*(365/7)*36 -> 0
B17: 14 | C17: ="Netto roosteruren groepsbegeleiders op de groep TIJDENS de "&TEXT(D11,"#.###")&" openingsuren per jaar" -> Netto roosteruren groepsbegeleiders op de groep TIJDENS de openingsuren per jaar | F17: (voorbeeld: altijd 2 begeleiders op de groep? Roosteruren = openingsuren per jaar x 2)
B18: 15 | C18: Netto aanwezigheidsuren BUITEN de openingsuren van groepsbegeleiders per openingsdag | F18: Let op: per openingsdag! Deze tijd is uitdrukkelijk bedoeld als voor- en nabereiding en NIET bedoeld voor het leveren van ambulante jeugdhulp.
B19: 16 | C19: Netto aanwezigheidsuren per jaar BUITEN de openingsuren (wordt automatisch gevuld!) | D19: =IF(D18>0,D14*D18,"")
B20: 17 | C20: Overige (bruto) tijd van groepbegeleiders (wordt automatisch gevuld!) | D20: =IF(COUNTA(D16:D18)=3,D16-D17-D18,"")
B21: 18 | C21: …. aantal inroosterbare uren per fte begeleider per jaar… (wordt automatisch gevuld!) | D21: =IFERROR((D17+D19)/D15,"") | F21: =IF(COUNTA(D17:D18,D15)=3," Check: kloppen deze twee gele waarden met jullie administratie? Zie ook de invulinstructie.","")
B22: 19 | C22: …. dit aantal inroosterbare uren komt overeen met productiviteit van…. (wordt automatisch gevuld!) | D22: =IFERROR(D21/1878,"")
B23: 20 | C23: Begeleidingsintensiteit (wordt automatisch gevuld!) | D23: =IFERROR(IF(D17/D11/D8<Lijsten!F3,Lijsten!F3,IF(D17/D11/D8>Lijsten!G6,Lijsten!G6,D17/D11/D8)),"")
C25: =IFERROR(IF(D23>0,"Intensiteit: '"&INDEX(Lijsten!$F$3:$L$6,MATCH($D$23,Lijsten!F3:F6,1),3)&"'. Bandbreedte begeleidingsintensiteit: "&INDEX(Lijsten!$F$3:$L$6,MATCH($D$23,Lijsten!F3:F6,1),4)&". Tarief: "&TEXT(INDEX(Lijsten!$F$3:$L$6,MATCH(D23,Lijsten!F3:F6,1),7),"€00,00")& " per uur","Vul alle grijze velden in om de intensiteitsbepaling te zien."),"Vul alle grijze velden in om de intensiteitsbepaling te zien.") -> Vul alle grijze velden in om de intensiteitsbepaling te zien.

Sheet Dagverblijf groep 3
C3: Kenmerken dagverblijfgroep | D3: GEPLAND IN 2023
B4: 1 | C4: Hoeveel verschillende fysieke groepen heeft u met (exact) dit profiel? | F4: Voorbeeld: de groepen 'Eik' en 'Beuk' zijn identieke groepen? Vul 2 in.
B5: 2 | C5: Hoeveel % van deze capaciteit komt in 2023 ongeveer ten goede aan jeugdigen uit Haarlemmermeer? | F5: Waarde invullen van 0-100%. Deze informatie wordt gebruikt ter raming van de toekomstige capaciteit.
B6: 3 | C6: Gemiddeld aantal gepland aanwezige clïënten (alle, niet alleen de Haarlemmermeerse) per openingsdag | F6: Dit hoeven niet uitsluitend jeugdigen te zijn onder de Jeugdwet
B7: 4 | C7: Bezettingsgraad | F7: Kies een percentage tussen 92,5% en 100%
B8: 5 | C8: Gemiddeld aantal feitelijk aanwezig clïënten per openingsdag (wordt automatisch gevuld!) | D8: =D6*D7 -> 0
B9: 6 | C9: Aantal openingsdagen per week
B10: 7 | C10: Aantal openingsuren per week | F10: Het betreft hier de uren waarop jeugdigen aanwezig mogen en kunnen zijn.
B11: 8 | C11: Openingsuren per jaar, rekening houdend met vakanties en gesloten (feest- & studie-)dagen
B12: 9 | C12: Productie 2023 in 'cliënturen' (wordt automatisch gevuld!) | D12: =D11*D8 -> 0
B13: 10 | C13: Aantal openingsweken per jaar (wordt automatisch gevuld!) | D13: =IFERROR(D11/D10,0) -> 0
B14: 11 | C14: Aantal openingsdagen (wordt automatisch gevuld!) | D14: =IFERROR((D11/D10*D9),0) -> 0
B15: 12 | C15: Totaal formatie groepsbegeleiders op deze groep (in fte) | F15: Uitsluitend uren van groepsbegeleiders, niet van gedragswetenschapper of behandelaren.
B16: 13 | C16: Totaal bruto uren groepbegeleiders beschikbaar (= fte x 1.877, wordt automatisch gevuld) | D16: =D15*(365/7)*36 -> 0
B17: 14 | C17: ="Netto roosteruren groepsbegeleiders op de groep TIJDENS de "&TEXT(D11,"#.###")&" openingsuren per jaar" -> Netto roosteruren groepsbegeleiders op de groep TIJDENS de openingsuren per jaar | F17: (voorbeeld: altijd 2 begeleiders op de groep? Roosteruren = openingsuren per jaar x 2)
B18: 15 | C18: Netto aanwezigheidsuren BUITEN de openingsuren van groepsbegeleiders per openingsdag | F18: Let op: per openingsdag! Deze tijd is uitdrukkelijk bedoeld als voor- en nabereiding en NIET bedoeld voor het leveren van ambulante jeugdhulp.
B19: 16 | C19: Netto aanwezigheidsuren per jaar BUITEN de openingsuren (wordt automatisch gevuld!) | D19: =IF(D18>0,D14*D18,"")
B20: 17 | C20: Overige (bruto) tijd van groepbegeleiders (wordt automatisch gevuld!) | D20: =IF(COUNTA(D16:D18)=3,D16-D17-D18,"")
B21: 18 | C21: …. aantal inroosterbare uren per fte begeleider per jaar… (wordt automatisch gevuld!) | D21: =IFERROR((D17+D19)/D15,"") | F21: =IF(COUNTA(D17:D18,D15)=3," Check: kloppen deze twee gele waarden met jullie administratie? Zie ook de invulinstructie.","")
B22: 19 | C22: …. dit aantal inroosterbare uren komt overeen met productiviteit van…. (wordt automatisch gevuld!) | D22: =IFERROR(D21/1878,"")
B23: 20 | C23: Begeleidingsintensiteit (wordt automatisch gevuld!) | D23: =IFERROR(IF(D17/D11/D8<Lijsten!F3,Lijsten!F3,IF(D17/D11/D8>Lijsten!G6,Lijsten!G6,D17/D11/D8)),"")
C25: =IFERROR(IF(D23>0,"Intensiteit: '"&INDEX(Lijsten!$F$3:$L$6,MATCH($D$23,Lijsten!F3:F6,1),3)&"'. Bandbreedte begeleidingsintensiteit: "&INDEX(Lijsten!$F$3:$L$6,MATCH($D$23,Lijsten!F3:F6,1),4)&". Tarief: "&TEXT(INDEX(Lijsten!$F$3:$L$6,MATCH(D23,Lijsten!F3:F6,1),7),"€00,00")& " per uur","Vul alle grijze velden in om de intensiteitsbepaling te zien."),"Vul alle grijze velden in om de intensiteitsbepaling te zien.") -> Vul alle grijze velden in om de intensiteitsbepaling te zien.

Sheet Dagverblijf groep 4
C3: Kenmerken dagverblijfgroep | D3: GEPLAND IN 2023
B4: 1 | C4: Hoeveel verschillende fysieke groepen heeft u met (exact) dit profiel? | F4: Voorbeeld: de groepen 'Eik' en 'Beuk' zijn identieke groepen? Vul 2 in.
B5: 2 | C5: Hoeveel % van deze capaciteit komt in 2023 ongeveer ten goede aan jeugdigen uit Haarlemmermeer? | F5: Waarde invullen van 0-100%. Deze informatie wordt gebruikt ter raming van de toekomstige capaciteit.
B6: 3 | C6: Gemiddeld aantal gepland aanwezige clïënten (alle, niet alleen de Haarlemmermeerse) per openingsdag | F6: Dit hoeven niet uitsluitend jeugdigen te zijn onder de Jeugdwet
B7: 4 | C7: Bezettingsgraad | F7: Kies een percentage tussen 92,5% en 100%
B8: 5 | C8: Gemiddeld aantal feitelijk aanwezig clïënten per openingsdag (wordt automatisch gevuld!) | D8: =D6*D7 -> 0
B9: 6 | C9: Aantal openingsdagen per week
B10: 7 | C10: Aantal openingsuren per week | F10: Het betreft hier de uren waarop jeugdigen aanwezig mogen en kunnen zijn.
B11: 8 | C11: Openingsuren per jaar, rekening houdend met vakanties en gesloten (feest- & studie-)dagen
B12: 9 | C12: Productie 2023 in 'cliënturen' (wordt automatisch gevuld!) | D12: =D11*D8 -> 0
B13: 10 | C13: Aantal openingsweken per jaar (wordt automatisch gevuld!) | D13: =IFERROR(D11/D10,0) -> 0
B14: 11 | C14: Aantal openingsdagen (wordt automatisch gevuld!) | D14: =IFERROR((D11/D10*D9),0) -> 0
B15: 12 | C15: Totaal formatie groepsbegeleiders op deze groep (in fte) | F15: Uitsluitend uren van groepsbegeleiders, niet van gedragswetenschapper of behandelaren.
B16: 13 | C16: Totaal bruto uren groepbegeleiders beschikbaar (= fte x 1.877, wordt automatisch gevuld) | D16: =D15*(365/7)*36 -> 0
B17: 14 | C17: ="Netto roosteruren groepsbegeleiders op de groep TIJDENS de "&TEXT(D11,"#.###")&" openingsuren per jaar" -> Netto roosteruren groepsbegeleiders op de groep TIJDENS de openingsuren per jaar | F17: (voorbeeld: altijd 2 begeleiders op de groep? Roosteruren = openingsuren per jaar x 2)
B18: 15 | C18: Netto aanwezigheidsuren BUITEN de openingsuren van groepsbegeleiders per openingsdag | F18: Let op: per openingsdag! Deze tijd is uitdrukkelijk bedoeld als voor- en nabereiding en NIET bedoeld voor het leveren van ambulante jeugdhulp.
B19: 16 | C19: Netto aanwezigheidsuren per jaar BUITEN de openingsuren (wordt automatisch gevuld!) | D19: =IF(D18>0,D14*D18,"")
B20: 17 | C20: Overige (bruto) tijd van groepbegeleiders (wordt automatisch gevuld!) | D20: =IF(COUNTA(D16:D18)=3,D16-D17-D18,"")
B21: 18 | C21: …. aantal inroosterbare uren per fte begeleider per jaar… (wordt automatisch gevuld!) | D21: =IFERROR((D17+D19)/D15,"") | F21: =IF(COUNTA(D17:D18,D15)=3," Check: kloppen deze twee gele waarden met jullie administratie? Zie ook de invulinstructie.","")
B22: 19 | C22: …. dit aantal inroosterbare uren komt overeen met productiviteit van…. (wordt automatisch gevuld!) | D22: =IFERROR(D21/1878,"")
B23: 20 | C23: Begeleidingsintensiteit (wordt automatisch gevuld!) | D23: =IFERROR(IF(D17/D11/D8<Lijsten!F3,Lijsten!F3,IF(D17/D11/D8>Lijsten!G6,Lijsten!G6,D17/D11/D8)),"")
C25: =IFERROR(IF(D23>0,"Intensiteit: '"&INDEX(Lijsten!$F$3:$L$6,MATCH($D$23,Lijsten!F3:F6,1),3)&"'. Bandbreedte begeleidingsintensiteit: "&INDEX(Lijsten!$F$3:$L$6,MATCH($D$23,Lijsten!F3:F6,1),4)&". Tarief: "&TEXT(INDEX(Lijsten!$F$3:$L$6,MATCH(D23,Lijsten!F3:F6,1),7),"€00,00")& " per uur","Vul alle grijze velden in om de intensiteitsbepaling te zien."),"Vul alle grijze velden in om de intensiteitsbepaling te zien.") -> Vul alle grijze velden in om de intensiteitsbepaling te zien.

Sheet Dagverblijf groep 5
C3: Kenmerken dagverblijfgroep | D3: GEPLAND IN 2023
B4: 1 | C4: Hoeveel verschillende fysieke groepen heeft u met (exact) dit profiel? | F4: Voorbeeld: de groepen 'Eik' en 'Beuk' zijn identieke groepen? Vul 2 in.
B5: 2 | C5: Hoeveel % van deze capaciteit komt in 2023 ongeveer ten goede aan jeugdigen uit Haarlemmermeer? | F5: Waarde invullen van 0-100%. Deze informatie wordt gebruikt ter raming van de toekomstige capaciteit.
B6: 3 | C6: Gemiddeld aantal gepland aanwezige clïënten (alle, niet alleen de Haarlemmermeerse) per openingsdag | F6: Dit hoeven niet uitsluitend jeugdigen te zijn onder de Jeugdwet
B7: 4 | C7: Bezettingsgraad | F7: Kies een percentage tussen 92,5% en 100%
B8: 5 | C8: Gemiddeld aantal feitelijk aanwezig clïënten per openingsdag (wordt automatisch gevuld!) | D8: =D6*D7 -> 0
B9: 6 | C9: Aantal openingsdagen per week
B10: 7 | C10: Aantal openingsuren per week | F10: Het betreft hier de uren waarop jeugdigen aanwezig mogen en kunnen zijn.
B11: 8 | C11: Openingsuren per jaar, rekening houdend met vakanties en gesloten (feest- & studie-)dagen
B12: 9 | C12: Productie 2023 in 'cliënturen' (wordt automatisch gevuld!) | D12: =D11*D8 -> 0
B13: 10 | C13: Aantal openingsweken per jaar (wordt automatisch gevuld!) | D13: =IFERROR(D11/D10,0) -> 0
B14: 11 | C14: Aantal openingsdagen (wordt automatisch gevuld!) | D14: =IFERROR((D11/D10*D9),0) -> 0
B15: 12 | C15: Totaal formatie groepsbegeleiders op deze groep (in fte) | F15: Uitsluitend uren van groepsbegeleiders, niet van gedragswetenschapper of behandelaren.
B16: 13 | C16: Totaal bruto uren groepbegeleiders beschikbaar (= fte x 1.877, wordt automatisch gevuld) | D16: =D15*(365/7)*36 -> 0
B17: 14 | C17: ="Netto roosteruren groepsbegeleiders op de groep TIJDENS de "&TEXT(D11,"#.###")&" openingsuren per jaar" -> Netto roosteruren groepsbegeleiders op de groep TIJDENS de openingsuren per jaar | F17: (voorbeeld: altijd 2 begeleiders op de groep? Roosteruren = openingsuren per jaar x 2)
B18: 15 | C18: Netto aanwezigheidsuren BUITEN de openingsuren van groepsbegeleiders per openingsdag | F18: Let op: per openingsdag! Deze tijd is uitdrukkelijk bedoeld als voor- en nabereiding en NIET bedoeld voor het leveren van ambulante jeugdhulp.
B19: 16 | C19: Netto aanwezigheidsuren per jaar BUITEN de openingsuren (wordt automatisch gevuld!) | D19: =IF(D18>0,D14*D18,"")
B20: 17 | C20: Overige (bruto) tijd van groepbegeleiders (wordt automatisch gevuld!) | D20: =IF(COUNTA(D16:D18)=3,D16-D17-D18,"")
B21: 18 | C21: …. aantal inroosterbare uren per fte begeleider per jaar… (wordt automatisch gevuld!) | D21: =IFERROR((D17+D19)/D15,"") | F21: =IF(COUNTA(D17:D18,D15)=3," Check: kloppen deze twee gele waarden met jullie administratie? Zie ook de invulinstructie.","")
B22: 19 | C22: …. dit aantal inroosterbare uren komt overeen met productiviteit van…. (wordt automatisch gevuld!) | D22: =IFERROR(D21/1878,"")
B23: 20 | C23: Begeleidingsintensiteit (wordt automatisch gevuld!) | D23: =IFERROR(IF(D17/D11/D8<Lijsten!F3,Lijsten!F3,IF(D17/D11/D8>Lijsten!G6,Lijsten!G6,D17/D11/D8)),"")
C25: =IFERROR(IF(D23>0,"Intensiteit: '"&INDEX(Lijsten!$F$3:$L$6,MATCH($D$23,Lijsten!F3:F6,1),3)&"'. Bandbreedte begeleidingsintensiteit: "&INDEX(Lijsten!$F$3:$L$6,MATCH($D$23,Lijsten!F3:F6,1),4)&". Tarief: "&TEXT(INDEX(Lijsten!$F$3:$L$6,MATCH(D23,Lijsten!F3:F6,1),7),"€00,00")& " per uur","Vul alle grijze velden in om de intensiteitsbepaling te zien."),"Vul alle grijze velden in om de intensiteitsbepaling te zien.") -> Vul alle grijze velden in om de intensiteitsbepaling te zien.

Sheet Dagverblijf groep 6
C3: Kenmerken dagverblijfgroep | D3: GEPLAND IN 2023
B4: 1 | C4: Hoeveel verschillende fysieke groepen heeft u met (exact) dit profiel? | F4: Voorbeeld: de groepen 'Eik' en 'Beuk' zijn identieke groepen? Vul 2 in.
B5: 2 | C5: Hoeveel % van deze capaciteit komt in 2023 ongeveer ten goede aan jeugdigen uit Haarlemmermeer? | F5: Waarde invullen van 0-100%. Deze informatie wordt gebruikt ter raming van de toekomstige capaciteit.
B6: 3 | C6: Gemiddeld aantal gepland aanwezige clïënten (alle, niet alleen de Haarlemmermeerse) per openingsdag | F6: Dit hoeven niet uitsluitend jeugdigen te zijn onder de Jeugdwet
B7: 4 | C7: Bezettingsgraad | F7: Kies een percentage tussen 92,5% en 100%
B8: 5 | C8: Gemiddeld aantal feitelijk aanwezig clïënten per openingsdag (wordt automatisch gevuld!) | D8: =D6*D7 -> 0
B9: 6 | C9: Aantal openingsdagen per week
B10: 7 | C10: Aantal openingsuren per week | F10: Het betreft hier de uren waarop jeugdigen aanwezig mogen en kunnen zijn.
B11: 8 | C11: Openingsuren per jaar, rekening houdend met vakanties en gesloten (feest- & studie-)dagen
B12: 9 | C12: Productie 2023 in 'cliënturen' (wordt automatisch gevuld!) | D12: =D11*D8 -> 0
B13: 10 | C13: Aantal openingsweken per jaar (wordt automatisch gevuld!) | D13: =IFERROR(D11/D10,0) -> 0
B14: 11 | C14: Aantal openingsdagen (wordt automatisch gevuld!) | D14: =IFERROR((D11/D10*D9),0) -> 0
B15: 12 | C15: Totaal formatie groepsbegeleiders op deze groep (in fte) | F15: Uitsluitend uren van groepsbegeleiders, niet van gedragswetenschapper of behandelaren.
B16: 13 | C16: Totaal bruto uren groepbegeleiders beschikbaar (= fte x 1.877, wordt automatisch gevuld) | D16: =D15*(365/7)*36 -> 0
B17: 14 | C17: ="Netto roosteruren groepsbegeleiders op de groep TIJDENS de "&TEXT(D11,"#.###")&" openingsuren per jaar" -> Netto roosteruren groepsbegeleiders op de groep TIJDENS de openingsuren per jaar | F17: (voorbeeld: altijd 2 begeleiders op de groep? Roosteruren = openingsuren per jaar x 2)
B18: 15 | C18: Netto aanwezigheidsuren BUITEN de openingsuren van groepsbegeleiders per openingsdag | F18: Let op: per openingsdag! Deze tijd is uitdrukkelijk bedoeld als voor- en nabereiding en NIET bedoeld voor het leveren van ambulante jeugdhulp.
B19: 16 | C19: Netto aanwezigheidsuren per jaar BUITEN de openingsuren (wordt automatisch gevuld!) | D19: =IF(D18>0,D14*D18,"")
B20: 17 | C20: Overige (bruto) tijd van groepbegeleiders (wordt automatisch gevuld!) | D20: =IF(COUNTA(D16:D18)=3,D16-D17-D18,"")
B21: 18 | C21: …. aantal inroosterbare uren per fte begeleider per jaar… (wordt automatisch gevuld!) | D21: =IFERROR((D17+D19)/D15,"") | F21: =IF(COUNTA(D17:D18,D15)=3," Check: kloppen deze twee gele waarden met jullie administratie? Zie ook de invulinstructie.","")
B22: 19 | C22: …. dit aantal inroosterbare uren komt overeen met productiviteit van…. (wordt automatisch gevuld!) | D22: =IFERROR(D21/1878,"")
B23: 20 | C23: Begeleidingsintensiteit (wordt automatisch gevuld!) | D23: =IFERROR(IF(D17/D11/D8<Lijsten!F3,Lijsten!F3,IF(D17/D11/D8>Lijsten!G6,Lijsten!G6,D17/D11/D8)),"")
C25: =IFERROR(IF(D23>0,"Intensiteit: '"&INDEX(Lijsten!$F$3:$L$6,MATCH($D$23,Lijsten!F3:F6,1),3)&"'. Bandbreedte begeleidingsintensiteit: "&INDEX(Lijsten!$F$3:$L$6,MATCH($D$23,Lijsten!F3:F6,1),4)&". Tarief: "&TEXT(INDEX(Lijsten!$F$3:$L$6,MATCH(D23,Lijsten!F3:F6,1),7),"€00,00")& " per uur","Vul alle grijze velden in om de intensiteitsbepaling te zien."),"Vul alle grijze velden in om de intensiteitsbepaling te zien.") -> Vul alle grijze velden in om de intensiteitsbepaling te zien.

Sheet Dagverblijf groep 7
C3: Kenmerken dagverblijfgroep | D3: GEPLAND IN 2023
B4: 1 | C4: Hoeveel verschillende fysieke groepen heeft u met (exact) dit profiel? | F4: Voorbeeld: de groepen 'Eik' en 'Beuk' zijn identieke groepen? Vul 2 in.
B5: 2 | C5: Hoeveel % van deze capaciteit komt in 2023 ongeveer ten goede aan jeugdigen uit Haarlemmermeer? | F5: Waarde invullen van 0-100%. Deze informatie wordt gebruikt ter raming van de toekomstige capaciteit.
B6: 3 | C6: Gemiddeld aantal gepland aanwezige clïënten (alle, niet alleen de Haarlemmermeerse) per openingsdag | F6: Dit hoeven niet uitsluitend jeugdigen te zijn onder de Jeugdwet
B7: 4 | C7: Bezettingsgraad | F7: Kies een percentage tussen 92,5% en 100%
B8: 5 | C8: Gemiddeld aantal feitelijk aanwezig clïënten per openingsdag (wordt automatisch gevuld!) | D8: =D6*D7 -> 0
B9: 6 | C9: Aantal openingsdagen per week
B10: 7 | C10: Aantal openingsuren per week | F10: Het betreft hier de uren waarop jeugdigen aanwezig mogen en kunnen zijn.
B11: 8 | C11: Openingsuren per jaar, rekening houdend met vakanties en gesloten (feest- & studie-)dagen
B12: 9 | C12: Productie 2023 in 'cliënturen' (wordt automatisch gevuld!) | D12: =D11*D8 -> 0
B13: 10 | C13: Aantal openingsweken per jaar (wordt automatisch gevuld!) | D13: =IFERROR(D11/D10,0) -> 0
B14: 11 | C14: Aantal openingsdagen (wordt automatisch gevuld!) | D14: =IFERROR((D11/D10*D9),0) -> 0
B15: 12 | C15: Totaal formatie groepsbegeleiders op deze groep (in fte) | F15: Uitsluitend uren van groepsbegeleiders, niet van gedragswetenschapper of behandelaren.
B16: 13 | C16: Totaal bruto uren groepbegeleiders beschikbaar (= fte x 1.877, wordt automatisch gevuld) | D16: =D15*(365/7)*36 -> 0
B17: 14 | C17: ="Netto roosteruren groepsbegeleiders op de groep TIJDENS de "&TEXT(D11,"#.###")&" openingsuren per jaar" -> Netto roosteruren groepsbegeleiders op de groep TIJDENS de openingsuren per jaar | F17: (voorbeeld: altijd 2 begeleiders op de groep? Roosteruren = openingsuren per jaar x 2)
B18: 15 | C18: Netto aanwezigheidsuren BUITEN de openingsuren van groepsbegeleiders per openingsdag | F18: Let op: per openingsdag! Deze tijd is uitdrukkelijk bedoeld als voor- en nabereiding en NIET bedoeld voor het leveren van ambulante jeugdhulp.
B19: 16 | C19: Netto aanwezigheidsuren per jaar BUITEN de openingsuren (wordt automatisch gevuld!) | D19: =IF(D18>0,D14*D18,"")
B20: 17 | C20: Overige (bruto) tijd van groepbegeleiders (wordt automatisch gevuld!) | D20: =IF(COUNTA(D16:D18)=3,D16-D17-D18,"")
B21: 18 | C21: …. aantal inroosterbare uren per fte begeleider per jaar… (wordt automatisch gevuld!) | D21: =IFERROR((D17+D19)/D15,"") | F21: =IF(COUNTA(D17:D18,D15)=3," Check: kloppen deze twee gele waarden met jullie administratie? Zie ook de invulinstructie.","")
B22: 19 | C22: …. dit aantal inroosterbare uren komt overeen met productiviteit van…. (wordt automatisch gevuld!) | D22: =IFERROR(D21/1878,"")
B23: 20 | C23: Begeleidingsintensiteit (wordt automatisch gevuld!) | D23: =IFERROR(IF(D17/D11/D8<Lijsten!F3,Lijsten!F3,IF(D17/D11/D8>Lijsten!G6,Lijsten!G6,D17/D11/D8)),"")
C25: =IFERROR(IF(D23>0,"Intensiteit: '"&INDEX(Lijsten!$F$3:$L$6,MATCH($D$23,Lijsten!F3:F6,1),3)&"'. Bandbreedte begeleidingsintensiteit: "&INDEX(Lijsten!$F$3:$L$6,MATCH($D$23,Lijsten!F3:F6,1),4)&". Tarief: "&TEXT(INDEX(Lijsten!$F$3:$L$6,MATCH(D23,Lijsten!F3:F6,1),7),"€00,00")& " per uur","Vul alle grijze velden in om de intensiteitsbepaling te zien."),"Vul alle grijze velden in om de intensiteitsbepaling te zien.") -> Vul alle grijze velden in om de intensiteitsbepaling te zien.

Sheet Dagverblijf groep 8
C3: Kenmerken dagverblijfgroep | D3: GEPLAND IN 2023
B4: 1 | C4: Hoeveel verschillende fysieke groepen heeft u met (exact) dit profiel? | F4: Voorbeeld: de groepen 'Eik' en 'Beuk' zijn identieke groepen? Vul 2 in.
B5: 2 | C5: Hoeveel % van deze capaciteit komt in 2023 ongeveer ten goede aan jeugdigen uit Haarlemmermeer? | F5: Waarde invullen van 0-100%. Deze informatie wordt gebruikt ter raming van de toekomstige capaciteit.
B6: 3 | C6: Gemiddeld aantal gepland aanwezige clïënten (alle, niet alleen de Haarlemmermeerse) per openingsdag | F6: Dit hoeven niet uitsluitend jeugdigen te zijn onder de Jeugdwet
B7: 4 | C7: Bezettingsgraad | F7: Kies een percentage tussen 92,5% en 100%
B8: 5 | C8: Gemiddeld aantal feitelijk aanwezig clïënten per openingsdag (wordt automatisch gevuld!) | D8: =D6*D7 -> 0
B9: 6 | C9: Aantal openingsdagen per week
B10: 7 | C10: Aantal openingsuren per week | F10: Het betreft hier de uren waarop jeugdigen aanwezig mogen en kunnen zijn.
B11: 8 | C11: Openingsuren per jaar, rekening houdend met vakanties en gesloten (feest- & studie-)dagen
B12: 9 | C12: Productie 2023 in 'cliënturen' (wordt automatisch gevuld!) | D12: =D11*D8 -> 0
B13: 10 | C13: Aantal openingsweken per jaar (wordt automatisch gevuld!) | D13: =IFERROR(D11/D10,0) -> 0
B14: 11 | C14: Aantal openingsdagen (wordt automatisch gevuld!) | D14: =IFERROR((D11/D10*D9),0) -> 0
B15: 12 | C15: Totaal formatie groepsbegeleiders op deze groep (in fte) | F15: Uitsluitend uren van groepsbegeleiders, niet van gedragswetenschapper of behandelaren.
B16: 13 | C16: Totaal bruto uren groepbegeleiders beschikbaar (= fte x 1.877, wordt automatisch gevuld) | D16: =D15*(365/7)*36 -> 0
B17: 14 | C17: ="Netto roosteruren groepsbegeleiders op de groep TIJDENS de "&TEXT(D11,"#.###")&" openingsuren per jaar" -> Netto roosteruren groepsbegeleiders op de groep TIJDENS de openingsuren per jaar | F17: (voorbeeld: altijd 2 begeleiders op de groep? Roosteruren = openingsuren per jaar x 2)
B18: 15 | C18: Netto aanwezigheidsuren BUITEN de openingsuren van groepsbegeleiders per openingsdag | F18: Let op: per openingsdag! Deze tijd is uitdrukkelijk bedoeld als voor- en nabereiding en NIET bedoeld voor het leveren van ambulante jeugdhulp.
B19: 16 | C19: Netto aanwezigheidsuren per jaar BUITEN de openingsuren (wordt automatisch gevuld!) | D19: =IF(D18>0,D14*D18,"")
B20: 17 | C20: Overige (bruto) tijd van groepbegeleiders (wordt automatisch gevuld!) | D20: =IF(COUNTA(D16:D18)=3,D16-D17-D18,"")
B21: 18 | C21: …. aantal inroosterbare uren per fte begeleider per jaar… (wordt automatisch gevuld!) | D21: =IFERROR((D17+D19)/D15,"") | F21: =IF(COUNTA(D17:D18,D15)=3," Check: kloppen deze twee gele waarden met jullie administratie? Zie ook de invulinstructie.","")
B22: 19 | C22: …. dit aantal inroosterbare uren komt overeen met productiviteit van…. (wordt automatisch gevuld!) | D22: =IFERROR(D21/1878,"")
B23: 20 | C23: Begeleidingsintensiteit (wordt automatisch gevuld!) | D23: =IFERROR(IF(D17/D11/D8<Lijsten!F3,Lijsten!F3,IF(D17/D11/D8>Lijsten!G6,Lijsten!G6,D17/D11/D8)),"")
C25: =IFERROR(IF(D23>0,"Intensiteit: '"&INDEX(Lijsten!$F$3:$L$6,MATCH($D$23,Lijsten!F3:F6,1),3)&"'. Bandbreedte begeleidingsintensiteit: "&INDEX(Lijsten!$F$3:$L$6,MATCH($D$23,Lijsten!F3:F6,1),4)&". Tarief: "&TEXT(INDEX(Lijsten!$F$3:$L$6,MATCH(D23,Lijsten!F3:F6,1),7),"€00,00")& " per uur","Vul alle grijze velden in om de intensiteitsbepaling te zien."),"Vul alle grijze velden in om de intensiteitsbepaling te zien.") -> Vul alle grijze velden in om de intensiteitsbepaling te zien.

Sheet Dagverblijf groep 9
C3: Kenmerken dagverblijfgroep | D3: GEPLAND IN 2023
B4: 1 | C4: Hoeveel verschillende fysieke groepen heeft u met (exact) dit profiel? | F4: Voorbeeld: de groepen 'Eik' en 'Beuk' zijn identieke groepen? Vul 2 in.
B5: 2 | C5: Hoeveel % van deze capaciteit komt in 2023 ongeveer ten goede aan jeugdigen uit Haarlemmermeer? | F5: Waarde invullen van 0-100%. Deze informatie wordt gebruikt ter raming van de toekomstige capaciteit.
B6: 3 | C6: Gemiddeld aantal gepland aanwezige clïënten (alle, niet alleen de Haarlemmermeerse) per openingsdag | F6: Dit hoeven niet uitsluitend jeugdigen te zijn onder de Jeugdwet
B7: 4 | C7: Bezettingsgraad | F7: Kies een percentage tussen 92,5% en 100%
B8: 5 | C8: Gemiddeld aantal feitelijk aanwezig clïënten per openingsdag (wordt automatisch gevuld!) | D8: =D6*D7 -> 0
B9: 6 | C9: Aantal openingsdagen per week
B10: 7 | C10: Aantal openingsuren per week | F10: Het betreft hier de uren waarop jeugdigen aanwezig mogen en kunnen zijn.
B11: 8 | C11: Openingsuren per jaar, rekening houdend met vakanties en gesloten (feest- & studie-)dagen
B12: 9 | C12: Productie 2023 in 'cliënturen' (wordt automatisch gevuld!) | D12: =D11*D8 -> 0
B13: 10 | C13: Aantal openingsweken per jaar (wordt automatisch gevuld!) | D13: =IFERROR(D11/D10,0) -> 0
B14: 11 | C14: Aantal openingsdagen (wordt automatisch gevuld!) | D14: =IFERROR((D11/D10*D9),0) -> 0
B15: 12 | C15: Totaal formatie groepsbegeleiders op deze groep (in fte) | F15: Uitsluitend uren van groepsbegeleiders, niet van gedragswetenschapper of behandelaren.
B16: 13 | C16: Totaal bruto uren groepbegeleiders beschikbaar (= fte x 1.877, wordt automatisch gevuld) | D16: =D15*(365/7)*36 -> 0
B17: 14 | C17: ="Netto roosteruren groepsbegeleiders op de groep TIJDENS de "&TEXT(D11,"#.###")&" openingsuren per jaar" -> Netto roosteruren groepsbegeleiders op de groep TIJDENS de openingsuren per jaar | F17: (voorbeeld: altijd 2 begeleiders op de groep? Roosteruren = openingsuren per jaar x 2)
B18: 15 | C18: Netto aanwezigheidsuren BUITEN de openingsuren van groepsbegeleiders per openingsdag | F18: Let op: per openingsdag! Deze tijd is uitdrukkelijk bedoeld als voor- en nabereiding en NIET bedoeld voor het leveren van ambulante jeugdhulp.
B19: 16 | C19: Netto aanwezigheidsuren per jaar BUITEN de openingsuren (wordt automatisch gevuld!) | D19: =IF(D18>0,D14*D18,"")
B20: 17 | C20: Overige (bruto) tijd van groepbegeleiders (wordt automatisch gevuld!) | D20: =IF(COUNTA(D16:D18)=3,D16-D17-D18,"")
B21: 18 | C21: …. aantal inroosterbare uren per fte begeleider per jaar… (wordt automatisch gevuld!) | D21: =IFERROR((D17+D19)/D15,"") | F21: =IF(COUNTA(D17:D18,D15)=3," Check: kloppen deze twee gele waarden met jullie administratie? Zie ook de invulinstructie.","")
B22: 19 | C22: …. dit aantal inroosterbare uren komt overeen met productiviteit van…. (wordt automatisch gevuld!) | D22: =IFERROR(D21/1878,"")
B23: 20 | C23: Begeleidingsintensiteit (wordt automatisch gevuld!) | D23: =IFERROR(IF(D17/D11/D8<Lijsten!F3,Lijsten!F3,IF(D17/D11/D8>Lijsten!G6,Lijsten!G6,D17/D11/D8)),"")
C25: =IFERROR(IF(D23>0,"Intensiteit: '"&INDEX(Lijsten!$F$3:$L$6,MATCH($D$23,Lijsten!F3:F6,1),3)&"'. Bandbreedte begeleidingsintensiteit: "&INDEX(Lijsten!$F$3:$L$6,MATCH($D$23,Lijsten!F3:F6,1),4)&". Tarief: "&TEXT(INDEX(Lijsten!$F$3:$L$6,MATCH(D23,Lijsten!F3:F6,1),7),"€00,00")& " per uur","Vul alle grijze velden in om de intensiteitsbepaling te zien."),"Vul alle grijze velden in om de intensiteitsbepaling te zien.") -> Vul alle grijze velden in om de intensiteitsbepaling te zien.

Sheet Dagverblijf groep 10
C3: Kenmerken dagverblijfgroep | D3: GEPLAND IN 2023
B4: 1 | C4: Hoeveel verschillende fysieke groepen heeft u met (exact) dit profiel? | F4: Voorbeeld: de groepen 'Eik' en 'Beuk' zijn identieke groepen? Vul 2 in.
B5: 2 | C5: Hoeveel % van deze capaciteit komt in 2023 ongeveer ten goede aan jeugdigen uit Haarlemmermeer? | F5: Waarde invullen van 0-100%. Deze informatie wordt gebruikt ter raming van de toekomstige capaciteit.
B6: 3 | C6: Gemiddeld aantal gepland aanwezige clïënten (alle, niet alleen de Haarlemmermeerse) per openingsdag | F6: Dit hoeven niet uitsluitend jeugdigen te zijn onder de Jeugdwet
B7: 4 | C7: Bezettingsgraad | F7: Kies een percentage tussen 92,5% en 100%
B8: 5 | C8: Gemiddeld aantal feitelijk aanwezig clïënten per openingsdag (wordt automatisch gevuld!) | D8: =D6*D7 -> 0
B9: 6 | C9: Aantal openingsdagen per week
B10: 7 | C10: Aantal openingsuren per week | F10: Het betreft hier de uren waarop jeugdigen aanwezig mogen en kunnen zijn.
B11: 8 | C11: Openingsuren per jaar, rekening houdend met vakanties en gesloten (feest- & studie-)dagen
B12: 9 | C12: Productie 2023 in 'cliënturen' (wordt automatisch gevuld!) | D12: =D11*D8 -> 0
B13: 10 | C13: Aantal openingsweken per jaar (wordt automatisch gevuld!) | D13: =IFERROR(D11/D10,0) -> 0
B14: 11 | C14: Aantal openingsdagen (wordt automatisch gevuld!) | D14: =IFERROR((D11/D10*D9),0) -> 0
B15: 12 | C15: Totaal formatie groepsbegeleiders op deze groep (in fte) | F15: Uitsluitend uren van groepsbegeleiders, niet van gedragswetenschapper of behandelaren.
B16: 13 | C16: Totaal bruto uren groepbegeleiders beschikbaar (= fte x 1.877, wordt automatisch gevuld) | D16: =D15*(365/7)*36 -> 0
B17: 14 | C17: ="Netto roosteruren groepsbegeleiders op de groep TIJDENS de "&TEXT(D11,"#.###")&" openingsuren per jaar" -> Netto roosteruren groepsbegeleiders op de groep TIJDENS de openingsuren per jaar | F17: (voorbeeld: altijd 2 begeleiders op de groep? Roosteruren = openingsuren per jaar x 2)
B18: 15 | C18: Netto aanwezigheidsuren BUITEN de openingsuren van groepsbegeleiders per openingsdag | F18: Let op: per openingsdag! Deze tijd is uitdrukkelijk bedoeld als voor- en nabereiding en NIET bedoeld voor het leveren van ambulante jeugdhulp.
B19: 16 | C19: Netto aanwezigheidsuren per jaar BUITEN de openingsuren (wordt automatisch gevuld!) | D19: =IF(D18>0,D14*D18,"")
B20: 17 | C20: Overige (bruto) tijd van groepbegeleiders (wordt automatisch gevuld!) | D20: =IF(COUNTA(D16:D18)=3,D16-D17-D18,"")
B21: 18 | C21: …. aantal inroosterbare uren per fte begeleider per jaar… (wordt automatisch gevuld!) | D21: =IFERROR((D17+D19)/D15,"") | F21: =IF(COUNTA(D17:D18,D15)=3," Check: kloppen deze twee gele waarden met jullie administratie? Zie ook de invulinstructie.","")
B22: 19 | C22: …. dit aantal inroosterbare uren komt overeen met productiviteit van…. (wordt automatisch gevuld!) | D22: =IFERROR(D21/1878,"")
B23: 20 | C23: Begeleidingsintensiteit (wordt automatisch gevuld!) | D23: =IFERROR(IF(D17/D11/D8<Lijsten!F3,Lijsten!F3,IF(D17/D11/D8>Lijsten!G6,Lijsten!G6,D17/D11/D8)),"")
C25: =IFERROR(IF(D23>0,"Intensiteit: '"&INDEX(Lijsten!$F$3:$L$6,MATCH($D$23,Lijsten!F3:F6,1),3)&"'. Bandbreedte begeleidingsintensiteit: "&INDEX(Lijsten!$F$3:$L$6,MATCH($D$23,Lijsten!F3:F6,1),4)&". Tarief: "&TEXT(INDEX(Lijsten!$F$3:$L$6,MATCH(D23,Lijsten!F3:F6,1),7),"€00,00")& " per uur","Vul alle grijze velden in om de intensiteitsbepaling te zien."),"Vul alle grijze velden in om de intensiteitsbepaling te zien.") -> Vul alle grijze velden in om de intensiteitsbepaling te zien.

Sheet Dagverblijf groep 11
C3: Kenmerken dagverblijfgroep | D3: GEPLAND IN 2023
B4: 1 | C4: Hoeveel verschillende fysieke groepen heeft u met (exact) dit profiel? | F4: Voorbeeld: de groepen 'Eik' en 'Beuk' zijn identieke groepen? Vul 2 in.
B5: 2 | C5: Hoeveel % van deze capaciteit komt in 2023 ongeveer ten goede aan jeugdigen uit Haarlemmermeer? | F5: Waarde invullen van 0-100%. Deze informatie wordt gebruikt ter raming van de toekomstige capaciteit.
B6: 3 | C6: Gemiddeld aantal gepland aanwezige clïënten (alle, niet alleen de Haarlemmermeerse) per openingsdag | F6: Dit hoeven niet uitsluitend jeugdigen te zijn onder de Jeugdwet
B7: 4 | C7: Bezettingsgraad | F7: Kies een percentage tussen 92,5% en 100%
B8: 5 | C8: Gemiddeld aantal feitelijk aanwezig clïënten per openingsdag (wordt automatisch gevuld!) | D8: =D6*D7 -> 0
B9: 6 | C9: Aantal openingsdagen per week
B10: 7 | C10: Aantal openingsuren per week | F10: Het betreft hier de uren waarop jeugdigen aanwezig mogen en kunnen zijn.
B11: 8 | C11: Openingsuren per jaar, rekening houdend met vakanties en gesloten (feest- & studie-)dagen
B12: 9 | C12: Productie 2023 in 'cliënturen' (wordt automatisch gevuld!) | D12: =D11*D8 -> 0
B13: 10 | C13: Aantal openingsweken per jaar (wordt automatisch gevuld!) | D13: =IFERROR(D11/D10,0) -> 0
B14: 11 | C14: Aantal openingsdagen (wordt automatisch gevuld!) | D14: =IFERROR((D11/D10*D9),0) -> 0
B15: 12 | C15: Totaal formatie groepsbegeleiders op deze groep (in fte) | F15: Uitsluitend uren van groepsbegeleiders, niet van gedragswetenschapper of behandelaren.
B16: 13 | C16: Totaal bruto uren groepbegeleiders beschikbaar (= fte x 1.877, wordt automatisch gevuld) | D16: =D15*(365/7)*36 -> 0
B17: 14 | C17: ="Netto roosteruren groepsbegeleiders op de groep TIJDENS de "&TEXT(D11,"#.###")&" openingsuren per jaar" -> Netto roosteruren groepsbegeleiders op de groep TIJDENS de openingsuren per jaar | F17: (voorbeeld: altijd 2 begeleiders op de groep? Roosteruren = openingsuren per jaar x 2)
B18: 15 | C18: Netto aanwezigheidsuren BUITEN de openingsuren van groepsbegeleiders per openingsdag | F18: Let op: per openingsdag! Deze tijd is uitdrukkelijk bedoeld als voor- en nabereiding en NIET bedoeld voor het leveren van ambulante jeugdhulp.
B19: 16 | C19: Netto aanwezigheidsuren per jaar BUITEN de openingsuren (wordt automatisch gevuld!) | D19: =IF(D18>0,D14*D18,"")
B20: 17 | C20: Overige (bruto) tijd van groepbegeleiders (wordt automatisch gevuld!) | D20: =IF(COUNTA(D16:D18)=3,D16-D17-D18,"")
B21: 18 | C21: …. aantal inroosterbare uren per fte begeleider per jaar… (wordt automatisch gevuld!) | D21: =IFERROR((D17+D19)/D15,"") | F21: =IF(COUNTA(D17:D18,D15)=3," Check: kloppen deze twee gele waarden met jullie administratie? Zie ook de invulinstructie.","")
B22: 19 | C22: …. dit aantal inroosterbare uren komt overeen met productiviteit van…. (wordt automatisch gevuld!) | D22: =IFERROR(D21/1878,"")
B23: 20 | C23: Begeleidingsintensiteit (wordt automatisch gevuld!) | D23: =IFERROR(IF(D17/D11/D8<Lijsten!F3,Lijsten!F3,IF(D17/D11/D8>Lijsten!G6,Lijsten!G6,D17/D11/D8)),"")
C25: =IFERROR(IF(D23>0,"Intensiteit: '"&INDEX(Lijsten!$F$3:$L$6,MATCH($D$23,Lijsten!F3:F6,1),3)&"'. Bandbreedte begeleidingsintensiteit: "&INDEX(Lijsten!$F$3:$L$6,MATCH($D$23,Lijsten!F3:F6,1),4)&". Tarief: "&TEXT(INDEX(Lijsten!$F$3:$L$6,MATCH(D23,Lijsten!F3:F6,1),7),"€00,00")& " per uur","Vul alle grijze velden in om de intensiteitsbepaling te zien."),"Vul alle grijze velden in om de intensiteitsbepaling te zien.") -> Vul alle grijze velden in om de intensiteitsbepaling te zien.

Sheet Dagverblijf groep 12
C3: Kenmerken dagverblijfgroep | D3: GEPLAND IN 2023
B4: 1 | C4: Hoeveel verschillende fysieke groepen heeft u met (exact) dit profiel? | F4: Voorbeeld: de groepen 'Eik' en 'Beuk' zijn identieke groepen? Vul 2 in.
B5: 2 | C5: Hoeveel % van deze capaciteit komt in 2023 ongeveer ten goede aan jeugdigen uit Haarlemmermeer? | F5: Waarde invullen van 0-100%. Deze informatie wordt gebruikt ter raming van de toekomstige capaciteit.
B6: 3 | C6: Gemiddeld aantal gepland aanwezige clïënten (alle, niet alleen de Haarlemmermeerse) per openingsdag | F6: Dit hoeven niet uitsluitend jeugdigen te zijn onder de Jeugdwet
B7: 4 | C7: Bezettingsgraad | F7: Kies een percentage tussen 92,5% en 100%
B8: 5 | C8: Gemiddeld aantal feitelijk aanwezig clïënten per openingsdag (wordt automatisch gevuld!) | D8: =D6*D7 -> 0
B9: 6 | C9: Aantal openingsdagen per week
B10: 7 | C10: Aantal openingsuren per week | F10: Het betreft hier de uren waarop jeugdigen aanwezig mogen en kunnen zijn.
B11: 8 | C11: Openingsuren per jaar, rekening houdend met vakanties en gesloten (feest- & studie-)dagen
B12: 9 | C12: Productie 2023 in 'cliënturen' (wordt automatisch gevuld!) | D12: =D11*D8 -> 0
B13: 10 | C13: Aantal openingsweken per jaar (wordt automatisch gevuld!) | D13: =IFERROR(D11/D10,0) -> 0
B14: 11 | C14: Aantal openingsdagen (wordt automatisch gevuld!) | D14: =IFERROR((D11/D10*D9),0) -> 0
B15: 12 | C15: Totaal formatie groepsbegeleiders op deze groep (in fte) | F15: Uitsluitend uren van groepsbegeleiders, niet van gedragswetenschapper of behandelaren.
B16: 13 | C16: Totaal bruto uren groepbegeleiders beschikbaar (= fte x 1.877, wordt automatisch gevuld) | D16: =D15*(365/7)*36 -> 0
B17: 14 | C17: ="Netto roosteruren groepsbegeleiders op de groep TIJDENS de "&TEXT(D11,"#.###")&" openingsuren per jaar" -> Netto roosteruren groepsbegeleiders op de groep TIJDENS de openingsuren per jaar | F17: (voorbeeld: altijd 2 begeleiders op de groep? Roosteruren = openingsuren per jaar x 2)
B18: 15 | C18: Netto aanwezigheidsuren BUITEN de openingsuren van groepsbegeleiders per openingsdag | F18: Let op: per openingsdag! Deze tijd is uitdrukkelijk bedoeld als voor- en nabereiding en NIET bedoeld voor het leveren van ambulante jeugdhulp.
B19: 16 | C19: Netto aanwezigheidsuren per jaar BUITEN de openingsuren (wordt automatisch gevuld!) | D19: =IF(D18>0,D14*D18,"")
B20: 17 | C20: Overige (bruto) tijd van groepbegeleiders (wordt automatisch gevuld!) | D20: =IF(COUNTA(D16:D18)=3,D16-D17-D18,"")
B21: 18 | C21: …. aantal inroosterbare uren per fte begeleider per jaar… (wordt automatisch gevuld!) | D21: =IFERROR((D17+D19)/D15,"") | F21: =IF(COUNTA(D17:D18,D15)=3," Check: kloppen deze twee gele waarden met jullie administratie? Zie ook de invulinstructie.","")
B22: 19 | C22: …. dit aantal inroosterbare uren komt overeen met productiviteit van…. (wordt automatisch gevuld!) | D22: =IFERROR(D21/1878,"")
B23: 20 | C23: Begeleidingsintensiteit (wordt automatisch gevuld!) | D23: =IFERROR(IF(D17/D11/D8<Lijsten!F3,Lijsten!F3,IF(D17/D11/D8>Lijsten!G6,Lijsten!G6,D17/D11/D8)),"")
C25: =IFERROR(IF(D23>0,"Intensiteit: '"&INDEX(Lijsten!$F$3:$L$6,MATCH($D$23,Lijsten!F3:F6,1),3)&"'. Bandbreedte begeleidingsintensiteit: "&INDEX(Lijsten!$F$3:$L$6,MATCH($D$23,Lijsten!F3:F6,1),4)&". Tarief: "&TEXT(INDEX(Lijsten!$F$3:$L$6,MATCH(D23,Lijsten!F3:F6,1),7),"€00,00")& " per uur","Vul alle grijze velden in om de intensiteitsbepaling te zien."),"Vul alle grijze velden in om de intensiteitsbepaling te zien.") -> Vul alle grijze velden in om de intensiteitsbepaling te zien.

Sheet Dagverblijf groep 13
C3: Kenmerken dagverblijfgroep | D3: GEPLAND IN 2023
B4: 1 | C4: Hoeveel verschillende fysieke groepen heeft u met (exact) dit profiel? | F4: Voorbeeld: de groepen 'Eik' en 'Beuk' zijn identieke groepen? Vul 2 in.
B5: 2 | C5: Hoeveel % van deze capaciteit komt in 2023 ongeveer ten goede aan jeugdigen uit Haarlemmermeer? | F5: Waarde invullen van 0-100%. Deze informatie wordt gebruikt ter raming van de toekomstige capaciteit.
B6: 3 | C6: Gemiddeld aantal gepland aanwezige clïënten (alle, niet alleen de Haarlemmermeerse) per openingsdag | F6: Dit hoeven niet uitsluitend jeugdigen te zijn onder de Jeugdwet
B7: 4 | C7: Bezettingsgraad | F7: Kies een percentage tussen 92,5% en 100%
B8: 5 | C8: Gemiddeld aantal feitelijk aanwezig clïënten per openingsdag (wordt automatisch gevuld!) | D8: =D6*D7 -> 0
B9: 6 | C9: Aantal openingsdagen per week
B10: 7 | C10: Aantal openingsuren per week | F10: Het betreft hier de uren waarop jeugdigen aanwezig mogen en kunnen zijn.
B11: 8 | C11: Openingsuren per jaar, rekening houdend met vakanties en gesloten (feest- & studie-)dagen
B12: 9 | C12: Productie 2023 in 'cliënturen' (wordt automatisch gevuld!) | D12: =D11*D8 -> 0
B13: 10 | C13: Aantal openingsweken per jaar (wordt automatisch gevuld!) | D13: =IFERROR(D11/D10,0) -> 0
B14: 11 | C14: Aantal openingsdagen (wordt automatisch gevuld!) | D14: =IFERROR((D11/D10*D9),0) -> 0
B15: 12 | C15: Totaal formatie groepsbegeleiders op deze groep (in fte) | F15: Uitsluitend uren van groepsbegeleiders, niet van gedragswetenschapper of behandelaren.
B16: 13 | C16: Totaal bruto uren groepbegeleiders beschikbaar (= fte x 1.877, wordt automatisch gevuld) | D16: =D15*(365/7)*36 -> 0
B17: 14 | C17: ="Netto roosteruren groepsbegeleiders op de groep TIJDENS de "&TEXT(D11,"#.###")&" openingsuren per jaar" -> Netto roosteruren groepsbegeleiders op de groep TIJDENS de openingsuren per jaar | F17: (voorbeeld: altijd 2 begeleiders op de groep? Roosteruren = openingsuren per jaar x 2)
B18: 15 | C18: Netto aanwezigheidsuren BUITEN de openingsuren van groepsbegeleiders per openingsdag | F18: Let op: per openingsdag! Deze tijd is uitdrukkelijk bedoeld als voor- en nabereiding en NIET bedoeld voor het leveren van ambulante jeugdhulp.
B19: 16 | C19: Netto aanwezigheidsuren per jaar BUITEN de openingsuren (wordt automatisch gevuld!) | D19: =IF(D18>0,D14*D18,"")
B20: 17 | C20: Overige (bruto) tijd van groepbegeleiders (wordt automatisch gevuld!) | D20: =IF(COUNTA(D16:D18)=3,D16-D17-D18,"")
B21: 18 | C21: …. aantal inroosterbare uren per fte begeleider per jaar… (wordt automatisch gevuld!) | D21: =IFERROR((D17+D19)/D15,"") | F21: =IF(COUNTA(D17:D18,D15)=3," Check: kloppen deze twee gele waarden met jullie administratie? Zie ook de invulinstructie.","")
B22: 19 | C22: …. dit aantal inroosterbare uren komt overeen met productiviteit van…. (wordt automatisch gevuld!) | D22: =IFERROR(D21/1878,"")
B23: 20 | C23: Begeleidingsintensiteit (wordt automatisch gevuld!) | D23: =IFERROR(IF(D17/D11/D8<Lijsten!F3,Lijsten!F3,IF(D17/D11/D8>Lijsten!G6,Lijsten!G6,D17/D11/D8)),"")
C25: =IFERROR(IF(D23>0,"Intensiteit: '"&INDEX(Lijsten!$F$3:$L$6,MATCH($D$23,Lijsten!F3:F6,1),3)&"'. Bandbreedte begeleidingsintensiteit: "&INDEX(Lijsten!$F$3:$L$6,MATCH($D$23,Lijsten!F3:F6,1),4)&". Tarief: "&TEXT(INDEX(Lijsten!$F$3:$L$6,MATCH(D23,Lijsten!F3:F6,1),7),"€00,00")& " per uur","Vul alle grijze velden in om de intensiteitsbepaling te zien."),"Vul alle grijze velden in om de intensiteitsbepaling te zien.") -> Vul alle grijze velden in om de intensiteitsbepaling te zien.

Sheet Dagverblijf groep 14
C3: Kenmerken dagverblijfgroep | D3: GEPLAND IN 2023
B4: 1 | C4: Hoeveel verschillende fysieke groepen heeft u met (exact) dit profiel? | F4: Voorbeeld: de groepen 'Eik' en 'Beuk' zijn identieke groepen? Vul 2 in.
B5: 2 | C5: Hoeveel % van deze capaciteit komt in 2023 ongeveer ten goede aan jeugdigen uit Haarlemmermeer? | F5: Waarde invullen van 0-100%. Deze informatie wordt gebruikt ter raming van de toekomstige capaciteit.
B6: 3 | C6: Gemiddeld aantal gepland aanwezige clïënten (alle, niet alleen de Haarlemmermeerse) per openingsdag | F6: Dit hoeven niet uitsluitend jeugdigen te zijn onder de Jeugdwet
B7: 4 | C7: Bezettingsgraad | F7: Kies een percentage tussen 92,5% en 100%
B8: 5 | C8: Gemiddeld aantal feitelijk aanwezig clïënten per openingsdag (wordt automatisch gevuld!) | D8: =D6*D7 -> 0
B9: 6 | C9: Aantal openingsdagen per week
B10: 7 | C10: Aantal openingsuren per week | F10: Het betreft hier de uren waarop jeugdigen aanwezig mogen en kunnen zijn.
B11: 8 | C11: Openingsuren per jaar, rekening houdend met vakanties en gesloten (feest- & studie-)dagen
B12: 9 | C12: Productie 2023 in 'cliënturen' (wordt automatisch gevuld!) | D12: =D11*D8 -> 0
B13: 10 | C13: Aantal openingsweken per jaar (wordt automatisch gevuld!) | D13: =IFERROR(D11/D10,0) -> 0
B14: 11 | C14: Aantal openingsdagen (wordt automatisch gevuld!) | D14: =IFERROR((D11/D10*D9),0) -> 0
B15: 12 | C15: Totaal formatie groepsbegeleiders op deze groep (in fte) | F15: Uitsluitend uren van groepsbegeleiders, niet van gedragswetenschapper of behandelaren.
B16: 13 | C16: Totaal bruto uren groepbegeleiders beschikbaar (= fte x 1.877, wordt automatisch gevuld) | D16: =D15*(365/7)*36 -> 0
B17: 14 | C17: ="Netto roosteruren groepsbegeleiders op de groep TIJDENS de "&TEXT(D11,"#.###")&" openingsuren per jaar" -> Netto roosteruren groepsbegeleiders op de groep TIJDENS de openingsuren per jaar | F17: (voorbeeld: altijd 2 begeleiders op de groep? Roosteruren = openingsuren per jaar x 2)
B18: 15 | C18: Netto aanwezigheidsuren BUITEN de openingsuren van groepsbegeleiders per openingsdag | F18: Let op: per openingsdag! Deze tijd is uitdrukkelijk bedoeld als voor- en nabereiding en NIET bedoeld voor het leveren van ambulante jeugdhulp.
B19: 16 | C19: Netto aanwezigheidsuren per jaar BUITEN de openingsuren (wordt automatisch gevuld!) | D19: =IF(D18>0,D14*D18,"")
B20: 17 | C20: Overige (bruto) tijd van groepbegeleiders (wordt automatisch gevuld!) | D20: =IF(COUNTA(D16:D18)=3,D16-D17-D18,"")
B21: 18 | C21: …. aantal inroosterbare uren per fte begeleider per jaar… (wordt automatisch gevuld!) | D21: =IFERROR((D17+D19)/D15,"") | F21: =IF(COUNTA(D17:D18,D15)=3," Check: kloppen deze twee gele waarden met jullie administratie? Zie ook de invulinstructie.","")
B22: 19 | C22: …. dit aantal inroosterbare uren komt overeen met productiviteit van…. (wordt automatisch gevuld!) | D22: =IFERROR(D21/1878,"")
B23: 20 | C23: Begeleidingsintensiteit (wordt automatisch gevuld!) | D23: =IFERROR(IF(D17/D11/D8<Lijsten!F3,Lijsten!F3,IF(D17/D11/D8>Lijsten!G6,Lijsten!G6,D17/D11/D8)),"")
C25: =IFERROR(IF(D23>0,"Intensiteit: '"&INDEX(Lijsten!$F$3:$L$6,MATCH($D$23,Lijsten!F3:F6,1),3)&"'. Bandbreedte begeleidingsintensiteit: "&INDEX(Lijsten!$F$3:$L$6,MATCH($D$23,Lijsten!F3:F6,1),4)&". Tarief: "&TEXT(INDEX(Lijsten!$F$3:$L$6,MATCH(D23,Lijsten!F3:F6,1),7),"€00,00")& " per uur","Vul alle grijze velden in om de intensiteitsbepaling te zien."),"Vul alle grijze velden in om de intensiteitsbepaling te zien.") -> Vul alle grijze velden in om de intensiteitsbepaling te zien.

Sheet Dagverblijf groep 15
C3: Kenmerken dagverblijfgroep | D3: GEPLAND IN 2023
B4: 1 | C4: Hoeveel verschillende fysieke groepen heeft u met (exact) dit profiel? | F4: Voorbeeld: de groepen 'Eik' en 'Beuk' zijn identieke groepen? Vul 2 in.
B5: 2 | C5: Hoeveel % van deze capaciteit komt in 2023 ongeveer ten goede aan jeugdigen uit Haarlemmermeer? | F5: Waarde invullen van 0-100%. Deze informatie wordt gebruikt ter raming van de toekomstige capaciteit.
B6: 3 | C6: Gemiddeld aantal gepland aanwezige clïënten (alle, niet alleen de Haarlemmermeerse) per openingsdag | F6: Dit hoeven niet uitsluitend jeugdigen te zijn onder de Jeugdwet
B7: 4 | C7: Bezettingsgraad | F7: Kies een percentage tussen 92,5% en 100%
B8: 5 | C8: Gemiddeld aantal feitelijk aanwezig clïënten per openingsdag (wordt automatisch gevuld!) | D8: =D6*D7 -> 0
B9: 6 | C9: Aantal openingsdagen per week
B10: 7 | C10: Aantal openingsuren per week | F10: Het betreft hier de uren waarop jeugdigen aanwezig mogen en kunnen zijn.
B11: 8 | C11: Openingsuren per jaar, rekening houdend met vakanties en gesloten (feest- & studie-)dagen
B12: 9 | C12: Productie 2023 in 'cliënturen' (wordt automatisch gevuld!) | D12: =D11*D8 -> 0
B13: 10 | C13: Aantal openingsweken per jaar (wordt automatisch gevuld!) | D13: =IFERROR(D11/D10,0) -> 0
B14: 11 | C14: Aantal openingsdagen (wordt automatisch gevuld!) | D14: =IFERROR((D11/D10*D9),0) -> 0
B15: 12 | C15: Totaal formatie groepsbegeleiders op deze groep (in fte) | F15: Uitsluitend uren van groepsbegeleiders, niet van gedragswetenschapper of behandelaren.
B16: 13 | C16: Totaal bruto uren groepbegeleiders beschikbaar (= fte x 1.877, wordt automatisch gevuld) | D16: =D15*(365/7)*36 -> 0
B17: 14 | C17: ="Netto roosteruren groepsbegeleiders op de groep TIJDENS de "&TEXT(D11,"#.###")&" openingsuren per jaar" -> Netto roosteruren groepsbegeleiders op de groep TIJDENS de openingsuren per jaar | F17: (voorbeeld: altijd 2 begeleiders op de groep? Roosteruren = openingsuren per jaar x 2)
B18: 15 | C18: Netto aanwezigheidsuren BUITEN de openingsuren van groepsbegeleiders per openingsdag | F18: Let op: per openingsdag! Deze tijd is uitdrukkelijk bedoeld als voor- en nabereiding en NIET bedoeld voor het leveren van ambulante jeugdhulp.
B19: 16 | C19: Netto aanwezigheidsuren per jaar BUITEN de openingsuren (wordt automatisch gevuld!) | D19: =IF(D18>0,D14*D18,"")
B20: 17 | C20: Overige (bruto) tijd van groepbegeleiders (wordt automatisch gevuld!) | D20: =IF(COUNTA(D16:D18)=3,D16-D17-D18,"")
B21: 18 | C21: …. aantal inroosterbare uren per fte begeleider per jaar… (wordt automatisch gevuld!) | D21: =IFERROR((D17+D19)/D15,"") | F21: =IF(COUNTA(D17:D18,D15)=3," Check: kloppen deze twee gele waarden met jullie administratie? Zie ook de invulinstructie.","")
B22: 19 | C22: …. dit aantal inroosterbare uren komt overeen met productiviteit van…. (wordt automatisch gevuld!) | D22: =IFERROR(D21/1878,"")
B23: 20 | C23: Begeleidingsintensiteit (wordt automatisch gevuld!) | D23: =IFERROR(IF(D17/D11/D8<Lijsten!F3,Lijsten!F3,IF(D17/D11/D8>Lijsten!G6,Lijsten!G6,D17/D11/D8)),"")
C25: =IFERROR(IF(D23>0,"Intensiteit: '"&INDEX(Lijsten!$F$3:$L$6,MATCH($D$23,Lijsten!F3:F6,1),3)&"'. Bandbreedte begeleidingsintensiteit: "&INDEX(Lijsten!$F$3:$L$6,MATCH($D$23,Lijsten!F3:F6,1),4)&". Tarief: "&TEXT(INDEX(Lijsten!$F$3:$L$6,MATCH(D23,Lijsten!F3:F6,1),7),"€00,00")& " per uur","Vul alle grijze velden in om de intensiteitsbepaling te zien."),"Vul alle grijze velden in om de intensiteitsbepaling te zien.") -> Vul alle grijze velden in om de intensiteitsbepaling te zien.

Sheet Dagverblijf groep 16
C3: Kenmerken dagverblijfgroep | D3: GEPLAND IN 2023
B4: 1 | C4: Hoeveel verschillende fysieke groepen heeft u met (exact) dit profiel? | F4: Voorbeeld: de groepen 'Eik' en 'Beuk' zijn identieke groepen? Vul 2 in.
B5: 2 | C5: Hoeveel % van deze capaciteit komt in 2023 ongeveer ten goede aan jeugdigen uit Haarlemmermeer? | F5: Waarde invullen van 0-100%. Deze informatie wordt gebruikt ter raming van de toekomstige capaciteit.
B6: 3 | C6: Gemiddeld aantal gepland aanwezige clïënten (alle, niet alleen de Haarlemmermeerse) per openingsdag | F6: Dit hoeven niet uitsluitend jeugdigen te zijn onder de Jeugdwet
B7: 4 | C7: Bezettingsgraad | F7: Kies een percentage tussen 92,5% en 100%
B8: 5 | C8: Gemiddeld aantal feitelijk aanwezig clïënten per openingsdag (wordt automatisch gevuld!) | D8: =D6*D7 -> 0
B9: 6 | C9: Aantal openingsdagen per week
B10: 7 | C10: Aantal openingsuren per week | F10: Het betreft hier de uren waarop jeugdigen aanwezig mogen en kunnen zijn.
B11: 8 | C11: Openingsuren per jaar, rekening houdend met vakanties en gesloten (feest- & studie-)dagen
B12: 9 | C12: Productie 2023 in 'cliënturen' (wordt automatisch gevuld!) | D12: =D11*D8 -> 0
B13: 10 | C13: Aantal openingsweken per jaar (wordt automatisch gevuld!) | D13: =IFERROR(D11/D10,0) -> 0
B14: 11 | C14: Aantal openingsdagen (wordt automatisch gevuld!) | D14: =IFERROR((D11/D10*D9),0) -> 0
B15: 12 | C15: Totaal formatie groepsbegeleiders op deze groep (in fte) | F15: Uitsluitend uren van groepsbegeleiders, niet van gedragswetenschapper of behandelaren.
B16: 13 | C16: Totaal bruto uren groepbegeleiders beschikbaar (= fte x 1.877, wordt automatisch gevuld) | D16: =D15*(365/7)*36 -> 0
B17: 14 | C17: ="Netto roosteruren groepsbegeleiders op de groep TIJDENS de "&TEXT(D11,"#.###")&" openingsuren per jaar" -> Netto roosteruren groepsbegeleiders op de groep TIJDENS de openingsuren per jaar | F17: (voorbeeld: altijd 2 begeleiders op de groep? Roosteruren = openingsuren per jaar x 2)
B18: 15 | C18: Netto aanwezigheidsuren BUITEN de openingsuren van groepsbegeleiders per openingsdag | F18: Let op: per openingsdag! Deze tijd is uitdrukkelijk bedoeld als voor- en nabereiding en NIET bedoeld voor het leveren van ambulante jeugdhulp.
B19: 16 | C19: Netto aanwezigheidsuren per jaar BUITEN de openingsuren (wordt automatisch gevuld!) | D19: =IF(D18>0,D14*D18,"")
B20: 17 | C20: Overige (bruto) tijd van groepbegeleiders (wordt automatisch gevuld!) | D20: =IF(COUNTA(D16:D18)=3,D16-D17-D18,"")
B21: 18 | C21: …. aantal inroosterbare uren per fte begeleider per jaar… (wordt automatisch gevuld!) | D21: =IFERROR((D17+D19)/D15,"") | F21: =IF(COUNTA(D17:D18,D15)=3," Check: kloppen deze twee gele waarden met jullie administratie? Zie ook de invulinstructie.","")
B22: 19 | C22: …. dit aantal inroosterbare uren komt overeen met productiviteit van…. (wordt automatisch gevuld!) | D22: =IFERROR(D21/1878,"")
B23: 20 | C23: Begeleidingsintensiteit (wordt automatisch gevuld!) | D23: =IFERROR(IF(D17/D11/D8<Lijsten!F3,Lijsten!F3,IF(D17/D11/D8>Lijsten!G6,Lijsten!G6,D17/D11/D8)),"")
C25: =IFERROR(IF(D23>0,"Intensiteit: '"&INDEX(Lijsten!$F$3:$L$6,MATCH($D$23,Lijsten!F3:F6,1),3)&"'. Bandbreedte begeleidingsintensiteit: "&INDEX(Lijsten!$F$3:$L$6,MATCH($D$23,Lijsten!F3:F6,1),4)&". Tarief: "&TEXT(INDEX(Lijsten!$F$3:$L$6,MATCH(D23,Lijsten!F3:F6,1),7),"€00,00")& " per uur","Vul alle grijze velden in om de intensiteitsbepaling te zien."),"Vul alle grijze velden in om de intensiteitsbepaling te zien.") -> Vul alle grijze velden in om de intensiteitsbepaling te zien.

Sheet Dagverblijf groep 17
C3: Kenmerken dagverblijfgroep | D3: GEPLAND IN 2023
B4: 1 | C4: Hoeveel verschillende fysieke groepen heeft u met (exact) dit profiel? | F4: Voorbeeld: de groepen 'Eik' en 'Beuk' zijn identieke groepen? Vul 2 in.
B5: 2 | C5: Hoeveel % van deze capaciteit komt in 2023 ongeveer ten goede aan jeugdigen uit Haarlemmermeer? | F5: Waarde invullen van 0-100%. Deze informatie wordt gebruikt ter raming van de toekomstige capaciteit.
B6: 3 | C6: Gemiddeld aantal gepland aanwezige clïënten (alle, niet alleen de Haarlemmermeerse) per openingsdag | F6: Dit hoeven niet uitsluitend jeugdigen te zijn onder de Jeugdwet
B7: 4 | C7: Bezettingsgraad | F7: Kies een percentage tussen 92,5% en 100%
B8: 5 | C8: Gemiddeld aantal feitelijk aanwezig clïënten per openingsdag (wordt automatisch gevuld!) | D8: =D6*D7 -> 0
B9: 6 | C9: Aantal openingsdagen per week
B10: 7 | C10: Aantal openingsuren per week | F10: Het betreft hier de uren waarop jeugdigen aanwezig mogen en kunnen zijn.
B11: 8 | C11: Openingsuren per jaar, rekening houdend met vakanties en gesloten (feest- & studie-)dagen
B12: 9 | C12: Productie 2023 in 'cliënturen' (wordt automatisch gevuld!) | D12: =D11*D8 -> 0
B13: 10 | C13: Aantal openingsweken per jaar (wordt automatisch gevuld!) | D13: =IFERROR(D11/D10,0) -> 0
B14: 11 | C14: Aantal openingsdagen (wordt automatisch gevuld!) | D14: =IFERROR((D11/D10*D9),0) -> 0
B15: 12 | C15: Totaal formatie groepsbegeleiders op deze groep (in fte) | F15: Uitsluitend uren van groepsbegeleiders, niet van gedragswetenschapper of behandelaren.
B16: 13 | C16: Totaal bruto uren groepbegeleiders beschikbaar (= fte x 1.877, wordt automatisch gevuld) | D16: =D15*(365/7)*36 -> 0
B17: 14 | C17: ="Netto roosteruren groepsbegeleiders op de groep TIJDENS de "&TEXT(D11,"#.###")&" openingsuren per jaar" -> Netto roosteruren groepsbegeleiders op de groep TIJDENS de openingsuren per jaar | F17: (voorbeeld: altijd 2 begeleiders op de groep? Roosteruren = openingsuren per jaar x 2)
B18: 15 | C18: Netto aanwezigheidsuren BUITEN de openingsuren van groepsbegeleiders per openingsdag | F18: Let op: per openingsdag! Deze tijd is uitdrukkelijk bedoeld als voor- en nabereiding en NIET bedoeld voor het leveren van ambulante jeugdhulp.
B19: 16 | C19: Netto aanwezigheidsuren per jaar BUITEN de openingsuren (wordt automatisch gevuld!) | D19: =IF(D18>0,D14*D18,"")
B20: 17 | C20: Overige (bruto) tijd van groepbegeleiders (wordt automatisch gevuld!) | D20: =IF(COUNTA(D16:D18)=3,D16-D17-D18,"")
B21: 18 | C21: …. aantal inroosterbare uren per fte begeleider per jaar… (wordt automatisch gevuld!) | D21: =IFERROR((D17+D19)/D15,"") | F21: =IF(COUNTA(D17:D18,D15)=3," Check: kloppen deze twee gele waarden met jullie administratie? Zie ook de invulinstructie.","")
B22: 19 | C22: …. dit aantal inroosterbare uren komt overeen met productiviteit van…. (wordt automatisch gevuld!) | D22: =IFERROR(D21/1878,"")
B23: 20 | C23: Begeleidingsintensiteit (wordt automatisch gevuld!) | D23: =IFERROR(IF(D17/D11/D8<Lijsten!F3,Lijsten!F3,IF(D17/D11/D8>Lijsten!G6,Lijsten!G6,D17/D11/D8)),"")
C25: =IFERROR(IF(D23>0,"Intensiteit: '"&INDEX(Lijsten!$F$3:$L$6,MATCH($D$23,Lijsten!F3:F6,1),3)&"'. Bandbreedte begeleidingsintensiteit: "&INDEX(Lijsten!$F$3:$L$6,MATCH($D$23,Lijsten!F3:F6,1),4)&". Tarief: "&TEXT(INDEX(Lijsten!$F$3:$L$6,MATCH(D23,Lijsten!F3:F6,1),7),"€00,00")& " per uur","Vul alle grijze velden in om de intensiteitsbepaling te zien."),"Vul alle grijze velden in om de intensiteitsbepaling te zien.") -> Vul alle grijze velden in om de intensiteitsbepaling te zien.

Sheet Dagverblijf groep 18
C3: Kenmerken dagverblijfgroep | D3: GEPLAND IN 2023
B4: 1 | C4: Hoeveel verschillende fysieke groepen heeft u met (exact) dit profiel? | F4: Voorbeeld: de groepen 'Eik' en 'Beuk' zijn identieke groepen? Vul 2 in.
B5: 2 | C5: Hoeveel % van deze capaciteit komt in 2023 ongeveer ten goede aan jeugdigen uit Haarlemmermeer? | F5: Waarde invullen van 0-100%. Deze informatie wordt gebruikt ter raming van de toekomstige capaciteit.
B6: 3 | C6: Gemiddeld aantal gepland aanwezige clïënten (alle, niet alleen de Haarlemmermeerse) per openingsdag | F6: Dit hoeven niet uitsluitend jeugdigen te zijn onder de Jeugdwet
B7: 4 | C7: Bezettingsgraad | F7: Kies een percentage tussen 92,5% en 100%
B8: 5 | C8: Gemiddeld aantal feitelijk aanwezig clïënten per openingsdag (wordt automatisch gevuld!) | D8: =D6*D7 -> 0
B9: 6 | C9: Aantal openingsdagen per week
B10: 7 | C10: Aantal openingsuren per week | F10: Het betreft hier de uren waarop jeugdigen aanwezig mogen en kunnen zijn.
B11: 8 | C11: Openingsuren per jaar, rekening houdend met vakanties en gesloten (feest- & studie-)dagen
B12: 9 | C12: Productie 2023 in 'cliënturen' (wordt automatisch gevuld!) | D12: =D11*D8 -> 0
B13: 10 | C13: Aantal openingsweken per jaar (wordt automatisch gevuld!) | D13: =IFERROR(D11/D10,0) -> 0
B14: 11 | C14: Aantal openingsdagen (wordt automatisch gevuld!) | D14: =IFERROR((D11/D10*D9),0) -> 0
B15: 12 | C15: Totaal formatie groepsbegeleiders op deze groep (in fte) | F15: Uitsluitend uren van groepsbegeleiders, niet van gedragswetenschapper of behandelaren.
B16: 13 | C16: Totaal bruto uren groepbegeleiders beschikbaar (= fte x 1.877, wordt automatisch gevuld) | D16: =D15*(365/7)*36 -> 0
B17: 14 | C17: ="Netto roosteruren groepsbegeleiders op de groep TIJDENS de "&TEXT(D11,"#.###")&" openingsuren per jaar" -> Netto roosteruren groepsbegeleiders op de groep TIJDENS de openingsuren per jaar | F17: (voorbeeld: altijd 2 begeleiders op de groep? Roosteruren = openingsuren per jaar x 2)
B18: 15 | C18: Netto aanwezigheidsuren BUITEN de openingsuren van groepsbegeleiders per openingsdag | F18: Let op: per openingsdag! Deze tijd is uitdrukkelijk bedoeld als voor- en nabereiding en NIET bedoeld voor het leveren van ambulante jeugdhulp.
B19: 16 | C19: Netto aanwezigheidsuren per jaar BUITEN de openingsuren (wordt automatisch gevuld!) | D19: =IF(D18>0,D14*D18,"")
B20: 17 | C20: Overige (bruto) tijd van groepbegeleiders (wordt automatisch gevuld!) | D20: =IF(COUNTA(D16:D18)=3,D16-D17-D18,"")
B21: 18 | C21: …. aantal inroosterbare uren per fte begeleider per jaar… (wordt automatisch gevuld!) | D21: =IFERROR((D17+D19)/D15,"") | F21: =IF(COUNTA(D17:D18,D15)=3," Check: kloppen deze twee gele waarden met jullie administratie? Zie ook de invulinstructie.","")
B22: 19 | C22: …. dit aantal inroosterbare uren komt overeen met productiviteit van…. (wordt automatisch gevuld!) | D22: =IFERROR(D21/1878,"")
B23: 20 | C23: Begeleidingsintensiteit (wordt automatisch gevuld!) | D23: =IFERROR(IF(D17/D11/D8<Lijsten!F3,Lijsten!F3,IF(D17/D11/D8>Lijsten!G6,Lijsten!G6,D17/D11/D8)),"")
C25: =IFERROR(IF(D23>0,"Intensiteit: '"&INDEX(Lijsten!$F$3:$L$6,MATCH($D$23,Lijsten!F3:F6,1),3)&"'. Bandbreedte begeleidingsintensiteit: "&INDEX(Lijsten!$F$3:$L$6,MATCH($D$23,Lijsten!F3:F6,1),4)&". Tarief: "&TEXT(INDEX(Lijsten!$F$3:$L$6,MATCH(D23,Lijsten!F3:F6,1),7),"€00,00")& " per uur","Vul alle grijze velden in om de intensiteitsbepaling te zien."),"Vul alle grijze velden in om de intensiteitsbepaling te zien.") -> Vul alle grijze velden in om de intensiteitsbepaling te zien.

Sheet Dagverblijf groep 19
C3: Kenmerken dagverblijfgroep | D3: GEPLAND IN 2023
B4: 1 | C4: Hoeveel verschillende fysieke groepen heeft u met (exact) dit profiel? | F4: Voorbeeld: de groepen 'Eik' en 'Beuk' zijn identieke groepen? Vul 2 in.
B5: 2 | C5: Hoeveel % van deze capaciteit komt in 2023 ongeveer ten goede aan jeugdigen uit Haarlemmermeer? | F5: Waarde invullen van 0-100%. Deze informatie wordt gebruikt ter raming van de toekomstige capaciteit.
B6: 3 | C6: Gemiddeld aantal gepland aanwezige clïënten (alle, niet alleen de Haarlemmermeerse) per openingsdag | F6: Dit hoeven niet uitsluitend jeugdigen te zijn onder de Jeugdwet
B7: 4 | C7: Bezettingsgraad | F7: Kies een percentage tussen 92,5% en 100%
B8: 5 | C8: Gemiddeld aantal feitelijk aanwezig clïënten per openingsdag (wordt automatisch gevuld!) | D8: =D6*D7 -> 0
B9: 6 | C9: Aantal openingsdagen per week
B10: 7 | C10: Aantal openingsuren per week | F10: Het betreft hier de uren waarop jeugdigen aanwezig mogen en kunnen zijn.
B11: 8 | C11: Openingsuren per jaar, rekening houdend met vakanties en gesloten (feest- & studie-)dagen
B12: 9 | C12: Productie 2023 in 'cliënturen' (wordt automatisch gevuld!) | D12: =D11*D8 -> 0
B13: 10 | C13: Aantal openingsweken per jaar (wordt automatisch gevuld!) | D13: =IFERROR(D11/D10,0) -> 0
B14: 11 | C14: Aantal openingsdagen (wordt automatisch gevuld!) | D14: =IFERROR((D11/D10*D9),0) -> 0
B15: 12 | C15: Totaal formatie groepsbegeleiders op deze groep (in fte) | F15: Uitsluitend uren van groepsbegeleiders, niet van gedragswetenschapper of behandelaren.
B16: 13 | C16: Totaal bruto uren groepbegeleiders beschikbaar (= fte x 1.877, wordt automatisch gevuld) | D16: =D15*(365/7)*36 -> 0
B17: 14 | C17: ="Netto roosteruren groepsbegeleiders op de groep TIJDENS de "&TEXT(D11,"#.###")&" openingsuren per jaar" -> Netto roosteruren groepsbegeleiders op de groep TIJDENS de openingsuren per jaar | F17: (voorbeeld: altijd 2 begeleiders op de groep? Roosteruren = openingsuren per jaar x 2)
B18: 15 | C18: Netto aanwezigheidsuren BUITEN de openingsuren van groepsbegeleiders per openingsdag | F18: Let op: per openingsdag! Deze tijd is uitdrukkelijk bedoeld als voor- en nabereiding en NIET bedoeld voor het leveren van ambulante jeugdhulp.
B19: 16 | C19: Netto aanwezigheidsuren per jaar BUITEN de openingsuren (wordt automatisch gevuld!) | D19: =IF(D18>0,D14*D18,"")
B20: 17 | C20: Overige (bruto) tijd van groepbegeleiders (wordt automatisch gevuld!) | D20: =IF(COUNTA(D16:D18)=3,D16-D17-D18,"")
B21: 18 | C21: …. aantal inroosterbare uren per fte begeleider per jaar… (wordt automatisch gevuld!) | D21: =IFERROR((D17+D19)/D15,"") | F21: =IF(COUNTA(D17:D18,D15)=3," Check: kloppen deze twee gele waarden met jullie administratie? Zie ook de invulinstructie.","")
B22: 19 | C22: …. dit aantal inroosterbare uren komt overeen met productiviteit van…. (wordt automatisch gevuld!) | D22: =IFERROR(D21/1878,"")
B23: 20 | C23: Begeleidingsintensiteit (wordt automatisch gevuld!) | D23: =IFERROR(IF(D17/D11/D8<Lijsten!F3,Lijsten!F3,IF(D17/D11/D8>Lijsten!G6,Lijsten!G6,D17/D11/D8)),"")
C25: =IFERROR(IF(D23>0,"Intensiteit: '"&INDEX(Lijsten!$F$3:$L$6,MATCH($D$23,Lijsten!F3:F6,1),3)&"'. Bandbreedte begeleidingsintensiteit: "&INDEX(Lijsten!$F$3:$L$6,MATCH($D$23,Lijsten!F3:F6,1),4)&". Tarief: "&TEXT(INDEX(Lijsten!$F$3:$L$6,MATCH(D23,Lijsten!F3:F6,1),7),"€00,00")& " per uur","Vul alle grijze velden in om de intensiteitsbepaling te zien."),"Vul alle grijze velden in om de intensiteitsbepaling te zien.") -> Vul alle grijze velden in om de intensiteitsbepaling te zien.

Sheet Dagverblijf groep 20
C3: Kenmerken dagverblijfgroep | D3: GEPLAND IN 2023
B4: 1 | C4: Hoeveel verschillende fysieke groepen heeft u met (exact) dit profiel? | F4: Voorbeeld: de groepen 'Eik' en 'Beuk' zijn identieke groepen? Vul 2 in.
B5: 2 | C5: Hoeveel % van deze capaciteit komt in 2023 ongeveer ten goede aan jeugdigen uit Haarlemmermeer? | F5: Waarde invullen van 0-100%. Deze informatie wordt gebruikt ter raming van de toekomstige capaciteit.
B6: 3 | C6: Gemiddeld aantal gepland aanwezige clïënten (alle, niet alleen de Haarlemmermeerse) per openingsdag | F6: Dit hoeven niet uitsluitend jeugdigen te zijn onder de Jeugdwet
B7: 4 | C7: Bezettingsgraad | F7: Kies een percentage tussen 92,5% en 100%
B8: 5 | C8: Gemiddeld aantal feitelijk aanwezig clïënten per openingsdag (wordt automatisch gevuld!) | D8: =D6*D7 -> 0
B9: 6 | C9: Aantal openingsdagen per week
B10: 7 | C10: Aantal openingsuren per week | F10: Het betreft hier de uren waarop jeugdigen aanwezig mogen en kunnen zijn.
B11: 8 | C11: Openingsuren per jaar, rekening houdend met vakanties en gesloten (feest- & studie-)dagen
B12: 9 | C12: Productie 2023 in 'cliënturen' (wordt automatisch gevuld!) | D12: =D11*D8 -> 0
B13: 10 | C13: Aantal openingsweken per jaar (wordt automatisch gevuld!) | D13: =IFERROR(D11/D10,0) -> 0
B14: 11 | C14: Aantal openingsdagen (wordt automatisch gevuld!) | D14: =IFERROR((D11/D10*D9),0) -> 0
B15: 12 | C15: Totaal formatie groepsbegeleiders op deze groep (in fte) | F15: Uitsluitend uren van groepsbegeleiders, niet van gedragswetenschapper of behandelaren.
B16: 13 | C16: Totaal bruto uren groepbegeleiders beschikbaar (= fte x 1.877, wordt automatisch gevuld) | D16: =D15*(365/7)*36 -> 0
B17: 14 | C17: ="Netto roosteruren groepsbegeleiders op de groep TIJDENS de "&TEXT(D11,"#.###")&" openingsuren per jaar" -> Netto roosteruren groepsbegeleiders op de groep TIJDENS de openingsuren per jaar | F17: (voorbeeld: altijd 2 begeleiders op de groep? Roosteruren = openingsuren per jaar x 2)
B18: 15 | C18: Netto aanwezigheidsuren BUITEN de openingsuren van groepsbegeleiders per openingsdag | F18: Let op: per openingsdag! Deze tijd is uitdrukkelijk bedoeld als voor- en nabereiding en NIET bedoeld voor het leveren van ambulante jeugdhulp.
B19: 16 | C19: Netto aanwezigheidsuren per jaar BUITEN de openingsuren (wordt automatisch gevuld!) | D19: =IF(D18>0,D14*D18,"")
B20: 17 | C20: Overige (bruto) tijd van groepbegeleiders (wordt automatisch gevuld!) | D20: =IF(COUNTA(D16:D18)=3,D16-D17-D18,"")
B21: 18 | C21: …. aantal inroosterbare uren per fte begeleider per jaar… (wordt automatisch gevuld!) | D21: =IFERROR((D17+D19)/D15,"") | F21: =IF(COUNTA(D17:D18,D15)=3," Check: kloppen deze twee gele waarden met jullie administratie? Zie ook de invulinstructie.","")
B22: 19 | C22: …. dit aantal inroosterbare uren komt overeen met productiviteit van…. (wordt automatisch gevuld!) | D22: =IFERROR(D21/1878,"")
B23: 20 | C23: Begeleidingsintensiteit (wordt automatisch gevuld!) | D23: =IFERROR(IF(D17/D11/D8<Lijsten!F3,Lijsten!F3,IF(D17/D11/D8>Lijsten!G6,Lijsten!G6,D17/D11/D8)),"")
C25: =IFERROR(IF(D23>0,"Intensiteit: '"&INDEX(Lijsten!$F$3:$L$6,MATCH($D$23,Lijsten!F3:F6,1),3)&"'. Bandbreedte begeleidingsintensiteit: "&INDEX(Lijsten!$F$3:$L$6,MATCH($D$23,Lijsten!F3:F6,1),4)&". Tarief: "&TEXT(INDEX(Lijsten!$F$3:$L$6,MATCH(D23,Lijsten!F3:F6,1),7),"€00,00")& " per uur","Vul alle grijze velden in om de intensiteitsbepaling te zien."),"Vul alle grijze velden in om de intensiteitsbepaling te zien.") -> Vul alle grijze velden in om de intensiteitsbepaling te zien.

Sheet Dagverblijf groep 21
C3: Kenmerken dagverblijfgroep | D3: GEPLAND IN 2023
B4: 1 | C4: Hoeveel verschillende fysieke groepen heeft u met (exact) dit profiel? | F4: Voorbeeld: de groepen 'Eik' en 'Beuk' zijn identieke groepen? Vul 2 in.
B5: 2 | C5: Hoeveel % van deze capaciteit komt in 2023 ongeveer ten goede aan jeugdigen uit Haarlemmermeer? | F5: Waarde invullen van 0-100%. Deze informatie wordt gebruikt ter raming van de toekomstige capaciteit.
B6: 3 | C6: Gemiddeld aantal gepland aanwezige clïënten (alle, niet alleen de Haarlemmermeerse) per openingsdag | F6: Dit hoeven niet uitsluitend jeugdigen te zijn onder de Jeugdwet
B7: 4 | C7: Bezettingsgraad | F7: Kies een percentage tussen 92,5% en 100%
B8: 5 | C8: Gemiddeld aantal feitelijk aanwezig clïënten per openingsdag (wordt automatisch gevuld!) | D8: =D6*D7 -> 0
B9: 6 | C9: Aantal openingsdagen per week
B10: 7 | C10: Aantal openingsuren per week | F10: Het betreft hier de uren waarop jeugdigen aanwezig mogen en kunnen zijn.
B11: 8 | C11: Openingsuren per jaar, rekening houdend met vakanties en gesloten (feest- & studie-)dagen
B12: 9 | C12: Productie 2023 in 'cliënturen' (wordt automatisch gevuld!) | D12: =D11*D8 -> 0
B13: 10 | C13: Aantal openingsweken per jaar (wordt automatisch gevuld!) | D13: =IFERROR(D11/D10,0) -> 0
B14: 11 | C14: Aantal openingsdagen (wordt automatisch gevuld!) | D14: =IFERROR((D11/D10*D9),0) -> 0
B15: 12 | C15: Totaal formatie groepsbegeleiders op deze groep (in fte) | F15: Uitsluitend uren van groepsbegeleiders, niet van gedragswetenschapper of behandelaren.
B16: 13 | C16: Totaal bruto uren groepbegeleiders beschikbaar (= fte x 1.877, wordt automatisch gevuld) | D16: =D15*(365/7)*36 -> 0
B17: 14 | C17: ="Netto roosteruren groepsbegeleiders op de groep TIJDENS de "&TEXT(D11,"#.###")&" openingsuren per jaar" -> Netto roosteruren groepsbegeleiders op de groep TIJDENS de openingsuren per jaar | F17: (voorbeeld: altijd 2 begeleiders op de groep? Roosteruren = openingsuren per jaar x 2)
B18: 15 | C18: Netto aanwezigheidsuren BUITEN de openingsuren van groepsbegeleiders per openingsdag | F18: Let op: per openingsdag! Deze tijd is uitdrukkelijk bedoeld als voor- en nabereiding en NIET bedoeld voor het leveren van ambulante jeugdhulp.
B19: 16 | C19: Netto aanwezigheidsuren per jaar BUITEN de openingsuren (wordt automatisch gevuld!) | D19: =IF(D18>0,D14*D18,"")
B20: 17 | C20: Overige (bruto) tijd van groepbegeleiders (wordt automatisch gevuld!) | D20: =IF(COUNTA(D16:D18)=3,D16-D17-D18,"")
B21: 18 | C21: …. aantal inroosterbare uren per fte begeleider per jaar… (wordt automatisch gevuld!) | D21: =IFERROR((D17+D19)/D15,"") | F21: =IF(COUNTA(D17:D18,D15)=3," Check: kloppen deze twee gele waarden met jullie administratie? Zie ook de invulinstructie.","")
B22: 19 | C22: …. dit aantal inroosterbare uren komt overeen met productiviteit van…. (wordt automatisch gevuld!) | D22: =IFERROR(D21/1878,"")
B23: 20 | C23: Begeleidingsintensiteit (wordt automatisch gevuld!) | D23: =IFERROR(IF(D17/D11/D8<Lijsten!F3,Lijsten!F3,IF(D17/D11/D8>Lijsten!G6,Lijsten!G6,D17/D11/D8)),"")
C25: =IFERROR(IF(D23>0,"Intensiteit: '"&INDEX(Lijsten!$F$3:$L$6,MATCH($D$23,Lijsten!F3:F6,1),3)&"'. Bandbreedte begeleidingsintensiteit: "&INDEX(Lijsten!$F$3:$L$6,MATCH($D$23,Lijsten!F3:F6,1),4)&". Tarief: "&TEXT(INDEX(Lijsten!$F$3:$L$6,MATCH(D23,Lijsten!F3:F6,1),7),"€00,00")& " per uur","Vul alle grijze velden in om de intensiteitsbepaling te zien."),"Vul alle grijze velden in om de intensiteitsbepaling te zien.") -> Vul alle grijze velden in om de intensiteitsbepaling te zien.

Sheet Dagverblijf groep 22
C3: Kenmerken dagverblijfgroep | D3: GEPLAND IN 2023
B4: 1 | C4: Hoeveel verschillende fysieke groepen heeft u met (exact) dit profiel? | F4: Voorbeeld: de groepen 'Eik' en 'Beuk' zijn identieke groepen? Vul 2 in.
B5: 2 | C5: Hoeveel % van deze capaciteit komt in 2023 ongeveer ten goede aan jeugdigen uit Haarlemmermeer? | F5: Waarde invullen van 0-100%. Deze informatie wordt gebruikt ter raming van de toekomstige capaciteit.
B6: 3 | C6: Gemiddeld aantal gepland aanwezige clïënten (alle, niet alleen de Haarlemmermeerse) per openingsdag | F6: Dit hoeven niet uitsluitend jeugdigen te zijn onder de Jeugdwet
B7: 4 | C7: Bezettingsgraad | F7: Kies een percentage tussen 92,5% en 100%
B8: 5 | C8: Gemiddeld aantal feitelijk aanwezig clïënten per openingsdag (wordt automatisch gevuld!) | D8: =D6*D7 -> 0
B9: 6 | C9: Aantal openingsdagen per week
B10: 7 | C10: Aantal openingsuren per week | F10: Het betreft hier de uren waarop jeugdigen aanwezig mogen en kunnen zijn.
B11: 8 | C11: Openingsuren per jaar, rekening houdend met vakanties en gesloten (feest- & studie-)dagen
B12: 9 | C12: Productie 2023 in 'cliënturen' (wordt automatisch gevuld!) | D12: =D11*D8 -> 0
B13: 10 | C13: Aantal openingsweken per jaar (wordt automatisch gevuld!) | D13: =IFERROR(D11/D10,0) -> 0
B14: 11 | C14: Aantal openingsdagen (wordt automatisch gevuld!) | D14: =IFERROR((D11/D10*D9),0) -> 0
B15: 12 | C15: Totaal formatie groepsbegeleiders op deze groep (in fte) | F15: Uitsluitend uren van groepsbegeleiders, niet van gedragswetenschapper of behandelaren.
B16: 13 | C16: Totaal bruto uren groepbegeleiders beschikbaar (= fte x 1.877, wordt automatisch gevuld) | D16: =D15*(365/7)*36 -> 0
B17: 14 | C17: ="Netto roosteruren groepsbegeleiders op de groep TIJDENS de "&TEXT(D11,"#.###")&" openingsuren per jaar" -> Netto roosteruren groepsbegeleiders op de groep TIJDENS de openingsuren per jaar | F17: (voorbeeld: altijd 2 begeleiders op de groep? Roosteruren = openingsuren per jaar x 2)
B18: 15 | C18: Netto aanwezigheidsuren BUITEN de openingsuren van groepsbegeleiders per openingsdag | F18: Let op: per openingsdag! Deze tijd is uitdrukkelijk bedoeld als voor- en nabereiding en NIET bedoeld voor het leveren van ambulante jeugdhulp.
B19: 16 | C19: Netto aanwezigheidsuren per jaar BUITEN de openingsuren (wordt automatisch gevuld!) | D19: =IF(D18>0,D14*D18,"")
B20: 17 | C20: Overige (bruto) tijd van groepbegeleiders (wordt automatisch gevuld!) | D20: =IF(COUNTA(D16:D18)=3,D16-D17-D18,"")
B21: 18 | C21: …. aantal inroosterbare uren per fte begeleider per jaar… (wordt automatisch gevuld!) | D21: =IFERROR((D17+D19)/D15,"") | F21: =IF(COUNTA(D17:D18,D15)=3," Check: kloppen deze twee gele waarden met jullie administratie? Zie ook de invulinstructie.","")
B22: 19 | C22: …. dit aantal inroosterbare uren komt overeen met productiviteit van…. (wordt automatisch gevuld!) | D22: =IFERROR(D21/1878,"")
B23: 20 | C23: Begeleidingsintensiteit (wordt automatisch gevuld!) | D23: =IFERROR(IF(D17/D11/D8<Lijsten!F3,Lijsten!F3,IF(D17/D11/D8>Lijsten!G6,Lijsten!G6,D17/D11/D8)),"")
C25: =IFERROR(IF(D23>0,"Intensiteit: '"&INDEX(Lijsten!$F$3:$L$6,MATCH($D$23,Lijsten!F3:F6,1),3)&"'. Bandbreedte begeleidingsintensiteit: "&INDEX(Lijsten!$F$3:$L$6,MATCH($D$23,Lijsten!F3:F6,1),4)&". Tarief: "&TEXT(INDEX(Lijsten!$F$3:$L$6,MATCH(D23,Lijsten!F3:F6,1),7),"€00,00")& " per uur","Vul alle grijze velden in om de intensiteitsbepaling te zien."),"Vul alle grijze velden in om de intensiteitsbepaling te zien.") -> Vul alle grijze velden in om de intensiteitsbepaling te zien.

Sheet Dagverblijf groep 23
C3: Kenmerken dagverblijfgroep | D3: GEPLAND IN 2023
B4: 1 | C4: Hoeveel verschillende fysieke groepen heeft u met (exact) dit profiel? | F4: Voorbeeld: de groepen 'Eik' en 'Beuk' zijn identieke groepen? Vul 2 in.
B5: 2 | C5: Hoeveel % van deze capaciteit komt in 2023 ongeveer ten goede aan jeugdigen uit Haarlemmermeer? | F5: Waarde invullen van 0-100%. Deze informatie wordt gebruikt ter raming van de toekomstige capaciteit.
B6: 3 | C6: Gemiddeld aantal gepland aanwezige clïënten (alle, niet alleen de Haarlemmermeerse) per openingsdag | F6: Dit hoeven niet uitsluitend jeugdigen te zijn onder de Jeugdwet
B7: 4 | C7: Bezettingsgraad | F7: Kies een percentage tussen 92,5% en 100%
B8: 5 | C8: Gemiddeld aantal feitelijk aanwezig clïënten per openingsdag (wordt automatisch gevuld!) | D8: =D6*D7 -> 0
B9: 6 | C9: Aantal openingsdagen per week
B10: 7 | C10: Aantal openingsuren per week | F10: Het betreft hier de uren waarop jeugdigen aanwezig mogen en kunnen zijn.
B11: 8 | C11: Openingsuren per jaar, rekening houdend met vakanties en gesloten (feest- & studie-)dagen
B12: 9 | C12: Productie 2023 in 'cliënturen' (wordt automatisch gevuld!) | D12: =D11*D8 -> 0
B13: 10 | C13: Aantal openingsweken per jaar (wordt automatisch gevuld!) | D13: =IFERROR(D11/D10,0) -> 0
B14: 11 | C14: Aantal openingsdagen (wordt automatisch gevuld!) | D14: =IFERROR((D11/D10*D9),0) -> 0
B15: 12 | C15: Totaal formatie groepsbegeleiders op deze groep (in fte) | F15: Uitsluitend uren van groepsbegeleiders, niet van gedragswetenschapper of behandelaren.
B16: 13 | C16: Totaal bruto uren groepbegeleiders beschikbaar (= fte x 1.877, wordt automatisch gevuld) | D16: =D15*(365/7)*36 -> 0
B17: 14 | C17: ="Netto roosteruren groepsbegeleiders op de groep TIJDENS de "&TEXT(D11,"#.###")&" openingsuren per jaar" -> Netto roosteruren groepsbegeleiders op de groep TIJDENS de openingsuren per jaar | F17: (voorbeeld: altijd 2 begeleiders op de groep? Roosteruren = openingsuren per jaar x 2)
B18: 15 | C18: Netto aanwezigheidsuren BUITEN de openingsuren van groepsbegeleiders per openingsdag | F18: Let op: per openingsdag! Deze tijd is uitdrukkelijk bedoeld als voor- en nabereiding en NIET bedoeld voor het leveren van ambulante jeugdhulp.
B19: 16 | C19: Netto aanwezigheidsuren per jaar BUITEN de openingsuren (wordt automatisch gevuld!) | D19: =IF(D18>0,D14*D18,"")
B20: 17 | C20: Overige (bruto) tijd van groepbegeleiders (wordt automatisch gevuld!) | D20: =IF(COUNTA(D16:D18)=3,D16-D17-D18,"")
B21: 18 | C21: …. aantal inroosterbare uren per fte begeleider per jaar… (wordt automatisch gevuld!) | D21: =IFERROR((D17+D19)/D15,"") | F21: =IF(COUNTA(D17:D18,D15)=3," Check: kloppen deze twee gele waarden met jullie administratie? Zie ook de invulinstructie.","")
B22: 19 | C22: …. dit aantal inroosterbare uren komt overeen met productiviteit van…. (wordt automatisch gevuld!) | D22: =IFERROR(D21/1878,"")
B23: 20 | C23: Begeleidingsintensiteit (wordt automatisch gevuld!) | D23: =IFERROR(IF(D17/D11/D8<Lijsten!F3,Lijsten!F3,IF(D17/D11/D8>Lijsten!G6,Lijsten!G6,D17/D11/D8)),"")
C25: =IFERROR(IF(D23>0,"Intensiteit: '"&INDEX(Lijsten!$F$3:$L$6,MATCH($D$23,Lijsten!F3:F6,1),3)&"'. Bandbreedte begeleidingsintensiteit: "&INDEX(Lijsten!$F$3:$L$6,MATCH($D$23,Lijsten!F3:F6,1),4)&". Tarief: "&TEXT(INDEX(Lijsten!$F$3:$L$6,MATCH(D23,Lijsten!F3:F6,1),7),"€00,00")& " per uur","Vul alle grijze velden in om de intensiteitsbepaling te zien."),"Vul alle grijze velden in om de intensiteitsbepaling te zien.") -> Vul alle grijze velden in om de intensiteitsbepaling te zien.

Sheet Dagverblijf groep 24
C3: Kenmerken dagverblijfgroep | D3: GEPLAND IN 2023
B4: 1 | C4: Hoeveel verschillende fysieke groepen heeft u met (exact) dit profiel? | F4: Voorbeeld: de groepen 'Eik' en 'Beuk' zijn identieke groepen? Vul 2 in.
B5: 2 | C5: Hoeveel % van deze capaciteit komt in 2023 ongeveer ten goede aan jeugdigen uit Haarlemmermeer? | F5: Waarde invullen van 0-100%. Deze informatie wordt gebruikt ter raming van de toekomstige capaciteit.
B6: 3 | C6: Gemiddeld aantal gepland aanwezige clïënten (alle, niet alleen de Haarlemmermeerse) per openingsdag | F6: Dit hoeven niet uitsluitend jeugdigen te zijn onder de Jeugdwet
B7: 4 | C7: Bezettingsgraad | F7: Kies een percentage tussen 92,5% en 100%
B8: 5 | C8: Gemiddeld aantal feitelijk aanwezig clïënten per openingsdag (wordt automatisch gevuld!) | D8: =D6*D7 -> 0
B9: 6 | C9: Aantal openingsdagen per week
B10: 7 | C10: Aantal openingsuren per week | F10: Het betreft hier de uren waarop jeugdigen aanwezig mogen en kunnen zijn.
B11: 8 | C11: Openingsuren per jaar, rekening houdend met vakanties en gesloten (feest- & studie-)dagen
B12: 9 | C12: Productie 2023 in 'cliënturen' (wordt automatisch gevuld!) | D12: =D11*D8 -> 0
B13: 10 | C13: Aantal openingsweken per jaar (wordt automatisch gevuld!) | D13: =IFERROR(D11/D10,0) -> 0
B14: 11 | C14: Aantal openingsdagen (wordt automatisch gevuld!) | D14: =IFERROR((D11/D10*D9),0) -> 0
B15: 12 | C15: Totaal formatie groepsbegeleiders op deze groep (in fte) | F15: Uitsluitend uren van groepsbegeleiders, niet van gedragswetenschapper of behandelaren.
B16: 13 | C16: Totaal bruto uren groepbegeleiders beschikbaar (= fte x 1.877, wordt automatisch gevuld) | D16: =D15*(365/7)*36 -> 0
B17: 14 | C17: ="Netto roosteruren groepsbegeleiders op de groep TIJDENS de "&TEXT(D11,"#.###")&" openingsuren per jaar" -> Netto roosteruren groepsbegeleiders op de groep TIJDENS de openingsuren per jaar | F17: (voorbeeld: altijd 2 begeleiders op de groep? Roosteruren = openingsuren per jaar x 2)
B18: 15 | C18: Netto aanwezigheidsuren BUITEN de openingsuren van groepsbegeleiders per openingsdag | F18: Let op: per openingsdag! Deze tijd is uitdrukkelijk bedoeld als voor- en nabereiding en NIET bedoeld voor het leveren van ambulante jeugdhulp.
B19: 16 | C19: Netto aanwezigheidsuren per jaar BUITEN de openingsuren (wordt automatisch gevuld!) | D19: =IF(D18>0,D14*D18,"")
B20: 17 | C20: Overige (bruto) tijd van groepbegeleiders (wordt automatisch gevuld!) | D20: =IF(COUNTA(D16:D18)=3,D16-D17-D18,"")
B21: 18 | C21: …. aantal inroosterbare uren per fte begeleider per jaar… (wordt automatisch gevuld!) | D21: =IFERROR((D17+D19)/D15,"") | F21: =IF(COUNTA(D17:D18,D15)=3," Check: kloppen deze twee gele waarden met jullie administratie? Zie ook de invulinstructie.","")
B22: 19 | C22: …. dit aantal inroosterbare uren komt overeen met productiviteit van…. (wordt automatisch gevuld!) | D22: =IFERROR(D21/1878,"")
B23: 20 | C23: Begeleidingsintensiteit (wordt automatisch gevuld!) | D23: =IFERROR(IF(D17/D11/D8<Lijsten!F3,Lijsten!F3,IF(D17/D11/D8>Lijsten!G6,Lijsten!G6,D17/D11/D8)),"")
C25: =IFERROR(IF(D23>0,"Intensiteit: '"&INDEX(Lijsten!$F$3:$L$6,MATCH($D$23,Lijsten!F3:F6,1),3)&"'. Bandbreedte begeleidingsintensiteit: "&INDEX(Lijsten!$F$3:$L$6,MATCH($D$23,Lijsten!F3:F6,1),4)&". Tarief: "&TEXT(INDEX(Lijsten!$F$3:$L$6,MATCH(D23,Lijsten!F3:F6,1),7),"€00,00")& " per uur","Vul alle grijze velden in om de intensiteitsbepaling te zien."),"Vul alle grijze velden in om de intensiteitsbepaling te zien.") -> Vul alle grijze velden in om de intensiteitsbepaling te zien.

Sheet Dagverblijf groep 25
C3: Kenmerken dagverblijfgroep | D3: GEPLAND IN 2023
B4: 1 | C4: Hoeveel verschillende fysieke groepen heeft u met (exact) dit profiel? | F4: Voorbeeld: de groepen 'Eik' en 'Beuk' zijn identieke groepen? Vul 2 in.
B5: 2 | C5: Hoeveel % van deze capaciteit komt in 2023 ongeveer ten goede aan jeugdigen uit Haarlemmermeer? | F5: Waarde invullen van 0-100%. Deze informatie wordt gebruikt ter raming van de toekomstige capaciteit.
B6: 3 | C6: Gemiddeld aantal gepland aanwezige clïënten (alle, niet alleen de Haarlemmermeerse) per openingsdag | F6: Dit hoeven niet uitsluitend jeugdigen te zijn onder de Jeugdwet
B7: 4 | C7: Bezettingsgraad | F7: Kies een percentage tussen 92,5% en 100%
B8: 5 | C8: Gemiddeld aantal feitelijk aanwezig clïënten per openingsdag (wordt automatisch gevuld!) | D8: =D6*D7 -> 0
B9: 6 | C9: Aantal openingsdagen per week
B10: 7 | C10: Aantal openingsuren per week | F10: Het betreft hier de uren waarop jeugdigen aanwezig mogen en kunnen zijn.
B11: 8 | C11: Openingsuren per jaar, rekening houdend met vakanties en gesloten (feest- & studie-)dagen
B12: 9 | C12: Productie 2023 in 'cliënturen' (wordt automatisch gevuld!) | D12: =D11*D8 -> 0
B13: 10 | C13: Aantal openingsweken per jaar (wordt automatisch gevuld!) | D13: =IFERROR(D11/D10,0) -> 0
B14: 11 | C14: Aantal openingsdagen (wordt automatisch gevuld!) | D14: =IFERROR((D11/D10*D9),0) -> 0
B15: 12 | C15: Totaal formatie groepsbegeleiders op deze groep (in fte) | F15: Uitsluitend uren van groepsbegeleiders, niet van gedragswetenschapper of behandelaren.
B16: 13 | C16: Totaal bruto uren groepbegeleiders beschikbaar (= fte x 1.877, wordt automatisch gevuld) | D16: =D15*(365/7)*36 -> 0
B17: 14 | C17: ="Netto roosteruren groepsbegeleiders op de groep TIJDENS de "&TEXT(D11,"#.###")&" openingsuren per jaar" -> Netto roosteruren groepsbegeleiders op de groep TIJDENS de openingsuren per jaar | F17: (voorbeeld: altijd 2 begeleiders op de groep? Roosteruren = openingsuren per jaar x 2)
B18: 15 | C18: Netto aanwezigheidsuren BUITEN de openingsuren van groepsbegeleiders per openingsdag | F18: Let op: per openingsdag! Deze tijd is uitdrukkelijk bedoeld als voor- en nabereiding en NIET bedoeld voor het leveren van ambulante jeugdhulp.
B19: 16 | C19: Netto aanwezigheidsuren per jaar BUITEN de openingsuren (wordt automatisch gevuld!) | D19: =IF(D18>0,D14*D18,"")
B20: 17 | C20: Overige (bruto) tijd van groepbegeleiders (wordt automatisch gevuld!) | D20: =IF(COUNTA(D16:D18)=3,D16-D17-D18,"")
B21: 18 | C21: …. aantal inroosterbare uren per fte begeleider per jaar… (wordt automatisch gevuld!) | D21: =IFERROR((D17+D19)/D15,"") | F21: =IF(COUNTA(D17:D18,D15)=3," Check: kloppen deze twee gele waarden met jullie administratie? Zie ook de invulinstructie.","")
B22: 19 | C22: …. dit aantal inroosterbare uren komt overeen met productiviteit van…. (wordt automatisch gevuld!) | D22: =IFERROR(D21/1878,"")
B23: 20 | C23: Begeleidingsintensiteit (wordt automatisch gevuld!) | D23: =IFERROR(IF(D17/D11/D8<Lijsten!F3,Lijsten!F3,IF(D17/D11/D8>Lijsten!G6,Lijsten!G6,D17/D11/D8)),"")
C25: =IFERROR(IF(D23>0,"Intensiteit: '"&INDEX(Lijsten!$F$3:$L$6,MATCH($D$23,Lijsten!F3:F6,1),3)&"'. Bandbreedte begeleidingsintensiteit: "&INDEX(Lijsten!$F$3:$L$6,MATCH($D$23,Lijsten!F3:F6,1),4)&". Tarief: "&TEXT(INDEX(Lijsten!$F$3:$L$6,MATCH(D23,Lijsten!F3:F6,1),7),"€00,00")& " per uur","Vul alle grijze velden in om de intensiteitsbepaling te zien."),"Vul alle grijze velden in om de intensiteitsbepaling te zien.") -> Vul alle grijze velden in om de intensiteitsbepaling te zien.

Sheet Dagverblijf groep 26
C3: Kenmerken dagverblijfgroep | D3: GEPLAND IN 2023
B4: 1 | C4: Hoeveel verschillende fysieke groepen heeft u met (exact) dit profiel? | F4: Voorbeeld: de groepen 'Eik' en 'Beuk' zijn identieke groepen? Vul 2 in.
B5: 2 | C5: Hoeveel % van deze capaciteit komt in 2023 ongeveer ten goede aan jeugdigen uit Haarlemmermeer? | F5: Waarde invullen van 0-100%. Deze informatie wordt gebruikt ter raming van de toekomstige capaciteit.
B6: 3 | C6: Gemiddeld aantal gepland aanwezige clïënten (alle, niet alleen de Haarlemmermeerse) per openingsdag | F6: Dit hoeven niet uitsluitend jeugdigen te zijn onder de Jeugdwet
B7: 4 | C7: Bezettingsgraad | F7: Kies een percentage tussen 92,5% en 100%
B8: 5 | C8: Gemiddeld aantal feitelijk aanwezig clïënten per openingsdag (wordt automatisch gevuld!) | D8: =D6*D7 -> 0
B9: 6 | C9: Aantal openingsdagen per week
B10: 7 | C10: Aantal openingsuren per week | F10: Het betreft hier de uren waarop jeugdigen aanwezig mogen en kunnen zijn.
B11: 8 | C11: Openingsuren per jaar, rekening houdend met vakanties en gesloten (feest- & studie-)dagen
B12: 9 | C12: Productie 2023 in 'cliënturen' (wordt automatisch gevuld!) | D12: =D11*D8 -> 0
B13: 10 | C13: Aantal openingsweken per jaar (wordt automatisch gevuld!) | D13: =IFERROR(D11/D10,0) -> 0
B14: 11 | C14: Aantal openingsdagen (wordt automatisch gevuld!) | D14: =IFERROR((D11/D10*D9),0) -> 0
B15: 12 | C15: Totaal formatie groepsbegeleiders op deze groep (in fte) | F15: Uitsluitend uren van groepsbegeleiders, niet van gedragswetenschapper of behandelaren.
B16: 13 | C16: Totaal bruto uren groepbegeleiders beschikbaar (= fte x 1.877, wordt automatisch gevuld) | D16: =D15*(365/7)*36 -> 0
B17: 14 | C17: ="Netto roosteruren groepsbegeleiders op de groep TIJDENS de "&TEXT(D11,"#.###")&" openingsuren per jaar" -> Netto roosteruren groepsbegeleiders op de groep TIJDENS de openingsuren per jaar | F17: (voorbeeld: altijd 2 begeleiders op de groep? Roosteruren = openingsuren per jaar x 2)
B18: 15 | C18: Netto aanwezigheidsuren BUITEN de openingsuren van groepsbegeleiders per openingsdag | F18: Let op: per openingsdag! Deze tijd is uitdrukkelijk bedoeld als voor- en nabereiding en NIET bedoeld voor het leveren van ambulante jeugdhulp.
B19: 16 | C19: Netto aanwezigheidsuren per jaar BUITEN de openingsuren (wordt automatisch gevuld!) | D19: =IF(D18>0,D14*D18,"")
B20: 17 | C20: Overige (bruto) tijd van groepbegeleiders (wordt automatisch gevuld!) | D20: =IF(COUNTA(D16:D18)=3,D16-D17-D18,"")
B21: 18 | C21: …. aantal inroosterbare uren per fte begeleider per jaar… (wordt automatisch gevuld!) | D21: =IFERROR((D17+D19)/D15,"") | F21: =IF(COUNTA(D17:D18,D15)=3," Check: kloppen deze twee gele waarden met jullie administratie? Zie ook de invulinstructie.","")
B22: 19 | C22: …. dit aantal inroosterbare uren komt overeen met productiviteit van…. (wordt automatisch gevuld!) | D22: =IFERROR(D21/1878,"")
B23: 20 | C23: Begeleidingsintensiteit (wordt automatisch gevuld!) | D23: =IFERROR(IF(D17/D11/D8<Lijsten!F3,Lijsten!F3,IF(D17/D11/D8>Lijsten!G6,Lijsten!G6,D17/D11/D8)),"")
C25: =IFERROR(IF(D23>0,"Intensiteit: '"&INDEX(Lijsten!$F$3:$L$6,MATCH($D$23,Lijsten!F3:F6,1),3)&"'. Bandbreedte begeleidingsintensiteit: "&INDEX(Lijsten!$F$3:$L$6,MATCH($D$23,Lijsten!F3:F6,1),4)&". Tarief: "&TEXT(INDEX(Lijsten!$F$3:$L$6,MATCH(D23,Lijsten!F3:F6,1),7),"€00,00")& " per uur","Vul alle grijze velden in om de intensiteitsbepaling te zien."),"Vul alle grijze velden in om de intensiteitsbepaling te zien.") -> Vul alle grijze velden in om de intensiteitsbepaling te zien.

Sheet Dagverblijf groep 27
C3: Kenmerken dagverblijfgroep | D3: GEPLAND IN 2023
B4: 1 | C4: Hoeveel verschillende fysieke groepen heeft u met (exact) dit profiel? | F4: Voorbeeld: de groepen 'Eik' en 'Beuk' zijn identieke groepen? Vul 2 in.
B5: 2 | C5: Hoeveel % van deze capaciteit komt in 2023 ongeveer ten goede aan jeugdigen uit Haarlemmermeer? | F5: Waarde invullen van 0-100%. Deze informatie wordt gebruikt ter raming van de toekomstige capaciteit.
B6: 3 | C6: Gemiddeld aantal gepland aanwezige clïënten (alle, niet alleen de Haarlemmermeerse) per openingsdag | F6: Dit hoeven niet uitsluitend jeugdigen te zijn onder de Jeugdwet
B7: 4 | C7: Bezettingsgraad | F7: Kies een percentage tussen 92,5% en 100%
B8: 5 | C8: Gemiddeld aantal feitelijk aanwezig clïënten per openingsdag (wordt automatisch gevuld!) | D8: =D6*D7 -> 0
B9: 6 | C9: Aantal openingsdagen per week
B10: 7 | C10: Aantal openingsuren per week | F10: Het betreft hier de uren waarop jeugdigen aanwezig mogen en kunnen zijn.
B11: 8 | C11: Openingsuren per jaar, rekening houdend met vakanties en gesloten (feest- & studie-)dagen
B12: 9 | C12: Productie 2023 in 'cliënturen' (wordt automatisch gevuld!) | D12: =D11*D8 -> 0
B13: 10 | C13: Aantal openingsweken per jaar (wordt automatisch gevuld!) | D13: =IFERROR(D11/D10,0) -> 0
B14: 11 | C14: Aantal openingsdagen (wordt automatisch gevuld!) | D14: =IFERROR((D11/D10*D9),0) -> 0
B15: 12 | C15: Totaal formatie groepsbegeleiders op deze groep (in fte) | F15: Uitsluitend uren van groepsbegeleiders, niet van gedragswetenschapper of behandelaren.
B16: 13 | C16: Totaal bruto uren groepbegeleiders beschikbaar (= fte x 1.877, wordt automatisch gevuld) | D16: =D15*(365/7)*36 -> 0
B17: 14 | C17: ="Netto roosteruren groepsbegeleiders op de groep TIJDENS de "&TEXT(D11,"#.###")&" openingsuren per jaar" -> Netto roosteruren groepsbegeleiders op de groep TIJDENS de openingsuren per jaar | F17: (voorbeeld: altijd 2 begeleiders op de groep? Roosteruren = openingsuren per jaar x 2)
B18: 15 | C18: Netto aanwezigheidsuren BUITEN de openingsuren van groepsbegeleiders per openingsdag | F18: Let op: per openingsdag! Deze tijd is uitdrukkelijk bedoeld als voor- en nabereiding en NIET bedoeld voor het leveren van ambulante jeugdhulp.
B19: 16 | C19: Netto aanwezigheidsuren per jaar BUITEN de openingsuren (wordt automatisch gevuld!) | D19: =IF(D18>0,D14*D18,"")
B20: 17 | C20: Overige (bruto) tijd van groepbegeleiders (wordt automatisch gevuld!) | D20: =IF(COUNTA(D16:D18)=3,D16-D17-D18,"")
B21: 18 | C21: …. aantal inroosterbare uren per fte begeleider per jaar… (wordt automatisch gevuld!) | D21: =IFERROR((D17+D19)/D15,"") | F21: =IF(COUNTA(D17:D18,D15)=3," Check: kloppen deze twee gele waarden met jullie administratie? Zie ook de invulinstructie.","")
B22: 19 | C22: …. dit aantal inroosterbare uren komt overeen met productiviteit van…. (wordt automatisch gevuld!) | D22: =IFERROR(D21/1878,"")
B23: 20 | C23: Begeleidingsintensiteit (wordt automatisch gevuld!) | D23: =IFERROR(IF(D17/D11/D8<Lijsten!F3,Lijsten!F3,IF(D17/D11/D8>Lijsten!G6,Lijsten!G6,D17/D11/D8)),"")
C25: =IFERROR(IF(D23>0,"Intensiteit: '"&INDEX(Lijsten!$F$3:$L$6,MATCH($D$23,Lijsten!F3:F6,1),3)&"'. Bandbreedte begeleidingsintensiteit: "&INDEX(Lijsten!$F$3:$L$6,MATCH($D$23,Lijsten!F3:F6,1),4)&". Tarief: "&TEXT(INDEX(Lijsten!$F$3:$L$6,MATCH(D23,Lijsten!F3:F6,1),7),"€00,00")& " per uur","Vul alle grijze velden in om de intensiteitsbepaling te zien."),"Vul alle grijze velden in om de intensiteitsbepaling te zien.") -> Vul alle grijze velden in om de intensiteitsbepaling te zien.

Sheet Dagverblijf groep 28
C3: Kenmerken dagverblijfgroep | D3: GEPLAND IN 2023
B4: 1 | C4: Hoeveel verschillende fysieke groepen heeft u met (exact) dit profiel? | F4: Voorbeeld: de groepen 'Eik' en 'Beuk' zijn identieke groepen? Vul 2 in.
B5: 2 | C5: Hoeveel % van deze capaciteit komt in 2023 ongeveer ten goede aan jeugdigen uit Haarlemmermeer? | F5: Waarde invullen van 0-100%. Deze informatie wordt gebruikt ter raming van de toekomstige capaciteit.
B6: 3 | C6: Gemiddeld aantal gepland aanwezige clïënten (alle, niet alleen de Haarlemmermeerse) per openingsdag | F6: Dit hoeven niet uitsluitend jeugdigen te zijn onder de Jeugdwet
B7: 4 | C7: Bezettingsgraad | F7: Kies een percentage tussen 92,5% en 100%
B8: 5 | C8: Gemiddeld aantal feitelijk aanwezig clïënten per openingsdag (wordt automatisch gevuld!) | D8: =D6*D7 -> 0
B9: 6 | C9: Aantal openingsdagen per week
B10: 7 | C10: Aantal openingsuren per week | F10: Het betreft hier de uren waarop jeugdigen aanwezig mogen en kunnen zijn.
B11: 8 | C11: Openingsuren per jaar, rekening houdend met vakanties en gesloten (feest- & studie-)dagen
B12: 9 | C12: Productie 2023 in 'cliënturen' (wordt automatisch gevuld!) | D12: =D11*D8 -> 0
B13: 10 | C13: Aantal openingsweken per jaar (wordt automatisch gevuld!) | D13: =IFERROR(D11/D10,0) -> 0
B14: 11 | C14: Aantal openingsdagen (wordt automatisch gevuld!) | D14: =IFERROR((D11/D10*D9),0) -> 0
B15: 12 | C15: Totaal formatie groepsbegeleiders op deze groep (in fte) | F15: Uitsluitend uren van groepsbegeleiders, niet van gedragswetenschapper of behandelaren.
B16: 13 | C16: Totaal bruto uren groepbegeleiders beschikbaar (= fte x 1.877, wordt automatisch gevuld) | D16: =D15*(365/7)*36 -> 0
B17: 14 | C17: ="Netto roosteruren groepsbegeleiders op de groep TIJDENS de "&TEXT(D11,"#.###")&" openingsuren per jaar" -> Netto roosteruren groepsbegeleiders op de groep TIJDENS de openingsuren per jaar | F17: (voorbeeld: altijd 2 begeleiders op de groep? Roosteruren = openingsuren per jaar x 2)
B18: 15 | C18: Netto aanwezigheidsuren BUITEN de openingsuren van groepsbegeleiders per openingsdag | F18: Let op: per openingsdag! Deze tijd is uitdrukkelijk bedoeld als voor- en nabereiding en NIET bedoeld voor het leveren van ambulante jeugdhulp.
B19: 16 | C19: Netto aanwezigheidsuren per jaar BUITEN de openingsuren (wordt automatisch gevuld!) | D19: =IF(D18>0,D14*D18,"")
B20: 17 | C20: Overige (bruto) tijd van groepbegeleiders (wordt automatisch gevuld!) | D20: =IF(COUNTA(D16:D18)=3,D16-D17-D18,"")
B21: 18 | C21: …. aantal inroosterbare uren per fte begeleider per jaar… (wordt automatisch gevuld!) | D21: =IFERROR((D17+D19)/D15,"") | F21: =IF(COUNTA(D17:D18,D15)=3," Check: kloppen deze twee gele waarden met jullie administratie? Zie ook de invulinstructie.","")
B22: 19 | C22: …. dit aantal inroosterbare uren komt overeen met productiviteit van…. (wordt automatisch gevuld!) | D22: =IFERROR(D21/1878,"")
B23: 20 | C23: Begeleidingsintensiteit (wordt automatisch gevuld!) | D23: =IFERROR(IF(D17/D11/D8<Lijsten!F3,Lijsten!F3,IF(D17/D11/D8>Lijsten!G6,Lijsten!G6,D17/D11/D8)),"")
C25: =IFERROR(IF(D23>0,"Intensiteit: '"&INDEX(Lijsten!$F$3:$L$6,MATCH($D$23,Lijsten!F3:F6,1),3)&"'. Bandbreedte begeleidingsintensiteit: "&INDEX(Lijsten!$F$3:$L$6,MATCH($D$23,Lijsten!F3:F6,1),4)&". Tarief: "&TEXT(INDEX(Lijsten!$F$3:$L$6,MATCH(D23,Lijsten!F3:F6,1),7),"€00,00")& " per uur","Vul alle grijze velden in om de intensiteitsbepaling te zien."),"Vul alle grijze velden in om de intensiteitsbepaling te zien.") -> Vul alle grijze velden in om de intensiteitsbepaling te zien.

Sheet Dagverblijf groep 29
C3: Kenmerken dagverblijfgroep | D3: GEPLAND IN 2023
B4: 1 | C4: Hoeveel verschillende fysieke groepen heeft u met (exact) dit profiel? | F4: Voorbeeld: de groepen 'Eik' en 'Beuk' zijn identieke groepen? Vul 2 in.
B5: 2 | C5: Hoeveel % van deze capaciteit komt in 2023 ongeveer ten goede aan jeugdigen uit Haarlemmermeer? | F5: Waarde invullen van 0-100%. Deze informatie wordt gebruikt ter raming van de toekomstige capaciteit.
B6: 3 | C6: Gemiddeld aantal gepland aanwezige clïënten (alle, niet alleen de Haarlemmermeerse) per openingsdag | F6: Dit hoeven niet uitsluitend jeugdigen te zijn onder de Jeugdwet
B7: 4 | C7: Bezettingsgraad | F7: Kies een percentage tussen 92,5% en 100%
B8: 5 | C8: Gemiddeld aantal feitelijk aanwezig clïënten per openingsdag (wordt automatisch gevuld!) | D8: =D6*D7 -> 0
B9: 6 | C9: Aantal openingsdagen per week
B10: 7 | C10: Aantal openingsuren per week | F10: Het betreft hier de uren waarop jeugdigen aanwezig mogen en kunnen zijn.
B11: 8 | C11: Openingsuren per jaar, rekening houdend met vakanties en gesloten (feest- & studie-)dagen
B12: 9 | C12: Productie 2023 in 'cliënturen' (wordt automatisch gevuld!) | D12: =D11*D8 -> 0
B13: 10 | C13: Aantal openingsweken per jaar (wordt automatisch gevuld!) | D13: =IFERROR(D11/D10,0) -> 0
B14: 11 | C14: Aantal openingsdagen (wordt automatisch gevuld!) | D14: =IFERROR((D11/D10*D9),0) -> 0
B15: 12 | C15: Totaal formatie groepsbegeleiders op deze groep (in fte) | F15: Uitsluitend uren van groepsbegeleiders, niet van gedragswetenschapper of behandelaren.
B16: 13 | C16: Totaal bruto uren groepbegeleiders beschikbaar (= fte x 1.877, wordt automatisch gevuld) | D16: =D15*(365/7)*36 -> 0
B17: 14 | C17: ="Netto roosteruren groepsbegeleiders op de groep TIJDENS de "&TEXT(D11,"#.###")&" openingsuren per jaar" -> Netto roosteruren groepsbegeleiders op de groep TIJDENS de openingsuren per jaar | F17: (voorbeeld: altijd 2 begeleiders op de groep? Roosteruren = openingsuren per jaar x 2)
B18: 15 | C18: Netto aanwezigheidsuren BUITEN de openingsuren van groepsbegeleiders per openingsdag | F18: Let op: per openingsdag! Deze tijd is uitdrukkelijk bedoeld als voor- en nabereiding en NIET bedoeld voor het leveren van ambulante jeugdhulp.
B19: 16 | C19: Netto aanwezigheidsuren per jaar BUITEN de openingsuren (wordt automatisch gevuld!) | D19: =IF(D18>0,D14*D18,"")
B20: 17 | C20: Overige (bruto) tijd van groepbegeleiders (wordt automatisch gevuld!) | D20: =IF(COUNTA(D16:D18)=3,D16-D17-D18,"")
B21: 18 | C21: …. aantal inroosterbare uren per fte begeleider per jaar… (wordt automatisch gevuld!) | D21: =IFERROR((D17+D19)/D15,"") | F21: =IF(COUNTA(D17:D18,D15)=3," Check: kloppen deze twee gele waarden met jullie administratie? Zie ook de invulinstructie.","")
B22: 19 | C22: …. dit aantal inroosterbare uren komt overeen met productiviteit van…. (wordt automatisch gevuld!) | D22: =IFERROR(D21/1878,"")
B23: 20 | C23: Begeleidingsintensiteit (wordt automatisch gevuld!) | D23: =IFERROR(IF(D17/D11/D8<Lijsten!F3,Lijsten!F3,IF(D17/D11/D8>Lijsten!G6,Lijsten!G6,D17/D11/D8)),"")
C25: =IFERROR(IF(D23>0,"Intensiteit: '"&INDEX(Lijsten!$F$3:$L$6,MATCH($D$23,Lijsten!F3:F6,1),3)&"'. Bandbreedte begeleidingsintensiteit: "&INDEX(Lijsten!$F$3:$L$6,MATCH($D$23,Lijsten!F3:F6,1),4)&". Tarief: "&TEXT(INDEX(Lijsten!$F$3:$L$6,MATCH(D23,Lijsten!F3:F6,1),7),"€00,00")& " per uur","Vul alle grijze velden in om de intensiteitsbepaling te zien."),"Vul alle grijze velden in om de intensiteitsbepaling te zien.") -> Vul alle grijze velden in om de intensiteitsbepaling te zien.

Sheet Dagverblijf groep 30
C3: Kenmerken dagverblijfgroep | D3: GEPLAND IN 2023
B4: 1 | C4: Hoeveel verschillende fysieke groepen heeft u met (exact) dit profiel? | F4: Voorbeeld: de groepen 'Eik' en 'Beuk' zijn identieke groepen? Vul 2 in.
B5: 2 | C5: Hoeveel % van deze capaciteit komt in 2023 ongeveer ten goede aan jeugdigen uit Haarlemmermeer? | F5: Waarde invullen van 0-100%. Deze informatie wordt gebruikt ter raming van de toekomstige capaciteit.
B6: 3 | C6: Gemiddeld aantal gepland aanwezige clïënten (alle, niet alleen de Haarlemmermeerse) per openingsdag | F6: Dit hoeven niet uitsluitend jeugdigen te zijn onder de Jeugdwet
B7: 4 | C7: Bezettingsgraad | F7: Kies een percentage tussen 92,5% en 100%
B8: 5 | C8: Gemiddeld aantal feitelijk aanwezig clïënten per openingsdag (wordt automatisch gevuld!) | D8: =D6*D7 -> 0
B9: 6 | C9: Aantal openingsdagen per week
B10: 7 | C10: Aantal openingsuren per week | F10: Het betreft hier de uren waarop jeugdigen aanwezig mogen en kunnen zijn.
B11: 8 | C11: Openingsuren per jaar, rekening houdend met vakanties en gesloten (feest- & studie-)dagen
B12: 9 | C12: Productie 2023 in 'cliënturen' (wordt automatisch gevuld!) | D12: =D11*D8 -> 0
B13: 10 | C13: Aantal openingsweken per jaar (wordt automatisch gevuld!) | D13: =IFERROR(D11/D10,0) -> 0
B14: 11 | C14: Aantal openingsdagen (wordt automatisch gevuld!) | D14: =IFERROR((D11/D10*D9),0) -> 0
B15: 12 | C15: Totaal formatie groepsbegeleiders op deze groep (in fte) | F15: Uitsluitend uren van groepsbegeleiders, niet van gedragswetenschapper of behandelaren.
B16: 13 | C16: Totaal bruto uren groepbegeleiders beschikbaar (= fte x 1.877, wordt automatisch gevuld) | D16: =D15*(365/7)*36 -> 0
B17: 14 | C17: ="Netto roosteruren groepsbegeleiders op de groep TIJDENS de "&TEXT(D11,"#.###")&" openingsuren per jaar" -> Netto roosteruren groepsbegeleiders op de groep TIJDENS de openingsuren per jaar | F17: (voorbeeld: altijd 2 begeleiders op de groep? Roosteruren = openingsuren per jaar x 2)
B18: 15 | C18: Netto aanwezigheidsuren BUITEN de openingsuren van groepsbegeleiders per openingsdag | F18: Let op: per openingsdag! Deze tijd is uitdrukkelijk bedoeld als voor- en nabereiding en NIET bedoeld voor het leveren van ambulante jeugdhulp.
B19: 16 | C19: Netto aanwezigheidsuren per jaar BUITEN de openingsuren (wordt automatisch gevuld!) | D19: =IF(D18>0,D14*D18,"")
B20: 17 | C20: Overige (bruto) tijd van groepbegeleiders (wordt automatisch gevuld!) | D20: =IF(COUNTA(D16:D18)=3,D16-D17-D18,"")
B21: 18 | C21: …. aantal inroosterbare uren per fte begeleider per jaar… (wordt automatisch gevuld!) | D21: =IFERROR((D17+D19)/D15,"") | F21: =IF(COUNTA(D17:D18,D15)=3," Check: kloppen deze twee gele waarden met jullie administratie? Zie ook de invulinstructie.","")
B22: 19 | C22: …. dit aantal inroosterbare uren komt overeen met productiviteit van…. (wordt automatisch gevuld!) | D22: =IFERROR(D21/1878,"")
B23: 20 | C23: Begeleidingsintensiteit (wordt automatisch gevuld!) | D23: =IFERROR(IF(D17/D11/D8<Lijsten!F3,Lijsten!F3,IF(D17/D11/D8>Lijsten!G6,Lijsten!G6,D17/D11/D8)),"")
C25: =IFERROR(IF(D23>0,"Intensiteit: '"&INDEX(Lijsten!$F$3:$L$6,MATCH($D$23,Lijsten!F3:F6,1),3)&"'. Bandbreedte begeleidingsintensiteit: "&INDEX(Lijsten!$F$3:$L$6,MATCH($D$23,Lijsten!F3:F6,1),4)&". Tarief: "&TEXT(INDEX(Lijsten!$F$3:$L$6,MATCH(D23,Lijsten!F3:F6,1),7),"€00,00")& " per uur","Vul alle grijze velden in om de intensiteitsbepaling te zien."),"Vul alle grijze velden in om de intensiteitsbepaling te zien.") -> Vul alle grijze velden in om de intensiteitsbepaling te zien.

Sheet Dagverblijf groep 31
C3: Kenmerken dagverblijfgroep | D3: GEPLAND IN 2023
B4: 1 | C4: Hoeveel verschillende fysieke groepen heeft u met (exact) dit profiel? | F4: Voorbeeld: de groepen 'Eik' en 'Beuk' zijn identieke groepen? Vul 2 in.
B5: 2 | C5: Hoeveel % van deze capaciteit komt in 2023 ongeveer ten goede aan jeugdigen uit Haarlemmermeer? | F5: Waarde invullen van 0-100%. Deze informatie wordt gebruikt ter raming van de toekomstige capaciteit.
B6: 3 | C6: Gemiddeld aantal gepland aanwezige clïënten (alle, niet alleen de Haarlemmermeerse) per openingsdag | F6: Dit hoeven niet uitsluitend jeugdigen te zijn onder de Jeugdwet
B7: 4 | C7: Bezettingsgraad | F7: Kies een percentage tussen 92,5% en 100%
B8: 5 | C8: Gemiddeld aantal feitelijk aanwezig clïënten per openingsdag (wordt automatisch gevuld!) | D8: =D6*D7 -> 0
B9: 6 | C9: Aantal openingsdagen per week
B10: 7 | C10: Aantal openingsuren per week | F10: Het betreft hier de uren waarop jeugdigen aanwezig mogen en kunnen zijn.
B11: 8 | C11: Openingsuren per jaar, rekening houdend met vakanties en gesloten (feest- & studie-)dagen
B12: 9 | C12: Productie 2023 in 'cliënturen' (wordt automatisch gevuld!) | D12: =D11*D8 -> 0
B13: 10 | C13: Aantal openingsweken per jaar (wordt automatisch gevuld!) | D13: =IFERROR(D11/D10,0) -> 0
B14: 11 | C14: Aantal openingsdagen (wordt automatisch gevuld!) | D14: =IFERROR((D11/D10*D9),0) -> 0
B15: 12 | C15: Totaal formatie groepsbegeleiders op deze groep (in fte) | F15: Uitsluitend uren van groepsbegeleiders, niet van gedragswetenschapper of behandelaren.
B16: 13 | C16: Totaal bruto uren groepbegeleiders beschikbaar (= fte x 1.877, wordt automatisch gevuld) | D16: =D15*(365/7)*36 -> 0
B17: 14 | C17: ="Netto roosteruren groepsbegeleiders op de groep TIJDENS de "&TEXT(D11,"#.###")&" openingsuren per jaar" -> Netto roosteruren groepsbegeleiders op de groep TIJDENS de openingsuren per jaar | F17: (voorbeeld: altijd 2 begeleiders op de groep? Roosteruren = openingsuren per jaar x 2)
B18: 15 | C18: Netto aanwezigheidsuren BUITEN de openingsuren van groepsbegeleiders per openingsdag | F18: Let op: per openingsdag! Deze tijd is uitdrukkelijk bedoeld als voor- en nabereiding en NIET bedoeld voor het leveren van ambulante jeugdhulp.
B19: 16 | C19: Netto aanwezigheidsuren per jaar BUITEN de openingsuren (wordt automatisch gevuld!) | D19: =IF(D18>0,D14*D18,"")
B20: 17 | C20: Overige (bruto) tijd van groepbegeleiders (wordt automatisch gevuld!) | D20: =IF(COUNTA(D16:D18)=3,D16-D17-D18,"")
B21: 18 | C21: …. aantal inroosterbare uren per fte begeleider per jaar… (wordt automatisch gevuld!) | D21: =IFERROR((D17+D19)/D15,"") | F21: =IF(COUNTA(D17:D18,D15)=3," Check: kloppen deze twee gele waarden met jullie administratie? Zie ook de invulinstructie.","")
B22: 19 | C22: …. dit aantal inroosterbare uren komt overeen met productiviteit van…. (wordt automatisch gevuld!) | D22: =IFERROR(D21/1878,"")
B23: 20 | C23: Begeleidingsintensiteit (wordt automatisch gevuld!) | D23: =IFERROR(IF(D17/D11/D8<Lijsten!F3,Lijsten!F3,IF(D17/D11/D8>Lijsten!G6,Lijsten!G6,D17/D11/D8)),"")
C25: =IFERROR(IF(D23>0,"Intensiteit: '"&INDEX(Lijsten!$F$3:$L$6,MATCH($D$23,Lijsten!F3:F6,1),3)&"'. Bandbreedte begeleidingsintensiteit: "&INDEX(Lijsten!$F$3:$L$6,MATCH($D$23,Lijsten!F3:F6,1),4)&". Tarief: "&TEXT(INDEX(Lijsten!$F$3:$L$6,MATCH(D23,Lijsten!F3:F6,1),7),"€00,00")& " per uur","Vul alle grijze velden in om de intensiteitsbepaling te zien."),"Vul alle grijze velden in om de intensiteitsbepaling te zien.") -> Vul alle grijze velden in om de intensiteitsbepaling te zien.

Sheet Dagverblijf groep 32
C3: Kenmerken dagverblijfgroep | D3: GEPLAND IN 2023
B4: 1 | C4: Hoeveel verschillende fysieke groepen heeft u met (exact) dit profiel? | F4: Voorbeeld: de groepen 'Eik' en 'Beuk' zijn identieke groepen? Vul 2 in.
B5: 2 | C5: Hoeveel % van deze capaciteit komt in 2023 ongeveer ten goede aan jeugdigen uit Haarlemmermeer? | F5: Waarde invullen van 0-100%. Deze informatie wordt gebruikt ter raming van de toekomstige capaciteit.
B6: 3 | C6: Gemiddeld aantal gepland aanwezige clïënten (alle, niet alleen de Haarlemmermeerse) per openingsdag | F6: Dit hoeven niet uitsluitend jeugdigen te zijn onder de Jeugdwet
B7: 4 | C7: Bezettingsgraad | F7: Kies een percentage tussen 92,5% en 100%
B8: 5 | C8: Gemiddeld aantal feitelijk aanwezig clïënten per openingsdag (wordt automatisch gevuld!) | D8: =D6*D7 -> 0
B9: 6 | C9: Aantal openingsdagen per week
B10: 7 | C10: Aantal openingsuren per week | F10: Het betreft hier de uren waarop jeugdigen aanwezig mogen en kunnen zijn.
B11: 8 | C11: Openingsuren per jaar, rekening houdend met vakanties en gesloten (feest- & studie-)dagen
B12: 9 | C12: Productie 2023 in 'cliënturen' (wordt automatisch gevuld!) | D12: =D11*D8 -> 0
B13: 10 | C13: Aantal openingsweken per jaar (wordt automatisch gevuld!) | D13: =IFERROR(D11/D10,0) -> 0
B14: 11 | C14: Aantal openingsdagen (wordt automatisch gevuld!) | D14: =IFERROR((D11/D10*D9),0) -> 0
B15: 12 | C15: Totaal formatie groepsbegeleiders op deze groep (in fte) | F15: Uitsluitend uren van groepsbegeleiders, niet van gedragswetenschapper of behandelaren.
B16: 13 | C16: Totaal bruto uren groepbegeleiders beschikbaar (= fte x 1.877, wordt automatisch gevuld) | D16: =D15*(365/7)*36 -> 0
B17: 14 | C17: ="Netto roosteruren groepsbegeleiders op de groep TIJDENS de "&TEXT(D11,"#.###")&" openingsuren per jaar" -> Netto roosteruren groepsbegeleiders op de groep TIJDENS de openingsuren per jaar | F17: (voorbeeld: altijd 2 begeleiders op de groep? Roosteruren = openingsuren per jaar x 2)
B18: 15 | C18: Netto aanwezigheidsuren BUITEN de openingsuren van groepsbegeleiders per openingsdag | F18: Let op: per openingsdag! Deze tijd is uitdrukkelijk bedoeld als voor- en nabereiding en NIET bedoeld voor het leveren van ambulante jeugdhulp.
B19: 16 | C19: Netto aanwezigheidsuren per jaar BUITEN de openingsuren (wordt automatisch gevuld!) | D19: =IF(D18>0,D14*D18,"")
B20: 17 | C20: Overige (bruto) tijd van groepbegeleiders (wordt automatisch gevuld!) | D20: =IF(COUNTA(D16:D18)=3,D16-D17-D18,"")
B21: 18 | C21: …. aantal inroosterbare uren per fte begeleider per jaar… (wordt automatisch gevuld!) | D21: =IFERROR((D17+D19)/D15,"") | F21: =IF(COUNTA(D17:D18,D15)=3," Check: kloppen deze twee gele waarden met jullie administratie? Zie ook de invulinstructie.","")
B22: 19 | C22: …. dit aantal inroosterbare uren komt overeen met productiviteit van…. (wordt automatisch gevuld!) | D22: =IFERROR(D21/1878,"")
B23: 20 | C23: Begeleidingsintensiteit (wordt automatisch gevuld!) | D23: =IFERROR(IF(D17/D11/D8<Lijsten!F3,Lijsten!F3,IF(D17/D11/D8>Lijsten!G6,Lijsten!G6,D17/D11/D8)),"")
C25: =IFERROR(IF(D23>0,"Intensiteit: '"&INDEX(Lijsten!$F$3:$L$6,MATCH($D$23,Lijsten!F3:F6,1),3)&"'. Bandbreedte begeleidingsintensiteit: "&INDEX(Lijsten!$F$3:$L$6,MATCH($D$23,Lijsten!F3:F6,1),4)&". Tarief: "&TEXT(INDEX(Lijsten!$F$3:$L$6,MATCH(D23,Lijsten!F3:F6,1),7),"€00,00")& " per uur","Vul alle grijze velden in om de intensiteitsbepaling te zien."),"Vul alle grijze velden in om de intensiteitsbepaling te zien.") -> Vul alle grijze velden in om de intensiteitsbepaling te zien.

Sheet Dagverblijf groep 33
C3: Kenmerken dagverblijfgroep | D3: GEPLAND IN 2023
B4: 1 | C4: Hoeveel verschillende fysieke groepen heeft u met (exact) dit profiel? | F4: Voorbeeld: de groepen 'Eik' en 'Beuk' zijn identieke groepen? Vul 2 in.
B5: 2 | C5: Hoeveel % van deze capaciteit komt in 2023 ongeveer ten goede aan jeugdigen uit Haarlemmermeer? | F5: Waarde invullen van 0-100%. Deze informatie wordt gebruikt ter raming van de toekomstige capaciteit.
B6: 3 | C6: Gemiddeld aantal gepland aanwezige clïënten (alle, niet alleen de Haarlemmermeerse) per openingsdag | F6: Dit hoeven niet uitsluitend jeugdigen te zijn onder de Jeugdwet
B7: 4 | C7: Bezettingsgraad | F7: Kies een percentage tussen 92,5% en 100%
B8: 5 | C8: Gemiddeld aantal feitelijk aanwezig clïënten per openingsdag (wordt automatisch gevuld!) | D8: =D6*D7 -> 0
B9: 6 | C9: Aantal openingsdagen per week
B10: 7 | C10: Aantal openingsuren per week | F10: Het betreft hier de uren waarop jeugdigen aanwezig mogen en kunnen zijn.
B11: 8 | C11: Openingsuren per jaar, rekening houdend met vakanties en gesloten (feest- & studie-)dagen
B12: 9 | C12: Productie 2023 in 'cliënturen' (wordt automatisch gevuld!) | D12: =D11*D8 -> 0
B13: 10 | C13: Aantal openingsweken per jaar (wordt automatisch gevuld!) | D13: =IFERROR(D11/D10,0) -> 0
B14: 11 | C14: Aantal openingsdagen (wordt automatisch gevuld!) | D14: =IFERROR((D11/D10*D9),0) -> 0
B15: 12 | C15: Totaal formatie groepsbegeleiders op deze groep (in fte) | F15: Uitsluitend uren van groepsbegeleiders, niet van gedragswetenschapper of behandelaren.
B16: 13 | C16: Totaal bruto uren groepbegeleiders beschikbaar (= fte x 1.877, wordt automatisch gevuld) | D16: =D15*(365/7)*36 -> 0
B17: 14 | C17: ="Netto roosteruren groepsbegeleiders op de groep TIJDENS de "&TEXT(D11,"#.###")&" openingsuren per jaar" -> Netto roosteruren groepsbegeleiders op de groep TIJDENS de openingsuren per jaar | F17: (voorbeeld: altijd 2 begeleiders op de groep? Roosteruren = openingsuren per jaar x 2)
B18: 15 | C18: Netto aanwezigheidsuren BUITEN de openingsuren van groepsbegeleiders per openingsdag | F18: Let op: per openingsdag! Deze tijd is uitdrukkelijk bedoeld als voor- en nabereiding en NIET bedoeld voor het leveren van ambulante jeugdhulp.
B19: 16 | C19: Netto aanwezigheidsuren per jaar BUITEN de openingsuren (wordt automatisch gevuld!) | D19: =IF(D18>0,D14*D18,"")
B20: 17 | C20: Overige (bruto) tijd van groepbegeleiders (wordt automatisch gevuld!) | D20: =IF(COUNTA(D16:D18)=3,D16-D17-D18,"")
B21: 18 | C21: …. aantal inroosterbare uren per fte begeleider per jaar… (wordt automatisch gevuld!) | D21: =IFERROR((D17+D19)/D15,"") | F21: =IF(COUNTA(D17:D18,D15)=3," Check: kloppen deze twee gele waarden met jullie administratie? Zie ook de invulinstructie.","")
B22: 19 | C22: …. dit aantal inroosterbare uren komt overeen met productiviteit van…. (wordt automatisch gevuld!) | D22: =IFERROR(D21/1878,"")
B23: 20 | C23: Begeleidingsintensiteit (wordt automatisch gevuld!) | D23: =IFERROR(IF(D17/D11/D8<Lijsten!F3,Lijsten!F3,IF(D17/D11/D8>Lijsten!G6,Lijsten!G6,D17/D11/D8)),"")
C25: =IFERROR(IF(D23>0,"Intensiteit: '"&INDEX(Lijsten!$F$3:$L$6,MATCH($D$23,Lijsten!F3:F6,1),3)&"'. Bandbreedte begeleidingsintensiteit: "&INDEX(Lijsten!$F$3:$L$6,MATCH($D$23,Lijsten!F3:F6,1),4)&". Tarief: "&TEXT(INDEX(Lijsten!$F$3:$L$6,MATCH(D23,Lijsten!F3:F6,1),7),"€00,00")& " per uur","Vul alle grijze velden in om de intensiteitsbepaling te zien."),"Vul alle grijze velden in om de intensiteitsbepaling te zien.") -> Vul alle grijze velden in om de intensiteitsbepaling te zien.

Sheet Dagverblijf groep 34
C3: Kenmerken dagverblijfgroep | D3: GEPLAND IN 2023
B4: 1 | C4: Hoeveel verschillende fysieke groepen heeft u met (exact) dit profiel? | F4: Voorbeeld: de groepen 'Eik' en 'Beuk' zijn identieke groepen? Vul 2 in.
B5: 2 | C5: Hoeveel % van deze capaciteit komt in 2023 ongeveer ten goede aan jeugdigen uit Haarlemmermeer? | F5: Waarde invullen van 0-100%. Deze informatie wordt gebruikt ter raming van de toekomstige capaciteit.
B6: 3 | C6: Gemiddeld aantal gepland aanwezige clïënten (alle, niet alleen de Haarlemmermeerse) per openingsdag | F6: Dit hoeven niet uitsluitend jeugdigen te zijn onder de Jeugdwet
B7: 4 | C7: Bezettingsgraad | F7: Kies een percentage tussen 92,5% en 100%
B8: 5 | C8: Gemiddeld aantal feitelijk aanwezig clïënten per openingsdag (wordt automatisch gevuld!) | D8: =D6*D7 -> 0
B9: 6 | C9: Aantal openingsdagen per week
B10: 7 | C10: Aantal openingsuren per week | F10: Het betreft hier de uren waarop jeugdigen aanwezig mogen en kunnen zijn.
B11: 8 | C11: Openingsuren per jaar, rekening houdend met vakanties en gesloten (feest- & studie-)dagen
B12: 9 | C12: Productie 2023 in 'cliënturen' (wordt automatisch gevuld!) | D12: =D11*D8 -> 0
B13: 10 | C13: Aantal openingsweken per jaar (wordt automatisch gevuld!) | D13: =IFERROR(D11/D10,0) -> 0
B14: 11 | C14: Aantal openingsdagen (wordt automatisch gevuld!) | D14: =IFERROR((D11/D10*D9),0) -> 0
B15: 12 | C15: Totaal formatie groepsbegeleiders op deze groep (in fte) | F15: Uitsluitend uren van groepsbegeleiders, niet van gedragswetenschapper of behandelaren.
B16: 13 | C16: Totaal bruto uren groepbegeleiders beschikbaar (= fte x 1.877, wordt automatisch gevuld) | D16: =D15*(365/7)*36 -> 0
B17: 14 | C17: ="Netto roosteruren groepsbegeleiders op de groep TIJDENS de "&TEXT(D11,"#.###")&" openingsuren per jaar" -> Netto roosteruren groepsbegeleiders op de groep TIJDENS de openingsuren per jaar | F17: (voorbeeld: altijd 2 begeleiders op de groep? Roosteruren = openingsuren per jaar x 2)
B18: 15 | C18: Netto aanwezigheidsuren BUITEN de openingsuren van groepsbegeleiders per openingsdag | F18: Let op: per openingsdag! Deze tijd is uitdrukkelijk bedoeld als voor- en nabereiding en NIET bedoeld voor het leveren van ambulante jeugdhulp.
B19: 16 | C19: Netto aanwezigheidsuren per jaar BUITEN de openingsuren (wordt automatisch gevuld!) | D19: =IF(D18>0,D14*D18,"")
B20: 17 | C20: Overige (bruto) tijd van groepbegeleiders (wordt automatisch gevuld!) | D20: =IF(COUNTA(D16:D18)=3,D16-D17-D18,"")
B21: 18 | C21: …. aantal inroosterbare uren per fte begeleider per jaar… (wordt automatisch gevuld!) | D21: =IFERROR((D17+D19)/D15,"") | F21: =IF(COUNTA(D17:D18,D15)=3," Check: kloppen deze twee gele waarden met jullie administratie? Zie ook de invulinstructie.","")
B22: 19 | C22: …. dit aantal inroosterbare uren komt overeen met productiviteit van…. (wordt automatisch gevuld!) | D22: =IFERROR(D21/1878,"")
B23: 20 | C23: Begeleidingsintensiteit (wordt automatisch gevuld!) | D23: =IFERROR(IF(D17/D11/D8<Lijsten!F3,Lijsten!F3,IF(D17/D11/D8>Lijsten!G6,Lijsten!G6,D17/D11/D8)),"")
C25: =IFERROR(IF(D23>0,"Intensiteit: '"&INDEX(Lijsten!$F$3:$L$6,MATCH($D$23,Lijsten!F3:F6,1),3)&"'. Bandbreedte begeleidingsintensiteit: "&INDEX(Lijsten!$F$3:$L$6,MATCH($D$23,Lijsten!F3:F6,1),4)&". Tarief: "&TEXT(INDEX(Lijsten!$F$3:$L$6,MATCH(D23,Lijsten!F3:F6,1),7),"€00,00")& " per uur","Vul alle grijze velden in om de intensiteitsbepaling te zien."),"Vul alle grijze velden in om de intensiteitsbepaling te zien.") -> Vul alle grijze velden in om de intensiteitsbepaling te zien.

Sheet Dagverblijf groep 35
C3: Kenmerken dagverblijfgroep | D3: GEPLAND IN 2023
B4: 1 | C4: Hoeveel verschillende fysieke groepen heeft u met (exact) dit profiel? | F4: Voorbeeld: de groepen 'Eik' en 'Beuk' zijn identieke groepen? Vul 2 in.
B5: 2 | C5: Hoeveel % van deze capaciteit komt in 2023 ongeveer ten goede aan jeugdigen uit Haarlemmermeer? | F5: Waarde invullen van 0-100%. Deze informatie wordt gebruikt ter raming van de toekomstige capaciteit.
B6: 3 | C6: Gemiddeld aantal gepland aanwezige clïënten (alle, niet alleen de Haarlemmermeerse) per openingsdag | F6: Dit hoeven niet uitsluitend jeugdigen te zijn onder de Jeugdwet
B7: 4 | C7: Bezettingsgraad | F7: Kies een percentage tussen 92,5% en 100%
B8: 5 | C8: Gemiddeld aantal feitelijk aanwezig clïënten per openingsdag (wordt automatisch gevuld!) | D8: =D6*D7 -> 0
B9: 6 | C9: Aantal openingsdagen per week
B10: 7 | C10: Aantal openingsuren per week | F10: Het betreft hier de uren waarop jeugdigen aanwezig mogen en kunnen zijn.
B11: 8 | C11: Openingsuren per jaar, rekening houdend met vakanties en gesloten (feest- & studie-)dagen
B12: 9 | C12: Productie 2023 in 'cliënturen' (wordt automatisch gevuld!) | D12: =D11*D8 -> 0
B13: 10 | C13: Aantal openingsweken per jaar (wordt automatisch gevuld!) | D13: =IFERROR(D11/D10,0) -> 0
B14: 11 | C14: Aantal openingsdagen (wordt automatisch gevuld!) | D14: =IFERROR((D11/D10*D9),0) -> 0
B15: 12 | C15: Totaal formatie groepsbegeleiders op deze groep (in fte) | F15: Uitsluitend uren van groepsbegeleiders, niet van gedragswetenschapper of behandelaren.
B16: 13 | C16: Totaal bruto uren groepbegeleiders beschikbaar (= fte x 1.877, wordt automatisch gevuld) | D16: =D15*(365/7)*36 -> 0
B17: 14 | C17: ="Netto roosteruren groepsbegeleiders op de groep TIJDENS de "&TEXT(D11,"#.###")&" openingsuren per jaar" -> Netto roosteruren groepsbegeleiders op de groep TIJDENS de openingsuren per jaar | F17: (voorbeeld: altijd 2 begeleiders op de groep? Roosteruren = openingsuren per jaar x 2)
B18: 15 | C18: Netto aanwezigheidsuren BUITEN de openingsuren van groepsbegeleiders per openingsdag | F18: Let op: per openingsdag! Deze tijd is uitdrukkelijk bedoeld als voor- en nabereiding en NIET bedoeld voor het leveren van ambulante jeugdhulp.
B19: 16 | C19: Netto aanwezigheidsuren per jaar BUITEN de openingsuren (wordt automatisch gevuld!) | D19: =IF(D18>0,D14*D18,"")
B20: 17 | C20: Overige (bruto) tijd van groepbegeleiders (wordt automatisch gevuld!) | D20: =IF(COUNTA(D16:D18)=3,D16-D17-D18,"")
B21: 18 | C21: …. aantal inroosterbare uren per fte begeleider per jaar… (wordt automatisch gevuld!) | D21: =IFERROR((D17+D19)/D15,"") | F21: =IF(COUNTA(D17:D18,D15)=3," Check: kloppen deze twee gele waarden met jullie administratie? Zie ook de invulinstructie.","")
B22: 19 | C22: …. dit aantal inroosterbare uren komt overeen met productiviteit van…. (wordt automatisch gevuld!) | D22: =IFERROR(D21/1878,"")
B23: 20 | C23: Begeleidingsintensiteit (wordt automatisch gevuld!) | D23: =IFERROR(IF(D17/D11/D8<Lijsten!F3,Lijsten!F3,IF(D17/D11/D8>Lijsten!G6,Lijsten!G6,D17/D11/D8)),"")
C25: =IFERROR(IF(D23>0,"Intensiteit: '"&INDEX(Lijsten!$F$3:$L$6,MATCH($D$23,Lijsten!F3:F6,1),3)&"'. Bandbreedte begeleidingsintensiteit: "&INDEX(Lijsten!$F$3:$L$6,MATCH($D$23,Lijsten!F3:F6,1),4)&". Tarief: "&TEXT(INDEX(Lijsten!$F$3:$L$6,MATCH(D23,Lijsten!F3:F6,1),7),"€00,00")& " per uur","Vul alle grijze velden in om de intensiteitsbepaling te zien."),"Vul alle grijze velden in om de intensiteitsbepaling te zien.") -> Vul alle grijze velden in om de intensiteitsbepaling te zien.

Sheet Dagverblijf groep 36
C3: Kenmerken dagverblijfgroep | D3: GEPLAND IN 2023
B4: 1 | C4: Hoeveel verschillende fysieke groepen heeft u met (exact) dit profiel? | F4: Voorbeeld: de groepen 'Eik' en 'Beuk' zijn identieke groepen? Vul 2 in.
B5: 2 | C5: Hoeveel % van deze capaciteit komt in 2023 ongeveer ten goede aan jeugdigen uit Haarlemmermeer? | F5: Waarde invullen van 0-100%. Deze informatie wordt gebruikt ter raming van de toekomstige capaciteit.
B6: 3 | C6: Gemiddeld aantal gepland aanwezige clïënten (alle, niet alleen de Haarlemmermeerse) per openingsdag | F6: Dit hoeven niet uitsluitend jeugdigen te zijn onder de Jeugdwet
B7: 4 | C7: Bezettingsgraad | F7: Kies een percentage tussen 92,5% en 100%
B8: 5 | C8: Gemiddeld aantal feitelijk aanwezig clïënten per openingsdag (wordt automatisch gevuld!) | D8: =D6*D7 -> 0
B9: 6 | C9: Aantal openingsdagen per week
B10: 7 | C10: Aantal openingsuren per week | F10: Het betreft hier de uren waarop jeugdigen aanwezig mogen en kunnen zijn.
B11: 8 | C11: Openingsuren per jaar, rekening houdend met vakanties en gesloten (feest- & studie-)dagen
B12: 9 | C12: Productie 2023 in 'cliënturen' (wordt automatisch gevuld!) | D12: =D11*D8 -> 0
B13: 10 | C13: Aantal openingsweken per jaar (wordt automatisch gevuld!) | D13: =IFERROR(D11/D10,0) -> 0
B14: 11 | C14: Aantal openingsdagen (wordt automatisch gevuld!) | D14: =IFERROR((D11/D10*D9),0) -> 0
B15: 12 | C15: Totaal formatie groepsbegeleiders op deze groep (in fte) | F15: Uitsluitend uren van groepsbegeleiders, niet van gedragswetenschapper of behandelaren.
B16: 13 | C16: Totaal bruto uren groepbegeleiders beschikbaar (= fte x 1.877, wordt automatisch gevuld) | D16: =D15*(365/7)*36 -> 0
B17: 14 | C17: ="Netto roosteruren groepsbegeleiders op de groep TIJDENS de "&TEXT(D11,"#.###")&" openingsuren per jaar" -> Netto roosteruren groepsbegeleiders op de groep TIJDENS de openingsuren per jaar | F17: (voorbeeld: altijd 2 begeleiders op de groep? Roosteruren = openingsuren per jaar x 2)
B18: 15 | C18: Netto aanwezigheidsuren BUITEN de openingsuren van groepsbegeleiders per openingsdag | F18: Let op: per openingsdag! Deze tijd is uitdrukkelijk bedoeld als voor- en nabereiding en NIET bedoeld voor het leveren van ambulante jeugdhulp.
B19: 16 | C19: Netto aanwezigheidsuren per jaar BUITEN de openingsuren (wordt automatisch gevuld!) | D19: =IF(D18>0,D14*D18,"")
B20: 17 | C20: Overige (bruto) tijd van groepbegeleiders (wordt automatisch gevuld!) | D20: =IF(COUNTA(D16:D18)=3,D16-D17-D18,"")
B21: 18 | C21: …. aantal inroosterbare uren per fte begeleider per jaar… (wordt automatisch gevuld!) | D21: =IFERROR((D17+D19)/D15,"") | F21: =IF(COUNTA(D17:D18,D15)=3," Check: kloppen deze twee gele waarden met jullie administratie? Zie ook de invulinstructie.","")
B22: 19 | C22: …. dit aantal inroosterbare uren komt overeen met productiviteit van…. (wordt automatisch gevuld!) | D22: =IFERROR(D21/1878,"")
B23: 20 | C23: Begeleidingsintensiteit (wordt automatisch gevuld!) | D23: =IFERROR(IF(D17/D11/D8<Lijsten!F3,Lijsten!F3,IF(D17/D11/D8>Lijsten!G6,Lijsten!G6,D17/D11/D8)),"")
C25: =IFERROR(IF(D23>0,"Intensiteit: '"&INDEX(Lijsten!$F$3:$L$6,MATCH($D$23,Lijsten!F3:F6,1),3)&"'. Bandbreedte begeleidingsintensiteit: "&INDEX(Lijsten!$F$3:$L$6,MATCH($D$23,Lijsten!F3:F6,1),4)&". Tarief: "&TEXT(INDEX(Lijsten!$F$3:$L$6,MATCH(D23,Lijsten!F3:F6,1),7),"€00,00")& " per uur","Vul alle grijze velden in om de intensiteitsbepaling te zien."),"Vul alle grijze velden in om de intensiteitsbepaling te zien.") -> Vul alle grijze velden in om de intensiteitsbepaling te zien.

Sheet Dagverblijf groep 37
C3: Kenmerken dagverblijfgroep | D3: GEPLAND IN 2023
B4: 1 | C4: Hoeveel verschillende fysieke groepen heeft u met (exact) dit profiel? | F4: Voorbeeld: de groepen 'Eik' en 'Beuk' zijn identieke groepen? Vul 2 in.
B5: 2 | C5: Hoeveel % van deze capaciteit komt in 2023 ongeveer ten goede aan jeugdigen uit Haarlemmermeer? | F5: Waarde invullen van 0-100%. Deze informatie wordt gebruikt ter raming van de toekomstige capaciteit.
B6: 3 | C6: Gemiddeld aantal gepland aanwezige clïënten (alle, niet alleen de Haarlemmermeerse) per openingsdag | F6: Dit hoeven niet uitsluitend jeugdigen te zijn onder de Jeugdwet
B7: 4 | C7: Bezettingsgraad | F7: Kies een percentage tussen 92,5% en 100%
B8: 5 | C8: Gemiddeld aantal feitelijk aanwezig clïënten per openingsdag (wordt automatisch gevuld!) | D8: =D6*D7 -> 0
B9: 6 | C9: Aantal openingsdagen per week
B10: 7 | C10: Aantal openingsuren per week | F10: Het betreft hier de uren waarop jeugdigen aanwezig mogen en kunnen zijn.
B11: 8 | C11: Openingsuren per jaar, rekening houdend met vakanties en gesloten (feest- & studie-)dagen
B12: 9 | C12: Productie 2023 in 'cliënturen' (wordt automatisch gevuld!) | D12: =D11*D8 -> 0
B13: 10 | C13: Aantal openingsweken per jaar (wordt automatisch gevuld!) | D13: =IFERROR(D11/D10,0) -> 0
B14: 11 | C14: Aantal openingsdagen (wordt automatisch gevuld!) | D14: =IFERROR((D11/D10*D9),0) -> 0
B15: 12 | C15: Totaal formatie groepsbegeleiders op deze groep (in fte) | F15: Uitsluitend uren van groepsbegeleiders, niet van gedragswetenschapper of behandelaren.
B16: 13 | C16: Totaal bruto uren groepbegeleiders beschikbaar (= fte x 1.877, wordt automatisch gevuld) | D16: =D15*(365/7)*36 -> 0
B17: 14 | C17: ="Netto roosteruren groepsbegeleiders op de groep TIJDENS de "&TEXT(D11,"#.###")&" openingsuren per jaar" -> Netto roosteruren groepsbegeleiders op de groep TIJDENS de openingsuren per jaar | F17: (voorbeeld: altijd 2 begeleiders op de groep? Roosteruren = openingsuren per jaar x 2)
B18: 15 | C18: Netto aanwezigheidsuren BUITEN de openingsuren van groepsbegeleiders per openingsdag | F18: Let op: per openingsdag! Deze tijd is uitdrukkelijk bedoeld als voor- en nabereiding en NIET bedoeld voor het leveren van ambulante jeugdhulp.
B19: 16 | C19: Netto aanwezigheidsuren per jaar BUITEN de openingsuren (wordt automatisch gevuld!) | D19: =IF(D18>0,D14*D18,"")
B20: 17 | C20: Overige (bruto) tijd van groepbegeleiders (wordt automatisch gevuld!) | D20: =IF(COUNTA(D16:D18)=3,D16-D17-D18,"")
B21: 18 | C21: …. aantal inroosterbare uren per fte begeleider per jaar… (wordt automatisch gevuld!) | D21: =IFERROR((D17+D19)/D15,"") | F21: =IF(COUNTA(D17:D18,D15)=3," Check: kloppen deze twee gele waarden met jullie administratie? Zie ook de invulinstructie.","")
B22: 19 | C22: …. dit aantal inroosterbare uren komt overeen met productiviteit van…. (wordt automatisch gevuld!) | D22: =IFERROR(D21/1878,"")
B23: 20 | C23: Begeleidingsintensiteit (wordt automatisch gevuld!) | D23: =IFERROR(IF(D17/D11/D8<Lijsten!F3,Lijsten!F3,IF(D17/D11/D8>Lijsten!G6,Lijsten!G6,D17/D11/D8)),"")
C25: =IFERROR(IF(D23>0,"Intensiteit: '"&INDEX(Lijsten!$F$3:$L$6,MATCH($D$23,Lijsten!F3:F6,1),3)&"'. Bandbreedte begeleidingsintensiteit: "&INDEX(Lijsten!$F$3:$L$6,MATCH($D$23,Lijsten!F3:F6,1),4)&". Tarief: "&TEXT(INDEX(Lijsten!$F$3:$L$6,MATCH(D23,Lijsten!F3:F6,1),7),"€00,00")& " per uur","Vul alle grijze velden in om de intensiteitsbepaling te zien."),"Vul alle grijze velden in om de intensiteitsbepaling te zien.") -> Vul alle grijze velden in om de intensiteitsbepaling te zien.

Sheet Dagverblijf groep 38
C3: Kenmerken dagverblijfgroep | D3: GEPLAND IN 2023
B4: 1 | C4: Hoeveel verschillende fysieke groepen heeft u met (exact) dit profiel? | F4: Voorbeeld: de groepen 'Eik' en 'Beuk' zijn identieke groepen? Vul 2 in.
B5: 2 | C5: Hoeveel % van deze capaciteit komt in 2023 ongeveer ten goede aan jeugdigen uit Haarlemmermeer? | F5: Waarde invullen van 0-100%. Deze informatie wordt gebruikt ter raming van de toekomstige capaciteit.
B6: 3 | C6: Gemiddeld aantal gepland aanwezige clïënten (alle, niet alleen de Haarlemmermeerse) per openingsdag | F6: Dit hoeven niet uitsluitend jeugdigen te zijn onder de Jeugdwet
B7: 4 | C7: Bezettingsgraad | F7: Kies een percentage tussen 92,5% en 100%
B8: 5 | C8: Gemiddeld aantal feitelijk aanwezig clïënten per openingsdag (wordt automatisch gevuld!) | D8: =D6*D7 -> 0
B9: 6 | C9: Aantal openingsdagen per week
B10: 7 | C10: Aantal openingsuren per week | F10: Het betreft hier de uren waarop jeugdigen aanwezig mogen en kunnen zijn.
B11: 8 | C11: Openingsuren per jaar, rekening houdend met vakanties en gesloten (feest- & studie-)dagen
B12: 9 | C12: Productie 2023 in 'cliënturen' (wordt automatisch gevuld!) | D12: =D11*D8 -> 0
B13: 10 | C13: Aantal openingsweken per jaar (wordt automatisch gevuld!) | D13: =IFERROR(D11/D10,0) -> 0
B14: 11 | C14: Aantal openingsdagen (wordt automatisch gevuld!) | D14: =IFERROR((D11/D10*D9),0) -> 0
B15: 12 | C15: Totaal formatie groepsbegeleiders op deze groep (in fte) | F15: Uitsluitend uren van groepsbegeleiders, niet van gedragswetenschapper of behandelaren.
B16: 13 | C16: Totaal bruto uren groepbegeleiders beschikbaar (= fte x 1.877, wordt automatisch gevuld) | D16: =D15*(365/7)*36 -> 0
B17: 14 | C17: ="Netto roosteruren groepsbegeleiders op de groep TIJDENS de "&TEXT(D11,"#.###")&" openingsuren per jaar" -> Netto roosteruren groepsbegeleiders op de groep TIJDENS de openingsuren per jaar | F17: (voorbeeld: altijd 2 begeleiders op de groep? Roosteruren = openingsuren per jaar x 2)
B18: 15 | C18: Netto aanwezigheidsuren BUITEN de openingsuren van groepsbegeleiders per openingsdag | F18: Let op: per openingsdag! Deze tijd is uitdrukkelijk bedoeld als voor- en nabereiding en NIET bedoeld voor het leveren van ambulante jeugdhulp.
B19: 16 | C19: Netto aanwezigheidsuren per jaar BUITEN de openingsuren (wordt automatisch gevuld!) | D19: =IF(D18>0,D14*D18,"")
B20: 17 | C20: Overige (bruto) tijd van groepbegeleiders (wordt automatisch gevuld!) | D20: =IF(COUNTA(D16:D18)=3,D16-D17-D18,"")
B21: 18 | C21: …. aantal inroosterbare uren per fte begeleider per jaar… (wordt automatisch gevuld!) | D21: =IFERROR((D17+D19)/D15,"") | F21: =IF(COUNTA(D17:D18,D15)=3," Check: kloppen deze twee gele waarden met jullie administratie? Zie ook de invulinstructie.","")
B22: 19 | C22: …. dit aantal inroosterbare uren komt overeen met productiviteit van…. (wordt automatisch gevuld!) | D22: =IFERROR(D21/1878,"")
B23: 20 | C23: Begeleidingsintensiteit (wordt automatisch gevuld!) | D23: =IFERROR(IF(D17/D11/D8<Lijsten!F3,Lijsten!F3,IF(D17/D11/D8>Lijsten!G6,Lijsten!G6,D17/D11/D8)),"")
C25: =IFERROR(IF(D23>0,"Intensiteit: '"&INDEX(Lijsten!$F$3:$L$6,MATCH($D$23,Lijsten!F3:F6,1),3)&"'. Bandbreedte begeleidingsintensiteit: "&INDEX(Lijsten!$F$3:$L$6,MATCH($D$23,Lijsten!F3:F6,1),4)&". Tarief: "&TEXT(INDEX(Lijsten!$F$3:$L$6,MATCH(D23,Lijsten!F3:F6,1),7),"€00,00")& " per uur","Vul alle grijze velden in om de intensiteitsbepaling te zien."),"Vul alle grijze velden in om de intensiteitsbepaling te zien.") -> Vul alle grijze velden in om de intensiteitsbepaling te zien.

Sheet Dagverblijf groep 39
C3: Kenmerken dagverblijfgroep | D3: GEPLAND IN 2023
B4: 1 | C4: Hoeveel verschillende fysieke groepen heeft u met (exact) dit profiel? | F4: Voorbeeld: de groepen 'Eik' en 'Beuk' zijn identieke groepen? Vul 2 in.
B5: 2 | C5: Hoeveel % van deze capaciteit komt in 2023 ongeveer ten goede aan jeugdigen uit Haarlemmermeer? | F5: Waarde invullen van 0-100%. Deze informatie wordt gebruikt ter raming van de toekomstige capaciteit.
B6: 3 | C6: Gemiddeld aantal gepland aanwezige clïënten (alle, niet alleen de Haarlemmermeerse) per openingsdag | F6: Dit hoeven niet uitsluitend jeugdigen te zijn onder de Jeugdwet
B7: 4 | C7: Bezettingsgraad | F7: Kies een percentage tussen 92,5% en 100%
B8: 5 | C8: Gemiddeld aantal feitelijk aanwezig clïënten per openingsdag (wordt automatisch gevuld!) | D8: =D6*D7 -> 0
B9: 6 | C9: Aantal openingsdagen per week
B10: 7 | C10: Aantal openingsuren per week | F10: Het betreft hier de uren waarop jeugdigen aanwezig mogen en kunnen zijn.
B11: 8 | C11: Openingsuren per jaar, rekening houdend met vakanties en gesloten (feest- & studie-)dagen
B12: 9 | C12: Productie 2023 in 'cliënturen' (wordt automatisch gevuld!) | D12: =D11*D8 -> 0
B13: 10 | C13: Aantal openingsweken per jaar (wordt automatisch gevuld!) | D13: =IFERROR(D11/D10,0) -> 0
B14: 11 | C14: Aantal openingsdagen (wordt automatisch gevuld!) | D14: =IFERROR((D11/D10*D9),0) -> 0
B15: 12 | C15: Totaal formatie groepsbegeleiders op deze groep (in fte) | F15: Uitsluitend uren van groepsbegeleiders, niet van gedragswetenschapper of behandelaren.
B16: 13 | C16: Totaal bruto uren groepbegeleiders beschikbaar (= fte x 1.877, wordt automatisch gevuld) | D16: =D15*(365/7)*36 -> 0
B17: 14 | C17: ="Netto roosteruren groepsbegeleiders op de groep TIJDENS de "&TEXT(D11,"#.###")&" openingsuren per jaar" -> Netto roosteruren groepsbegeleiders op de groep TIJDENS de openingsuren per jaar | F17: (voorbeeld: altijd 2 begeleiders op de groep? Roosteruren = openingsuren per jaar x 2)
B18: 15 | C18: Netto aanwezigheidsuren BUITEN de openingsuren van groepsbegeleiders per openingsdag | F18: Let op: per openingsdag! Deze tijd is uitdrukkelijk bedoeld als voor- en nabereiding en NIET bedoeld voor het leveren van ambulante jeugdhulp.
B19: 16 | C19: Netto aanwezigheidsuren per jaar BUITEN de openingsuren (wordt automatisch gevuld!) | D19: =IF(D18>0,D14*D18,"")
B20: 17 | C20: Overige (bruto) tijd van groepbegeleiders (wordt automatisch gevuld!) | D20: =IF(COUNTA(D16:D18)=3,D16-D17-D18,"")
B21: 18 | C21: …. aantal inroosterbare uren per fte begeleider per jaar… (wordt automatisch gevuld!) | D21: =IFERROR((D17+D19)/D15,"") | F21: =IF(COUNTA(D17:D18,D15)=3," Check: kloppen deze twee gele waarden met jullie administratie? Zie ook de invulinstructie.","")
B22: 19 | C22: …. dit aantal inroosterbare uren komt overeen met productiviteit van…. (wordt automatisch gevuld!) | D22: =IFERROR(D21/1878,"")
B23: 20 | C23: Begeleidingsintensiteit (wordt automatisch gevuld!) | D23: =IFERROR(IF(D17/D11/D8<Lijsten!F3,Lijsten!F3,IF(D17/D11/D8>Lijsten!G6,Lijsten!G6,D17/D11/D8)),"")
C25: =IFERROR(IF(D23>0,"Intensiteit: '"&INDEX(Lijsten!$F$3:$L$6,MATCH($D$23,Lijsten!F3:F6,1),3)&"'. Bandbreedte begeleidingsintensiteit: "&INDEX(Lijsten!$F$3:$L$6,MATCH($D$23,Lijsten!F3:F6,1),4)&". Tarief: "&TEXT(INDEX(Lijsten!$F$3:$L$6,MATCH(D23,Lijsten!F3:F6,1),7),"€00,00")& " per uur","Vul alle grijze velden in om de intensiteitsbepaling te zien."),"Vul alle grijze velden in om de intensiteitsbepaling te zien.") -> Vul alle grijze velden in om de intensiteitsbepaling te zien.

Sheet Dagverblijf groep 40
C3: Kenmerken dagverblijfgroep | D3: GEPLAND IN 2023
B4: 1 | C4: Hoeveel verschillende fysieke groepen heeft u met (exact) dit profiel? | F4: Voorbeeld: de groepen 'Eik' en 'Beuk' zijn identieke groepen? Vul 2 in.
B5: 2 | C5: Hoeveel % van deze capaciteit komt in 2023 ongeveer ten goede aan jeugdigen uit Haarlemmermeer? | F5: Waarde invullen van 0-100%. Deze informatie wordt gebruikt ter raming van de toekomstige capaciteit.
B6: 3 | C6: Gemiddeld aantal gepland aanwezige clïënten (alle, niet alleen de Haarlemmermeerse) per openingsdag | F6: Dit hoeven niet uitsluitend jeugdigen te zijn onder de Jeugdwet
B7: 4 | C7: Bezettingsgraad | F7: Kies een percentage tussen 92,5% en 100%
B8: 5 | C8: Gemiddeld aantal feitelijk aanwezig clïënten per openingsdag (wordt automatisch gevuld!) | D8: =D6*D7 -> 0
B9: 6 | C9: Aantal openingsdagen per week
B10: 7 | C10: Aantal openingsuren per week | F10: Het betreft hier de uren waarop jeugdigen aanwezig mogen en kunnen zijn.
B11: 8 | C11: Openingsuren per jaar, rekening houdend met vakanties en gesloten (feest- & studie-)dagen
B12: 9 | C12: Productie 2023 in 'cliënturen' (wordt automatisch gevuld!) | D12: =D11*D8 -> 0
B13: 10 | C13: Aantal openingsweken per jaar (wordt automatisch gevuld!) | D13: =IFERROR(D11/D10,0) -> 0
B14: 11 | C14: Aantal openingsdagen (wordt automatisch gevuld!) | D14: =IFERROR((D11/D10*D9),0) -> 0
B15: 12 | C15: Totaal formatie groepsbegeleiders op deze groep (in fte) | F15: Uitsluitend uren van groepsbegeleiders, niet van gedragswetenschapper of behandelaren.
B16: 13 | C16: Totaal bruto uren groepbegeleiders beschikbaar (= fte x 1.877, wordt automatisch gevuld) | D16: =D15*(365/7)*36 -> 0
B17: 14 | C17: ="Netto roosteruren groepsbegeleiders op de groep TIJDENS de "&TEXT(D11,"#.###")&" openingsuren per jaar" -> Netto roosteruren groepsbegeleiders op de groep TIJDENS de openingsuren per jaar | F17: (voorbeeld: altijd 2 begeleiders op de groep? Roosteruren = openingsuren per jaar x 2)
B18: 15 | C18: Netto aanwezigheidsuren BUITEN de openingsuren van groepsbegeleiders per openingsdag | F18: Let op: per openingsdag! Deze tijd is uitdrukkelijk bedoeld als voor- en nabereiding en NIET bedoeld voor het leveren van ambulante jeugdhulp.
B19: 16 | C19: Netto aanwezigheidsuren per jaar BUITEN de openingsuren (wordt automatisch gevuld!) | D19: =IF(D18>0,D14*D18,"")
B20: 17 | C20: Overige (bruto) tijd van groepbegeleiders (wordt automatisch gevuld!) | D20: =IF(COUNTA(D16:D18)=3,D16-D17-D18,"")
B21: 18 | C21: …. aantal inroosterbare uren per fte begeleider per jaar… (wordt automatisch gevuld!) | D21: =IFERROR((D17+D19)/D15,"") | F21: =IF(COUNTA(D17:D18,D15)=3," Check: kloppen deze twee gele waarden met jullie administratie? Zie ook de invulinstructie.","")
B22: 19 | C22: …. dit aantal inroosterbare uren komt overeen met productiviteit van…. (wordt automatisch gevuld!) | D22: =IFERROR(D21/1878,"")
B23: 20 | C23: Begeleidingsintensiteit (wordt automatisch gevuld!) | D23: =IFERROR(IF(D17/D11/D8<Lijsten!F3,Lijsten!F3,IF(D17/D11/D8>Lijsten!G6,Lijsten!G6,D17/D11/D8)),"")
C25: =IFERROR(IF(D23>0,"Intensiteit: '"&INDEX(Lijsten!$F$3:$L$6,MATCH($D$23,Lijsten!F3:F6,1),3)&"'. Bandbreedte begeleidingsintensiteit: "&INDEX(Lijsten!$F$3:$L$6,MATCH($D$23,Lijsten!F3:F6,1),4)&". Tarief: "&TEXT(INDEX(Lijsten!$F$3:$L$6,MATCH(D23,Lijsten!F3:F6,1),7),"€00,00")& " per uur","Vul alle grijze velden in om de intensiteitsbepaling te zien."),"Vul alle grijze velden in om de intensiteitsbepaling te zien.") -> Vul alle grijze velden in om de intensiteitsbepaling te zien.

Sheet Dagverblijf groep 41
C3: Kenmerken dagverblijfgroep | D3: GEPLAND IN 2023
B4: 1 | C4: Hoeveel verschillende fysieke groepen heeft u met (exact) dit profiel? | F4: Voorbeeld: de groepen 'Eik' en 'Beuk' zijn identieke groepen? Vul 2 in.
B5: 2 | C5: Hoeveel % van deze capaciteit komt in 2023 ongeveer ten goede aan jeugdigen uit Haarlemmermeer? | F5: Waarde invullen van 0-100%. Deze informatie wordt gebruikt ter raming van de toekomstige capaciteit.
B6: 3 | C6: Gemiddeld aantal gepland aanwezige clïënten (alle, niet alleen de Haarlemmermeerse) per openingsdag | F6: Dit hoeven niet uitsluitend jeugdigen te zijn onder de Jeugdwet
B7: 4 | C7: Bezettingsgraad | F7: Kies een percentage tussen 92,5% en 100%
B8: 5 | C8: Gemiddeld aantal feitelijk aanwezig clïënten per openingsdag (wordt automatisch gevuld!) | D8: =D6*D7 -> 0
B9: 6 | C9: Aantal openingsdagen per week
B10: 7 | C10: Aantal openingsuren per week | F10: Het betreft hier de uren waarop jeugdigen aanwezig mogen en kunnen zijn.
B11: 8 | C11: Openingsuren per jaar, rekening houdend met vakanties en gesloten (feest- & studie-)dagen
B12: 9 | C12: Productie 2023 in 'cliënturen' (wordt automatisch gevuld!) | D12: =D11*D8 -> 0
B13: 10 | C13: Aantal openingsweken per jaar (wordt automatisch gevuld!) | D13: =IFERROR(D11/D10,0) -> 0
B14: 11 | C14: Aantal openingsdagen (wordt automatisch gevuld!) | D14: =IFERROR((D11/D10*D9),0) -> 0
B15: 12 | C15: Totaal formatie groepsbegeleiders op deze groep (in fte) | F15: Uitsluitend uren van groepsbegeleiders, niet van gedragswetenschapper of behandelaren.
B16: 13 | C16: Totaal bruto uren groepbegeleiders beschikbaar (= fte x 1.877, wordt automatisch gevuld) | D16: =D15*(365/7)*36 -> 0
B17: 14 | C17: ="Netto roosteruren groepsbegeleiders op de groep TIJDENS de "&TEXT(D11,"#.###")&" openingsuren per jaar" -> Netto roosteruren groepsbegeleiders op de groep TIJDENS de openingsuren per jaar | F17: (voorbeeld: altijd 2 begeleiders op de groep? Roosteruren = openingsuren per jaar x 2)
B18: 15 | C18: Netto aanwezigheidsuren BUITEN de openingsuren van groepsbegeleiders per openingsdag | F18: Let op: per openingsdag! Deze tijd is uitdrukkelijk bedoeld als voor- en nabereiding en NIET bedoeld voor het leveren van ambulante jeugdhulp.
B19: 16 | C19: Netto aanwezigheidsuren per jaar BUITEN de openingsuren (wordt automatisch gevuld!) | D19: =IF(D18>0,D14*D18,"")
B20: 17 | C20: Overige (bruto) tijd van groepbegeleiders (wordt automatisch gevuld!) | D20: =IF(COUNTA(D16:D18)=3,D16-D17-D18,"")
B21: 18 | C21: …. aantal inroosterbare uren per fte begeleider per jaar… (wordt automatisch gevuld!) | D21: =IFERROR((D17+D19)/D15,"") | F21: =IF(COUNTA(D17:D18,D15)=3," Check: kloppen deze twee gele waarden met jullie administratie? Zie ook de invulinstructie.","")
B22: 19 | C22: …. dit aantal inroosterbare uren komt overeen met productiviteit van…. (wordt automatisch gevuld!) | D22: =IFERROR(D21/1878,"")
B23: 20 | C23: Begeleidingsintensiteit (wordt automatisch gevuld!) | D23: =IFERROR(IF(D17/D11/D8<Lijsten!F3,Lijsten!F3,IF(D17/D11/D8>Lijsten!G6,Lijsten!G6,D17/D11/D8)),"")
C25: =IFERROR(IF(D23>0,"Intensiteit: '"&INDEX(Lijsten!$F$3:$L$6,MATCH($D$23,Lijsten!F3:F6,1),3)&"'. Bandbreedte begeleidingsintensiteit: "&INDEX(Lijsten!$F$3:$L$6,MATCH($D$23,Lijsten!F3:F6,1),4)&". Tarief: "&TEXT(INDEX(Lijsten!$F$3:$L$6,MATCH(D23,Lijsten!F3:F6,1),7),"€00,00")& " per uur","Vul alle grijze velden in om de intensiteitsbepaling te zien."),"Vul alle grijze velden in om de intensiteitsbepaling te zien.") -> Vul alle grijze velden in om de intensiteitsbepaling te zien.

Sheet Dagverblijf groep 42
C3: Kenmerken dagverblijfgroep | D3: GEPLAND IN 2023
B4: 1 | C4: Hoeveel verschillende fysieke groepen heeft u met (exact) dit profiel? | F4: Voorbeeld: de groepen 'Eik' en 'Beuk' zijn identieke groepen? Vul 2 in.
B5: 2 | C5: Hoeveel % van deze capaciteit komt in 2023 ongeveer ten goede aan jeugdigen uit Haarlemmermeer? | F5: Waarde invullen van 0-100%. Deze informatie wordt gebruikt ter raming van de toekomstige capaciteit.
B6: 3 | C6: Gemiddeld aantal gepland aanwezige clïënten (alle, niet alleen de Haarlemmermeerse) per openingsdag | F6: Dit hoeven niet uitsluitend jeugdigen te zijn onder de Jeugdwet
B7: 4 | C7: Bezettingsgraad | F7: Kies een percentage tussen 92,5% en 100%
B8: 5 | C8: Gemiddeld aantal feitelijk aanwezig clïënten per openingsdag (wordt automatisch gevuld!) | D8: =D6*D7 -> 0
B9: 6 | C9: Aantal openingsdagen per week
B10: 7 | C10: Aantal openingsuren per week | F10: Het betreft hier de uren waarop jeugdigen aanwezig mogen en kunnen zijn.
B11: 8 | C11: Openingsuren per jaar, rekening houdend met vakanties en gesloten (feest- & studie-)dagen
B12: 9 | C12: Productie 2023 in 'cliënturen' (wordt automatisch gevuld!) | D12: =D11*D8 -> 0
B13: 10 | C13: Aantal openingsweken per jaar (wordt automatisch gevuld!) | D13: =IFERROR(D11/D10,0) -> 0
B14: 11 | C14: Aantal openingsdagen (wordt automatisch gevuld!) | D14: =IFERROR((D11/D10*D9),0) -> 0
B15: 12 | C15: Totaal formatie groepsbegeleiders op deze groep (in fte) | F15: Uitsluitend uren van groepsbegeleiders, niet van gedragswetenschapper of behandelaren.
B16: 13 | C16: Totaal bruto uren groepbegeleiders beschikbaar (= fte x 1.877, wordt automatisch gevuld) | D16: =D15*(365/7)*36 -> 0
B17: 14 | C17: ="Netto roosteruren groepsbegeleiders op de groep TIJDENS de "&TEXT(D11,"#.###")&" openingsuren per jaar" -> Netto roosteruren groepsbegeleiders op de groep TIJDENS de openingsuren per jaar | F17: (voorbeeld: altijd 2 begeleiders op de groep? Roosteruren = openingsuren per jaar x 2)
B18: 15 | C18: Netto aanwezigheidsuren BUITEN de openingsuren van groepsbegeleiders per openingsdag | F18: Let op: per openingsdag! Deze tijd is uitdrukkelijk bedoeld als voor- en nabereiding en NIET bedoeld voor het leveren van ambulante jeugdhulp.
B19: 16 | C19: Netto aanwezigheidsuren per jaar BUITEN de openingsuren (wordt automatisch gevuld!) | D19: =IF(D18>0,D14*D18,"")
B20: 17 | C20: Overige (bruto) tijd van groepbegeleiders (wordt automatisch gevuld!) | D20: =IF(COUNTA(D16:D18)=3,D16-D17-D18,"")
B21: 18 | C21: …. aantal inroosterbare uren per fte begeleider per jaar… (wordt automatisch gevuld!) | D21: =IFERROR((D17+D19)/D15,"") | F21: =IF(COUNTA(D17:D18,D15)=3," Check: kloppen deze twee gele waarden met jullie administratie? Zie ook de invulinstructie.","")
B22: 19 | C22: …. dit aantal inroosterbare uren komt overeen met productiviteit van…. (wordt automatisch gevuld!) | D22: =IFERROR(D21/1878,"")
B23: 20 | C23: Begeleidingsintensiteit (wordt automatisch gevuld!) | D23: =IFERROR(IF(D17/D11/D8<Lijsten!F3,Lijsten!F3,IF(D17/D11/D8>Lijsten!G6,Lijsten!G6,D17/D11/D8)),"")
C25: =IFERROR(IF(D23>0,"Intensiteit: '"&INDEX(Lijsten!$F$3:$L$6,MATCH($D$23,Lijsten!F3:F6,1),3)&"'. Bandbreedte begeleidingsintensiteit: "&INDEX(Lijsten!$F$3:$L$6,MATCH($D$23,Lijsten!F3:F6,1),4)&". Tarief: "&TEXT(INDEX(Lijsten!$F$3:$L$6,MATCH(D23,Lijsten!F3:F6,1),7),"€00,00")& " per uur","Vul alle grijze velden in om de intensiteitsbepaling te zien."),"Vul alle grijze velden in om de intensiteitsbepaling te zien.") -> Vul alle grijze velden in om de intensiteitsbepaling te zien.

Sheet Dagverblijf groep 43
C3: Kenmerken dagverblijfgroep | D3: GEPLAND IN 2023
B4: 1 | C4: Hoeveel verschillende fysieke groepen heeft u met (exact) dit profiel? | F4: Voorbeeld: de groepen 'Eik' en 'Beuk' zijn identieke groepen? Vul 2 in.
B5: 2 | C5: Hoeveel % van deze capaciteit komt in 2023 ongeveer ten goede aan jeugdigen uit Haarlemmermeer? | F5: Waarde invullen van 0-100%. Deze informatie wordt gebruikt ter raming van de toekomstige capaciteit.
B6: 3 | C6: Gemiddeld aantal gepland aanwezige clïënten (alle, niet alleen de Haarlemmermeerse) per openingsdag | F6: Dit hoeven niet uitsluitend jeugdigen te zijn onder de Jeugdwet
B7: 4 | C7: Bezettingsgraad | F7: Kies een percentage tussen 92,5% en 100%
B8: 5 | C8: Gemiddeld aantal feitelijk aanwezig clïënten per openingsdag (wordt automatisch gevuld!) | D8: =D6*D7 -> 0
B9: 6 | C9: Aantal openingsdagen per week
B10: 7 | C10: Aantal openingsuren per week | F10: Het betreft hier de uren waarop jeugdigen aanwezig mogen en kunnen zijn.
B11: 8 | C11: Openingsuren per jaar, rekening houdend met vakanties en gesloten (feest- & studie-)dagen
B12: 9 | C12: Productie 2023 in 'cliënturen' (wordt automatisch gevuld!) | D12: =D11*D8 -> 0
B13: 10 | C13: Aantal openingsweken per jaar (wordt automatisch gevuld!) | D13: =IFERROR(D11/D10,0) -> 0
B14: 11 | C14: Aantal openingsdagen (wordt automatisch gevuld!) | D14: =IFERROR((D11/D10*D9),0) -> 0
B15: 12 | C15: Totaal formatie groepsbegeleiders op deze groep (in fte) | F15: Uitsluitend uren van groepsbegeleiders, niet van gedragswetenschapper of behandelaren.
B16: 13 | C16: Totaal bruto uren groepbegeleiders beschikbaar (= fte x 1.877, wordt automatisch gevuld) | D16: =D15*(365/7)*36 -> 0
B17: 14 | C17: ="Netto roosteruren groepsbegeleiders op de groep TIJDENS de "&TEXT(D11,"#.###")&" openingsuren per jaar" -> Netto roosteruren groepsbegeleiders op de groep TIJDENS de openingsuren per jaar | F17: (voorbeeld: altijd 2 begeleiders op de groep? Roosteruren = openingsuren per jaar x 2)
B18: 15 | C18: Netto aanwezigheidsuren BUITEN de openingsuren van groepsbegeleiders per openingsdag | F18: Let op: per openingsdag! Deze tijd is uitdrukkelijk bedoeld als voor- en nabereiding en NIET bedoeld voor het leveren van ambulante jeugdhulp.
B19: 16 | C19: Netto aanwezigheidsuren per jaar BUITEN de openingsuren (wordt automatisch gevuld!) | D19: =IF(D18>0,D14*D18,"")
B20: 17 | C20: Overige (bruto) tijd van groepbegeleiders (wordt automatisch gevuld!) | D20: =IF(COUNTA(D16:D18)=3,D16-D17-D18,"")
B21: 18 | C21: …. aantal inroosterbare uren per fte begeleider per jaar… (wordt automatisch gevuld!) | D21: =IFERROR((D17+D19)/D15,"") | F21: =IF(COUNTA(D17:D18,D15)=3," Check: kloppen deze twee gele waarden met jullie administratie? Zie ook de invulinstructie.","")
B22: 19 | C22: …. dit aantal inroosterbare uren komt overeen met productiviteit van…. (wordt automatisch gevuld!) | D22: =IFERROR(D21/1878,"")
B23: 20 | C23: Begeleidingsintensiteit (wordt automatisch gevuld!) | D23: =IFERROR(IF(D17/D11/D8<Lijsten!F3,Lijsten!F3,IF(D17/D11/D8>Lijsten!G6,Lijsten!G6,D17/D11/D8)),"")
C25: =IFERROR(IF(D23>0,"Intensiteit: '"&INDEX(Lijsten!$F$3:$L$6,MATCH($D$23,Lijsten!F3:F6,1),3)&"'. Bandbreedte begeleidingsintensiteit: "&INDEX(Lijsten!$F$3:$L$6,MATCH($D$23,Lijsten!F3:F6,1),4)&". Tarief: "&TEXT(INDEX(Lijsten!$F$3:$L$6,MATCH(D23,Lijsten!F3:F6,1),7),"€00,00")& " per uur","Vul alle grijze velden in om de intensiteitsbepaling te zien."),"Vul alle grijze velden in om de intensiteitsbepaling te zien.") -> Vul alle grijze velden in om de intensiteitsbepaling te zien.

Sheet Dagverblijf groep 44
C3: Kenmerken dagverblijfgroep | D3: GEPLAND IN 2023
B4: 1 | C4: Hoeveel verschillende fysieke groepen heeft u met (exact) dit profiel? | F4: Voorbeeld: de groepen 'Eik' en 'Beuk' zijn identieke groepen? Vul 2 in.
B5: 2 | C5: Hoeveel % van deze capaciteit komt in 2023 ongeveer ten goede aan jeugdigen uit Haarlemmermeer? | F5: Waarde invullen van 0-100%. Deze informatie wordt gebruikt ter raming van de toekomstige capaciteit.
B6: 3 | C6: Gemiddeld aantal gepland aanwezige clïënten (alle, niet alleen de Haarlemmermeerse) per openingsdag | F6: Dit hoeven niet uitsluitend jeugdigen te zijn onder de Jeugdwet
B7: 4 | C7: Bezettingsgraad | F7: Kies een percentage tussen 92,5% en 100%
B8: 5 | C8: Gemiddeld aantal feitelijk aanwezig clïënten per openingsdag (wordt automatisch gevuld!) | D8: =D6*D7 -> 0
B9: 6 | C9: Aantal openingsdagen per week
B10: 7 | C10: Aantal openingsuren per week | F10: Het betreft hier de uren waarop jeugdigen aanwezig mogen en kunnen zijn.
B11: 8 | C11: Openingsuren per jaar, rekening houdend met vakanties en gesloten (feest- & studie-)dagen
B12: 9 | C12: Productie 2023 in 'cliënturen' (wordt automatisch gevuld!) | D12: =D11*D8 -> 0
B13: 10 | C13: Aantal openingsweken per jaar (wordt automatisch gevuld!) | D13: =IFERROR(D11/D10,0) -> 0
B14: 11 | C14: Aantal openingsdagen (wordt automatisch gevuld!) | D14: =IFERROR((D11/D10*D9),0) -> 0
B15: 12 | C15: Totaal formatie groepsbegeleiders op deze groep (in fte) | F15: Uitsluitend uren van groepsbegeleiders, niet van gedragswetenschapper of behandelaren.
B16: 13 | C16: Totaal bruto uren groepbegeleiders beschikbaar (= fte x 1.877, wordt automatisch gevuld) | D16: =D15*(365/7)*36 -> 0
B17: 14 | C17: ="Netto roosteruren groepsbegeleiders op de groep TIJDENS de "&TEXT(D11,"#.###")&" openingsuren per jaar" -> Netto roosteruren groepsbegeleiders op de groep TIJDENS de openingsuren per jaar | F17: (voorbeeld: altijd 2 begeleiders op de groep? Roosteruren = openingsuren per jaar x 2)
B18: 15 | C18: Netto aanwezigheidsuren BUITEN de openingsuren van groepsbegeleiders per openingsdag | F18: Let op: per openingsdag! Deze tijd is uitdrukkelijk bedoeld als voor- en nabereiding en NIET bedoeld voor het leveren van ambulante jeugdhulp.
B19: 16 | C19: Netto aanwezigheidsuren per jaar BUITEN de openingsuren (wordt automatisch gevuld!) | D19: =IF(D18>0,D14*D18,"")
B20: 17 | C20: Overige (bruto) tijd van groepbegeleiders (wordt automatisch gevuld!) | D20: =IF(COUNTA(D16:D18)=3,D16-D17-D18,"")
B21: 18 | C21: …. aantal inroosterbare uren per fte begeleider per jaar… (wordt automatisch gevuld!) | D21: =IFERROR((D17+D19)/D15,"") | F21: =IF(COUNTA(D17:D18,D15)=3," Check: kloppen deze twee gele waarden met jullie administratie? Zie ook de invulinstructie.","")
B22: 19 | C22: …. dit aantal inroosterbare uren komt overeen met productiviteit van…. (wordt automatisch gevuld!) | D22: =IFERROR(D21/1878,"")
B23: 20 | C23: Begeleidingsintensiteit (wordt automatisch gevuld!) | D23: =IFERROR(IF(D17/D11/D8<Lijsten!F3,Lijsten!F3,IF(D17/D11/D8>Lijsten!G6,Lijsten!G6,D17/D11/D8)),"")
C25: =IFERROR(IF(D23>0,"Intensiteit: '"&INDEX(Lijsten!$F$3:$L$6,MATCH($D$23,Lijsten!F3:F6,1),3)&"'. Bandbreedte begeleidingsintensiteit: "&INDEX(Lijsten!$F$3:$L$6,MATCH($D$23,Lijsten!F3:F6,1),4)&". Tarief: "&TEXT(INDEX(Lijsten!$F$3:$L$6,MATCH(D23,Lijsten!F3:F6,1),7),"€00,00")& " per uur","Vul alle grijze velden in om de intensiteitsbepaling te zien."),"Vul alle grijze velden in om de intensiteitsbepaling te zien.") -> Vul alle grijze velden in om de intensiteitsbepaling te zien.

Sheet Dagverblijf groep 45
C3: Kenmerken dagverblijfgroep | D3: GEPLAND IN 2023
B4: 1 | C4: Hoeveel verschillende fysieke groepen heeft u met (exact) dit profiel? | F4: Voorbeeld: de groepen 'Eik' en 'Beuk' zijn identieke groepen? Vul 2 in.
B5: 2 | C5: Hoeveel % van deze capaciteit komt in 2023 ongeveer ten goede aan jeugdigen uit Haarlemmermeer? | F5: Waarde invullen van 0-100%. Deze informatie wordt gebruikt ter raming van de toekomstige capaciteit.
B6: 3 | C6: Gemiddeld aantal gepland aanwezige clïënten (alle, niet alleen de Haarlemmermeerse) per openingsdag | F6: Dit hoeven niet uitsluitend jeugdigen te zijn onder de Jeugdwet
B7: 4 | C7: Bezettingsgraad | F7: Kies een percentage tussen 92,5% en 100%
B8: 5 | C8: Gemiddeld aantal feitelijk aanwezig clïënten per openingsdag (wordt automatisch gevuld!) | D8: =D6*D7 -> 0
B9: 6 | C9: Aantal openingsdagen per week
B10: 7 | C10: Aantal openingsuren per week | F10: Het betreft hier de uren waarop jeugdigen aanwezig mogen en kunnen zijn.
B11: 8 | C11: Openingsuren per jaar, rekening houdend met vakanties en gesloten (feest- & studie-)dagen
B12: 9 | C12: Productie 2023 in 'cliënturen' (wordt automatisch gevuld!) | D12: =D11*D8 -> 0
B13: 10 | C13: Aantal openingsweken per jaar (wordt automatisch gevuld!) | D13: =IFERROR(D11/D10,0) -> 0
B14: 11 | C14: Aantal openingsdagen (wordt automatisch gevuld!) | D14: =IFERROR((D11/D10*D9),0) -> 0
B15: 12 | C15: Totaal formatie groepsbegeleiders op deze groep (in fte) | F15: Uitsluitend uren van groepsbegeleiders, niet van gedragswetenschapper of behandelaren.
B16: 13 | C16: Totaal bruto uren groepbegeleiders beschikbaar (= fte x 1.877, wordt automatisch gevuld) | D16: =D15*(365/7)*36 -> 0
B17: 14 | C17: ="Netto roosteruren groepsbegeleiders op de groep TIJDENS de "&TEXT(D11,"#.###")&" openingsuren per jaar" -> Netto roosteruren groepsbegeleiders op de groep TIJDENS de openingsuren per jaar | F17: (voorbeeld: altijd 2 begeleiders op de groep? Roosteruren = openingsuren per jaar x 2)
B18: 15 | C18: Netto aanwezigheidsuren BUITEN de openingsuren van groepsbegeleiders per openingsdag | F18: Let op: per openingsdag! Deze tijd is uitdrukkelijk bedoeld als voor- en nabereiding en NIET bedoeld voor het leveren van ambulante jeugdhulp.
B19: 16 | C19: Netto aanwezigheidsuren per jaar BUITEN de openingsuren (wordt automatisch gevuld!) | D19: =IF(D18>0,D14*D18,"")
B20: 17 | C20: Overige (bruto) tijd van groepbegeleiders (wordt automatisch gevuld!) | D20: =IF(COUNTA(D16:D18)=3,D16-D17-D18,"")
B21: 18 | C21: …. aantal inroosterbare uren per fte begeleider per jaar… (wordt automatisch gevuld!) | D21: =IFERROR((D17+D19)/D15,"") | F21: =IF(COUNTA(D17:D18,D15)=3," Check: kloppen deze twee gele waarden met jullie administratie? Zie ook de invulinstructie.","")
B22: 19 | C22: …. dit aantal inroosterbare uren komt overeen met productiviteit van…. (wordt automatisch gevuld!) | D22: =IFERROR(D21/1878,"")
B23: 20 | C23: Begeleidingsintensiteit (wordt automatisch gevuld!) | D23: =IFERROR(IF(D17/D11/D8<Lijsten!F3,Lijsten!F3,IF(D17/D11/D8>Lijsten!G6,Lijsten!G6,D17/D11/D8)),"")
C25: =IFERROR(IF(D23>0,"Intensiteit: '"&INDEX(Lijsten!$F$3:$L$6,MATCH($D$23,Lijsten!F3:F6,1),3)&"'. Bandbreedte begeleidingsintensiteit: "&INDEX(Lijsten!$F$3:$L$6,MATCH($D$23,Lijsten!F3:F6,1),4)&". Tarief: "&TEXT(INDEX(Lijsten!$F$3:$L$6,MATCH(D23,Lijsten!F3:F6,1),7),"€00,00")& " per uur","Vul alle grijze velden in om de intensiteitsbepaling te zien."),"Vul alle grijze velden in om de intensiteitsbepaling te zien.") -> Vul alle grijze velden in om de intensiteitsbepaling te zien.

Sheet Dagverblijf groep 46
C3: Kenmerken dagverblijfgroep | D3: GEPLAND IN 2023
B4: 1 | C4: Hoeveel verschillende fysieke groepen heeft u met (exact) dit profiel? | F4: Voorbeeld: de groepen 'Eik' en 'Beuk' zijn identieke groepen? Vul 2 in.
B5: 2 | C5: Hoeveel % van deze capaciteit komt in 2023 ongeveer ten goede aan jeugdigen uit Haarlemmermeer? | F5: Waarde invullen van 0-100%. Deze informatie wordt gebruikt ter raming van de toekomstige capaciteit.
B6: 3 | C6: Gemiddeld aantal gepland aanwezige clïënten (alle, niet alleen de Haarlemmermeerse) per openingsdag | F6: Dit hoeven niet uitsluitend jeugdigen te zijn onder de Jeugdwet
B7: 4 | C7: Bezettingsgraad | F7: Kies een percentage tussen 92,5% en 100%
B8: 5 | C8: Gemiddeld aantal feitelijk aanwezig clïënten per openingsdag (wordt automatisch gevuld!) | D8: =D6*D7 -> 0
B9: 6 | C9: Aantal openingsdagen per week
B10: 7 | C10: Aantal openingsuren per week | F10: Het betreft hier de uren waarop jeugdigen aanwezig mogen en kunnen zijn.
B11: 8 | C11: Openingsuren per jaar, rekening houdend met vakanties en gesloten (feest- & studie-)dagen
B12: 9 | C12: Productie 2023 in 'cliënturen' (wordt automatisch gevuld!) | D12: =D11*D8 -> 0
B13: 10 | C13: Aantal openingsweken per jaar (wordt automatisch gevuld!) | D13: =IFERROR(D11/D10,0) -> 0
B14: 11 | C14: Aantal openingsdagen (wordt automatisch gevuld!) | D14: =IFERROR((D11/D10*D9),0) -> 0
B15: 12 | C15: Totaal formatie groepsbegeleiders op deze groep (in fte) | F15: Uitsluitend uren van groepsbegeleiders, niet van gedragswetenschapper of behandelaren.
B16: 13 | C16: Totaal bruto uren groepbegeleiders beschikbaar (= fte x 1.877, wordt automatisch gevuld) | D16: =D15*(365/7)*36 -> 0
B17: 14 | C17: ="Netto roosteruren groepsbegeleiders op de groep TIJDENS de "&TEXT(D11,"#.###")&" openingsuren per jaar" -> Netto roosteruren groepsbegeleiders op de groep TIJDENS de openingsuren per jaar | F17: (voorbeeld: altijd 2 begeleiders op de groep? Roosteruren = openingsuren per jaar x 2)
B18: 15 | C18: Netto aanwezigheidsuren BUITEN de openingsuren van groepsbegeleiders per openingsdag | F18: Let op: per openingsdag! Deze tijd is uitdrukkelijk bedoeld als voor- en nabereiding en NIET bedoeld voor het leveren van ambulante jeugdhulp.
B19: 16 | C19: Netto aanwezigheidsuren per jaar BUITEN de openingsuren (wordt automatisch gevuld!) | D19: =IF(D18>0,D14*D18,"")
B20: 17 | C20: Overige (bruto) tijd van groepbegeleiders (wordt automatisch gevuld!) | D20: =IF(COUNTA(D16:D18)=3,D16-D17-D18,"")
B21: 18 | C21: …. aantal inroosterbare uren per fte begeleider per jaar… (wordt automatisch gevuld!) | D21: =IFERROR((D17+D19)/D15,"") | F21: =IF(COUNTA(D17:D18,D15)=3," Check: kloppen deze twee gele waarden met jullie administratie? Zie ook de invulinstructie.","")
B22: 19 | C22: …. dit aantal inroosterbare uren komt overeen met productiviteit van…. (wordt automatisch gevuld!) | D22: =IFERROR(D21/1878,"")
B23: 20 | C23: Begeleidingsintensiteit (wordt automatisch gevuld!) | D23: =IFERROR(IF(D17/D11/D8<Lijsten!F3,Lijsten!F3,IF(D17/D11/D8>Lijsten!G6,Lijsten!G6,D17/D11/D8)),"")
C25: =IFERROR(IF(D23>0,"Intensiteit: '"&INDEX(Lijsten!$F$3:$L$6,MATCH($D$23,Lijsten!F3:F6,1),3)&"'. Bandbreedte begeleidingsintensiteit: "&INDEX(Lijsten!$F$3:$L$6,MATCH($D$23,Lijsten!F3:F6,1),4)&". Tarief: "&TEXT(INDEX(Lijsten!$F$3:$L$6,MATCH(D23,Lijsten!F3:F6,1),7),"€00,00")& " per uur","Vul alle grijze velden in om de intensiteitsbepaling te zien."),"Vul alle grijze velden in om de intensiteitsbepaling te zien.") -> Vul alle grijze velden in om de intensiteitsbepaling te zien.

Sheet Dagverblijf groep 47
C3: Kenmerken dagverblijfgroep | D3: GEPLAND IN 2023
B4: 1 | C4: Hoeveel verschillende fysieke groepen heeft u met (exact) dit profiel? | F4: Voorbeeld: de groepen 'Eik' en 'Beuk' zijn identieke groepen? Vul 2 in.
B5: 2 | C5: Hoeveel % van deze capaciteit komt in 2023 ongeveer ten goede aan jeugdigen uit Haarlemmermeer? | F5: Waarde invullen van 0-100%. Deze informatie wordt gebruikt ter raming van de toekomstige capaciteit.
B6: 3 | C6: Gemiddeld aantal gepland aanwezige clïënten (alle, niet alleen de Haarlemmermeerse) per openingsdag | F6: Dit hoeven niet uitsluitend jeugdigen te zijn onder de Jeugdwet
B7: 4 | C7: Bezettingsgraad | F7: Kies een percentage tussen 92,5% en 100%
B8: 5 | C8: Gemiddeld aantal feitelijk aanwezig clïënten per openingsdag (wordt automatisch gevuld!) | D8: =D6*D7 -> 0
B9: 6 | C9: Aantal openingsdagen per week
B10: 7 | C10: Aantal openingsuren per week | F10: Het betreft hier de uren waarop jeugdigen aanwezig mogen en kunnen zijn.
B11: 8 | C11: Openingsuren per jaar, rekening houdend met vakanties en gesloten (feest- & studie-)dagen
B12: 9 | C12: Productie 2023 in 'cliënturen' (wordt automatisch gevuld!) | D12: =D11*D8 -> 0
B13: 10 | C13: Aantal openingsweken per jaar (wordt automatisch gevuld!) | D13: =IFERROR(D11/D10,0) -> 0
B14: 11 | C14: Aantal openingsdagen (wordt automatisch gevuld!) | D14: =IFERROR((D11/D10*D9),0) -> 0
B15: 12 | C15: Totaal formatie groepsbegeleiders op deze groep (in fte) | F15: Uitsluitend uren van groepsbegeleiders, niet van gedragswetenschapper of behandelaren.
B16: 13 | C16: Totaal bruto uren groepbegeleiders beschikbaar (= fte x 1.877, wordt automatisch gevuld) | D16: =D15*(365/7)*36 -> 0
B17: 14 | C17: ="Netto roosteruren groepsbegeleiders op de groep TIJDENS de "&TEXT(D11,"#.###")&" openingsuren per jaar" -> Netto roosteruren groepsbegeleiders op de groep TIJDENS de openingsuren per jaar | F17: (voorbeeld: altijd 2 begeleiders op de groep? Roosteruren = openingsuren per jaar x 2)
B18: 15 | C18: Netto aanwezigheidsuren BUITEN de openingsuren van groepsbegeleiders per openingsdag | F18: Let op: per openingsdag! Deze tijd is uitdrukkelijk bedoeld als voor- en nabereiding en NIET bedoeld voor het leveren van ambulante jeugdhulp.
B19: 16 | C19: Netto aanwezigheidsuren per jaar BUITEN de openingsuren (wordt automatisch gevuld!) | D19: =IF(D18>0,D14*D18,"")
B20: 17 | C20: Overige (bruto) tijd van groepbegeleiders (wordt automatisch gevuld!) | D20: =IF(COUNTA(D16:D18)=3,D16-D17-D18,"")
B21: 18 | C21: …. aantal inroosterbare uren per fte begeleider per jaar… (wordt automatisch gevuld!) | D21: =IFERROR((D17+D19)/D15,"") | F21: =IF(COUNTA(D17:D18,D15)=3," Check: kloppen deze twee gele waarden met jullie administratie? Zie ook de invulinstructie.","")
B22: 19 | C22: …. dit aantal inroosterbare uren komt overeen met productiviteit van…. (wordt automatisch gevuld!) | D22: =IFERROR(D21/1878,"")
B23: 20 | C23: Begeleidingsintensiteit (wordt automatisch gevuld!) | D23: =IFERROR(IF(D17/D11/D8<Lijsten!F3,Lijsten!F3,IF(D17/D11/D8>Lijsten!G6,Lijsten!G6,D17/D11/D8)),"")
C25: =IFERROR(IF(D23>0,"Intensiteit: '"&INDEX(Lijsten!$F$3:$L$6,MATCH($D$23,Lijsten!F3:F6,1),3)&"'. Bandbreedte begeleidingsintensiteit: "&INDEX(Lijsten!$F$3:$L$6,MATCH($D$23,Lijsten!F3:F6,1),4)&". Tarief: "&TEXT(INDEX(Lijsten!$F$3:$L$6,MATCH(D23,Lijsten!F3:F6,1),7),"€00,00")& " per uur","Vul alle grijze velden in om de intensiteitsbepaling te zien."),"Vul alle grijze velden in om de intensiteitsbepaling te zien.") -> Vul alle grijze velden in om de intensiteitsbepaling te zien.

Sheet Dagverblijf groep 48
C3: Kenmerken dagverblijfgroep | D3: GEPLAND IN 2023
B4: 1 | C4: Hoeveel verschillende fysieke groepen heeft u met (exact) dit profiel? | F4: Voorbeeld: de groepen 'Eik' en 'Beuk' zijn identieke groepen? Vul 2 in.
B5: 2 | C5: Hoeveel % van deze capaciteit komt in 2023 ongeveer ten goede aan jeugdigen uit Haarlemmermeer? | F5: Waarde invullen van 0-100%. Deze informatie wordt gebruikt ter raming van de toekomstige capaciteit.
B6: 3 | C6: Gemiddeld aantal gepland aanwezige clïënten (alle, niet alleen de Haarlemmermeerse) per openingsdag | F6: Dit hoeven niet uitsluitend jeugdigen te zijn onder de Jeugdwet
B7: 4 | C7: Bezettingsgraad | F7: Kies een percentage tussen 92,5% en 100%
B8: 5 | C8: Gemiddeld aantal feitelijk aanwezig clïënten per openingsdag (wordt automatisch gevuld!) | D8: =D6*D7 -> 0
B9: 6 | C9: Aantal openingsdagen per week
B10: 7 | C10: Aantal openingsuren per week | F10: Het betreft hier de uren waarop jeugdigen aanwezig mogen en kunnen zijn.
B11: 8 | C11: Openingsuren per jaar, rekening houdend met vakanties en gesloten (feest- & studie-)dagen
B12: 9 | C12: Productie 2023 in 'cliënturen' (wordt automatisch gevuld!) | D12: =D11*D8 -> 0
B13: 10 | C13: Aantal openingsweken per jaar (wordt automatisch gevuld!) | D13: =IFERROR(D11/D10,0) -> 0
B14: 11 | C14: Aantal openingsdagen (wordt automatisch gevuld!) | D14: =IFERROR((D11/D10*D9),0) -> 0
B15: 12 | C15: Totaal formatie groepsbegeleiders op deze groep (in fte) | F15: Uitsluitend uren van groepsbegeleiders, niet van gedragswetenschapper of behandelaren.
B16: 13 | C16: Totaal bruto uren groepbegeleiders beschikbaar (= fte x 1.877, wordt automatisch gevuld) | D16: =D15*(365/7)*36 -> 0
B17: 14 | C17: ="Netto roosteruren groepsbegeleiders op de groep TIJDENS de "&TEXT(D11,"#.###")&" openingsuren per jaar" -> Netto roosteruren groepsbegeleiders op de groep TIJDENS de openingsuren per jaar | F17: (voorbeeld: altijd 2 begeleiders op de groep? Roosteruren = openingsuren per jaar x 2)
B18: 15 | C18: Netto aanwezigheidsuren BUITEN de openingsuren van groepsbegeleiders per openingsdag | F18: Let op: per openingsdag! Deze tijd is uitdrukkelijk bedoeld als voor- en nabereiding en NIET bedoeld voor het leveren van ambulante jeugdhulp.
B19: 16 | C19: Netto aanwezigheidsuren per jaar BUITEN de openingsuren (wordt automatisch gevuld!) | D19: =IF(D18>0,D14*D18,"")
B20: 17 | C20: Overige (bruto) tijd van groepbegeleiders (wordt automatisch gevuld!) | D20: =IF(COUNTA(D16:D18)=3,D16-D17-D18,"")
B21: 18 | C21: …. aantal inroosterbare uren per fte begeleider per jaar… (wordt automatisch gevuld!) | D21: =IFERROR((D17+D19)/D15,"") | F21: =IF(COUNTA(D17:D18,D15)=3," Check: kloppen deze twee gele waarden met jullie administratie? Zie ook de invulinstructie.","")
B22: 19 | C22: …. dit aantal inroosterbare uren komt overeen met productiviteit van…. (wordt automatisch gevuld!) | D22: =IFERROR(D21/1878,"")
B23: 20 | C23: Begeleidingsintensiteit (wordt automatisch gevuld!) | D23: =IFERROR(IF(D17/D11/D8<Lijsten!F3,Lijsten!F3,IF(D17/D11/D8>Lijsten!G6,Lijsten!G6,D17/D11/D8)),"")
C25: =IFERROR(IF(D23>0,"Intensiteit: '"&INDEX(Lijsten!$F$3:$L$6,MATCH($D$23,Lijsten!F3:F6,1),3)&"'. Bandbreedte begeleidingsintensiteit: "&INDEX(Lijsten!$F$3:$L$6,MATCH($D$23,Lijsten!F3:F6,1),4)&". Tarief: "&TEXT(INDEX(Lijsten!$F$3:$L$6,MATCH(D23,Lijsten!F3:F6,1),7),"€00,00")& " per uur","Vul alle grijze velden in om de intensiteitsbepaling te zien."),"Vul alle grijze velden in om de intensiteitsbepaling te zien.") -> Vul alle grijze velden in om de intensiteitsbepaling te zien.

Sheet Dagverblijf groep 49
C3: Kenmerken dagverblijfgroep | D3: GEPLAND IN 2023
B4: 1 | C4: Hoeveel verschillende fysieke groepen heeft u met (exact) dit profiel? | F4: Voorbeeld: de groepen 'Eik' en 'Beuk' zijn identieke groepen? Vul 2 in.
B5: 2 | C5: Hoeveel % van deze capaciteit komt in 2023 ongeveer ten goede aan jeugdigen uit Haarlemmermeer? | F5: Waarde invullen van 0-100%. Deze informatie wordt gebruikt ter raming van de toekomstige capaciteit.
B6: 3 | C6: Gemiddeld aantal gepland aanwezige clïënten (alle, niet alleen de Haarlemmermeerse) per openingsdag | F6: Dit hoeven niet uitsluitend jeugdigen te zijn onder de Jeugdwet
B7: 4 | C7: Bezettingsgraad | F7: Kies een percentage tussen 92,5% en 100%
B8: 5 | C8: Gemiddeld aantal feitelijk aanwezig clïënten per openingsdag (wordt automatisch gevuld!) | D8: =D6*D7 -> 0
B9: 6 | C9: Aantal openingsdagen per week
B10: 7 | C10: Aantal openingsuren per week | F10: Het betreft hier de uren waarop jeugdigen aanwezig mogen en kunnen zijn.
B11: 8 | C11: Openingsuren per jaar, rekening houdend met vakanties en gesloten (feest- & studie-)dagen
B12: 9 | C12: Productie 2023 in 'cliënturen' (wordt automatisch gevuld!) | D12: =D11*D8 -> 0
B13: 10 | C13: Aantal openingsweken per jaar (wordt automatisch gevuld!) | D13: =IFERROR(D11/D10,0) -> 0
B14: 11 | C14: Aantal openingsdagen (wordt automatisch gevuld!) | D14: =IFERROR((D11/D10*D9),0) -> 0
B15: 12 | C15: Totaal formatie groepsbegeleiders op deze groep (in fte) | F15: Uitsluitend uren van groepsbegeleiders, niet van gedragswetenschapper of behandelaren.
B16: 13 | C16: Totaal bruto uren groepbegeleiders beschikbaar (= fte x 1.877, wordt automatisch gevuld) | D16: =D15*(365/7)*36 -> 0
B17: 14 | C17: ="Netto roosteruren groepsbegeleiders op de groep TIJDENS de "&TEXT(D11,"#.###")&" openingsuren per jaar" -> Netto roosteruren groepsbegeleiders op de groep TIJDENS de openingsuren per jaar | F17: (voorbeeld: altijd 2 begeleiders op de groep? Roosteruren = openingsuren per jaar x 2)
B18: 15 | C18: Netto aanwezigheidsuren BUITEN de openingsuren van groepsbegeleiders per openingsdag | F18: Let op: per openingsdag! Deze tijd is uitdrukkelijk bedoeld als voor- en nabereiding en NIET bedoeld voor het leveren van ambulante jeugdhulp.
B19: 16 | C19: Netto aanwezigheidsuren per jaar BUITEN de openingsuren (wordt automatisch gevuld!) | D19: =IF(D18>0,D14*D18,"")
B20: 17 | C20: Overige (bruto) tijd van groepbegeleiders (wordt automatisch gevuld!) | D20: =IF(COUNTA(D16:D18)=3,D16-D17-D18,"")
B21: 18 | C21: …. aantal inroosterbare uren per fte begeleider per jaar… (wordt automatisch gevuld!) | D21: =IFERROR((D17+D19)/D15,"") | F21: =IF(COUNTA(D17:D18,D15)=3," Check: kloppen deze twee gele waarden met jullie administratie? Zie ook de invulinstructie.","")
B22: 19 | C22: …. dit aantal inroosterbare uren komt overeen met productiviteit van…. (wordt automatisch gevuld!) | D22: =IFERROR(D21/1878,"")
B23: 20 | C23: Begeleidingsintensiteit (wordt automatisch gevuld!) | D23: =IFERROR(IF(D17/D11/D8<Lijsten!F3,Lijsten!F3,IF(D17/D11/D8>Lijsten!G6,Lijsten!G6,D17/D11/D8)),"")
C25: =IFERROR(IF(D23>0,"Intensiteit: '"&INDEX(Lijsten!$F$3:$L$6,MATCH($D$23,Lijsten!F3:F6,1),3)&"'. Bandbreedte begeleidingsintensiteit: "&INDEX(Lijsten!$F$3:$L$6,MATCH($D$23,Lijsten!F3:F6,1),4)&". Tarief: "&TEXT(INDEX(Lijsten!$F$3:$L$6,MATCH(D23,Lijsten!F3:F6,1),7),"€00,00")& " per uur","Vul alle grijze velden in om de intensiteitsbepaling te zien."),"Vul alle grijze velden in om de intensiteitsbepaling te zien.") -> Vul alle grijze velden in om de intensiteitsbepaling te zien.

Sheet Dagverblijf groep 50
C3: Kenmerken dagverblijfgroep | D3: GEPLAND IN 2023
B4: 1 | C4: Hoeveel verschillende fysieke groepen heeft u met (exact) dit profiel? | F4: Voorbeeld: de groepen 'Eik' en 'Beuk' zijn identieke groepen? Vul 2 in.
B5: 2 | C5: Hoeveel % van deze capaciteit komt in 2023 ongeveer ten goede aan jeugdigen uit Haarlemmermeer? | F5: Waarde invullen van 0-100%. Deze informatie wordt gebruikt ter raming van de toekomstige capaciteit.
B6: 3 | C6: Gemiddeld aantal gepland aanwezige clïënten (alle, niet alleen de Haarlemmermeerse) per openingsdag | F6: Dit hoeven niet uitsluitend jeugdigen te zijn onder de Jeugdwet
B7: 4 | C7: Bezettingsgraad | F7: Kies een percentage tussen 92,5% en 100%
B8: 5 | C8: Gemiddeld aantal feitelijk aanwezig clïënten per openingsdag (wordt automatisch gevuld!) | D8: =D6*D7 -> 0
B9: 6 | C9: Aantal openingsdagen per week
B10: 7 | C10: Aantal openingsuren per week | F10: Het betreft hier de uren waarop jeugdigen aanwezig mogen en kunnen zijn.
B11: 8 | C11: Openingsuren per jaar, rekening houdend met vakanties en gesloten (feest- & studie-)dagen
B12: 9 | C12: Productie 2023 in 'cliënturen' (wordt automatisch gevuld!) | D12: =D11*D8 -> 0
B13: 10 | C13: Aantal openingsweken per jaar (wordt automatisch gevuld!) | D13: =IFERROR(D11/D10,0) -> 0
B14: 11 | C14: Aantal openingsdagen (wordt automatisch gevuld!) | D14: =IFERROR((D11/D10*D9),0) -> 0
B15: 12 | C15: Totaal formatie groepsbegeleiders op deze groep (in fte) | F15: Uitsluitend uren van groepsbegeleiders, niet van gedragswetenschapper of behandelaren.
B16: 13 | C16: Totaal bruto uren groepbegeleiders beschikbaar (= fte x 1.877, wordt automatisch gevuld) | D16: =D15*(365/7)*36 -> 0
B17: 14 | C17: ="Netto roosteruren groepsbegeleiders op de groep TIJDENS de "&TEXT(D11,"#.###")&" openingsuren per jaar" -> Netto roosteruren groepsbegeleiders op de groep TIJDENS de openingsuren per jaar | F17: (voorbeeld: altijd 2 begeleiders op de groep? Roosteruren = openingsuren per jaar x 2)
B18: 15 | C18: Netto aanwezigheidsuren BUITEN de openingsuren van groepsbegeleiders per openingsdag | F18: Let op: per openingsdag! Deze tijd is uitdrukkelijk bedoeld als voor- en nabereiding en NIET bedoeld voor het leveren van ambulante jeugdhulp.
B19: 16 | C19: Netto aanwezigheidsuren per jaar BUITEN de openingsuren (wordt automatisch gevuld!) | D19: =IF(D18>0,D14*D18,"")
B20: 17 | C20: Overige (bruto) tijd van groepbegeleiders (wordt automatisch gevuld!) | D20: =IF(COUNTA(D16:D18)=3,D16-D17-D18,"")
B21: 18 | C21: …. aantal inroosterbare uren per fte begeleider per jaar… (wordt automatisch gevuld!) | D21: =IFERROR((D17+D19)/D15,"") | F21: =IF(COUNTA(D17:D18,D15)=3," Check: kloppen deze twee gele waarden met jullie administratie? Zie ook de invulinstructie.","")
B22: 19 | C22: …. dit aantal inroosterbare uren komt overeen met productiviteit van…. (wordt automatisch gevuld!) | D22: =IFERROR(D21/1878,"")
B23: 20 | C23: Begeleidingsintensiteit (wordt automatisch gevuld!) | D23: =IFERROR(IF(D17/D11/D8<Lijsten!F3,Lijsten!F3,IF(D17/D11/D8>Lijsten!G6,Lijsten!G6,D17/D11/D8)),"")
C25: =IFERROR(IF(D23>0,"Intensiteit: '"&INDEX(Lijsten!$F$3:$L$6,MATCH($D$23,Lijsten!F3:F6,1),3)&"'. Bandbreedte begeleidingsintensiteit: "&INDEX(Lijsten!$F$3:$L$6,MATCH($D$23,Lijsten!F3:F6,1),4)&". Tarief: "&TEXT(INDEX(Lijsten!$F$3:$L$6,MATCH(D23,Lijsten!F3:F6,1),7),"€00,00")& " per uur","Vul alle grijze velden in om de intensiteitsbepaling te zien."),"Vul alle grijze velden in om de intensiteitsbepaling te zien.") -> Vul alle grijze velden in om de intensiteitsbepaling te zien.
