Workbook
Name bez: Lijsten!$O$3:$O$793
Name bezetting: Lijsten!$U$3:$U$13
Name cap: Lijsten!$N$3:$N$102
Name dag: Lijsten!$A$3:$A$9
Name ja: Lijsten!$Q$2:$Q$4
Name nacht: Lijsten!$M$3:$M$5
Name type: Lijsten!$D$3:$D$10

Sheet Versiebeheer
B3: Versiebeheer
B5: Versienummer: 1.0
B6: Datum: 18 mei 2022
B7: Jeugzorgregio: Haarlemmermeer

Sheet Algemene instructie
B2: Invulinstructie Rekentool Crisisverblijf
B4: Algemene invulinstructie
B5: Deze rekentool helpt bij het bepalen van de juiste intensiteit van een crisisverblijfsgroep. Deze tool heeft 50 tabbladen voor crisiscrisisverblijfsgroepen. Het is de bedoeling om voor iedere crisisverblijfsgroep waar jeugdigen uit Haarlemeermeer naar verwachting gebruik van zullen maken, een tabblad in te vullen. De grijze cellen moeten worden ingevuld. Als de grijze cel is ingevuld, kleurt deze groen. De kleur groen betekent alleen: veld is ingevuld. Onder in de invultabel kleuren op het einde twee cellen oranje. De waarde van deze velden moeten 'realisitisch' zijn en kloppen met jullie eigen bedrijfsvoering. Goed dus om even te checken. Als de waarden niet kloppen, verander dan je invoer op de voorgaande invulvelden. Als alle gegevens op een tabblad zijn ingevuld, komt onderaan in het rood de begeleidingsintensiteit en de juiste voorziening te staan. Dit wordt alleen zichtbaar als inderdaad alle grijze velden zijn ingevuld! De ingevulde gegevens worden zichtbaar op het verzamelblad. Dit verzamelblad wordt door de inkoop gebruikt tijdens het inkoop-/beoordelings-/gunningsproces. Het gehele ingevulde Excelbestand moet als bijlage bij de inschrijving worden toegevoegd. Met deze tool kan de begeleidingsintensiteit bepaald worden van crisisverblijfsgroepen. Let op: voor gezinshuizen is een aparte tool! Let op: crisisverblijfsgroepen worden in deze rekentool beide aangeduid als 'crisisverblijfsgroep'
B6: Deze rekentool is niet geschikt voor:
B7: Woon- en verblijfgroepen, behandelgroepen (gebruik rekentool verblijf)
B8: 24-uurs groep op zorgboerderij (gebruik gezinshuistool)
B9: Gezinshuizen (gebruik gezinshuistool)
B10: (Deeltijd)pleegzorg (geen tool nodig)
B11: GGZ verblijf (voor ggz verblijf: gebruik de ggz-tariefklassen, hiervoor is geen rekentool nodig)
B12: LTA verblijfszorg
B13: Dagverblijf (aparte tool)

Sheet Invulinstructie
B2: Invulinstructie Rekentool Crisisverblijf
B5: Toelichting per vraag | D5: Toelichting
B6: ='Crisisverblijfsgroep 1'!B4 -> 1 | C6: ='Crisisverblijfsgroep 1'!C4 -> Naam groep | D6: Voor iedere crisisgroep waarnaar de toegang zou kunnen verwijzen, moet een tabblad worden ingevuld
B7: ='Crisisverblijfsgroep 1'!B5 -> 2 | C7: ='Crisisverblijfsgroep 1'!C5 -> Aantal fysieke plaatsen / bedden / capaciteitsplaatsen van deze crisisverblijfsgroep | D7: Het aantal reguliere capaciteitsplaatsen onder normale, gewenste omstandigheden. Een eventueel noodbed niet meerekenen.
B8: ='Crisisverblijfsgroep 1'!B6 -> 3 | C8: ='Crisisverblijfsgroep 1'!C6 -> Bezettingsgraad (op jaarbasis) | D8: Kies in het dropdownmenu de bezettingsgraad. Let op: het model gebruikt voor de intensiteitsbepaling mimimum percentages van 90% voor crisisverblijfsgroepen. Als de werkelijke bezettingsgraad lager is dan 90%, kies dan 90%. Als de bezettingsgraad hoger is, vul dan de werkelijke bezettingsgraad in.
B9: ='Crisisverblijfsgroep 1'!B7 -> 4 | C9: ='Crisisverblijfsgroep 1'!C7 -> Feitelijk gemiddeld aantal bezette plaatsen (=capaciteit x bezettingsgraad, wordt automatisch gevuld) | D9: Automatisch ingevuld: bezettingsgraad x capaciteitsplaatsen. Dit is het aantal cliënten waarover de begeleidingsintensiteit wordt berekend.
B10: ='Crisisverblijfsgroep 1'!B8 -> 5 | C10: ='Crisisverblijfsgroep 1'!C8 -> Wat voor type begeleiding heeft deze crisisverblijfsgroep 's nachts? | D10: Kies uit de dropdownmenu geen, slapende of wakende wacht. De keuze heeft geen directe gevolgen voor de berekening van de begeleidingsintensiteit. Bij slapende wacht moet bij het urenaantal bij vraag 13 50% van de uren worden meegeteld (verloonbare uren conform cao). Bij wakende dienst 100% van de uren.
B11: ='Crisisverblijfsgroep 1'!B9 -> 6 | C11: ='Crisisverblijfsgroep 1'!C9 | D11: Het antwoord op deze vraag heeft geen directe gevolgen voor de berekening van de begeleidingsintensiteit. Een nachtdienst kan worden gedeeld met andere (crisis- of verblijfs)groepen. Als een nachtdienst voor meerderen groepen verantwoordelijk is, tel dan bij vraag 13 de uren van deze dienst naar rato van het aantal jeugdigen mee. Dus: als de nachtdienst voor in totaal 4 groepen verantwoordelijk is, tel dan 25% van de uren mee bij vraag 13.
B12: ='Crisisverblijfsgroep 1'!B10 -> 7 | C12: ='Crisisverblijfsgroep 1'!C10 -> Feitelijk aantal openingsdagen 2023 | D12: Houdt hier rekening met eventueel vrije weekenden waarop de groep gesloten is en er geen jeugdigen kunnen verblijven. Bij veruit de meeste groepen geldt: 365 dagen per jaar open.
B13: ='Crisisverblijfsgroep 1'!B11 -> 8 | C13: ='Crisisverblijfsgroep 1'!C11 -> Totale productie 2023 in verblijfsetmalen (wordt automatisch gevuld) | D13: Dit veld wordt automatisch gevuld: werkelijk bezette plaatsen x aantal openingsdagen per jaar.
B14: ='Crisisverblijfsgroep 1'!B12 -> 9 | C14: ='Crisisverblijfsgroep 1'!C12 -> Welk deel in procenten van deze 0.000 etmalen zal naar schatting in 2023 Haarlemmermeerse jeugdigen betreffen? | D14: Het antwoord op deze vraag heeft geen directe gevolgen voor de berekening van de begeleidingsintensiteit. Het antwoord helpt de Inkoop bij het inschatten of de ingekochte capaciteit passend is voor de verwachte vraag.
B15: ='Crisisverblijfsgroep 1'!B13 -> 10 | C15: ='Crisisverblijfsgroep 1'!C13 -> Totaal fte (in roosters werkende) begeleiders 2023 voor deze 0,0 bedden* | D15: Deze vraag is 'inleidend' op vraag 13. Per zorgaanbieder verschilt welke informatie gemakkelijk beschikbaar is. Deze rekentool berekent eerst de bruto capaciteit in fte en uren, om daarna 'af te pellen' naar netto roosteruren per jaar (=vraag 13). Vraag 11, 12, 13 en 14 moeten met elkaar in verhouding staan.
B16: ='Crisisverblijfsgroep 1'!B14 -> 11 | C16: ='Crisisverblijfsgroep 1'!C14 -> A: Totaal aantal bruto uren begeleiders in heel 2023 voor hele groep (wordt automatisch gevuld) | D16: Wordt automatisch gevuld: fte x 1877,1 bruto uren per fte per jaar.
B17: ='Crisisverblijfsgroep 1'!B15 -> 12 | C17: ='Crisisverblijfsgroep 1'!C15 -> Waarvan B: feitelijk aantal netto roosteruren per jaar agogisch/leefklimaat in 2023 | D17: Dit is samen met het aantal capaciteitsplaatsen de belangrijkste vraag voor het bepalen van de begeleidingsintensiteit. Een inschatting van het antwoord kan zijn: de netto uren per week x 52 weken. Houdt rekening met gewijzigde bezetting in de vakantieweken en eventueel gesloten dagen.
... B22: ='Crisisverblijfsgroep 1'!B20 -> 17 | C22: ='Crisisverblijfsgroep 1'!C20 -> Begeleidingsintensiteit (wordt automatisch gevuld) | D22: Wordt automatisch gevuld. Dit is de begeleidingsintensiteit: het aantal netto roosteruren per jeugdige per dag.

Sheet Verzamelblad
B2: Inkoop jeugd Haarlemmermeer 2023
C4: Naam groep | D4: Capaciteitsplaatsen | E4: Waarvan deel Haarlemmermeer | F4: Berekende intensiteit | G4: Intensiteit | H4: Tarief
B5: =Lijsten!S3 -> Crisisverblijfsgroep 1 | C5: {=IFERROR(INDIRECT("'"&$B5&"'!d"&ROW('Crisisverblijfsgroep 1'!$4:$4)),"")} -> 0 | D5: {=IFERROR(IFERROR(INDIRECT("'"&$B5&"'!d"&ROW('Crisisverblijfsgroep 1'!$5:$5)),""),"")} -> 0 | E5: {=IFERROR(INDIRECT("'"&$B5&"'!d"&ROW('Crisisverblijfsgroep 1'!$12:$12)),"")} -> 0 | F5: {=IFERROR(INDIRECT("'"&$B5&"'!d"&ROW('Crisisverblijfsgroep 1'!$20:$20)),"")} | G5: =IFERROR(IF(F5>0,INDEX(Lijsten!$F$3:$L$7,MATCH(F5,Lijsten!$F$3:$F$7,1),3),""),"") | H5: =IFERROR(IF(F5>0,INDEX(Lijsten!$F$3:$L$7,MATCH(F5,Lijsten!$F$3:$F$7,1),7),""),"")
B6: =Lijsten!S4 -> Crisisverblijfsgroep 2 | C6: {=IFERROR(INDIRECT("'"&$B6&"'!d"&ROW('Crisisverblijfsgroep 1'!$4:$4)),"")} -> 0 | D6: {=IFERROR(IFERROR(INDIRECT("'"&$B6&"'!d"&ROW('Crisisverblijfsgroep 1'!$5:$5)),""),"")} -> 0 | E6: {=IFERROR(INDIRECT("'"&$B6&"'!d"&ROW('Crisisverblijfsgroep 1'!$12:$12)),"")} -> 0 | F6: {=IFERROR(INDIRECT("'"&$B6&"'!d"&ROW('Crisisverblijfsgroep 1'!$20:$20)),"")} | G6: =IFERROR(IF(F6>0,INDEX(Lijsten!$F$3:$L$7,MATCH(F6,Lijsten!$F$3:$F$7,1),3),""),"") | H6: =IFERROR(IF(F6>0,INDEX(Lijsten!$F$3:$L$7,MATCH(F6,Lijsten!$F$3:$F$7,1),7),""),"")
B7: =Lijsten!S5 -> Crisisverblijfsgroep 3 | C7: {=IFERROR(INDIRECT("'"&$B7&"'!d"&ROW('Crisisverblijfsgroep 1'!$4:$4)),"")} -> 0 | D7: {=IFERROR(IFERROR(INDIRECT("'"&$B7&"'!d"&ROW('Crisisverblijfsgroep 1'!$5:$5)),""),"")} -> 0 | E7: {=IFERROR(INDIRECT("'"&$B7&"'!d"&ROW('Crisisverblijfsgroep 1'!$12:$12)),"")} -> 0 | F7: {=IFERROR(INDIRECT("'"&$B7&"'!d"&ROW('Crisisverblijfsgroep 1'!$20:$20)),"")} | G7: =IFERROR(IF(F7>0,INDEX(Lijsten!$F$3:$L$7,MATCH(F7,Lijsten!$F$3:$F$7,1),3),""),"") | H7: =IFERROR(IF(F7>0,INDEX(Lijsten!$F$3:$L$7,MATCH(F7,Lijsten!$F$3:$F$7,1),7),""),"")
B8: =Lijsten!S6 -> Crisisverblijfsgroep 4 | C8: {=IFERROR(INDIRECT("'"&$B8&"'!d"&ROW('Crisisverblijfsgroep 1'!$4:$4)),"")} -> 0 | D8: {=IFERROR(IFERROR(INDIRECT("'"&$B8&"'!d"&ROW('Crisisverblijfsgroep 1'!$5:$5)),""),"")} -> 0 | E8: {=IFERROR(INDIRECT("'"&$B8&"'!d"&ROW('Crisisverblijfsgroep 1'!$12:$12)),"")} -> 0 | F8: {=IFERROR(INDIRECT("'"&$B8&"'!d"&ROW('Crisisverblijfsgroep 1'!$20:$20)),"")} | G8: =IFERROR(IF(F8>0,INDEX(Lijsten!$F$3:$L$7,MATCH(F8,Lijsten!$F$3:$F$7,1),3),""),"") | H8: =IFERROR(IF(F8>0,INDEX(Lijsten!$F$3:$L$7,MATCH(F8,Lijsten!$F$3:$F$7,1),7),""),"")
B9: =Lijsten!S7 -> Crisisverblijfsgroep 5 | C9: {=IFERROR(INDIRECT("'"&$B9&"'!d"&ROW('Crisisverblijfsgroep 1'!$4:$4)),"")} -> 0 | D9: {=IFERROR(IFERROR(INDIRECT("'"&$B9&"'!d"&ROW('Crisisverblijfsgroep 1'!$5:$5)),""),"")} -> 0 | E9: {=IFERROR(INDIRECT("'"&$B9&"'!d"&ROW('Crisisverblijfsgroep 1'!$12:$12)),"")} -> 0 | F9: {=IFERROR(INDIRECT("'"&$B9&"'!d"&ROW('Crisisverblijfsgroep 1'!$20:$20)),"")} | G9: =IFERROR(IF(F9>0,INDEX(Lijsten!$F$3:$L$7,MATCH(F9,Lijsten!$F$3:$F$7,1),3),""),"") | H9: =IFERROR(IF(F9>0,INDEX(Lijsten!$F$3:$L$7,MATCH(F9,Lijsten!$F$3:$F$7,1),7),""),"")
B10: =Lijsten!S8 -> Crisisverblijfsgroep 6 | C10: {=IFERROR(INDIRECT("'"&$B10&"'!d"&ROW('Crisisverblijfsgroep 1'!$4:$4)),"")} -> 0 | D10: {=IFERROR(IFERROR(INDIRECT("'"&$B10&"'!d"&ROW('Crisisverblijfsgroep 1'!$5:$5)),""),"")} -> 0 | E10: {=IFERROR(INDIRECT("'"&$B10&"'!d"&ROW('Crisisverblijfsgroep 1'!$12:$12)),"")} -> 0 | F10: {=IFERROR(INDIRECT("'"&$B10&"'!d"&ROW('Crisisverblijfsgroep 1'!$20:$20)),"")} | G10: =IFERROR(IF(F10>0,INDEX(Lijsten!$F$3:$L$7,MATCH(F10,Lijsten!$F$3:$F$7,1),3),""),"") | H10: =IFERROR(IF(F10>0,INDEX(Lijsten!$F$3:$L$7,MATCH(F10,Lijsten!$F$3:$F$7,1),7),""),"")
B11: =Lijsten!S9 -> Crisisverblijfsgroep 7 | C11: {=IFERROR(INDIRECT("'"&$B11&"'!d"&ROW('Crisisverblijfsgroep 1'!$4:$4)),"")} -> 0 | D11: {=IFERROR(IFERROR(INDIRECT("'"&$B11&"'!d"&ROW('Crisisverblijfsgroep 1'!$5:$5)),""),"")} -> 0 | E11: {=IFERROR(INDIRECT("'"&$B11&"'!d"&ROW('Crisisverblijfsgroep 1'!$12:$12)),"")} -> 0 | F11: {=IFERROR(INDIRECT("'"&$B11&"'!d"&ROW('Crisisverblijfsgroep 1'!$20:$20)),"")} | G11: =IFERROR(IF(F11>0,INDEX(Lijsten!$F$3:$L$7,MATCH(F11,Lijsten!$F$3:$F$7,1),3),""),"") | H11: =IFERROR(IF(F11>0,INDEX(Lijsten!$F$3:$L$7,MATCH(F11,Lijsten!$F$3:$F$7,1),7),""),"")
B12: =Lijsten!S10 -> Crisisverblijfsgroep 8 | C12: {=IFERROR(INDIRECT("'"&$B12&"'!d"&ROW('Crisisverblijfsgroep 1'!$4:$4)),"")} -> 0 | D12: {=IFERROR(IFERROR(INDIRECT("'"&$B12&"'!d"&ROW('Crisisverblijfsgroep 1'!$5:$5)),""),"")} -> 0 | E12: {=IFERROR(INDIRECT("'"&$B12&"'!d"&ROW('Crisisverblijfsgroep 1'!$12:$12)),"")} -> 0 | F12: {=IFERROR(INDIRECT("'"&$B12&"'!d"&ROW('Crisisverblijfsgroep 1'!$20:$20)),"")} | G12: =IFERROR(IF(F12>0,INDEX(Lijsten!$F$3:$L$7,MATCH(F12,Lijsten!$F$3:$F$7,1),3),""),"") | H12: =IFERROR(IF(F12>0,INDEX(Lijsten!$F$3:$L$7,MATCH(F12,Lijsten!$F$3:$F$7,1),7),""),"")
B13: =Lijsten!S11 -> Crisisverblijfsgroep 9 | C13: {=IFERROR(INDIRECT("'"&$B13&"'!d"&ROW('Crisisverblijfsgroep 1'!$4:$4)),"")} -> 0 | D13: {=IFERROR(IFERROR(INDIRECT("'"&$B13&"'!d"&ROW('Crisisverblijfsgroep 1'!$5:$5)),""),"")} -> 0 | E13: {=IFERROR(INDIRECT("'"&$B13&"'!d"&ROW('Crisisverblijfsgroep 1'!$12:$12)),"")} -> 0 | F13: {=IFERROR(INDIRECT("'"&$B13&"'!d"&ROW('Crisisverblijfsgroep 1'!$20:$20)),"")} | G13: =IFERROR(IF(F13>0,INDEX(Lijsten!$F$3:$L$7,MATCH(F13,Lijsten!$F$3:$F$7,1),3),""),"") | H13: =IFERROR(IF(F13>0,INDEX(Lijsten!$F$3:$L$7,MATCH(F13,Lijsten!$F$3:$F$7,1),7),""),"")
B14: =Lijsten!S12 -> Crisisverblijfsgroep 10 | C14: {=IFERROR(INDIRECT("'"&$B14&"'!d"&ROW('Crisisverblijfsgroep 1'!$4:$4)),"")} -> 0 | D14: {=IFERROR(IFERROR(INDIRECT("'"&$B14&"'!d"&ROW('Crisisverblijfsgroep 1'!$5:$5)),""),"")} -> 0 | E14: {=IFERROR(INDIRECT("'"&$B14&"'!d"&ROW('Crisisverblijfsgroep 1'!$12:$12)),"")} -> 0 | F14: {=IFERROR(INDIRECT("'"&$B14&"'!d"&ROW('Crisisverblijfsgroep 1'!$20:$20)),"")} | G14: =IFERROR(IF(F14>0,INDEX(Lijsten!$F$3:$L$7,MATCH(F14,Lijsten!$F$3:$F$7,1),3),""),"") | H14: =IFERROR(IF(F14>0,INDEX(Lijsten!$F$3:$L$7,MATCH(F14,Lijsten!$F$3:$F$7,1),7),""),"")
B15: =Lijsten!S13 -> Crisisverblijfsgroep 11 | C15: {=IFERROR(INDIRECT("'"&$B15&"'!d"&ROW('Crisisverblijfsgroep 1'!$4:$4)),"")} -> 0 | D15: {=IFERROR(IFERROR(INDIRECT("'"&$B15&"'!d"&ROW('Crisisverblijfsgroep 1'!$5:$5)),""),"")} -> 0 | E15: {=IFERROR(INDIRECT("'"&$B15&"'!d"&ROW('Crisisverblijfsgroep 1'!$12:$12)),"")} -> 0 | F15: {=IFERROR(INDIRECT("'"&$B15&"'!d"&ROW('Crisisverblijfsgroep 1'!$20:$20)),"")} | G15: =IFERROR(IF(F15>0,INDEX(Lijsten!$F$3:$L$7,MATCH(F15,Lijsten!$F$3:$F$7,1),3),""),"") | H15: =IFERROR(IF(F15>0,INDEX(Lijsten!$F$3:$L$7,MATCH(F15,Lijsten!$F$3:$F$7,1),7),""),"")
B16: =Lijsten!S14 -> Crisisverblijfsgroep 12 | C16: {=IFERROR(INDIRECT("'"&$B16&"'!d"&ROW('Crisisverblijfsgroep 1'!$4:$4)),"")} -> 0 | D16: {=IFERROR(IFERROR(INDIRECT("'"&$B16&"'!d"&ROW('Crisisverblijfsgroep 1'!$5:$5)),""),"")} -> 0 | E16: {=IFERROR(INDIRECT("'"&$B16&"'!d"&ROW('Crisisverblijfsgroep 1'!$12:$12)),"")} -> 0 | F16: {=IFERROR(INDIRECT("'"&$B16&"'!d"&ROW('Crisisverblijfsgroep 1'!$20:$20)),"")} | G16: =IFERROR(IF(F16>0,INDEX(Lijsten!$F$3:$L$7,MATCH(F16,Lijsten!$F$3:$F$7,1),3),""),"") | H16: =IFERROR(IF(F16>0,INDEX(Lijsten!$F$3:$L$7,MATCH(F16,Lijsten!$F$3:$F$7,1),7),""),"")
... B54: =Lijsten!S52 -> Crisisverblijfsgroep 50 | C54: {=IFERROR(INDIRECT("'"&$B54&"'!d"&ROW('Crisisverblijfsgroep 1'!$4:$4)),"")} -> 0 | D54: {=IFERROR(IFERROR(INDIRECT("'"&$B54&"'!d"&ROW('Crisisverblijfsgroep 1'!$5:$5)),""),"")} -> 0 | E54: {=IFERROR(INDIRECT("'"&$B54&"'!d"&ROW('Crisisverblijfsgroep 1'!$12:$12)),"")} -> 0 | F54: {=IFERROR(INDIRECT("'"&$B54&"'!d"&ROW('Crisisverblijfsgroep 1'!$20:$20)),"")} | G54: =IFERROR(IF(F54>0,INDEX(Lijsten!$F$3:$L$7,MATCH(F54,Lijsten!$F$3:$F$7,1),3),""),"") | H54: =IFERROR(IF(F54>0,INDEX(Lijsten!$F$3:$L$7,MATCH(F54,Lijsten!$F$3:$F$7,1),7),""),"")
B55: Totaal | D55: =SUM(D5:D54) -> 0

Sheet Lijsten
D2: type | J2: breedte | K2: gemiddeld | U2: bez
A3: 1 | B3: 0.8 | C3: 0,1 t/m 1,2 | D3: kortdurend verblijf | F3: 1 | G3: 3.39999 | H3: Crisisverblijf Intensiteit G | I3: 1,0 t/m 3,4 | J3: 0.49999 | K3: 3.149995 | L3: 288.18578 | M3: geen | N3: 1 | O3: 0.1 | Q3: ja | S3: Crisisverblijfsgroep 1 | U3: 0.9
A4: 2 | B4: 1.6 | C4: 1,2 t/m 1,9 | D4: kamertraining | F4: 3.4 | G4: 3.79999 | H4: Crisisverblijf Intensiteit H | I4: 3,4 t/m 3,8 | J4: 0.39999 | K4: 3.599995 | L4: 325.56759 | M4: slapende | N4: 2 | O4: 0.2 | Q4: nee | S4: Crisisverblijfsgroep 2 | U4: 0.91
A5: 3 | B5: 2.2 | C5: 1,9 t/m 2,5 | D5: fasehuis | F5: 3.8 | G5: 4.09999 | H5: Crisisverblijf Intensiteit I | I5: 3,8 t/m 4,1 | J5: 0.29999 | K5: 3.949995 | L5: 355.62671 | M5: wakende | N5: 3 | O5: 0.3 | S5: Crisisverblijfsgroep 3 | U5: 0.92
A6: 4 | B6: 2.7 | C6: 2,5 t/m 2,9 | D6: (specialistisch) wonen | F6: 4.1 | G6: 4.59999 | H6: Crisisverblijf Intensiteit J | I6: 4,1 t/m 4,6 | J6: 0.49999 | K6: 4.349995 | L6: 403.3386 | N6: 4 | O6: 0.4 | S6: Crisisverblijfsgroep 4 | U6: 0.93
A7: 5 | B7: 3.1 | C7: 2,9 t/m 3,4 | D7: behandelgroep | F7: 4.6 | G7: 6.1 | H7: Crisisverblijf Intensiteit K | I7: 4,6 t/m 6,1 | J7: =G7-F7 -> 1.5 | K7: =(G7+F7)/2 -> 5.35 | L7: 449.96726 | N7: 5 | O7: 0.5 | S7: Crisisverblijfsgroep 5 | U7: 0.94
A8: 6 | B8: 3.6 | C8: 3,4 t/m 3,8 | D8: crisisgroep | N8: 6 | O8: 0.6 | S8: Crisisverblijfsgroep 6 | U8: 0.95
A9: 7 | B9: 3.9 | C9: 3,8 t/m 4,1 | D9: driemilieu | N9: 7 | O9: 0.7 | S9: Crisisverblijfsgroep 7 | U9: 0.96
B10: 4.3 | C10: 4,1 t/m 4,6 | D10: jeugdzorg+ | N10: 8 | O10: 0.8 | S10: Crisisverblijfsgroep 8 | U10: 0.97
B11: 4.8 | C11: 4,6 t/m 6,1 | N11: 9 | O11: 0.9 | S11: Crisisverblijfsgroep 9 | U11: 0.98
N12: 10 | O12: 1 | S12: Crisisverblijfsgroep 10 | U12: 0.99
N13: 11 | O13: 1.1 | S13: Crisisverblijfsgroep 11 | U13: 1
N14: 12 | O14: 1.2 | S14: Crisisverblijfsgroep 12
N15: 13 | O15: 1.3 | S15: Crisisverblijfsgroep 13
N16: 14 | O16: 1.4 | S16: Crisisverblijfsgroep 14
N17: 15 | O17: 1.5 | S17: Crisisverblijfsgroep 15
N18: 16 | O18: 1.6 | S18: Crisisverblijfsgroep 16
N19: 17 | O19: 1.7 | S19: Crisisverblijfsgroep 17
N20: 18 | O20: 1.8 | S20: Crisisverblijfsgroep 18
N21: 19 | O21: 1.9 | S21: Crisisverblijfsgroep 19
N22: 20 | O22: 2 | S22: Crisisverblijfsgroep 20
N23: 21 | O23: 2.1 | S23: Crisisverblijfsgroep 21
N24: 22 | O24: 2.2 | S24: Crisisverblijfsgroep 22
N25: 23 | O25: 2.3 | S25: Crisisverblijfsgroep 23
... N52: 50 | O52: 5 | S52: Crisisverblijfsgroep 50
N53: 51 | O53: 5.1
N54: 52 | O54: 5.2
N55: 53 | O55: 5.3
N56: 54 | O56: 5.4
N57: 55 | O57: 5.5
N58: 56 | O58: 5.6
N59: 57 | O59: 5.7
N60: 58 | O60: 5.8
N61: 59 | O61: 5.9
N62: 60 | O62: 6
N63: 61 | O63: 6.1
N64: 62 | O64: 6.2
... N102: 100 | O102: 10
O103: 10.1
O104: 10.2
...

Sheet Crisisverblijfsgroep 1
F2: Toelichting (zie ook tabblad invulinstructie)
C3: Kenmerken Crisisverblijfgroep | D3: GEPLAND IN 2023
B4: 1 | C4: Naam groep
B5: 2 | C5: Aantal fysieke plaatsen / bedden / capaciteitsplaatsen van deze crisisverblijfsgroep | F5: Tel alle capacteitisplaatsen mee, ongeacht voor welke wet of doelgroep ze worden ingezet
B6: 3 | C6: Bezettingsgraad (op jaarbasis) | F6: Vul of een realisatie 2021 in, of een verwachting voor 2023.
B7: 4 | C7: Feitelijk gemiddeld aantal bezette plaatsen (=capaciteit x bezettingsgraad, wordt automatisch gevuld) | D7: =D5*D6 -> 0
B8: 5 | C8: Wat voor type begeleiding heeft deze crisisverblijfsgroep 's nachts? | F8: =IF(AND(D8=Lijsten!$M$4,D9>D5),"Als de slaapdienst meerdere groepen bedient, neem dan bij vraag 13 een evenredige doorbelasting van deze uren mee. Let op: uren slaapdienst tellen voor 50% mee.", IF(AND(D8=Lijsten!$M$4,D9=D5),"Tel bij vraag 13 de uren van de slapende wacht voor 50% mee (conform cao-bepalingen voor inconveniënte uren).", IF(AND(D8=Lijsten!$M$5,D9>D5),"Als de wakende dienst meerdere groepen bedient, neem dan bij vraag 13 een evenredige doorbelasting van deze uren mee.","")))
B9: 6 | C9: =IF(OR(D8="geen",$D$8=""),"","Voor hoeveel cliënten/patiënten is deze "&$D$8&" nachtdienst 's nachts verantwoordelijk?")
B10: 7 | C10: Feitelijk aantal openingsdagen 2023
B11: 8 | C11: Totale productie 2023 in verblijfsetmalen (wordt automatisch gevuld) | D11: =D10*D7 -> 0
B12: 9 | C12: ="Welk deel in procenten van deze "&TEXT(D11,"0.000")&" etmalen zal naar schatting in 2023 Haarlemmermeerse jeugdigen betreffen?" -> Welk deel in procenten van deze 0.000 etmalen zal naar schatting in 2023 Haarlemmermeerse jeugdigen betreffen? | F12: Deze vraag is uitsluitend bedoeld ter raming van de ingekochte capaciteit 2023
B13: 10 | C13: ="Totaal fte (in roosters werkende) begeleiders 2023 voor deze "&TEXT(D5,"0,0")&" bedden*" -> Totaal fte (in roosters werkende) begeleiders 2023 voor deze 0,0 bedden* | F13: Uitsluitend (groeps)begeleiders en pedagogisch medewerkers. Zie ook *
B14: 11 | C14: A: Totaal aantal bruto uren begeleiders in heel 2023 voor hele groep (wordt automatisch gevuld) | D14: =D13*(365/7)*36 -> 0
B15: 12 | C15: Waarvan B: feitelijk aantal netto roosteruren per jaar agogisch/leefklimaat in 2023 | F15: =IF(D8="slapend","Een slapende nachtdienst van 8 uur telt (voor de meeste cao's) mee als 4 uur per etmaal.","")
B16: 13 | C16: Waarvan C: indirect cliëntgebonden tijd en/of niet-cliëntgebonden tijdbesteding (A-B) (wordt automatisch gevuld) | D16: =IFERROR(IF(AND(D14>0,D15>0),D14-D15,""),"")
B17: 14 | C17: …. aantal netto roosteruren voor deze groep per week… (wordt automatisch gevuld) | D17: =IFERROR(IF(D15>0,D15/(D10/7),""),"") | F17: =IF(D17="","","check: kloppen deze drie gele waarden met jullie administratie?")
B18: 15 | C18: …. aantal inroosterbare uren per fte begeleider per jaar… (wordt automatisch gevuld) | D18: =IFERROR(D15/D13,"")
B19: 16 | C19: …. aantal inroosterbare uren per fte begeleider per jaar komt overeen met productiviteit van…. (wordt automatisch gevuld) | D19: =IFERROR(D15/D14,"")
B20: 17 | C20: Begeleidingsintensiteit (wordt automatisch gevuld) | D20: =IFERROR(D15/D11,"")
B23: =IFERROR(IF(D20>0,"Deze groep heeft "&INDEX(Lijsten!$F$3:$L$7,MATCH(ROUND($D$20,6),Lijsten!F3:F7,1),3)&". Begeleidingsintensiteit: "&TEXT(D20,"0,0")&". Bandbreedte ("&INDEX(Lijsten!H3:I7,MATCH(INDEX(Lijsten!$F$3:$L$7,MATCH(ROUND($D$20,6),Lijsten!F3:F7,1),3),Lijsten!$H$3:$H$7,0),2)&"). Tarief: "&TEXT(INDEX(Lijsten!$F$3:$L$7,MATCH(D20,Lijsten!F3:F7,1),7),"€000,00"),"Vul alle grijze velden in om de intensiteitsbepaling te zien."),"Vul alle grijze velden in om de intensiteitsbepaling te zien.") -> Vul alle grijze velden in om de intensiteitsbepaling te zien.
B26: * Uitsluitend de volgende functies mogen hier worden meegeteld:
B27: ingroosterde uren van groepsbegeleiders
B28: ingroosterde uren van pedagogisch medewerkers
B29: ingroosterde uren van agogisch medewerkers
B30: bij driemilieuvoorzieningen: ingeroosterde uren van begeleiders op het terrein (niet direct aan één groep verbonden)
B32: De volgende functies tellen NIET mee:
B33: uren van begeleiders ingeroosterd voor individuele begeleiding / begeleiding thuis
B34: gastvrouw/gastheer
B35: gedragwetenschapper / alle wo opgeleide hulpverleners
B36: ambulant hulpverlener / (vak)therapeuten, behandelaars
B37: individueel begeleiders (uitzondering: bij kamertraining/begeleid wonen als er geen groepsbegeleiders zijn)

Sheet Crisisverblijfsgroep 2
F2: Toelichting (zie ook tabblad invulinstructie)
C3: Kenmerken Crisisverblijfgroep | D3: GEPLAND IN 2023
B4: 1 | C4: Naam groep
B5: 3 | C5: Aantal fysieke plaatsen / bedden / capaciteitsplaatsen van deze crisisverblijfsgroep | F5: Tel alle capacteitisplaatsen mee, ongeacht voor welke wet of doelgroep ze worden ingezet
B6: 4 | C6: Bezettingsgraad (op jaarbasis) | F6: Vul of een realisatie 2021 in, of een verwachting voor 2023.
B7: 5 | C7: Feitelijk gemiddeld aantal bezette plaatsen (=capaciteit x bezettingsgraad, wordt automatisch gevuld) | D7: =D5*D6 -> 0
B8: 6 | C8: Wat voor type begeleiding heeft deze crisisverblijfsgroep 's nachts? | F8: =IF(AND(D8=Lijsten!$M$4,D9>D5),"Als de slaapdienst meerdere groepen bedient, neem dan bij vraag 13 een evenredige doorbelasting van deze uren mee. Let op: uren slaapdienst tellen voor 50% mee.", IF(AND(D8=Lijsten!$M$4,D9=D5),"Tel bij vraag 13 de uren van de slapende wacht voor 50% mee (conform cao-bepalingen voor inconveniënte uren).", IF(AND(D8=Lijsten!$M$5,D9>D5),"Als de wakende dienst meerdere groepen bedient, neem dan bij vraag 13 een evenredige doorbelasting van deze uren mee.","")))
B9: 7 | C9: =IF(OR(D8="geen",$D$8=""),"","Voor hoeveel cliënten/patiënten is deze "&$D$8&" nachtdienst 's nachts verantwoordelijk?")
B10: 8 | C10: Feitelijk aantal openingsdagen 2023
B11: 9 | C11: Totale productie 2023 in verblijfsetmalen (wordt automatisch gevuld) | D11: =D10*D7 -> 0
B12: 10 | C12: ="Welk deel in procenten van deze "&TEXT(D11,"0.000")&" etmalen zal naar schatting in 2023 Haarlemmermeerse jeugdigen betreffen?" -> Welk deel in procenten van deze 0.000 etmalen zal naar schatting in 2023 Haarlemmermeerse jeugdigen betreffen? | F12: Deze vraag is uitsluitend bedoeld ter raming van de ingekochte capaciteit 2023
B13: 11 | C13: ="Totaal fte (in roosters werkende) begeleiders 2023 voor deze "&TEXT(D5,"0,0")&" bedden*" -> Totaal fte (in roosters werkende) begeleiders 2023 voor deze 0,0 bedden* | F13: Uitsluitend (groeps)begeleiders en pedagogisch medewerkers. Zie ook *
B14: 12 | C14: A: Totaal aantal bruto uren begeleiders in heel 2023 voor hele groep (wordt automatisch gevuld) | D14: =D13*(365/7)*36 -> 0
B15: 13 | C15: Waarvan B: feitelijk aantal netto roosteruren per jaar agogisch/leefklimaat in 2023 | F15: =IF(D8="slapend","Een slapende nachtdienst van 8 uur telt (voor de meeste cao's) mee als 4 uur per etmaal.","")
B16: 14 | C16: Waarvan C: indirect cliëntgebonden tijd en/of niet-cliëntgebonden tijdbesteding (A-B) (wordt automatisch gevuld) | D16: =IFERROR(IF(AND(D14>0,D15>0),D14-D15,""),"")
B17: 15 | C17: …. aantal netto roosteruren voor deze groep per week… (wordt automatisch gevuld) | D17: =IFERROR(IF(D15>0,D15/(D10/7),""),"") | F17: =IF(D17="","","check: kloppen deze drie gele waarden met jullie administratie?")
B18: 16 | C18: …. aantal inroosterbare uren per fte begeleider per jaar… (wordt automatisch gevuld) | D18: =IFERROR(D15/D13,"")
B19: 17 | C19: …. aantal inroosterbare uren per fte begeleider per jaar komt overeen met productiviteit van…. (wordt automatisch gevuld) | D19: =IFERROR(D15/D14,"")
B20: 18 | C20: Begeleidingsintensiteit (wordt automatisch gevuld) | D20: =IFERROR(D15/D11,"")
B23: =IFERROR(IF(D20>0,"Deze groep heeft "&INDEX(Lijsten!$F$3:$L$7,MATCH(ROUND($D$20,6),Lijsten!F3:F7,1),3)&". Begeleidingsintensiteit: "&TEXT(D20,"0,0")&". Bandbreedte ("&INDEX(Lijsten!H3:I7,MATCH(INDEX(Lijsten!$F$3:$L$7,MATCH(ROUND($D$20,6),Lijsten!F3:F7,1),3),Lijsten!$H$3:$H$7,0),2)&"). Tarief: "&TEXT(INDEX(Lijsten!$F$3:$L$7,MATCH(D20,Lijsten!F3:F7,1),7),"€000,00"),"Vul alle grijze velden in om de intensiteitsbepaling te zien."),"Vul alle grijze velden in om de intensiteitsbepaling te zien.") -> Vul alle grijze velden in om de intensiteitsbepaling te zien.
B26: * Uitsluitend de volgende functies mogen hier worden meegeteld:
B27: ingroosterde uren van groepsbegeleiders
B28: ingroosterde uren van pedagogisch medewerkers
B29: ingroosterde uren van agogisch medewerkers
B30: bij driemilieuvoorzieningen: ingeroosterde uren van begeleiders op het terrein (niet direct aan één groep verbonden)
B32: De volgende functies tellen NIET mee:
B33: uren van begeleiders ingeroosterd voor individuele begeleiding / begeleiding thuis
B34: gastvrouw/gastheer
B35: gedragwetenschapper / alle wo opgeleide hulpverleners
B36: ambulant hulpverlener / (vak)therapeuten, behandelaars
B37: individueel begeleiders (uitzondering: bij kamertraining/begeleid wonen als er geen groepsbegeleiders zijn)

Sheet Crisisverblijfsgroep 3
F2: Toelichting (zie ook tabblad invulinstructie)
C3: Kenmerken Crisisverblijfgroep | D3: GEPLAND IN 2023
B4: 1 | C4: Naam groep
B5: 3 | C5: Aantal fysieke plaatsen / bedden / capaciteitsplaatsen van deze crisisverblijfsgroep | F5: Tel alle capacteitisplaatsen mee, ongeacht voor welke wet of doelgroep ze worden ingezet
B6: 4 | C6: Bezettingsgraad (op jaarbasis) | F6: Vul of een realisatie 2021 in, of een verwachting voor 2023.
B7: 5 | C7: Feitelijk gemiddeld aantal bezette plaatsen (=capaciteit x bezettingsgraad, wordt automatisch gevuld) | D7: =D5*D6 -> 0
B8: 6 | C8: Wat voor type begeleiding heeft deze crisisverblijfsgroep 's nachts? | F8: =IF(AND(D8=Lijsten!$M$4,D9>D5),"Als de slaapdienst meerdere groepen bedient, neem dan bij vraag 13 een evenredige doorbelasting van deze uren mee. Let op: uren slaapdienst tellen voor 50% mee.", IF(AND(D8=Lijsten!$M$4,D9=D5),"Tel bij vraag 13 de uren van de slapende wacht voor 50% mee (conform cao-bepalingen voor inconveniënte uren).", IF(AND(D8=Lijsten!$M$5,D9>D5),"Als de wakende dienst meerdere groepen bedient, neem dan bij vraag 13 een evenredige doorbelasting van deze uren mee.","")))
B9: 7 | C9: =IF(OR(D8="geen",$D$8=""),"","Voor hoeveel cliënten/patiënten is deze "&$D$8&" nachtdienst 's nachts verantwoordelijk?")
B10: 8 | C10: Feitelijk aantal openingsdagen 2023
B11: 9 | C11: Totale productie 2023 in verblijfsetmalen (wordt automatisch gevuld) | D11: =D10*D7 -> 0
B12: 10 | C12: ="Welk deel in procenten van deze "&TEXT(D11,"0.000")&" etmalen zal naar schatting in 2023 Haarlemmermeerse jeugdigen betreffen?" -> Welk deel in procenten van deze 0.000 etmalen zal naar schatting in 2023 Haarlemmermeerse jeugdigen betreffen? | F12: Deze vraag is uitsluitend bedoeld ter raming van de ingekochte capaciteit 2023
B13: 11 | C13: ="Totaal fte (in roosters werkende) begeleiders 2023 voor deze "&TEXT(D5,"0,0")&" bedden*" -> Totaal fte (in roosters werkende) begeleiders 2023 voor deze 0,0 bedden* | F13: Uitsluitend (groeps)begeleiders en pedagogisch medewerkers. Zie ook *
B14: 12 | C14: A: Totaal aantal bruto uren begeleiders in heel 2023 voor hele groep (wordt automatisch gevuld) | D14: =D13*(365/7)*36 -> 0
B15: 13 | C15: Waarvan B: feitelijk aantal netto roosteruren per jaar agogisch/leefklimaat in 2023 | F15: =IF(D8="slapend","Een slapende nachtdienst van 8 uur telt (voor de meeste cao's) mee als 4 uur per etmaal.","")
B16: 14 | C16: Waarvan C: indirect cliëntgebonden tijd en/of niet-cliëntgebonden tijdbesteding (A-B) (wordt automatisch gevuld) | D16: =IFERROR(IF(AND(D14>0,D15>0),D14-D15,""),"")
B17: 15 | C17: …. aantal netto roosteruren voor deze groep per week… (wordt automatisch gevuld) | D17: =IFERROR(IF(D15>0,D15/(D10/7),""),"") | F17: =IF(D17="","","check: kloppen deze drie gele waarden met jullie administratie?")
B18: 16 | C18: …. aantal inroosterbare uren per fte begeleider per jaar… (wordt automatisch gevuld) | D18: =IFERROR(D15/D13,"")
B19: 17 | C19: …. aantal inroosterbare uren per fte begeleider per jaar komt overeen met productiviteit van…. (wordt automatisch gevuld) | D19: =IFERROR(D15/D14,"")
B20: 18 | C20: Begeleidingsintensiteit (wordt automatisch gevuld) | D20: =IFERROR(D15/D11,"")
B23: =IFERROR(IF(D20>0,"Deze groep heeft "&INDEX(Lijsten!$F$3:$L$7,MATCH(ROUND($D$20,6),Lijsten!F3:F7,1),3)&". Begeleidingsintensiteit: "&TEXT(D20,"0,0")&". Bandbreedte ("&INDEX(Lijsten!H3:I7,MATCH(INDEX(Lijsten!$F$3:$L$7,MATCH(ROUND($D$20,6),Lijsten!F3:F7,1),3),Lijsten!$H$3:$H$7,0),2)&"). Tarief: "&TEXT(INDEX(Lijsten!$F$3:$L$7,MATCH(D20,Lijsten!F3:F7,1),7),"€000,00"),"Vul alle grijze velden in om de intensiteitsbepaling te zien."),"Vul alle grijze velden in om de intensiteitsbepaling te zien.") -> Vul alle grijze velden in om de intensiteitsbepaling te zien.
B26: * Uitsluitend de volgende functies mogen hier worden meegeteld:
B27: ingroosterde uren van groepsbegeleiders
B28: ingroosterde uren van pedagogisch medewerkers
B29: ingroosterde uren van agogisch medewerkers
B30: bij driemilieuvoorzieningen: ingeroosterde uren van begeleiders op het terrein (niet direct aan één groep verbonden)
B32: De volgende functies tellen NIET mee:
B33: uren van begeleiders ingeroosterd voor individuele begeleiding / begeleiding thuis
B34: gastvrouw/gastheer
B35: gedragwetenschapper / alle wo opgeleide hulpverleners
B36: ambulant hulpverlener / (vak)therapeuten, behandelaars
B37: individueel begeleiders (uitzondering: bij kamertraining/begeleid wonen als er geen groepsbegeleiders zijn)

Sheet Crisisverblijfsgroep 4
F2: Toelichting (zie ook tabblad invulinstructie)
C3: Kenmerken Crisisverblijfgroep | D3: GEPLAND IN 2023
B4: 1 | C4: Naam groep
B5: 3 | C5: Aantal fysieke plaatsen / bedden / capaciteitsplaatsen van deze crisisverblijfsgroep | F5: Tel alle capacteitisplaatsen mee, ongeacht voor welke wet of doelgroep ze worden ingezet
B6: 4 | C6: Bezettingsgraad (op jaarbasis) | F6: Vul of een realisatie 2021 in, of een verwachting voor 2023.
B7: 5 | C7: Feitelijk gemiddeld aantal bezette plaatsen (=capaciteit x bezettingsgraad, wordt automatisch gevuld) | D7: =D5*D6 -> 0
B8: 6 | C8: Wat voor type begeleiding heeft deze crisisverblijfsgroep 's nachts? | F8: =IF(AND(D8=Lijsten!$M$4,D9>D5),"Als de slaapdienst meerdere groepen bedient, neem dan bij vraag 13 een evenredige doorbelasting van deze uren mee. Let op: uren slaapdienst tellen voor 50% mee.", IF(AND(D8=Lijsten!$M$4,D9=D5),"Tel bij vraag 13 de uren van de slapende wacht voor 50% mee (conform cao-bepalingen voor inconveniënte uren).", IF(AND(D8=Lijsten!$M$5,D9>D5),"Als de wakende dienst meerdere groepen bedient, neem dan bij vraag 13 een evenredige doorbelasting van deze uren mee.","")))
B9: 7 | C9: =IF(OR(D8="geen",$D$8=""),"","Voor hoeveel cliënten/patiënten is deze "&$D$8&" nachtdienst 's nachts verantwoordelijk?")
B10: 8 | C10: Feitelijk aantal openingsdagen 2023
B11: 9 | C11: Totale productie 2023 in verblijfsetmalen (wordt automatisch gevuld) | D11: =D10*D7 -> 0
B12: 10 | C12: ="Welk deel in procenten van deze "&TEXT(D11,"0.000")&" etmalen zal naar schatting in 2023 Haarlemmermeerse jeugdigen betreffen?" -> Welk deel in procenten van deze 0.000 etmalen zal naar schatting in 2023 Haarlemmermeerse jeugdigen betreffen? | F12: Deze vraag is uitsluitend bedoeld ter raming van de ingekochte capaciteit 2023
B13: 11 | C13: ="Totaal fte (in roosters werkende) begeleiders 2023 voor deze "&TEXT(D5,"0,0")&" bedden*" -> Totaal fte (in roosters werkende) begeleiders 2023 voor deze 0,0 bedden* | F13: Uitsluitend (groeps)begeleiders en pedagogisch medewerkers. Zie ook *
B14: 12 | C14: A: Totaal aantal bruto uren begeleiders in heel 2023 voor hele groep (wordt automatisch gevuld) | D14: =D13*(365/7)*36 -> 0
B15: 13 | C15: Waarvan B: feitelijk aantal netto roosteruren per jaar agogisch/leefklimaat in 2023 | F15: =IF(D8="slapend","Een slapende nachtdienst van 8 uur telt (voor de meeste cao's) mee als 4 uur per etmaal.","")
B16: 14 | C16: Waarvan C: indirect cliëntgebonden tijd en/of niet-cliëntgebonden tijdbesteding (A-B) (wordt automatisch gevuld) | D16: =IFERROR(IF(AND(D14>0,D15>0),D14-D15,""),"")
B17: 15 | C17: …. aantal netto roosteruren voor deze groep per week… (wordt automatisch gevuld) | D17: =IFERROR(IF(D15>0,D15/(D10/7),""),"") | F17: =IF(D17="","","check: kloppen deze drie gele waarden met jullie administratie?")
B18: 16 | C18: …. aantal inroosterbare uren per fte begeleider per jaar… (wordt automatisch gevuld) | D18: =IFERROR(D15/D13,"")
B19: 17 | C19: …. aantal inroosterbare uren per fte begeleider per jaar komt overeen met productiviteit van…. (wordt automatisch gevuld) | D19: =IFERROR(D15/D14,"")
B20: 18 | C20: Begeleidingsintensiteit (wordt automatisch gevuld) | D20: =IFERROR(D15/D11,"")
B23: =IFERROR(IF(D20>0,"Deze groep heeft "&INDEX(Lijsten!$F$3:$L$7,MATCH(ROUND($D$20,6),Lijsten!F3:F7,1),3)&". Begeleidingsintensiteit: "&TEXT(D20,"0,0")&". Bandbreedte ("&INDEX(Lijsten!H3:I7,MATCH(INDEX(Lijsten!$F$3:$L$7,MATCH(ROUND($D$20,6),Lijsten!F3:F7,1),3),Lijsten!$H$3:$H$7,0),2)&"). Tarief: "&TEXT(INDEX(Lijsten!$F$3:$L$7,MATCH(D20,Lijsten!F3:F7,1),7),"€000,00"),"Vul alle grijze velden in om de intensiteitsbepaling te zien."),"Vul alle grijze velden in om de intensiteitsbepaling te zien.") -> Vul alle grijze velden in om de intensiteitsbepaling te zien.
B26: * Uitsluitend de volgende functies mogen hier worden meegeteld:
B27: ingroosterde uren van groepsbegeleiders
B28: ingroosterde uren van pedagogisch medewerkers
B29: ingroosterde uren van agogisch medewerkers
B30: bij driemilieuvoorzieningen: ingeroosterde uren van begeleiders op het terrein (niet direct aan één groep verbonden)
B32: De volgende functies tellen NIET mee:
B33: uren van begeleiders ingeroosterd voor individuele begeleiding / begeleiding thuis
B34: gastvrouw/gastheer
B35: gedragwetenschapper / alle wo opgeleide hulpverleners
B36: ambulant hulpverlener / (vak)therapeuten, behandelaars
B37: individueel begeleiders (uitzondering: bij kamertraining/begeleid wonen als er geen groepsbegeleiders zijn)

Sheet Crisisverblijfsgroep 5
F2: Toelichting (zie ook tabblad invulinstructie)
C3: Kenmerken Crisisverblijfgroep | D3: GEPLAND IN 2023
B4: 1 | C4: Naam groep
B5: 3 | C5: Aantal fysieke plaatsen / bedden / capaciteitsplaatsen van deze crisisverblijfsgroep | F5: Tel alle capacteitisplaatsen mee, ongeacht voor welke wet of doelgroep ze worden ingezet
B6: 4 | C6: Bezettingsgraad (op jaarbasis) | F6: Vul of een realisatie 2021 in, of een verwachting voor 2023.
B7: 5 | C7: Feitelijk gemiddeld aantal bezette plaatsen (=capaciteit x bezettingsgraad, wordt automatisch gevuld) | D7: =D5*D6 -> 0
B8: 6 | C8: Wat voor type begeleiding heeft deze crisisverblijfsgroep 's nachts? | F8: =IF(AND(D8=Lijsten!$M$4,D9>D5),"Als de slaapdienst meerdere groepen bedient, neem dan bij vraag 13 een evenredige doorbelasting van deze uren mee. Let op: uren slaapdienst tellen voor 50% mee.", IF(AND(D8=Lijsten!$M$4,D9=D5),"Tel bij vraag 13 de uren van de slapende wacht voor 50% mee (conform cao-bepalingen voor inconveniënte uren).", IF(AND(D8=Lijsten!$M$5,D9>D5),"Als de wakende dienst meerdere groepen bedient, neem dan bij vraag 13 een evenredige doorbelasting van deze uren mee.","")))
B9: 7 | C9: =IF(OR(D8="geen",$D$8=""),"","Voor hoeveel cliënten/patiënten is deze "&$D$8&" nachtdienst 's nachts verantwoordelijk?")
B10: 8 | C10: Feitelijk aantal openingsdagen 2023
B11: 9 | C11: Totale productie 2023 in verblijfsetmalen (wordt automatisch gevuld) | D11: =D10*D7 -> 0
B12: 10 | C12: ="Welk deel in procenten van deze "&TEXT(D11,"0.000")&" etmalen zal naar schatting in 2023 Haarlemmermeerse jeugdigen betreffen?" -> Welk deel in procenten van deze 0.000 etmalen zal naar schatting in 2023 Haarlemmermeerse jeugdigen betreffen? | F12: Deze vraag is uitsluitend bedoeld ter raming van de ingekochte capaciteit 2023
B13: 11 | C13: ="Totaal fte (in roosters werkende) begeleiders 2023 voor deze "&TEXT(D5,"0,0")&" bedden*" -> Totaal fte (in roosters werkende) begeleiders 2023 voor deze 0,0 bedden* | F13: Uitsluitend (groeps)begeleiders en pedagogisch medewerkers. Zie ook *
B14: 12 | C14: A: Totaal aantal bruto uren begeleiders in heel 2023 voor hele groep (wordt automatisch gevuld) | D14: =D13*(365/7)*36 -> 0
B15: 13 | C15: Waarvan B: feitelijk aantal netto roosteruren per jaar agogisch/leefklimaat in 2023 | F15: =IF(D8="slapend","Een slapende nachtdienst van 8 uur telt (voor de meeste cao's) mee als 4 uur per etmaal.","")
B16: 14 | C16: Waarvan C: indirect cliëntgebonden tijd en/of niet-cliëntgebonden tijdbesteding (A-B) (wordt automatisch gevuld) | D16: =IFERROR(IF(AND(D14>0,D15>0),D14-D15,""),"")
B17: 15 | C17: …. aantal netto roosteruren voor deze groep per week… (wordt automatisch gevuld) | D17: =IFERROR(IF(D15>0,D15/(D10/7),""),"") | F17: =IF(D17="","","check: kloppen deze drie gele waarden met jullie administratie?")
B18: 16 | C18: …. aantal inroosterbare uren per fte begeleider per jaar… (wordt automatisch gevuld) | D18: =IFERROR(D15/D13,"")
B19: 17 | C19: …. aantal inroosterbare uren per fte begeleider per jaar komt overeen met productiviteit van…. (wordt automatisch gevuld) | D19: =IFERROR(D15/D14,"")
B20: 18 | C20: Begeleidingsintensiteit (wordt automatisch gevuld) | D20: =IFERROR(D15/D11,"")
B23: =IFERROR(IF(D20>0,"Deze groep heeft "&INDEX(Lijsten!$F$3:$L$7,MATCH(ROUND($D$20,6),Lijsten!F3:F7,1),3)&". Begeleidingsintensiteit: "&TEXT(D20,"0,0")&". Bandbreedte ("&INDEX(Lijsten!H3:I7,MATCH(INDEX(Lijsten!$F$3:$L$7,MATCH(ROUND($D$20,6),Lijsten!F3:F7,1),3),Lijsten!$H$3:$H$7,0),2)&"). Tarief: "&TEXT(INDEX(Lijsten!$F$3:$L$7,MATCH(D20,Lijsten!F3:F7,1),7),"€000,00"),"Vul alle grijze velden in om de intensiteitsbepaling te zien."),"Vul alle grijze velden in om de intensiteitsbepaling te zien.") -> Vul alle grijze velden in om de intensiteitsbepaling te zien.
B26: * Uitsluitend de volgende functies mogen hier worden meegeteld:
B27: ingroosterde uren van groepsbegeleiders
B28: ingroosterde uren van pedagogisch medewerkers
B29: ingroosterde uren van agogisch medewerkers
B30: bij driemilieuvoorzieningen: ingeroosterde uren van begeleiders op het terrein (niet direct aan één groep verbonden)
B32: De volgende functies tellen NIET mee:
B33: uren van begeleiders ingeroosterd voor individuele begeleiding / begeleiding thuis
B34: gastvrouw/gastheer
B35: gedragwetenschapper / alle wo opgeleide hulpverleners
B36: ambulant hulpverlener / (vak)therapeuten, behandelaars
B37: individueel begeleiders (uitzondering: bij kamertraining/begeleid wonen als er geen groepsbegeleiders zijn)

Sheet Crisisverblijfsgroep 6
F2: Toelichting (zie ook tabblad invulinstructie)
C3: Kenmerken Crisisverblijfgroep | D3: GEPLAND IN 2023
B4: 1 | C4: Naam groep
B5: 3 | C5: Aantal fysieke plaatsen / bedden / capaciteitsplaatsen van deze crisisverblijfsgroep | F5: Tel alle capacteitisplaatsen mee, ongeacht voor welke wet of doelgroep ze worden ingezet
B6: 4 | C6: Bezettingsgraad (op jaarbasis) | F6: Vul of een realisatie 2021 in, of een verwachting voor 2023.
B7: 5 | C7: Feitelijk gemiddeld aantal bezette plaatsen (=capaciteit x bezettingsgraad, wordt automatisch gevuld) | D7: =D5*D6 -> 0
B8: 6 | C8: Wat voor type begeleiding heeft deze crisisverblijfsgroep 's nachts? | F8: =IF(AND(D8=Lijsten!$M$4,D9>D5),"Als de slaapdienst meerdere groepen bedient, neem dan bij vraag 13 een evenredige doorbelasting van deze uren mee. Let op: uren slaapdienst tellen voor 50% mee.", IF(AND(D8=Lijsten!$M$4,D9=D5),"Tel bij vraag 13 de uren van de slapende wacht voor 50% mee (conform cao-bepalingen voor inconveniënte uren).", IF(AND(D8=Lijsten!$M$5,D9>D5),"Als de wakende dienst meerdere groepen bedient, neem dan bij vraag 13 een evenredige doorbelasting van deze uren mee.","")))
B9: 7 | C9: =IF(OR(D8="geen",$D$8=""),"","Voor hoeveel cliënten/patiënten is deze "&$D$8&" nachtdienst 's nachts verantwoordelijk?")
B10: 8 | C10: Feitelijk aantal openingsdagen 2023
B11: 9 | C11: Totale productie 2023 in verblijfsetmalen (wordt automatisch gevuld) | D11: =D10*D7 -> 0
B12: 10 | C12: ="Welk deel in procenten van deze "&TEXT(D11,"0.000")&" etmalen zal naar schatting in 2023 Haarlemmermeerse jeugdigen betreffen?" -> Welk deel in procenten van deze 0.000 etmalen zal naar schatting in 2023 Haarlemmermeerse jeugdigen betreffen? | F12: Deze vraag is uitsluitend bedoeld ter raming van de ingekochte capaciteit 2023
B13: 11 | C13: ="Totaal fte (in roosters werkende) begeleiders 2023 voor deze "&TEXT(D5,"0,0")&" bedden*" -> Totaal fte (in roosters werkende) begeleiders 2023 voor deze 0,0 bedden* | F13: Uitsluitend (groeps)begeleiders en pedagogisch medewerkers. Zie ook *
B14: 12 | C14: A: Totaal aantal bruto uren begeleiders in heel 2023 voor hele groep (wordt automatisch gevuld) | D14: =D13*(365/7)*36 -> 0
B15: 13 | C15: Waarvan B: feitelijk aantal netto roosteruren per jaar agogisch/leefklimaat in 2023 | F15: =IF(D8="slapend","Een slapende nachtdienst van 8 uur telt (voor de meeste cao's) mee als 4 uur per etmaal.","")
B16: 14 | C16: Waarvan C: indirect cliëntgebonden tijd en/of niet-cliëntgebonden tijdbesteding (A-B) (wordt automatisch gevuld) | D16: =IFERROR(IF(AND(D14>0,D15>0),D14-D15,""),"")
B17: 15 | C17: …. aantal netto roosteruren voor deze groep per week… (wordt automatisch gevuld) | D17: =IFERROR(IF(D15>0,D15/(D10/7),""),"") | F17: =IF(D17="","","check: kloppen deze drie gele waarden met jullie administratie?")
B18: 16 | C18: …. aantal inroosterbare uren per fte begeleider per jaar… (wordt automatisch gevuld) | D18: =IFERROR(D15/D13,"")
B19: 17 | C19: …. aantal inroosterbare uren per fte begeleider per jaar komt overeen met productiviteit van…. (wordt automatisch gevuld) | D19: =IFERROR(D15/D14,"")
B20: 18 | C20: Begeleidingsintensiteit (wordt automatisch gevuld) | D20: =IFERROR(D15/D11,"")
B23: =IFERROR(IF(D20>0,"Deze groep heeft "&INDEX(Lijsten!$F$3:$L$7,MATCH(ROUND($D$20,6),Lijsten!F3:F7,1),3)&". Begeleidingsintensiteit: "&TEXT(D20,"0,0")&". Bandbreedte ("&INDEX(Lijsten!H3:I7,MATCH(INDEX(Lijsten!$F$3:$L$7,MATCH(ROUND($D$20,6),Lijsten!F3:F7,1),3),Lijsten!$H$3:$H$7,0),2)&"). Tarief: "&TEXT(INDEX(Lijsten!$F$3:$L$7,MATCH(D20,Lijsten!F3:F7,1),7),"€000,00"),"Vul alle grijze velden in om de intensiteitsbepaling te zien."),"Vul alle grijze velden in om de intensiteitsbepaling te zien.") -> Vul alle grijze velden in om de intensiteitsbepaling te zien.
B26: * Uitsluitend de volgende functies mogen hier worden meegeteld:
B27: ingroosterde uren van groepsbegeleiders
B28: ingroosterde uren van pedagogisch medewerkers
B29: ingroosterde uren van agogisch medewerkers
B30: bij driemilieuvoorzieningen: ingeroosterde uren van begeleiders op het terrein (niet direct aan één groep verbonden)
B32: De volgende functies tellen NIET mee:
B33: uren van begeleiders ingeroosterd voor individuele begeleiding / begeleiding thuis
B34: gastvrouw/gastheer
B35: gedragwetenschapper / alle wo opgeleide hulpverleners
B36: ambulant hulpverlener / (vak)therapeuten, behandelaars
B37: individueel begeleiders (uitzondering: bij kamertraining/begeleid wonen als er geen groepsbegeleiders zijn)

Sheet Crisisverblijfsgroep 7
F2: Toelichting (zie ook tabblad invulinstructie)
C3: Kenmerken Crisisverblijfgroep | D3: GEPLAND IN 2023
B4: 1 | C4: Naam groep
B5: 3 | C5: Aantal fysieke plaatsen / bedden / capaciteitsplaatsen van deze crisisverblijfsgroep | F5: Tel alle capacteitisplaatsen mee, ongeacht voor welke wet of doelgroep ze worden ingezet
B6: 4 | C6: Bezettingsgraad (op jaarbasis) | F6: Vul of een realisatie 2021 in, of een verwachting voor 2023.
B7: 5 | C7: Feitelijk gemiddeld aantal bezette plaatsen (=capaciteit x bezettingsgraad, wordt automatisch gevuld) | D7: =D5*D6 -> 0
B8: 6 | C8: Wat voor type begeleiding heeft deze crisisverblijfsgroep 's nachts? | F8: =IF(AND(D8=Lijsten!$M$4,D9>D5),"Als de slaapdienst meerdere groepen bedient, neem dan bij vraag 13 een evenredige doorbelasting van deze uren mee. Let op: uren slaapdienst tellen voor 50% mee.", IF(AND(D8=Lijsten!$M$4,D9=D5),"Tel bij vraag 13 de uren van de slapende wacht voor 50% mee (conform cao-bepalingen voor inconveniënte uren).", IF(AND(D8=Lijsten!$M$5,D9>D5),"Als de wakende dienst meerdere groepen bedient, neem dan bij vraag 13 een evenredige doorbelasting van deze uren mee.","")))
B9: 7 | C9: =IF(OR(D8="geen",$D$8=""),"","Voor hoeveel cliënten/patiënten is deze "&$D$8&" nachtdienst 's nachts verantwoordelijk?")
B10: 8 | C10: Feitelijk aantal openingsdagen 2023
B11: 9 | C11: Totale productie 2023 in verblijfsetmalen (wordt automatisch gevuld) | D11: =D10*D7 -> 0
B12: 10 | C12: ="Welk deel in procenten van deze "&TEXT(D11,"0.000")&" etmalen zal naar schatting in 2023 Haarlemmermeerse jeugdigen betreffen?" -> Welk deel in procenten van deze 0.000 etmalen zal naar schatting in 2023 Haarlemmermeerse jeugdigen betreffen? | F12: Deze vraag is uitsluitend bedoeld ter raming van de ingekochte capaciteit 2023
B13: 11 | C13: ="Totaal fte (in roosters werkende) begeleiders 2023 voor deze "&TEXT(D5,"0,0")&" bedden*" -> Totaal fte (in roosters werkende) begeleiders 2023 voor deze 0,0 bedden* | F13: Uitsluitend (groeps)begeleiders en pedagogisch medewerkers. Zie ook *
B14: 12 | C14: A: Totaal aantal bruto uren begeleiders in heel 2023 voor hele groep (wordt automatisch gevuld) | D14: =D13*(365/7)*36 -> 0
B15: 13 | C15: Waarvan B: feitelijk aantal netto roosteruren per jaar agogisch/leefklimaat in 2023 | F15: =IF(D8="slapend","Een slapende nachtdienst van 8 uur telt (voor de meeste cao's) mee als 4 uur per etmaal.","")
B16: 14 | C16: Waarvan C: indirect cliëntgebonden tijd en/of niet-cliëntgebonden tijdbesteding (A-B) (wordt automatisch gevuld) | D16: =IFERROR(IF(AND(D14>0,D15>0),D14-D15,""),"")
B17: 15 | C17: …. aantal netto roosteruren voor deze groep per week… (wordt automatisch gevuld) | D17: =IFERROR(IF(D15>0,D15/(D10/7),""),"") | F17: =IF(D17="","","check: kloppen deze drie gele waarden met jullie administratie?")
B18: 16 | C18: …. aantal inroosterbare uren per fte begeleider per jaar… (wordt automatisch gevuld) | D18: =IFERROR(D15/D13,"")
B19: 17 | C19: …. aantal inroosterbare uren per fte begeleider per jaar komt overeen met productiviteit van…. (wordt automatisch gevuld) | D19: =IFERROR(D15/D14,"")
B20: 18 | C20: Begeleidingsintensiteit (wordt automatisch gevuld) | D20: =IFERROR(D15/D11,"")
B23: =IFERROR(IF(D20>0,"Deze groep heeft "&INDEX(Lijsten!$F$3:$L$7,MATCH(ROUND($D$20,6),Lijsten!F3:F7,1),3)&". Begeleidingsintensiteit: "&TEXT(D20,"0,0")&". Bandbreedte ("&INDEX(Lijsten!H3:I7,MATCH(INDEX(Lijsten!$F$3:$L$7,MATCH(ROUND($D$20,6),Lijsten!F3:F7,1),3),Lijsten!$H$3:$H$7,0),2)&"). Tarief: "&TEXT(INDEX(Lijsten!$F$3:$L$7,MATCH(D20,Lijsten!F3:F7,1),7),"€000,00"),"Vul alle grijze velden in om de intensiteitsbepaling te zien."),"Vul alle grijze velden in om de intensiteitsbepaling te zien.") -> Vul alle grijze velden in om de intensiteitsbepaling te zien.
B26: * Uitsluitend de volgende functies mogen hier worden meegeteld:
B27: ingroosterde uren van groepsbegeleiders
B28: ingroosterde uren van pedagogisch medewerkers
B29: ingroosterde uren van agogisch medewerkers
B30: bij driemilieuvoorzieningen: ingeroosterde uren van begeleiders op het terrein (niet direct aan één groep verbonden)
B32: De volgende functies tellen NIET mee:
B33: uren van begeleiders ingeroosterd voor individuele begeleiding / begeleiding thuis
B34: gastvrouw/gastheer
B35: gedragwetenschapper / alle wo opgeleide hulpverleners
B36: ambulant hulpverlener / (vak)therapeuten, behandelaars
B37: individueel begeleiders (uitzondering: bij kamertraining/begeleid wonen als er geen groepsbegeleiders zijn)

Sheet Crisisverblijfsgroep 8
F2: Toelichting (zie ook tabblad invulinstructie)
C3: Kenmerken Crisisverblijfgroep | D3: GEPLAND IN 2023
B4: 1 | C4: Naam groep
B5: 3 | C5: Aantal fysieke plaatsen / bedden / capaciteitsplaatsen van deze crisisverblijfsgroep | F5: Tel alle capacteitisplaatsen mee, ongeacht voor welke wet of doelgroep ze worden ingezet
B6: 4 | C6: Bezettingsgraad (op jaarbasis) | F6: Vul of een realisatie 2021 in, of een verwachting voor 2023.
B7: 5 | C7: Feitelijk gemiddeld aantal bezette plaatsen (=capaciteit x bezettingsgraad, wordt automatisch gevuld) | D7: =D5*D6 -> 0
B8: 6 | C8: Wat voor type begeleiding heeft deze crisisverblijfsgroep 's nachts? | F8: =IF(AND(D8=Lijsten!$M$4,D9>D5),"Als de slaapdienst meerdere groepen bedient, neem dan bij vraag 13 een evenredige doorbelasting van deze uren mee. Let op: uren slaapdienst tellen voor 50% mee.", IF(AND(D8=Lijsten!$M$4,D9=D5),"Tel bij vraag 13 de uren van de slapende wacht voor 50% mee (conform cao-bepalingen voor inconveniënte uren).", IF(AND(D8=Lijsten!$M$5,D9>D5),"Als de wakende dienst meerdere groepen bedient, neem dan bij vraag 13 een evenredige doorbelasting van deze uren mee.","")))
B9: 7 | C9: =IF(OR(D8="geen",$D$8=""),"","Voor hoeveel cliënten/patiënten is deze "&$D$8&" nachtdienst 's nachts verantwoordelijk?")
B10: 8 | C10: Feitelijk aantal openingsdagen 2023
B11: 9 | C11: Totale productie 2023 in verblijfsetmalen (wordt automatisch gevuld) | D11: =D10*D7 -> 0
B12: 10 | C12: ="Welk deel in procenten van deze "&TEXT(D11,"0.000")&" etmalen zal naar schatting in 2023 Haarlemmermeerse jeugdigen betreffen?" -> Welk deel in procenten van deze 0.000 etmalen zal naar schatting in 2023 Haarlemmermeerse jeugdigen betreffen? | F12: Deze vraag is uitsluitend bedoeld ter raming van de ingekochte capaciteit 2023
B13: 11 | C13: ="Totaal fte (in roosters werkende) begeleiders 2023 voor deze "&TEXT(D5,"0,0")&" bedden*" -> Totaal fte (in roosters werkende) begeleiders 2023 voor deze 0,0 bedden* | F13: Uitsluitend (groeps)begeleiders en pedagogisch medewerkers. Zie ook *
B14: 12 | C14: A: Totaal aantal bruto uren begeleiders in heel 2023 voor hele groep (wordt automatisch gevuld) | D14: =D13*(365/7)*36 -> 0
B15: 13 | C15: Waarvan B: feitelijk aantal netto roosteruren per jaar agogisch/leefklimaat in 2023 | F15: =IF(D8="slapend","Een slapende nachtdienst van 8 uur telt (voor de meeste cao's) mee als 4 uur per etmaal.","")
B16: 14 | C16: Waarvan C: indirect cliëntgebonden tijd en/of niet-cliëntgebonden tijdbesteding (A-B) (wordt automatisch gevuld) | D16: =IFERROR(IF(AND(D14>0,D15>0),D14-D15,""),"")
B17: 15 | C17: …. aantal netto roosteruren voor deze groep per week… (wordt automatisch gevuld) | D17: =IFERROR(IF(D15>0,D15/(D10/7),""),"") | F17: =IF(D17="","","check: kloppen deze drie gele waarden met jullie administratie?")
B18: 16 | C18: …. aantal inroosterbare uren per fte begeleider per jaar… (wordt automatisch gevuld) | D18: =IFERROR(D15/D13,"")
B19: 17 | C19: …. aantal inroosterbare uren per fte begeleider per jaar komt overeen met productiviteit van…. (wordt automatisch gevuld) | D19: =IFERROR(D15/D14,"")
B20: 18 | C20: Begeleidingsintensiteit (wordt automatisch gevuld) | D20: =IFERROR(D15/D11,"")
B23: =IFERROR(IF(D20>0,"Deze groep heeft "&INDEX(Lijsten!$F$3:$L$7,MATCH(ROUND($D$20,6),Lijsten!F3:F7,1),3)&". Begeleidingsintensiteit: "&TEXT(D20,"0,0")&". Bandbreedte ("&INDEX(Lijsten!H3:I7,MATCH(INDEX(Lijsten!$F$3:$L$7,MATCH(ROUND($D$20,6),Lijsten!F3:F7,1),3),Lijsten!$H$3:$H$7,0),2)&"). Tarief: "&TEXT(INDEX(Lijsten!$F$3:$L$7,MATCH(D20,Lijsten!F3:F7,1),7),"€000,00"),"Vul alle grijze velden in om de intensiteitsbepaling te zien."),"Vul alle grijze velden in om de intensiteitsbepaling te zien.") -> Vul alle grijze velden in om de intensiteitsbepaling te zien.
B26: * Uitsluitend de volgende functies mogen hier worden meegeteld:
B27: ingroosterde uren van groepsbegeleiders
B28: ingroosterde uren van pedagogisch medewerkers
B29: ingroosterde uren van agogisch medewerkers
B30: bij driemilieuvoorzieningen: ingeroosterde uren van begeleiders op het terrein (niet direct aan één groep verbonden)
B32: De volgende functies tellen NIET mee:
B33: uren van begeleiders ingeroosterd voor individuele begeleiding / begeleiding thuis
B34: gastvrouw/gastheer
B35: gedragwetenschapper / alle wo opgeleide hulpverleners
B36: ambulant hulpverlener / (vak)therapeuten, behandelaars
B37: individueel begeleiders (uitzondering: bij kamertraining/begeleid wonen als er geen groepsbegeleiders zijn)

Sheet Crisisverblijfsgroep 9
F2: Toelichting (zie ook tabblad invulinstructie)
C3: Kenmerken Crisisverblijfgroep | D3: GEPLAND IN 2023
B4: 1 | C4: Naam groep
B5: 3 | C5: Aantal fysieke plaatsen / bedden / capaciteitsplaatsen van deze crisisverblijfsgroep | F5: Tel alle capacteitisplaatsen mee, ongeacht voor welke wet of doelgroep ze worden ingezet
B6: 4 | C6: Bezettingsgraad (op jaarbasis) | F6: Vul of een realisatie 2021 in, of een verwachting voor 2023.
B7: 5 | C7: Feitelijk gemiddeld aantal bezette plaatsen (=capaciteit x bezettingsgraad, wordt automatisch gevuld) | D7: =D5*D6 -> 0
B8: 6 | C8: Wat voor type begeleiding heeft deze crisisverblijfsgroep 's nachts? | F8: =IF(AND(D8=Lijsten!$M$4,D9>D5),"Als de slaapdienst meerdere groepen bedient, neem dan bij vraag 13 een evenredige doorbelasting van deze uren mee. Let op: uren slaapdienst tellen voor 50% mee.", IF(AND(D8=Lijsten!$M$4,D9=D5),"Tel bij vraag 13 de uren van de slapende wacht voor 50% mee (conform cao-bepalingen voor inconveniënte uren).", IF(AND(D8=Lijsten!$M$5,D9>D5),"Als de wakende dienst meerdere groepen bedient, neem dan bij vraag 13 een evenredige doorbelasting van deze uren mee.","")))
B9: 7 | C9: =IF(OR(D8="geen",$D$8=""),"","Voor hoeveel cliënten/patiënten is deze "&$D$8&" nachtdienst 's nachts verantwoordelijk?")
B10: 8 | C10: Feitelijk aantal openingsdagen 2023
B11: 9 | C11: Totale productie 2023 in verblijfsetmalen (wordt automatisch gevuld) | D11: =D10*D7 -> 0
B12: 10 | C12: ="Welk deel in procenten van deze "&TEXT(D11,"0.000")&" etmalen zal naar schatting in 2023 Haarlemmermeerse jeugdigen betreffen?" -> Welk deel in procenten van deze 0.000 etmalen zal naar schatting in 2023 Haarlemmermeerse jeugdigen betreffen? | F12: Deze vraag is uitsluitend bedoeld ter raming van de ingekochte capaciteit 2023
B13: 11 | C13: ="Totaal fte (in roosters werkende) begeleiders 2023 voor deze "&TEXT(D5,"0,0")&" bedden*" -> Totaal fte (in roosters werkende) begeleiders 2023 voor deze 0,0 bedden* | F13: Uitsluitend (groeps)begeleiders en pedagogisch medewerkers. Zie ook *
B14: 12 | C14: A: Totaal aantal bruto uren begeleiders in heel 2023 voor hele groep (wordt automatisch gevuld) | D14: =D13*(365/7)*36 -> 0
B15: 13 | C15: Waarvan B: feitelijk aantal netto roosteruren per jaar agogisch/leefklimaat in 2023 | F15: =IF(D8="slapend","Een slapende nachtdienst van 8 uur telt (voor de meeste cao's) mee als 4 uur per etmaal.","")
B16: 14 | C16: Waarvan C: indirect cliëntgebonden tijd en/of niet-cliëntgebonden tijdbesteding (A-B) (wordt automatisch gevuld) | D16: =IFERROR(IF(AND(D14>0,D15>0),D14-D15,""),"")
B17: 15 | C17: …. aantal netto roosteruren voor deze groep per week… (wordt automatisch gevuld) | D17: =IFERROR(IF(D15>0,D15/(D10/7),""),"") | F17: =IF(D17="","","check: kloppen deze drie gele waarden met jullie administratie?")
B18: 16 | C18: …. aantal inroosterbare uren per fte begeleider per jaar… (wordt automatisch gevuld) | D18: =IFERROR(D15/D13,"")
B19: 17 | C19: …. aantal inroosterbare uren per fte begeleider per jaar komt overeen met productiviteit van…. (wordt automatisch gevuld) | D19: =IFERROR(D15/D14,"")
B20: 18 | C20: Begeleidingsintensiteit (wordt automatisch gevuld) | D20: =IFERROR(D15/D11,"")
B23: =IFERROR(IF(D20>0,"Deze groep heeft "&INDEX(Lijsten!$F$3:$L$7,MATCH(ROUND($D$20,6),Lijsten!F3:F7,1),3)&". Begeleidingsintensiteit: "&TEXT(D20,"0,0")&". Bandbreedte ("&INDEX(Lijsten!H3:I7,MATCH(INDEX(Lijsten!$F$3:$L$7,MATCH(ROUND($D$20,6),Lijsten!F3:F7,1),3),Lijsten!$H$3:$H$7,0),2)&"). Tarief: "&TEXT(INDEX(Lijsten!$F$3:$L$7,MATCH(D20,Lijsten!F3:F7,1),7),"€000,00"),"Vul alle grijze velden in om de intensiteitsbepaling te zien."),"Vul alle grijze velden in om de intensiteitsbepaling te zien.") -> Vul alle grijze velden in om de intensiteitsbepaling te zien.
B26: * Uitsluitend de volgende functies mogen hier worden meegeteld:
B27: ingroosterde uren van groepsbegeleiders
B28: ingroosterde uren van pedagogisch medewerkers
B29: ingroosterde uren van agogisch medewerkers
B30: bij driemilieuvoorzieningen: ingeroosterde uren van begeleiders op het terrein (niet direct aan één groep verbonden)
B32: De volgende functies tellen NIET mee:
B33: uren van begeleiders ingeroosterd voor individuele begeleiding / begeleiding thuis
B34: gastvrouw/gastheer
B35: gedragwetenschapper / alle wo opgeleide hulpverleners
B36: ambulant hulpverlener / (vak)therapeuten, behandelaars
B37: individueel begeleiders (uitzondering: bij kamertraining/begeleid wonen als er geen groepsbegeleiders zijn)

Sheet Crisisverblijfsgroep 10
F2: Toelichting (zie ook tabblad invulinstructie)
C3: Kenmerken Crisisverblijfgroep | D3: GEPLAND IN 2023
B4: 1 | C4: Naam groep
B5: 3 | C5: Aantal fysieke plaatsen / bedden / capaciteitsplaatsen van deze crisisverblijfsgroep | F5: Tel alle capacteitisplaatsen mee, ongeacht voor welke wet of doelgroep ze worden ingezet
B6: 4 | C6: Bezettingsgraad (op jaarbasis) | F6: Vul of een realisatie 2021 in, of een verwachting voor 2023.
B7: 5 | C7: Feitelijk gemiddeld aantal bezette plaatsen (=capaciteit x bezettingsgraad, wordt automatisch gevuld) | D7: =D5*D6 -> 0
B8: 6 | C8: Wat voor type begeleiding heeft deze crisisverblijfsgroep 's nachts? | F8: =IF(AND(D8=Lijsten!$M$4,D9>D5),"Als de slaapdienst meerdere groepen bedient, neem dan bij vraag 13 een evenredige doorbelasting van deze uren mee. Let op: uren slaapdienst tellen voor 50% mee.", IF(AND(D8=Lijsten!$M$4,D9=D5),"Tel bij vraag 13 de uren van de slapende wacht voor 50% mee (conform cao-bepalingen voor inconveniënte uren).", IF(AND(D8=Lijsten!$M$5,D9>D5),"Als de wakende dienst meerdere groepen bedient, neem dan bij vraag 13 een evenredige doorbelasting van deze uren mee.","")))
B9: 7 | C9: =IF(OR(D8="geen",$D$8=""),"","Voor hoeveel cliënten/patiënten is deze "&$D$8&" nachtdienst 's nachts verantwoordelijk?")
B10: 8 | C10: Feitelijk aantal openingsdagen 2023
B11: 9 | C11: Totale productie 2023 in verblijfsetmalen (wordt automatisch gevuld) | D11: =D10*D7 -> 0
B12: 10 | C12: ="Welk deel in procenten van deze "&TEXT(D11,"0.000")&" etmalen zal naar schatting in 2023 Haarlemmermeerse jeugdigen betreffen?" -> Welk deel in procenten van deze 0.000 etmalen zal naar schatting in 2023 Haarlemmermeerse jeugdigen betreffen? | F12: Deze vraag is uitsluitend bedoeld ter raming van de ingekochte capaciteit 2023
