Workbook
Name bez: Lijsten!$O$3:$O$793
Name bezetting: Lijsten!$U$3:$U$13
Name cap: Lijsten!$N$3:$N$102
Name dag: Lijsten!$A$3:$A$9
Name ja: Lijsten!$Q$2:$Q$4
Name nacht: Lijsten!$M$3:$M$5
Name type: Lijsten!$D$3:$D$10

Sheet Versiebeheer
B3: Versiebeheer
B5: Versienummer: 1.0
B6: Datum: 18 mei 2022
B7: Jeugzorgregio: Haarlemmermeer

Sheet Algemene instructie
B2: Invulinstructie Rekentool Wonen/verblijf
B4: Algemene invulinstructie
B5: Deze rekentool helpt bij het bepalen van de juiste intensiteit van een verblijfsgroep. Deze tool heeft 50 tabbladen voor verblijfsgroepen. Het is de bedoeling om voor iedere verblijfsgroep waar jeugdigen uit Haarlemeermeer naar verwachting gebruik van zullen maken, een tabblad in te vullen. De grijze cellen moeten worden ingevuld. Als de grijze cel is ingevuld, kleurt deze groen. De kleur groen betekent alleen: veld is ingevuld. Onder in de invultabel kleuren op het einde twee cellen oranje. De waarde van deze velden moeten 'realisitisch' zijn en kloppen met jullie eigen bedrijfsvoering. Goed dus om even te checken. Als de waarden niet kloppen, verander dan je invoer op de voorgaande invulvelden. Als alle gegevens op een tabblad zijn ingevuld, komt onderaan in het rood de begeleidingsintensiteit en de juiste voorziening te staan. Dit wordt alleen zichtbaar als inderdaad alle grijze velden zijn ingevuld! De ingevulde gegevens worden zichtbaar op het verzamelblad. Dit verzamelblad wordt door de inkoop gebruikt tijdens het inkoop-/beoordelings-/gunningsproces. Het gehele ingevulde Excelbestand moet als bijlage bij de inschrijving worden toegevoegd. Met deze tool kan de begeleidingsintensiteit bepaald worden van woon- en verblijfsgroepen. Let op: voor gezinshuizen is een aparte tool! Let op: woon- en verblijfsgroepen worden in deze rekentool beide aangeduid als 'Verblijfsgroep'
B6: Deze rekentool is niet geschikt voor:
B7: Crisisverblijf (gebruik rekentool crisisverblijf)
B8: 24-uurs groep op zorgboerderij (gebruik gezinshuistool)
B9: Gezinshuizen (gebruik gezinshuistool)
B10: (Deeltijd)pleegzorg (geen tool nodig)
B11: GGZ verblijf (voor ggz verblijf: gebruik de ggz-tariefklassen, hiervoor is geen rekentool nodig)
B12: LTA verblijfszorg
B13: Dagverblijf (aparte tool)

Sheet Invulinstructie
B2: Invulinstructie Rekentool Wonen/verblijf
B5: Toelichting per vraag | D5: Toelichting
B6: ='Verblijfsgroep 1'!B4 -> 1 | C6: ='Verblijfsgroep 1'!C4 -> Naam groep | D6: Voor iedere groep waarnaar de toegang zou kunnen verwijzen, moet een tabblad worden ingevuld
B7: ='Verblijfsgroep 1'!B5 -> 2 | C7: ='Verblijfsgroep 1'!C5 -> Welk type woon/verblijfgroep is dit? | D7: Kies met een dropdown uit één van opties. Bij het antwoorden 'kortdurend verblijf' staat de rekentool toe dat de bezettingsgraad minimaal 90% is, bij andere groepen geldt 95% als minimum. Let op: crisisverblijf kan niet met deze tool worden berekend, kies daarvoor de Rekentool Crisisverblijf.
B8: ='Verblijfsgroep 1'!B6 -> 3 | C8: ='Verblijfsgroep 1'!C6 -> Aantal fysieke plaatsen / bedden / capaciteitsplaatsen van deze woon-/verblijfseenheid | D8: Het aantal reguliere capaciteitsplaatsen onder normale, gewenste omstandigheden. Een eventueel noodbed niet meerekenen.
B9: ='Verblijfsgroep 1'!B7 -> 4 | C9: ='Verblijfsgroep 1'!C7 -> Bezettingsgraad (op jaarbasis) | D9: Kies in het dropdownmenu de bezettingsgraad. Let op: het model gebruikt voor de intensiteitsbepaling mimimum percentages van 90% en 95%, zie toelichting op vraag 2. Kies 90% als uw werkelijke bezettingsgraad lager is dan 90%. De rekentool zal - behalve bij kort verblijf - dan toch rekenen met 95%.
B10: ='Verblijfsgroep 1'!B8 -> 5 | C10: ='Verblijfsgroep 1'!C8 -> Feitelijk gemiddeld aantal bezette plaatsen (=capaciteit x bezettingsgraad, wordt automatisch gevuld) | D10: Automatisch ingevuld: bezettingsgraad x capaciteitsplaatsen. Dit is het aantal cliënten waarover de begeleidingsintensiteit wordt berekend.
B11: ='Verblijfsgroep 1'!B9 -> 6 | C11: ='Verblijfsgroep 1'!C9 -> Wat voor type begeleiding heeft deze woon-/verblijfseenheid 's nachts? | D11: Kies uit de dropdownmenu geen, slapende of wakende wacht. De keuze heeft geen directe gevolgen voor de berekening van de begeleidingsintensiteit. Bij slapende wacht moet bij het urenaantal bij vraag 13 50% van de uren worden meegeteld (verloonbare uren conform cao). Bij wakende dienst 100% van de uren.
B12: ='Verblijfsgroep 1'!B10 -> 7 | C12: ='Verblijfsgroep 1'!C10 | D12: Het antwoord op deze vraag heeft geen directe gevolgen voor de berekening van de begeleidingsintensiteit. Een nachtdienst kan worden gedeeld met andere groepen. Als een nachtdienst voor meerderen groepen verantwoordelijk is, tel dan bij vraag 13 de uren van deze dienst naar rato van het aantal jeugdigen mee. Dus: als de nachtdienst voor in totaal 4 groepen verantwoordelijk is, tel dan 25% van de uren mee bij vraag 13.
B13: ='Verblijfsgroep 1'!B11 -> 8 | C13: ='Verblijfsgroep 1'!C11 -> Feitelijk aantal openingsdagen 2023 | D13: Houdt hier rekening met eventueel vrije weekenden waarop de groep gesloten is en er geen jeugdigen kunnen verblijven. Bij veruit de meeste groepen geldt: 365 dagen per jaar open.
B14: ='Verblijfsgroep 1'!B12 -> 9 | C14: ='Verblijfsgroep 1'!C12 -> Totale productie 2023 in verblijfsetmalen (wordt automatisch gevuld) | D14: Dit veld wordt automatisch gevuld: werkelijk bezette plaatsen x aantal openingsdagen per jaar.
B15: ='Verblijfsgroep 1'!B13 -> 10 | C15: ='Verblijfsgroep 1'!C13 -> Welk deel in procenten van deze 0.000 etmalen zal naar schatting in 2023 Haarlemmermeerse jeugdigen betreffen? | D15: Het antwoord op deze vraag heeft geen directe gevolgen voor de berekening van de begeleidingsintensiteit. Het antwoord helpt de Inkoop bij het inschatten of de ingekochte capaciteit passend is voor de verwachte vraag.
B16: ='Verblijfsgroep 1'!B14 -> 11 | C16: ='Verblijfsgroep 1'!C14 -> Totaal fte (in roosters werkende) begeleiders 2023 voor deze 0,0 bedden* | D16: Deze vraag is 'inleidend' op vraag 13. Per zorgaanbieder verschilt welke informatie gemakkelijk beschikbaar is. Deze rekentool berekent eerst de bruto capaciteit in fte en uren, om daarna 'af te pellen' naar netto roosteruren per jaar (=vraag 13). Vraag 11, 12, 13 en 14 moeten met elkaar in verhouding staan.
B17: ='Verblijfsgroep 1'!B15 -> 12 | C17: ='Verblijfsgroep 1'!C15 -> A: Totaal aantal bruto uren begeleiders in heel 2023 voor hele groep (wordt automatisch gevuld) | D17: Wordt automatisch gevuld: fte x 1877,1 bruto uren per fte per jaar.
... B23: ='Verblijfsgroep 1'!B21 -> 18 | C23: ='Verblijfsgroep 1'!C21 -> Begeleidingsintensiteit (wordt automatisch gevuld) | D23: Wordt automatisch gevuld. Dit is de begeleidingsintensiteit: het aantal netto roosteruren per jeugdige per dag.

Sheet Verzamelblad
B2: Inkoop jeugd Haarlemmermeer 2023
C4: Naam groep | D4: Type verblijf | E4: Capaciteitsplaatsen | F4: Waarvan deel Haarlemmermeer | G4: Berekende intensiteit | H4: Intensiteit | I4: Tarief
B5: =Lijsten!S3 -> Verblijfsgroep 1 | C5: {=IFERROR(INDIRECT("'"&$B5&"'!d"&ROW('Verblijfsgroep 1'!$4:$4)),"")} -> 0 | D5: {=IFERROR(INDIRECT("'"&$B5&"'!d"&ROW('Verblijfsgroep 1'!$5:$5)),"")} -> 0 | E5: {=IFERROR(IFERROR(INDIRECT("'"&$B5&"'!d"&ROW('Verblijfsgroep 1'!$6:$6)),""),"")} -> 0 | F5: {=IFERROR(INDIRECT("'"&$B5&"'!d"&ROW('Verblijfsgroep 1'!$13:$13)),"")} -> 0 | G5: {=IFERROR(INDIRECT("'"&$B5&"'!d"&ROW('Verblijfsgroep 1'!$21:$21)),"")} | H5: =IFERROR(IF(G5>0,INDEX(Lijsten!$F$3:$L$11,MATCH(G5,Lijsten!$F$3:$F$11,1),3),""),"") | I5: =IFERROR(IF(G5>0,INDEX(Lijsten!$F$3:$L$11,MATCH(G5,Lijsten!$F$3:$F$11,1),7),""),"")
B6: =Lijsten!S4 -> Verblijfsgroep 2 | C6: {=IFERROR(INDIRECT("'"&$B6&"'!d"&ROW('Verblijfsgroep 1'!$4:$4)),"")} -> 0 | D6: {=IFERROR(INDIRECT("'"&$B6&"'!d"&ROW('Verblijfsgroep 1'!$5:$5)),"")} -> 0 | E6: {=IFERROR(IFERROR(INDIRECT("'"&$B6&"'!d"&ROW('Verblijfsgroep 1'!$6:$6)),""),"")} -> 0 | F6: {=IFERROR(INDIRECT("'"&$B6&"'!d"&ROW('Verblijfsgroep 1'!$13:$13)),"")} -> 0 | G6: {=IFERROR(INDIRECT("'"&$B6&"'!d"&ROW('Verblijfsgroep 1'!$21:$21)),"")} | H6: =IFERROR(IF(G6>0,INDEX(Lijsten!$F$3:$L$11,MATCH(G6,Lijsten!$F$3:$F$11,1),3),""),"") | I6: =IFERROR(IF(G6>0,INDEX(Lijsten!$F$3:$L$11,MATCH(G6,Lijsten!$F$3:$F$11,1),7),""),"")
B7: =Lijsten!S5 -> Verblijfsgroep 3 | C7: {=IFERROR(INDIRECT("'"&$B7&"'!d"&ROW('Verblijfsgroep 1'!$4:$4)),"")} -> 0 | D7: {=IFERROR(INDIRECT("'"&$B7&"'!d"&ROW('Verblijfsgroep 1'!$5:$5)),"")} -> 0 | E7: {=IFERROR(IFERROR(INDIRECT("'"&$B7&"'!d"&ROW('Verblijfsgroep 1'!$6:$6)),""),"")} -> 0 | F7: {=IFERROR(INDIRECT("'"&$B7&"'!d"&ROW('Verblijfsgroep 1'!$13:$13)),"")} -> 0 | G7: {=IFERROR(INDIRECT("'"&$B7&"'!d"&ROW('Verblijfsgroep 1'!$21:$21)),"")} | H7: =IFERROR(IF(G7>0,INDEX(Lijsten!$F$3:$L$11,MATCH(G7,Lijsten!$F$3:$F$11,1),3),""),"") | I7: =IFERROR(IF(G7>0,INDEX(Lijsten!$F$3:$L$11,MATCH(G7,Lijsten!$F$3:$F$11,1),7),""),"")
B8: =Lijsten!S6 -> Verblijfsgroep 4 | C8: {=IFERROR(INDIRECT("'"&$B8&"'!d"&ROW('Verblijfsgroep 1'!$4:$4)),"")} -> 0 | D8: {=IFERROR(INDIRECT("'"&$B8&"'!d"&ROW('Verblijfsgroep 1'!$5:$5)),"")} -> 0 | E8: {=IFERROR(IFERROR(INDIRECT("'"&$B8&"'!d"&ROW('Verblijfsgroep 1'!$6:$6)),""),"")} -> 0 | F8: {=IFERROR(INDIRECT("'"&$B8&"'!d"&ROW('Verblijfsgroep 1'!$13:$13)),"")} -> 0 | G8: {=IFERROR(INDIRECT("'"&$B8&"'!d"&ROW('Verblijfsgroep 1'!$21:$21)),"")} | H8: =IFERROR(IF(G8>0,INDEX(Lijsten!$F$3:$L$11,MATCH(G8,Lijsten!$F$3:$F$11,1),3),""),"") | I8: =IFERROR(IF(G8>0,INDEX(Lijsten!$F$3:$L$11,MATCH(G8,Lijsten!$F$3:$F$11,1),7),""),"")
B9: =Lijsten!S7 -> Verblijfsgroep 5 | C9: {=IFERROR(INDIRECT("'"&$B9&"'!d"&ROW('Verblijfsgroep 1'!$4:$4)),"")} -> 0 | D9: {=IFERROR(INDIRECT("'"&$B9&"'!d"&ROW('Verblijfsgroep 1'!$5:$5)),"")} -> 0 | E9: {=IFERROR(IFERROR(INDIRECT("'"&$B9&"'!d"&ROW('Verblijfsgroep 1'!$6:$6)),""),"")} -> 0 | F9: {=IFERROR(INDIRECT("'"&$B9&"'!d"&ROW('Verblijfsgroep 1'!$13:$13)),"")} -> 0 | G9: {=IFERROR(INDIRECT("'"&$B9&"'!d"&ROW('Verblijfsgroep 1'!$21:$21)),"")} | H9: =IFERROR(IF(G9>0,INDEX(Lijsten!$F$3:$L$11,MATCH(G9,Lijsten!$F$3:$F$11,1),3),""),"") | I9: =IFERROR(IF(G9>0,INDEX(Lijsten!$F$3:$L$11,MATCH(G9,Lijsten!$F$3:$F$11,1),7),""),"")
B10: =Lijsten!S8 -> Verblijfsgroep 6 | C10: {=IFERROR(INDIRECT("'"&$B10&"'!d"&ROW('Verblijfsgroep 1'!$4:$4)),"")} -> 0 | D10: {=IFERROR(INDIRECT("'"&$B10&"'!d"&ROW('Verblijfsgroep 1'!$5:$5)),"")} -> 0 | E10: {=IFERROR(IFERROR(INDIRECT("'"&$B10&"'!d"&ROW('Verblijfsgroep 1'!$6:$6)),""),"")} -> 0 | F10: {=IFERROR(INDIRECT("'"&$B10&"'!d"&ROW('Verblijfsgroep 1'!$13:$13)),"")} -> 0 | G10: {=IFERROR(INDIRECT("'"&$B10&"'!d"&ROW('Verblijfsgroep 1'!$21:$21)),"")} | H10: =IFERROR(IF(G10>0,INDEX(Lijsten!$F$3:$L$11,MATCH(G10,Lijsten!$F$3:$F$11,1),3),""),"") | I10: =IFERROR(IF(G10>0,INDEX(Lijsten!$F$3:$L$11,MATCH(G10,Lijsten!$F$3:$F$11,1),7),""),"")
B11: =Lijsten!S9 -> Verblijfsgroep 7 | C11: {=IFERROR(INDIRECT("'"&$B11&"'!d"&ROW('Verblijfsgroep 1'!$4:$4)),"")} -> 0 | D11: {=IFERROR(INDIRECT("'"&$B11&"'!d"&ROW('Verblijfsgroep 1'!$5:$5)),"")} -> 0 | E11: {=IFERROR(IFERROR(INDIRECT("'"&$B11&"'!d"&ROW('Verblijfsgroep 1'!$6:$6)),""),"")} -> 0 | F11: {=IFERROR(INDIRECT("'"&$B11&"'!d"&ROW('Verblijfsgroep 1'!$13:$13)),"")} -> 0 | G11: {=IFERROR(INDIRECT("'"&$B11&"'!d"&ROW('Verblijfsgroep 1'!$21:$21)),"")} | H11: =IFERROR(IF(G11>0,INDEX(Lijsten!$F$3:$L$11,MATCH(G11,Lijsten!$F$3:$F$11,1),3),""),"") | I11: =IFERROR(IF(G11>0,INDEX(Lijsten!$F$3:$L$11,MATCH(G11,Lijsten!$F$3:$F$11,1),7),""),"")
B12: =Lijsten!S10 -> Verblijfsgroep 8 | C12: {=IFERROR(INDIRECT("'"&$B12&"'!d"&ROW('Verblijfsgroep 1'!$4:$4)),"")} -> 0 | D12: {=IFERROR(INDIRECT("'"&$B12&"'!d"&ROW('Verblijfsgroep 1'!$5:$5)),"")} -> 0 | E12: {=IFERROR(IFERROR(INDIRECT("'"&$B12&"'!d"&ROW('Verblijfsgroep 1'!$6:$6)),""),"")} -> 0 | F12: {=IFERROR(INDIRECT("'"&$B12&"'!d"&ROW('Verblijfsgroep 1'!$13:$13)),"")} -> 0 | G12: {=IFERROR(INDIRECT("'"&$B12&"'!d"&ROW('Verblijfsgroep 1'!$21:$21)),"")} | H12: =IFERROR(IF(G12>0,INDEX(Lijsten!$F$3:$L$11,MATCH(G12,Lijsten!$F$3:$F$11,1),3),""),"") | I12: =IFERROR(IF(G12>0,INDEX(Lijsten!$F$3:$L$11,MATCH(G12,Lijsten!$F$3:$F$11,1),7),""),"")
B13: =Lijsten!S11 -> Verblijfsgroep 9 | C13: {=IFERROR(INDIRECT("'"&$B13&"'!d"&ROW('Verblijfsgroep 1'!$4:$4)),"")} -> 0 | D13: {=IFERROR(INDIRECT("'"&$B13&"'!d"&ROW('Verblijfsgroep 1'!$5:$5)),"")} -> 0 | E13: {=IFERROR(IFERROR(INDIRECT("'"&$B13&"'!d"&ROW('Verblijfsgroep 1'!$6:$6)),""),"")} -> 0 | F13: {=IFERROR(INDIRECT("'"&$B13&"'!d"&ROW('Verblijfsgroep 1'!$13:$13)),"")} -> 0 | G13: {=IFERROR(INDIRECT("'"&$B13&"'!d"&ROW('Verblijfsgroep 1'!$21:$21)),"")} | H13: =IFERROR(IF(G13>0,INDEX(Lijsten!$F$3:$L$11,MATCH(G13,Lijsten!$F$3:$F$11,1),3),""),"") | I13: =IFERROR(IF(G13>0,INDEX(Lijsten!$F$3:$L$11,MATCH(G13,Lijsten!$F$3:$F$11,1),7),""),"")
B14: =Lijsten!S12 -> Verblijfsgroep 10 | C14: {=IFERROR(INDIRECT("'"&$B14&"'!d"&ROW('Verblijfsgroep 1'!$4:$4)),"")} -> 0 | D14: {=IFERROR(INDIRECT("'"&$B14&"'!d"&ROW('Verblijfsgroep 1'!$5:$5)),"")} -> 0 | E14: {=IFERROR(IFERROR(INDIRECT("'"&$B14&"'!d"&ROW('Verblijfsgroep 1'!$6:$6)),""),"")} -> 0 | F14: {=IFERROR(INDIRECT("'"&$B14&"'!d"&ROW('Verblijfsgroep 1'!$13:$13)),"")} -> 0 | G14: {=IFERROR(INDIRECT("'"&$B14&"'!d"&ROW('Verblijfsgroep 1'!$21:$21)),"")} | H14: =IFERROR(IF(G14>0,INDEX(Lijsten!$F$3:$L$11,MATCH(G14,Lijsten!$F$3:$F$11,1),3),""),"") | I14: =IFERROR(IF(G14>0,INDEX(Lijsten!$F$3:$L$11,MATCH(G14,Lijsten!$F$3:$F$11,1),7),""),"")
B15: =Lijsten!S13 -> Verblijfsgroep 11 | C15: {=IFERROR(INDIRECT("'"&$B15&"'!d"&ROW('Verblijfsgroep 1'!$4:$4)),"")} -> 0 | D15: {=IFERROR(INDIRECT("'"&$B15&"'!d"&ROW('Verblijfsgroep 1'!$5:$5)),"")} -> 0 | E15: {=IFERROR(IFERROR(INDIRECT("'"&$B15&"'!d"&ROW('Verblijfsgroep 1'!$6:$6)),""),"")} -> 0 | F15: {=IFERROR(INDIRECT("'"&$B15&"'!d"&ROW('Verblijfsgroep 1'!$13:$13)),"")} -> 0 | G15: {=IFERROR(INDIRECT("'"&$B15&"'!d"&ROW('Verblijfsgroep 1'!$21:$21)),"")} | H15: =IFERROR(IF(G15>0,INDEX(Lijsten!$F$3:$L$11,MATCH(G15,Lijsten!$F$3:$F$11,1),3),""),"") | I15: =IFERROR(IF(G15>0,INDEX(Lijsten!$F$3:$L$11,MATCH(G15,Lijsten!$F$3:$F$11,1),7),""),"")
B16: =Lijsten!S14 -> Verblijfsgroep 12 | C16: {=IFERROR(INDIRECT("'"&$B16&"'!d"&ROW('Verblijfsgroep 1'!$4:$4)),"")} -> 0 | D16: {=IFERROR(INDIRECT("'"&$B16&"'!d"&ROW('Verblijfsgroep 1'!$5:$5)),"")} -> 0 | E16: {=IFERROR(IFERROR(INDIRECT("'"&$B16&"'!d"&ROW('Verblijfsgroep 1'!$6:$6)),""),"")} -> 0 | F16: {=IFERROR(INDIRECT("'"&$B16&"'!d"&ROW('Verblijfsgroep 1'!$13:$13)),"")} -> 0 | G16: {=IFERROR(INDIRECT("'"&$B16&"'!d"&ROW('Verblijfsgroep 1'!$21:$21)),"")} | H16: =IFERROR(IF(G16>0,INDEX(Lijsten!$F$3:$L$11,MATCH(G16,Lijsten!$F$3:$F$11,1),3),""),"") | I16: =IFERROR(IF(G16>0,INDEX(Lijsten!$F$3:$L$11,MATCH(G16,Lijsten!$F$3:$F$11,1),7),""),"")
... B54: =Lijsten!S52 -> Verblijfsgroep 50 | C54: {=IFERROR(INDIRECT("'"&$B54&"'!d"&ROW('Verblijfsgroep 1'!$4:$4)),"")} -> 0 | D54: {=IFERROR(INDIRECT("'"&$B54&"'!d"&ROW('Verblijfsgroep 1'!$5:$5)),"")} -> 0 | E54: {=IFERROR(IFERROR(INDIRECT("'"&$B54&"'!d"&ROW('Verblijfsgroep 1'!$6:$6)),""),"")} -> 0 | F54: {=IFERROR(INDIRECT("'"&$B54&"'!d"&ROW('Verblijfsgroep 1'!$13:$13)),"")} -> 0 | G54: {=IFERROR(INDIRECT("'"&$B54&"'!d"&ROW('Verblijfsgroep 1'!$21:$21)),"")} | H54: =IFERROR(IF(G54>0,INDEX(Lijsten!$F$3:$L$11,MATCH(G54,Lijsten!$F$3:$F$11,1),3),""),"") | I54: =IFERROR(IF(G54>0,INDEX(Lijsten!$F$3:$L$11,MATCH(G54,Lijsten!$F$3:$F$11,1),7),""),"")
B55: Totaal | E55: =SUM(E5:E54) -> 0

Sheet Lijsten
D2: type | J2: breedte | K2: gemiddeld | U2: bez
A3: 1 | B3: 0.8 | C3: 0,1 t/m 1,2 | D3: kortdurend verblijf | F3: 0.1 | G3: 1.19999 | H3: Intensiteit C | I3: 0,1 t/m 1,2 | J3: 1.09999 | K3: 0.649995 | L3: 115.17508 | M3: geen | N3: 1 | O3: 0.1 | Q3: ja | S3: Verblijfsgroep 1 | U3: 0.9
A4: 2 | B4: 1.6 | C4: 1,2 t/m 1,9 | D4: kamertraining | F4: 1.2 | G4: 1.89999 | H4: Intensiteit D | I4: 1,2 t/m 1,9 | J4: 0.69999 | K4: 1.549995 | L4: 171.98472 | M4: slapende | N4: 2 | O4: 0.2 | Q4: nee | S4: Verblijfsgroep 2 | U4: 0.91
A5: 3 | B5: 2.2 | C5: 1,9 t/m 2,5 | D5: fasehuis | F5: 1.9 | G5: 2.49999 | H5: Intensiteit E | I5: 1,9 t/m 2,5 | J5: 0.59999 | K5: 2.199995 | L5: 212.86417 | M5: wakende | N5: 3 | O5: 0.3 | S5: Verblijfsgroep 3 | U5: 0.92
A6: 4 | B6: 2.7 | C6: 2,5 t/m 2,9 | D6: (specialistisch) wonen | F6: 2.5 | G6: 2.89999 | H6: Intensiteit F | I6: 2,5 t/m 2,9 | J6: 0.39999 | K6: 2.699995 | L6: 256.489 | N6: 4 | O6: 0.4 | S6: Verblijfsgroep 4 | U6: 0.93
A7: 5 | B7: 3.1 | C7: 2,9 t/m 3,4 | D7: behandelgroep | F7: 2.9 | G7: 3.39999 | H7: Intensiteit G | I7: 2,9 t/m 3,4 | J7: 0.49999 | K7: 3.149995 | L7: 288.18578 | N7: 5 | O7: 0.5 | S7: Verblijfsgroep 5 | U7: 0.94
A8: 6 | B8: 3.6 | C8: 3,4 t/m 3,8 | D8: crisisgroep | F8: 3.4 | G8: 3.79999 | H8: Intensiteit H | I8: 3,4 t/m 3,8 | J8: 0.39999 | K8: 3.599995 | L8: 325.56759 | N8: 6 | O8: 0.6 | S8: Verblijfsgroep 6 | U8: 0.95
A9: 7 | B9: 3.9 | C9: 3,8 t/m 4,1 | D9: driemilieu | F9: 3.8 | G9: 4.09999 | H9: Intensiteit I | I9: 3,8 t/m 4,1 | J9: 0.29999 | K9: 3.949995 | L9: 355.62671 | N9: 7 | O9: 0.7 | S9: Verblijfsgroep 7 | U9: 0.96
B10: 4.3 | C10: 4,1 t/m 4,6 | D10: jeugdzorg+ | F10: 4.1 | G10: 4.59999 | H10: Intensiteit J | I10: 4,1 t/m 4,6 | J10: 0.49999 | K10: 4.349995 | L10: 403.3386 | N10: 8 | O10: 0.8 | S10: Verblijfsgroep 8 | U10: 0.97
B11: 4.8 | C11: 4,6 t/m 6,1 | F11: 4.6 | G11: 6.1 | H11: Intensiteit K | I11: 4,6 t/m 6,1 | J11: -4.50001 | K11: 2.349995 | L11: 449.96726 | N11: 9 | O11: 0.9 | S11: Verblijfsgroep 9 | U11: 0.98
N12: 10 | O12: 1 | S12: Verblijfsgroep 10 | U12: 0.99
N13: 11 | O13: 1.1 | S13: Verblijfsgroep 11 | U13: 1
N14: 12 | O14: 1.2 | S14: Verblijfsgroep 12
N15: 13 | O15: 1.3 | S15: Verblijfsgroep 13
N16: 14 | O16: 1.4 | S16: Verblijfsgroep 14
N17: 15 | O17: 1.5 | S17: Verblijfsgroep 15
N18: 16 | O18: 1.6 | S18: Verblijfsgroep 16
N19: 17 | O19: 1.7 | S19: Verblijfsgroep 17
N20: 18 | O20: 1.8 | S20: Verblijfsgroep 18
N21: 19 | O21: 1.9 | S21: Verblijfsgroep 19
N22: 20 | O22: 2 | S22: Verblijfsgroep 20
N23: 21 | O23: 2.1 | S23: Verblijfsgroep 21
N24: 22 | O24: 2.2 | S24: Verblijfsgroep 22
N25: 23 | O25: 2.3 | S25: Verblijfsgroep 23
... N52: 50 | O52: 5 | S52: Verblijfsgroep 50
N53: 51 | O53: 5.1
N54: 52 | O54: 5.2
N55: 53 | O55: 5.3
N56: 54 | O56: 5.4
N57: 55 | O57: 5.5
N58: 56 | O58: 5.6
N59: 57 | O59: 5.7
N60: 58 | O60: 5.8
N61: 59 | O61: 5.9
N62: 60 | O62: 6
N63: 61 | O63: 6.1
N64: 62 | O64: 6.2
... N102: 100 | O102: 10
O103: 10.1
O104: 10.2
O105: 10.3
O106: 10.4
O107: 10.5
O108: 10.6
O109: 10.7
O110: 10.8
O111: 10.9
O112: 11
O113: 11.1
O114: 11.2
... O802: 80

Sheet Verblijfsgroep 1
F2: Toelichting (zie ook tabblad invulinstructie)
C3: Kenmerken woon/verblijfgroep | D3: GEPLAND IN 2023
B4: 1 | C4: Naam groep
B5: 2 | C5: Welk type woon/verblijfgroep is dit? | F5: =IF(D5=Lijsten!$D$8,"DEZE REKENTOOL IS NIET BEDOELD VOOR CRISISVERBLIJF.","")
B6: 3 | C6: Aantal fysieke plaatsen / bedden / capaciteitsplaatsen van deze woon-/verblijfseenheid | F6: Tel alle capacteitisplaatsen mee, ongeacht voor welke wet of doelgroep ze worden ingezet
B7: 4 | C7: Bezettingsgraad (op jaarbasis) | F7: Vul of een realisatie 2021 in, of een verwachting voor 2023.
B8: 5 | C8: Feitelijk gemiddeld aantal bezette plaatsen (=capaciteit x bezettingsgraad, wordt automatisch gevuld) | D8: =D6*D7 -> 0
B9: 6 | C9: Wat voor type begeleiding heeft deze woon-/verblijfseenheid 's nachts? | F9: =IF(AND(D9=Lijsten!$M$4,D10>D6),"Als de slaapdienst meerdere groepen bedient, neem dan bij vraag 13 een evenredige doorbelasting van deze uren mee. Let op: uren slaapdienst tellen voor 50% mee.", IF(AND(D9=Lijsten!$M$4,D10=D6),"Tel bij vraag 13 de uren van de slapende wacht voor 50% mee (conform cao-bepalingen voor inconveniënte uren).", IF(AND(D9=Lijsten!$M$5,D10>D6),"Als de wakende dienst meerdere groepen bedient, neem dan bij vraag 13 een evenredige doorbelasting van deze uren mee.","")))
B10: 7 | C10: =IF(OR(D9="geen",$D$9=""),"","Voor hoeveel cliënten/patiënten is deze "&$D$9&" nachtdienst 's nachts verantwoordelijk?")
B11: 8 | C11: Feitelijk aantal openingsdagen 2023
B12: 9 | C12: Totale productie 2023 in verblijfsetmalen (wordt automatisch gevuld) | D12: =D11*D8 -> 0
B13: 10 | C13: ="Welk deel in procenten van deze "&TEXT(D12,"0.000")&" etmalen zal naar schatting in 2023 Haarlemmermeerse jeugdigen betreffen?" -> Welk deel in procenten van deze 0.000 etmalen zal naar schatting in 2023 Haarlemmermeerse jeugdigen betreffen? | F13: Deze vraag is uitsluitend bedoeld ter raming van de ingekochte capaciteit 2023
B14: 11 | C14: ="Totaal fte (in roosters werkende) begeleiders 2023 voor deze "&TEXT(D6,"0,0")&" bedden*" -> Totaal fte (in roosters werkende) begeleiders 2023 voor deze 0,0 bedden* | F14: Uitsluitend (groeps)begeleiders en pedagogisch medewerkers. Zie ook *
B15: 12 | C15: A: Totaal aantal bruto uren begeleiders in heel 2023 voor hele groep (wordt automatisch gevuld) | D15: =D14*(365/7)*36 -> 0
B16: 13 | C16: Waarvan B: feitelijk aantal netto roosteruren per jaar agogisch/leefklimaat in 2023 | F16: =IF(D9="slapend","Een slapende nachtdienst van 8 uur telt (voor de meeste cao's) mee als 4 uur per etmaal.","")
B17: 14 | C17: Waarvan C: indirect cliëntgebonden tijd en/of niet-cliëntgebonden tijdbesteding (A-B) (wordt automatisch gevuld) | D17: =IFERROR(IF(AND(D15>0,D16>0),D15-D16,""),"")
B18: 15 | C18: …. aantal netto roosteruren voor deze groep per week… (wordt automatisch gevuld) | D18: =IFERROR(IF(D16>0,D16/(D11/7),""),"") | F18: =IF(D18="","","check: kloppen deze drie gele waarden met jullie administratie?")
B19: 16 | C19: …. aantal inroosterbare uren per fte begeleider per jaar… (wordt automatisch gevuld) | D19: =IFERROR(D16/D14,"")
B20: 17 | C20: …. aantal inroosterbare uren per fte begeleider per jaar komt overeen met productiviteit van…. (wordt automatisch gevuld) | D20: =IFERROR(D16/D15,"")
B21: 18 | C21: Begeleidingsintensiteit (wordt automatisch gevuld) | D21: =IFERROR( IF(AND(D5=Lijsten!$D$3,D7>=90%),D16/D12, IF(AND(D5=Lijsten!$D$3,D7<90%),D16/(D6*0.9*D11), IF(AND(D5<>Lijsten!$D$3,D7>=95%),D16/D12, IF(AND(D5<>Lijsten!$D$3,D7<95%),D16/(D6*0.95*D11))))),"")
B24: =IFERROR(IF(D5=Lijsten!$D$8,"DEZE REKENTOOL IS NIET BEDOELD VOOR CRISISVERBLIJF. GEBRUIK AUB DE REKENTOOL CRISISVERBLIJF",IF(D21>0,"Deze groep heeft "&INDEX(Lijsten!$F$3:$L$11,MATCH(ROUND($D$21,6),Lijsten!F3:F11,1),3)&". Begeleidingsintensiteit: "&TEXT(D21,"0,0")&". Bandbreedte ("&INDEX(Lijsten!H3:I11,MATCH(INDEX(Lijsten!$F$3:$L$11,MATCH(ROUND($D$21,6),Lijsten!F3:F11,1),3),Lijsten!$H$3:$H$11,0),2)&"). Tarief: "&TEXT(INDEX(Lijsten!$F$3:$L$11,MATCH(D21,Lijsten!F3:F11,1),7),"€000,00"),"Vul alle grijze velden in om de intensiteitsbepaling te zien.")),"Vul alle grijze velden in om de intensiteitsbepaling te zien.") -> Vul alle grijze velden in om de intensiteitsbepaling te zien.
B27: * Uitsluitend de volgende functies mogen hier worden meegeteld:
B28: ingroosterde uren van groepsbegeleiders
B29: ingroosterde uren van pedagogisch medewerkers
B30: ingroosterde uren van agogisch medewerkers
B31: bij driemilieuvoorzieningen: ingeroosterde uren van begeleiders op het terrein (niet direct aan één groep verbonden)
B33: De volgende functies tellen NIET mee:
B34: uren van begeleiders ingeroosterd voor individuele begeleiding / begeleiding thuis
B35: gastvrouw/gastheer
B36: gedragwetenschapper / alle wo opgeleide hulpverleners
B37: ambulant hulpverlener / (vak)therapeuten, behandelaars
B38: individueel begeleiders (uitzondering: bij kamertraining/begeleid wonen als er geen groepsbegeleiders zijn)

Sheet Verblijfsgroep 2
F2: Toelichting (zie ook tabblad invulinstructie)
C3: Kenmerken woon/verblijfgroep | D3: GEPLAND IN 2023
B4: 1 | C4: Naam groep
B5: 2 | C5: Welk type woon/verblijfgroep is dit? | F5: =IF(D5=Lijsten!$D$8,"DEZE REKENTOOL IS NIET BEDOELD VOOR CRISISVERBLIJF.","")
B6: 3 | C6: Aantal fysieke plaatsen / bedden / capaciteitsplaatsen van deze woon-/verblijfseenheid | F6: Tel alle capacteitisplaatsen mee, ongeacht voor welke wet of doelgroep ze worden ingezet
B7: 4 | C7: Bezettingsgraad (op jaarbasis) | F7: Vul of een realisatie 2021 in, of een verwachting voor 2023.
B8: 5 | C8: Feitelijk gemiddeld aantal bezette plaatsen (=capaciteit x bezettingsgraad, wordt automatisch gevuld) | D8: =D6*D7 -> 0
B9: 6 | C9: Wat voor type begeleiding heeft deze woon-/verblijfseenheid 's nachts? | F9: =IF(AND(D9=Lijsten!$M$4,D10>D6),"Als de slaapdienst meerdere groepen bedient, neem dan bij vraag 13 een evenredige doorbelasting van deze uren mee. Let op: uren slaapdienst tellen voor 50% mee.", IF(AND(D9=Lijsten!$M$4,D10=D6),"Tel bij vraag 13 de uren van de slapende wacht voor 50% mee (conform cao-bepalingen voor inconveniënte uren).", IF(AND(D9=Lijsten!$M$5,D10>D6),"Als de wakende dienst meerdere groepen bedient, neem dan bij vraag 13 een evenredige doorbelasting van deze uren mee.","")))
B10: 7 | C10: =IF(OR(D9="geen",$D$9=""),"","Voor hoeveel cliënten/patiënten is deze "&$D$9&" nachtdienst 's nachts verantwoordelijk?")
B11: 8 | C11: Feitelijk aantal openingsdagen 2023
B12: 9 | C12: Totale productie 2023 in verblijfsetmalen (wordt automatisch gevuld) | D12: =D11*D8 -> 0
B13: 10 | C13: ="Welk deel in procenten van deze "&TEXT(D12,"0.000")&" etmalen zal naar schatting in 2023 Haarlemmermeerse jeugdigen betreffen?" -> Welk deel in procenten van deze 0.000 etmalen zal naar schatting in 2023 Haarlemmermeerse jeugdigen betreffen? | F13: Deze vraag is uitsluitend bedoeld ter raming van de ingekochte capaciteit 2023
B14: 11 | C14: ="Totaal fte (in roosters werkende) begeleiders 2023 voor deze "&TEXT(D6,"0,0")&" bedden*" -> Totaal fte (in roosters werkende) begeleiders 2023 voor deze 0,0 bedden* | F14: Uitsluitend (groeps)begeleiders en pedagogisch medewerkers. Zie ook *
B15: 12 | C15: A: Totaal aantal bruto uren begeleiders in heel 2023 voor hele groep (wordt automatisch gevuld) | D15: =D14*(365/7)*36 -> 0
B16: 13 | C16: Waarvan B: feitelijk aantal netto roosteruren per jaar agogisch/leefklimaat in 2023 | F16: =IF(D9="slapend","Een slapende nachtdienst van 8 uur telt (voor de meeste cao's) mee als 4 uur per etmaal.","")
B17: 14 | C17: Waarvan C: indirect cliëntgebonden tijd en/of niet-cliëntgebonden tijdbesteding (A-B) (wordt automatisch gevuld) | D17: =IFERROR(IF(AND(D15>0,D16>0),D15-D16,""),"")
B18: 15 | C18: …. aantal netto roosteruren voor deze groep per week… (wordt automatisch gevuld) | D18: =IFERROR(IF(D16>0,D16/(D11/7),""),"") | F18: =IF(D18="","","check: kloppen deze drie gele waarden met jullie administratie?")
B19: 16 | C19: …. aantal inroosterbare uren per fte begeleider per jaar… (wordt automatisch gevuld) | D19: =IFERROR(D16/D14,"")
B20: 17 | C20: …. aantal inroosterbare uren per fte begeleider per jaar komt overeen met productiviteit van…. (wordt automatisch gevuld) | D20: =IFERROR(D16/D15,"")
B21: 18 | C21: Begeleidingsintensiteit (wordt automatisch gevuld) | D21: =IFERROR( IF(AND(D5=Lijsten!$D$3,D7>=90%),D16/D12, IF(AND(D5=Lijsten!$D$3,D7<90%),D16/(D6*0.9*D11), IF(AND(D5<>Lijsten!$D$3,D7>=95%),D16/D12, IF(AND(D5<>Lijsten!$D$3,D7<95%),D16/(D6*0.95*D11))))),"")
B24: =IFERROR(IF(D5=Lijsten!$D$8,"DEZE REKENTOOL IS NIET BEDOELD VOOR CRISISVERBLIJF. GEBRUIK AUB DE REKENTOOL CRISISVERBLIJF",IF(D21>0,"Deze groep heeft "&INDEX(Lijsten!$F$3:$L$11,MATCH(ROUND($D$21,6),Lijsten!F3:F11,1),3)&". Begeleidingsintensiteit: "&TEXT(D21,"0,0")&". Bandbreedte ("&INDEX(Lijsten!H3:I11,MATCH(INDEX(Lijsten!$F$3:$L$11,MATCH(ROUND($D$21,6),Lijsten!F3:F11,1),3),Lijsten!$H$3:$H$11,0),2)&"). Tarief: "&TEXT(INDEX(Lijsten!$F$3:$L$11,MATCH(D21,Lijsten!F3:F11,1),7),"€000,00"),"Vul alle grijze velden in om de intensiteitsbepaling te zien.")),"Vul alle grijze velden in om de intensiteitsbepaling te zien.") -> Vul alle grijze velden in om de intensiteitsbepaling te zien.
B27: * Uitsluitend de volgende functies mogen hier worden meegeteld:
B28: ingroosterde uren van groepsbegeleiders
B29: ingroosterde uren van pedagogisch medewerkers
B30: ingroosterde uren van agogisch medewerkers
B31: bij driemilieuvoorzieningen: ingeroosterde uren van begeleiders op het terrein (niet direct aan één groep verbonden)
B33: De volgende functies tellen NIET mee:
B34: uren van begeleiders ingeroosterd voor individuele begeleiding / begeleiding thuis
B35: gastvrouw/gastheer
B36: gedragwetenschapper / alle wo opgeleide hulpverleners
B37: ambulant hulpverlener / (vak)therapeuten, behandelaars
B38: individueel begeleiders (uitzondering: bij kamertraining/begeleid wonen als er geen groepsbegeleiders zijn)

Sheet Verblijfsgroep 3
F2: Toelichting (zie ook tabblad invulinstructie)
C3: Kenmerken woon/verblijfgroep | D3: GEPLAND IN 2023
B4: 1 | C4: Naam groep
B5: 2 | C5: Welk type woon/verblijfgroep is dit? | F5: =IF(D5=Lijsten!$D$8,"DEZE REKENTOOL IS NIET BEDOELD VOOR CRISISVERBLIJF.","")
B6: 3 | C6: Aantal fysieke plaatsen / bedden / capaciteitsplaatsen van deze woon-/verblijfseenheid | F6: Tel alle capacteitisplaatsen mee, ongeacht voor welke wet of doelgroep ze worden ingezet
B7: 4 | C7: Bezettingsgraad (op jaarbasis) | F7: Vul of een realisatie 2021 in, of een verwachting voor 2023.
B8: 5 | C8: Feitelijk gemiddeld aantal bezette plaatsen (=capaciteit x bezettingsgraad, wordt automatisch gevuld) | D8: =D6*D7 -> 0
B9: 6 | C9: Wat voor type begeleiding heeft deze woon-/verblijfseenheid 's nachts? | F9: =IF(AND(D9=Lijsten!$M$4,D10>D6),"Als de slaapdienst meerdere groepen bedient, neem dan bij vraag 13 een evenredige doorbelasting van deze uren mee. Let op: uren slaapdienst tellen voor 50% mee.", IF(AND(D9=Lijsten!$M$4,D10=D6),"Tel bij vraag 13 de uren van de slapende wacht voor 50% mee (conform cao-bepalingen voor inconveniënte uren).", IF(AND(D9=Lijsten!$M$5,D10>D6),"Als de wakende dienst meerdere groepen bedient, neem dan bij vraag 13 een evenredige doorbelasting van deze uren mee.","")))
B10: 7 | C10: =IF(OR(D9="geen",$D$9=""),"","Voor hoeveel cliënten/patiënten is deze "&$D$9&" nachtdienst 's nachts verantwoordelijk?")
B11: 8 | C11: Feitelijk aantal openingsdagen 2023
B12: 9 | C12: Totale productie 2023 in verblijfsetmalen (wordt automatisch gevuld) | D12: =D11*D8 -> 0
B13: 10 | C13: ="Welk deel in procenten van deze "&TEXT(D12,"0.000")&" etmalen zal naar schatting in 2023 Haarlemmermeerse jeugdigen betreffen?" -> Welk deel in procenten van deze 0.000 etmalen zal naar schatting in 2023 Haarlemmermeerse jeugdigen betreffen? | F13: Deze vraag is uitsluitend bedoeld ter raming van de ingekochte capaciteit 2023
B14: 11 | C14: ="Totaal fte (in roosters werkende) begeleiders 2023 voor deze "&TEXT(D6,"0,0")&" bedden*" -> Totaal fte (in roosters werkende) begeleiders 2023 voor deze 0,0 bedden* | F14: Uitsluitend (groeps)begeleiders en pedagogisch medewerkers. Zie ook *
B15: 12 | C15: A: Totaal aantal bruto uren begeleiders in heel 2023 voor hele groep (wordt automatisch gevuld) | D15: =D14*(365/7)*36 -> 0
B16: 13 | C16: Waarvan B: feitelijk aantal netto roosteruren per jaar agogisch/leefklimaat in 2023 | F16: =IF(D9="slapend","Een slapende nachtdienst van 8 uur telt (voor de meeste cao's) mee als 4 uur per etmaal.","")
B17: 14 | C17: Waarvan C: indirect cliëntgebonden tijd en/of niet-cliëntgebonden tijdbesteding (A-B) (wordt automatisch gevuld) | D17: =IFERROR(IF(AND(D15>0,D16>0),D15-D16,""),"")
B18: 15 | C18: …. aantal netto roosteruren voor deze groep per week… (wordt automatisch gevuld) | D18: =IFERROR(IF(D16>0,D16/(D11/7),""),"") | F18: =IF(D18="","","check: kloppen deze drie gele waarden met jullie administratie?")
B19: 16 | C19: …. aantal inroosterbare uren per fte begeleider per jaar… (wordt automatisch gevuld) | D19: =IFERROR(D16/D14,"")
B20: 17 | C20: …. aantal inroosterbare uren per fte begeleider per jaar komt overeen met productiviteit van…. (wordt automatisch gevuld) | D20: =IFERROR(D16/D15,"")
B21: 18 | C21: Begeleidingsintensiteit (wordt automatisch gevuld) | D21: =IFERROR( IF(AND(D5=Lijsten!$D$3,D7>=90%),D16/D12, IF(AND(D5=Lijsten!$D$3,D7<90%),D16/(D6*0.9*D11), IF(AND(D5<>Lijsten!$D$3,D7>=95%),D16/D12, IF(AND(D5<>Lijsten!$D$3,D7<95%),D16/(D6*0.95*D11))))),"")
B24: =IFERROR(IF(D5=Lijsten!$D$8,"DEZE REKENTOOL IS NIET BEDOELD VOOR CRISISVERBLIJF. GEBRUIK AUB DE REKENTOOL CRISISVERBLIJF",IF(D21>0,"Deze groep heeft "&INDEX(Lijsten!$F$3:$L$11,MATCH(ROUND($D$21,6),Lijsten!F3:F11,1),3)&". Begeleidingsintensiteit: "&TEXT(D21,"0,0")&". Bandbreedte ("&INDEX(Lijsten!H3:I11,MATCH(INDEX(Lijsten!$F$3:$L$11,MATCH(ROUND($D$21,6),Lijsten!F3:F11,1),3),Lijsten!$H$3:$H$11,0),2)&"). Tarief: "&TEXT(INDEX(Lijsten!$F$3:$L$11,MATCH(D21,Lijsten!F3:F11,1),7),"€000,00"),"Vul alle grijze velden in om de intensiteitsbepaling te zien.")),"Vul alle grijze velden in om de intensiteitsbepaling te zien.") -> Vul alle grijze velden in om de intensiteitsbepaling te zien.
B27: * Uitsluitend de volgende functies mogen hier worden meegeteld:
B28: ingroosterde uren van groepsbegeleiders
B29: ingroosterde uren van pedagogisch medewerkers
B30: ingroosterde uren van agogisch medewerkers
B31: bij driemilieuvoorzieningen: ingeroosterde uren van begeleiders op het terrein (niet direct aan één groep verbonden)
B33: De volgende functies tellen NIET mee:
B34: uren van begeleiders ingeroosterd voor individuele begeleiding / begeleiding thuis
B35: gastvrouw/gastheer
B36: gedragwetenschapper / alle wo opgeleide hulpverleners
B37: ambulant hulpverlener / (vak)therapeuten, behandelaars
B38: individueel begeleiders (uitzondering: bij kamertraining/begeleid wonen als er geen groepsbegeleiders zijn)

Sheet Verblijfsgroep 4
F2: Toelichting (zie ook tabblad invulinstructie)
C3: Kenmerken woon/verblijfgroep | D3: GEPLAND IN 2023
B4: 1 | C4: Naam groep
B5: 2 | C5: Welk type woon/verblijfgroep is dit? | F5: =IF(D5=Lijsten!$D$8,"DEZE REKENTOOL IS NIET BEDOELD VOOR CRISISVERBLIJF.","")
B6: 3 | C6: Aantal fysieke plaatsen / bedden / capaciteitsplaatsen van deze woon-/verblijfseenheid | F6: Tel alle capacteitisplaatsen mee, ongeacht voor welke wet of doelgroep ze worden ingezet
B7: 4 | C7: Bezettingsgraad (op jaarbasis) | F7: Vul of een realisatie 2021 in, of een verwachting voor 2023.
B8: 5 | C8: Feitelijk gemiddeld aantal bezette plaatsen (=capaciteit x bezettingsgraad, wordt automatisch gevuld) | D8: =D6*D7 -> 0
B9: 6 | C9: Wat voor type begeleiding heeft deze woon-/verblijfseenheid 's nachts? | F9: =IF(AND(D9=Lijsten!$M$4,D10>D6),"Als de slaapdienst meerdere groepen bedient, neem dan bij vraag 13 een evenredige doorbelasting van deze uren mee. Let op: uren slaapdienst tellen voor 50% mee.", IF(AND(D9=Lijsten!$M$4,D10=D6),"Tel bij vraag 13 de uren van de slapende wacht voor 50% mee (conform cao-bepalingen voor inconveniënte uren).", IF(AND(D9=Lijsten!$M$5,D10>D6),"Als de wakende dienst meerdere groepen bedient, neem dan bij vraag 13 een evenredige doorbelasting van deze uren mee.","")))
B10: 7 | C10: =IF(OR(D9="geen",$D$9=""),"","Voor hoeveel cliënten/patiënten is deze "&$D$9&" nachtdienst 's nachts verantwoordelijk?")
B11: 8 | C11: Feitelijk aantal openingsdagen 2023
B12: 9 | C12: Totale productie 2023 in verblijfsetmalen (wordt automatisch gevuld) | D12: =D11*D8 -> 0
B13: 10 | C13: ="Welk deel in procenten van deze "&TEXT(D12,"0.000")&" etmalen zal naar schatting in 2023 Haarlemmermeerse jeugdigen betreffen?" -> Welk deel in procenten van deze 0.000 etmalen zal naar schatting in 2023 Haarlemmermeerse jeugdigen betreffen? | F13: Deze vraag is uitsluitend bedoeld ter raming van de ingekochte capaciteit 2023
B14: 11 | C14: ="Totaal fte (in roosters werkende) begeleiders 2023 voor deze "&TEXT(D6,"0,0")&" bedden*" -> Totaal fte (in roosters werkende) begeleiders 2023 voor deze 0,0 bedden* | F14: Uitsluitend (groeps)begeleiders en pedagogisch medewerkers. Zie ook *
B15: 12 | C15: A: Totaal aantal bruto uren begeleiders in heel 2023 voor hele groep (wordt automatisch gevuld) | D15: =D14*(365/7)*36 -> 0
B16: 13 | C16: Waarvan B: feitelijk aantal netto roosteruren per jaar agogisch/leefklimaat in 2023 | F16: =IF(D9="slapend","Een slapende nachtdienst van 8 uur telt (voor de meeste cao's) mee als 4 uur per etmaal.","")
B17: 14 | C17: Waarvan C: indirect cliëntgebonden tijd en/of niet-cliëntgebonden tijdbesteding (A-B) (wordt automatisch gevuld) | D17: =IFERROR(IF(AND(D15>0,D16>0),D15-D16,""),"")
B18: 15 | C18: …. aantal netto roosteruren voor deze groep per week… (wordt automatisch gevuld) | D18: =IFERROR(IF(D16>0,D16/(D11/7),""),"") | F18: =IF(D18="","","check: kloppen deze drie gele waarden met jullie administratie?")
B19: 16 | C19: …. aantal inroosterbare uren per fte begeleider per jaar… (wordt automatisch gevuld) | D19: =IFERROR(D16/D14,"")
B20: 17 | C20: …. aantal inroosterbare uren per fte begeleider per jaar komt overeen met productiviteit van…. (wordt automatisch gevuld) | D20: =IFERROR(D16/D15,"")
B21: 18 | C21: Begeleidingsintensiteit (wordt automatisch gevuld) | D21: =IFERROR( IF(AND(D5=Lijsten!$D$3,D7>=90%),D16/D12, IF(AND(D5=Lijsten!$D$3,D7<90%),D16/(D6*0.9*D11), IF(AND(D5<>Lijsten!$D$3,D7>=95%),D16/D12, IF(AND(D5<>Lijsten!$D$3,D7<95%),D16/(D6*0.95*D11))))),"")
B24: =IFERROR(IF(D5=Lijsten!$D$8,"DEZE REKENTOOL IS NIET BEDOELD VOOR CRISISVERBLIJF. GEBRUIK AUB DE REKENTOOL CRISISVERBLIJF",IF(D21>0,"Deze groep heeft "&INDEX(Lijsten!$F$3:$L$11,MATCH(ROUND($D$21,6),Lijsten!F3:F11,1),3)&". Begeleidingsintensiteit: "&TEXT(D21,"0,0")&". Bandbreedte ("&INDEX(Lijsten!H3:I11,MATCH(INDEX(Lijsten!$F$3:$L$11,MATCH(ROUND($D$21,6),Lijsten!F3:F11,1),3),Lijsten!$H$3:$H$11,0),2)&"). Tarief: "&TEXT(INDEX(Lijsten!$F$3:$L$11,MATCH(D21,Lijsten!F3:F11,1),7),"€000,00"),"Vul alle grijze velden in om de intensiteitsbepaling te zien.")),"Vul alle grijze velden in om de intensiteitsbepaling te zien.") -> Vul alle grijze velden in om de intensiteitsbepaling te zien.
B27: * Uitsluitend de volgende functies mogen hier worden meegeteld:
B28: ingroosterde uren van groepsbegeleiders
B29: ingroosterde uren van pedagogisch medewerkers
B30: ingroosterde uren van agogisch medewerkers
B31: bij driemilieuvoorzieningen: ingeroosterde uren van begeleiders op het terrein (niet direct aan één groep verbonden)
B33: De volgende functies tellen NIET mee:
B34: uren van begeleiders ingeroosterd voor individuele begeleiding / begeleiding thuis
B35: gastvrouw/gastheer
B36: gedragwetenschapper / alle wo opgeleide hulpverleners
B37: ambulant hulpverlener / (vak)therapeuten, behandelaars
B38: individueel begeleiders (uitzondering: bij kamertraining/begeleid wonen als er geen groepsbegeleiders zijn)

Sheet Verblijfsgroep 5
F2: Toelichting (zie ook tabblad invulinstructie)
C3: Kenmerken woon/verblijfgroep | D3: GEPLAND IN 2023
B4: 1 | C4: Naam groep
B5: 2 | C5: Welk type woon/verblijfgroep is dit? | F5: =IF(D5=Lijsten!$D$8,"DEZE REKENTOOL IS NIET BEDOELD VOOR CRISISVERBLIJF.","")
B6: 3 | C6: Aantal fysieke plaatsen / bedden / capaciteitsplaatsen van deze woon-/verblijfseenheid | F6: Tel alle capacteitisplaatsen mee, ongeacht voor welke wet of doelgroep ze worden ingezet
B7: 4 | C7: Bezettingsgraad (op jaarbasis) | F7: Vul of een realisatie 2021 in, of een verwachting voor 2023.
B8: 5 | C8: Feitelijk gemiddeld aantal bezette plaatsen (=capaciteit x bezettingsgraad, wordt automatisch gevuld) | D8: =D6*D7 -> 0
B9: 6 | C9: Wat voor type begeleiding heeft deze woon-/verblijfseenheid 's nachts? | F9: =IF(AND(D9=Lijsten!$M$4,D10>D6),"Als de slaapdienst meerdere groepen bedient, neem dan bij vraag 13 een evenredige doorbelasting van deze uren mee. Let op: uren slaapdienst tellen voor 50% mee.", IF(AND(D9=Lijsten!$M$4,D10=D6),"Tel bij vraag 13 de uren van de slapende wacht voor 50% mee (conform cao-bepalingen voor inconveniënte uren).", IF(AND(D9=Lijsten!$M$5,D10>D6),"Als de wakende dienst meerdere groepen bedient, neem dan bij vraag 13 een evenredige doorbelasting van deze uren mee.","")))
B10: 7 | C10: =IF(OR(D9="geen",$D$9=""),"","Voor hoeveel cliënten/patiënten is deze "&$D$9&" nachtdienst 's nachts verantwoordelijk?")
B11: 8 | C11: Feitelijk aantal openingsdagen 2023
B12: 9 | C12: Totale productie 2023 in verblijfsetmalen (wordt automatisch gevuld) | D12: =D11*D8 -> 0
B13: 10 | C13: ="Welk deel in procenten van deze "&TEXT(D12,"0.000")&" etmalen zal naar schatting in 2023 Haarlemmermeerse jeugdigen betreffen?" -> Welk deel in procenten van deze 0.000 etmalen zal naar schatting in 2023 Haarlemmermeerse jeugdigen betreffen? | F13: Deze vraag is uitsluitend bedoeld ter raming van de ingekochte capaciteit 2023
B14: 11 | C14: ="Totaal fte (in roosters werkende) begeleiders 2023 voor deze "&TEXT(D6,"0,0")&" bedden*" -> Totaal fte (in roosters werkende) begeleiders 2023 voor deze 0,0 bedden* | F14: Uitsluitend (groeps)begeleiders en pedagogisch medewerkers. Zie ook *
B15: 12 | C15: A: Totaal aantal bruto uren begeleiders in heel 2023 voor hele groep (wordt automatisch gevuld) | D15: =D14*(365/7)*36 -> 0
B16: 13 | C16: Waarvan B: feitelijk aantal netto roosteruren per jaar agogisch/leefklimaat in 2023 | F16: =IF(D9="slapend","Een slapende nachtdienst van 8 uur telt (voor de meeste cao's) mee als 4 uur per etmaal.","")
B17: 14 | C17: Waarvan C: indirect cliëntgebonden tijd en/of niet-cliëntgebonden tijdbesteding (A-B) (wordt automatisch gevuld) | D17: =IFERROR(IF(AND(D15>0,D16>0),D15-D16,""),"")
B18: 15 | C18: …. aantal netto roosteruren voor deze groep per week… (wordt automatisch gevuld) | D18: =IFERROR(IF(D16>0,D16/(D11/7),""),"") | F18: =IF(D18="","","check: kloppen deze drie gele waarden met jullie administratie?")
B19: 16 | C19: …. aantal inroosterbare uren per fte begeleider per jaar… (wordt automatisch gevuld) | D19: =IFERROR(D16/D14,"")
B20: 17 | C20: …. aantal inroosterbare uren per fte begeleider per jaar komt overeen met productiviteit van…. (wordt automatisch gevuld) | D20: =IFERROR(D16/D15,"")
B21: 18 | C21: Begeleidingsintensiteit (wordt automatisch gevuld) | D21: =IFERROR( IF(AND(D5=Lijsten!$D$3,D7>=90%),D16/D12, IF(AND(D5=Lijsten!$D$3,D7<90%),D16/(D6*0.9*D11), IF(AND(D5<>Lijsten!$D$3,D7>=95%),D16/D12, IF(AND(D5<>Lijsten!$D$3,D7<95%),D16/(D6*0.95*D11))))),"")
B24: =IFERROR(IF(D5=Lijsten!$D$8,"DEZE REKENTOOL IS NIET BEDOELD VOOR CRISISVERBLIJF. GEBRUIK AUB DE REKENTOOL CRISISVERBLIJF",IF(D21>0,"Deze groep heeft "&INDEX(Lijsten!$F$3:$L$11,MATCH(ROUND($D$21,6),Lijsten!F3:F11,1),3)&". Begeleidingsintensiteit: "&TEXT(D21,"0,0")&". Bandbreedte ("&INDEX(Lijsten!H3:I11,MATCH(INDEX(Lijsten!$F$3:$L$11,MATCH(ROUND($D$21,6),Lijsten!F3:F11,1),3),Lijsten!$H$3:$H$11,0),2)&"). Tarief: "&TEXT(INDEX(Lijsten!$F$3:$L$11,MATCH(D21,Lijsten!F3:F11,1),7),"€000,00"),"Vul alle grijze velden in om de intensiteitsbepaling te zien.")),"Vul alle grijze velden in om de intensiteitsbepaling te zien.") -> Vul alle grijze velden in om de intensiteitsbepaling te zien.
B27: * Uitsluitend de volgende functies mogen hier worden meegeteld:
B28: ingroosterde uren van groepsbegeleiders
B29: ingroosterde uren van pedagogisch medewerkers
B30: ingroosterde uren van agogisch medewerkers
B31: bij driemilieuvoorzieningen: ingeroosterde uren van begeleiders op het terrein (niet direct aan één groep verbonden)
B33: De volgende functies tellen NIET mee:
B34: uren van begeleiders ingeroosterd voor individuele begeleiding / begeleiding thuis
B35: gastvrouw/gastheer
B36: gedragwetenschapper / alle wo opgeleide hulpverleners
B37: ambulant hulpverlener / (vak)therapeuten, behandelaars
B38: individueel begeleiders (uitzondering: bij kamertraining/begeleid wonen als er geen groepsbegeleiders zijn)

Sheet Verblijfsgroep 6
F2: Toelichting (zie ook tabblad invulinstructie)
C3: Kenmerken woon/verblijfgroep | D3: GEPLAND IN 2023
B4: 1 | C4: Naam groep
B5: 2 | C5: Welk type woon/verblijfgroep is dit? | F5: =IF(D5=Lijsten!$D$8,"DEZE REKENTOOL IS NIET BEDOELD VOOR CRISISVERBLIJF.","")
B6: 3 | C6: Aantal fysieke plaatsen / bedden / capaciteitsplaatsen van deze woon-/verblijfseenheid | F6: Tel alle capacteitisplaatsen mee, ongeacht voor welke wet of doelgroep ze worden ingezet
B7: 4 | C7: Bezettingsgraad (op jaarbasis) | F7: Vul of een realisatie 2021 in, of een verwachting voor 2023.
B8: 5 | C8: Feitelijk gemiddeld aantal bezette plaatsen (=capaciteit x bezettingsgraad, wordt automatisch gevuld) | D8: =D6*D7 -> 0
B9: 6 | C9: Wat voor type begeleiding heeft deze woon-/verblijfseenheid 's nachts? | F9: =IF(AND(D9=Lijsten!$M$4,D10>D6),"Als de slaapdienst meerdere groepen bedient, neem dan bij vraag 13 een evenredige doorbelasting van deze uren mee. Let op: uren slaapdienst tellen voor 50% mee.", IF(AND(D9=Lijsten!$M$4,D10=D6),"Tel bij vraag 13 de uren van de slapende wacht voor 50% mee (conform cao-bepalingen voor inconveniënte uren).", IF(AND(D9=Lijsten!$M$5,D10>D6),"Als de wakende dienst meerdere groepen bedient, neem dan bij vraag 13 een evenredige doorbelasting van deze uren mee.","")))
B10: 7 | C10: =IF(OR(D9="geen",$D$9=""),"","Voor hoeveel cliënten/patiënten is deze "&$D$9&" nachtdienst 's nachts verantwoordelijk?")
B11: 8 | C11: Feitelijk aantal openingsdagen 2023
B12: 9 | C12: Totale productie 2023 in verblijfsetmalen (wordt automatisch gevuld) | D12: =D11*D8 -> 0
B13: 10 | C13: ="Welk deel in procenten van deze "&TEXT(D12,"0.000")&" etmalen zal naar schatting in 2023 Haarlemmermeerse jeugdigen betreffen?" -> Welk deel in procenten van deze 0.000 etmalen zal naar schatting in 2023 Haarlemmermeerse jeugdigen betreffen? | F13: Deze vraag is uitsluitend bedoeld ter raming van de ingekochte capaciteit 2023
B14: 11 | C14: ="Totaal fte (in roosters werkende) begeleiders 2023 voor deze "&TEXT(D6,"0,0")&" bedden*" -> Totaal fte (in roosters werkende) begeleiders 2023 voor deze 0,0 bedden* | F14: Uitsluitend (groeps)begeleiders en pedagogisch medewerkers. Zie ook *
B15: 12 | C15: A: Totaal aantal bruto uren begeleiders in heel 2023 voor hele groep (wordt automatisch gevuld) | D15: =D14*(365/7)*36 -> 0
B16: 13 | C16: Waarvan B: feitelijk aantal netto roosteruren per jaar agogisch/leefklimaat in 2023 | F16: =IF(D9="slapend","Een slapende nachtdienst van 8 uur telt (voor de meeste cao's) mee als 4 uur per etmaal.","")
B17: 14 | C17: Waarvan C: indirect cliëntgebonden tijd en/of niet-cliëntgebonden tijdbesteding (A-B) (wordt automatisch gevuld) | D17: =IFERROR(IF(AND(D15>0,D16>0),D15-D16,""),"")
B18: 15 | C18: …. aantal netto roosteruren voor deze groep per week… (wordt automatisch gevuld) | D18: =IFERROR(IF(D16>0,D16/(D11/7),""),"") | F18: =IF(D18="","","check: kloppen deze drie gele waarden met jullie administratie?")
B19: 16 | C19: …. aantal inroosterbare uren per fte begeleider per jaar… (wordt automatisch gevuld) | D19: =IFERROR(D16/D14,"")
B20: 17 | C20: …. aantal inroosterbare uren per fte begeleider per jaar komt overeen met productiviteit van…. (wordt automatisch gevuld) | D20: =IFERROR(D16/D15,"")
B21: 18 | C21: Begeleidingsintensiteit (wordt automatisch gevuld) | D21: =IFERROR( IF(AND(D5=Lijsten!$D$3,D7>=90%),D16/D12, IF(AND(D5=Lijsten!$D$3,D7<90%),D16/(D6*0.9*D11), IF(AND(D5<>Lijsten!$D$3,D7>=95%),D16/D12, IF(AND(D5<>Lijsten!$D$3,D7<95%),D16/(D6*0.95*D11))))),"")
B24: =IFERROR(IF(D5=Lijsten!$D$8,"DEZE REKENTOOL IS NIET BEDOELD VOOR CRISISVERBLIJF. GEBRUIK AUB DE REKENTOOL CRISISVERBLIJF",IF(D21>0,"Deze groep heeft "&INDEX(Lijsten!$F$3:$L$11,MATCH(ROUND($D$21,6),Lijsten!F3:F11,1),3)&". Begeleidingsintensiteit: "&TEXT(D21,"0,0")&". Bandbreedte ("&INDEX(Lijsten!H3:I11,MATCH(INDEX(Lijsten!$F$3:$L$11,MATCH(ROUND($D$21,6),Lijsten!F3:F11,1),3),Lijsten!$H$3:$H$11,0),2)&"). Tarief: "&TEXT(INDEX(Lijsten!$F$3:$L$11,MATCH(D21,Lijsten!F3:F11,1),7),"€000,00"),"Vul alle grijze velden in om de intensiteitsbepaling te zien.")),"Vul alle grijze velden in om de intensiteitsbepaling te zien.") -> Vul alle grijze velden in om de intensiteitsbepaling te zien.
B27: * Uitsluitend de volgende functies mogen hier worden meegeteld:
B28: ingroosterde uren van groepsbegeleiders
B29: ingroosterde uren van pedagogisch medewerkers
B30: ingroosterde uren van agogisch medewerkers
B31: bij driemilieuvoorzieningen: ingeroosterde uren van begeleiders op het terrein (niet direct aan één groep verbonden)
B33: De volgende functies tellen NIET mee:
B34: uren van begeleiders ingeroosterd voor individuele begeleiding / begeleiding thuis
B35: gastvrouw/gastheer
B36: gedragwetenschapper / alle wo opgeleide hulpverleners
B37: ambulant hulpverlener / (vak)therapeuten, behandelaars
B38: individueel begeleiders (uitzondering: bij kamertraining/begeleid wonen als er geen groepsbegeleiders zijn)

Sheet Verblijfsgroep 7
F2: Toelichting (zie ook tabblad invulinstructie)
C3: Kenmerken woon/verblijfgroep | D3: GEPLAND IN 2023
B4: 1 | C4: Naam groep
B5: 2 | C5: Welk type woon/verblijfgroep is dit? | F5: =IF(D5=Lijsten!$D$8,"DEZE REKENTOOL IS NIET BEDOELD VOOR CRISISVERBLIJF.","")
B6: 3 | C6: Aantal fysieke plaatsen / bedden / capaciteitsplaatsen van deze woon-/verblijfseenheid | F6: Tel alle capacteitisplaatsen mee, ongeacht voor welke wet of doelgroep ze worden ingezet
B7: 4 | C7: Bezettingsgraad (op jaarbasis) | F7: Vul of een realisatie 2021 in, of een verwachting voor 2023.
B8: 5 | C8: Feitelijk gemiddeld aantal bezette plaatsen (=capaciteit x bezettingsgraad, wordt automatisch gevuld) | D8: =D6*D7 -> 0
B9: 6 | C9: Wat voor type begeleiding heeft deze woon-/verblijfseenheid 's nachts? | F9: =IF(AND(D9=Lijsten!$M$4,D10>D6),"Als de slaapdienst meerdere groepen bedient, neem dan bij vraag 13 een evenredige doorbelasting van deze uren mee. Let op: uren slaapdienst tellen voor 50% mee.", IF(AND(D9=Lijsten!$M$4,D10=D6),"Tel bij vraag 13 de uren van de slapende wacht voor 50% mee (conform cao-bepalingen voor inconveniënte uren).", IF(AND(D9=Lijsten!$M$5,D10>D6),"Als de wakende dienst meerdere groepen bedient, neem dan bij vraag 13 een evenredige doorbelasting van deze uren mee.","")))
B10: 7 | C10: =IF(OR(D9="geen",$D$9=""),"","Voor hoeveel cliënten/patiënten is deze "&$D$9&" nachtdienst 's nachts verantwoordelijk?")
B11: 8 | C11: Feitelijk aantal openingsdagen 2023
B12: 9 | C12: Totale productie 2023 in verblijfsetmalen (wordt automatisch gevuld) | D12: =D11*D8 -> 0
B13: 10 | C13: ="Welk deel in procenten van deze "&TEXT(D12,"0.000")&" etmalen zal naar schatting in 2023 Haarlemmermeerse jeugdigen betreffen?" -> Welk deel in procenten van deze 0.000 etmalen zal naar schatting in 2023 Haarlemmermeerse jeugdigen betreffen? | F13: Deze vraag is uitsluitend bedoeld ter raming van de ingekochte capaciteit 2023
B14: 11 | C14: ="Totaal fte (in roosters werkende) begeleiders 2023 voor deze "&TEXT(D6,"0,0")&" bedden*" -> Totaal fte (in roosters werkende) begeleiders 2023 voor deze 0,0 bedden* | F14: Uitsluitend (groeps)begeleiders en pedagogisch medewerkers. Zie ook *
B15: 12 | C15: A: Totaal aantal bruto uren begeleiders in heel 2023 voor hele groep (wordt automatisch gevuld) | D15: =D14*(365/7)*36 -> 0
B16: 13 | C16: Waarvan B: feitelijk aantal netto roosteruren per jaar agogisch/leefklimaat in 2023 | F16: =IF(D9="slapend","Een slapende nachtdienst van 8 uur telt (voor de meeste cao's) mee als 4 uur per etmaal.","")
B17: 14 | C17: Waarvan C: indirect cliëntgebonden tijd en/of niet-cliëntgebonden tijdbesteding (A-B) (wordt automatisch gevuld) | D17: =IFERROR(IF(AND(D15>0,D16>0),D15-D16,""),"")
B18: 15 | C18: …. aantal netto roosteruren voor deze groep per week… (wordt automatisch gevuld) | D18: =IFERROR(IF(D16>0,D16/(D11/7),""),"") | F18: =IF(D18="","","check: kloppen deze drie gele waarden met jullie administratie?")
B19: 16 | C19: …. aantal inroosterbare uren per fte begeleider per jaar… (wordt automatisch gevuld) | D19: =IFERROR(D16/D14,"")
B20: 17 | C20: …. aantal inroosterbare uren per fte begeleider per jaar komt overeen met productiviteit van…. (wordt automatisch gevuld) | D20: =IFERROR(D16/D15,"")
B21: 18 | C21: Begeleidingsintensiteit (wordt automatisch gevuld) | D21: =IFERROR( IF(AND(D5=Lijsten!$D$3,D7>=90%),D16/D12, IF(AND(D5=Lijsten!$D$3,D7<90%),D16/(D6*0.9*D11), IF(AND(D5<>Lijsten!$D$3,D7>=95%),D16/D12, IF(AND(D5<>Lijsten!$D$3,D7<95%),D16/(D6*0.95*D11))))),"")
B24: =IFERROR(IF(D5=Lijsten!$D$8,"DEZE REKENTOOL IS NIET BEDOELD VOOR CRISISVERBLIJF. GEBRUIK AUB DE REKENTOOL CRISISVERBLIJF",IF(D21>0,"Deze groep heeft "&INDEX(Lijsten!$F$3:$L$11,MATCH(ROUND($D$21,6),Lijsten!F3:F11,1),3)&". Begeleidingsintensiteit: "&TEXT(D21,"0,0")&". Bandbreedte ("&INDEX(Lijsten!H3:I11,MATCH(INDEX(Lijsten!$F$3:$L$11,MATCH(ROUND($D$21,6),Lijsten!F3:F11,1),3),Lijsten!$H$3:$H$11,0),2)&"). Tarief: "&TEXT(INDEX(Lijsten!$F$3:$L$11,MATCH(D21,Lijsten!F3:F11,1),7),"€000,00"),"Vul alle grijze velden in om de intensiteitsbepaling te zien.")),"Vul alle grijze velden in om de intensiteitsbepaling te zien.") -> Vul alle grijze velden in om de intensiteitsbepaling te zien.
B27: * Uitsluitend de volgende functies mogen hier worden meegeteld:
B28: ingroosterde uren van groepsbegeleiders
B29: ingroosterde uren van pedagogisch medewerkers
B30: ingroosterde uren van agogisch medewerkers
B31: bij driemilieuvoorzieningen: ingeroosterde uren van begeleiders op het terrein (niet direct aan één groep verbonden)
B33: De volgende functies tellen NIET mee:
B34: uren van begeleiders ingeroosterd voor individuele begeleiding / begeleiding thuis
B35: gastvrouw/gastheer
B36: gedragwetenschapper / alle wo opgeleide hulpverleners
B37: ambulant hulpverlener / (vak)therapeuten, behandelaars
B38: individueel begeleiders (uitzondering: bij kamertraining/begeleid wonen als er geen groepsbegeleiders zijn)

Sheet Verblijfsgroep 8
F2: Toelichting (zie ook tabblad invulinstructie)
C3: Kenmerken woon/verblijfgroep | D3: GEPLAND IN 2023
B4: 1 | C4: Naam groep
B5: 2 | C5: Welk type woon/verblijfgroep is dit? | F5: =IF(D5=Lijsten!$D$8,"DEZE REKENTOOL IS NIET BEDOELD VOOR CRISISVERBLIJF.","")
B6: 3 | C6: Aantal fysieke plaatsen / bedden / capaciteitsplaatsen van deze woon-/verblijfseenheid | F6: Tel alle capacteitisplaatsen mee, ongeacht voor welke wet of doelgroep ze worden ingezet
B7: 4 | C7: Bezettingsgraad (op jaarbasis) | F7: Vul of een realisatie 2021 in, of een verwachting voor 2023.
B8: 5 | C8: Feitelijk gemiddeld aantal bezette plaatsen (=capaciteit x bezettingsgraad, wordt automatisch gevuld) | D8: =D6*D7 -> 0
B9: 6 | C9: Wat voor type begeleiding heeft deze woon-/verblijfseenheid 's nachts? | F9: =IF(AND(D9=Lijsten!$M$4,D10>D6),"Als de slaapdienst meerdere groepen bedient, neem dan bij vraag 13 een evenredige doorbelasting van deze uren mee. Let op: uren slaapdienst tellen voor 50% mee.", IF(AND(D9=Lijsten!$M$4,D10=D6),"Tel bij vraag 13 de uren van de slapende wacht voor 50% mee (conform cao-bepalingen voor inconveniënte uren).", IF(AND(D9=Lijsten!$M$5,D10>D6),"Als de wakende dienst meerdere groepen bedient, neem dan bij vraag 13 een evenredige doorbelasting van deze uren mee.","")))
B10: 7 | C10: =IF(OR(D9="geen",$D$9=""),"","Voor hoeveel cliënten/patiënten is deze "&$D$9&" nachtdienst 's nachts verantwoordelijk?")
B11: 8 | C11: Feitelijk aantal openingsdagen 2023
B12: 9 | C12: Totale productie 2023 in verblijfsetmalen (wordt automatisch gevuld) | D12: =D11*D8 -> 0
B13: 10 | C13: ="Welk deel in procenten van deze "&TEXT(D12,"0.000")&" etmalen zal naar schatting in 2023 Haarlemmermeerse jeugdigen betreffen?" -> Welk deel in procenten van deze 0.000 etmalen zal naar schatting in 2023 Haarlemmermeerse jeugdigen betreffen? | F13: Deze vraag is uitsluitend bedoeld ter raming van de ingekochte capaciteit 2023
B14: 11 | C14: ="Totaal fte (in roosters werkende) begeleiders 2023 voor deze "&TEXT(D6,"0,0")&" bedden*" -> Totaal fte (in roosters werkende) begeleiders 2023 voor deze 0,0 bedden* | F14: Uitsluitend (groeps)begeleiders en pedagogisch medewerkers. Zie ook *
B15: 12 | C15: A: Totaal aantal bruto uren begeleiders in heel 2023 voor hele groep (wordt automatisch gevuld) | D15: =D14*(365/7)*36 -> 0
B16: 13 | C16: Waarvan B: feitelijk aantal netto roosteruren per jaar agogisch/leefklimaat in 2023 | F16: =IF(D9="slapend","Een slapende nachtdienst van 8 uur telt (voor de meeste cao's) mee als 4 uur per etmaal.","")
B17: 14 | C17: Waarvan C: indirect cliëntgebonden tijd en/of niet-cliëntgebonden tijdbesteding (A-B) (wordt automatisch gevuld) | D17: =IFERROR(IF(AND(D15>0,D16>0),D15-D16,""),"")
B18: 15 | C18: …. aantal netto roosteruren voor deze groep per week… (wordt automatisch gevuld) | D18: =IFERROR(IF(D16>0,D16/(D11/7),""),"") | F18: =IF(D18="","","check: kloppen deze drie gele waarden met jullie administratie?")
B19: 16 | C19: …. aantal inroosterbare uren per fte begeleider per jaar… (wordt automatisch gevuld) | D19: =IFERROR(D16/D14,"")
B20: 17 | C20: …. aantal inroosterbare uren per fte begeleider per jaar komt overeen met productiviteit van…. (wordt automatisch gevuld) | D20: =IFERROR(D16/D15,"")
B21: 18 | C21: Begeleidingsintensiteit (wordt automatisch gevuld) | D21: =IFERROR( IF(AND(D5=Lijsten!$D$3,D7>=90%),D16/D12, IF(AND(D5=Lijsten!$D$3,D7<90%),D16/(D6*0.9*D11), IF(AND(D5<>Lijsten!$D$3,D7>=95%),D16/D12, IF(AND(D5<>Lijsten!$D$3,D7<95%),D16/(D6*0.95*D11))))),"")
B24: =IFERROR(IF(D5=Lijsten!$D$8,"DEZE REKENTOOL IS NIET BEDOELD VOOR CRISISVERBLIJF. GEBRUIK AUB DE REKENTOOL CRISISVERBLIJF",IF(D21>0,"Deze groep heeft "&INDEX(Lijsten!$F$3:$L$11,MATCH(ROUND($D$21,6),Lijsten!F3:F11,1),3)&". Begeleidingsintensiteit: "&TEXT(D21,"0,0")&". Bandbreedte ("&INDEX(Lijsten!H3:I11,MATCH(INDEX(Lijsten!$F$3:$L$11,MATCH(ROUND($D$21,6),Lijsten!F3:F11,1),3),Lijsten!$H$3:$H$11,0),2)&"). Tarief: "&TEXT(INDEX(Lijsten!$F$3:$L$11,MATCH(D21,Lijsten!F3:F11,1),7),"€000,00"),"Vul alle grijze velden in om de intensiteitsbepaling te zien.")),"Vul alle grijze velden in om de intensiteitsbepaling te zien.") -> Vul alle grijze velden in om de intensiteitsbepaling te zien.
B27: * Uitsluitend de volgende functies mogen hier worden meegeteld:
B28: ingroosterde uren van groepsbegeleiders
B29: ingroosterde uren van pedagogisch medewerkers
B30: ingroosterde uren van agogisch medewerkers
B31: bij driemilieuvoorzieningen: ingeroosterde uren van begeleiders op het terrein (niet direct aan één groep verbonden)
B33: De volgende functies tellen NIET mee:
B34: uren van begeleiders ingeroosterd voor individuele begeleiding / begeleiding thuis
B35: gastvrouw/gastheer
B36: gedragwetenschapper / alle wo opgeleide hulpverleners
B37: ambulant hulpverlener / (vak)therapeuten, behandelaars
B38: individueel begeleiders (uitzondering: bij kamertraining/begeleid wonen als er geen groepsbegeleiders zijn)

Sheet Verblijfsgroep 9
F2: Toelichting (zie ook tabblad invulinstructie)
C3: Kenmerken woon/verblijfgroep | D3: GEPLAND IN 2023
B4: 1 | C4: Naam groep
B5: 2 | C5: Welk type woon/verblijfgroep is dit? | F5: =IF(D5=Lijsten!$D$8,"DEZE REKENTOOL IS NIET BEDOELD VOOR CRISISVERBLIJF.","")
B6: 3 | C6: Aantal fysieke plaatsen / bedden / capaciteitsplaatsen van deze woon-/verblijfseenheid | F6: Tel alle capacteitisplaatsen mee, ongeacht voor welke wet of doelgroep ze worden ingezet
B7: 4 | C7: Bezettingsgraad (op jaarbasis) | F7: Vul of een realisatie 2021 in, of een verwachting voor 2023.
B8: 5 | C8: Feitelijk gemiddeld aantal bezette plaatsen (=capaciteit x bezettingsgraad, wordt automatisch gevuld) | D8: =D6*D7 -> 0
B9: 6 | C9: Wat voor type begeleiding heeft deze woon-/verblijfseenheid 's nachts? | F9: =IF(AND(D9=Lijsten!$M$4,D10>D6),"Als de slaapdienst meerdere groepen bedient, neem dan bij vraag 13 een evenredige doorbelasting van deze uren mee. Let op: uren slaapdienst tellen voor 50% mee.", IF(AND(D9=Lijsten!$M$4,D10=D6),"Tel bij vraag 13 de uren van de slapende wacht voor 50% mee (conform cao-bepalingen voor inconveniënte uren).", IF(AND(D9=Lijsten!$M$5,D10>D6),"Als de wakende dienst meerdere groepen bedient, neem dan bij vraag 13 een evenredige doorbelasting van deze uren mee.","")))
B10: 7 | C10: =IF(OR(D9="geen",$D$9=""),"","Voor hoeveel cliënten/patiënten is deze "&$D$9&" nachtdienst 's nachts verantwoordelijk?")
B11: 8 | C11: Feitelijk aantal openingsdagen 2023
B12: 9 | C12: Totale productie 2023 in verblijfsetmalen (wordt automatisch gevuld) | D12: =D11*D8 -> 0
B13: 10 | C13: ="Welk deel in procenten van deze "&TEXT(D12,"0.000")&" etmalen zal naar schatting in 2023 Haarlemmermeerse jeugdigen betreffen?" -> Welk deel in procenten van deze 0.000 etmalen zal naar schatting in 2023 Haarlemmermeerse jeugdigen betreffen? | F13: Deze vraag is uitsluitend bedoeld ter raming van de ingekochte capaciteit 2023
B14: 11 | C14: ="Totaal fte (in roosters werkende) begeleiders 2023 voor deze "&TEXT(D6,"0,0")&" bedden*" -> Totaal fte (in roosters werkende) begeleiders 2023 voor deze 0,0 bedden* | F14: Uitsluitend (groeps)begeleiders en pedagogisch medewerkers. Zie ook *
B15: 12 | C15: A: Totaal aantal bruto uren begeleiders in heel 2023 voor hele groep (wordt automatisch gevuld) | D15: =D14*(365/7)*36 -> 0
B16: 13 | C16: Waarvan B: feitelijk aantal netto roosteruren per jaar agogisch/leefklimaat in 2023 | F16: =IF(D9="slapend","Een slapende nachtdienst van 8 uur telt (voor de meeste cao's) mee als 4 uur per etmaal.","")
B17: 14 | C17: Waarvan C: indirect cliëntgebonden tijd en/of niet-cliëntgebonden tijdbesteding (A-B) (wordt automatisch gevuld) | D17: =IFERROR(IF(AND(D15>0,D16>0),D15-D16,""),"")
B18: 15 | C18: …. aantal netto roosteruren voor deze groep per week… (wordt automatisch gevuld) | D18: =IFERROR(IF(D16>0,D16/(D11/7),""),"") | F18: =IF(D18="","","check: kloppen deze drie gele waarden met jullie administratie?")
B19: 16 | C19: …. aantal inroosterbare uren per fte begeleider per jaar… (wordt automatisch gevuld) | D19: =IFERROR(D16/D14,"")
B20: 17 | C20: …. aantal inroosterbare uren per fte begeleider per jaar komt overeen met productiviteit van…. (wordt automatisch gevuld) | D20: =IFERROR(D16/D15,"")
B21: 18 | C21: Begeleidingsintensiteit (wordt automatisch gevuld) | D21: =IFERROR( IF(AND(D5=Lijsten!$D$3,D7>=90%),D16/D12, IF(AND(D5=Lijsten!$D$3,D7<90%),D16/(D6*0.9*D11), IF(AND(D5<>Lijsten!$D$3,D7>=95%),D16/D12, IF(AND(D5<>Lijsten!$D$3,D7<95%),D16/(D6*0.95*D11))))),"")
B24: =IFERROR(IF(D5=Lijsten!$D$8,"DEZE REKENTOOL IS NIET BEDOELD VOOR CRISISVERBLIJF. GEBRUIK AUB DE REKENTOOL CRISISVERBLIJF",IF(D21>0,"Deze groep heeft "&INDEX(Lijsten!$F$3:$L$11,MATCH(ROUND($D$21,6),Lijsten!F3:F11,1),3)&". Begeleidingsintensiteit: "&TEXT(D21,"0,0")&". Bandbreedte ("&INDEX(Lijsten!H3:I11,MATCH(INDEX(Lijsten!$F$3:$L$11,MATCH(ROUND($D$21,6),Lijsten!F3:F11,1),3),Lijsten!$H$3:$H$11,0),2)&"). Tarief: "&TEXT(INDEX(Lijsten!$F$3:$L$11,MATCH(D21,Lijsten!F3:F11,1),7),"€000,00"),"Vul alle grijze velden in om de intensiteitsbepaling te zien.")),"Vul alle grijze velden in om de intensiteitsbepaling te zien.") -> Vul alle grijze velden in om de intensiteitsbepaling te zien.
B27: * Uitsluitend de volgende functies mogen hier worden meegeteld:
B28: ingroosterde uren van groepsbegeleiders
B29: ingroosterde uren van pedagogisch medewerkers
B30: ingroosterde uren van agogisch medewerkers
B31: bij driemilieuvoorzieningen: ingeroosterde uren van begeleiders op het terrein (niet direct aan één groep verbonden)
B33: De volgende functies tellen NIET mee:
B34: uren van begeleiders ingeroosterd voor individuele begeleiding / begeleiding thuis
B35: gastvrouw/gastheer
B36: gedragwetenschapper / alle wo opgeleide hulpverleners
B37: ambulant hulpverlener / (vak)therapeuten, behandelaars
B38: individueel begeleiders (uitzondering: bij kamertraining/begeleid wonen als er geen groepsbegeleiders zijn)

Sheet Verblijfsgroep 10
F2: Toelichting (zie ook tabblad invulinstructie)
C3: Kenmerken woon/verblijfgroep | D3: GEPLAND IN 2023
B4: 1 | C4: Naam groep
B5: 2 | C5: Welk type woon/verblijfgroep is dit? | F5: =IF(D5=Lijsten!$D$8,"DEZE REKENTOOL IS NIET BEDOELD VOOR CRISISVERBLIJF.","")
B6: 3 | C6: Aantal fysieke plaatsen / bedden / capaciteitsplaatsen van deze woon-/verblijfseenheid | F6: Tel alle capacteitisplaatsen mee, ongeacht voor welke wet of doelgroep ze worden ingezet
B7: 4 | C7: Bezettingsgraad (op jaarbasis) | F7: Vul of een realisatie 2021 in, of een verwachting voor 2023.
B8: 5 | C8: Feitelijk gemiddeld aantal bezette plaatsen (=capaciteit x bezettingsgraad, wordt automatisch gevuld) | D8: =D6*D7 -> 0
B9: 6 | C9: Wat voor type begeleiding heeft deze woon-/verblijfseenheid 's nachts? | F9: =IF(AND(D9=Lijsten!$M$4,D10>D6),"Als de slaapdienst meerdere groepen bedient, neem dan bij vraag 13 een evenredige doorbelasting van deze uren mee. Let op: uren slaapdienst tellen voor 50% mee.", IF(AND(D9=Lijsten!$M$4,D10=D6),"Tel bij vraag 13 de uren van de slapende wacht voor 50% mee (conform cao-bepalingen voor inconveniënte uren).", IF(AND(D9=Lijsten!$M$5,D10>D6),"Als de wakende dienst meerdere groepen bedient, neem dan bij vraag 13 een evenredige doorbelasting van deze uren mee.","")))
B10: 7 | C10: =IF(OR(D9="geen",$D$9=""),"","Voor hoeveel cliënten/patiënten is deze "&$D$9&" nachtdienst 's nachts verantwoordelijk?")
B11: 8 | C11: Feitelijk aantal openingsdagen 2023
B12: 9 | C12: Totale productie 2023 in verblijfsetmalen (wordt automatisch gevuld) | D12: =D11*D8 -> 0
B13: 10 | C13: ="Welk deel in procenten van deze "&TEXT(D12,"0.000")&" etmalen zal naar schatting in 2023 Haarlemmermeerse jeugdigen betreffen?" -> Welk deel in procenten van deze 0.000 etmalen zal naar schatting in 2023 Haarlemmermeerse jeugdigen betreffen? | F13: Deze vraag is uitsluitend bedoeld ter raming van de ingekochte capaciteit 2023
B14: 11 | C14: ="Totaal fte (in roosters werkende) begeleiders 2023 voor deze "&TEXT(D6,"0,0")&" bedden*" -> Totaal fte (in roosters werkende) begeleiders 2023 voor deze 0,0 bedden* | F14: Uitsluitend (groeps)begeleiders en pedagogisch medewerkers. Zie ook *
B15: 12 | C15: A: Totaal aantal bruto uren begeleiders in heel 2023 voor hele groep (wordt automatisch gevuld) | D15: =D14*(365/7)*36 -> 0
B16: 13 | C16: Waarvan B: feitelijk aantal netto roosteruren per jaar agogisch/leefklimaat in 2023 | F16: =IF(D9="slapend","Een slapende nachtdienst van 8 uur telt (voor de meeste cao's) mee als 4 uur per etmaal.","")
B17: 14 | C17: Waarvan C: indirect cliëntgebonden tijd en/of niet-cliëntgebonden tijdbesteding (A-B) (wordt automatisch gevuld) | D17: =IFERROR(IF(AND(D15>0,D16>0),D15-D16,""),"")
B18: 15 | C18: …. aantal netto roosteruren voor deze groep per week… (wordt automatisch gevuld) | D18: =IFERROR(IF(D16>0,D16/(D11/7),""),"") | F18: =IF(D18="","","check: kloppen deze drie gele waarden met jullie administratie?")
B19: 16 | C19: …. aantal inroosterbare uren per fte begeleider per jaar… (wordt automatisch gevuld) | D19: =IFERROR(D16/D14,"")
B20: 17 | C20: …. aantal inroosterbare uren per fte begeleider per jaar komt overeen met productiviteit van…. (wordt automatisch gevuld) | D20: =IFERROR(D16/D15,"")
B21: 18 | C21: Begeleidingsintensiteit (wordt automatisch gevuld) | D21: =IFERROR( IF(AND(D5=Lijsten!$D$3,D7>=90%),D16/D12, IF(AND(D5=Lijsten!$D$3,D7<90%),D16/(D6*0.9*D11), IF(AND(D5<>Lijsten!$D$3,D7>=95%),D16/D12, IF(AND(D5<>Lijsten!$D$3,D7<95%),D16/(D6*0.95*D11))))),"")
B24: =IFERROR(IF(D5=Lijsten!$D$8,"DEZE REKENTOOL IS NIET BEDOELD VOOR CRISISVERBLIJF. GEBRUIK AUB DE REKENTOOL CRISISVERBLIJF",IF(D21>0,"Deze groep heeft "&INDEX(Lijsten!$F$3:$L$11,MATCH(ROUND($D$21,6),Lijsten!F3:F11,1),3)&". Begeleidingsintensiteit: "&TEXT(D21,"0,0")&". Bandbreedte ("&INDEX(Lijsten!H3:I11,MATCH(INDEX(Lijsten!$F$3:$L$11,MATCH(ROUND($D$21,6),Lijsten!F3:F11,1),3),Lijsten!$H$3:$H$11,0),2)&"). Tarief: "&TEXT(INDEX(Lijsten!$F$3:$L$11,MATCH(D21,Lijsten!F3:F11,1),7),"€000,00"),"Vul alle grijze velden in om de intensiteitsbepaling te zien.")),"Vul alle grijze velden in om de intensiteitsbepaling te zien.") -> Vul alle grijze velden in om de intensiteitsbepaling te zien.
B27: * Uitsluitend de volgende functies mogen hier worden meegeteld:
B28: ingroosterde uren van groepsbegeleiders
B29: ingroosterde uren van pedagogisch medewerkers
B30: ingroosterde uren van agogisch medewerkers
B31: bij driemilieuvoorzieningen: ingeroosterde uren van begeleiders op het terrein (niet direct aan één groep verbonden)
B33: De volgende functies tellen NIET mee:
B34: uren van begeleiders ingeroosterd voor individuele begeleiding / begeleiding thuis
B35: gastvrouw/gastheer
B36: gedragwetenschapper / alle wo opgeleide hulpverleners
B37: ambulant hulpverlener / (vak)therapeuten, behandelaars
B38: individueel begeleiders (uitzondering: bij kamertraining/begeleid wonen als er geen groepsbegeleiders zijn)

Sheet Verblijfsgroep 11
F2: Toelichting (zie ook tabblad invulinstructie)
C3: Kenmerken woon/verblijfgroep | D3: GEPLAND IN 2023
B4: 1 | C4: Naam groep
B5: 2 | C5: Welk type woon/verblijfgroep is dit? | F5: =IF(D5=Lijsten!$D$8,"DEZE REKENTOOL IS NIET BEDOELD VOOR CRISISVERBLIJF.","")
B6: 3 | C6: Aantal fysieke plaatsen / bedden / capaciteitsplaatsen van deze woon-/verblijfseenheid | F6: Tel alle capacteitisplaatsen mee, ongeacht voor welke wet of doelgroep ze worden ingezet
B7: 4 | C7: Bezettingsgraad (op jaarbasis) | F7: Vul of een realisatie 2021 in, of een verwachting voor 2023.
B8: 5 | C8: Feitelijk gemiddeld aantal bezette plaatsen (=capaciteit x bezettingsgraad, wordt automatisch gevuld) | D8: =D6*D7 -> 0
B9: 6 | C9: Wat voor type begeleiding heeft deze woon-/verblijfseenheid 's nachts? | F9: =IF(AND(D9=Lijsten!$M$4,D10>D6),"Als de slaapdienst meerdere groepen bedient, neem dan bij vraag 13 een evenredige doorbelasting van deze uren mee. Let op: uren slaapdienst tellen voor 50% mee.", IF(AND(D9=Lijsten!$M$4,D10=D6),"Tel bij vraag 13 de uren van de slapende wacht voor 50% mee (conform cao-bepalingen voor inconveniënte uren).", IF(AND(D9=Lijsten!$M$5,D10>D6),"Als de wakende dienst meerdere groepen bedient, neem dan bij vraag 13 een evenredige doorbelasting van deze uren mee.","")))
B10: 7 | C10: =IF(OR(D9="geen",$D$9=""),"","Voor hoeveel cliënten/patiënten is deze "&$D$9&" nachtdienst 's nachts verantwoordelijk?")
B11: 8 | C11: Feitelijk aantal openingsdagen 2023
B12: 9 | C12: Totale productie 2023 in verblijfsetmalen (wordt automatisch gevuld) | D12: =D11*D8 -> 0
B13: 10 | C13: ="Welk deel in procenten van deze "&TEXT(D12,"0.000")&" etmalen zal naar schatting in 2023 Haarlemmermeerse jeugdigen betreffen?" -> Welk deel in procenten van deze 0.000 etmalen zal naar schatting in 2023 Haarlemmermeerse jeugdigen betreffen? | F13: Deze vraag is uitsluitend bedoeld ter raming van de ingekochte capaciteit 2023
B14: 11 | C14: ="Totaal fte (in roosters werkende) begeleiders 2023 voor deze "&TEXT(D6,"0,0")&" bedden*" -> Totaal fte (in roosters werkende) begeleiders 2023 voor deze 0,0 bedden* | F14: Uitsluitend (groeps)begeleiders en pedagogisch medewerkers. Zie ook *
B15: 12 | C15: A: Totaal aantal bruto uren begeleiders in heel 2023 voor hele groep (wordt automatisch gevuld) | D15: =D14*(365/7)*36 -> 0
B16: 13 | C16: Waarvan B: feitelijk aantal netto roosteruren per jaar agogisch/leefklimaat in 2023 | F16: =IF(D9="slapend","Een slapende nachtdienst van 8 uur telt (voor de meeste cao's) mee als 4 uur per etmaal.","")
B17: 14 | C17: Waarvan C: indirect cliëntgebonden tijd en/of niet-cliëntgebonden tijdbesteding (A-B) (wordt automatisch gevuld) | D17: =IFERROR(IF(AND(D15>0,D16>0),D15-D16,""),"")
B18: 15 | C18: …. aantal netto roosteruren voor deze groep per week… (wordt automatisch gevuld) | D18: =IFERROR(IF(D16>0,D16/(D11/7),""),"") | F18: =IF(D18="","","check: kloppen deze drie gele waarden met jullie administratie?")
B19: 16 | C19: …. aantal inroosterbare uren per fte begeleider per jaar… (wordt automatisch gevuld) | D19: =IFERROR(D16/D14,"")
B20: 17 | C20: …. aantal inroosterbare uren per fte begeleider per jaar komt overeen met productiviteit van…. (wordt automatisch gevuld) | D20: =IFERROR(D16/D15,"")
B21: 18 | C21: Begeleidingsintensiteit (wordt automatisch gevuld) | D21: =IFERROR( IF(AND(D5=Lijsten!$D$3,D7>=90%),D16/D12, IF(AND(D5=Lijsten!$D$3,D7<90%),D16/(D6*0.9*D11), IF(AND(D5<>Lijsten!$D$3,D7>=95%),D16/D12, IF(AND(D5<>Lijsten!$D$3,D7<95%),D16/(D6*0.95*D11))))),"")
B24: =IFERROR(IF(D5=Lijsten!$D$8,"DEZE REKENTOOL IS NIET BEDOELD VOOR CRISISVERBLIJF. GEBRUIK AUB DE REKENTOOL CRISISVERBLIJF",IF(D21>0,"Deze groep heeft "&INDEX(Lijsten!$F$3:$L$11,MATCH(ROUND($D$21,6),Lijsten!F3:F11,1),3)&". Begeleidingsintensiteit: "&TEXT(D21,"0,0")&". Bandbreedte ("&INDEX(Lijsten!H3:I11,MATCH(INDEX(Lijsten!$F$3:$L$11,MATCH(ROUND($D$21,6),Lijsten!F3:F11,1),3),Lijsten!$H$3:$H$11,0),2)&"). Tarief: "&TEXT(INDEX(Lijsten!$F$3:$L$11,MATCH(D21,Lijsten!F3:F11,1),7),"€000,00"),"Vul alle grijze velden in om de intensiteitsbepaling te zien.")),"Vul alle grijze velden in om de intensiteitsbepaling te zien.") -> Vul alle grijze velden in om de intensiteitsbepaling te zien.
B27: * Uitsluitend de volgende functies mogen hier worden meegeteld:
B28: ingroosterde uren van groepsbegeleiders
B29: ingroosterde uren van pedagogisch medewerkers
B30: ingroosterde uren van agogisch medewerkers
B31: bij driemilieuvoorzieningen: ingeroosterde uren van begeleiders op het terrein (niet direct aan één groep verbonden)
B33: De volgende functies tellen NIET mee:
B34: uren van begeleiders ingeroosterd voor individuele begeleiding / begeleiding thuis
B35: gastvrouw/gastheer
B36: gedragwetenschapper / alle wo opgeleide hulpverleners
B37: ambulant hulpverlener / (vak)therapeuten, behandelaars
B38: individueel begeleiders (uitzondering: bij kamertraining/begeleid wonen als er geen groepsbegeleiders zijn)

Sheet Verblijfsgroep 12
F2: Toelichting (zie ook tabblad invulinstructie)
C3: Kenmerken woon/verblijfgroep | D3: GEPLAND IN 2023
B4: 1 | C4: Naam groep
B5: 2 | C5: Welk type woon/verblijfgroep is dit? | F5: =IF(D5=Lijsten!$D$8,"DEZE REKENTOOL IS NIET BEDOELD VOOR CRISISVERBLIJF.","")
B6: 3 | C6: Aantal fysieke plaatsen / bedden / capaciteitsplaatsen van deze woon-/verblijfseenheid | F6: Tel alle capacteitisplaatsen mee, ongeacht voor welke wet of doelgroep ze worden ingezet
B7: 4 | C7: Bezettingsgraad (op jaarbasis) | F7: Vul of een realisatie 2021 in, of een verwachting voor 2023.
B8: 5 | C8: Feitelijk gemiddeld aantal bezette plaatsen (=capaciteit x bezettingsgraad, wordt automatisch gevuld) | D8: =D6*D7 -> 0
B9: 6 | C9: Wat voor type begeleiding heeft deze woon-/verblijfseenheid 's nachts? | F9: =IF(AND(D9=Lijsten!$M$4,D10>D6),"Als de slaapdienst meerdere groepen bedient, neem dan bij vraag 13 een evenredige doorbelasting van deze uren mee. Let op: uren slaapdienst tellen voor 50% mee.", IF(AND(D9=Lijsten!$M$4,D10=D6),"Tel bij vraag 13 de uren van de slapende wacht voor 50% mee (conform cao-bepalingen voor inconveniënte uren).", IF(AND(D9=Lijsten!$M$5,D10>D6),"Als de wakende dienst meerdere groepen bedient, neem dan bij vraag 13 een evenredige doorbelasting van deze uren mee.","")))
B10: 7 | C10: =IF(OR(D9="geen",$D$9=""),"","Voor hoeveel cliënten/patiënten is deze "&$D$9&" nachtdienst 's nachts verantwoordelijk?")
B11: 8 | C11: Feitelijk aantal openingsdagen 2023
B12: 9 | C12: Totale productie 2023 in verblijfsetmalen (wordt automatisch gevuld) | D12: =D11*D8 -> 0
B13: 10 | C13: ="Welk deel in procenten van deze "&TEXT(D12,"0.000")&" etmalen zal naar schatting in 2023 Haarlemmermeerse jeugdigen betreffen?" -> Welk deel in procenten van deze 0.000 etmalen zal naar schatting in 2023 Haarlemmermeerse jeugdigen betreffen? | F13: Deze vraag is uitsluitend bedoeld ter raming van de ingekochte capaciteit 2023
B14: 11 | C14: ="Totaal fte (in roosters werkende) begeleiders 2023 voor deze "&TEXT(D6,"0,0")&" bedden*" -> Totaal fte (in roosters werkende) begeleiders 2023 voor deze 0,0 bedden* | F14: Uitsluitend (groeps)begeleiders en pedagogisch medewerkers. Zie ook *
B15: 12 | C15: A: Totaal aantal bruto uren begeleiders in heel 2023 voor hele groep (wordt automatisch gevuld) | D15: =D14*(365/7)*36 -> 0
B16: 13 | C16: Waarvan B: feitelijk aantal netto roosteruren per jaar agogisch/leefklimaat in 2023 | F16: =IF(D9="slapend","Een slapende nachtdienst van 8 uur telt (voor de meeste cao's) mee als 4 uur per etmaal.","")
B17: 14 | C17: Waarvan C: indirect cliëntgebonden tijd en/of niet-cliëntgebonden tijdbesteding (A-B) (wordt automatisch gevuld) | D17: =IFERROR(IF(AND(D15>0,D16>0),D15-D16,""),"")
B18: 15 | C18: …. aantal netto roosteruren voor deze groep per week… (wordt automatisch gevuld) | D18: =IFERROR(IF(D16>0,D16/(D11/7),""),"") | F18: =IF(D18="","","check: kloppen deze drie gele waarden met jullie administratie?")
B19: 16 | C19: …. aantal inroosterbare uren per fte begeleider per jaar… (wordt automatisch gevuld) | D19: =IFERROR(D16/D14,"")
B20: 17 | C20: …. aantal inroosterbare uren per fte begeleider per jaar komt overeen met productiviteit van…. (wordt automatisch gevuld) | D20: =IFERROR(D16/D15,"")
B21: 18 | C21: Begeleidingsintensiteit (wordt automatisch gevuld) | D21: =IFERROR( IF(AND(D5=Lijsten!$D$3,D7>=90%),D16/D12, IF(AND(D5=Lijsten!$D$3,D7<90%),D16/(D6*0.9*D11), IF(AND(D5<>Lijsten!$D$3,D7>=95%),D16/D12, IF(AND(D5<>Lijsten!$D$3,D7<95%),D16/(D6*0.95*D11))))),"")
B24: =IFERROR(IF(D5=Lijsten!$D$8,"DEZE REKENTOOL IS NIET BEDOELD VOOR CRISISVERBLIJF. GEBRUIK AUB DE REKENTOOL CRISISVERBLIJF",IF(D21>0,"Deze groep heeft "&INDEX(Lijsten!$F$3:$L$11,MATCH(ROUND($D$21,6),Lijsten!F3:F11,1),3)&". Begeleidingsintensiteit: "&TEXT(D21,"0,0")&". Bandbreedte ("&INDEX(Lijsten!H3:I11,MATCH(INDEX(Lijsten!$F$3:$L$11,MATCH(ROUND($D$21,6),Lijsten!F3:F11,1),3),Lijsten!$H$3:$H$11,0),2)&"). Tarief: "&TEXT(INDEX(Lijsten!$F$3:$L$11,MATCH(D21,Lijsten!F3:F11,1),7),"€000,00"),"Vul alle grijze velden in om de intensiteitsbepaling te zien.")),"Vul alle grijze velden in om de intensiteitsbepaling te zien.") -> Vul alle grijze velden in om de intensiteitsbepaling te zien.
B27: * Uitsluitend de volgende functies mogen hier worden meegeteld:
B28: ingroosterde uren van groepsbegeleiders
B29: ingroosterde uren van pedagogisch medewerkers
B30: ingroosterde uren van agogisch medewerkers
B31: bij driemilieuvoorzieningen: ingeroosterde uren van begeleiders op het terrein (niet direct aan één groep verbonden)
B33: De volgende functies tellen NIET mee:
B34: uren van begeleiders ingeroosterd voor individuele begeleiding / begeleiding thuis
B35: gastvrouw/gastheer
B36: gedragwetenschapper / alle wo opgeleide hulpverleners
B37: ambulant hulpverlener / (vak)therapeuten, behandelaars
B38: individueel begeleiders (uitzondering: bij kamertraining/begeleid wonen als er geen groepsbegeleiders zijn)

Sheet Verblijfsgroep 13
F2: Toelichting (zie ook tabblad invulinstructie)
C3: Kenmerken woon/verblijfgroep | D3: GEPLAND IN 2023
B4: 1 | C4: Naam groep
B5: 2 | C5: Welk type woon/verblijfgroep is dit? | F5: =IF(D5=Lijsten!$D$8,"DEZE REKENTOOL IS NIET BEDOELD VOOR CRISISVERBLIJF.","")
B6: 3 | C6: Aantal fysieke plaatsen / bedden / capaciteitsplaatsen van deze woon-/verblijfseenheid | F6: Tel alle capacteitisplaatsen mee, ongeacht voor welke wet of doelgroep ze worden ingezet
B7: 4 | C7: Bezettingsgraad (op jaarbasis) | F7: Vul of een realisatie 2021 in, of een verwachting voor 2023.
B8: 5 | C8: Feitelijk gemiddeld aantal bezette plaatsen (=capaciteit x bezettingsgraad, wordt automatisch gevuld) | D8: =D6*D7 -> 0
B9: 6 | C9: Wat voor type begeleiding heeft deze woon-/verblijfseenheid 's nachts? | F9: =IF(AND(D9=Lijsten!$M$4,D10>D6),"Als de slaapdienst meerdere groepen bedient, neem dan bij vraag 13 een evenredige doorbelasting van deze uren mee. Let op: uren slaapdienst tellen voor 50% mee.", IF(AND(D9=Lijsten!$M$4,D10=D6),"Tel bij vraag 13 de uren van de slapende wacht voor 50% mee (conform cao-bepalingen voor inconveniënte uren).", IF(AND(D9=Lijsten!$M$5,D10>D6),"Als de wakende dienst meerdere groepen bedient, neem dan bij vraag 13 een evenredige doorbelasting van deze uren mee.","")))
B10: 7 | C10: =IF(OR(D9="geen",$D$9=""),"","Voor hoeveel cliënten/patiënten is deze "&$D$9&" nachtdienst 's nachts verantwoordelijk?")
B11: 8 | C11: Feitelijk aantal openingsdagen 2023
B12: 9 | C12: Totale productie 2023 in verblijfsetmalen (wordt automatisch gevuld) | D12: =D11*D8 -> 0
B13: 10 | C13: ="Welk deel in procenten van deze "&TEXT(D12,"0.000")&" etmalen zal naar schatting in 2023 Haarlemmermeerse jeugdigen betreffen?" -> Welk deel in procenten van deze 0.000 etmalen zal naar schatting in 2023 Haarlemmermeerse jeugdigen betreffen? | F13: Deze vraag is uitsluitend bedoeld ter raming van de ingekochte capaciteit 2023
B14: 11 | C14: ="Totaal fte (in roosters werkende) begeleiders 2023 voor deze "&TEXT(D6,"0,0")&" bedden*" -> Totaal fte (in roosters werkende) begeleiders 2023 voor deze 0,0 bedden* | F14: Uitsluitend (groeps)begeleiders en pedagogisch medewerkers. Zie ook *
B15: 12 | C15: A: Totaal aantal bruto uren begeleiders in heel 2023 voor hele groep (wordt automatisch gevuld) | D15: =D14*(365/7)*36 -> 0
B16: 13 | C16: Waarvan B: feitelijk aantal netto roosteruren per jaar agogisch/leefklimaat in 2023 | F16: =IF(D9="slapend","Een slapende nachtdienst van 8 uur telt (voor de meeste cao's) mee als 4 uur per etmaal.","")
B17: 14 | C17: Waarvan C: indirect cliëntgebonden tijd en/of niet-cliëntgebonden tijdbesteding (A-B) (wordt automatisch gevuld) | D17: =IFERROR(IF(AND(D15>0,D16>0),D15-D16,""),"")
B18: 15 | C18: …. aantal netto roosteruren voor deze groep per week… (wordt automatisch gevuld) | D18: =IFERROR(IF(D16>0,D16/(D11/7),""),"") | F18: =IF(D18="","","check: kloppen deze drie gele waarden met jullie administratie?")
B19: 16 | C19: …. aantal inroosterbare uren per fte begeleider per jaar… (wordt automatisch gevuld) | D19: =IFERROR(D16/D14,"")
B20: 17 | C20: …. aantal inroosterbare uren per fte begeleider per jaar komt overeen met productiviteit van…. (wordt automatisch gevuld) | D20: =IFERROR(D16/D15,"")
B21: 18 | C21: Begeleidingsintensiteit (wordt automatisch gevuld) | D21: =IFERROR( IF(AND(D5=Lijsten!$D$3,D7>=90%),D16/D12, IF(AND(D5=Lijsten!$D$3,D7<90%),D16/(D6*0.9*D11), IF(AND(D5<>Lijsten!$D$3,D7>=95%),D16/D12, IF(AND(D5<>Lijsten!$D$3,D7<95%),D16/(D6*0.95*D11))))),"")
B24: =IFERROR(IF(D5=Lijsten!$D$8,"DEZE REKENTOOL IS NIET BEDOELD VOOR CRISISVERBLIJF. GEBRUIK AUB DE REKENTOOL CRISISVERBLIJF",IF(D21>0,"Deze groep heeft "&INDEX(Lijsten!$F$3:$L$11,MATCH(ROUND($D$21,6),Lijsten!F3:F11,1),3)&". Begeleidingsintensiteit: "&TEXT(D21,"0,0")&". Bandbreedte ("&INDEX(Lijsten!H3:I11,MATCH(INDEX(Lijsten!$F$3:$L$11,MATCH(ROUND($D$21,6),Lijsten!F3:F11,1),3),Lijsten!$H$3:$H$11,0),2)&"). Tarief: "&TEXT(INDEX(Lijsten!$F$3:$L$11,MATCH(D21,Lijsten!F3:F11,1),7),"€000,00"),"Vul alle grijze velden in om de intensiteitsbepaling te zien.")),"Vul alle grijze velden in om de intensiteitsbepaling te zien.") -> Vul alle grijze velden in om de intensiteitsbepaling te zien.
B27: * Uitsluitend de volgende functies mogen hier worden meegeteld:
B28: ingroosterde uren van groepsbegeleiders
B29: ingroosterde uren van pedagogisch medewerkers
B30: ingroosterde uren van agogisch medewerkers
B31: bij driemilieuvoorzieningen: ingeroosterde uren van begeleiders op het terrein (niet direct aan één groep verbonden)
B33: De volgende functies tellen NIET mee:
B34: uren van begeleiders ingeroosterd voor individuele begeleiding / begeleiding thuis
B35: gastvrouw/gastheer
B36: gedragwetenschapper / alle wo opgeleide hulpverleners
B37: ambulant hulpverlener / (vak)therapeuten, behandelaars
B38: individueel begeleiders (uitzondering: bij kamertraining/begeleid wonen als er geen groepsbegeleiders zijn)

Sheet Verblijfsgroep 14
F2: Toelichting (zie ook tabblad invulinstructie)
C3: Kenmerken woon/verblijfgroep | D3: GEPLAND IN 2023
B4: 1 | C4: Naam groep
B5: 2 | C5: Welk type woon/verblijfgroep is dit? | F5: =IF(D5=Lijsten!$D$8,"DEZE REKENTOOL IS NIET BEDOELD VOOR CRISISVERBLIJF.","")
B6: 3 | C6: Aantal fysieke plaatsen / bedden / capaciteitsplaatsen van deze woon-/verblijfseenheid | F6: Tel alle capacteitisplaatsen mee, ongeacht voor welke wet of doelgroep ze worden ingezet
B7: 4 | C7: Bezettingsgraad (op jaarbasis) | F7: Vul of een realisatie 2021 in, of een verwachting voor 2023.
B8: 5 | C8: Feitelijk gemiddeld aantal bezette plaatsen (=capaciteit x bezettingsgraad, wordt automatisch gevuld) | D8: =D6*D7 -> 0
B9: 6 | C9: Wat voor type begeleiding heeft deze woon-/verblijfseenheid 's nachts? | F9: =IF(AND(D9=Lijsten!$M$4,D10>D6),"Als de slaapdienst meerdere groepen bedient, neem dan bij vraag 13 een evenredige doorbelasting van deze uren mee. Let op: uren slaapdienst tellen voor 50% mee.", IF(AND(D9=Lijsten!$M$4,D10=D6),"Tel bij vraag 13 de uren van de slapende wacht voor 50% mee (conform cao-bepalingen voor inconveniënte uren).", IF(AND(D9=Lijsten!$M$5,D10>D6),"Als de wakende dienst meerdere groepen bedient, neem dan bij vraag 13 een evenredige doorbelasting van deze uren mee.","")))
B10: 7 | C10: =IF(OR(D9="geen",$D$9=""),"","Voor hoeveel cliënten/patiënten is deze "&$D$9&" nachtdienst 's nachts verantwoordelijk?")
B11: 8 | C11: Feitelijk aantal openingsdagen 2023
B12: 9 | C12: Totale productie 2023 in verblijfsetmalen (wordt automatisch gevuld) | D12: =D11*D8 -> 0
B13: 10 | C13: ="Welk deel in procenten van deze "&TEXT(D12,"0.000")&" etmalen zal naar schatting in 2023 Haarlemmermeerse jeugdigen betreffen?" -> Welk deel in procenten van deze 0.000 etmalen zal naar schatting in 2023 Haarlemmermeerse jeugdigen betreffen? | F13: Deze vraag is uitsluitend bedoeld ter raming van de ingekochte capaciteit 2023
B14: 11 | C14: ="Totaal fte (in roosters werkende) begeleiders 2023 voor deze "&TEXT(D6,"0,0")&" bedden*" -> Totaal fte (in roosters werkende) begeleiders 2023 voor deze 0,0 bedden* | F14: Uitsluitend (groeps)begeleiders en pedagogisch medewerkers. Zie ook *
B15: 12 | C15: A: Totaal aantal bruto uren begeleiders in heel 2023 voor hele groep (wordt automatisch gevuld) | D15: =D14*(365/7)*36 -> 0
B16: 13 | C16: Waarvan B: feitelijk aantal netto roosteruren per jaar agogisch/leefklimaat in 2023 | F16: =IF(D9="slapend","Een slapende nachtdienst van 8 uur telt (voor de meeste cao's) mee als 4 uur per etmaal.","")
B17: 14 | C17: Waarvan C: indirect cliëntgebonden tijd en/of niet-cliëntgebonden tijdbesteding (A-B) (wordt automatisch gevuld) | D17: =IFERROR(IF(AND(D15>0,D16>0),D15-D16,""),"")
B18: 15 | C18: …. aantal netto roosteruren voor deze groep per week… (wordt automatisch gevuld) | D18: =IFERROR(IF(D16>0,D16/(D11/7),""),"") | F18: =IF(D18="","","check: kloppen deze drie gele waarden met jullie administratie?")
B19: 16 | C19: …. aantal inroosterbare uren per fte begeleider per jaar… (wordt automatisch gevuld) | D19: =IFERROR(D16/D14,"")
B20: 17 | C20: …. aantal inroosterbare uren per fte begeleider per jaar komt overeen met productiviteit van…. (wordt automatisch gevuld) | D20: =IFERROR(D16/D15,"")
B21: 18 | C21: Begeleidingsintensiteit (wordt automatisch gevuld) | D21: =IFERROR( IF(AND(D5=Lijsten!$D$3,D7>=90%),D16/D12, IF(AND(D5=Lijsten!$D$3,D7<90%),D16/(D6*0.9*D11), IF(AND(D5<>Lijsten!$D$3,D7>=95%),D16/D12, IF(AND(D5<>Lijsten!$D$3,D7<95%),D16/(D6*0.95*D11))))),"")
B24: =IFERROR(IF(D5=Lijsten!$D$8,"DEZE REKENTOOL IS NIET BEDOELD VOOR CRISISVERBLIJF. GEBRUIK AUB DE REKENTOOL CRISISVERBLIJF",IF(D21>0,"Deze groep heeft "&INDEX(Lijsten!$F$3:$L$11,MATCH(ROUND($D$21,6),Lijsten!F3:F11,1),3)&". Begeleidingsintensiteit: "&TEXT(D21,"0,0")&". Bandbreedte ("&INDEX(Lijsten!H3:I11,MATCH(INDEX(Lijsten!$F$3:$L$11,MATCH(ROUND($D$21,6),Lijsten!F3:F11,1),3),Lijsten!$H$3:$H$11,0),2)&"). Tarief: "&TEXT(INDEX(Lijsten!$F$3:$L$11,MATCH(D21,Lijsten!F3:F11,1),7),"€000,00"),"Vul alle grijze velden in om de intensiteitsbepaling te zien.")),"Vul alle grijze velden in om de intensiteitsbepaling te zien.") -> Vul alle grijze velden in om de intensiteitsbepaling te zien.
B27: * Uitsluitend de volgende functies mogen hier worden meegeteld:
B28: ingroosterde uren van groepsbegeleiders
B29: ingroosterde uren van pedagogisch medewerkers
B30: ingroosterde uren van agogisch medewerkers
B31: bij driemilieuvoorzieningen: ingeroosterde uren van begeleiders op het terrein (niet direct aan één groep verbonden)
B33: De volgende functies tellen NIET mee:
B34: uren van begeleiders ingeroosterd voor individuele begeleiding / begeleiding thuis
B35: gastvrouw/gastheer
B36: gedragwetenschapper / alle wo opgeleide hulpverleners
B37: ambulant hulpverlener / (vak)therapeuten, behandelaars
B38: individueel begeleiders (uitzondering: bij kamertraining/begeleid wonen als er geen groepsbegeleiders zijn)

Sheet Verblijfsgroep 15
F2: Toelichting (zie ook tabblad invulinstructie)
C3: Kenmerken woon/verblijfgroep | D3: GEPLAND IN 2023
B4: 1 | C4: Naam groep
B5: 2 | C5: Welk type woon/verblijfgroep is dit? | F5: =IF(D5=Lijsten!$D$8,"DEZE REKENTOOL IS NIET BEDOELD VOOR CRISISVERBLIJF.","")
B6: 3 | C6: Aantal fysieke plaatsen / bedden / capaciteitsplaatsen van deze woon-/verblijfseenheid | F6: Tel alle capacteitisplaatsen mee, ongeacht voor welke wet of doelgroep ze worden ingezet
B7: 4 | C7: Bezettingsgraad (op jaarbasis) | F7: Vul of een realisatie 2021 in, of een verwachting voor 2023.
B8: 5 | C8: Feitelijk gemiddeld aantal bezette plaatsen (=capaciteit x bezettingsgraad, wordt automatisch gevuld) | D8: =D6*D7 -> 0
B9: 6 | C9: Wat voor type begeleiding heeft deze woon-/verblijfseenheid 's nachts? | F9: =IF(AND(D9=Lijsten!$M$4,D10>D6),"Als de slaapdienst meerdere groepen bedient, neem dan bij vraag 13 een evenredige doorbelasting van deze uren mee. Let op: uren slaapdienst tellen voor 50% mee.", IF(AND(D9=Lijsten!$M$4,D10=D6),"Tel bij vraag 13 de uren van de slapende wacht voor 50% mee (conform cao-bepalingen voor inconveniënte uren).", IF(AND(D9=Lijsten!$M$5,D10>D6),"Als de wakende dienst meerdere groepen bedient, neem dan bij vraag 13 een evenredige doorbelasting van deze uren mee.","")))
B10: 7 | C10: =IF(OR(D9="geen",$D$9=""),"","Voor hoeveel cliënten/patiënten is deze "&$D$9&" nachtdienst 's nachts verantwoordelijk?")
B11: 8 | C11: Feitelijk aantal openingsdagen 2023
B12: 9 | C12: Totale productie 2023 in verblijfsetmalen (wordt automatisch gevuld) | D12: =D11*D8 -> 0
B13: 10 | C13: ="Welk deel in procenten van deze "&TEXT(D12,"0.000")&" etmalen zal naar schatting in 2023 Haarlemmermeerse jeugdigen betreffen?" -> Welk deel in procenten van deze 0.000 etmalen zal naar schatting in 2023 Haarlemmermeerse jeugdigen betreffen? | F13: Deze vraag is uitsluitend bedoeld ter raming van de ingekochte capaciteit 2023
B14: 11 | C14: ="Totaal fte (in roosters werkende) begeleiders 2023 voor deze "&TEXT(D6,"0,0")&" bedden*" -> Totaal fte (in roosters werkende) begeleiders 2023 voor deze 0,0 bedden* | F14: Uitsluitend (groeps)begeleiders en pedagogisch medewerkers. Zie ook *
B15: 12 | C15: A: Totaal aantal bruto uren begeleiders in heel 2023 voor hele groep (wordt automatisch gevuld) | D15: =D14*(365/7)*36 -> 0
B16: 13 | C16: Waarvan B: feitelijk aantal netto roosteruren per jaar agogisch/leefklimaat in 2023 | F16: =IF(D9="slapend","Een slapende nachtdienst van 8 uur telt (voor de meeste cao's) mee als 4 uur per etmaal.","")
B17: 14 | C17: Waarvan C: indirect cliëntgebonden tijd en/of niet-cliëntgebonden tijdbesteding (A-B) (wordt automatisch gevuld) | D17: =IFERROR(IF(AND(D15>0,D16>0),D15-D16,""),"")
B18: 15 | C18: …. aantal netto roosteruren voor deze groep per week… (wordt automatisch gevuld) | D18: =IFERROR(IF(D16>0,D16/(D11/7),""),"") | F18: =IF(D18="","","check: kloppen deze drie gele waarden met jullie administratie?")
B19: 16 | C19: …. aantal inroosterbare uren per fte begeleider per jaar… (wordt automatisch gevuld) | D19: =IFERROR(D16/D14,"")
B20: 17 | C20: …. aantal inroosterbare uren per fte begeleider per jaar komt overeen met productiviteit van…. (wordt automatisch gevuld) | D20: =IFERROR(D16/D15,"")
B21: 18 | C21: Begeleidingsintensiteit (wordt automatisch gevuld) | D21: =IFERROR( IF(AND(D5=Lijsten!$D$3,D7>=90%),D16/D12, IF(AND(D5=Lijsten!$D$3,D7<90%),D16/(D6*0.9*D11), IF(AND(D5<>Lijsten!$D$3,D7>=95%),D16/D12, IF(AND(D5<>Lijsten!$D$3,D7<95%),D16/(D6*0.95*D11))))),"")
B24: =IFERROR(IF(D5=Lijsten!$D$8,"DEZE REKENTOOL IS NIET BEDOELD VOOR CRISISVERBLIJF. GEBRUIK AUB DE REKENTOOL CRISISVERBLIJF",IF(D21>0,"Deze groep heeft "&INDEX(Lijsten!$F$3:$L$11,MATCH(ROUND($D$21,6),Lijsten!F3:F11,1),3)&". Begeleidingsintensiteit: "&TEXT(D21,"0,0")&". Bandbreedte ("&INDEX(Lijsten!H3:I11,MATCH(INDEX(Lijsten!$F$3:$L$11,MATCH(ROUND($D$21,6),Lijsten!F3:F11,1),3),Lijsten!$H$3:$H$11,0),2)&"). Tarief: "&TEXT(INDEX(Lijsten!$F$3:$L$11,MATCH(D21,Lijsten!F3:F11,1),7),"€000,00"),"Vul alle grijze velden in om de intensiteitsbepaling te zien.")),"Vul alle grijze velden in om de intensiteitsbepaling te zien.") -> Vul alle grijze velden in om de intensiteitsbepaling te zien.
B27: * Uitsluitend de volgende functies mogen hier worden meegeteld:
B28: ingroosterde uren van groepsbegeleiders
B29: ingroosterde uren van pedagogisch medewerkers
B30: ingroosterde uren van agogisch medewerkers
B31: bij driemilieuvoorzieningen: ingeroosterde uren van begeleiders op het terrein (niet direct aan één groep verbonden)
B33: De volgende functies tellen NIET mee:
B34: uren van begeleiders ingeroosterd voor individuele begeleiding / begeleiding thuis
B35: gastvrouw/gastheer
B36: gedragwetenschapper / alle wo opgeleide hulpverleners
B37: ambulant hulpverlener / (vak)therapeuten, behandelaars
B38: individueel begeleiders (uitzondering: bij kamertraining/begeleid wonen als er geen groepsbegeleiders zijn)

Sheet Verblijfsgroep 16
F2: Toelichting (zie ook tabblad invulinstructie)
C3: Kenmerken woon/verblijfgroep | D3: GEPLAND IN 2023
B4: 1 | C4: Naam groep
B5: 2 | C5: Welk type woon/verblijfgroep is dit? | F5: =IF(D5=Lijsten!$D$8,"DEZE REKENTOOL IS NIET BEDOELD VOOR CRISISVERBLIJF.","")
B6: 3 | C6: Aantal fysieke plaatsen / bedden / capaciteitsplaatsen van deze woon-/verblijfseenheid | F6: Tel alle capacteitisplaatsen mee, ongeacht voor welke wet of doelgroep ze worden ingezet
B7: 4 | C7: Bezettingsgraad (op jaarbasis) | F7: Vul of een realisatie 2021 in, of een verwachting voor 2023.
B8: 5 | C8: Feitelijk gemiddeld aantal bezette plaatsen (=capaciteit x bezettingsgraad, wordt automatisch gevuld) | D8: =D6*D7 -> 0
B9: 6 | C9: Wat voor type begeleiding heeft deze woon-/verblijfseenheid 's nachts? | F9: =IF(AND(D9=Lijsten!$M$4,D10>D6),"Als de slaapdienst meerdere groepen bedient, neem dan bij vraag 13 een evenredige doorbelasting van deze uren mee. Let op: uren slaapdienst tellen voor 50% mee.", IF(AND(D9=Lijsten!$M$4,D10=D6),"Tel bij vraag 13 de uren van de slapende wacht voor 50% mee (conform cao-bepalingen voor inconveniënte uren).", IF(AND(D9=Lijsten!$M$5,D10>D6),"Als de wakende dienst meerdere groepen bedient, neem dan bij vraag 13 een evenredige doorbelasting van deze uren mee.","")))
B10: 7 | C10: =IF(OR(D9="geen",$D$9=""),"","Voor hoeveel cliënten/patiënten is deze "&$D$9&" nachtdienst 's nachts verantwoordelijk?")
B11: 8 | C11: Feitelijk aantal openingsdagen 2023
B12: 9 | C12: Totale productie 2023 in verblijfsetmalen (wordt automatisch gevuld) | D12: =D11*D8 -> 0
B13: 10 | C13: ="Welk deel in procenten van deze "&TEXT(D12,"0.000")&" etmalen zal naar schatting in 2023 Haarlemmermeerse jeugdigen betreffen?" -> Welk deel in procenten van deze 0.000 etmalen zal naar schatting in 2023 Haarlemmermeerse jeugdigen betreffen? | F13: Deze vraag is uitsluitend bedoeld ter raming van de ingekochte capaciteit 2023
B14: 11 | C14: ="Totaal fte (in roosters werkende) begeleiders 2023 voor deze "&TEXT(D6,"0,0")&" bedden*" -> Totaal fte (in roosters werkende) begeleiders 2023 voor deze 0,0 bedden* | F14: Uitsluitend (groeps)begeleiders en pedagogisch medewerkers. Zie ook *
B15: 12 | C15: A: Totaal aantal bruto uren begeleiders in heel 2023 voor hele groep (wordt automatisch gevuld) | D15: =D14*(365/7)*36 -> 0
B16: 13 | C16: Waarvan B: feitelijk aantal netto roosteruren per jaar agogisch/leefklimaat in 2023 | F16: =IF(D9="slapend","Een slapende nachtdienst van 8 uur telt (voor de meeste cao's) mee als 4 uur per etmaal.","")
B17: 14 | C17: Waarvan C: indirect cliëntgebonden tijd en/of niet-cliëntgebonden tijdbesteding (A-B) (wordt automatisch gevuld) | D17: =IFERROR(IF(AND(D15>0,D16>0),D15-D16,""),"")
B18: 15 | C18: …. aantal netto roosteruren voor deze groep per week… (wordt automatisch gevuld) | D18: =IFERROR(IF(D16>0,D16/(D11/7),""),"") | F18: =IF(D18="","","check: kloppen deze drie gele waarden met jullie administratie?")
B19: 16 | C19: …. aantal inroosterbare uren per fte begeleider per jaar… (wordt automatisch gevuld) | D19: =IFERROR(D16/D14,"")
B20: 17 | C20: …. aantal inroosterbare uren per fte begeleider per jaar komt overeen met productiviteit van…. (wordt automatisch gevuld) | D20: =IFERROR(D16/D15,"")
B21: 18 | C21: Begeleidingsintensiteit (wordt automatisch gevuld) | D21: =IFERROR( IF(AND(D5=Lijsten!$D$3,D7>=90%),D16/D12, IF(AND(D5=Lijsten!$D$3,D7<90%),D16/(D6*0.9*D11), IF(AND(D5<>Lijsten!$D$3,D7>=95%),D16/D12, IF(AND(D5<>Lijsten!$D$3,D7<95%),D16/(D6*0.95*D11))))),"")
B24: =IFERROR(IF(D5=Lijsten!$D$8,"DEZE REKENTOOL IS NIET BEDOELD VOOR CRISISVERBLIJF. GEBRUIK AUB DE REKENTOOL CRISISVERBLIJF",IF(D21>0,"Deze groep heeft "&INDEX(Lijsten!$F$3:$L$11,MATCH(ROUND($D$21,6),Lijsten!F3:F11,1),3)&". Begeleidingsintensiteit: "&TEXT(D21,"0,0")&". Bandbreedte ("&INDEX(Lijsten!H3:I11,MATCH(INDEX(Lijsten!$F$3:$L$11,MATCH(ROUND($D$21,6),Lijsten!F3:F11,1),3),Lijsten!$H$3:$H$11,0),2)&"). Tarief: "&TEXT(INDEX(Lijsten!$F$3:$L$11,MATCH(D21,Lijsten!F3:F11,1),7),"€000,00"),"Vul alle grijze velden in om de intensiteitsbepaling te zien.")),"Vul alle grijze velden in om de intensiteitsbepaling te zien.") -> Vul alle grijze velden in om de intensiteitsbepaling te zien.
B27: * Uitsluitend de volgende functies mogen hier worden meegeteld:
B28: ingroosterde uren van groepsbegeleiders
B29: ingroosterde uren van pedagogisch medewerkers
B30: ingroosterde uren van agogisch medewerkers
B31: bij driemilieuvoorzieningen: ingeroosterde uren van begeleiders op het terrein (niet direct aan één groep verbonden)
B33: De volgende functies tellen NIET mee:
B34: uren van begeleiders ingeroosterd voor individuele begeleiding / begeleiding thuis
B35: gastvrouw/gastheer
B36: gedragwetenschapper / alle wo opgeleide hulpverleners
B37: ambulant hulpverlener / (vak)therapeuten, behandelaars
B38: individueel begeleiders (uitzondering: bij kamertraining/begeleid wonen als er geen groepsbegeleiders zijn)

Sheet Verblijfsgroep 17
F2: Toelichting (zie ook tabblad invulinstructie)
C3: Kenmerken woon/verblijfgroep | D3: GEPLAND IN 2023
B4: 1 | C4: Naam groep
B5: 2 | C5: Welk type woon/verblijfgroep is dit? | F5: =IF(D5=Lijsten!$D$8,"DEZE REKENTOOL IS NIET BEDOELD VOOR CRISISVERBLIJF.","")
B6: 3 | C6: Aantal fysieke plaatsen / bedden / capaciteitsplaatsen van deze woon-/verblijfseenheid | F6: Tel alle capacteitisplaatsen mee, ongeacht voor welke wet of doelgroep ze worden ingezet
B7: 4 | C7: Bezettingsgraad (op jaarbasis) | F7: Vul of een realisatie 2021 in, of een verwachting voor 2023.
B8: 5 | C8: Feitelijk gemiddeld aantal bezette plaatsen (=capaciteit x bezettingsgraad, wordt automatisch gevuld) | D8: =D6*D7 -> 0
B9: 6 | C9: Wat voor type begeleiding heeft deze woon-/verblijfseenheid 's nachts? | F9: =IF(AND(D9=Lijsten!$M$4,D10>D6),"Als de slaapdienst meerdere groepen bedient, neem dan bij vraag 13 een evenredige doorbelasting van deze uren mee. Let op: uren slaapdienst tellen voor 50% mee.", IF(AND(D9=Lijsten!$M$4,D10=D6),"Tel bij vraag 13 de uren van de slapende wacht voor 50% mee (conform cao-bepalingen voor inconveniënte uren).", IF(AND(D9=Lijsten!$M$5,D10>D6),"Als de wakende dienst meerdere groepen bedient, neem dan bij vraag 13 een evenredige doorbelasting van deze uren mee.","")))
B10: 7 | C10: =IF(OR(D9="geen",$D$9=""),"","Voor hoeveel cliënten/patiënten is deze "&$D$9&" nachtdienst 's nachts verantwoordelijk?")
B11: 8 | C11: Feitelijk aantal openingsdagen 2023
B12: 9 | C12: Totale productie 2023 in verblijfsetmalen (wordt automatisch gevuld) | D12: =D11*D8 -> 0
B13: 10 | C13: ="Welk deel in procenten van deze "&TEXT(D12,"0.000")&" etmalen zal naar schatting in 2023 Haarlemmermeerse jeugdigen betreffen?" -> Welk deel in procenten van deze 0.000 etmalen zal naar schatting in 2023 Haarlemmermeerse jeugdigen betreffen? | F13: Deze vraag is uitsluitend bedoeld ter raming van de ingekochte capaciteit 2023
B14: 11 | C14: ="Totaal fte (in roosters werkende) begeleiders 2023 voor deze "&TEXT(D6,"0,0")&" bedden*" -> Totaal fte (in roosters werkende) begeleiders 2023 voor deze 0,0 bedden* | F14: Uitsluitend (groeps)begeleiders en pedagogisch medewerkers. Zie ook *
B15: 12 | C15: A: Totaal aantal bruto uren begeleiders in heel 2023 voor hele groep (wordt automatisch gevuld) | D15: =D14*(365/7)*36 -> 0
B16: 13 | C16: Waarvan B: feitelijk aantal netto roosteruren per jaar agogisch/leefklimaat in 2023 | F16: =IF(D9="slapend","Een slapende nachtdienst van 8 uur telt (voor de meeste cao's) mee als 4 uur per etmaal.","")
B17: 14 | C17: Waarvan C: indirect cliëntgebonden tijd en/of niet-cliëntgebonden tijdbesteding (A-B) (wordt automatisch gevuld) | D17: =IFERROR(IF(AND(D15>0,D16>0),D15-D16,""),"")
B18: 15 | C18: …. aantal netto roosteruren voor deze groep per week… (wordt automatisch gevuld) | D18: =IFERROR(IF(D16>0,D16/(D11/7),""),"") | F18: =IF(D18="","","check: kloppen deze drie gele waarden met jullie administratie?")
B19: 16 | C19: …. aantal inroosterbare uren per fte begeleider per jaar… (wordt automatisch gevuld) | D19: =IFERROR(D16/D14,"")
B20: 17 | C20: …. aantal inroosterbare uren per fte begeleider per jaar komt overeen met productiviteit van…. (wordt automatisch gevuld) | D20: =IFERROR(D16/D15,"")
B21: 18 | C21: Begeleidingsintensiteit (wordt automatisch gevuld) | D21: =IFERROR( IF(AND(D5=Lijsten!$D$3,D7>=90%),D16/D12, IF(AND(D5=Lijsten!$D$3,D7<90%),D16/(D6*0.9*D11), IF(AND(D5<>Lijsten!$D$3,D7>=95%),D16/D12, IF(AND(D5<>Lijsten!$D$3,D7<95%),D16/(D6*0.95*D11))))),"")
B24: =IFERROR(IF(D5=Lijsten!$D$8,"DEZE REKENTOOL IS NIET BEDOELD VOOR CRISISVERBLIJF. GEBRUIK AUB DE REKENTOOL CRISISVERBLIJF",IF(D21>0,"Deze groep heeft "&INDEX(Lijsten!$F$3:$L$11,MATCH(ROUND($D$21,6),Lijsten!F3:F11,1),3)&". Begeleidingsintensiteit: "&TEXT(D21,"0,0")&". Bandbreedte ("&INDEX(Lijsten!H3:I11,MATCH(INDEX(Lijsten!$F$3:$L$11,MATCH(ROUND($D$21,6),Lijsten!F3:F11,1),3),Lijsten!$H$3:$H$11,0),2)&"). Tarief: "&TEXT(INDEX(Lijsten!$F$3:$L$11,MATCH(D21,Lijsten!F3:F11,1),7),"€000,00"),"Vul alle grijze velden in om de intensiteitsbepaling te zien.")),"Vul alle grijze velden in om de intensiteitsbepaling te zien.") -> Vul alle grijze velden in om de intensiteitsbepaling te zien.
B27: * Uitsluitend de volgende functies mogen hier worden meegeteld:
B28: ingroosterde uren van groepsbegeleiders
B29: ingroosterde uren van pedagogisch medewerkers
B30: ingroosterde uren van agogisch medewerkers
B31: bij driemilieuvoorzieningen: ingeroosterde uren van begeleiders op het terrein (niet direct aan één groep verbonden)
B33: De volgende functies tellen NIET mee:
B34: uren van begeleiders ingeroosterd voor individuele begeleiding / begeleiding thuis
B35: gastvrouw/gastheer
B36: gedragwetenschapper / alle wo opgeleide hulpverleners
B37: ambulant hulpverlener / (vak)therapeuten, behandelaars
B38: individueel begeleiders (uitzondering: bij kamertraining/begeleid wonen als er geen groepsbegeleiders zijn)

Sheet Verblijfsgroep 18
F2: Toelichting (zie ook tabblad invulinstructie)
C3: Kenmerken woon/verblijfgroep | D3: GEPLAND IN 2023
B4: 1 | C4: Naam groep
B5: 2 | C5: Welk type woon/verblijfgroep is dit? | F5: =IF(D5=Lijsten!$D$8,"DEZE REKENTOOL IS NIET BEDOELD VOOR CRISISVERBLIJF.","")
B6: 3 | C6: Aantal fysieke plaatsen / bedden / capaciteitsplaatsen van deze woon-/verblijfseenheid | F6: Tel alle capacteitisplaatsen mee, ongeacht voor welke wet of doelgroep ze worden ingezet
B7: 4 | C7: Bezettingsgraad (op jaarbasis) | F7: Vul of een realisatie 2021 in, of een verwachting voor 2023.
B8: 5 | C8: Feitelijk gemiddeld aantal bezette plaatsen (=capaciteit x bezettingsgraad, wordt automatisch gevuld) | D8: =D6*D7 -> 0
B9: 6 | C9: Wat voor type begeleiding heeft deze woon-/verblijfseenheid 's nachts? | F9: =IF(AND(D9=Lijsten!$M$4,D10>D6),"Als de slaapdienst meerdere groepen bedient, neem dan bij vraag 13 een evenredige doorbelasting van deze uren mee. Let op: uren slaapdienst tellen voor 50% mee.", IF(AND(D9=Lijsten!$M$4,D10=D6),"Tel bij vraag 13 de uren van de slapende wacht voor 50% mee (conform cao-bepalingen voor inconveniënte uren).", IF(AND(D9=Lijsten!$M$5,D10>D6),"Als de wakende dienst meerdere groepen bedient, neem dan bij vraag 13 een evenredige doorbelasting van deze uren mee.","")))
B10: 7 | C10: =IF(OR(D9="geen",$D$9=""),"","Voor hoeveel cliënten/patiënten is deze "&$D$9&" nachtdienst 's nachts verantwoordelijk?")
B11: 8 | C11: Feitelijk aantal openingsdagen 2023
B12: 9 | C12: Totale productie 2023 in verblijfsetmalen (wordt automatisch gevuld) | D12: =D11*D8 -> 0
B13: 10 | C13: ="Welk deel in procenten van deze "&TEXT(D12,"0.000")&" etmalen zal naar schatting in 2023 Haarlemmermeerse jeugdigen betreffen?" -> Welk deel in procenten van deze 0.000 etmalen zal naar schatting in 2023 Haarlemmermeerse jeugdigen betreffen? | F13: Deze vraag is uitsluitend bedoeld ter raming van de ingekochte capaciteit 2023
B14: 11 | C14: ="Totaal fte (in roosters werkende) begeleiders 2023 voor deze "&TEXT(D6,"0,0")&" bedden*" -> Totaal fte (in roosters werkende) begeleiders 2023 voor deze 0,0 bedden* | F14: Uitsluitend (groeps)begeleiders en pedagogisch medewerkers. Zie ook *
B15: 12 | C15: A: Totaal aantal bruto uren begeleiders in heel 2023 voor hele groep (wordt automatisch gevuld) | D15: =D14*(365/7)*36 -> 0
B16: 13 | C16: Waarvan B: feitelijk aantal netto roosteruren per jaar agogisch/leefklimaat in 2023 | F16: =IF(D9="slapend","Een slapende nachtdienst van 8 uur telt (voor de meeste cao's) mee als 4 uur per etmaal.","")
B17: 14 | C17: Waarvan C: indirect cliëntgebonden tijd en/of niet-cliëntgebonden tijdbesteding (A-B) (wordt automatisch gevuld) | D17: =IFERROR(IF(AND(D15>0,D16>0),D15-D16,""),"")
B18: 15 | C18: …. aantal netto roosteruren voor deze groep per week… (wordt automatisch gevuld) | D18: =IFERROR(IF(D16>0,D16/(D11/7),""),"") | F18: =IF(D18="","","check: kloppen deze drie gele waarden met jullie administratie?")
B19: 16 | C19: …. aantal inroosterbare uren per fte begeleider per jaar… (wordt automatisch gevuld) | D19: =IFERROR(D16/D14,"")
B20: 17 | C20: …. aantal inroosterbare uren per fte begeleider per jaar komt overeen met productiviteit van…. (wordt automatisch gevuld) | D20: =IFERROR(D16/D15,"")
B21: 18 | C21: Begeleidingsintensiteit (wordt automatisch gevuld) | D21: =IFERROR( IF(AND(D5=Lijsten!$D$3,D7>=90%),D16/D12, IF(AND(D5=Lijsten!$D$3,D7<90%),D16/(D6*0.9*D11), IF(AND(D5<>Lijsten!$D$3,D7>=95%),D16/D12, IF(AND(D5<>Lijsten!$D$3,D7<95%),D16/(D6*0.95*D11))))),"")
B24: =IFERROR(IF(D5=Lijsten!$D$8,"DEZE REKENTOOL IS NIET BEDOELD VOOR CRISISVERBLIJF. GEBRUIK AUB DE REKENTOOL CRISISVERBLIJF",IF(D21>0,"Deze groep heeft "&INDEX(Lijsten!$F$3:$L$11,MATCH(ROUND($D$21,6),Lijsten!F3:F11,1),3)&". Begeleidingsintensiteit: "&TEXT(D21,"0,0")&". Bandbreedte ("&INDEX(Lijsten!H3:I11,MATCH(INDEX(Lijsten!$F$3:$L$11,MATCH(ROUND($D$21,6),Lijsten!F3:F11,1),3),Lijsten!$H$3:$H$11,0),2)&"). Tarief: "&TEXT(INDEX(Lijsten!$F$3:$L$11,MATCH(D21,Lijsten!F3:F11,1),7),"€000,00"),"Vul alle grijze velden in om de intensiteitsbepaling te zien.")),"Vul alle grijze velden in om de intensiteitsbepaling te zien.") -> Vul alle grijze velden in om de intensiteitsbepaling te zien.
B27: * Uitsluitend de volgende functies mogen hier worden meegeteld:
B28: ingroosterde uren van groepsbegeleiders
B29: ingroosterde uren van pedagogisch medewerkers
B30: ingroosterde uren van agogisch medewerkers
B31: bij driemilieuvoorzieningen: ingeroosterde uren van begeleiders op het terrein (niet direct aan één groep verbonden)
B33: De volgende functies tellen NIET mee:
B34: uren van begeleiders ingeroosterd voor individuele begeleiding / begeleiding thuis
B35: gastvrouw/gastheer
B36: gedragwetenschapper / alle wo opgeleide hulpverleners
B37: ambulant hulpverlener / (vak)therapeuten, behandelaars
B38: individueel begeleiders (uitzondering: bij kamertraining/begeleid wonen als er geen groepsbegeleiders zijn)

Sheet Verblijfsgroep 19
F2: Toelichting (zie ook tabblad invulinstructie)
C3: Kenmerken woon/verblijfgroep | D3: GEPLAND IN 2023
B4: 1 | C4: Naam groep
B5: 2 | C5: Welk type woon/verblijfgroep is dit? | F5: =IF(D5=Lijsten!$D$8,"DEZE REKENTOOL IS NIET BEDOELD VOOR CRISISVERBLIJF.","")
B6: 3 | C6: Aantal fysieke plaatsen / bedden / capaciteitsplaatsen van deze woon-/verblijfseenheid | F6: Tel alle capacteitisplaatsen mee, ongeacht voor welke wet of doelgroep ze worden ingezet
B7: 4 | C7: Bezettingsgraad (op jaarbasis) | F7: Vul of een realisatie 2021 in, of een verwachting voor 2023.
B8: 5 | C8: Feitelijk gemiddeld aantal bezette plaatsen (=capaciteit x bezettingsgraad, wordt automatisch gevuld) | D8: =D6*D7 -> 0
B9: 6 | C9: Wat voor type begeleiding heeft deze woon-/verblijfseenheid 's nachts? | F9: =IF(AND(D9=Lijsten!$M$4,D10>D6),"Als de slaapdienst meerdere groepen bedient, neem dan bij vraag 13 een evenredige doorbelasting van deze uren mee. Let op: uren slaapdienst tellen voor 50% mee.", IF(AND(D9=Lijsten!$M$4,D10=D6),"Tel bij vraag 13 de uren van de slapende wacht voor 50% mee (conform cao-bepalingen voor inconveniënte uren).", IF(AND(D9=Lijsten!$M$5,D10>D6),"Als de wakende dienst meerdere groepen bedient, neem dan bij vraag 13 een evenredige doorbelasting van deze uren mee.","")))
B10: 7 | C10: =IF(OR(D9="geen",$D$9=""),"","Voor hoeveel cliënten/patiënten is deze "&$D$9&" nachtdienst 's nachts verantwoordelijk?")
B11: 8 | C11: Feitelijk aantal openingsdagen 2023
B12: 9 | C12: Totale productie 2023 in verblijfsetmalen (wordt automatisch gevuld) | D12: =D11*D8 -> 0
B13: 10 | C13: ="Welk deel in procenten van deze "&TEXT(D12,"0.000")&" etmalen zal naar schatting in 2023 Haarlemmermeerse jeugdigen betreffen?" -> Welk deel in procenten van deze 0.000 etmalen zal naar schatting in 2023 Haarlemmermeerse jeugdigen betreffen? | F13: Deze vraag is uitsluitend bedoeld ter raming van de ingekochte capaciteit 2023
B14: 11 | C14: ="Totaal fte (in roosters werkende) begeleiders 2023 voor deze "&TEXT(D6,"0,0")&" bedden*" -> Totaal fte (in roosters werkende) begeleiders 2023 voor deze 0,0 bedden* | F14: Uitsluitend (groeps)begeleiders en pedagogisch medewerkers. Zie ook *
B15: 12 | C15: A: Totaal aantal bruto uren begeleiders in heel 2023 voor hele groep (wordt automatisch gevuld) | D15: =D14*(365/7)*36 -> 0
B16: 13 | C16: Waarvan B: feitelijk aantal netto roosteruren per jaar agogisch/leefklimaat in 2023 | F16: =IF(D9="slapend","Een slapende nachtdienst van 8 uur telt (voor de meeste cao's) mee als 4 uur per etmaal.","")
B17: 14 | C17: Waarvan C: indirect cliëntgebonden tijd en/of niet-cliëntgebonden tijdbesteding (A-B) (wordt automatisch gevuld) | D17: =IFERROR(IF(AND(D15>0,D16>0),D15-D16,""),"")
B18: 15 | C18: …. aantal netto roosteruren voor deze groep per week… (wordt automatisch gevuld) | D18: =IFERROR(IF(D16>0,D16/(D11/7),""),"") | F18: =IF(D18="","","check: kloppen deze drie gele waarden met jullie administratie?")
B19: 16 | C19: …. aantal inroosterbare uren per fte begeleider per jaar… (wordt automatisch gevuld) | D19: =IFERROR(D16/D14,"")
B20: 17 | C20: …. aantal inroosterbare uren per fte begeleider per jaar komt overeen met productiviteit van…. (wordt automatisch gevuld) | D20: =IFERROR(D16/D15,"")
B21: 18 | C21: Begeleidingsintensiteit (wordt automatisch gevuld) | D21: =IFERROR( IF(AND(D5=Lijsten!$D$3,D7>=90%),D16/D12, IF(AND(D5=Lijsten!$D$3,D7<90%),D16/(D6*0.9*D11), IF(AND(D5<>Lijsten!$D$3,D7>=95%),D16/D12, IF(AND(D5<>Lijsten!$D$3,D7<95%),D16/(D6*0.95*D11))))),"")
B24: =IFERROR(IF(D5=Lijsten!$D$8,"DEZE REKENTOOL IS NIET BEDOELD VOOR CRISISVERBLIJF. GEBRUIK AUB DE REKENTOOL CRISISVERBLIJF",IF(D21>0,"Deze groep heeft "&INDEX(Lijsten!$F$3:$L$11,MATCH(ROUND($D$21,6),Lijsten!F3:F11,1),3)&". Begeleidingsintensiteit: "&TEXT(D21,"0,0")&". Bandbreedte ("&INDEX(Lijsten!H3:I11,MATCH(INDEX(Lijsten!$F$3:$L$11,MATCH(ROUND($D$21,6),Lijsten!F3:F11,1),3),Lijsten!$H$3:$H$11,0),2)&"). Tarief: "&TEXT(INDEX(Lijsten!$F$3:$L$11,MATCH(D21,Lijsten!F3:F11,1),7),"€000,00"),"Vul alle grijze velden in om de intensiteitsbepaling te zien.")),"Vul alle grijze velden in om de intensiteitsbepaling te zien.") -> Vul alle grijze velden in om de intensiteitsbepaling te zien.
B27: * Uitsluitend de volgende functies mogen hier worden meegeteld:
B28: ingroosterde uren van groepsbegeleiders
B29: ingroosterde uren van pedagogisch medewerkers
B30: ingroosterde uren van agogisch medewerkers
B31: bij driemilieuvoorzieningen: ingeroosterde uren van begeleiders op het terrein (niet direct aan één groep verbonden)
B33: De volgende functies tellen NIET mee:
B34: uren van begeleiders ingeroosterd voor individuele begeleiding / begeleiding thuis
B35: gastvrouw/gastheer
B36: gedragwetenschapper / alle wo opgeleide hulpverleners
B37: ambulant hulpverlener / (vak)therapeuten, behandelaars
B38: individueel begeleiders (uitzondering: bij kamertraining/begeleid wonen als er geen groepsbegeleiders zijn)

Sheet Verblijfsgroep 20
F2: Toelichting (zie ook tabblad invulinstructie)
C3: Kenmerken woon/verblijfgroep | D3: GEPLAND IN 2023
B4: 1 | C4: Naam groep
B5: 2 | C5: Welk type woon/verblijfgroep is dit? | F5: =IF(D5=Lijsten!$D$8,"DEZE REKENTOOL IS NIET BEDOELD VOOR CRISISVERBLIJF.","")
B6: 3 | C6: Aantal fysieke plaatsen / bedden / capaciteitsplaatsen van deze woon-/verblijfseenheid | F6: Tel alle capacteitisplaatsen mee, ongeacht voor welke wet of doelgroep ze worden ingezet
B7: 4 | C7: Bezettingsgraad (op jaarbasis) | F7: Vul of een realisatie 2021 in, of een verwachting voor 2023.
B8: 5 | C8: Feitelijk gemiddeld aantal bezette plaatsen (=capaciteit x bezettingsgraad, wordt automatisch gevuld) | D8: =D6*D7 -> 0
B9: 6 | C9: Wat voor type begeleiding heeft deze woon-/verblijfseenheid 's nachts? | F9: =IF(AND(D9=Lijsten!$M$4,D10>D6),"Als de slaapdienst meerdere groepen bedient, neem dan bij vraag 13 een evenredige doorbelasting van deze uren mee. Let op: uren slaapdienst tellen voor 50% mee.", IF(AND(D9=Lijsten!$M$4,D10=D6),"Tel bij vraag 13 de uren van de slapende wacht voor 50% mee (conform cao-bepalingen voor inconveniënte uren).", IF(AND(D9=Lijsten!$M$5,D10>D6),"Als de wakende dienst meerdere groepen bedient, neem dan bij vraag 13 een evenredige doorbelasting van deze uren mee.","")))
B10: 7 | C10: =IF(OR(D9="geen",$D$9=""),"","Voor hoeveel cliënten/patiënten is deze "&$D$9&" nachtdienst 's nachts verantwoordelijk?")
B11: 8 | C11: Feitelijk aantal openingsdagen 2023
B12: 9 | C12: Totale productie 2023 in verblijfsetmalen (wordt automatisch gevuld) | D12: =D11*D8 -> 0
B13: 10 | C13: ="Welk deel in procenten van deze "&TEXT(D12,"0.000")&" etmalen zal naar schatting in 2023 Haarlemmermeerse jeugdigen betreffen?" -> Welk deel in procenten van deze 0.000 etmalen zal naar schatting in 2023 Haarlemmermeerse jeugdigen betreffen? | F13: Deze vraag is uitsluitend bedoeld ter raming van de ingekochte capaciteit 2023
B14: 11 | C14: ="Totaal fte (in roosters werkende) begeleiders 2023 voor deze "&TEXT(D6,"0,0")&" bedden*" -> Totaal fte (in roosters werkende) begeleiders 2023 voor deze 0,0 bedden* | F14: Uitsluitend (groeps)begeleiders en pedagogisch medewerkers. Zie ook *
B15: 12 | C15: A: Totaal aantal bruto uren begeleiders in heel 2023 voor hele groep (wordt automatisch gevuld) | D15: =D14*(365/7)*36 -> 0
B16: 13 | C16: Waarvan B: feitelijk aantal netto roosteruren per jaar agogisch/leefklimaat in 2023 | F16: =IF(D9="slapend","Een slapende nachtdienst van 8 uur telt (voor de meeste cao's) mee als 4 uur per etmaal.","")
B17: 14 | C17: Waarvan C: indirect cliëntgebonden tijd en/of niet-cliëntgebonden tijdbesteding (A-B) (wordt automatisch gevuld) | D17: =IFERROR(IF(AND(D15>0,D16>0),D15-D16,""),"")
B18: 15 | C18: …. aantal netto roosteruren voor deze groep per week… (wordt automatisch gevuld) | D18: =IFERROR(IF(D16>0,D16/(D11/7),""),"") | F18: =IF(D18="","","check: kloppen deze drie gele waarden met jullie administratie?")
B19: 16 | C19: …. aantal inroosterbare uren per fte begeleider per jaar… (wordt automatisch gevuld) | D19: =IFERROR(D16/D14,"")
B20: 17 | C20: …. aantal inroosterbare uren per fte begeleider per jaar komt overeen met productiviteit van…. (wordt automatisch gevuld) | D20: =IFERROR(D16/D15,"")
B21: 18 | C21: Begeleidingsintensiteit (wordt automatisch gevuld) | D21: =IFERROR( IF(AND(D5=Lijsten!$D$3,D7>=90%),D16/D12, IF(AND(D5=Lijsten!$D$3,D7<90%),D16/(D6*0.9*D11), IF(AND(D5<>Lijsten!$D$3,D7>=95%),D16/D12, IF(AND(D5<>Lijsten!$D$3,D7<95%),D16/(D6*0.95*D11))))),"")
B24: =IFERROR(IF(D5=Lijsten!$D$8,"DEZE REKENTOOL IS NIET BEDOELD VOOR CRISISVERBLIJF. GEBRUIK AUB DE REKENTOOL CRISISVERBLIJF",IF(D21>0,"Deze groep heeft "&INDEX(Lijsten!$F$3:$L$11,MATCH(ROUND($D$21,6),Lijsten!F3:F11,1),3)&". Begeleidingsintensiteit: "&TEXT(D21,"0,0")&". Bandbreedte ("&INDEX(Lijsten!H3:I11,MATCH(INDEX(Lijsten!$F$3:$L$11,MATCH(ROUND($D$21,6),Lijsten!F3:F11,1),3),Lijsten!$H$3:$H$11,0),2)&"). Tarief: "&TEXT(INDEX(Lijsten!$F$3:$L$11,MATCH(D21,Lijsten!F3:F11,1),7),"€000,00"),"Vul alle grijze velden in om de intensiteitsbepaling te zien.")),"Vul alle grijze velden in om de intensiteitsbepaling te zien.") -> Vul alle grijze velden in om de intensiteitsbepaling te zien.
B27: * Uitsluitend de volgende functies mogen hier worden meegeteld:
B28: ingroosterde uren van groepsbegeleiders
B29: ingroosterde uren van pedagogisch medewerkers
B30: ingroosterde uren van agogisch medewerkers
B31: bij driemilieuvoorzieningen: ingeroosterde uren van begeleiders op het terrein (niet direct aan één groep verbonden)
B33: De volgende functies tellen NIET mee:
B34: uren van begeleiders ingeroosterd voor individuele begeleiding / begeleiding thuis
B35: gastvrouw/gastheer
B36: gedragwetenschapper / alle wo opgeleide hulpverleners
B37: ambulant hulpverlener / (vak)therapeuten, behandelaars
B38: individueel begeleiders (uitzondering: bij kamertraining/begeleid wonen als er geen groepsbegeleiders zijn)

Sheet Verblijfsgroep 21
F2: Toelichting (zie ook tabblad invulinstructie)
C3: Kenmerken woon/verblijfgroep | D3: GEPLAND IN 2023
B4: 1 | C4: Naam groep
B5: 2 | C5: Welk type woon/verblijfgroep is dit? | F5: =IF(D5=Lijsten!$D$8,"DEZE REKENTOOL IS NIET BEDOELD VOOR CRISISVERBLIJF.","")
B6: 3 | C6: Aantal fysieke plaatsen / bedden / capaciteitsplaatsen van deze woon-/verblijfseenheid | F6: Tel alle capacteitisplaatsen mee, ongeacht voor welke wet of doelgroep ze worden ingezet
B7: 4 | C7: Bezettingsgraad (op jaarbasis) | F7: Vul of een realisatie 2021 in, of een verwachting voor 2023.
B8: 5 | C8: Feitelijk gemiddeld aantal bezette plaatsen (=capaciteit x bezettingsgraad, wordt automatisch gevuld) | D8: =D6*D7 -> 0
B9: 6 | C9: Wat voor type begeleiding heeft deze woon-/verblijfseenheid 's nachts? | F9: =IF(AND(D9=Lijsten!$M$4,D10>D6),"Als de slaapdienst meerdere groepen bedient, neem dan bij vraag 13 een evenredige doorbelasting van deze uren mee. Let op: uren slaapdienst tellen voor 50% mee.", IF(AND(D9=Lijsten!$M$4,D10=D6),"Tel bij vraag 13 de uren van de slapende wacht voor 50% mee (conform cao-bepalingen voor inconveniënte uren).", IF(AND(D9=Lijsten!$M$5,D10>D6),"Als de wakende dienst meerdere groepen bedient, neem dan bij vraag 13 een evenredige doorbelasting van deze uren mee.","")))
B10: 7 | C10: =IF(OR(D9="geen",$D$9=""),"","Voor hoeveel cliënten/patiënten is deze "&$D$9&" nachtdienst 's nachts verantwoordelijk?")
B11: 8 | C11: Feitelijk aantal openingsdagen 2023
B12: 9 | C12: Totale productie 2023 in verblijfsetmalen (wordt automatisch gevuld) | D12: =D11*D8 -> 0
B13: 10 | C13: ="Welk deel in procenten van deze "&TEXT(D12,"0.000")&" etmalen zal naar schatting in 2023 Haarlemmermeerse jeugdigen betreffen?" -> Welk deel in procenten van deze 0.000 etmalen zal naar schatting in 2023 Haarlemmermeerse jeugdigen betreffen? | F13: Deze vraag is uitsluitend bedoeld ter raming van de ingekochte capaciteit 2023
B14: 11 | C14: ="Totaal fte (in roosters werkende) begeleiders 2023 voor deze "&TEXT(D6,"0,0")&" bedden*" -> Totaal fte (in roosters werkende) begeleiders 2023 voor deze 0,0 bedden* | F14: Uitsluitend (groeps)begeleiders en pedagogisch medewerkers. Zie ook *
B15: 12 | C15: A: Totaal aantal bruto uren begeleiders in heel 2023 voor hele groep (wordt automatisch gevuld) | D15: =D14*(365/7)*36 -> 0
B16: 13 | C16: Waarvan B: feitelijk aantal netto roosteruren per jaar agogisch/leefklimaat in 2023 | F16: =IF(D9="slapend","Een slapende nachtdienst van 8 uur telt (voor de meeste cao's) mee als 4 uur per etmaal.","")
B17: 14 | C17: Waarvan C: indirect cliëntgebonden tijd en/of niet-cliëntgebonden tijdbesteding (A-B) (wordt automatisch gevuld) | D17: =IFERROR(IF(AND(D15>0,D16>0),D15-D16,""),"")
B18: 15 | C18: …. aantal netto roosteruren voor deze groep per week… (wordt automatisch gevuld) | D18: =IFERROR(IF(D16>0,D16/(D11/7),""),"") | F18: =IF(D18="","","check: kloppen deze drie gele waarden met jullie administratie?")
B19: 16 | C19: …. aantal inroosterbare uren per fte begeleider per jaar… (wordt automatisch gevuld) | D19: =IFERROR(D16/D14,"")
B20: 17 | C20: …. aantal inroosterbare uren per fte begeleider per jaar komt overeen met productiviteit van…. (wordt automatisch gevuld) | D20: =IFERROR(D16/D15,"")
B21: 18 | C21: Begeleidingsintensiteit (wordt automatisch gevuld) | D21: =IFERROR( IF(AND(D5=Lijsten!$D$3,D7>=90%),D16/D12, IF(AND(D5=Lijsten!$D$3,D7<90%),D16/(D6*0.9*D11), IF(AND(D5<>Lijsten!$D$3,D7>=95%),D16/D12, IF(AND(D5<>Lijsten!$D$3,D7<95%),D16/(D6*0.95*D11))))),"")
B24: =IFERROR(IF(D5=Lijsten!$D$8,"DEZE REKENTOOL IS NIET BEDOELD VOOR CRISISVERBLIJF. GEBRUIK AUB DE REKENTOOL CRISISVERBLIJF",IF(D21>0,"Deze groep heeft "&INDEX(Lijsten!$F$3:$L$11,MATCH(ROUND($D$21,6),Lijsten!F3:F11,1),3)&". Begeleidingsintensiteit: "&TEXT(D21,"0,0")&". Bandbreedte ("&INDEX(Lijsten!H3:I11,MATCH(INDEX(Lijsten!$F$3:$L$11,MATCH(ROUND($D$21,6),Lijsten!F3:F11,1),3),Lijsten!$H$3:$H$11,0),2)&"). Tarief: "&TEXT(INDEX(Lijsten!$F$3:$L$11,MATCH(D21,Lijsten!F3:F11,1),7),"€000,00"),"Vul alle grijze velden in om de intensiteitsbepaling te zien.")),"Vul alle grijze velden in om de intensiteitsbepaling te zien.") -> Vul alle grijze velden in om de intensiteitsbepaling te zien.
B27: * Uitsluitend de volgende functies mogen hier worden meegeteld:
B28: ingroosterde uren van groepsbegeleiders
B29: ingroosterde uren van pedagogisch medewerkers
B30: ingroosterde uren van agogisch medewerkers
B31: bij driemilieuvoorzieningen: ingeroosterde uren van begeleiders op het terrein (niet direct aan één groep verbonden)
B33: De volgende functies tellen NIET mee:
B34: uren van begeleiders ingeroosterd voor individuele begeleiding / begeleiding thuis
B35: gastvrouw/gastheer
B36: gedragwetenschapper / alle wo opgeleide hulpverleners
B37: ambulant hulpverlener / (vak)therapeuten, behandelaars
B38: individueel begeleiders (uitzondering: bij kamertraining/begeleid wonen als er geen groepsbegeleiders zijn)

Sheet Verblijfsgroep 22
F2: Toelichting (zie ook tabblad invulinstructie)
C3: Kenmerken woon/verblijfgroep | D3: GEPLAND IN 2023
B4: 1 | C4: Naam groep
B5: 2 | C5: Welk type woon/verblijfgroep is dit? | F5: =IF(D5=Lijsten!$D$8,"DEZE REKENTOOL IS NIET BEDOELD VOOR CRISISVERBLIJF.","")
B6: 3 | C6: Aantal fysieke plaatsen / bedden / capaciteitsplaatsen van deze woon-/verblijfseenheid | F6: Tel alle capacteitisplaatsen mee, ongeacht voor welke wet of doelgroep ze worden ingezet
B7: 4 | C7: Bezettingsgraad (op jaarbasis) | F7: Vul of een realisatie 2021 in, of een verwachting voor 2023.
B8: 5 | C8: Feitelijk gemiddeld aantal bezette plaatsen (=capaciteit x bezettingsgraad, wordt automatisch gevuld) | D8: =D6*D7 -> 0
B9: 6 | C9: Wat voor type begeleiding heeft deze woon-/verblijfseenheid 's nachts? | F9: =IF(AND(D9=Lijsten!$M$4,D10>D6),"Als de slaapdienst meerdere groepen bedient, neem dan bij vraag 13 een evenredige doorbelasting van deze uren mee. Let op: uren slaapdienst tellen voor 50% mee.", IF(AND(D9=Lijsten!$M$4,D10=D6),"Tel bij vraag 13 de uren van de slapende wacht voor 50% mee (conform cao-bepalingen voor inconveniënte uren).", IF(AND(D9=Lijsten!$M$5,D10>D6),"Als de wakende dienst meerdere groepen bedient, neem dan bij vraag 13 een evenredige doorbelasting van deze uren mee.","")))
B10: 7 | C10: =IF(OR(D9="geen",$D$9=""),"","Voor hoeveel cliënten/patiënten is deze "&$D$9&" nachtdienst 's nachts verantwoordelijk?")
B11: 8 | C11: Feitelijk aantal openingsdagen 2023
B12: 9 | C12: Totale productie 2023 in verblijfsetmalen (wordt automatisch gevuld) | D12: =D11*D8 -> 0
B13: 10 | C13: ="Welk deel in procenten van deze "&TEXT(D12,"0.000")&" etmalen zal naar schatting in 2023 Haarlemmermeerse jeugdigen betreffen?" -> Welk deel in procenten van deze 0.000 etmalen zal naar schatting in 2023 Haarlemmermeerse jeugdigen betreffen? | F13: Deze vraag is uitsluitend bedoeld ter raming van de ingekochte capaciteit 2023
B14: 11 | C14: ="Totaal fte (in roosters werkende) begeleiders 2023 voor deze "&TEXT(D6,"0,0")&" bedden*" -> Totaal fte (in roosters werkende) begeleiders 2023 voor deze 0,0 bedden* | F14: Uitsluitend (groeps)begeleiders en pedagogisch medewerkers. Zie ook *
B15: 12 | C15: A: Totaal aantal bruto uren begeleiders in heel 2023 voor hele groep (wordt automatisch gevuld) | D15: =D14*(365/7)*36 -> 0
B16: 13 | C16: Waarvan B: feitelijk aantal netto roosteruren per jaar agogisch/leefklimaat in 2023 | F16: =IF(D9="slapend","Een slapende nachtdienst van 8 uur telt (voor de meeste cao's) mee als 4 uur per etmaal.","")
B17: 14 | C17: Waarvan C: indirect cliëntgebonden tijd en/of niet-cliëntgebonden tijdbesteding (A-B) (wordt automatisch gevuld) | D17: =IFERROR(IF(AND(D15>0,D16>0),D15-D16,""),"")
B18: 15 | C18: …. aantal netto roosteruren voor deze groep per week… (wordt automatisch gevuld) | D18: =IFERROR(IF(D16>0,D16/(D11/7),""),"") | F18: =IF(D18="","","check: kloppen deze drie gele waarden met jullie administratie?")
B19: 16 | C19: …. aantal inroosterbare uren per fte begeleider per jaar… (wordt automatisch gevuld) | D19: =IFERROR(D16/D14,"")
B20: 17 | C20: …. aantal inroosterbare uren per fte begeleider per jaar komt overeen met productiviteit van…. (wordt automatisch gevuld) | D20: =IFERROR(D16/D15,"")
B21: 18 | C21: Begeleidingsintensiteit (wordt automatisch gevuld) | D21: =IFERROR( IF(AND(D5=Lijsten!$D$3,D7>=90%),D16/D12, IF(AND(D5=Lijsten!$D$3,D7<90%),D16/(D6*0.9*D11), IF(AND(D5<>Lijsten!$D$3,D7>=95%),D16/D12, IF(AND(D5<>Lijsten!$D$3,D7<95%),D16/(D6*0.95*D11))))),"")
B24: =IFERROR(IF(D5=Lijsten!$D$8,"DEZE REKENTOOL IS NIET BEDOELD VOOR CRISISVERBLIJF. GEBRUIK AUB DE REKENTOOL CRISISVERBLIJF",IF(D21>0,"Deze groep heeft "&INDEX(Lijsten!$F$3:$L$11,MATCH(ROUND($D$21,6),Lijsten!F3:F11,1),3)&". Begeleidingsintensiteit: "&TEXT(D21,"0,0")&". Bandbreedte ("&INDEX(Lijsten!H3:I11,MATCH(INDEX(Lijsten!$F$3:$L$11,MATCH(ROUND($D$21,6),Lijsten!F3:F11,1),3),Lijsten!$H$3:$H$11,0),2)&"). Tarief: "&TEXT(INDEX(Lijsten!$F$3:$L$11,MATCH(D21,Lijsten!F3:F11,1),7),"€000,00"),"Vul alle grijze velden in om de intensiteitsbepaling te zien.")),"Vul alle grijze velden in om de intensiteitsbepaling te zien.") -> Vul alle grijze velden in om de intensiteitsbepaling te zien.
B27: * Uitsluitend de volgende functies mogen hier worden meegeteld:
B28: ingroosterde uren van groepsbegeleiders
B29: ingroosterde uren van pedagogisch medewerkers
B30: ingroosterde uren van agogisch medewerkers
B31: bij driemilieuvoorzieningen: ingeroosterde uren van begeleiders op het terrein (niet direct aan één groep verbonden)
B33: De volgende functies tellen NIET mee:
B34: uren van begeleiders ingeroosterd voor individuele begeleiding / begeleiding thuis
B35: gastvrouw/gastheer
B36: gedragwetenschapper / alle wo opgeleide hulpverleners
B37: ambulant hulpverlener / (vak)therapeuten, behandelaars
B38: individueel begeleiders (uitzondering: bij kamertraining/begeleid wonen als er geen groepsbegeleiders zijn)

Sheet Verblijfsgroep 23
F2: Toelichting (zie ook tabblad invulinstructie)
C3: Kenmerken woon/verblijfgroep | D3: GEPLAND IN 2023
B4: 1 | C4: Naam groep
B5: 2 | C5: Welk type woon/verblijfgroep is dit? | F5: =IF(D5=Lijsten!$D$8,"DEZE REKENTOOL IS NIET BEDOELD VOOR CRISISVERBLIJF.","")
B6: 3 | C6: Aantal fysieke plaatsen / bedden / capaciteitsplaatsen van deze woon-/verblijfseenheid | F6: Tel alle capacteitisplaatsen mee, ongeacht voor welke wet of doelgroep ze worden ingezet
B7: 4 | C7: Bezettingsgraad (op jaarbasis) | F7: Vul of een realisatie 2021 in, of een verwachting voor 2023.
B8: 5 | C8: Feitelijk gemiddeld aantal bezette plaatsen (=capaciteit x bezettingsgraad, wordt automatisch gevuld) | D8: =D6*D7 -> 0
B9: 6 | C9: Wat voor type begeleiding heeft deze woon-/verblijfseenheid 's nachts? | F9: =IF(AND(D9=Lijsten!$M$4,D10>D6),"Als de slaapdienst meerdere groepen bedient, neem dan bij vraag 13 een evenredige doorbelasting van deze uren mee. Let op: uren slaapdienst tellen voor 50% mee.", IF(AND(D9=Lijsten!$M$4,D10=D6),"Tel bij vraag 13 de uren van de slapende wacht voor 50% mee (conform cao-bepalingen voor inconveniënte uren).", IF(AND(D9=Lijsten!$M$5,D10>D6),"Als de wakende dienst meerdere groepen bedient, neem dan bij vraag 13 een evenredige doorbelasting van deze uren mee.","")))
B10: 7 | C10: =IF(OR(D9="geen",$D$9=""),"","Voor hoeveel cliënten/patiënten is deze "&$D$9&" nachtdienst 's nachts verantwoordelijk?")
B11: 8 | C11: Feitelijk aantal openingsdagen 2023
B12: 9 | C12: Totale productie 2023 in verblijfsetmalen (wordt automatisch gevuld) | D12: =D11*D8 -> 0
B13: 10 | C13: ="Welk deel in procenten van deze "&TEXT(D12,"0.000")&" etmalen zal naar schatting in 2023 Haarlemmermeerse jeugdigen betreffen?" -> Welk deel in procenten van deze 0.000 etmalen zal naar schatting in 2023 Haarlemmermeerse jeugdigen betreffen? | F13: Deze vraag is uitsluitend bedoeld ter raming van de ingekochte capaciteit 2023
B14: 11 | C14: ="Totaal fte (in roosters werkende) begeleiders 2023 voor deze "&TEXT(D6,"0,0")&" bedden*" -> Totaal fte (in roosters werkende) begeleiders 2023 voor deze 0,0 bedden* | F14: Uitsluitend (groeps)begeleiders en pedagogisch medewerkers. Zie ook *
B15: 12 | C15: A: Totaal aantal bruto uren begeleiders in heel 2023 voor hele groep (wordt automatisch gevuld) | D15: =D14*(365/7)*36 -> 0
B16: 13 | C16: Waarvan B: feitelijk aantal netto roosteruren per jaar agogisch/leefklimaat in 2023 | F16: =IF(D9="slapend","Een slapende nachtdienst van 8 uur telt (voor de meeste cao's) mee als 4 uur per etmaal.","")
B17: 14 | C17: Waarvan C: indirect cliëntgebonden tijd en/of niet-cliëntgebonden tijdbesteding (A-B) (wordt automatisch gevuld) | D17: =IFERROR(IF(AND(D15>0,D16>0),D15-D16,""),"")
B18: 15 | C18: …. aantal netto roosteruren voor deze groep per week… (wordt automatisch gevuld) | D18: =IFERROR(IF(D16>0,D16/(D11/7),""),"") | F18: =IF(D18="","","check: kloppen deze drie gele waarden met jullie administratie?")
B19: 16 | C19: …. aantal inroosterbare uren per fte begeleider per jaar… (wordt automatisch gevuld) | D19: =IFERROR(D16/D14,"")
B20: 17 | C20: …. aantal inroosterbare uren per fte begeleider per jaar komt overeen met productiviteit van…. (wordt automatisch gevuld) | D20: =IFERROR(D16/D15,"")
B21: 18 | C21: Begeleidingsintensiteit (wordt automatisch gevuld) | D21: =IFERROR( IF(AND(D5=Lijsten!$D$3,D7>=90%),D16/D12, IF(AND(D5=Lijsten!$D$3,D7<90%),D16/(D6*0.9*D11), IF(AND(D5<>Lijsten!$D$3,D7>=95%),D16/D12, IF(AND(D5<>Lijsten!$D$3,D7<95%),D16/(D6*0.95*D11))))),"")
B24: =IFERROR(IF(D5=Lijsten!$D$8,"DEZE REKENTOOL IS NIET BEDOELD VOOR CRISISVERBLIJF. GEBRUIK AUB DE REKENTOOL CRISISVERBLIJF",IF(D21>0,"Deze groep heeft "&INDEX(Lijsten!$F$3:$L$11,MATCH(ROUND($D$21,6),Lijsten!F3:F11,1),3)&". Begeleidingsintensiteit: "&TEXT(D21,"0,0")&". Bandbreedte ("&INDEX(Lijsten!H3:I11,MATCH(INDEX(Lijsten!$F$3:$L$11,MATCH(ROUND($D$21,6),Lijsten!F3:F11,1),3),Lijsten!$H$3:$H$11,0),2)&"). Tarief: "&TEXT(INDEX(Lijsten!$F$3:$L$11,MATCH(D21,Lijsten!F3:F11,1),7),"€000,00"),"Vul alle grijze velden in om de intensiteitsbepaling te zien.")),"Vul alle grijze velden in om de intensiteitsbepaling te zien.") -> Vul alle grijze velden in om de intensiteitsbepaling te zien.
B27: * Uitsluitend de volgende functies mogen hier worden meegeteld:
B28: ingroosterde uren van groepsbegeleiders
B29: ingroosterde uren van pedagogisch medewerkers
B30: ingroosterde uren van agogisch medewerkers
B31: bij driemilieuvoorzieningen: ingeroosterde uren van begeleiders op het terrein (niet direct aan één groep verbonden)
B33: De volgende functies tellen NIET mee:
B34: uren van begeleiders ingeroosterd voor individuele begeleiding / begeleiding thuis
B35: gastvrouw/gastheer
B36: gedragwetenschapper / alle wo opgeleide hulpverleners
B37: ambulant hulpverlener / (vak)therapeuten, behandelaars
B38: individueel begeleiders (uitzondering: bij kamertraining/begeleid wonen als er geen groepsbegeleiders zijn)

Sheet Verblijfsgroep 24
F2: Toelichting (zie ook tabblad invulinstructie)
C3: Kenmerken woon/verblijfgroep | D3: GEPLAND IN 2023
B4: 1 | C4: Naam groep
B5: 2 | C5: Welk type woon/verblijfgroep is dit? | F5: =IF(D5=Lijsten!$D$8,"DEZE REKENTOOL IS NIET BEDOELD VOOR CRISISVERBLIJF.","")
B6: 3 | C6: Aantal fysieke plaatsen / bedden / capaciteitsplaatsen van deze woon-/verblijfseenheid | F6: Tel alle capacteitisplaatsen mee, ongeacht voor welke wet of doelgroep ze worden ingezet
B7: 4 | C7: Bezettingsgraad (op jaarbasis) | F7: Vul of een realisatie 2021 in, of een verwachting voor 2023.
B8: 5 | C8: Feitelijk gemiddeld aantal bezette plaatsen (=capaciteit x bezettingsgraad, wordt automatisch gevuld) | D8: =D6*D7 -> 0
B9: 6 | C9: Wat voor type begeleiding heeft deze woon-/verblijfseenheid 's nachts? | F9: =IF(AND(D9=Lijsten!$M$4,D10>D6),"Als de slaapdienst meerdere groepen bedient, neem dan bij vraag 13 een evenredige doorbelasting van deze uren mee. Let op: uren slaapdienst tellen voor 50% mee.", IF(AND(D9=Lijsten!$M$4,D10=D6),"Tel bij vraag 13 de uren van de slapende wacht voor 50% mee (conform cao-bepalingen voor inconveniënte uren).", IF(AND(D9=Lijsten!$M$5,D10>D6),"Als de wakende dienst meerdere groepen bedient, neem dan bij vraag 13 een evenredige doorbelasting van deze uren mee.","")))
B10: 7 | C10: =IF(OR(D9="geen",$D$9=""),"","Voor hoeveel cliënten/patiënten is deze "&$D$9&" nachtdienst 's nachts verantwoordelijk?")
B11: 8 | C11: Feitelijk aantal openingsdagen 2023
B12: 9 | C12: Totale productie 2023 in verblijfsetmalen (wordt automatisch gevuld) | D12: =D11*D8 -> 0
B13: 10 | C13: ="Welk deel in procenten van deze "&TEXT(D12,"0.000")&" etmalen zal naar schatting in 2023 Haarlemmermeerse jeugdigen betreffen?" -> Welk deel in procenten van deze 0.000 etmalen zal naar schatting in 2023 Haarlemmermeerse jeugdigen betreffen? | F13: Deze vraag is uitsluitend bedoeld ter raming van de ingekochte capaciteit 2023
B14: 11 | C14: ="Totaal fte (in roosters werkende) begeleiders 2023 voor deze "&TEXT(D6,"0,0")&" bedden*" -> Totaal fte (in roosters werkende) begeleiders 2023 voor deze 0,0 bedden* | F14: Uitsluitend (groeps)begeleiders en pedagogisch medewerkers. Zie ook *
B15: 12 | C15: A: Totaal aantal bruto uren begeleiders in heel 2023 voor hele groep (wordt automatisch gevuld) | D15: =D14*(365/7)*36 -> 0
B16: 13 | C16: Waarvan B: feitelijk aantal netto roosteruren per jaar agogisch/leefklimaat in 2023 | F16: =IF(D9="slapend","Een slapende nachtdienst van 8 uur telt (voor de meeste cao's) mee als 4 uur per etmaal.","")
B17: 14 | C17: Waarvan C: indirect cliëntgebonden tijd en/of niet-cliëntgebonden tijdbesteding (A-B) (wordt automatisch gevuld) | D17: =IFERROR(IF(AND(D15>0,D16>0),D15-D16,""),"")
B18: 15 | C18: …. aantal netto roosteruren voor deze groep per week… (wordt automatisch gevuld) | D18: =IFERROR(IF(D16>0,D16/(D11/7),""),"") | F18: =IF(D18="","","check: kloppen deze drie gele waarden met jullie administratie?")
B19: 16 | C19: …. aantal inroosterbare uren per fte begeleider per jaar… (wordt automatisch gevuld) | D19: =IFERROR(D16/D14,"")
B20: 17 | C20: …. aantal inroosterbare uren per fte begeleider per jaar komt overeen met productiviteit van…. (wordt automatisch gevuld) | D20: =IFERROR(D16/D15,"")
B21: 18 | C21: Begeleidingsintensiteit (wordt automatisch gevuld) | D21: =IFERROR( IF(AND(D5=Lijsten!$D$3,D7>=90%),D16/D12, IF(AND(D5=Lijsten!$D$3,D7<90%),D16/(D6*0.9*D11), IF(AND(D5<>Lijsten!$D$3,D7>=95%),D16/D12, IF(AND(D5<>Lijsten!$D$3,D7<95%),D16/(D6*0.95*D11))))),"")
B24: =IFERROR(IF(D5=Lijsten!$D$8,"DEZE REKENTOOL IS NIET BEDOELD VOOR CRISISVERBLIJF. GEBRUIK AUB DE REKENTOOL CRISISVERBLIJF",IF(D21>0,"Deze groep heeft "&INDEX(Lijsten!$F$3:$L$11,MATCH(ROUND($D$21,6),Lijsten!F3:F11,1),3)&". Begeleidingsintensiteit: "&TEXT(D21,"0,0")&". Bandbreedte ("&INDEX(Lijsten!H3:I11,MATCH(INDEX(Lijsten!$F$3:$L$11,MATCH(ROUND($D$21,6),Lijsten!F3:F11,1),3),Lijsten!$H$3:$H$11,0),2)&"). Tarief: "&TEXT(INDEX(Lijsten!$F$3:$L$11,MATCH(D21,Lijsten!F3:F11,1),7),"€000,00"),"Vul alle grijze velden in om de intensiteitsbepaling te zien.")),"Vul alle grijze velden in om de intensiteitsbepaling te zien.") -> Vul alle grijze velden in om de intensiteitsbepaling te zien.
B27: * Uitsluitend de volgende functies mogen hier worden meegeteld:
B28: ingroosterde uren van groepsbegeleiders
B29: ingroosterde uren van pedagogisch medewerkers
B30: ingroosterde uren van agogisch medewerkers
B31: bij driemilieuvoorzieningen: ingeroosterde uren van begeleiders op het terrein (niet direct aan één groep verbonden)
B33: De volgende functies tellen NIET mee:
B34: uren van begeleiders ingeroosterd voor individuele begeleiding / begeleiding thuis
B35: gastvrouw/gastheer
B36: gedragwetenschapper / alle wo opgeleide hulpverleners
B37: ambulant hulpverlener / (vak)therapeuten, behandelaars
B38: individueel begeleiders (uitzondering: bij kamertraining/begeleid wonen als er geen groepsbegeleiders zijn)

Sheet Verblijfsgroep 25
F2: Toelichting (zie ook tabblad invulinstructie)
C3: Kenmerken woon/verblijfgroep | D3: GEPLAND IN 2023
B4: 1 | C4: Naam groep
B5: 2 | C5: Welk type woon/verblijfgroep is dit? | F5: =IF(D5=Lijsten!$D$8,"DEZE REKENTOOL IS NIET BEDOELD VOOR CRISISVERBLIJF.","")
B6: 3 | C6: Aantal fysieke plaatsen / bedden / capaciteitsplaatsen van deze woon-/verblijfseenheid | F6: Tel alle capacteitisplaatsen mee, ongeacht voor welke wet of doelgroep ze worden ingezet
B7: 4 | C7: Bezettingsgraad (op jaarbasis) | F7: Vul of een realisatie 2021 in, of een verwachting voor 2023.
B8: 5 | C8: Feitelijk gemiddeld aantal bezette plaatsen (=capaciteit x bezettingsgraad, wordt automatisch gevuld) | D8: =D6*D7 -> 0
B9: 6 | C9: Wat voor type begeleiding heeft deze woon-/verblijfseenheid 's nachts? | F9: =IF(AND(D9=Lijsten!$M$4,D10>D6),"Als de slaapdienst meerdere groepen bedient, neem dan bij vraag 13 een evenredige doorbelasting van deze uren mee. Let op: uren slaapdienst tellen voor 50% mee.", IF(AND(D9=Lijsten!$M$4,D10=D6),"Tel bij vraag 13 de uren van de slapende wacht voor 50% mee (conform cao-bepalingen voor inconveniënte uren).", IF(AND(D9=Lijsten!$M$5,D10>D6),"Als de wakende dienst meerdere groepen bedient, neem dan bij vraag 13 een evenredige doorbelasting van deze uren mee.","")))
B10: 7 | C10: =IF(OR(D9="geen",$D$9=""),"","Voor hoeveel cliënten/patiënten is deze "&$D$9&" nachtdienst 's nachts verantwoordelijk?")
B11: 8 | C11: Feitelijk aantal openingsdagen 2023
B12: 9 | C12: Totale productie 2023 in verblijfsetmalen (wordt automatisch gevuld) | D12: =D11*D8 -> 0
B13: 10 | C13: ="Welk deel in procenten van deze "&TEXT(D12,"0.000")&" etmalen zal naar schatting in 2023 Haarlemmermeerse jeugdigen betreffen?" -> Welk deel in procenten van deze 0.000 etmalen zal naar schatting in 2023 Haarlemmermeerse jeugdigen betreffen? | F13: Deze vraag is uitsluitend bedoeld ter raming van de ingekochte capaciteit 2023
B14: 11 | C14: ="Totaal fte (in roosters werkende) begeleiders 2023 voor deze "&TEXT(D6,"0,0")&" bedden*" -> Totaal fte (in roosters werkende) begeleiders 2023 voor deze 0,0 bedden* | F14: Uitsluitend (groeps)begeleiders en pedagogisch medewerkers. Zie ook *
B15: 12 | C15: A: Totaal aantal bruto uren begeleiders in heel 2023 voor hele groep (wordt automatisch gevuld) | D15: =D14*(365/7)*36 -> 0
B16: 13 | C16: Waarvan B: feitelijk aantal netto roosteruren per jaar agogisch/leefklimaat in 2023 | F16: =IF(D9="slapend","Een slapende nachtdienst van 8 uur telt (voor de meeste cao's) mee als 4 uur per etmaal.","")
B17: 14 | C17: Waarvan C: indirect cliëntgebonden tijd en/of niet-cliëntgebonden tijdbesteding (A-B) (wordt automatisch gevuld) | D17: =IFERROR(IF(AND(D15>0,D16>0),D15-D16,""),"")
B18: 15 | C18: …. aantal netto roosteruren voor deze groep per week… (wordt automatisch gevuld) | D18: =IFERROR(IF(D16>0,D16/(D11/7),""),"") | F18: =IF(D18="","","check: kloppen deze drie gele waarden met jullie administratie?")
B19: 16 | C19: …. aantal inroosterbare uren per fte begeleider per jaar… (wordt automatisch gevuld) | D19: =IFERROR(D16/D14,"")
B20: 17 | C20: …. aantal inroosterbare uren per fte begeleider per jaar komt overeen met productiviteit van…. (wordt automatisch gevuld) | D20: =IFERROR(D16/D15,"")
B21: 18 | C21: Begeleidingsintensiteit (wordt automatisch gevuld) | D21: =IFERROR( IF(AND(D5=Lijsten!$D$3,D7>=90%),D16/D12, IF(AND(D5=Lijsten!$D$3,D7<90%),D16/(D6*0.9*D11), IF(AND(D5<>Lijsten!$D$3,D7>=95%),D16/D12, IF(AND(D5<>Lijsten!$D$3,D7<95%),D16/(D6*0.95*D11))))),"")
B24: =IFERROR(IF(D5=Lijsten!$D$8,"DEZE REKENTOOL IS NIET BEDOELD VOOR CRISISVERBLIJF. GEBRUIK AUB DE REKENTOOL CRISISVERBLIJF",IF(D21>0,"Deze groep heeft "&INDEX(Lijsten!$F$3:$L$11,MATCH(ROUND($D$21,6),Lijsten!F3:F11,1),3)&". Begeleidingsintensiteit: "&TEXT(D21,"0,0")&". Bandbreedte ("&INDEX(Lijsten!H3:I11,MATCH(INDEX(Lijsten!$F$3:$L$11,MATCH(ROUND($D$21,6),Lijsten!F3:F11,1),3),Lijsten!$H$3:$H$11,0),2)&"). Tarief: "&TEXT(INDEX(Lijsten!$F$3:$L$11,MATCH(D21,Lijsten!F3:F11,1),7),"€000,00"),"Vul alle grijze velden in om de intensiteitsbepaling te zien.")),"Vul alle grijze velden in om de intensiteitsbepaling te zien.") -> Vul alle grijze velden in om de intensiteitsbepaling te zien.
B27: * Uitsluitend de volgende functies mogen hier worden meegeteld:
B28: ingroosterde uren van groepsbegeleiders
B29: ingroosterde uren van pedagogisch medewerkers
B30: ingroosterde uren van agogisch medewerkers
B31: bij driemilieuvoorzieningen: ingeroosterde uren van begeleiders op het terrein (niet direct aan één groep verbonden)
B33: De volgende functies tellen NIET mee:
B34: uren van begeleiders ingeroosterd voor individuele begeleiding / begeleiding thuis
B35: gastvrouw/gastheer
B36: gedragwetenschapper / alle wo opgeleide hulpverleners
B37: ambulant hulpverlener / (vak)therapeuten, behandelaars
B38: individueel begeleiders (uitzondering: bij kamertraining/begeleid wonen als er geen groepsbegeleiders zijn)

Sheet Verblijfsgroep 26
F2: Toelichting (zie ook tabblad invulinstructie)
C3: Kenmerken woon/verblijfgroep | D3: GEPLAND IN 2023
B4: 1 | C4: Naam groep
B5: 2 | C5: Welk type woon/verblijfgroep is dit? | F5: =IF(D5=Lijsten!$D$8,"DEZE REKENTOOL IS NIET BEDOELD VOOR CRISISVERBLIJF.","")
B6: 3 | C6: Aantal fysieke plaatsen / bedden / capaciteitsplaatsen van deze woon-/verblijfseenheid | F6: Tel alle capacteitisplaatsen mee, ongeacht voor welke wet of doelgroep ze worden ingezet
B7: 4 | C7: Bezettingsgraad (op jaarbasis) | F7: Vul of een realisatie 2021 in, of een verwachting voor 2023.
B8: 5 | C8: Feitelijk gemiddeld aantal bezette plaatsen (=capaciteit x bezettingsgraad, wordt automatisch gevuld) | D8: =D6*D7 -> 0
B9: 6 | C9: Wat voor type begeleiding heeft deze woon-/verblijfseenheid 's nachts? | F9: =IF(AND(D9=Lijsten!$M$4,D10>D6),"Als de slaapdienst meerdere groepen bedient, neem dan bij vraag 13 een evenredige doorbelasting van deze uren mee. Let op: uren slaapdienst tellen voor 50% mee.", IF(AND(D9=Lijsten!$M$4,D10=D6),"Tel bij vraag 13 de uren van de slapende wacht voor 50% mee (conform cao-bepalingen voor inconveniënte uren).", IF(AND(D9=Lijsten!$M$5,D10>D6),"Als de wakende dienst meerdere groepen bedient, neem dan bij vraag 13 een evenredige doorbelasting van deze uren mee.","")))
B10: 7 | C10: =IF(OR(D9="geen",$D$9=""),"","Voor hoeveel cliënten/patiënten is deze "&$D$9&" nachtdienst 's nachts verantwoordelijk?")
B11: 8 | C11: Feitelijk aantal openingsdagen 2023
B12: 9 | C12: Totale productie 2023 in verblijfsetmalen (wordt automatisch gevuld) | D12: =D11*D8 -> 0
B13: 10 | C13: ="Welk deel in procenten van deze "&TEXT(D12,"0.000")&" etmalen zal naar schatting in 2023 Haarlemmermeerse jeugdigen betreffen?" -> Welk deel in procenten van deze 0.000 etmalen zal naar schatting in 2023 Haarlemmermeerse jeugdigen betreffen? | F13: Deze vraag is uitsluitend bedoeld ter raming van de ingekochte capaciteit 2023
B14: 11 | C14: ="Totaal fte (in roosters werkende) begeleiders 2023 voor deze "&TEXT(D6,"0,0")&" bedden*" -> Totaal fte (in roosters werkende) begeleiders 2023 voor deze 0,0 bedden* | F14: Uitsluitend (groeps)begeleiders en pedagogisch medewerkers. Zie ook *
B15: 12 | C15: A: Totaal aantal bruto uren begeleiders in heel 2023 voor hele groep (wordt automatisch gevuld) | D15: =D14*(365/7)*36 -> 0
B16: 13 | C16: Waarvan B: feitelijk aantal netto roosteruren per jaar agogisch/leefklimaat in 2023 | F16: =IF(D9="slapend","Een slapende nachtdienst van 8 uur telt (voor de meeste cao's) mee als 4 uur per etmaal.","")
B17: 14 | C17: Waarvan C: indirect cliëntgebonden tijd en/of niet-cliëntgebonden tijdbesteding (A-B) (wordt automatisch gevuld) | D17: =IFERROR(IF(AND(D15>0,D16>0),D15-D16,""),"")
B18: 15 | C18: …. aantal netto roosteruren voor deze groep per week… (wordt automatisch gevuld) | D18: =IFERROR(IF(D16>0,D16/(D11/7),""),"") | F18: =IF(D18="","","check: kloppen deze drie gele waarden met jullie administratie?")
B19: 16 | C19: …. aantal inroosterbare uren per fte begeleider per jaar… (wordt automatisch gevuld) | D19: =IFERROR(D16/D14,"")
B20: 17 | C20: …. aantal inroosterbare uren per fte begeleider per jaar komt overeen met productiviteit van…. (wordt automatisch gevuld) | D20: =IFERROR(D16/D15,"")
B21: 18 | C21: Begeleidingsintensiteit (wordt automatisch gevuld) | D21: =IFERROR( IF(AND(D5=Lijsten!$D$3,D7>=90%),D16/D12, IF(AND(D5=Lijsten!$D$3,D7<90%),D16/(D6*0.9*D11), IF(AND(D5<>Lijsten!$D$3,D7>=95%),D16/D12, IF(AND(D5<>Lijsten!$D$3,D7<95%),D16/(D6*0.95*D11))))),"")
B24: =IFERROR(IF(D5=Lijsten!$D$8,"DEZE REKENTOOL IS NIET BEDOELD VOOR CRISISVERBLIJF. GEBRUIK AUB DE REKENTOOL CRISISVERBLIJF",IF(D21>0,"Deze groep heeft "&INDEX(Lijsten!$F$3:$L$11,MATCH(ROUND($D$21,6),Lijsten!F3:F11,1),3)&". Begeleidingsintensiteit: "&TEXT(D21,"0,0")&". Bandbreedte ("&INDEX(Lijsten!H3:I11,MATCH(INDEX(Lijsten!$F$3:$L$11,MATCH(ROUND($D$21,6),Lijsten!F3:F11,1),3),Lijsten!$H$3:$H$11,0),2)&"). Tarief: "&TEXT(INDEX(Lijsten!$F$3:$L$11,MATCH(D21,Lijsten!F3:F11,1),7),"€000,00"),"Vul alle grijze velden in om de intensiteitsbepaling te zien.")),"Vul alle grijze velden in om de intensiteitsbepaling te zien.") -> Vul alle grijze velden in om de intensiteitsbepaling te zien.
B27: * Uitsluitend de volgende functies mogen hier worden meegeteld:
B28: ingroosterde uren van groepsbegeleiders
B29: ingroosterde uren van pedagogisch medewerkers
B30: ingroosterde uren van agogisch medewerkers
B31: bij driemilieuvoorzieningen: ingeroosterde uren van begeleiders op het terrein (niet direct aan één groep verbonden)
B33: De volgende functies tellen NIET mee:
B34: uren van begeleiders ingeroosterd voor individuele begeleiding / begeleiding thuis
B35: gastvrouw/gastheer
B36: gedragwetenschapper / alle wo opgeleide hulpverleners
B37: ambulant hulpverlener / (vak)therapeuten, behandelaars
B38: individueel begeleiders (uitzondering: bij kamertraining/begeleid wonen als er geen groepsbegeleiders zijn)

Sheet Verblijfsgroep 27
F2: Toelichting (zie ook tabblad invulinstructie)
C3: Kenmerken woon/verblijfgroep | D3: GEPLAND IN 2023
B4: 1 | C4: Naam groep
B5: 2 | C5: Welk type woon/verblijfgroep is dit? | F5: =IF(D5=Lijsten!$D$8,"DEZE REKENTOOL IS NIET BEDOELD VOOR CRISISVERBLIJF.","")
B6: 3 | C6: Aantal fysieke plaatsen / bedden / capaciteitsplaatsen van deze woon-/verblijfseenheid | F6: Tel alle capacteitisplaatsen mee, ongeacht voor welke wet of doelgroep ze worden ingezet
B7: 4 | C7: Bezettingsgraad (op jaarbasis) | F7: Vul of een realisatie 2021 in, of een verwachting voor 2023.
B8: 5 | C8: Feitelijk gemiddeld aantal bezette plaatsen (=capaciteit x bezettingsgraad, wordt automatisch gevuld) | D8: =D6*D7 -> 0
B9: 6 | C9: Wat voor type begeleiding heeft deze woon-/verblijfseenheid 's nachts? | F9: =IF(AND(D9=Lijsten!$M$4,D10>D6),"Als de slaapdienst meerdere groepen bedient, neem dan bij vraag 13 een evenredige doorbelasting van deze uren mee. Let op: uren slaapdienst tellen voor 50% mee.", IF(AND(D9=Lijsten!$M$4,D10=D6),"Tel bij vraag 13 de uren van de slapende wacht voor 50% mee (conform cao-bepalingen voor inconveniënte uren).", IF(AND(D9=Lijsten!$M$5,D10>D6),"Als de wakende dienst meerdere groepen bedient, neem dan bij vraag 13 een evenredige doorbelasting van deze uren mee.","")))
B10: 7 | C10: =IF(OR(D9="geen",$D$9=""),"","Voor hoeveel cliënten/patiënten is deze "&$D$9&" nachtdienst 's nachts verantwoordelijk?")
B11: 8 | C11: Feitelijk aantal openingsdagen 2023
B12: 9 | C12: Totale productie 2023 in verblijfsetmalen (wordt automatisch gevuld) | D12: =D11*D8 -> 0
B13: 10 | C13: ="Welk deel in procenten van deze "&TEXT(D12,"0.000")&" etmalen zal naar schatting in 2023 Haarlemmermeerse jeugdigen betreffen?" -> Welk deel in procenten van deze 0.000 etmalen zal naar schatting in 2023 Haarlemmermeerse jeugdigen betreffen? | F13: Deze vraag is uitsluitend bedoeld ter raming van de ingekochte capaciteit 2023
B14: 11 | C14: ="Totaal fte (in roosters werkende) begeleiders 2023 voor deze "&TEXT(D6,"0,0")&" bedden*" -> Totaal fte (in roosters werkende) begeleiders 2023 voor deze 0,0 bedden* | F14: Uitsluitend (groeps)begeleiders en pedagogisch medewerkers. Zie ook *
B15: 12 | C15: A: Totaal aantal bruto uren begeleiders in heel 2023 voor hele groep (wordt automatisch gevuld) | D15: =D14*(365/7)*36 -> 0
B16: 13 | C16: Waarvan B: feitelijk aantal netto roosteruren per jaar agogisch/leefklimaat in 2023 | F16: =IF(D9="slapend","Een slapende nachtdienst van 8 uur telt (voor de meeste cao's) mee als 4 uur per etmaal.","")
B17: 14 | C17: Waarvan C: indirect cliëntgebonden tijd en/of niet-cliëntgebonden tijdbesteding (A-B) (wordt automatisch gevuld) | D17: =IFERROR(IF(AND(D15>0,D16>0),D15-D16,""),"")
B18: 15 | C18: …. aantal netto roosteruren voor deze groep per week… (wordt automatisch gevuld) | D18: =IFERROR(IF(D16>0,D16/(D11/7),""),"") | F18: =IF(D18="","","check: kloppen deze drie gele waarden met jullie administratie?")
B19: 16 | C19: …. aantal inroosterbare uren per fte begeleider per jaar… (wordt automatisch gevuld) | D19: =IFERROR(D16/D14,"")
B20: 17 | C20: …. aantal inroosterbare uren per fte begeleider per jaar komt overeen met productiviteit van…. (wordt automatisch gevuld) | D20: =IFERROR(D16/D15,"")
B21: 18 | C21: Begeleidingsintensiteit (wordt automatisch gevuld) | D21: =IFERROR( IF(AND(D5=Lijsten!$D$3,D7>=90%),D16/D12, IF(AND(D5=Lijsten!$D$3,D7<90%),D16/(D6*0.9*D11), IF(AND(D5<>Lijsten!$D$3,D7>=95%),D16/D12, IF(AND(D5<>Lijsten!$D$3,D7<95%),D16/(D6*0.95*D11))))),"")
B24: =IFERROR(IF(D5=Lijsten!$D$8,"DEZE REKENTOOL IS NIET BEDOELD VOOR CRISISVERBLIJF. GEBRUIK AUB DE REKENTOOL CRISISVERBLIJF",IF(D21>0,"Deze groep heeft "&INDEX(Lijsten!$F$3:$L$11,MATCH(ROUND($D$21,6),Lijsten!F3:F11,1),3)&". Begeleidingsintensiteit: "&TEXT(D21,"0,0")&". Bandbreedte ("&INDEX(Lijsten!H3:I11,MATCH(INDEX(Lijsten!$F$3:$L$11,MATCH(ROUND($D$21,6),Lijsten!F3:F11,1),3),Lijsten!$H$3:$H$11,0),2)&"). Tarief: "&TEXT(INDEX(Lijsten!$F$3:$L$11,MATCH(D21,Lijsten!F3:F11,1),7),"€000,00"),"Vul alle grijze velden in om de intensiteitsbepaling te zien.")),"Vul alle grijze velden in om de intensiteitsbepaling te zien.") -> Vul alle grijze velden in om de intensiteitsbepaling te zien.
B27: * Uitsluitend de volgende functies mogen hier worden meegeteld:
B28: ingroosterde uren van groepsbegeleiders
B29: ingroosterde uren van pedagogisch medewerkers
B30: ingroosterde uren van agogisch medewerkers
B31: bij driemilieuvoorzieningen: ingeroosterde uren van begeleiders op het terrein (niet direct aan één groep verbonden)
B33: De volgende functies tellen NIET mee:
B34: uren van begeleiders ingeroosterd voor individuele begeleiding / begeleiding thuis
B35: gastvrouw/gastheer
B36: gedragwetenschapper / alle wo opgeleide hulpverleners
B37: ambulant hulpverlener / (vak)therapeuten, behandelaars
B38: individueel begeleiders (uitzondering: bij kamertraining/begeleid wonen als er geen groepsbegeleiders zijn)

Sheet Verblijfsgroep 28
F2: Toelichting (zie ook tabblad invulinstructie)
C3: Kenmerken woon/verblijfgroep | D3: GEPLAND IN 2023
B4: 1 | C4: Naam groep
B5: 2 | C5: Welk type woon/verblijfgroep is dit? | F5: =IF(D5=Lijsten!$D$8,"DEZE REKENTOOL IS NIET BEDOELD VOOR CRISISVERBLIJF.","")
B6: 3 | C6: Aantal fysieke plaatsen / bedden / capaciteitsplaatsen van deze woon-/verblijfseenheid | F6: Tel alle capacteitisplaatsen mee, ongeacht voor welke wet of doelgroep ze worden ingezet
B7: 4 | C7: Bezettingsgraad (op jaarbasis) | F7: Vul of een realisatie 2021 in, of een verwachting voor 2023.
B8: 5 | C8: Feitelijk gemiddeld aantal bezette plaatsen (=capaciteit x bezettingsgraad, wordt automatisch gevuld) | D8: =D6*D7 -> 0
B9: 6 | C9: Wat voor type begeleiding heeft deze woon-/verblijfseenheid 's nachts? | F9: =IF(AND(D9=Lijsten!$M$4,D10>D6),"Als de slaapdienst meerdere groepen bedient, neem dan bij vraag 13 een evenredige doorbelasting van deze uren mee. Let op: uren slaapdienst tellen voor 50% mee.", IF(AND(D9=Lijsten!$M$4,D10=D6),"Tel bij vraag 13 de uren van de slapende wacht voor 50% mee (conform cao-bepalingen voor inconveniënte uren).", IF(AND(D9=Lijsten!$M$5,D10>D6),"Als de wakende dienst meerdere groepen bedient, neem dan bij vraag 13 een evenredige doorbelasting van deze uren mee.","")))
B10: 7 | C10: =IF(OR(D9="geen",$D$9=""),"","Voor hoeveel cliënten/patiënten is deze "&$D$9&" nachtdienst 's nachts verantwoordelijk?")
B11: 8 | C11: Feitelijk aantal openingsdagen 2023
B12: 9 | C12: Totale productie 2023 in verblijfsetmalen (wordt automatisch gevuld) | D12: =D11*D8 -> 0
B13: 10 | C13: ="Welk deel in procenten van deze "&TEXT(D12,"0.000")&" etmalen zal naar schatting in 2023 Haarlemmermeerse jeugdigen betreffen?" -> Welk deel in procenten van deze 0.000 etmalen zal naar schatting in 2023 Haarlemmermeerse jeugdigen betreffen? | F13: Deze vraag is uitsluitend bedoeld ter raming van de ingekochte capaciteit 2023
B14: 11 | C14: ="Totaal fte (in roosters werkende) begeleiders 2023 voor deze "&TEXT(D6,"0,0")&" bedden*" -> Totaal fte (in roosters werkende) begeleiders 2023 voor deze 0,0 bedden* | F14: Uitsluitend (groeps)begeleiders en pedagogisch medewerkers. Zie ook *
B15: 12 | C15: A: Totaal aantal bruto uren begeleiders in heel 2023 voor hele groep (wordt automatisch gevuld) | D15: =D14*(365/7)*36 -> 0
B16: 13 | C16: Waarvan B: feitelijk aantal netto roosteruren per jaar agogisch/leefklimaat in 2023 | F16: =IF(D9="slapend","Een slapende nachtdienst van 8 uur telt (voor de meeste cao's) mee als 4 uur per etmaal.","")
B17: 14 | C17: Waarvan C: indirect cliëntgebonden tijd en/of niet-cliëntgebonden tijdbesteding (A-B) (wordt automatisch gevuld) | D17: =IFERROR(IF(AND(D15>0,D16>0),D15-D16,""),"")
B18: 15 | C18: …. aantal netto roosteruren voor deze groep per week… (wordt automatisch gevuld) | D18: =IFERROR(IF(D16>0,D16/(D11/7),""),"") | F18: =IF(D18="","","check: kloppen deze drie gele waarden met jullie administratie?")
B19: 16 | C19: …. aantal inroosterbare uren per fte begeleider per jaar… (wordt automatisch gevuld) | D19: =IFERROR(D16/D14,"")
B20: 17 | C20: …. aantal inroosterbare uren per fte begeleider per jaar komt overeen met productiviteit van…. (wordt automatisch gevuld) | D20: =IFERROR(D16/D15,"")
B21: 18 | C21: Begeleidingsintensiteit (wordt automatisch gevuld) | D21: =IFERROR( IF(AND(D5=Lijsten!$D$3,D7>=90%),D16/D12, IF(AND(D5=Lijsten!$D$3,D7<90%),D16/(D6*0.9*D11), IF(AND(D5<>Lijsten!$D$3,D7>=95%),D16/D12, IF(AND(D5<>Lijsten!$D$3,D7<95%),D16/(D6*0.95*D11))))),"")
B24: =IFERROR(IF(D5=Lijsten!$D$8,"DEZE REKENTOOL IS NIET BEDOELD VOOR CRISISVERBLIJF. GEBRUIK AUB DE REKENTOOL CRISISVERBLIJF",IF(D21>0,"Deze groep heeft "&INDEX(Lijsten!$F$3:$L$11,MATCH(ROUND($D$21,6),Lijsten!F3:F11,1),3)&". Begeleidingsintensiteit: "&TEXT(D21,"0,0")&". Bandbreedte ("&INDEX(Lijsten!H3:I11,MATCH(INDEX(Lijsten!$F$3:$L$11,MATCH(ROUND($D$21,6),Lijsten!F3:F11,1),3),Lijsten!$H$3:$H$11,0),2)&"). Tarief: "&TEXT(INDEX(Lijsten!$F$3:$L$11,MATCH(D21,Lijsten!F3:F11,1),7),"€000,00"),"Vul alle grijze velden in om de intensiteitsbepaling te zien.")),"Vul alle grijze velden in om de intensiteitsbepaling te zien.") -> Vul alle grijze velden in om de intensiteitsbepaling te zien.
B27: * Uitsluitend de volgende functies mogen hier worden meegeteld:
B28: ingroosterde uren van groepsbegeleiders
B29: ingroosterde uren van pedagogisch medewerkers
B30: ingroosterde uren van agogisch medewerkers
B31: bij driemilieuvoorzieningen: ingeroosterde uren van begeleiders op het terrein (niet direct aan één groep verbonden)
B33: De volgende functies tellen NIET mee:
B34: uren van begeleiders ingeroosterd voor individuele begeleiding / begeleiding thuis
B35: gastvrouw/gastheer
B36: gedragwetenschapper / alle wo opgeleide hulpverleners
B37: ambulant hulpverlener / (vak)therapeuten, behandelaars
B38: individueel begeleiders (uitzondering: bij kamertraining/begeleid wonen als er geen groepsbegeleiders zijn)

Sheet Verblijfsgroep 29
F2: Toelichting (zie ook tabblad invulinstructie)
C3: Kenmerken woon/verblijfgroep | D3: GEPLAND IN 2023
B4: 1 | C4: Naam groep
B5: 2 | C5: Welk type woon/verblijfgroep is dit? | F5: =IF(D5=Lijsten!$D$8,"DEZE REKENTOOL IS NIET BEDOELD VOOR CRISISVERBLIJF.","")
B6: 3 | C6: Aantal fysieke plaatsen / bedden / capaciteitsplaatsen van deze woon-/verblijfseenheid | F6: Tel alle capacteitisplaatsen mee, ongeacht voor welke wet of doelgroep ze worden ingezet
B7: 4 | C7: Bezettingsgraad (op jaarbasis) | F7: Vul of een realisatie 2021 in, of een verwachting voor 2023.
B8: 5 | C8: Feitelijk gemiddeld aantal bezette plaatsen (=capaciteit x bezettingsgraad, wordt automatisch gevuld) | D8: =D6*D7 -> 0
B9: 6 | C9: Wat voor type begeleiding heeft deze woon-/verblijfseenheid 's nachts? | F9: =IF(AND(D9=Lijsten!$M$4,D10>D6),"Als de slaapdienst meerdere groepen bedient, neem dan bij vraag 13 een evenredige doorbelasting van deze uren mee. Let op: uren slaapdienst tellen voor 50% mee.", IF(AND(D9=Lijsten!$M$4,D10=D6),"Tel bij vraag 13 de uren van de slapende wacht voor 50% mee (conform cao-bepalingen voor inconveniënte uren).", IF(AND(D9=Lijsten!$M$5,D10>D6),"Als de wakende dienst meerdere groepen bedient, neem dan bij vraag 13 een evenredige doorbelasting van deze uren mee.","")))
B10: 7 | C10: =IF(OR(D9="geen",$D$9=""),"","Voor hoeveel cliënten/patiënten is deze "&$D$9&" nachtdienst 's nachts verantwoordelijk?")
B11: 8 | C11: Feitelijk aantal openingsdagen 2023
B12: 9 | C12: Totale productie 2023 in verblijfsetmalen (wordt automatisch gevuld) | D12: =D11*D8 -> 0
B13: 10 | C13: ="Welk deel in procenten van deze "&TEXT(D12,"0.000")&" etmalen zal naar schatting in 2023 Haarlemmermeerse jeugdigen betreffen?" -> Welk deel in procenten van deze 0.000 etmalen zal naar schatting in 2023 Haarlemmermeerse jeugdigen betreffen? | F13: Deze vraag is uitsluitend bedoeld ter raming van de ingekochte capaciteit 2023
B14: 11 | C14: ="Totaal fte (in roosters werkende) begeleiders 2023 voor deze "&TEXT(D6,"0,0")&" bedden*" -> Totaal fte (in roosters werkende) begeleiders 2023 voor deze 0,0 bedden* | F14: Uitsluitend (groeps)begeleiders en pedagogisch medewerkers. Zie ook *
B15: 12 | C15: A: Totaal aantal bruto uren begeleiders in heel 2023 voor hele groep (wordt automatisch gevuld) | D15: =D14*(365/7)*36 -> 0
B16: 13 | C16: Waarvan B: feitelijk aantal netto roosteruren per jaar agogisch/leefklimaat in 2023 | F16: =IF(D9="slapend","Een slapende nachtdienst van 8 uur telt (voor de meeste cao's) mee als 4 uur per etmaal.","")
B17: 14 | C17: Waarvan C: indirect cliëntgebonden tijd en/of niet-cliëntgebonden tijdbesteding (A-B) (wordt automatisch gevuld) | D17: =IFERROR(IF(AND(D15>0,D16>0),D15-D16,""),"")
B18: 15 | C18: …. aantal netto roosteruren voor deze groep per week… (wordt automatisch gevuld) | D18: =IFERROR(IF(D16>0,D16/(D11/7),""),"") | F18: =IF(D18="","","check: kloppen deze drie gele waarden met jullie administratie?")
B19: 16 | C19: …. aantal inroosterbare uren per fte begeleider per jaar… (wordt automatisch gevuld) | D19: =IFERROR(D16/D14,"")
B20: 17 | C20: …. aantal inroosterbare uren per fte begeleider per jaar komt overeen met productiviteit van…. (wordt automatisch gevuld) | D20: =IFERROR(D16/D15,"")
B21: 18 | C21: Begeleidingsintensiteit (wordt automatisch gevuld) | D21: =IFERROR( IF(AND(D5=Lijsten!$D$3,D7>=90%),D16/D12, IF(AND(D5=Lijsten!$D$3,D7<90%),D16/(D6*0.9*D11), IF(AND(D5<>Lijsten!$D$3,D7>=95%),D16/D12, IF(AND(D5<>Lijsten!$D$3,D7<95%),D16/(D6*0.95*D11))))),"")
B24: =IFERROR(IF(D5=Lijsten!$D$8,"DEZE REKENTOOL IS NIET BEDOELD VOOR CRISISVERBLIJF. GEBRUIK AUB DE REKENTOOL CRISISVERBLIJF",IF(D21>0,"Deze groep heeft "&INDEX(Lijsten!$F$3:$L$11,MATCH(ROUND($D$21,6),Lijsten!F3:F11,1),3)&". Begeleidingsintensiteit: "&TEXT(D21,"0,0")&". Bandbreedte ("&INDEX(Lijsten!H3:I11,MATCH(INDEX(Lijsten!$F$3:$L$11,MATCH(ROUND($D$21,6),Lijsten!F3:F11,1),3),Lijsten!$H$3:$H$11,0),2)&"). Tarief: "&TEXT(INDEX(Lijsten!$F$3:$L$11,MATCH(D21,Lijsten!F3:F11,1),7),"€000,00"),"Vul alle grijze velden in om de intensiteitsbepaling te zien.")),"Vul alle grijze velden in om de intensiteitsbepaling te zien.") -> Vul alle grijze velden in om de intensiteitsbepaling te zien.
B27: * Uitsluitend de volgende functies mogen hier worden meegeteld:
B28: ingroosterde uren van groepsbegeleiders
B29: ingroosterde uren van pedagogisch medewerkers
B30: ingroosterde uren van agogisch medewerkers
B31: bij driemilieuvoorzieningen: ingeroosterde uren van begeleiders op het terrein (niet direct aan één groep verbonden)
B33: De volgende functies tellen NIET mee:
B34: uren van begeleiders ingeroosterd voor individuele begeleiding / begeleiding thuis
B35: gastvrouw/gastheer
B36: gedragwetenschapper / alle wo opgeleide hulpverleners
B37: ambulant hulpverlener / (vak)therapeuten, behandelaars
B38: individueel begeleiders (uitzondering: bij kamertraining/begeleid wonen als er geen groepsbegeleiders zijn)

Sheet Verblijfsgroep 30
F2: Toelichting (zie ook tabblad invulinstructie)
C3: Kenmerken woon/verblijfgroep | D3: GEPLAND IN 2023
B4: 1 | C4: Naam groep
B5: 2 | C5: Welk type woon/verblijfgroep is dit? | F5: =IF(D5=Lijsten!$D$8,"DEZE REKENTOOL IS NIET BEDOELD VOOR CRISISVERBLIJF.","")
B6: 3 | C6: Aantal fysieke plaatsen / bedden / capaciteitsplaatsen van deze woon-/verblijfseenheid | F6: Tel alle capacteitisplaatsen mee, ongeacht voor welke wet of doelgroep ze worden ingezet
B7: 4 | C7: Bezettingsgraad (op jaarbasis) | F7: Vul of een realisatie 2021 in, of een verwachting voor 2023.
B8: 5 | C8: Feitelijk gemiddeld aantal bezette plaatsen (=capaciteit x bezettingsgraad, wordt automatisch gevuld) | D8: =D6*D7 -> 0
B9: 6 | C9: Wat voor type begeleiding heeft deze woon-/verblijfseenheid 's nachts? | F9: =IF(AND(D9=Lijsten!$M$4,D10>D6),"Als de slaapdienst meerdere groepen bedient, neem dan bij vraag 13 een evenredige doorbelasting van deze uren mee. Let op: uren slaapdienst tellen voor 50% mee.", IF(AND(D9=Lijsten!$M$4,D10=D6),"Tel bij vraag 13 de uren van de slapende wacht voor 50% mee (conform cao-bepalingen voor inconveniënte uren).", IF(AND(D9=Lijsten!$M$5,D10>D6),"Als de wakende dienst meerdere groepen bedient, neem dan bij vraag 13 een evenredige doorbelasting van deze uren mee.","")))
B10: 7 | C10: =IF(OR(D9="geen",$D$9=""),"","Voor hoeveel cliënten/patiënten is deze "&$D$9&" nachtdienst 's nachts verantwoordelijk?")
B11: 8 | C11: Feitelijk aantal openingsdagen 2023
B12: 9 | C12: Totale productie 2023 in verblijfsetmalen (wordt automatisch gevuld) | D12: =D11*D8 -> 0
B13: 10 | C13: ="Welk deel in procenten van deze "&TEXT(D12,"0.000")&" etmalen zal naar schatting in 2023 Haarlemmermeerse jeugdigen betreffen?" -> Welk deel in procenten van deze 0.000 etmalen zal naar schatting in 2023 Haarlemmermeerse jeugdigen betreffen? | F13: Deze vraag is uitsluitend bedoeld ter raming van de ingekochte capaciteit 2023
B14: 11 | C14: ="Totaal fte (in roosters werkende) begeleiders 2023 voor deze "&TEXT(D6,"0,0")&" bedden*" -> Totaal fte (in roosters werkende) begeleiders 2023 voor deze 0,0 bedden* | F14: Uitsluitend (groeps)begeleiders en pedagogisch medewerkers. Zie ook *
B15: 12 | C15: A: Totaal aantal bruto uren begeleiders in heel 2023 voor hele groep (wordt automatisch gevuld) | D15: =D14*(365/7)*36 -> 0
B16: 13 | C16: Waarvan B: feitelijk aantal netto roosteruren per jaar agogisch/leefklimaat in 2023 | F16: =IF(D9="slapend","Een slapende nachtdienst van 8 uur telt (voor de meeste cao's) mee als 4 uur per etmaal.","")
B17: 14 | C17: Waarvan C: indirect cliëntgebonden tijd en/of niet-cliëntgebonden tijdbesteding (A-B) (wordt automatisch gevuld) | D17: =IFERROR(IF(AND(D15>0,D16>0),D15-D16,""),"")
B18: 15 | C18: …. aantal netto roosteruren voor deze groep per week… (wordt automatisch gevuld) | D18: =IFERROR(IF(D16>0,D16/(D11/7),""),"") | F18: =IF(D18="","","check: kloppen deze drie gele waarden met jullie administratie?")
B19: 16 | C19: …. aantal inroosterbare uren per fte begeleider per jaar… (wordt automatisch gevuld) | D19: =IFERROR(D16/D14,"")
B20: 17 | C20: …. aantal inroosterbare uren per fte begeleider per jaar komt overeen met productiviteit van…. (wordt automatisch gevuld) | D20: =IFERROR(D16/D15,"")
B21: 18 | C21: Begeleidingsintensiteit (wordt automatisch gevuld) | D21: =IFERROR( IF(AND(D5=Lijsten!$D$3,D7>=90%),D16/D12, IF(AND(D5=Lijsten!$D$3,D7<90%),D16/(D6*0.9*D11), IF(AND(D5<>Lijsten!$D$3,D7>=95%),D16/D12, IF(AND(D5<>Lijsten!$D$3,D7<95%),D16/(D6*0.95*D11))))),"")
B24: =IFERROR(IF(D5=Lijsten!$D$8,"DEZE REKENTOOL IS NIET BEDOELD VOOR CRISISVERBLIJF. GEBRUIK AUB DE REKENTOOL CRISISVERBLIJF",IF(D21>0,"Deze groep heeft "&INDEX(Lijsten!$F$3:$L$11,MATCH(ROUND($D$21,6),Lijsten!F3:F11,1),3)&". Begeleidingsintensiteit: "&TEXT(D21,"0,0")&". Bandbreedte ("&INDEX(Lijsten!H3:I11,MATCH(INDEX(Lijsten!$F$3:$L$11,MATCH(ROUND($D$21,6),Lijsten!F3:F11,1),3),Lijsten!$H$3:$H$11,0),2)&"). Tarief: "&TEXT(INDEX(Lijsten!$F$3:$L$11,MATCH(D21,Lijsten!F3:F11,1),7),"€000,00"),"Vul alle grijze velden in om de intensiteitsbepaling te zien.")),"Vul alle grijze velden in om de intensiteitsbepaling te zien.") -> Vul alle grijze velden in om de intensiteitsbepaling te zien.
B27: * Uitsluitend de volgende functies mogen hier worden meegeteld:
B28: ingroosterde uren van groepsbegeleiders
B29: ingroosterde uren van pedagogisch medewerkers
B30: ingroosterde uren van agogisch medewerkers
B31: bij driemilieuvoorzieningen: ingeroosterde uren van begeleiders op het terrein (niet direct aan één groep verbonden)
B33: De volgende functies tellen NIET mee:
B34: uren van begeleiders ingeroosterd voor individuele begeleiding / begeleiding thuis
B35: gastvrouw/gastheer
B36: gedragwetenschapper / alle wo opgeleide hulpverleners
B37: ambulant hulpverlener / (vak)therapeuten, behandelaars
B38: individueel begeleiders (uitzondering: bij kamertraining/begeleid wonen als er geen groepsbegeleiders zijn)

Sheet Verblijfsgroep 31
F2: Toelichting (zie ook tabblad invulinstructie)
C3: Kenmerken woon/verblijfgroep | D3: GEPLAND IN 2023
B4: 1 | C4: Naam groep
B5: 2 | C5: Welk type woon/verblijfgroep is dit? | F5: =IF(D5=Lijsten!$D$8,"DEZE REKENTOOL IS NIET BEDOELD VOOR CRISISVERBLIJF.","")
B6: 3 | C6: Aantal fysieke plaatsen / bedden / capaciteitsplaatsen van deze woon-/verblijfseenheid | F6: Tel alle capacteitisplaatsen mee, ongeacht voor welke wet of doelgroep ze worden ingezet
B7: 4 | C7: Bezettingsgraad (op jaarbasis) | F7: Vul of een realisatie 2021 in, of een verwachting voor 2023.
B8: 5 | C8: Feitelijk gemiddeld aantal bezette plaatsen (=capaciteit x bezettingsgraad, wordt automatisch gevuld) | D8: =D6*D7 -> 0
B9: 6 | C9: Wat voor type begeleiding heeft deze woon-/verblijfseenheid 's nachts? | F9: =IF(AND(D9=Lijsten!$M$4,D10>D6),"Als de slaapdienst meerdere groepen bedient, neem dan bij vraag 13 een evenredige doorbelasting van deze uren mee. Let op: uren slaapdienst tellen voor 50% mee.", IF(AND(D9=Lijsten!$M$4,D10=D6),"Tel bij vraag 13 de uren van de slapende wacht voor 50% mee (conform cao-bepalingen voor inconveniënte uren).", IF(AND(D9=Lijsten!$M$5,D10>D6),"Als de wakende dienst meerdere groepen bedient, neem dan bij vraag 13 een evenredige doorbelasting van deze uren mee.","")))
B10: 7 | C10: =IF(OR(D9="geen",$D$9=""),"","Voor hoeveel cliënten/patiënten is deze "&$D$9&" nachtdienst 's nachts verantwoordelijk?")
B11: 8 | C11: Feitelijk aantal openingsdagen 2023
B12: 9 | C12: Totale productie 2023 in verblijfsetmalen (wordt automatisch gevuld) | D12: =D11*D8 -> 0
B13: 10 | C13: ="Welk deel in procenten van deze "&TEXT(D12,"0.000")&" etmalen zal naar schatting in 2023 Haarlemmermeerse jeugdigen betreffen?" -> Welk deel in procenten van deze 0.000 etmalen zal naar schatting in 2023 Haarlemmermeerse jeugdigen betreffen? | F13: Deze vraag is uitsluitend bedoeld ter raming van de ingekochte capaciteit 2023
B14: 11 | C14: ="Totaal fte (in roosters werkende) begeleiders 2023 voor deze "&TEXT(D6,"0,0")&" bedden*" -> Totaal fte (in roosters werkende) begeleiders 2023 voor deze 0,0 bedden* | F14: Uitsluitend (groeps)begeleiders en pedagogisch medewerkers. Zie ook *
B15: 12 | C15: A: Totaal aantal bruto uren begeleiders in heel 2023 voor hele groep (wordt automatisch gevuld) | D15: =D14*(365/7)*36 -> 0
B16: 13 | C16: Waarvan B: feitelijk aantal netto roosteruren per jaar agogisch/leefklimaat in 2023 | F16: =IF(D9="slapend","Een slapende nachtdienst van 8 uur telt (voor de meeste cao's) mee als 4 uur per etmaal.","")
B17: 14 | C17: Waarvan C: indirect cliëntgebonden tijd en/of niet-cliëntgebonden tijdbesteding (A-B) (wordt automatisch gevuld) | D17: =IFERROR(IF(AND(D15>0,D16>0),D15-D16,""),"")
B18: 15 | C18: …. aantal netto roosteruren voor deze groep per week… (wordt automatisch gevuld) | D18: =IFERROR(IF(D16>0,D16/(D11/7),""),"") | F18: =IF(D18="","","check: kloppen deze drie gele waarden met jullie administratie?")
B19: 16 | C19: …. aantal inroosterbare uren per fte begeleider per jaar… (wordt automatisch gevuld) | D19: =IFERROR(D16/D14,"")
B20: 17 | C20: …. aantal inroosterbare uren per fte begeleider per jaar komt overeen met productiviteit van…. (wordt automatisch gevuld) | D20: =IFERROR(D16/D15,"")
B21: 18 | C21: Begeleidingsintensiteit (wordt automatisch gevuld) | D21: =IFERROR( IF(AND(D5=Lijsten!$D$3,D7>=90%),D16/D12, IF(AND(D5=Lijsten!$D$3,D7<90%),D16/(D6*0.9*D11), IF(AND(D5<>Lijsten!$D$3,D7>=95%),D16/D12, IF(AND(D5<>Lijsten!$D$3,D7<95%),D16/(D6*0.95*D11))))),"")
B24: =IFERROR(IF(D5=Lijsten!$D$8,"DEZE REKENTOOL IS NIET BEDOELD VOOR CRISISVERBLIJF. GEBRUIK AUB DE REKENTOOL CRISISVERBLIJF",IF(D21>0,"Deze groep heeft "&INDEX(Lijsten!$F$3:$L$11,MATCH(ROUND($D$21,6),Lijsten!F3:F11,1),3)&". Begeleidingsintensiteit: "&TEXT(D21,"0,0")&". Bandbreedte ("&INDEX(Lijsten!H3:I11,MATCH(INDEX(Lijsten!$F$3:$L$11,MATCH(ROUND($D$21,6),Lijsten!F3:F11,1),3),Lijsten!$H$3:$H$11,0),2)&"). Tarief: "&TEXT(INDEX(Lijsten!$F$3:$L$11,MATCH(D21,Lijsten!F3:F11,1),7),"€000,00"),"Vul alle grijze velden in om de intensiteitsbepaling te zien.")),"Vul alle grijze velden in om de intensiteitsbepaling te zien.") -> Vul alle grijze velden in om de intensiteitsbepaling te zien.
B27: * Uitsluitend de volgende functies mogen hier worden meegeteld:
B28: ingroosterde uren van groepsbegeleiders
B29: ingroosterde uren van pedagogisch medewerkers
B30: ingroosterde uren van agogisch medewerkers
B31: bij driemilieuvoorzieningen: ingeroosterde uren van begeleiders op het terrein (niet direct aan één groep verbonden)
B33: De volgende functies tellen NIET mee:
B34: uren van begeleiders ingeroosterd voor individuele begeleiding / begeleiding thuis
B35: gastvrouw/gastheer
B36: gedragwetenschapper / alle wo opgeleide hulpverleners
B37: ambulant hulpverlener / (vak)therapeuten, behandelaars
B38: individueel begeleiders (uitzondering: bij kamertraining/begeleid wonen als er geen groepsbegeleiders zijn)

Sheet Verblijfsgroep 32
F2: Toelichting (zie ook tabblad invulinstructie)
C3: Kenmerken woon/verblijfgroep | D3: GEPLAND IN 2023
B4: 1 | C4: Naam groep
B5: 2 | C5: Welk type woon/verblijfgroep is dit? | F5: =IF(D5=Lijsten!$D$8,"DEZE REKENTOOL IS NIET BEDOELD VOOR CRISISVERBLIJF.","")
B6: 3 | C6: Aantal fysieke plaatsen / bedden / capaciteitsplaatsen van deze woon-/verblijfseenheid | F6: Tel alle capacteitisplaatsen mee, ongeacht voor welke wet of doelgroep ze worden ingezet
B7: 4 | C7: Bezettingsgraad (op jaarbasis) | F7: Vul of een realisatie 2021 in, of een verwachting voor 2023.
B8: 5 | C8: Feitelijk gemiddeld aantal bezette plaatsen (=capaciteit x bezettingsgraad, wordt automatisch gevuld) | D8: =D6*D7 -> 0
B9: 6 | C9: Wat voor type begeleiding heeft deze woon-/verblijfseenheid 's nachts? | F9: =IF(AND(D9=Lijsten!$M$4,D10>D6),"Als de slaapdienst meerdere groepen bedient, neem dan bij vraag 13 een evenredige doorbelasting van deze uren mee. Let op: uren slaapdienst tellen voor 50% mee.", IF(AND(D9=Lijsten!$M$4,D10=D6),"Tel bij vraag 13 de uren van de slapende wacht voor 50% mee (conform cao-bepalingen voor inconveniënte uren).", IF(AND(D9=Lijsten!$M$5,D10>D6),"Als de wakende dienst meerdere groepen bedient, neem dan bij vraag 13 een evenredige doorbelasting van deze uren mee.","")))
B10: 7 | C10: =IF(OR(D9="geen",$D$9=""),"","Voor hoeveel cliënten/patiënten is deze "&$D$9&" nachtdienst 's nachts verantwoordelijk?")
B11: 8 | C11: Feitelijk aantal openingsdagen 2023
B12: 9 | C12: Totale productie 2023 in verblijfsetmalen (wordt automatisch gevuld) | D12: =D11*D8 -> 0
B13: 10 | C13: ="Welk deel in procenten van deze "&TEXT(D12,"0.000")&" etmalen zal naar schatting in 2023 Haarlemmermeerse jeugdigen betreffen?" -> Welk deel in procenten van deze 0.000 etmalen zal naar schatting in 2023 Haarlemmermeerse jeugdigen betreffen? | F13: Deze vraag is uitsluitend bedoeld ter raming van de ingekochte capaciteit 2023
B14: 11 | C14: ="Totaal fte (in roosters werkende) begeleiders 2023 voor deze "&TEXT(D6,"0,0")&" bedden*" -> Totaal fte (in roosters werkende) begeleiders 2023 voor deze 0,0 bedden* | F14: Uitsluitend (groeps)begeleiders en pedagogisch medewerkers. Zie ook *
B15: 12 | C15: A: Totaal aantal bruto uren begeleiders in heel 2023 voor hele groep (wordt automatisch gevuld) | D15: =D14*(365/7)*36 -> 0
B16: 13 | C16: Waarvan B: feitelijk aantal netto roosteruren per jaar agogisch/leefklimaat in 2023 | F16: =IF(D9="slapend","Een slapende nachtdienst van 8 uur telt (voor de meeste cao's) mee als 4 uur per etmaal.","")
B17: 14 | C17: Waarvan C: indirect cliëntgebonden tijd en/of niet-cliëntgebonden tijdbesteding (A-B) (wordt automatisch gevuld) | D17: =IFERROR(IF(AND(D15>0,D16>0),D15-D16,""),"")
B18: 15 | C18: …. aantal netto roosteruren voor deze groep per week… (wordt automatisch gevuld) | D18: =IFERROR(IF(D16>0,D16/(D11/7),""),"") | F18: =IF(D18="","","check: kloppen deze drie gele waarden met jullie administratie?")
B19: 16 | C19: …. aantal inroosterbare uren per fte begeleider per jaar… (wordt automatisch gevuld) | D19: =IFERROR(D16/D14,"")
B20: 17 | C20: …. aantal inroosterbare uren per fte begeleider per jaar komt overeen met productiviteit van…. (wordt automatisch gevuld) | D20: =IFERROR(D16/D15,"")
B21: 18 | C21: Begeleidingsintensiteit (wordt automatisch gevuld) | D21: =IFERROR( IF(AND(D5=Lijsten!$D$3,D7>=90%),D16/D12, IF(AND(D5=Lijsten!$D$3,D7<90%),D16/(D6*0.9*D11), IF(AND(D5<>Lijsten!$D$3,D7>=95%),D16/D12, IF(AND(D5<>Lijsten!$D$3,D7<95%),D16/(D6*0.95*D11))))),"")
B24: =IFERROR(IF(D5=Lijsten!$D$8,"DEZE REKENTOOL IS NIET BEDOELD VOOR CRISISVERBLIJF. GEBRUIK AUB DE REKENTOOL CRISISVERBLIJF",IF(D21>0,"Deze groep heeft "&INDEX(Lijsten!$F$3:$L$11,MATCH(ROUND($D$21,6),Lijsten!F3:F11,1),3)&". Begeleidingsintensiteit: "&TEXT(D21,"0,0")&". Bandbreedte ("&INDEX(Lijsten!H3:I11,MATCH(INDEX(Lijsten!$F$3:$L$11,MATCH(ROUND($D$21,6),Lijsten!F3:F11,1),3),Lijsten!$H$3:$H$11,0),2)&"). Tarief: "&TEXT(INDEX(Lijsten!$F$3:$L$11,MATCH(D21,Lijsten!F3:F11,1),7),"€000,00"),"Vul alle grijze velden in om de intensiteitsbepaling te zien.")),"Vul alle grijze velden in om de intensiteitsbepaling te zien.") -> Vul alle grijze velden in om de intensiteitsbepaling te zien.
B27: * Uitsluitend de volgende functies mogen hier worden meegeteld:
B28: ingroosterde uren van groepsbegeleiders
B29: ingroosterde uren van pedagogisch medewerkers
B30: ingroosterde uren van agogisch medewerkers
B31: bij driemilieuvoorzieningen: ingeroosterde uren van begeleiders op het terrein (niet direct aan één groep verbonden)
B33: De volgende functies tellen NIET mee:
B34: uren van begeleiders ingeroosterd voor individuele begeleiding / begeleiding thuis
B35: gastvrouw/gastheer
B36: gedragwetenschapper / alle wo opgeleide hulpverleners
B37: ambulant hulpverlener / (vak)therapeuten, behandelaars
B38: individueel begeleiders (uitzondering: bij kamertraining/begeleid wonen als er geen groepsbegeleiders zijn)

Sheet Verblijfsgroep 33
F2: Toelichting (zie ook tabblad invulinstructie)
C3: Kenmerken woon/verblijfgroep | D3: GEPLAND IN 2023
B4: 1 | C4: Naam groep
B5: 2 | C5: Welk type woon/verblijfgroep is dit? | F5: =IF(D5=Lijsten!$D$8,"DEZE REKENTOOL IS NIET BEDOELD VOOR CRISISVERBLIJF.","")
B6: 3 | C6: Aantal fysieke plaatsen / bedden / capaciteitsplaatsen van deze woon-/verblijfseenheid | F6: Tel alle capacteitisplaatsen mee, ongeacht voor welke wet of doelgroep ze worden ingezet
B7: 4 | C7: Bezettingsgraad (op jaarbasis) | F7: Vul of een realisatie 2021 in, of een verwachting voor 2023.
B8: 5 | C8: Feitelijk gemiddeld aantal bezette plaatsen (=capaciteit x bezettingsgraad, wordt automatisch gevuld) | D8: =D6*D7 -> 0
B9: 6 | C9: Wat voor type begeleiding heeft deze woon-/verblijfseenheid 's nachts? | F9: =IF(AND(D9=Lijsten!$M$4,D10>D6),"Als de slaapdienst meerdere groepen bedient, neem dan bij vraag 13 een evenredige doorbelasting van deze uren mee. Let op: uren slaapdienst tellen voor 50% mee.", IF(AND(D9=Lijsten!$M$4,D10=D6),"Tel bij vraag 13 de uren van de slapende wacht voor 50% mee (conform cao-bepalingen voor inconveniënte uren).", IF(AND(D9=Lijsten!$M$5,D10>D6),"Als de wakende dienst meerdere groepen bedient, neem dan bij vraag 13 een evenredige doorbelasting van deze uren mee.","")))
B10: 7 | C10: =IF(OR(D9="geen",$D$9=""),"","Voor hoeveel cliënten/patiënten is deze "&$D$9&" nachtdienst 's nachts verantwoordelijk?")
B11: 8 | C11: Feitelijk aantal openingsdagen 2023
B12: 9 | C12: Totale productie 2023 in verblijfsetmalen (wordt automatisch gevuld) | D12: =D11*D8 -> 0
B13: 10 | C13: ="Welk deel in procenten van deze "&TEXT(D12,"0.000")&" etmalen zal naar schatting in 2023 Haarlemmermeerse jeugdigen betreffen?" -> Welk deel in procenten van deze 0.000 etmalen zal naar schatting in 2023 Haarlemmermeerse jeugdigen betreffen? | F13: Deze vraag is uitsluitend bedoeld ter raming van de ingekochte capaciteit 2023
B14: 11 | C14: ="Totaal fte (in roosters werkende) begeleiders 2023 voor deze "&TEXT(D6,"0,0")&" bedden*" -> Totaal fte (in roosters werkende) begeleiders 2023 voor deze 0,0 bedden* | F14: Uitsluitend (groeps)begeleiders en pedagogisch medewerkers. Zie ook *
B15: 12 | C15: A: Totaal aantal bruto uren begeleiders in heel 2023 voor hele groep (wordt automatisch gevuld) | D15: =D14*(365/7)*36 -> 0
B16: 13 | C16: Waarvan B: feitelijk aantal netto roosteruren per jaar agogisch/leefklimaat in 2023 | F16: =IF(D9="slapend","Een slapende nachtdienst van 8 uur telt (voor de meeste cao's) mee als 4 uur per etmaal.","")
B17: 14 | C17: Waarvan C: indirect cliëntgebonden tijd en/of niet-cliëntgebonden tijdbesteding (A-B) (wordt automatisch gevuld) | D17: =IFERROR(IF(AND(D15>0,D16>0),D15-D16,""),"")
B18: 15 | C18: …. aantal netto roosteruren voor deze groep per week… (wordt automatisch gevuld) | D18: =IFERROR(IF(D16>0,D16/(D11/7),""),"") | F18: =IF(D18="","","check: kloppen deze drie gele waarden met jullie administratie?")
B19: 16 | C19: …. aantal inroosterbare uren per fte begeleider per jaar… (wordt automatisch gevuld) | D19: =IFERROR(D16/D14,"")
B20: 17 | C20: …. aantal inroosterbare uren per fte begeleider per jaar komt overeen met productiviteit van…. (wordt automatisch gevuld) | D20: =IFERROR(D16/D15,"")
B21: 18 | C21: Begeleidingsintensiteit (wordt automatisch gevuld) | D21: =IFERROR( IF(AND(D5=Lijsten!$D$3,D7>=90%),D16/D12, IF(AND(D5=Lijsten!$D$3,D7<90%),D16/(D6*0.9*D11), IF(AND(D5<>Lijsten!$D$3,D7>=95%),D16/D12, IF(AND(D5<>Lijsten!$D$3,D7<95%),D16/(D6*0.95*D11))))),"")
B24: =IFERROR(IF(D5=Lijsten!$D$8,"DEZE REKENTOOL IS NIET BEDOELD VOOR CRISISVERBLIJF. GEBRUIK AUB DE REKENTOOL CRISISVERBLIJF",IF(D21>0,"Deze groep heeft "&INDEX(Lijsten!$F$3:$L$11,MATCH(ROUND($D$21,6),Lijsten!F3:F11,1),3)&". Begeleidingsintensiteit: "&TEXT(D21,"0,0")&". Bandbreedte ("&INDEX(Lijsten!H3:I11,MATCH(INDEX(Lijsten!$F$3:$L$11,MATCH(ROUND($D$21,6),Lijsten!F3:F11,1),3),Lijsten!$H$3:$H$11,0),2)&"). Tarief: "&TEXT(INDEX(Lijsten!$F$3:$L$11,MATCH(D21,Lijsten!F3:F11,1),7),"€000,00"),"Vul alle grijze velden in om de intensiteitsbepaling te zien.")),"Vul alle grijze velden in om de intensiteitsbepaling te zien.") -> Vul alle grijze velden in om de intensiteitsbepaling te zien.
B27: * Uitsluitend de volgende functies mogen hier worden meegeteld:
B28: ingroosterde uren van groepsbegeleiders
B29: ingroosterde uren van pedagogisch medewerkers
B30: ingroosterde uren van agogisch medewerkers
B31: bij driemilieuvoorzieningen: ingeroosterde uren van begeleiders op het terrein (niet direct aan één groep verbonden)
B33: De volgende functies tellen NIET mee:
B34: uren van begeleiders ingeroosterd voor individuele begeleiding / begeleiding thuis
B35: gastvrouw/gastheer
B36: gedragwetenschapper / alle wo opgeleide hulpverleners
B37: ambulant hulpverlener / (vak)therapeuten, behandelaars
B38: individueel begeleiders (uitzondering: bij kamertraining/begeleid wonen als er geen groepsbegeleiders zijn)

Sheet Verblijfsgroep 34
F2: Toelichting (zie ook tabblad invulinstructie)
C3: Kenmerken woon/verblijfgroep | D3: GEPLAND IN 2023
B4: 1 | C4: Naam groep
B5: 2 | C5: Welk type woon/verblijfgroep is dit? | F5: =IF(D5=Lijsten!$D$8,"DEZE REKENTOOL IS NIET BEDOELD VOOR CRISISVERBLIJF.","")
B6: 3 | C6: Aantal fysieke plaatsen / bedden / capaciteitsplaatsen van deze woon-/verblijfseenheid | F6: Tel alle capacteitisplaatsen mee, ongeacht voor welke wet of doelgroep ze worden ingezet
B7: 4 | C7: Bezettingsgraad (op jaarbasis) | F7: Vul of een realisatie 2021 in, of een verwachting voor 2023.
B8: 5 | C8: Feitelijk gemiddeld aantal bezette plaatsen (=capaciteit x bezettingsgraad, wordt automatisch gevuld) | D8: =D6*D7 -> 0
B9: 6 | C9: Wat voor type begeleiding heeft deze woon-/verblijfseenheid 's nachts? | F9: =IF(AND(D9=Lijsten!$M$4,D10>D6),"Als de slaapdienst meerdere groepen bedient, neem dan bij vraag 13 een evenredige doorbelasting van deze uren mee. Let op: uren slaapdienst tellen voor 50% mee.", IF(AND(D9=Lijsten!$M$4,D10=D6),"Tel bij vraag 13 de uren van de slapende wacht voor 50% mee (conform cao-bepalingen voor inconveniënte uren).", IF(AND(D9=Lijsten!$M$5,D10>D6),"Als de wakende dienst meerdere groepen bedient, neem dan bij vraag 13 een evenredige doorbelasting van deze uren mee.","")))
B10: 7 | C10: =IF(OR(D9="geen",$D$9=""),"","Voor hoeveel cliënten/patiënten is deze "&$D$9&" nachtdienst 's nachts verantwoordelijk?")
B11: 8 | C11: Feitelijk aantal openingsdagen 2023
B12: 9 | C12: Totale productie 2023 in verblijfsetmalen (wordt automatisch gevuld) | D12: =D11*D8 -> 0
B13: 10 | C13: ="Welk deel in procenten van deze "&TEXT(D12,"0.000")&" etmalen zal naar schatting in 2023 Haarlemmermeerse jeugdigen betreffen?" -> Welk deel in procenten van deze 0.000 etmalen zal naar schatting in 2023 Haarlemmermeerse jeugdigen betreffen? | F13: Deze vraag is uitsluitend bedoeld ter raming van de ingekochte capaciteit 2023
B14: 11 | C14: ="Totaal fte (in roosters werkende) begeleiders 2023 voor deze "&TEXT(D6,"0,0")&" bedden*" -> Totaal fte (in roosters werkende) begeleiders 2023 voor deze 0,0 bedden* | F14: Uitsluitend (groeps)begeleiders en pedagogisch medewerkers. Zie ook *
B15: 12 | C15: A: Totaal aantal bruto uren begeleiders in heel 2023 voor hele groep (wordt automatisch gevuld) | D15: =D14*(365/7)*36 -> 0
B16: 13 | C16: Waarvan B: feitelijk aantal netto roosteruren per jaar agogisch/leefklimaat in 2023 | F16: =IF(D9="slapend","Een slapende nachtdienst van 8 uur telt (voor de meeste cao's) mee als 4 uur per etmaal.","")
B17: 14 | C17: Waarvan C: indirect cliëntgebonden tijd en/of niet-cliëntgebonden tijdbesteding (A-B) (wordt automatisch gevuld) | D17: =IFERROR(IF(AND(D15>0,D16>0),D15-D16,""),"")
B18: 15 | C18: …. aantal netto roosteruren voor deze groep per week… (wordt automatisch gevuld) | D18: =IFERROR(IF(D16>0,D16/(D11/7),""),"") | F18: =IF(D18="","","check: kloppen deze drie gele waarden met jullie administratie?")
B19: 16 | C19: …. aantal inroosterbare uren per fte begeleider per jaar… (wordt automatisch gevuld) | D19: =IFERROR(D16/D14,"")
B20: 17 | C20: …. aantal inroosterbare uren per fte begeleider per jaar komt overeen met productiviteit van…. (wordt automatisch gevuld) | D20: =IFERROR(D16/D15,"")
B21: 18 | C21: Begeleidingsintensiteit (wordt automatisch gevuld) | D21: =IFERROR( IF(AND(D5=Lijsten!$D$3,D7>=90%),D16/D12, IF(AND(D5=Lijsten!$D$3,D7<90%),D16/(D6*0.9*D11), IF(AND(D5<>Lijsten!$D$3,D7>=95%),D16/D12, IF(AND(D5<>Lijsten!$D$3,D7<95%),D16/(D6*0.95*D11))))),"")
B24: =IFERROR(IF(D5=Lijsten!$D$8,"DEZE REKENTOOL IS NIET BEDOELD VOOR CRISISVERBLIJF. GEBRUIK AUB DE REKENTOOL CRISISVERBLIJF",IF(D21>0,"Deze groep heeft "&INDEX(Lijsten!$F$3:$L$11,MATCH(ROUND($D$21,6),Lijsten!F3:F11,1),3)&". Begeleidingsintensiteit: "&TEXT(D21,"0,0")&". Bandbreedte ("&INDEX(Lijsten!H3:I11,MATCH(INDEX(Lijsten!$F$3:$L$11,MATCH(ROUND($D$21,6),Lijsten!F3:F11,1),3),Lijsten!$H$3:$H$11,0),2)&"). Tarief: "&TEXT(INDEX(Lijsten!$F$3:$L$11,MATCH(D21,Lijsten!F3:F11,1),7),"€000,00"),"Vul alle grijze velden in om de intensiteitsbepaling te zien.")),"Vul alle grijze velden in om de intensiteitsbepaling te zien.") -> Vul alle grijze velden in om de intensiteitsbepaling te zien.
B27: * Uitsluitend de volgende functies mogen hier worden meegeteld:
B28: ingroosterde uren van groepsbegeleiders
B29: ingroosterde uren van pedagogisch medewerkers
B30: ingroosterde uren van agogisch medewerkers
B31: bij driemilieuvoorzieningen: ingeroosterde uren van begeleiders op het terrein (niet direct aan één groep verbonden)
B33: De volgende functies tellen NIET mee:
B34: uren van begeleiders ingeroosterd voor individuele begeleiding / begeleiding thuis
B35: gastvrouw/gastheer
B36: gedragwetenschapper / alle wo opgeleide hulpverleners
B37: ambulant hulpverlener / (vak)therapeuten, behandelaars
B38: individueel begeleiders (uitzondering: bij kamertraining/begeleid wonen als er geen groepsbegeleiders zijn)

Sheet Verblijfsgroep 35
F2: Toelichting (zie ook tabblad invulinstructie)
C3: Kenmerken woon/verblijfgroep | D3: GEPLAND IN 2023
B4: 1 | C4: Naam groep
B5: 2 | C5: Welk type woon/verblijfgroep is dit? | F5: =IF(D5=Lijsten!$D$8,"DEZE REKENTOOL IS NIET BEDOELD VOOR CRISISVERBLIJF.","")
B6: 3 | C6: Aantal fysieke plaatsen / bedden / capaciteitsplaatsen van deze woon-/verblijfseenheid | F6: Tel alle capacteitisplaatsen mee, ongeacht voor welke wet of doelgroep ze worden ingezet
B7: 4 | C7: Bezettingsgraad (op jaarbasis) | F7: Vul of een realisatie 2021 in, of een verwachting voor 2023.
B8: 5 | C8: Feitelijk gemiddeld aantal bezette plaatsen (=capaciteit x bezettingsgraad, wordt automatisch gevuld) | D8: =D6*D7 -> 0
B9: 6 | C9: Wat voor type begeleiding heeft deze woon-/verblijfseenheid 's nachts? | F9: =IF(AND(D9=Lijsten!$M$4,D10>D6),"Als de slaapdienst meerdere groepen bedient, neem dan bij vraag 13 een evenredige doorbelasting van deze uren mee. Let op: uren slaapdienst tellen voor 50% mee.", IF(AND(D9=Lijsten!$M$4,D10=D6),"Tel bij vraag 13 de uren van de slapende wacht voor 50% mee (conform cao-bepalingen voor inconveniënte uren).", IF(AND(D9=Lijsten!$M$5,D10>D6),"Als de wakende dienst meerdere groepen bedient, neem dan bij vraag 13 een evenredige doorbelasting van deze uren mee.","")))
B10: 7 | C10: =IF(OR(D9="geen",$D$9=""),"","Voor hoeveel cliënten/patiënten is deze "&$D$9&" nachtdienst 's nachts verantwoordelijk?")
B11: 8 | C11: Feitelijk aantal openingsdagen 2023
B12: 9 | C12: Totale productie 2023 in verblijfsetmalen (wordt automatisch gevuld) | D12: =D11*D8 -> 0
B13: 10 | C13: ="Welk deel in procenten van deze "&TEXT(D12,"0.000")&" etmalen zal naar schatting in 2023 Haarlemmermeerse jeugdigen betreffen?" -> Welk deel in procenten van deze 0.000 etmalen zal naar schatting in 2023 Haarlemmermeerse jeugdigen betreffen? | F13: Deze vraag is uitsluitend bedoeld ter raming van de ingekochte capaciteit 2023
B14: 11 | C14: ="Totaal fte (in roosters werkende) begeleiders 2023 voor deze "&TEXT(D6,"0,0")&" bedden*" -> Totaal fte (in roosters werkende) begeleiders 2023 voor deze 0,0 bedden* | F14: Uitsluitend (groeps)begeleiders en pedagogisch medewerkers. Zie ook *
B15: 12 | C15: A: Totaal aantal bruto uren begeleiders in heel 2023 voor hele groep (wordt automatisch gevuld) | D15: =D14*(365/7)*36 -> 0
B16: 13 | C16: Waarvan B: feitelijk aantal netto roosteruren per jaar agogisch/leefklimaat in 2023 | F16: =IF(D9="slapend","Een slapende nachtdienst van 8 uur telt (voor de meeste cao's) mee als 4 uur per etmaal.","")
B17: 14 | C17: Waarvan C: indirect cliëntgebonden tijd en/of niet-cliëntgebonden tijdbesteding (A-B) (wordt automatisch gevuld) | D17: =IFERROR(IF(AND(D15>0,D16>0),D15-D16,""),"")
B18: 15 | C18: …. aantal netto roosteruren voor deze groep per week… (wordt automatisch gevuld) | D18: =IFERROR(IF(D16>0,D16/(D11/7),""),"") | F18: =IF(D18="","","check: kloppen deze drie gele waarden met jullie administratie?")
B19: 16 | C19: …. aantal inroosterbare uren per fte begeleider per jaar… (wordt automatisch gevuld) | D19: =IFERROR(D16/D14,"")
B20: 17 | C20: …. aantal inroosterbare uren per fte begeleider per jaar komt overeen met productiviteit van…. (wordt automatisch gevuld) | D20: =IFERROR(D16/D15,"")
B21: 18 | C21: Begeleidingsintensiteit (wordt automatisch gevuld) | D21: =IFERROR( IF(AND(D5=Lijsten!$D$3,D7>=90%),D16/D12, IF(AND(D5=Lijsten!$D$3,D7<90%),D16/(D6*0.9*D11), IF(AND(D5<>Lijsten!$D$3,D7>=95%),D16/D12, IF(AND(D5<>Lijsten!$D$3,D7<95%),D16/(D6*0.95*D11))))),"")
B24: =IFERROR(IF(D5=Lijsten!$D$8,"DEZE REKENTOOL IS NIET BEDOELD VOOR CRISISVERBLIJF. GEBRUIK AUB DE REKENTOOL CRISISVERBLIJF",IF(D21>0,"Deze groep heeft "&INDEX(Lijsten!$F$3:$L$11,MATCH(ROUND($D$21,6),Lijsten!F3:F11,1),3)&". Begeleidingsintensiteit: "&TEXT(D21,"0,0")&". Bandbreedte ("&INDEX(Lijsten!H3:I11,MATCH(INDEX(Lijsten!$F$3:$L$11,MATCH(ROUND($D$21,6),Lijsten!F3:F11,1),3),Lijsten!$H$3:$H$11,0),2)&"). Tarief: "&TEXT(INDEX(Lijsten!$F$3:$L$11,MATCH(D21,Lijsten!F3:F11,1),7),"€000,00"),"Vul alle grijze velden in om de intensiteitsbepaling te zien.")),"Vul alle grijze velden in om de intensiteitsbepaling te zien.") -> Vul alle grijze velden in om de intensiteitsbepaling te zien.
B27: * Uitsluitend de volgende functies mogen hier worden meegeteld:
B28: ingroosterde uren van groepsbegeleiders
B29: ingroosterde uren van pedagogisch medewerkers
B30: ingroosterde uren van agogisch medewerkers
B31: bij driemilieuvoorzieningen: ingeroosterde uren van begeleiders op het terrein (niet direct aan één groep verbonden)
B33: De volgende functies tellen NIET mee:
B34: uren van begeleiders ingeroosterd voor individuele begeleiding / begeleiding thuis
B35: gastvrouw/gastheer
B36: gedragwetenschapper / alle wo opgeleide hulpverleners
B37: ambulant hulpverlener / (vak)therapeuten, behandelaars
B38: individueel begeleiders (uitzondering: bij kamertraining/begeleid wonen als er geen groepsbegeleiders zijn)

Sheet Verblijfsgroep 36
F2: Toelichting (zie ook tabblad invulinstructie)
C3: Kenmerken woon/verblijfgroep | D3: GEPLAND IN 2023
B4: 1 | C4: Naam groep
B5: 2 | C5: Welk type woon/verblijfgroep is dit? | F5: =IF(D5=Lijsten!$D$8,"DEZE REKENTOOL IS NIET BEDOELD VOOR CRISISVERBLIJF.","")
B6: 3 | C6: Aantal fysieke plaatsen / bedden / capaciteitsplaatsen van deze woon-/verblijfseenheid | F6: Tel alle capacteitisplaatsen mee, ongeacht voor welke wet of doelgroep ze worden ingezet
B7: 4 | C7: Bezettingsgraad (op jaarbasis) | F7: Vul of een realisatie 2021 in, of een verwachting voor 2023.
B8: 5 | C8: Feitelijk gemiddeld aantal bezette plaatsen (=capaciteit x bezettingsgraad, wordt automatisch gevuld) | D8: =D6*D7 -> 0
B9: 6 | C9: Wat voor type begeleiding heeft deze woon-/verblijfseenheid 's nachts? | F9: =IF(AND(D9=Lijsten!$M$4,D10>D6),"Als de slaapdienst meerdere groepen bedient, neem dan bij vraag 13 een evenredige doorbelasting van deze uren mee. Let op: uren slaapdienst tellen voor 50% mee.", IF(AND(D9=Lijsten!$M$4,D10=D6),"Tel bij vraag 13 de uren van de slapende wacht voor 50% mee (conform cao-bepalingen voor inconveniënte uren).", IF(AND(D9=Lijsten!$M$5,D10>D6),"Als de wakende dienst meerdere groepen bedient, neem dan bij vraag 13 een evenredige doorbelasting van deze uren mee.","")))
B10: 7 | C10: =IF(OR(D9="geen",$D$9=""),"","Voor hoeveel cliënten/patiënten is deze "&$D$9&" nachtdienst 's nachts verantwoordelijk?")
B11: 8 | C11: Feitelijk aantal openingsdagen 2023
B12: 9 | C12: Totale productie 2023 in verblijfsetmalen (wordt automatisch gevuld) | D12: =D11*D8 -> 0
B13: 10 | C13: ="Welk deel in procenten van deze "&TEXT(D12,"0.000")&" etmalen zal naar schatting in 2023 Haarlemmermeerse jeugdigen betreffen?" -> Welk deel in procenten van deze 0.000 etmalen zal naar schatting in 2023 Haarlemmermeerse jeugdigen betreffen? | F13: Deze vraag is uitsluitend bedoeld ter raming van de ingekochte capaciteit 2023
B14: 11 | C14: ="Totaal fte (in roosters werkende) begeleiders 2023 voor deze "&TEXT(D6,"0,0")&" bedden*" -> Totaal fte (in roosters werkende) begeleiders 2023 voor deze 0,0 bedden* | F14: Uitsluitend (groeps)begeleiders en pedagogisch medewerkers. Zie ook *
B15: 12 | C15: A: Totaal aantal bruto uren begeleiders in heel 2023 voor hele groep (wordt automatisch gevuld) | D15: =D14*(365/7)*36 -> 0
B16: 13 | C16: Waarvan B: feitelijk aantal netto roosteruren per jaar agogisch/leefklimaat in 2023 | F16: =IF(D9="slapend","Een slapende nachtdienst van 8 uur telt (voor de meeste cao's) mee als 4 uur per etmaal.","")
B17: 14 | C17: Waarvan C: indirect cliëntgebonden tijd en/of niet-cliëntgebonden tijdbesteding (A-B) (wordt automatisch gevuld) | D17: =IFERROR(IF(AND(D15>0,D16>0),D15-D16,""),"")
B18: 15 | C18: …. aantal netto roosteruren voor deze groep per week… (wordt automatisch gevuld) | D18: =IFERROR(IF(D16>0,D16/(D11/7),""),"") | F18: =IF(D18="","","check: kloppen deze drie gele waarden met jullie administratie?")
B19: 16 | C19: …. aantal inroosterbare uren per fte begeleider per jaar… (wordt automatisch gevuld) | D19: =IFERROR(D16/D14,"")
B20: 17 | C20: …. aantal inroosterbare uren per fte begeleider per jaar komt overeen met productiviteit van…. (wordt automatisch gevuld) | D20: =IFERROR(D16/D15,"")
B21: 18 | C21: Begeleidingsintensiteit (wordt automatisch gevuld) | D21: =IFERROR( IF(AND(D5=Lijsten!$D$3,D7>=90%),D16/D12, IF(AND(D5=Lijsten!$D$3,D7<90%),D16/(D6*0.9*D11), IF(AND(D5<>Lijsten!$D$3,D7>=95%),D16/D12, IF(AND(D5<>Lijsten!$D$3,D7<95%),D16/(D6*0.95*D11))))),"")
B24: =IFERROR(IF(D5=Lijsten!$D$8,"DEZE REKENTOOL IS NIET BEDOELD VOOR CRISISVERBLIJF. GEBRUIK AUB DE REKENTOOL CRISISVERBLIJF",IF(D21>0,"Deze groep heeft "&INDEX(Lijsten!$F$3:$L$11,MATCH(ROUND($D$21,6),Lijsten!F3:F11,1),3)&". Begeleidingsintensiteit: "&TEXT(D21,"0,0")&". Bandbreedte ("&INDEX(Lijsten!H3:I11,MATCH(INDEX(Lijsten!$F$3:$L$11,MATCH(ROUND($D$21,6),Lijsten!F3:F11,1),3),Lijsten!$H$3:$H$11,0),2)&"). Tarief: "&TEXT(INDEX(Lijsten!$F$3:$L$11,MATCH(D21,Lijsten!F3:F11,1),7),"€000,00"),"Vul alle grijze velden in om de intensiteitsbepaling te zien.")),"Vul alle grijze velden in om de intensiteitsbepaling te zien.") -> Vul alle grijze velden in om de intensiteitsbepaling te zien.
B27: * Uitsluitend de volgende functies mogen hier worden meegeteld:
B28: ingroosterde uren van groepsbegeleiders
B29: ingroosterde uren van pedagogisch medewerkers
B30: ingroosterde uren van agogisch medewerkers
B31: bij driemilieuvoorzieningen: ingeroosterde uren van begeleiders op het terrein (niet direct aan één groep verbonden)
B33: De volgende functies tellen NIET mee:
B34: uren van begeleiders ingeroosterd voor individuele begeleiding / begeleiding thuis
B35: gastvrouw/gastheer
B36: gedragwetenschapper / alle wo opgeleide hulpverleners
B37: ambulant hulpverlener / (vak)therapeuten, behandelaars
B38: individueel begeleiders (uitzondering: bij kamertraining/begeleid wonen als er geen groepsbegeleiders zijn)

Sheet Verblijfsgroep 37
F2: Toelichting (zie ook tabblad invulinstructie)
C3: Kenmerken woon/verblijfgroep | D3: GEPLAND IN 2023
B4: 1 | C4: Naam groep
B5: 2 | C5: Welk type woon/verblijfgroep is dit? | F5: =IF(D5=Lijsten!$D$8,"DEZE REKENTOOL IS NIET BEDOELD VOOR CRISISVERBLIJF.","")
B6: 3 | C6: Aantal fysieke plaatsen / bedden / capaciteitsplaatsen van deze woon-/verblijfseenheid | F6: Tel alle capacteitisplaatsen mee, ongeacht voor welke wet of doelgroep ze worden ingezet
B7: 4 | C7: Bezettingsgraad (op jaarbasis) | F7: Vul of een realisatie 2021 in, of een verwachting voor 2023.
B8: 5 | C8: Feitelijk gemiddeld aantal bezette plaatsen (=capaciteit x bezettingsgraad, wordt automatisch gevuld) | D8: =D6*D7 -> 0
B9: 6 | C9: Wat voor type begeleiding heeft deze woon-/verblijfseenheid 's nachts? | F9: =IF(AND(D9=Lijsten!$M$4,D10>D6),"Als de slaapdienst meerdere groepen bedient, neem dan bij vraag 13 een evenredige doorbelasting van deze uren mee. Let op: uren slaapdienst tellen voor 50% mee.", IF(AND(D9=Lijsten!$M$4,D10=D6),"Tel bij vraag 13 de uren van de slapende wacht voor 50% mee (conform cao-bepalingen voor inconveniënte uren).", IF(AND(D9=Lijsten!$M$5,D10>D6),"Als de wakende dienst meerdere groepen bedient, neem dan bij vraag 13 een evenredige doorbelasting van deze uren mee.","")))
B10: 7 | C10: =IF(OR(D9="geen",$D$9=""),"","Voor hoeveel cliënten/patiënten is deze "&$D$9&" nachtdienst 's nachts verantwoordelijk?")
B11: 8 | C11: Feitelijk aantal openingsdagen 2023
B12: 9 | C12: Totale productie 2023 in verblijfsetmalen (wordt automatisch gevuld) | D12: =D11*D8 -> 0
B13: 10 | C13: ="Welk deel in procenten van deze "&TEXT(D12,"0.000")&" etmalen zal naar schatting in 2023 Haarlemmermeerse jeugdigen betreffen?" -> Welk deel in procenten van deze 0.000 etmalen zal naar schatting in 2023 Haarlemmermeerse jeugdigen betreffen? | F13: Deze vraag is uitsluitend bedoeld ter raming van de ingekochte capaciteit 2023
B14: 11 | C14: ="Totaal fte (in roosters werkende) begeleiders 2023 voor deze "&TEXT(D6,"0,0")&" bedden*" -> Totaal fte (in roosters werkende) begeleiders 2023 voor deze 0,0 bedden* | F14: Uitsluitend (groeps)begeleiders en pedagogisch medewerkers. Zie ook *
B15: 12 | C15: A: Totaal aantal bruto uren begeleiders in heel 2023 voor hele groep (wordt automatisch gevuld) | D15: =D14*(365/7)*36 -> 0
B16: 13 | C16: Waarvan B: feitelijk aantal netto roosteruren per jaar agogisch/leefklimaat in 2023 | F16: =IF(D9="slapend","Een slapende nachtdienst van 8 uur telt (voor de meeste cao's) mee als 4 uur per etmaal.","")
B17: 14 | C17: Waarvan C: indirect cliëntgebonden tijd en/of niet-cliëntgebonden tijdbesteding (A-B) (wordt automatisch gevuld) | D17: =IFERROR(IF(AND(D15>0,D16>0),D15-D16,""),"")
B18: 15 | C18: …. aantal netto roosteruren voor deze groep per week… (wordt automatisch gevuld) | D18: =IFERROR(IF(D16>0,D16/(D11/7),""),"") | F18: =IF(D18="","","check: kloppen deze drie gele waarden met jullie administratie?")
B19: 16 | C19: …. aantal inroosterbare uren per fte begeleider per jaar… (wordt automatisch gevuld) | D19: =IFERROR(D16/D14,"")
B20: 17 | C20: …. aantal inroosterbare uren per fte begeleider per jaar komt overeen met productiviteit van…. (wordt automatisch gevuld) | D20: =IFERROR(D16/D15,"")
B21: 18 | C21: Begeleidingsintensiteit (wordt automatisch gevuld) | D21: =IFERROR( IF(AND(D5=Lijsten!$D$3,D7>=90%),D16/D12, IF(AND(D5=Lijsten!$D$3,D7<90%),D16/(D6*0.9*D11), IF(AND(D5<>Lijsten!$D$3,D7>=95%),D16/D12, IF(AND(D5<>Lijsten!$D$3,D7<95%),D16/(D6*0.95*D11))))),"")
