Workbook

Sheet Prijsformulier
B2: Positie 1: Levering en installatie
B4: Positie | C4: Onderdeel | G4: Prijs/stuk | H4: Aantal | I4: Totaal
B5: 1.1 | C5: Parkeerautomaten op basis van omschrijving Programma van Eisen met muntacceptatie (prijs zonder muntgeld eindcassette) * | G5: 0 | H5: =50+66 -> 116 | I5: =G5*H5 -> 0
B6: 1.2 | C6: Parkeerautomaten op basis van omschrijving Programma van Eisen zonder muntacceptatie * | G6: 0 | H6: 50 | I6: =G6*H6 -> 0
B7: 1.3 | C7: Installatie en plaatsing per Parkeerautomaat * | G7: 0 | H7: =H5+H6 -> 166 | I7: =G7*H7 -> 0
B8: 1.4 | C8: Verwijslichtbak* | G8: 0 | H8: =H7 -> 166 | I8: =G8*H8 -> 0
B9: 1.5 | C9: Fundatie incl. montage * | G9: 0 | H9: =H7 -> 166 | I9: =G9*H9 -> 0
B10: 1.6 | C10: Muntgeld eindcassette* | G10: 0 | H10: =H5+2 -> 118 | I10: =G10*H10 -> 0
B11: 1.7 | C11: Vuurwerkkap/-plaat* | G11: 0 | H11: =H7 -> 166 | I11: =G11*H11 -> 0
B12: 1 | C12: =B2 -> Positie 1: Levering en installatie | I12: =SUM(I5:I11) -> 0
B13: * Deze onderdelen zijn verrekenbaar aan de hand van eventueel wijzigende aantallen. Dit betreft een raamovereenkomst, gedurende de looptijd van de raamovereenkomst kan Opdrachtgever Nadere Overeenkomsten afsluiten.
B15: Positie 2: Jaarlijkse kosten op basis van maandtarieven
B17: Aantal Parkeerautomaten conform levering: | E17: ="(zie positie "&B5&" + "&B6&")" -> (zie positie 1.1 + 1.2) | G17: =H5+H6 -> 166
D19: Bedrag per Parkeerautomaat per maand
B20: Positie | C20: Jaar | D20: Onderhoud | E20: Onderhoud EMV lezers | F20: Helpdesk-functionaliteit | G20: Hosting, beveiliging, koppelingen en licenties Beheersysteem | H20: Datacommunicatie (abonnement en simkaart) | I20: Totaal
B21: 2.1 | C21: jaar 1 (incl. garantie) | D21: 0 | E21: 0 | F21: 0 | G21: 0 | H21: 0 | I21: =12*(SUM(D21:H21)*$G$17) -> 0
B22: 2.2 | C22: jaar 2 | D22: 0 | E22: 0 | F22: 0 | G22: 0 | H22: 0 | I22: =12*(SUM(D22:H22)*$G$17) -> 0
B23: 2.3 | C23: jaar 3 | D23: 0 | E23: 0 | F23: 0 | G23: 0 | H23: 0 | I23: =12*(SUM(D23:H23)*$G$17) -> 0
B24: 2.4 | C24: jaar 4 | D24: 0 | E24: 0 | F24: 0 | G24: 0 | H24: 0 | I24: =12*(SUM(D24:H24)*$G$17) -> 0
B25: 2.5 | C25: jaar 5 | D25: 0 | E25: 0 | F25: 0 | G25: 0 | H25: 0 | I25: =12*(SUM(D25:H25)*$G$17) -> 0
B26: 2.6 | C26: jaar 6 | D26: 0 | E26: 0 | F26: 0 | G26: 0 | H26: 0 | I26: =12*(SUM(D26:H26)*$G$17) -> 0
B27: 2.7 | C27: jaar 7 | D27: 0 | E27: 0 | F27: 0 | G27: 0 | H27: 0 | I27: =12*(SUM(D27:H27)*$G$17) -> 0
B28: 2.8 | C28: jaar 8 | D28: 0 | E28: 0 | F28: 0 | G28: 0 | H28: 0 | I28: =12*(SUM(D28:H28)*$G$17) -> 0
B29: 2.9 | C29: jaar 9 | D29: 0 | E29: 0 | F29: 0 | G29: 0 | H29: 0 | I29: =12*(SUM(D29:H29)*$G$17) -> 0
B30: 2.10 | C30: jaar 10 | D30: 0 | E30: 0 | F30: 0 | G30: 0 | H30: 0 | I30: =12*(SUM(D30:H30)*$G$17) -> 0
B31: Maandbedrag na het 10e jaar** | D31: =AVERAGE(D22:D30) -> 0 | E31: =AVERAGE(E21:E30) -> 0 | F31: =AVERAGE(F21:F30) -> 0 | G31: =AVERAGE(G21:G30) -> 0 | H31: =AVERAGE(H21:H30) -> 0
B32: 2 | C32: =B15 -> Positie 2: Jaarlijkse kosten op basis van maandtarieven | I32: =SUM(I21:I30) -> 0
B33: ** Na het tiende jaar wordt het gemiddelde maandbedrag per Parkeerautomaat over de eerste 10 jaar gehanteerd als maandbedrag. Deze bedragen worden niet opgenomen in de TCO-berekening.
B34: Positie 3: Schade, vandalisme en storingsherstel buiten het contract
B36: Positie | C36: overzicht van de meest te vervangen onderdelen /componenten bij schade en of vandalisme | G36: Stukprijs | H36: Forfaittair aantal in 10 jaar | I36: Prijs
B37: 3.1 | C37: Scherm gebruikersinterface (touchscreen) | G37: 0 | H37: =CEILING(10%*(Prijsformulier!$H$7)*10,1) -> 166 | I37: =H37*G37 -> 0
B38: 3.2 | C38: Moederboard/hoofdkaart Parkeerautomaat | G38: 0 | H38: =CEILING(5%*(Prijsformulier!$H$7)*10,1) -> 83 | I38: =H38*G38 -> 0
B39: 3.3 | C39: Kaartlezer | G39: 0 | H39: =CEILING(10%*(Prijsformulier!$H$7)*10,1) -> 166 | I39: =H39*G39 -> 0
B40: 3.4 | C40: Accu conform eis 122 en 123 PvE | G40: 0 | H40: =CEILING(5%*(Prijsformulier!$H$7)*10,1) -> 83 | I40: =H40*G40 -> 0
B41: 3.5 | C41: Aanstraalunit LED conform eis 132 PvE | G41: 0 | H41: =CEILING(5%*(Prijsformulier!$H$7)*10,1) -> 83 | I41: =H41*G41 -> 0
B42: 3.6 | C42: Muntselector en doorvoer (deel onderhevig aan slijtage door munten) | G42: 0 | H42: =CEILING(5%*(Prijsformulier!$H$5)*10,1) -> 58 | I42: =H42*G42 -> 0
C43: Totaal schade en vandalisme | I43: =SUM(I37:I41) -> 0
C45: Storingsherstel buiten onderhoudscontract (uurtarief, inclusief eventuele voorrijkosten) | G45: Uurtarief | H45: Forfaittair aantal in 10 jaar | I45: Prijs
B46: 3.6 | C46: voor werkzaamheden die worden uitgevoerd op maandag - zaterdag tussen 8.00 en 18.00 uur. | G46: 0 | H46: =SUM(H37:H41) -> 581 | I46: =H46*G46 -> 0
B47: 3.7 | C47: voor werkzaamheden die worden uitgevoerd op maandag - zaterdag tussen 18:00 en 8:00 uur. | G47: 0 | H47: =H46/2 -> 290.5 | I47: =H47*G47 -> 0
C48: Totaal storingsherstel buiten onderhoudscontract | I48: =SUM(I46:I47) -> 0
C50: Incidenteel verwijderen, ver -of herplaatsen Parkeerautomaten (zie eis 231 PvE) | G50: Stukprijs | H50: Forfaittair aantal in 10 jaar | I50: Prijs
B51: 3.8 | C51: Tijdelijk verwijderen, opslaan en herplaatsen van een Parkeerautomaat | G51: 0 | H51: =CEILING(5%*(Prijsformulier!$H$7)*10,1) -> 83 | I51: =G51*H51 -> 0
C53: =C43 -> Totaal schade en vandalisme | I53: =I43 -> 0
C54: =C48 -> Totaal storingsherstel buiten onderhoudscontract | I54: =I48 -> 0
C55: Totaal incidenteel verwijderen, ver -of herplaatsen Parkeerautomaten | I55: =I51 -> 0
B56: 3 | C56: =B34 -> Positie 3: Schade, vandalisme en storingsherstel buiten het contract | I56: =SUM(I53:I55) -> 0
B58: Total Cost of Ownership gedurende 10 jaar
B60: Positie | C60: TCO onderdeel | I60: Totaal
B61: =B12 -> 1 | C61: =C12 -> Positie 1: Levering en installatie | I61: =I12 -> 0
B62: =B32 -> 2 | C62: =C32 -> Positie 2: Jaarlijkse kosten op basis van maandtarieven | I62: =I32 -> 0
B63: =B56 -> 3 | C63: =C56 -> Positie 3: Schade, vandalisme en storingsherstel buiten het contract | I63: =I56 -> 0
C64: TCO gedurende 10 jaar | I64: =SUM(I61:I63) -> 0
B66: Ondertekening rechtsgeldig vertegenwoordiger | H66: Handtekening:
B67: Datum:
B68: Naam :
B70: Alleen de nietgeblokkeerde paarse cellen invullen de overige cellen zijn vastgesteld of worden automatisch gevuld.
B72: Alle prijzen op basis prijspeil 1-1-2023, exclusief btw.
J73: Zaanstad2022
