Workbook
Name Score: 'OPEN VRAGEN '!$B$1:$B$9
Name SCORE010: BESTELAPPLICATIE!$D$8:$F$8
Name Score12345: BESTELAPPLICATIE!$D$4:$I$4
Name Score135: BESTELAPPLICATIE!#REF!
Name score15: BESTELAPPLICATIE!$D$3:$F$3
Name Score1510: BESTELAPPLICATIE!$D$5:$G$5

Sheet OPEN VRAGEN 
A1: 7.1 A OPEN VRAGEN
A2: 1A. BEANTWOORDING OPEN VRAGEN | B2: 1B. TOELICHTING BEANTWOORDING
A3: Naast de gestelde eisen uit de onderhavige aanbesteding is de aanbestedende dienst op zoek naar een opdrachtnemer die haar gedurende de periode van de raamovereenkomst kan voorzien van veel toegevoegde waarde. Hoe meer toegevoegde waarde een inschrijver biedt, hoe hoger zij op dit onderdeel open vragen scoort. De maximaal te behalen waarden per item en per onderdeel treft Inschrijver aan in bijlage 12. | B3: Inschrijver zal online (zij krijgt hiervoor een uitnodiging) een toelichting geven op haar beantwoording van de open vragen. De beoordelaars kunnen aan de hand van de beantwoording van de inschrijver op de open vragen tijdens deze toelichting nadere vragen stellen (over uitsluitend deze onderwerpen) ter verduidelijking, om zodoende de beoordeling op de open vragen zo goed mogelijk te laten plaatsvinden.
A4: 1. Plan van aanpak/ implementatie algemeen | B4: Te behalen waarde bij | C4: Te behalen waarde bij | D4: Te behalen waarde bij | E4: Te behalen waarde bij | F4: Te behalen waarde bij | J4: SCORE:
B5: Uitmuntend | C5: Goed | D5: Voldoende | E5: Matig | F5: Onvoldoende | J5: Uitmuntend
A6: Inschrijver dient te beschrijven op maximaal 5 pagina’s A4 (toe te voegen via TenderNed), op welke wijze zij de implementatie (dynamische verificatie fase 1 en fase 2) en de overgang van de huidige naar de toekomstige situatie gaat managen. Inschrijver beschrijft daarbij minimaal: • een plan van aanpak waarbij inschrijver duidelijk aangeeft welke rol zij hierin gaat vervullen en wat er van de opdrachtgever; • een uitgewerkt tijdspad rekening gehouden met een sterke decentrale organisatie, meerdere huisstijlen en communicatie afdelingen, meerdere afleverlocaties en de fasering van de dynamische verificatie; • op welke wijze inschrijver contacten opbouwt en organiseert met de medewerker communicatie van de opdrachtgever door middel van een communicatiematrix zowel centraal als decentraal; • op welke wijze opdrachtnemer de bestellers/eindgebruikers gaat informeren/trainen over het bestelproces; • welke inspanningen (uitgedrukt in uren en functies) er van de opdrachtgever wanneer (in welke fase) verwacht worden; • welke risico’s inschrijver ziet en hoe zij die denkt te kunnen beheersen; • een communicatieplan (uitgewerkt in concepten en middelen) passend bij de aanvang/opstart van de dynamische verificatie om de gemeenten te informeren. | B6: 25000 | C6: 12500 | D6: 0 | E6: -25000 | F6: KO | J6: Goed
A7: 2. Marktconforme prijsstelling | B7: Te behalen waarde bij | C7: Te behalen waarde bij | D7: Te behalen waarde bij | E7: Te behalen waarde bij | F7: Te behalen waarde bij | J7: Voldoende
B8: Uitmuntend | C8: Goed | D8: Voldoende | E8: Matig | F8: Onvoldoende | J8: Matig
A9: De opdrachtgever hecht veel waarde aan blijvende marktconforme prijzen met marktpartijen. U dient in maximaal 1 A4 te beschrijven (toe te voegen via TenderNed) op welke wijze u invulling gaat geven aan deze vraag toegespitst op de onderhavige drukwerkopdrachten uit deze aanbesteding. Inschrijver beschrijft daarbij minimaal: • hoe zij de marktconformiteit van promotioneel drukwerk (print en offset) gaat waarborgen, specifiek voor bestellingen en bijzondere handlingskosten die niet op het prijzenblad zijn verwerkt; • hoe Inschrijver concreet om gaat met een prijsstelling die door een besteller vergeleken wordt met een online leverancier die bijvoorbeeld voor hetzelfde drukwerk 50% lagere kosten biedt? Dit alles met het doel om wederzijdse tevredenheid te behouden. | B9: 25000 | C9: 12500 | D9: 0 | E9: -25000 | F9: KO | J9: Onvoldoende
A10: 3. SROI | B10: Te behalen waarde bij | C10: Te behalen waarde bij | D10: Te behalen waarde bij | E10: Te behalen waarde bij | F10: Te behalen waarde bij | J10: Voldoende
B11: Uitmuntend | C11: Goed | D11: Voldoende | E11: Matig | F11: Onvoldoende | J11: Matig
A12: De opdrachtgever hecht veel waarde aan Social Return On Investment (SROI). U dient in maximaal 1 A4 te beschrijven (toe te voegen op TenderNed) op welke mate u SROI toepast binnen uw organisatie. En op welke wijze u mensen met een afstand tot de arbeidsmarkt kunt betrekken bij de uitvoering van deze onderhavige opdracht. | B12: 25000 | C12: 12500 | D12: 0 | E12: -25000 | F12: KO | J12: Onvoldoende

Sheet BESTELAPPLICATIE
A1: 7.2 GEBRUIKSVRIENDELIJKHEID BESTELAPPLICATIE DRUKWERK
C2: Te behalen punten (op basis van consensus)
A3: Algemeen | B3: Login werkt conform opgegeven inloggegevens. | C3: Ja: 5 punten Nee: 0 punten | D3: SCORE: | E3: 0 | F3: 5
B4: Algehele indruk opzet / uitstraling / laagdrempeligheid. | C4: 1 tot 5 punten | D4: SCORE: | E4: 1 | F4: 2 | G4: 3 | H4: 4 | I4: 5
A5: Gebruikers vriendelijkheid algemeen | B5: Mogelijkheid van vrij tekstveld. | C5: Ja: 5 punten Nee: 0 punten | D5: SCORE: | E5: 0 | F5: 3 | G5: 5
B6: Aanwezigheid van help-functies, automatische tips en ondersteuning | C6: Ja: 5 punten Redelijk: 3 punten Nee: 0 punten | D6: SCORE: | E6: 1 | F6: 5 | G6: 10
B7: Mogelijkheid voor het eenvoudig kiezen van een afleverlocatie (bijv. middels een pull-down menu). | C7: Ja: 5 punten Nee: 0 punten | D7: SCORE: | E7: 0 | F7: 5 | G7: 10
A8: Bestelproces visitekaartjes | B8: Algehele indruk bij het bestellen van visitekaartjes. | C8: Goed: 10 punten Voldoende: 5 punten Matig: 1 punt
B9: Aantal handelingen na het inloggen tot afronding per bestelling van een visitekaartje (zonder invoer van de content). | C9: Tot 8: 10 punten 8 t/m 15: 5 punten Meer dan 15: 0 punten
B10: Mogelijkheid om drukkleuren van de opdracht te wijzigen (van PMS naar full color) in de aanvraag. | C10: Ja: 5 punten Nee: 0 punten
B11: Logische opbouw van de schermen en eenvoud van de opzet van de bestelapplicatie bij het bestellen van visitekaartjes. | C11: Goed: 10 punten Voldoende: 5 punten Matig: 1 punt
B12: Aanwezigheid van een "live" voorbeeld van visitekaartje na invullen van content. | C12: Ja: 5 punten Nee: 0 punten
A13: Bestelproces C5 enveloppen | B13: Aantal handelingen na het inloggen tot afronding per bestelling van 1.000 C5 enveloppen (zonder invoer van de content). | C13: Tot 8: 10 punten 8 t/m 15: 5 punten Meer dan 15: 0 punten
B14: Algehele indruk bij het bestellen van 1.000 C5 enveloppen. | C14: Goed: 10 punten Voldoende: 5 punten Matig: 1 punt
B15: Mate van logische opbouw van de schermen en eenvoud van de opzet van de bestelapplicatie bij het bestellen van 1.000 C5 enveloppen. | C15: 1 tot 5 punten
B16: Mogelijkheid om drukkleuren van de opdracht te wijzigen (van PMS naar full color) in de aanvraag. | C16: Ja: 5 punten Nee: 0 punt
A17: Bestelproces mailing (samenvoeging bestanden brief en adressenlijst) | B17: mate van logische opbouw van de schermen en eenvoud van de opzet van de bestelapplicatie bij het bestellen van een mailing. | C17: Goed: 10 punten Voldoende: 5 punten Matig: 0 punt
B18: mogelijkheid om een adressenbestand toe te voegen, waarnaar de ingevoegde brief en adressen automatisch samengevoegd worden. | C18: Ja: 5 punten Nee: 0 punt
B19: mogelijkheid om een bijlage toe te voegen aan een brief | C19: Ja: 5 punten Nee: 0 punten
B20: mogelijkheid om kleuren van de opdracht te wijzigen (van full color naar zwart-wit) in de aanvraag. | C20: Ja: 5 punten Nee: 0 punt
B21: moglijkheid om de opmaak te wijzigen (van dubbelzijdig naar enkelzijdig en van enkelzijdig naar dubbelzijdig. | C21: Ja: 5 punten Nee: 0 punt
A22: Bestelproces repro opdracht A3 poster | B22: Aantal handelingen na het inloggen tot afronding per bestelling van een A3 poster (zonder invoer van de content). | C22: Tot 8: 10 punten 8 t/m 15: 5 punten Meer dan 15: 0 punten
B23: Algehele indruk bij het bestellen van een A3 poster. | C23: Goed: 10 punten Voldoende: 5 punten Matig: 1 punt
B24: Mate van logische opbouw van de schermen en eenvoud van de opzet van de bestelapplicatie bij het bestellen van een A3 poster. | C24: 1 tot 5 punten
A25: Prijzen (zal getest worden door de procesbegeleider, niet door de beoordelingscommissie) | B25: Juiste prijzen (tarieven conform het ingediende prijzenblad van de inschrijver en BTW) komt online in beeld (tijdens bestellen). Dit moet gelden voor alle bestellingen (te beoordelen door de procesbegeleider). | C25: Ja: 5 punten Nee: 0 punten
A26: Huisstijl | B26: De website is herkenbaar voor gebruikers/bestellers van de aanbestedende dienst als ware het een eigen webshop van aanbestedende dienst is. | C26: Goed: 10 punten Voldoende: 5 punten Matig: 1 punt
A27: Communicatie | B27: Automatische e-mail notificatie (e-mailadres moet dus een verplicht veld zijn). | C27: Ja: 5 punten Nee: 0 punten
A28: Eindscore: de SOM | C28: Maximaal 170 punten | D28: minimaal te behalen punten: 100, een lagere score zal leiden tot uitsluiting

Sheet Beoordelaar 1
B1: Beoordelaar 1: <<>> | D1: Inschrijver 1
B2: ='OPEN VRAGEN '!$A$1 -> 7.1 A OPEN VRAGEN | D2: SCORE:
B3: ='OPEN VRAGEN '!$A$4 -> 1. Plan van aanpak/ implementatie algemeen | D3: SCORE:
B4: ='OPEN VRAGEN '!$A$6 -> Inschrijver dient te beschrijven op maximaal 5 pagina’s A4 (toe te voegen via TenderNed), op welke wijze zij de implementatie (dynamische verificatie fase 1 en fase 2) en de overgang van de huidige naar de toekomstige situatie gaat managen. Inschrijver beschrijft daarbij minimaal: • een plan van aanpak waarbij inschrijver duidelijk aangeeft welke rol zij hierin gaat vervullen en wat er van de opdrachtgever; • een uitgewerkt tijdspad rekening gehouden met een sterke decentrale organisatie, meerdere huisstijlen en communicatie afdelingen, meerdere afleverlocaties en de fasering van de dynamische verificatie; • op welke wijze inschrijver contacten opbouwt en organiseert met de medewerker communicatie van de opdrachtgever door middel van een communicatiematrix zowel centraal als decentraal; • op welke wijze opdrachtnemer de bestellers/eindgebruikers gaat informeren/trainen over het bestelproces; • welke inspanningen (uitgedrukt in uren en functies) er van de opdrachtgever wanneer (in welke fase) verwacht worden; • welke risico’s inschrijver ziet en hoe zij die denkt te kunnen beheersen; • een communicatieplan (uitgewerkt in concepten en middelen) passend bij de aanvang/opstart van de dynamische verificatie om de gemeenten te informeren. | D4: <MOTIVATIE>
B5: ='OPEN VRAGEN '!$A$7 -> 2. Marktconforme prijsstelling | D5: SCORE:
B6: ='OPEN VRAGEN '!$A$9 -> De opdrachtgever hecht veel waarde aan blijvende marktconforme prijzen met marktpartijen. U dient in maximaal 1 A4 te beschrijven (toe te voegen via TenderNed) op welke wijze u invulling gaat geven aan deze vraag toegespitst op de onderhavige drukwerkopdrachten uit deze aanbesteding. Inschrijver beschrijft daarbij minimaal: • hoe zij de marktconformiteit van promotioneel drukwerk (print en offset) gaat waarborgen, specifiek voor bestellingen en bijzondere handlingskosten die niet op het prijzenblad zijn verwerkt; • hoe Inschrijver concreet om gaat met een prijsstelling die door een besteller vergeleken wordt met een online leverancier die bijvoorbeeld voor hetzelfde drukwerk 50% lagere kosten biedt? Dit alles met het doel om wederzijdse tevredenheid te behouden. | D6: <MOTIVATIE>
B7: ='OPEN VRAGEN '!$A$10 -> 3. SROI | D7: SCORE:
B8: ='OPEN VRAGEN '!$A$12 -> De opdrachtgever hecht veel waarde aan Social Return On Investment (SROI). U dient in maximaal 1 A4 te beschrijven (toe te voegen op TenderNed) op welke mate u SROI toepast binnen uw organisatie. En op welke wijze u mensen met een afstand tot de arbeidsmarkt kunt betrekken bij de uitvoering van deze onderhavige opdracht. | D8: <MOTIVATIE>
B10: =BESTELAPPLICATIE!$A$1 -> 7.2 GEBRUIKSVRIENDELIJKHEID BESTELAPPLICATIE DRUKWERK | D10: SCORE:
A11: =BESTELAPPLICATIE!$A$3 -> Algemeen | B11: =BESTELAPPLICATIE!$B$3 -> Login werkt conform opgegeven inloggegevens. | D11: SCORE:
D12: <MOTIVATIE>
B13: =BESTELAPPLICATIE!$B$4 -> Algehele indruk opzet / uitstraling / laagdrempeligheid. | D13: SCORE:
D14: <MOTIVATIE>
A15: =BESTELAPPLICATIE!$A$5 -> Gebruikers vriendelijkheid algemeen | B15: =BESTELAPPLICATIE!$B$5 -> Mogelijkheid van vrij tekstveld. | D15: SCORE:
D16: <MOTIVATIE>
B17: =BESTELAPPLICATIE!B6 -> Aanwezigheid van help-functies, automatische tips en ondersteuning | D17: SCORE:
B18: =BESTELAPPLICATIE!B6 -> Aanwezigheid van help-functies, automatische tips en ondersteuning | D18: <MOTIVATIE>
B19: =BESTELAPPLICATIE!$B$7 -> Mogelijkheid voor het eenvoudig kiezen van een afleverlocatie (bijv. middels een pull-down menu). | D19: SCORE:
D20: <MOTIVATIE>
A21: =BESTELAPPLICATIE!A8 -> Bestelproces visitekaartjes | B21: =BESTELAPPLICATIE!B8 -> Algehele indruk bij het bestellen van visitekaartjes. | D21: SCORE:
D22: <MOTIVATIE>
B23: =BESTELAPPLICATIE!B9 -> Aantal handelingen na het inloggen tot afronding per bestelling van een visitekaartje (zonder invoer van de content). | D23: SCORE:
D24: <MOTIVATIE>
B25: =BESTELAPPLICATIE!B10 -> Mogelijkheid om drukkleuren van de opdracht te wijzigen (van PMS naar full color) in de aanvraag. | D25: SCORE:
D26: <MOTIVATIE>
B27: =BESTELAPPLICATIE!B11 -> Logische opbouw van de schermen en eenvoud van de opzet van de bestelapplicatie bij het bestellen van visitekaartjes. | D27: SCORE:
D28: <MOTIVATIE>
B29: =BESTELAPPLICATIE!B12 -> Aanwezigheid van een "live" voorbeeld van visitekaartje na invullen van content. | D29: SCORE:
D30: <MOTIVATIE>
A31: =BESTELAPPLICATIE!A13 -> Bestelproces C5 enveloppen | B31: =BESTELAPPLICATIE!B13 -> Aantal handelingen na het inloggen tot afronding per bestelling van 1.000 C5 enveloppen (zonder invoer van de content). | D31: SCORE:
D32: <MOTIVATIE>
B33: =BESTELAPPLICATIE!B14 -> Algehele indruk bij het bestellen van 1.000 C5 enveloppen. | D33: SCORE:
D34: <MOTIVATIE>
B35: =BESTELAPPLICATIE!B15 -> Mate van logische opbouw van de schermen en eenvoud van de opzet van de bestelapplicatie bij het bestellen van 1.000 C5 enveloppen. | D35: SCORE:
D36: <MOTIVATIE>
B37: =BESTELAPPLICATIE!B16 -> Mogelijkheid om drukkleuren van de opdracht te wijzigen (van PMS naar full color) in de aanvraag. | D37: SCORE:
D38: <MOTIVATIE>
A39: =BESTELAPPLICATIE!A17 -> Bestelproces mailing (samenvoeging bestanden brief en adressenlijst) | B39: =BESTELAPPLICATIE!B17 -> mate van logische opbouw van de schermen en eenvoud van de opzet van de bestelapplicatie bij het bestellen van een mailing. | D39: SCORE:
D40: <MOTIVATIE>
B41: =BESTELAPPLICATIE!B18 -> mogelijkheid om een adressenbestand toe te voegen, waarnaar de ingevoegde brief en adressen automatisch samengevoegd worden. | D41: SCORE:
...

Sheet Beoordelaar 2
B1: Beoordelaar 2: <<>> | D1: Inschrijver 1
B2: ='OPEN VRAGEN '!$A$1 -> 7.1 A OPEN VRAGEN | D2: SCORE:
B3: ='OPEN VRAGEN '!$A$4 -> 1. Plan van aanpak/ implementatie algemeen | D3: SCORE:
B4: ='OPEN VRAGEN '!$A$6 -> Inschrijver dient te beschrijven op maximaal 5 pagina’s A4 (toe te voegen via TenderNed), op welke wijze zij de implementatie (dynamische verificatie fase 1 en fase 2) en de overgang van de huidige naar de toekomstige situatie gaat managen. Inschrijver beschrijft daarbij minimaal: • een plan van aanpak waarbij inschrijver duidelijk aangeeft welke rol zij hierin gaat vervullen en wat er van de opdrachtgever; • een uitgewerkt tijdspad rekening gehouden met een sterke decentrale organisatie, meerdere huisstijlen en communicatie afdelingen, meerdere afleverlocaties en de fasering van de dynamische verificatie; • op welke wijze inschrijver contacten opbouwt en organiseert met de medewerker communicatie van de opdrachtgever door middel van een communicatiematrix zowel centraal als decentraal; • op welke wijze opdrachtnemer de bestellers/eindgebruikers gaat informeren/trainen over het bestelproces; • welke inspanningen (uitgedrukt in uren en functies) er van de opdrachtgever wanneer (in welke fase) verwacht worden; • welke risico’s inschrijver ziet en hoe zij die denkt te kunnen beheersen; • een communicatieplan (uitgewerkt in concepten en middelen) passend bij de aanvang/opstart van de dynamische verificatie om de gemeenten te informeren. | D4: <MOTIVATIE>
B5: ='OPEN VRAGEN '!$A$7 -> 2. Marktconforme prijsstelling | D5: SCORE:
B6: ='OPEN VRAGEN '!$A$9 -> De opdrachtgever hecht veel waarde aan blijvende marktconforme prijzen met marktpartijen. U dient in maximaal 1 A4 te beschrijven (toe te voegen via TenderNed) op welke wijze u invulling gaat geven aan deze vraag toegespitst op de onderhavige drukwerkopdrachten uit deze aanbesteding. Inschrijver beschrijft daarbij minimaal: • hoe zij de marktconformiteit van promotioneel drukwerk (print en offset) gaat waarborgen, specifiek voor bestellingen en bijzondere handlingskosten die niet op het prijzenblad zijn verwerkt; • hoe Inschrijver concreet om gaat met een prijsstelling die door een besteller vergeleken wordt met een online leverancier die bijvoorbeeld voor hetzelfde drukwerk 50% lagere kosten biedt? Dit alles met het doel om wederzijdse tevredenheid te behouden. | D6: <MOTIVATIE>
B7: ='OPEN VRAGEN '!$A$10 -> 3. SROI | D7: SCORE:
B8: ='OPEN VRAGEN '!$A$12 -> De opdrachtgever hecht veel waarde aan Social Return On Investment (SROI). U dient in maximaal 1 A4 te beschrijven (toe te voegen op TenderNed) op welke mate u SROI toepast binnen uw organisatie. En op welke wijze u mensen met een afstand tot de arbeidsmarkt kunt betrekken bij de uitvoering van deze onderhavige opdracht. | D8: <MOTIVATIE>
B10: =BESTELAPPLICATIE!$A$1 -> 7.2 GEBRUIKSVRIENDELIJKHEID BESTELAPPLICATIE DRUKWERK | D10: SCORE:
A11: =BESTELAPPLICATIE!$A$3 -> Algemeen | B11: =BESTELAPPLICATIE!$B$3 -> Login werkt conform opgegeven inloggegevens. | D11: SCORE:
D12: <MOTIVATIE>
B13: =BESTELAPPLICATIE!$B$4 -> Algehele indruk opzet / uitstraling / laagdrempeligheid. | D13: SCORE:
D14: <MOTIVATIE>
A15: =BESTELAPPLICATIE!$A$5 -> Gebruikers vriendelijkheid algemeen | B15: =BESTELAPPLICATIE!$B$5 -> Mogelijkheid van vrij tekstveld. | D15: SCORE:
D16: <MOTIVATIE>
B17: =BESTELAPPLICATIE!B6 -> Aanwezigheid van help-functies, automatische tips en ondersteuning | D17: SCORE:
B18: =BESTELAPPLICATIE!B6 -> Aanwezigheid van help-functies, automatische tips en ondersteuning | D18: <MOTIVATIE>
B19: =BESTELAPPLICATIE!$B$7 -> Mogelijkheid voor het eenvoudig kiezen van een afleverlocatie (bijv. middels een pull-down menu). | D19: SCORE:
D20: <MOTIVATIE>
A21: =BESTELAPPLICATIE!A8 -> Bestelproces visitekaartjes | B21: =BESTELAPPLICATIE!B8 -> Algehele indruk bij het bestellen van visitekaartjes. | D21: SCORE:
D22: <MOTIVATIE>
B23: =BESTELAPPLICATIE!B9 -> Aantal handelingen na het inloggen tot afronding per bestelling van een visitekaartje (zonder invoer van de content). | D23: SCORE:
D24: <MOTIVATIE>
B25: =BESTELAPPLICATIE!B10 -> Mogelijkheid om drukkleuren van de opdracht te wijzigen (van PMS naar full color) in de aanvraag. | D25: SCORE:
D26: <MOTIVATIE>
B27: =BESTELAPPLICATIE!B11 -> Logische opbouw van de schermen en eenvoud van de opzet van de bestelapplicatie bij het bestellen van visitekaartjes. | D27: SCORE:
D28: <MOTIVATIE>
B29: =BESTELAPPLICATIE!B12 -> Aanwezigheid van een "live" voorbeeld van visitekaartje na invullen van content. | D29: SCORE:
D30: <MOTIVATIE>
A31: =BESTELAPPLICATIE!A13 -> Bestelproces C5 enveloppen | B31: =BESTELAPPLICATIE!B13 -> Aantal handelingen na het inloggen tot afronding per bestelling van 1.000 C5 enveloppen (zonder invoer van de content). | D31: SCORE:
D32: <MOTIVATIE>
B33: =BESTELAPPLICATIE!B14 -> Algehele indruk bij het bestellen van 1.000 C5 enveloppen. | D33: SCORE:
D34: <MOTIVATIE>
B35: =BESTELAPPLICATIE!B15 -> Mate van logische opbouw van de schermen en eenvoud van de opzet van de bestelapplicatie bij het bestellen van 1.000 C5 enveloppen. | D35: SCORE:
D36: <MOTIVATIE>
B37: =BESTELAPPLICATIE!B16 -> Mogelijkheid om drukkleuren van de opdracht te wijzigen (van PMS naar full color) in de aanvraag. | D37: SCORE:
D38: <MOTIVATIE>
A39: =BESTELAPPLICATIE!A17 -> Bestelproces mailing (samenvoeging bestanden brief en adressenlijst) | B39: =BESTELAPPLICATIE!B17 -> mate van logische opbouw van de schermen en eenvoud van de opzet van de bestelapplicatie bij het bestellen van een mailing. | D39: SCORE:
D40: <MOTIVATIE>
B41: =BESTELAPPLICATIE!B18 -> mogelijkheid om een adressenbestand toe te voegen, waarnaar de ingevoegde brief en adressen automatisch samengevoegd worden. | D41: SCORE:
...

Sheet Beoordelaar 3
B1: Beoordelaar 3: <<>> | D1: Inschrijver 1
B2: ='OPEN VRAGEN '!$A$1 -> 7.1 A OPEN VRAGEN | D2: SCORE:
B3: ='OPEN VRAGEN '!$A$4 -> 1. Plan van aanpak/ implementatie algemeen | D3: SCORE:
B4: ='OPEN VRAGEN '!$A$6 -> Inschrijver dient te beschrijven op maximaal 5 pagina’s A4 (toe te voegen via TenderNed), op welke wijze zij de implementatie (dynamische verificatie fase 1 en fase 2) en de overgang van de huidige naar de toekomstige situatie gaat managen. Inschrijver beschrijft daarbij minimaal: • een plan van aanpak waarbij inschrijver duidelijk aangeeft welke rol zij hierin gaat vervullen en wat er van de opdrachtgever; • een uitgewerkt tijdspad rekening gehouden met een sterke decentrale organisatie, meerdere huisstijlen en communicatie afdelingen, meerdere afleverlocaties en de fasering van de dynamische verificatie; • op welke wijze inschrijver contacten opbouwt en organiseert met de medewerker communicatie van de opdrachtgever door middel van een communicatiematrix zowel centraal als decentraal; • op welke wijze opdrachtnemer de bestellers/eindgebruikers gaat informeren/trainen over het bestelproces; • welke inspanningen (uitgedrukt in uren en functies) er van de opdrachtgever wanneer (in welke fase) verwacht worden; • welke risico’s inschrijver ziet en hoe zij die denkt te kunnen beheersen; • een communicatieplan (uitgewerkt in concepten en middelen) passend bij de aanvang/opstart van de dynamische verificatie om de gemeenten te informeren. | D4: <MOTIVATIE>
B5: ='OPEN VRAGEN '!$A$7 -> 2. Marktconforme prijsstelling | D5: SCORE:
B6: ='OPEN VRAGEN '!$A$9 -> De opdrachtgever hecht veel waarde aan blijvende marktconforme prijzen met marktpartijen. U dient in maximaal 1 A4 te beschrijven (toe te voegen via TenderNed) op welke wijze u invulling gaat geven aan deze vraag toegespitst op de onderhavige drukwerkopdrachten uit deze aanbesteding. Inschrijver beschrijft daarbij minimaal: • hoe zij de marktconformiteit van promotioneel drukwerk (print en offset) gaat waarborgen, specifiek voor bestellingen en bijzondere handlingskosten die niet op het prijzenblad zijn verwerkt; • hoe Inschrijver concreet om gaat met een prijsstelling die door een besteller vergeleken wordt met een online leverancier die bijvoorbeeld voor hetzelfde drukwerk 50% lagere kosten biedt? Dit alles met het doel om wederzijdse tevredenheid te behouden. | D6: <MOTIVATIE>
B7: ='OPEN VRAGEN '!$A$10 -> 3. SROI | D7: SCORE:
B8: ='OPEN VRAGEN '!$A$12 -> De opdrachtgever hecht veel waarde aan Social Return On Investment (SROI). U dient in maximaal 1 A4 te beschrijven (toe te voegen op TenderNed) op welke mate u SROI toepast binnen uw organisatie. En op welke wijze u mensen met een afstand tot de arbeidsmarkt kunt betrekken bij de uitvoering van deze onderhavige opdracht. | D8: <MOTIVATIE>
B10: =BESTELAPPLICATIE!$A$1 -> 7.2 GEBRUIKSVRIENDELIJKHEID BESTELAPPLICATIE DRUKWERK | D10: SCORE:
A11: =BESTELAPPLICATIE!$A$3 -> Algemeen | B11: =BESTELAPPLICATIE!$B$3 -> Login werkt conform opgegeven inloggegevens. | D11: SCORE:
D12: <MOTIVATIE>
B13: =BESTELAPPLICATIE!$B$4 -> Algehele indruk opzet / uitstraling / laagdrempeligheid. | D13: SCORE:
D14: <MOTIVATIE>
A15: =BESTELAPPLICATIE!$A$5 -> Gebruikers vriendelijkheid algemeen | B15: =BESTELAPPLICATIE!$B$5 -> Mogelijkheid van vrij tekstveld. | D15: SCORE:
D16: <MOTIVATIE>
B17: =BESTELAPPLICATIE!B6 -> Aanwezigheid van help-functies, automatische tips en ondersteuning | D17: SCORE:
B18: =BESTELAPPLICATIE!B6 -> Aanwezigheid van help-functies, automatische tips en ondersteuning | D18: <MOTIVATIE>
B19: =BESTELAPPLICATIE!$B$7 -> Mogelijkheid voor het eenvoudig kiezen van een afleverlocatie (bijv. middels een pull-down menu). | D19: SCORE:
D20: <MOTIVATIE>
A21: =BESTELAPPLICATIE!A8 -> Bestelproces visitekaartjes | B21: =BESTELAPPLICATIE!B8 -> Algehele indruk bij het bestellen van visitekaartjes. | D21: SCORE:
D22: <MOTIVATIE>
B23: =BESTELAPPLICATIE!B9 -> Aantal handelingen na het inloggen tot afronding per bestelling van een visitekaartje (zonder invoer van de content). | D23: SCORE:
D24: <MOTIVATIE>
B25: =BESTELAPPLICATIE!B10 -> Mogelijkheid om drukkleuren van de opdracht te wijzigen (van PMS naar full color) in de aanvraag. | D25: SCORE:
D26: <MOTIVATIE>
B27: =BESTELAPPLICATIE!B11 -> Logische opbouw van de schermen en eenvoud van de opzet van de bestelapplicatie bij het bestellen van visitekaartjes. | D27: SCORE:
D28: <MOTIVATIE>
B29: =BESTELAPPLICATIE!B12 -> Aanwezigheid van een "live" voorbeeld van visitekaartje na invullen van content. | D29: SCORE:
D30: <MOTIVATIE>
A31: =BESTELAPPLICATIE!A13 -> Bestelproces C5 enveloppen | B31: =BESTELAPPLICATIE!B13 -> Aantal handelingen na het inloggen tot afronding per bestelling van 1.000 C5 enveloppen (zonder invoer van de content). | D31: SCORE:
D32: <MOTIVATIE>
B33: =BESTELAPPLICATIE!B14 -> Algehele indruk bij het bestellen van 1.000 C5 enveloppen. | D33: SCORE:
D34: <MOTIVATIE>
B35: =BESTELAPPLICATIE!B15 -> Mate van logische opbouw van de schermen en eenvoud van de opzet van de bestelapplicatie bij het bestellen van 1.000 C5 enveloppen. | D35: SCORE:
D36: <MOTIVATIE>
B37: =BESTELAPPLICATIE!B16 -> Mogelijkheid om drukkleuren van de opdracht te wijzigen (van PMS naar full color) in de aanvraag. | D37: SCORE:
D38: <MOTIVATIE>
A39: =BESTELAPPLICATIE!A17 -> Bestelproces mailing (samenvoeging bestanden brief en adressenlijst) | B39: =BESTELAPPLICATIE!B17 -> mate van logische opbouw van de schermen en eenvoud van de opzet van de bestelapplicatie bij het bestellen van een mailing. | D39: SCORE:
D40: <MOTIVATIE>
B41: =BESTELAPPLICATIE!B18 -> mogelijkheid om een adressenbestand toe te voegen, waarnaar de ingevoegde brief en adressen automatisch samengevoegd worden. | D41: SCORE:
...

Sheet Beoordelaar 4
B1: Beoordelaar 4: <<>> | D1: Inschrijver 1
B2: ='OPEN VRAGEN '!$A$1 -> 7.1 A OPEN VRAGEN | D2: SCORE:
B3: ='OPEN VRAGEN '!$A$4 -> 1. Plan van aanpak/ implementatie algemeen | D3: SCORE:
B4: ='OPEN VRAGEN '!$A$6 -> Inschrijver dient te beschrijven op maximaal 5 pagina’s A4 (toe te voegen via TenderNed), op welke wijze zij de implementatie (dynamische verificatie fase 1 en fase 2) en de overgang van de huidige naar de toekomstige situatie gaat managen. Inschrijver beschrijft daarbij minimaal: • een plan van aanpak waarbij inschrijver duidelijk aangeeft welke rol zij hierin gaat vervullen en wat er van de opdrachtgever; • een uitgewerkt tijdspad rekening gehouden met een sterke decentrale organisatie, meerdere huisstijlen en communicatie afdelingen, meerdere afleverlocaties en de fasering van de dynamische verificatie; • op welke wijze inschrijver contacten opbouwt en organiseert met de medewerker communicatie van de opdrachtgever door middel van een communicatiematrix zowel centraal als decentraal; • op welke wijze opdrachtnemer de bestellers/eindgebruikers gaat informeren/trainen over het bestelproces; • welke inspanningen (uitgedrukt in uren en functies) er van de opdrachtgever wanneer (in welke fase) verwacht worden; • welke risico’s inschrijver ziet en hoe zij die denkt te kunnen beheersen; • een communicatieplan (uitgewerkt in concepten en middelen) passend bij de aanvang/opstart van de dynamische verificatie om de gemeenten te informeren. | D4: <MOTIVATIE>
B5: ='OPEN VRAGEN '!$A$7 -> 2. Marktconforme prijsstelling | D5: SCORE:
B6: ='OPEN VRAGEN '!$A$9 -> De opdrachtgever hecht veel waarde aan blijvende marktconforme prijzen met marktpartijen. U dient in maximaal 1 A4 te beschrijven (toe te voegen via TenderNed) op welke wijze u invulling gaat geven aan deze vraag toegespitst op de onderhavige drukwerkopdrachten uit deze aanbesteding. Inschrijver beschrijft daarbij minimaal: • hoe zij de marktconformiteit van promotioneel drukwerk (print en offset) gaat waarborgen, specifiek voor bestellingen en bijzondere handlingskosten die niet op het prijzenblad zijn verwerkt; • hoe Inschrijver concreet om gaat met een prijsstelling die door een besteller vergeleken wordt met een online leverancier die bijvoorbeeld voor hetzelfde drukwerk 50% lagere kosten biedt? Dit alles met het doel om wederzijdse tevredenheid te behouden. | D6: <MOTIVATIE>
B7: ='OPEN VRAGEN '!$A$10 -> 3. SROI | D7: SCORE:
B8: ='OPEN VRAGEN '!$A$12 -> De opdrachtgever hecht veel waarde aan Social Return On Investment (SROI). U dient in maximaal 1 A4 te beschrijven (toe te voegen op TenderNed) op welke mate u SROI toepast binnen uw organisatie. En op welke wijze u mensen met een afstand tot de arbeidsmarkt kunt betrekken bij de uitvoering van deze onderhavige opdracht. | D8: <MOTIVATIE>
B10: =BESTELAPPLICATIE!$A$1 -> 7.2 GEBRUIKSVRIENDELIJKHEID BESTELAPPLICATIE DRUKWERK | D10: SCORE:
A11: =BESTELAPPLICATIE!$A$3 -> Algemeen | B11: =BESTELAPPLICATIE!$B$3 -> Login werkt conform opgegeven inloggegevens. | D11: SCORE:
D12: <MOTIVATIE>
B13: =BESTELAPPLICATIE!$B$4 -> Algehele indruk opzet / uitstraling / laagdrempeligheid. | D13: SCORE:
D14: <MOTIVATIE>
A15: =BESTELAPPLICATIE!$A$5 -> Gebruikers vriendelijkheid algemeen | B15: =BESTELAPPLICATIE!$B$5 -> Mogelijkheid van vrij tekstveld. | D15: SCORE:
D16: <MOTIVATIE>
B17: =BESTELAPPLICATIE!B6 -> Aanwezigheid van help-functies, automatische tips en ondersteuning | D17: SCORE:
B18: =BESTELAPPLICATIE!B6 -> Aanwezigheid van help-functies, automatische tips en ondersteuning | D18: <MOTIVATIE>
B19: =BESTELAPPLICATIE!$B$7 -> Mogelijkheid voor het eenvoudig kiezen van een afleverlocatie (bijv. middels een pull-down menu). | D19: SCORE:
D20: <MOTIVATIE>
A21: =BESTELAPPLICATIE!A8 -> Bestelproces visitekaartjes | B21: =BESTELAPPLICATIE!B8 -> Algehele indruk bij het bestellen van visitekaartjes. | D21: SCORE:
D22: <MOTIVATIE>
B23: =BESTELAPPLICATIE!B9 -> Aantal handelingen na het inloggen tot afronding per bestelling van een visitekaartje (zonder invoer van de content). | D23: SCORE:
D24: <MOTIVATIE>
B25: =BESTELAPPLICATIE!B10 -> Mogelijkheid om drukkleuren van de opdracht te wijzigen (van PMS naar full color) in de aanvraag. | D25: SCORE:
D26: <MOTIVATIE>
B27: =BESTELAPPLICATIE!B11 -> Logische opbouw van de schermen en eenvoud van de opzet van de bestelapplicatie bij het bestellen van visitekaartjes. | D27: SCORE:
D28: <MOTIVATIE>
B29: =BESTELAPPLICATIE!B12 -> Aanwezigheid van een "live" voorbeeld van visitekaartje na invullen van content. | D29: SCORE:
D30: <MOTIVATIE>
A31: =BESTELAPPLICATIE!A13 -> Bestelproces C5 enveloppen | B31: =BESTELAPPLICATIE!B13 -> Aantal handelingen na het inloggen tot afronding per bestelling van 1.000 C5 enveloppen (zonder invoer van de content). | D31: SCORE:
D32: <MOTIVATIE>
B33: =BESTELAPPLICATIE!B14 -> Algehele indruk bij het bestellen van 1.000 C5 enveloppen. | D33: SCORE:
D34: <MOTIVATIE>
B35: =BESTELAPPLICATIE!B15 -> Mate van logische opbouw van de schermen en eenvoud van de opzet van de bestelapplicatie bij het bestellen van 1.000 C5 enveloppen. | D35: SCORE:
D36: <MOTIVATIE>
B37: =BESTELAPPLICATIE!B16 -> Mogelijkheid om drukkleuren van de opdracht te wijzigen (van PMS naar full color) in de aanvraag. | D37: SCORE:
D38: <MOTIVATIE>
A39: =BESTELAPPLICATIE!A17 -> Bestelproces mailing (samenvoeging bestanden brief en adressenlijst) | B39: =BESTELAPPLICATIE!B17 -> mate van logische opbouw van de schermen en eenvoud van de opzet van de bestelapplicatie bij het bestellen van een mailing. | D39: SCORE:
D40: <MOTIVATIE>
B41: =BESTELAPPLICATIE!B18 -> mogelijkheid om een adressenbestand toe te voegen, waarnaar de ingevoegde brief en adressen automatisch samengevoegd worden. | D41: SCORE:
...

Sheet Beoordelaar 5
B1: Beoordelaar 5: <<>> | D1: Inschrijver 1
B2: ='OPEN VRAGEN '!$A$1 -> 7.1 A OPEN VRAGEN | D2: SCORE:
B3: ='OPEN VRAGEN '!$A$4 -> 1. Plan van aanpak/ implementatie algemeen | D3: SCORE:
B4: ='OPEN VRAGEN '!$A$6 -> Inschrijver dient te beschrijven op maximaal 5 pagina’s A4 (toe te voegen via TenderNed), op welke wijze zij de implementatie (dynamische verificatie fase 1 en fase 2) en de overgang van de huidige naar de toekomstige situatie gaat managen. Inschrijver beschrijft daarbij minimaal: • een plan van aanpak waarbij inschrijver duidelijk aangeeft welke rol zij hierin gaat vervullen en wat er van de opdrachtgever; • een uitgewerkt tijdspad rekening gehouden met een sterke decentrale organisatie, meerdere huisstijlen en communicatie afdelingen, meerdere afleverlocaties en de fasering van de dynamische verificatie; • op welke wijze inschrijver contacten opbouwt en organiseert met de medewerker communicatie van de opdrachtgever door middel van een communicatiematrix zowel centraal als decentraal; • op welke wijze opdrachtnemer de bestellers/eindgebruikers gaat informeren/trainen over het bestelproces; • welke inspanningen (uitgedrukt in uren en functies) er van de opdrachtgever wanneer (in welke fase) verwacht worden; • welke risico’s inschrijver ziet en hoe zij die denkt te kunnen beheersen; • een communicatieplan (uitgewerkt in concepten en middelen) passend bij de aanvang/opstart van de dynamische verificatie om de gemeenten te informeren. | D4: <MOTIVATIE>
B5: ='OPEN VRAGEN '!$A$7 -> 2. Marktconforme prijsstelling | D5: SCORE:
B6: ='OPEN VRAGEN '!$A$9 -> De opdrachtgever hecht veel waarde aan blijvende marktconforme prijzen met marktpartijen. U dient in maximaal 1 A4 te beschrijven (toe te voegen via TenderNed) op welke wijze u invulling gaat geven aan deze vraag toegespitst op de onderhavige drukwerkopdrachten uit deze aanbesteding. Inschrijver beschrijft daarbij minimaal: • hoe zij de marktconformiteit van promotioneel drukwerk (print en offset) gaat waarborgen, specifiek voor bestellingen en bijzondere handlingskosten die niet op het prijzenblad zijn verwerkt; • hoe Inschrijver concreet om gaat met een prijsstelling die door een besteller vergeleken wordt met een online leverancier die bijvoorbeeld voor hetzelfde drukwerk 50% lagere kosten biedt? Dit alles met het doel om wederzijdse tevredenheid te behouden. | D6: <MOTIVATIE>
B7: ='OPEN VRAGEN '!$A$10 -> 3. SROI | D7: SCORE:
B8: ='OPEN VRAGEN '!$A$12 -> De opdrachtgever hecht veel waarde aan Social Return On Investment (SROI). U dient in maximaal 1 A4 te beschrijven (toe te voegen op TenderNed) op welke mate u SROI toepast binnen uw organisatie. En op welke wijze u mensen met een afstand tot de arbeidsmarkt kunt betrekken bij de uitvoering van deze onderhavige opdracht. | D8: <MOTIVATIE>
B10: =BESTELAPPLICATIE!$A$1 -> 7.2 GEBRUIKSVRIENDELIJKHEID BESTELAPPLICATIE DRUKWERK | D10: SCORE:
A11: =BESTELAPPLICATIE!$A$3 -> Algemeen | B11: =BESTELAPPLICATIE!$B$3 -> Login werkt conform opgegeven inloggegevens. | D11: SCORE:
D12: <MOTIVATIE>
B13: =BESTELAPPLICATIE!$B$4 -> Algehele indruk opzet / uitstraling / laagdrempeligheid. | D13: SCORE:
D14: <MOTIVATIE>
A15: =BESTELAPPLICATIE!$A$5 -> Gebruikers vriendelijkheid algemeen | B15: =BESTELAPPLICATIE!$B$5 -> Mogelijkheid van vrij tekstveld. | D15: SCORE:
D16: <MOTIVATIE>
B17: =BESTELAPPLICATIE!B6 -> Aanwezigheid van help-functies, automatische tips en ondersteuning | D17: SCORE:
B18: =BESTELAPPLICATIE!B6 -> Aanwezigheid van help-functies, automatische tips en ondersteuning | D18: <MOTIVATIE>
B19: =BESTELAPPLICATIE!$B$7 -> Mogelijkheid voor het eenvoudig kiezen van een afleverlocatie (bijv. middels een pull-down menu). | D19: SCORE:
D20: <MOTIVATIE>
A21: =BESTELAPPLICATIE!A8 -> Bestelproces visitekaartjes | B21: =BESTELAPPLICATIE!B8 -> Algehele indruk bij het bestellen van visitekaartjes. | D21: SCORE:
D22: <MOTIVATIE>
B23: =BESTELAPPLICATIE!B9 -> Aantal handelingen na het inloggen tot afronding per bestelling van een visitekaartje (zonder invoer van de content). | D23: SCORE:
D24: <MOTIVATIE>
B25: =BESTELAPPLICATIE!B10 -> Mogelijkheid om drukkleuren van de opdracht te wijzigen (van PMS naar full color) in de aanvraag. | D25: SCORE:
D26: <MOTIVATIE>
B27: =BESTELAPPLICATIE!B11 -> Logische opbouw van de schermen en eenvoud van de opzet van de bestelapplicatie bij het bestellen van visitekaartjes. | D27: SCORE:
D28: <MOTIVATIE>
B29: =BESTELAPPLICATIE!B12 -> Aanwezigheid van een "live" voorbeeld van visitekaartje na invullen van content. | D29: SCORE:
D30: <MOTIVATIE>
A31: =BESTELAPPLICATIE!A13 -> Bestelproces C5 enveloppen | B31: =BESTELAPPLICATIE!B13 -> Aantal handelingen na het inloggen tot afronding per bestelling van 1.000 C5 enveloppen (zonder invoer van de content). | D31: SCORE:
D32: <MOTIVATIE>
B33: =BESTELAPPLICATIE!B14 -> Algehele indruk bij het bestellen van 1.000 C5 enveloppen. | D33: SCORE:
D34: <MOTIVATIE>
B35: =BESTELAPPLICATIE!B15 -> Mate van logische opbouw van de schermen en eenvoud van de opzet van de bestelapplicatie bij het bestellen van 1.000 C5 enveloppen. | D35: SCORE:
D36: <MOTIVATIE>
B37: =BESTELAPPLICATIE!B16 -> Mogelijkheid om drukkleuren van de opdracht te wijzigen (van PMS naar full color) in de aanvraag. | D37: SCORE:
D38: <MOTIVATIE>
A39: =BESTELAPPLICATIE!A17 -> Bestelproces mailing (samenvoeging bestanden brief en adressenlijst) | B39: =BESTELAPPLICATIE!B17 -> mate van logische opbouw van de schermen en eenvoud van de opzet van de bestelapplicatie bij het bestellen van een mailing. | D39: SCORE:
D40: <MOTIVATIE>
B41: =BESTELAPPLICATIE!B18 -> mogelijkheid om een adressenbestand toe te voegen, waarnaar de ingevoegde brief en adressen automatisch samengevoegd worden. | D41: SCORE:
...

Sheet Consensus
B1: Totaalwaardes | E1: ='Beoordelaar 1'!D1 -> Inschrijver 1
B2: Totaalwaardes | F2: Motivatie consensus:
B3: ='OPEN VRAGEN '!A4 -> 1. Plan van aanpak/ implementatie algemeen | C3: ='Beoordelaar 1'!B1 -> Beoordelaar 1: <<>> | E3: ='Beoordelaar 1'!D3 -> SCORE: | F3: <MOTIVATIE>
C4: ='Beoordelaar 2'!B1 -> Beoordelaar 2: <<>> | E4: ='Beoordelaar 2'!D3 -> SCORE:
C5: ='Beoordelaar 3'!B1 -> Beoordelaar 3: <<>> | E5: ='Beoordelaar 3'!D3 -> SCORE:
C6: ='Beoordelaar 4'!B1 -> Beoordelaar 4: <<>> | E6: ='Beoordelaar 4'!D3 -> SCORE:
C7: ='Beoordelaar 5'!B1 -> Beoordelaar 5: <<>> | E7: ='Beoordelaar 5'!D3 -> SCORE:
B8: Consensus | E8: SCORE:
E9: =IF(E8="Uitmuntend","€ 25.000",IF(E8="Goed","€ 12.500",IF(E8="Voldoende","€ 0",IF(E8="Matig","- € 25.000",IF(E8="Onvoldoende","KNOCK OUT"," ")))))
B10: ='OPEN VRAGEN '!A7 -> 2. Marktconforme prijsstelling | C10: =$C$3 -> Beoordelaar 1: <<>> | E10: ='Beoordelaar 1'!D5 -> SCORE: | F10: <MOTIVATIE>
C11: =$C$4 -> Beoordelaar 2: <<>> | E11: ='Beoordelaar 2'!D5 -> SCORE:
C12: =$C$5 -> Beoordelaar 3: <<>> | E12: ='Beoordelaar 3'!D5 -> SCORE:
C13: =$C$6 -> Beoordelaar 4: <<>> | E13: ='Beoordelaar 4'!D5 -> SCORE:
C14: =$C$7 -> Beoordelaar 5: <<>> | E14: ='Beoordelaar 5'!D5 -> SCORE:
B15: Consensus | E15: SCORE:
E16: =IF(E15="Uitmuntend","€ 25.000",IF(E15="Goed","€ 12.500",IF(E15="Voldoende","€ 0",IF(E15="Matig","- € 25.000",IF(E15="Onvoldoende","KNOCK OUT"," ")))))
B17: ='OPEN VRAGEN '!A10 -> 3. SROI | C17: =$C$3 -> Beoordelaar 1: <<>> | E17: ='Beoordelaar 1'!D7 -> SCORE: | F17: <MOTIVATIE>
C18: =$C$4 -> Beoordelaar 2: <<>> | E18: ='Beoordelaar 2'!D7 -> SCORE:
C19: =$C$5 -> Beoordelaar 3: <<>> | E19: ='Beoordelaar 3'!D7 -> SCORE:
C20: =$C$6 -> Beoordelaar 4: <<>> | E20: ='Beoordelaar 4'!D7 -> SCORE:
C21: =$C$7 -> Beoordelaar 5: <<>> | E21: ='Beoordelaar 5'!D7 -> SCORE:
B22: Consensus | E22: SCORE:
E23: =IF(E22="Uitmuntend","€ 25.000",IF(E22="Goed","€ 12.500",IF(E22="Voldoende","€ 0",IF(E22="Matig","- € 25.000",IF(E22="Onvoldoende","KNOCK OUT"," ")))))
C25: Totaal behaalde waarde open vragen: | E25: =E9+E16+E23 -> #VALUE!
A27: =BESTELAPPLICATIE!A3 -> Algemeen | B27: =BESTELAPPLICATIE!B3 -> Login werkt conform opgegeven inloggegevens. | C27: =$C$3 -> Beoordelaar 1: <<>> | E27: ='Beoordelaar 1'!D11 -> SCORE: | F27: <MOTIVATIE>
C28: =$C$4 -> Beoordelaar 2: <<>> | E28: ='Beoordelaar 2'!D11 -> SCORE:
C29: =$C$5 -> Beoordelaar 3: <<>> | E29: ='Beoordelaar 3'!D11 -> SCORE:
C30: =$C$6 -> Beoordelaar 4: <<>> | E30: ='Beoordelaar 4'!D11 -> SCORE:
C31: ='Beoordelaar 5'!B1 -> Beoordelaar 5: <<>> | E31: ='Beoordelaar 5'!D11 -> SCORE:
B32: Consensus | E32: SCORE:
B33: =BESTELAPPLICATIE!B4 -> Algehele indruk opzet / uitstraling / laagdrempeligheid. | C33: =$C$3 -> Beoordelaar 1: <<>> | E33: ='Beoordelaar 1'!D13 -> SCORE: | F33: <MOTIVATIE>
C34: =$C$4 -> Beoordelaar 2: <<>> | E34: ='Beoordelaar 2'!D13 -> SCORE:
C35: =$C$5 -> Beoordelaar 3: <<>> | E35: ='Beoordelaar 3'!D13 -> SCORE:
C36: =$C$6 -> Beoordelaar 4: <<>> | E36: ='Beoordelaar 4'!D13 -> SCORE:
C37: ='Beoordelaar 5'!B1 -> Beoordelaar 5: <<>> | E37: ='Beoordelaar 5'!D13 -> SCORE:
B38: Consensus | E38: SCORE:
A39: =BESTELAPPLICATIE!A5 -> Gebruikers vriendelijkheid algemeen | B39: =BESTELAPPLICATIE!B5 -> Mogelijkheid van vrij tekstveld. | C39: =$C$3 -> Beoordelaar 1: <<>> | E39: ='Beoordelaar 1'!D15 -> SCORE: | F39: <MOTIVATIE>
C40: =$C$4 -> Beoordelaar 2: <<>> | E40: ='Beoordelaar 2'!D15 -> SCORE:
C41: =$C$5 -> Beoordelaar 3: <<>> | E41: ='Beoordelaar 3'!D15 -> SCORE:
C42: =$C$6 -> Beoordelaar 4: <<>> | E42: ='Beoordelaar 4'!D15 -> SCORE:
...
