Workbook
Name SCORE: 'Beoordelen 1. Open vragen'!$B$14:$G$14

Sheet Beoordelen 1. Open vragen
A1: 1. OPEN VRAGEN
A2: 1A. BEANTWOORDING OPEN VRAGEN | C2: 1B. TOELICHTING BEANTWOORDING
A3: Naast de gestelde eisen uit de onderhavige aanbesteding is de aanbestedende dienst op zoek naar een opdrachtnemer die haar gedurende de periode van de raamovereenkomst kan voorzien van veel toegevoegde waarde. Hoe meer toegevoegde waarde een inschrijver biedt, hoe hoger zij op dit onderdeel kwaliteit scoort. Alle antwoorden van een inschrijver dienen realistisch en uitvoerbaar te zijn en dienen bij de ingediende prijs op het prijzenblad te zijn inbegrepen, tenzij dit nadrukkelijk anders is vermeld in de vraagstelling. Een honorering van de antwoorden zal nimmer leiden tot een verplichte afname van datgene wat inschrijver heeft ingediend. | C3: De inschrijver zal bij de aanbestedende dienst op locatie haar beantwoording op de open vragen toelichten. Bij deze toelichting wordt verwacht dat inschrijver zelf het initiatief neemt om de beantwoording van de open vragen, zoals inschrijver deze heeft ingediend, toe te lichten, waarbij dezelfde volgorde zal worden gevolgd. De beoordelaars kunnen aan inschrijver tijdens deze toelichting verdiepingsvragen stellen, aan de hand van de beantwoording die bij de inschrijving is ingediend. Inschrijver zorgt ervoor dat zij deze toelichting laat uitvoeren door eigen medewerker(s), die zodanig bekwaam is/zijn dat vragen over de inhoud van de beantwoording van de open vragen eenvoudig beantwoord kunnen worden, waarbij geldt dat diezelfde medewerker(s) na een eventuele voorgenomen gunning de implementatie zal gaan verzorgen.
A4: 1. Plan van aanpak onderhoud | C4: Te behalen waarde bij | D4: Te behalen waarde bij | E4: Te behalen waarde bij | F4: Te behalen waarde bij | G4: Te behalen waarde bij
C5: Uitmuntend | D5: Goed | E5: Voldoende | F5: Matig | G5: Onvoldoende
A6: Inschrijver beschrijft op maximaal 2 A4 (toe te voegen via TenderNed) hoe zij de omschreven onderhoudswerkzaamheden gedurende het eerste jaar aanpakt. Inschrijver beschrijft daarbij minimaal: - wat verstaat de inschrijver onder het onderhouden van alle verschillende onderdelen met betrekking tot de E&W installaties; - op welke wijze gaat inschrijver het onderhoud per locatie van de opdrachtgever aanpakken/ realiseren; - hoe inschrijver de continuïteit van het onderhoudsteam borgt met betrekking tot bijvoorbeeld gebouwgebonden kennis, etc.; - hoe inschrijver omgaat met afgekeurde installaties en/of onderdelen; - op welke wijze rapporteert (met een voorbeeldrapportage) de inschrijver de bevindingen aan de opdrachtgever? | C6: 16500 | D6: 8250 | E6: 1650 | F6: 0 | G6: KNOCK OUT
A7: 2. Up-to-date houden E&W | C7: Te behalen waarde bij | D7: Te behalen waarde bij | E7: Te behalen waarde bij | F7: Te behalen waarde bij | G7: Te behalen waarde bij
C8: Uitmuntend | D8: Goed | E8: Voldoende | F8: Matig | G8: Onvoldoende
A9: Inschrijver beschrijft op maximaal 2 A4 (toe te voegen via TenderNed) op welke wijze zij ervoor zorgt dat zij de E&W installaties op de locaties van de aanbestedende dienst up-to-date houdt en hoe inschrijver kan garanderen dat alle installaties blijven werken conform de geldende wet- en regelgeving en bovenal ter waarborging van de continuïteit van het onderwijsproces. Inschrijver houdt hierbij rekening met het feit dat nog niet alles up-to-date is (hetgeen inschrijvers tijdens de schouw kan waarnemen) en beschrijft inschrijver expliciet hoe zij dit up-to-date krijgt. Daarnaast beschrijft inschrijver op maximaal 4 A4 welke wijze Opdrachtgever toegang krijgt tot tekeningen, rapportages, certificaten, keuringen en hoe dit eruit ziet (screenshots). Tijdens de persoonlijke toelichting laat inschrijver dit zien met een korte demo (aan de hand van een werkende web-applicatie) waar de tekeningen, rapportages, certificaten, keuringen terug te vinden zijn. Opdrachtgever wil daarbij vooral locatie gebonden informatie terug kunnen vinden, maar ook algemene managementinformatie. | C9: 21000 | D9: 10500 | E9: 2100 | F9: 0 | G9: KNOCK OUT
A10: 3. Overgangsfase | C10: Te behalen waarde bij | D10: Te behalen waarde bij | E10: Te behalen waarde bij | F10: Te behalen waarde bij | G10: Te behalen waarde bij
C11: Uitmuntend | D11: Goed | E11: Voldoende | F11: Matig | G11: Onvoldoende
A12: Inschrijver beschrijft op maximaal 2 A4 (toe te voegen via TenderNed) op welke wijze zij borgt dat tijdens de overgangsfase de werkzaamheden en de meldingen bij storingen aan de installaties geen hinder geven voor de opdrachtgever. Inschrijver beschrijft daarbij: - de in te zetten communicatie met de huidige onderhoudspartijen; - plan van aanpak tijdens de overgangsfase; - verwachte inzet en werkzaamheden vanuit de opdrachtgever; - te verwachten risico’s en oplossingen/ beheersmaatregelen; - wat is uw ervaring met de nodige losse contracten naar een beheer in één platform. | C12: 16500 | D12: 8250 | E12: 1650 | F12: 0 | G12: KNOCK OUT
A13: 4. "Groener groeien" | C13: Te behalen waarde bij | D13: Te behalen waarde bij | E13: Te behalen waarde bij | F13: Te behalen waarde bij | G13: Te behalen waarde bij
C14: Uitmuntend | D14: Goed | E14: Voldoende | F14: Matig | G14: Onvoldoende
A15: Aanbestedende dienst streeft erna om als onderwijsorganisatie voorop te lopen naar een nieuw tijdperk met 100% duurzame energietransitie, vol groene energie en is op zoek naar een partner om samen de volgende stap in deze energietransitie te zetten. Inschrijver beschrijft op maximaal 3 A4 (toe te voegen via TenderNed) op welke wijze zij de aanbestedende dienst hierbij kan adviseren en wat zij hierbij kan bieden. Inschrijver beschrijft daarbij minimaal: - op welke wijze CSG Liudger voorop kan lopen en kan blijven meegroeien in de veranderende behoefte naar 100% duurzame energietransitie en eventuele transitie naar aardgasvrij schoolgebouwen; - wat u als partij kan bieden als partner die kan adviseren, informeren en enthousiasmeren; - hoe beide partijen middels partnership kunnen inspelen op de veranderende behoefte van medewerkers en bezoekers en deze doelgroepen tevens kunnen betrekking bij de energietransitie; - op welke wijze gaat u om in uw advisering waarbij de investering (secundaire opdracht) hoger uitvalt, maar wel een hogere energiebesparing oplevert; - als u kijkt naar de rapportages bij deze aanbesteding (bijlage 13), wat valt u op en welke adviezen zou u daarover geven kijkend naar onderhoudskosten versus vervangingsinvestering dit in relatie tot een groene, duurzame en maximaal circulaire E&W; - wat inschrijver kan betekenen met betrekking tot energiemonitoring van de huidige situatie en eventuele adviezen over besparingen; - wat inschrijver kan betekenen met betrekking tot het verkrijgen van inzicht in het klimaat in het gebouw (bv. temperatuur, CO2 waarden, etc.). | C15: 12500 | D15: 6250 | E15: 1250 | F15: 0 | G15: KNOCK OUT
A16: 5. Partnerschap | C16: Te behalen waarde bij | D16: Te behalen waarde bij | E16: Te behalen waarde bij | F16: Te behalen waarde bij | G16: Te behalen waarde bij
C17: Uitmuntend | D17: Goed | E17: Voldoende | F17: Matig | G17: Onvoldoende
A18: Inschrijver dient te beschrijven op maximaal 2 A4 (toe te voegen op TenderNed) op welke wijze zij invulling geeft aan de benodigde onderhouds- en/of reparatiewerkzaamheden indien zij zelf niet de specialistische kennis in huis heeft of zelf niet of niet tijdig de werkzaamheden kan uitvoeren. Inschrijver beschrijft daarbij minimaal: - op welke wijze inschrijver bestaande partnerpartijen (WKO) van de opdrachtgever wil inzetten; - op welke wijze zij borgt dat de in te zetten partnerpartij geen commercieel nadeel ondervindt van deze “tussenkomst van dienstverlening”; - hoe de communicatiestromen lopen met betrekking tot partnerpartijen (excl. vraag 6); - welke risico’s inschrijver ziet en welke beheersmaatregelen zij hier tegen gaat treffen. Daarnaast dient inschrijver te beschrijven hoe zij opdrachtgever meerwaarde kan bieden bij het optimaal maken van de (wisselende) bezettingsgraad van de gebouwen (in het kader van krimp of bij een scenario als Covid). Met andere woorden: hoe zorg je nu voor een goede bezettingsgraad, wordt er dan ook gehandeld naar bezettingsgraad van het gebouw (dus bv. minder gebruik = minder onderhoud = minder kosten?). Wat kunt u opdrachtgever bieden? Ook dient inschrijver te beschrijven wat zij biedt aan meerwaarde bovenop het gestelde (buiten de duurzaamheidsvraagstukken om) inzake: • adviezen • klantrelatie • verdere samenwerking en wederzijdse tevredenheid • innovatie | C18: 12500 | D18: 6250 | E18: 1250 | F18: 0 | G18: KNOCK OUT
A19: 6. Storingsmeldingen | C19: Te behalen waarde bij | D19: Te behalen waarde bij | E19: Te behalen waarde bij | F19: Te behalen waarde bij | G19: Te behalen waarde bij
C20: Uitmuntend | D20: Goed | E20: Voldoende | F20: Matig | G20: Onvoldoende
A21: Inschrijver beschrijft op maximaal 4 A4 (toe te voegen via TenderNed) op welke wijze zij omgaat met storingsmeldingen. Inschrijver beschrijft daarbij minimaal: - de beschrijving van uw storingsworkflow en communicatiestromen; - welke inzichten er per locatie in de managementinformatie wordt gegeven? - welke middelen/ tools inschrijver hierbij gebruikt (screenshots toe te voegen in de schriftelijke beantwoording) en middels een “live” demonstratie waarbij de gebruikersvriendelijkheid van de tool inzichtelijk wordt tijdens de persoonlijke toelichting; - hoe er gecommuniceerd wordt met en gerapporteerd wordt aan de opdrachtgever (voorbeeld rapportages toevoegen van maximaal 10 pagina’s bij het schriftelijke deel!) - hoe borgt inschrijver dat er direct gecommuniceerd kan worden met de juiste persoon, oftewel hoe borgt inschrijver dat opdrachtgever niet eerst met meerdere personen moet bellen c.q. van het kastje naar de muur wordt gestuurd? | C21: 21000 | D21: 10500 | E21: 2100 | F21: 0 | G21: KNOCK OUT
A28: SCORE:
A29: Uitmuntend
A30: Goed
A31: Voldoende
A32: Matig
A33: Onvoldoende

Sheet Beoordelaar 1
A1: Beoordelaar 1: <<>> | C1: Inschrijver 1 | F1: Inschrijver 2 | I1: Inschrijver 3
A2: ='Beoordelen 1. Open vragen'!A1:G1 -> 1. OPEN VRAGEN
A3: ='Beoordelen 1. Open vragen'!A6 -> Inschrijver beschrijft op maximaal 2 A4 (toe te voegen via TenderNed) hoe zij de omschreven onderhoudswerkzaamheden gedurende het eerste jaar aanpakt. Inschrijver beschrijft daarbij minimaal: - wat verstaat de inschrijver onder het onderhouden van alle verschillende onderdelen met betrekking tot de E&W installaties; - op welke wijze gaat inschrijver het onderhoud per locatie van de opdrachtgever aanpakken/ realiseren; - hoe inschrijver de continuïteit van het onderhoudsteam borgt met betrekking tot bijvoorbeeld gebouwgebonden kennis, etc.; - hoe inschrijver omgaat met afgekeurde installaties en/of onderdelen; - op welke wijze rapporteert (met een voorbeeldrapportage) de inschrijver de bevindingen aan de opdrachtgever? | C3: SCORE: | F3: SCORE: | I3: SCORE:
C4: <MOTIVATIE> | F4: <MOTIVATIE> | I4: <MOTIVATIE>
A5: ='Beoordelen 1. Open vragen'!A9 -> Inschrijver beschrijft op maximaal 2 A4 (toe te voegen via TenderNed) op welke wijze zij ervoor zorgt dat zij de E&W installaties op de locaties van de aanbestedende dienst up-to-date houdt en hoe inschrijver kan garanderen dat alle installaties blijven werken conform de geldende wet- en regelgeving en bovenal ter waarborging van de continuïteit van het onderwijsproces. Inschrijver houdt hierbij rekening met het feit dat nog niet alles up-to-date is (hetgeen inschrijvers tijdens de schouw kan waarnemen) en beschrijft inschrijver expliciet hoe zij dit up-to-date krijgt. Daarnaast beschrijft inschrijver op maximaal 4 A4 welke wijze Opdrachtgever toegang krijgt tot tekeningen, rapportages, certificaten, keuringen en hoe dit eruit ziet (screenshots). Tijdens de persoonlijke toelichting laat inschrijver dit zien met een korte demo (aan de hand van een werkende web-applicatie) waar de tekeningen, rapportages, certificaten, keuringen terug te vinden zijn. Opdrachtgever wil daarbij vooral locatie gebonden informatie terug kunnen vinden, maar ook algemene managementinformatie. | C5: SCORE: | F5: SCORE: | I5: SCORE:
C6: <MOTIVATIE> | F6: <MOTIVATIE> | I6: <MOTIVATIE>
A7: ='Beoordelen 1. Open vragen'!A12 -> Inschrijver beschrijft op maximaal 2 A4 (toe te voegen via TenderNed) op welke wijze zij borgt dat tijdens de overgangsfase de werkzaamheden en de meldingen bij storingen aan de installaties geen hinder geven voor de opdrachtgever. Inschrijver beschrijft daarbij: - de in te zetten communicatie met de huidige onderhoudspartijen; - plan van aanpak tijdens de overgangsfase; - verwachte inzet en werkzaamheden vanuit de opdrachtgever; - te verwachten risico’s en oplossingen/ beheersmaatregelen; - wat is uw ervaring met de nodige losse contracten naar een beheer in één platform. | C7: SCORE: | F7: SCORE: | I7: SCORE:
C8: <MOTIVATIE> | F8: <MOTIVATIE> | I8: <MOTIVATIE>
A9: ='Beoordelen 1. Open vragen'!A15 -> Aanbestedende dienst streeft erna om als onderwijsorganisatie voorop te lopen naar een nieuw tijdperk met 100% duurzame energietransitie, vol groene energie en is op zoek naar een partner om samen de volgende stap in deze energietransitie te zetten. Inschrijver beschrijft op maximaal 3 A4 (toe te voegen via TenderNed) op welke wijze zij de aanbestedende dienst hierbij kan adviseren en wat zij hierbij kan bieden. Inschrijver beschrijft daarbij minimaal: - op welke wijze CSG Liudger voorop kan lopen en kan blijven meegroeien in de veranderende behoefte naar 100% duurzame energietransitie en eventuele transitie naar aardgasvrij schoolgebouwen; - wat u als partij kan bieden als partner die kan adviseren, informeren en enthousiasmeren; - hoe beide partijen middels partnership kunnen inspelen op de veranderende behoefte van medewerkers en bezoekers en deze doelgroepen tevens kunnen betrekking bij de energietransitie; - op welke wijze gaat u om in uw advisering waarbij de investering (secundaire opdracht) hoger uitvalt, maar wel een hogere energiebesparing oplevert; - als u kijkt naar de rapportages bij deze aanbesteding (bijlage 13), wat valt u op en welke adviezen zou u daarover geven kijkend naar onderhoudskosten versus vervangingsinvestering dit in relatie tot een groene, duurzame en maximaal circulaire E&W; - wat inschrijver kan betekenen met betrekking tot energiemonitoring van de huidige situatie en eventuele adviezen over besparingen; - wat inschrijver kan betekenen met betrekking tot het verkrijgen van inzicht in het klimaat in het gebouw (bv. temperatuur, CO2 waarden, etc.). | C9: SCORE: | F9: SCORE: | I9: SCORE:
C10: <MOTIVATIE> | F10: <MOTIVATIE> | I10: <MOTIVATIE>
A11: ='Beoordelen 1. Open vragen'!A18 -> Inschrijver dient te beschrijven op maximaal 2 A4 (toe te voegen op TenderNed) op welke wijze zij invulling geeft aan de benodigde onderhouds- en/of reparatiewerkzaamheden indien zij zelf niet de specialistische kennis in huis heeft of zelf niet of niet tijdig de werkzaamheden kan uitvoeren. Inschrijver beschrijft daarbij minimaal: - op welke wijze inschrijver bestaande partnerpartijen (WKO) van de opdrachtgever wil inzetten; - op welke wijze zij borgt dat de in te zetten partnerpartij geen commercieel nadeel ondervindt van deze “tussenkomst van dienstverlening”; - hoe de communicatiestromen lopen met betrekking tot partnerpartijen (excl. vraag 6); - welke risico’s inschrijver ziet en welke beheersmaatregelen zij hier tegen gaat treffen. Daarnaast dient inschrijver te beschrijven hoe zij opdrachtgever meerwaarde kan bieden bij het optimaal maken van de (wisselende) bezettingsgraad van de gebouwen (in het kader van krimp of bij een scenario als Covid). Met andere woorden: hoe zorg je nu voor een goede bezettingsgraad, wordt er dan ook gehandeld naar bezettingsgraad van het gebouw (dus bv. minder gebruik = minder onderhoud = minder kosten?). Wat kunt u opdrachtgever bieden? Ook dient inschrijver te beschrijven wat zij biedt aan meerwaarde bovenop het gestelde (buiten de duurzaamheidsvraagstukken om) inzake: • adviezen • klantrelatie • verdere samenwerking en wederzijdse tevredenheid • innovatie | C11: SCORE: | F11: SCORE: | I11: SCORE:
C12: <MOTIVATIE> | F12: <MOTIVATIE> | I12: <MOTIVATIE>
A13: ='Beoordelen 1. Open vragen'!A21 -> Inschrijver beschrijft op maximaal 4 A4 (toe te voegen via TenderNed) op welke wijze zij omgaat met storingsmeldingen. Inschrijver beschrijft daarbij minimaal: - de beschrijving van uw storingsworkflow en communicatiestromen; - welke inzichten er per locatie in de managementinformatie wordt gegeven? - welke middelen/ tools inschrijver hierbij gebruikt (screenshots toe te voegen in de schriftelijke beantwoording) en middels een “live” demonstratie waarbij de gebruikersvriendelijkheid van de tool inzichtelijk wordt tijdens de persoonlijke toelichting; - hoe er gecommuniceerd wordt met en gerapporteerd wordt aan de opdrachtgever (voorbeeld rapportages toevoegen van maximaal 10 pagina’s bij het schriftelijke deel!) - hoe borgt inschrijver dat er direct gecommuniceerd kan worden met de juiste persoon, oftewel hoe borgt inschrijver dat opdrachtgever niet eerst met meerdere personen moet bellen c.q. van het kastje naar de muur wordt gestuurd? | C13: SCORE: | F13: SCORE: | I13: SCORE:
C14: <MOTIVATIE> | F14: <MOTIVATIE> | I14: <MOTIVATIE>

Sheet Beoordelaar 2
A1: Beoordelaar 2: <<>> | C1: Inschrijver 1 | F1: Inschrijver 2 | I1: Inschrijver 3
A2: ='Beoordelen 1. Open vragen'!A1:G1 -> 1. OPEN VRAGEN
A3: ='Beoordelen 1. Open vragen'!A6 -> Inschrijver beschrijft op maximaal 2 A4 (toe te voegen via TenderNed) hoe zij de omschreven onderhoudswerkzaamheden gedurende het eerste jaar aanpakt. Inschrijver beschrijft daarbij minimaal: - wat verstaat de inschrijver onder het onderhouden van alle verschillende onderdelen met betrekking tot de E&W installaties; - op welke wijze gaat inschrijver het onderhoud per locatie van de opdrachtgever aanpakken/ realiseren; - hoe inschrijver de continuïteit van het onderhoudsteam borgt met betrekking tot bijvoorbeeld gebouwgebonden kennis, etc.; - hoe inschrijver omgaat met afgekeurde installaties en/of onderdelen; - op welke wijze rapporteert (met een voorbeeldrapportage) de inschrijver de bevindingen aan de opdrachtgever? | C3: SCORE: | F3: SCORE: | I3: SCORE:
C4: <MOTIVATIE> | F4: <MOTIVATIE> | I4: <MOTIVATIE>
A5: ='Beoordelen 1. Open vragen'!A9 -> Inschrijver beschrijft op maximaal 2 A4 (toe te voegen via TenderNed) op welke wijze zij ervoor zorgt dat zij de E&W installaties op de locaties van de aanbestedende dienst up-to-date houdt en hoe inschrijver kan garanderen dat alle installaties blijven werken conform de geldende wet- en regelgeving en bovenal ter waarborging van de continuïteit van het onderwijsproces. Inschrijver houdt hierbij rekening met het feit dat nog niet alles up-to-date is (hetgeen inschrijvers tijdens de schouw kan waarnemen) en beschrijft inschrijver expliciet hoe zij dit up-to-date krijgt. Daarnaast beschrijft inschrijver op maximaal 4 A4 welke wijze Opdrachtgever toegang krijgt tot tekeningen, rapportages, certificaten, keuringen en hoe dit eruit ziet (screenshots). Tijdens de persoonlijke toelichting laat inschrijver dit zien met een korte demo (aan de hand van een werkende web-applicatie) waar de tekeningen, rapportages, certificaten, keuringen terug te vinden zijn. Opdrachtgever wil daarbij vooral locatie gebonden informatie terug kunnen vinden, maar ook algemene managementinformatie. | C5: SCORE: | F5: SCORE: | I5: SCORE:
C6: <MOTIVATIE> | F6: <MOTIVATIE> | I6: <MOTIVATIE>
A7: ='Beoordelen 1. Open vragen'!A12 -> Inschrijver beschrijft op maximaal 2 A4 (toe te voegen via TenderNed) op welke wijze zij borgt dat tijdens de overgangsfase de werkzaamheden en de meldingen bij storingen aan de installaties geen hinder geven voor de opdrachtgever. Inschrijver beschrijft daarbij: - de in te zetten communicatie met de huidige onderhoudspartijen; - plan van aanpak tijdens de overgangsfase; - verwachte inzet en werkzaamheden vanuit de opdrachtgever; - te verwachten risico’s en oplossingen/ beheersmaatregelen; - wat is uw ervaring met de nodige losse contracten naar een beheer in één platform. | C7: SCORE: | F7: SCORE: | I7: SCORE:
C8: <MOTIVATIE> | F8: <MOTIVATIE> | I8: <MOTIVATIE>
A9: ='Beoordelen 1. Open vragen'!A15 -> Aanbestedende dienst streeft erna om als onderwijsorganisatie voorop te lopen naar een nieuw tijdperk met 100% duurzame energietransitie, vol groene energie en is op zoek naar een partner om samen de volgende stap in deze energietransitie te zetten. Inschrijver beschrijft op maximaal 3 A4 (toe te voegen via TenderNed) op welke wijze zij de aanbestedende dienst hierbij kan adviseren en wat zij hierbij kan bieden. Inschrijver beschrijft daarbij minimaal: - op welke wijze CSG Liudger voorop kan lopen en kan blijven meegroeien in de veranderende behoefte naar 100% duurzame energietransitie en eventuele transitie naar aardgasvrij schoolgebouwen; - wat u als partij kan bieden als partner die kan adviseren, informeren en enthousiasmeren; - hoe beide partijen middels partnership kunnen inspelen op de veranderende behoefte van medewerkers en bezoekers en deze doelgroepen tevens kunnen betrekking bij de energietransitie; - op welke wijze gaat u om in uw advisering waarbij de investering (secundaire opdracht) hoger uitvalt, maar wel een hogere energiebesparing oplevert; - als u kijkt naar de rapportages bij deze aanbesteding (bijlage 13), wat valt u op en welke adviezen zou u daarover geven kijkend naar onderhoudskosten versus vervangingsinvestering dit in relatie tot een groene, duurzame en maximaal circulaire E&W; - wat inschrijver kan betekenen met betrekking tot energiemonitoring van de huidige situatie en eventuele adviezen over besparingen; - wat inschrijver kan betekenen met betrekking tot het verkrijgen van inzicht in het klimaat in het gebouw (bv. temperatuur, CO2 waarden, etc.). | C9: SCORE: | F9: SCORE: | I9: SCORE:
C10: <MOTIVATIE> | F10: <MOTIVATIE> | I10: <MOTIVATIE>
A11: ='Beoordelen 1. Open vragen'!A18 -> Inschrijver dient te beschrijven op maximaal 2 A4 (toe te voegen op TenderNed) op welke wijze zij invulling geeft aan de benodigde onderhouds- en/of reparatiewerkzaamheden indien zij zelf niet de specialistische kennis in huis heeft of zelf niet of niet tijdig de werkzaamheden kan uitvoeren. Inschrijver beschrijft daarbij minimaal: - op welke wijze inschrijver bestaande partnerpartijen (WKO) van de opdrachtgever wil inzetten; - op welke wijze zij borgt dat de in te zetten partnerpartij geen commercieel nadeel ondervindt van deze “tussenkomst van dienstverlening”; - hoe de communicatiestromen lopen met betrekking tot partnerpartijen (excl. vraag 6); - welke risico’s inschrijver ziet en welke beheersmaatregelen zij hier tegen gaat treffen. Daarnaast dient inschrijver te beschrijven hoe zij opdrachtgever meerwaarde kan bieden bij het optimaal maken van de (wisselende) bezettingsgraad van de gebouwen (in het kader van krimp of bij een scenario als Covid). Met andere woorden: hoe zorg je nu voor een goede bezettingsgraad, wordt er dan ook gehandeld naar bezettingsgraad van het gebouw (dus bv. minder gebruik = minder onderhoud = minder kosten?). Wat kunt u opdrachtgever bieden? Ook dient inschrijver te beschrijven wat zij biedt aan meerwaarde bovenop het gestelde (buiten de duurzaamheidsvraagstukken om) inzake: • adviezen • klantrelatie • verdere samenwerking en wederzijdse tevredenheid • innovatie | C11: SCORE: | F11: SCORE: | I11: SCORE:
C12: <MOTIVATIE> | F12: <MOTIVATIE> | I12: <MOTIVATIE>
A13: ='Beoordelen 1. Open vragen'!A21 -> Inschrijver beschrijft op maximaal 4 A4 (toe te voegen via TenderNed) op welke wijze zij omgaat met storingsmeldingen. Inschrijver beschrijft daarbij minimaal: - de beschrijving van uw storingsworkflow en communicatiestromen; - welke inzichten er per locatie in de managementinformatie wordt gegeven? - welke middelen/ tools inschrijver hierbij gebruikt (screenshots toe te voegen in de schriftelijke beantwoording) en middels een “live” demonstratie waarbij de gebruikersvriendelijkheid van de tool inzichtelijk wordt tijdens de persoonlijke toelichting; - hoe er gecommuniceerd wordt met en gerapporteerd wordt aan de opdrachtgever (voorbeeld rapportages toevoegen van maximaal 10 pagina’s bij het schriftelijke deel!) - hoe borgt inschrijver dat er direct gecommuniceerd kan worden met de juiste persoon, oftewel hoe borgt inschrijver dat opdrachtgever niet eerst met meerdere personen moet bellen c.q. van het kastje naar de muur wordt gestuurd? | C13: SCORE: | F13: SCORE: | I13: SCORE:
C14: <MOTIVATIE> | F14: <MOTIVATIE> | I14: <MOTIVATIE>

Sheet Beoordelaar 3
A1: Beoordelaar 3: <<>> | C1: Inschrijver 1 | F1: Inschrijver 2 | I1: Inschrijver 3
A2: ='Beoordelen 1. Open vragen'!A1:G1 -> 1. OPEN VRAGEN
A3: ='Beoordelen 1. Open vragen'!A6 -> Inschrijver beschrijft op maximaal 2 A4 (toe te voegen via TenderNed) hoe zij de omschreven onderhoudswerkzaamheden gedurende het eerste jaar aanpakt. Inschrijver beschrijft daarbij minimaal: - wat verstaat de inschrijver onder het onderhouden van alle verschillende onderdelen met betrekking tot de E&W installaties; - op welke wijze gaat inschrijver het onderhoud per locatie van de opdrachtgever aanpakken/ realiseren; - hoe inschrijver de continuïteit van het onderhoudsteam borgt met betrekking tot bijvoorbeeld gebouwgebonden kennis, etc.; - hoe inschrijver omgaat met afgekeurde installaties en/of onderdelen; - op welke wijze rapporteert (met een voorbeeldrapportage) de inschrijver de bevindingen aan de opdrachtgever? | C3: SCORE: | F3: SCORE: | I3: SCORE:
C4: <MOTIVATIE> | F4: <MOTIVATIE> | I4: <MOTIVATIE>
A5: ='Beoordelen 1. Open vragen'!A9 -> Inschrijver beschrijft op maximaal 2 A4 (toe te voegen via TenderNed) op welke wijze zij ervoor zorgt dat zij de E&W installaties op de locaties van de aanbestedende dienst up-to-date houdt en hoe inschrijver kan garanderen dat alle installaties blijven werken conform de geldende wet- en regelgeving en bovenal ter waarborging van de continuïteit van het onderwijsproces. Inschrijver houdt hierbij rekening met het feit dat nog niet alles up-to-date is (hetgeen inschrijvers tijdens de schouw kan waarnemen) en beschrijft inschrijver expliciet hoe zij dit up-to-date krijgt. Daarnaast beschrijft inschrijver op maximaal 4 A4 welke wijze Opdrachtgever toegang krijgt tot tekeningen, rapportages, certificaten, keuringen en hoe dit eruit ziet (screenshots). Tijdens de persoonlijke toelichting laat inschrijver dit zien met een korte demo (aan de hand van een werkende web-applicatie) waar de tekeningen, rapportages, certificaten, keuringen terug te vinden zijn. Opdrachtgever wil daarbij vooral locatie gebonden informatie terug kunnen vinden, maar ook algemene managementinformatie. | C5: SCORE: | F5: SCORE: | I5: SCORE:
C6: <MOTIVATIE> | F6: <MOTIVATIE> | I6: <MOTIVATIE>
A7: ='Beoordelen 1. Open vragen'!A12 -> Inschrijver beschrijft op maximaal 2 A4 (toe te voegen via TenderNed) op welke wijze zij borgt dat tijdens de overgangsfase de werkzaamheden en de meldingen bij storingen aan de installaties geen hinder geven voor de opdrachtgever. Inschrijver beschrijft daarbij: - de in te zetten communicatie met de huidige onderhoudspartijen; - plan van aanpak tijdens de overgangsfase; - verwachte inzet en werkzaamheden vanuit de opdrachtgever; - te verwachten risico’s en oplossingen/ beheersmaatregelen; - wat is uw ervaring met de nodige losse contracten naar een beheer in één platform. | C7: SCORE: | F7: SCORE: | I7: SCORE:
C8: <MOTIVATIE> | F8: <MOTIVATIE> | I8: <MOTIVATIE>
A9: ='Beoordelen 1. Open vragen'!A15 -> Aanbestedende dienst streeft erna om als onderwijsorganisatie voorop te lopen naar een nieuw tijdperk met 100% duurzame energietransitie, vol groene energie en is op zoek naar een partner om samen de volgende stap in deze energietransitie te zetten. Inschrijver beschrijft op maximaal 3 A4 (toe te voegen via TenderNed) op welke wijze zij de aanbestedende dienst hierbij kan adviseren en wat zij hierbij kan bieden. Inschrijver beschrijft daarbij minimaal: - op welke wijze CSG Liudger voorop kan lopen en kan blijven meegroeien in de veranderende behoefte naar 100% duurzame energietransitie en eventuele transitie naar aardgasvrij schoolgebouwen; - wat u als partij kan bieden als partner die kan adviseren, informeren en enthousiasmeren; - hoe beide partijen middels partnership kunnen inspelen op de veranderende behoefte van medewerkers en bezoekers en deze doelgroepen tevens kunnen betrekking bij de energietransitie; - op welke wijze gaat u om in uw advisering waarbij de investering (secundaire opdracht) hoger uitvalt, maar wel een hogere energiebesparing oplevert; - als u kijkt naar de rapportages bij deze aanbesteding (bijlage 13), wat valt u op en welke adviezen zou u daarover geven kijkend naar onderhoudskosten versus vervangingsinvestering dit in relatie tot een groene, duurzame en maximaal circulaire E&W; - wat inschrijver kan betekenen met betrekking tot energiemonitoring van de huidige situatie en eventuele adviezen over besparingen; - wat inschrijver kan betekenen met betrekking tot het verkrijgen van inzicht in het klimaat in het gebouw (bv. temperatuur, CO2 waarden, etc.). | C9: SCORE: | F9: SCORE: | I9: SCORE:
C10: <MOTIVATIE> | F10: <MOTIVATIE> | I10: <MOTIVATIE>
A11: ='Beoordelen 1. Open vragen'!A18 -> Inschrijver dient te beschrijven op maximaal 2 A4 (toe te voegen op TenderNed) op welke wijze zij invulling geeft aan de benodigde onderhouds- en/of reparatiewerkzaamheden indien zij zelf niet de specialistische kennis in huis heeft of zelf niet of niet tijdig de werkzaamheden kan uitvoeren. Inschrijver beschrijft daarbij minimaal: - op welke wijze inschrijver bestaande partnerpartijen (WKO) van de opdrachtgever wil inzetten; - op welke wijze zij borgt dat de in te zetten partnerpartij geen commercieel nadeel ondervindt van deze “tussenkomst van dienstverlening”; - hoe de communicatiestromen lopen met betrekking tot partnerpartijen (excl. vraag 6); - welke risico’s inschrijver ziet en welke beheersmaatregelen zij hier tegen gaat treffen. Daarnaast dient inschrijver te beschrijven hoe zij opdrachtgever meerwaarde kan bieden bij het optimaal maken van de (wisselende) bezettingsgraad van de gebouwen (in het kader van krimp of bij een scenario als Covid). Met andere woorden: hoe zorg je nu voor een goede bezettingsgraad, wordt er dan ook gehandeld naar bezettingsgraad van het gebouw (dus bv. minder gebruik = minder onderhoud = minder kosten?). Wat kunt u opdrachtgever bieden? Ook dient inschrijver te beschrijven wat zij biedt aan meerwaarde bovenop het gestelde (buiten de duurzaamheidsvraagstukken om) inzake: • adviezen • klantrelatie • verdere samenwerking en wederzijdse tevredenheid • innovatie | C11: SCORE: | F11: SCORE: | I11: SCORE:
C12: <MOTIVATIE> | F12: <MOTIVATIE> | I12: <MOTIVATIE>
A13: ='Beoordelen 1. Open vragen'!A21 -> Inschrijver beschrijft op maximaal 4 A4 (toe te voegen via TenderNed) op welke wijze zij omgaat met storingsmeldingen. Inschrijver beschrijft daarbij minimaal: - de beschrijving van uw storingsworkflow en communicatiestromen; - welke inzichten er per locatie in de managementinformatie wordt gegeven? - welke middelen/ tools inschrijver hierbij gebruikt (screenshots toe te voegen in de schriftelijke beantwoording) en middels een “live” demonstratie waarbij de gebruikersvriendelijkheid van de tool inzichtelijk wordt tijdens de persoonlijke toelichting; - hoe er gecommuniceerd wordt met en gerapporteerd wordt aan de opdrachtgever (voorbeeld rapportages toevoegen van maximaal 10 pagina’s bij het schriftelijke deel!) - hoe borgt inschrijver dat er direct gecommuniceerd kan worden met de juiste persoon, oftewel hoe borgt inschrijver dat opdrachtgever niet eerst met meerdere personen moet bellen c.q. van het kastje naar de muur wordt gestuurd? | C13: SCORE: | F13: SCORE: | I13: SCORE:
C14: <MOTIVATIE> | F14: <MOTIVATIE> | I14: <MOTIVATIE>

Sheet Beoordelaar 4
A1: Beoordelaar 4: <<>> | C1: Inschrijver 1 | F1: Inschrijver 2 | I1: Inschrijver 3
A2: ='Beoordelen 1. Open vragen'!A1:G1 -> 1. OPEN VRAGEN
A3: ='Beoordelen 1. Open vragen'!A6 -> Inschrijver beschrijft op maximaal 2 A4 (toe te voegen via TenderNed) hoe zij de omschreven onderhoudswerkzaamheden gedurende het eerste jaar aanpakt. Inschrijver beschrijft daarbij minimaal: - wat verstaat de inschrijver onder het onderhouden van alle verschillende onderdelen met betrekking tot de E&W installaties; - op welke wijze gaat inschrijver het onderhoud per locatie van de opdrachtgever aanpakken/ realiseren; - hoe inschrijver de continuïteit van het onderhoudsteam borgt met betrekking tot bijvoorbeeld gebouwgebonden kennis, etc.; - hoe inschrijver omgaat met afgekeurde installaties en/of onderdelen; - op welke wijze rapporteert (met een voorbeeldrapportage) de inschrijver de bevindingen aan de opdrachtgever? | C3: SCORE: | F3: SCORE: | I3: SCORE:
C4: <MOTIVATIE> | F4: <MOTIVATIE> | I4: <MOTIVATIE>
A5: ='Beoordelen 1. Open vragen'!A9 -> Inschrijver beschrijft op maximaal 2 A4 (toe te voegen via TenderNed) op welke wijze zij ervoor zorgt dat zij de E&W installaties op de locaties van de aanbestedende dienst up-to-date houdt en hoe inschrijver kan garanderen dat alle installaties blijven werken conform de geldende wet- en regelgeving en bovenal ter waarborging van de continuïteit van het onderwijsproces. Inschrijver houdt hierbij rekening met het feit dat nog niet alles up-to-date is (hetgeen inschrijvers tijdens de schouw kan waarnemen) en beschrijft inschrijver expliciet hoe zij dit up-to-date krijgt. Daarnaast beschrijft inschrijver op maximaal 4 A4 welke wijze Opdrachtgever toegang krijgt tot tekeningen, rapportages, certificaten, keuringen en hoe dit eruit ziet (screenshots). Tijdens de persoonlijke toelichting laat inschrijver dit zien met een korte demo (aan de hand van een werkende web-applicatie) waar de tekeningen, rapportages, certificaten, keuringen terug te vinden zijn. Opdrachtgever wil daarbij vooral locatie gebonden informatie terug kunnen vinden, maar ook algemene managementinformatie. | C5: SCORE: | F5: SCORE: | I5: SCORE:
C6: <MOTIVATIE> | F6: <MOTIVATIE> | I6: <MOTIVATIE>
A7: ='Beoordelen 1. Open vragen'!A12 -> Inschrijver beschrijft op maximaal 2 A4 (toe te voegen via TenderNed) op welke wijze zij borgt dat tijdens de overgangsfase de werkzaamheden en de meldingen bij storingen aan de installaties geen hinder geven voor de opdrachtgever. Inschrijver beschrijft daarbij: - de in te zetten communicatie met de huidige onderhoudspartijen; - plan van aanpak tijdens de overgangsfase; - verwachte inzet en werkzaamheden vanuit de opdrachtgever; - te verwachten risico’s en oplossingen/ beheersmaatregelen; - wat is uw ervaring met de nodige losse contracten naar een beheer in één platform. | C7: SCORE: | F7: SCORE: | I7: SCORE:
C8: <MOTIVATIE> | F8: <MOTIVATIE> | I8: <MOTIVATIE>
A9: ='Beoordelen 1. Open vragen'!A15 -> Aanbestedende dienst streeft erna om als onderwijsorganisatie voorop te lopen naar een nieuw tijdperk met 100% duurzame energietransitie, vol groene energie en is op zoek naar een partner om samen de volgende stap in deze energietransitie te zetten. Inschrijver beschrijft op maximaal 3 A4 (toe te voegen via TenderNed) op welke wijze zij de aanbestedende dienst hierbij kan adviseren en wat zij hierbij kan bieden. Inschrijver beschrijft daarbij minimaal: - op welke wijze CSG Liudger voorop kan lopen en kan blijven meegroeien in de veranderende behoefte naar 100% duurzame energietransitie en eventuele transitie naar aardgasvrij schoolgebouwen; - wat u als partij kan bieden als partner die kan adviseren, informeren en enthousiasmeren; - hoe beide partijen middels partnership kunnen inspelen op de veranderende behoefte van medewerkers en bezoekers en deze doelgroepen tevens kunnen betrekking bij de energietransitie; - op welke wijze gaat u om in uw advisering waarbij de investering (secundaire opdracht) hoger uitvalt, maar wel een hogere energiebesparing oplevert; - als u kijkt naar de rapportages bij deze aanbesteding (bijlage 13), wat valt u op en welke adviezen zou u daarover geven kijkend naar onderhoudskosten versus vervangingsinvestering dit in relatie tot een groene, duurzame en maximaal circulaire E&W; - wat inschrijver kan betekenen met betrekking tot energiemonitoring van de huidige situatie en eventuele adviezen over besparingen; - wat inschrijver kan betekenen met betrekking tot het verkrijgen van inzicht in het klimaat in het gebouw (bv. temperatuur, CO2 waarden, etc.). | C9: SCORE: | F9: SCORE: | I9: SCORE:
C10: <MOTIVATIE> | F10: <MOTIVATIE> | I10: <MOTIVATIE>
A11: ='Beoordelen 1. Open vragen'!A18 -> Inschrijver dient te beschrijven op maximaal 2 A4 (toe te voegen op TenderNed) op welke wijze zij invulling geeft aan de benodigde onderhouds- en/of reparatiewerkzaamheden indien zij zelf niet de specialistische kennis in huis heeft of zelf niet of niet tijdig de werkzaamheden kan uitvoeren. Inschrijver beschrijft daarbij minimaal: - op welke wijze inschrijver bestaande partnerpartijen (WKO) van de opdrachtgever wil inzetten; - op welke wijze zij borgt dat de in te zetten partnerpartij geen commercieel nadeel ondervindt van deze “tussenkomst van dienstverlening”; - hoe de communicatiestromen lopen met betrekking tot partnerpartijen (excl. vraag 6); - welke risico’s inschrijver ziet en welke beheersmaatregelen zij hier tegen gaat treffen. Daarnaast dient inschrijver te beschrijven hoe zij opdrachtgever meerwaarde kan bieden bij het optimaal maken van de (wisselende) bezettingsgraad van de gebouwen (in het kader van krimp of bij een scenario als Covid). Met andere woorden: hoe zorg je nu voor een goede bezettingsgraad, wordt er dan ook gehandeld naar bezettingsgraad van het gebouw (dus bv. minder gebruik = minder onderhoud = minder kosten?). Wat kunt u opdrachtgever bieden? Ook dient inschrijver te beschrijven wat zij biedt aan meerwaarde bovenop het gestelde (buiten de duurzaamheidsvraagstukken om) inzake: • adviezen • klantrelatie • verdere samenwerking en wederzijdse tevredenheid • innovatie | C11: SCORE: | F11: SCORE: | I11: SCORE:
C12: <MOTIVATIE> | F12: <MOTIVATIE> | I12: <MOTIVATIE>
A13: ='Beoordelen 1. Open vragen'!A21 -> Inschrijver beschrijft op maximaal 4 A4 (toe te voegen via TenderNed) op welke wijze zij omgaat met storingsmeldingen. Inschrijver beschrijft daarbij minimaal: - de beschrijving van uw storingsworkflow en communicatiestromen; - welke inzichten er per locatie in de managementinformatie wordt gegeven? - welke middelen/ tools inschrijver hierbij gebruikt (screenshots toe te voegen in de schriftelijke beantwoording) en middels een “live” demonstratie waarbij de gebruikersvriendelijkheid van de tool inzichtelijk wordt tijdens de persoonlijke toelichting; - hoe er gecommuniceerd wordt met en gerapporteerd wordt aan de opdrachtgever (voorbeeld rapportages toevoegen van maximaal 10 pagina’s bij het schriftelijke deel!) - hoe borgt inschrijver dat er direct gecommuniceerd kan worden met de juiste persoon, oftewel hoe borgt inschrijver dat opdrachtgever niet eerst met meerdere personen moet bellen c.q. van het kastje naar de muur wordt gestuurd? | C13: SCORE: | F13: SCORE: | I13: SCORE:
C14: <MOTIVATIE> | F14: <MOTIVATIE> | I14: <MOTIVATIE>

Sheet Beoordelaar 5
A1: Beoordelaar 5: <<>> | C1: Inschrijver 1 | F1: Inschrijver 2 | I1: Inschrijver 3
A2: ='Beoordelen 1. Open vragen'!A1:G1 -> 1. OPEN VRAGEN
A3: ='Beoordelen 1. Open vragen'!A6 -> Inschrijver beschrijft op maximaal 2 A4 (toe te voegen via TenderNed) hoe zij de omschreven onderhoudswerkzaamheden gedurende het eerste jaar aanpakt. Inschrijver beschrijft daarbij minimaal: - wat verstaat de inschrijver onder het onderhouden van alle verschillende onderdelen met betrekking tot de E&W installaties; - op welke wijze gaat inschrijver het onderhoud per locatie van de opdrachtgever aanpakken/ realiseren; - hoe inschrijver de continuïteit van het onderhoudsteam borgt met betrekking tot bijvoorbeeld gebouwgebonden kennis, etc.; - hoe inschrijver omgaat met afgekeurde installaties en/of onderdelen; - op welke wijze rapporteert (met een voorbeeldrapportage) de inschrijver de bevindingen aan de opdrachtgever? | C3: SCORE: | F3: SCORE: | I3: SCORE:
C4: <MOTIVATIE> | F4: <MOTIVATIE> | I4: <MOTIVATIE>
A5: ='Beoordelen 1. Open vragen'!A9 -> Inschrijver beschrijft op maximaal 2 A4 (toe te voegen via TenderNed) op welke wijze zij ervoor zorgt dat zij de E&W installaties op de locaties van de aanbestedende dienst up-to-date houdt en hoe inschrijver kan garanderen dat alle installaties blijven werken conform de geldende wet- en regelgeving en bovenal ter waarborging van de continuïteit van het onderwijsproces. Inschrijver houdt hierbij rekening met het feit dat nog niet alles up-to-date is (hetgeen inschrijvers tijdens de schouw kan waarnemen) en beschrijft inschrijver expliciet hoe zij dit up-to-date krijgt. Daarnaast beschrijft inschrijver op maximaal 4 A4 welke wijze Opdrachtgever toegang krijgt tot tekeningen, rapportages, certificaten, keuringen en hoe dit eruit ziet (screenshots). Tijdens de persoonlijke toelichting laat inschrijver dit zien met een korte demo (aan de hand van een werkende web-applicatie) waar de tekeningen, rapportages, certificaten, keuringen terug te vinden zijn. Opdrachtgever wil daarbij vooral locatie gebonden informatie terug kunnen vinden, maar ook algemene managementinformatie. | C5: SCORE: | F5: SCORE: | I5: SCORE:
C6: <MOTIVATIE> | F6: <MOTIVATIE> | I6: <MOTIVATIE>
A7: ='Beoordelen 1. Open vragen'!A12 -> Inschrijver beschrijft op maximaal 2 A4 (toe te voegen via TenderNed) op welke wijze zij borgt dat tijdens de overgangsfase de werkzaamheden en de meldingen bij storingen aan de installaties geen hinder geven voor de opdrachtgever. Inschrijver beschrijft daarbij: - de in te zetten communicatie met de huidige onderhoudspartijen; - plan van aanpak tijdens de overgangsfase; - verwachte inzet en werkzaamheden vanuit de opdrachtgever; - te verwachten risico’s en oplossingen/ beheersmaatregelen; - wat is uw ervaring met de nodige losse contracten naar een beheer in één platform. | C7: SCORE: | F7: SCORE: | I7: SCORE:
C8: <MOTIVATIE> | F8: <MOTIVATIE> | I8: <MOTIVATIE>
A9: ='Beoordelen 1. Open vragen'!A15 -> Aanbestedende dienst streeft erna om als onderwijsorganisatie voorop te lopen naar een nieuw tijdperk met 100% duurzame energietransitie, vol groene energie en is op zoek naar een partner om samen de volgende stap in deze energietransitie te zetten. Inschrijver beschrijft op maximaal 3 A4 (toe te voegen via TenderNed) op welke wijze zij de aanbestedende dienst hierbij kan adviseren en wat zij hierbij kan bieden. Inschrijver beschrijft daarbij minimaal: - op welke wijze CSG Liudger voorop kan lopen en kan blijven meegroeien in de veranderende behoefte naar 100% duurzame energietransitie en eventuele transitie naar aardgasvrij schoolgebouwen; - wat u als partij kan bieden als partner die kan adviseren, informeren en enthousiasmeren; - hoe beide partijen middels partnership kunnen inspelen op de veranderende behoefte van medewerkers en bezoekers en deze doelgroepen tevens kunnen betrekking bij de energietransitie; - op welke wijze gaat u om in uw advisering waarbij de investering (secundaire opdracht) hoger uitvalt, maar wel een hogere energiebesparing oplevert; - als u kijkt naar de rapportages bij deze aanbesteding (bijlage 13), wat valt u op en welke adviezen zou u daarover geven kijkend naar onderhoudskosten versus vervangingsinvestering dit in relatie tot een groene, duurzame en maximaal circulaire E&W; - wat inschrijver kan betekenen met betrekking tot energiemonitoring van de huidige situatie en eventuele adviezen over besparingen; - wat inschrijver kan betekenen met betrekking tot het verkrijgen van inzicht in het klimaat in het gebouw (bv. temperatuur, CO2 waarden, etc.). | C9: SCORE: | F9: SCORE: | I9: SCORE:
C10: <MOTIVATIE> | F10: <MOTIVATIE> | I10: <MOTIVATIE>
A11: ='Beoordelen 1. Open vragen'!A18 -> Inschrijver dient te beschrijven op maximaal 2 A4 (toe te voegen op TenderNed) op welke wijze zij invulling geeft aan de benodigde onderhouds- en/of reparatiewerkzaamheden indien zij zelf niet de specialistische kennis in huis heeft of zelf niet of niet tijdig de werkzaamheden kan uitvoeren. Inschrijver beschrijft daarbij minimaal: - op welke wijze inschrijver bestaande partnerpartijen (WKO) van de opdrachtgever wil inzetten; - op welke wijze zij borgt dat de in te zetten partnerpartij geen commercieel nadeel ondervindt van deze “tussenkomst van dienstverlening”; - hoe de communicatiestromen lopen met betrekking tot partnerpartijen (excl. vraag 6); - welke risico’s inschrijver ziet en welke beheersmaatregelen zij hier tegen gaat treffen. Daarnaast dient inschrijver te beschrijven hoe zij opdrachtgever meerwaarde kan bieden bij het optimaal maken van de (wisselende) bezettingsgraad van de gebouwen (in het kader van krimp of bij een scenario als Covid). Met andere woorden: hoe zorg je nu voor een goede bezettingsgraad, wordt er dan ook gehandeld naar bezettingsgraad van het gebouw (dus bv. minder gebruik = minder onderhoud = minder kosten?). Wat kunt u opdrachtgever bieden? Ook dient inschrijver te beschrijven wat zij biedt aan meerwaarde bovenop het gestelde (buiten de duurzaamheidsvraagstukken om) inzake: • adviezen • klantrelatie • verdere samenwerking en wederzijdse tevredenheid • innovatie | C11: SCORE: | F11: SCORE: | I11: SCORE:
C12: <MOTIVATIE> | F12: <MOTIVATIE> | I12: <MOTIVATIE>
A13: ='Beoordelen 1. Open vragen'!A21 -> Inschrijver beschrijft op maximaal 4 A4 (toe te voegen via TenderNed) op welke wijze zij omgaat met storingsmeldingen. Inschrijver beschrijft daarbij minimaal: - de beschrijving van uw storingsworkflow en communicatiestromen; - welke inzichten er per locatie in de managementinformatie wordt gegeven? - welke middelen/ tools inschrijver hierbij gebruikt (screenshots toe te voegen in de schriftelijke beantwoording) en middels een “live” demonstratie waarbij de gebruikersvriendelijkheid van de tool inzichtelijk wordt tijdens de persoonlijke toelichting; - hoe er gecommuniceerd wordt met en gerapporteerd wordt aan de opdrachtgever (voorbeeld rapportages toevoegen van maximaal 10 pagina’s bij het schriftelijke deel!) - hoe borgt inschrijver dat er direct gecommuniceerd kan worden met de juiste persoon, oftewel hoe borgt inschrijver dat opdrachtgever niet eerst met meerdere personen moet bellen c.q. van het kastje naar de muur wordt gestuurd? | C13: SCORE: | F13: SCORE: | I13: SCORE:
C14: <MOTIVATIE> | F14: <MOTIVATIE> | I14: <MOTIVATIE>

Sheet Consensus
A1: Totaalwaardes | D1: ='Beoordelaar 1'!C1 -> Inschrijver 1 | G1: ='Beoordelaar 1'!F1 -> Inschrijver 2 | J1: ='Beoordelaar 1'!I1 -> Inschrijver 3
A2: ='Beoordelen 1. Open vragen'!A1:G1 -> 1. OPEN VRAGEN | E2: Motivatie consensus: | H2: Motivatie consensus: | K2: Motivatie consensus:
A3: ='Beoordelen 1. Open vragen'!A6:B6 -> Inschrijver beschrijft op maximaal 2 A4 (toe te voegen via TenderNed) hoe zij de omschreven onderhoudswerkzaamheden gedurende het eerste jaar aanpakt. Inschrijver beschrijft daarbij minimaal: - wat verstaat de inschrijver onder het onderhouden van alle verschillende onderdelen met betrekking tot de E&W installaties; - op welke wijze gaat inschrijver het onderhoud per locatie van de opdrachtgever aanpakken/ realiseren; - hoe inschrijver de continuïteit van het onderhoudsteam borgt met betrekking tot bijvoorbeeld gebouwgebonden kennis, etc.; - hoe inschrijver omgaat met afgekeurde installaties en/of onderdelen; - op welke wijze rapporteert (met een voorbeeldrapportage) de inschrijver de bevindingen aan de opdrachtgever? | B3: Beoordelaar 1 | D3: ='Beoordelaar 1'!C3 -> SCORE: | E3: <MOTIVATIE> | G3: ='Beoordelaar 1'!F3 -> SCORE: | H3: <MOTIVATIE> | J3: ='Beoordelaar 1'!I3 -> SCORE: | K3: <MOTIVATIE>
B4: Beoordelaar 2 | D4: ='Beoordelaar 2'!C3 -> SCORE: | G4: ='Beoordelaar 2'!F3 -> SCORE: | J4: ='Beoordelaar 2'!I3 -> SCORE:
B5: Beoordelaar 3 | D5: ='Beoordelaar 3'!C3 -> SCORE: | G5: ='Beoordelaar 3'!F3 -> SCORE: | J5: ='Beoordelaar 3'!I3 -> SCORE:
B6: Beoordelaar 4 | D6: ='Beoordelaar 4'!C3 -> SCORE: | G6: ='Beoordelaar 4'!F3 -> SCORE: | J6: ='Beoordelaar 4'!I3 -> SCORE:
B7: Beoordelaar 5 | D7: ='Beoordelaar 5'!C3 -> SCORE: | G7: ='Beoordelaar 5'!F3 -> SCORE: | J7: ='Beoordelaar 5'!I3 -> SCORE:
A8: Consensus (1A en 1B) | D8: SCORE: | G8: SCORE: | J8: SCORE:
D9: =IF(D8="Uitmuntend","€ 12.500",IF(D8="Goed","€ 6.250",IF(D8="Voldoende","€ 1.250",IF(D8="Matig","€ 0",IF(D8="Onvoldoende","KNOCK OUT"," "))))) | G9: =IF(G8="Uitmuntend","€ 12.500",IF(G8="Goed","€ 6.250",IF(G8="Voldoende","€ 1.250",IF(G8="Matig","€ 0",IF(G8="Onvoldoende","KNOCK OUT"," "))))) | J9: =IF(J8="Uitmuntend","€ 12.500",IF(J8="Goed","€ 6.250",IF(J8="Voldoende","€ 1.250",IF(J8="Matig","€ 0",IF(J8="Onvoldoende","KNOCK OUT"," ")))))
A10: ='Beoordelen 1. Open vragen'!A9:B9 -> Inschrijver beschrijft op maximaal 2 A4 (toe te voegen via TenderNed) op welke wijze zij ervoor zorgt dat zij de E&W installaties op de locaties van de aanbestedende dienst up-to-date houdt en hoe inschrijver kan garanderen dat alle installaties blijven werken conform de geldende wet- en regelgeving en bovenal ter waarborging van de continuïteit van het onderwijsproces. Inschrijver houdt hierbij rekening met het feit dat nog niet alles up-to-date is (hetgeen inschrijvers tijdens de schouw kan waarnemen) en beschrijft inschrijver expliciet hoe zij dit up-to-date krijgt. Daarnaast beschrijft inschrijver op maximaal 4 A4 welke wijze Opdrachtgever toegang krijgt tot tekeningen, rapportages, certificaten, keuringen en hoe dit eruit ziet (screenshots). Tijdens de persoonlijke toelichting laat inschrijver dit zien met een korte demo (aan de hand van een werkende web-applicatie) waar de tekeningen, rapportages, certificaten, keuringen terug te vinden zijn. Opdrachtgever wil daarbij vooral locatie gebonden informatie terug kunnen vinden, maar ook algemene managementinformatie. | B10: Beoordelaar 1 | D10: ='Beoordelaar 1'!C5 -> SCORE: | E10: <MOTIVATIE> | G10: ='Beoordelaar 1'!F5 -> SCORE: | H10: <MOTIVATIE> | J10: ='Beoordelaar 1'!I5 -> SCORE: | K10: <MOTIVATIE>
B11: Beoordelaar 2 | D11: ='Beoordelaar 2'!C5 -> SCORE: | G11: ='Beoordelaar 2'!F5 -> SCORE: | J11: ='Beoordelaar 2'!I5 -> SCORE:
B12: Beoordelaar 3 | D12: ='Beoordelaar 3'!C5 -> SCORE: | G12: ='Beoordelaar 3'!F5 -> SCORE: | J12: ='Beoordelaar 3'!I5 -> SCORE:
B13: Beoordelaar 4 | D13: ='Beoordelaar 4'!C5 -> SCORE: | G13: ='Beoordelaar 4'!F5 -> SCORE: | J13: ='Beoordelaar 4'!I5 -> SCORE:
B14: Beoordelaar 5 | D14: ='Beoordelaar 5'!C5 -> SCORE: | G14: ='Beoordelaar 5'!F5 -> SCORE: | J14: ='Beoordelaar 5'!I5 -> SCORE:
A15: Consensus (1A en 1B) | D15: SCORE: | G15: SCORE: | J15: SCORE:
D16: =IF(D15="Uitmuntend","€ 21.000",IF(D15="Goed","€ 10.500",IF(D15="Voldoende","€ 2.100",IF(D15="Matig","€ 0",IF(D15="Onvoldoende","KNOCK OUT"," "))))) | G16: =IF(G15="Uitmuntend","€ 21.000",IF(G15="Goed","€ 10.500",IF(G15="Voldoende","€ 2.100",IF(G15="Matig","€ 0",IF(G15="Onvoldoende","KNOCK OUT"," "))))) | J16: =IF(J15="Uitmuntend","€ 21.000",IF(J15="Goed","€ 10.500",IF(J15="Voldoende","€ 2.100",IF(J15="Matig","€ 0",IF(J15="Onvoldoende","KNOCK OUT"," ")))))
A17: ='Beoordelen 1. Open vragen'!A12:B12 -> Inschrijver beschrijft op maximaal 2 A4 (toe te voegen via TenderNed) op welke wijze zij borgt dat tijdens de overgangsfase de werkzaamheden en de meldingen bij storingen aan de installaties geen hinder geven voor de opdrachtgever. Inschrijver beschrijft daarbij: - de in te zetten communicatie met de huidige onderhoudspartijen; - plan van aanpak tijdens de overgangsfase; - verwachte inzet en werkzaamheden vanuit de opdrachtgever; - te verwachten risico’s en oplossingen/ beheersmaatregelen; - wat is uw ervaring met de nodige losse contracten naar een beheer in één platform. | B17: Beoordelaar 1 | D17: ='Beoordelaar 1'!C7 -> SCORE: | E17: <MOTIVATIE> | G17: ='Beoordelaar 1'!F7 -> SCORE: | H17: <MOTIVATIE> | J17: ='Beoordelaar 1'!I7 -> SCORE: | K17: <MOTIVATIE>
B18: Beoordelaar 2 | D18: ='Beoordelaar 2'!C7 -> SCORE: | G18: ='Beoordelaar 2'!F7 -> SCORE: | J18: ='Beoordelaar 2'!I7 -> SCORE:
B19: Beoordelaar 3 | D19: ='Beoordelaar 3'!C7 -> SCORE: | G19: ='Beoordelaar 3'!F7 -> SCORE: | J19: ='Beoordelaar 3'!I7 -> SCORE:
B20: Beoordelaar 4 | D20: ='Beoordelaar 4'!C7 -> SCORE: | G20: ='Beoordelaar 4'!F7 -> SCORE: | J20: ='Beoordelaar 4'!I7 -> SCORE:
B21: Beoordelaar 5 | D21: ='Beoordelaar 5'!C7 -> SCORE: | G21: ='Beoordelaar 5'!F7 -> SCORE: | J21: ='Beoordelaar 5'!I7 -> SCORE:
A22: Consensus (1A en 1B) | D22: SCORE: | G22: SCORE: | J22: SCORE:
D23: =IF(D22="Uitmuntend","€ 12.500",IF(D22="Goed","€ 6.250",IF(D22="Voldoende","€ 1.250",IF(D22="Matig","€ 0",IF(D22="Onvoldoende","KNOCK OUT"," "))))) | G23: =IF(G22="Uitmuntend","€ 12.500",IF(G22="Goed","€ 6.250",IF(G22="Voldoende","€ 1.250",IF(G22="Matig","€ 0",IF(G22="Onvoldoende","KNOCK OUT"," "))))) | J23: =IF(J22="Uitmuntend","€ 12.500",IF(J22="Goed","€ 6.250",IF(J22="Voldoende","€ 1.250",IF(J22="Matig","€ 0",IF(J22="Onvoldoende","KNOCK OUT"," ")))))
A24: ='Beoordelen 1. Open vragen'!A15:B15 -> Aanbestedende dienst streeft erna om als onderwijsorganisatie voorop te lopen naar een nieuw tijdperk met 100% duurzame energietransitie, vol groene energie en is op zoek naar een partner om samen de volgende stap in deze energietransitie te zetten. Inschrijver beschrijft op maximaal 3 A4 (toe te voegen via TenderNed) op welke wijze zij de aanbestedende dienst hierbij kan adviseren en wat zij hierbij kan bieden. Inschrijver beschrijft daarbij minimaal: - op welke wijze CSG Liudger voorop kan lopen en kan blijven meegroeien in de veranderende behoefte naar 100% duurzame energietransitie en eventuele transitie naar aardgasvrij schoolgebouwen; - wat u als partij kan bieden als partner die kan adviseren, informeren en enthousiasmeren; - hoe beide partijen middels partnership kunnen inspelen op de veranderende behoefte van medewerkers en bezoekers en deze doelgroepen tevens kunnen betrekking bij de energietransitie; - op welke wijze gaat u om in uw advisering waarbij de investering (secundaire opdracht) hoger uitvalt, maar wel een hogere energiebesparing oplevert; - als u kijkt naar de rapportages bij deze aanbesteding (bijlage 13), wat valt u op en welke adviezen zou u daarover geven kijkend naar onderhoudskosten versus vervangingsinvestering dit in relatie tot een groene, duurzame en maximaal circulaire E&W; - wat inschrijver kan betekenen met betrekking tot energiemonitoring van de huidige situatie en eventuele adviezen over besparingen; - wat inschrijver kan betekenen met betrekking tot het verkrijgen van inzicht in het klimaat in het gebouw (bv. temperatuur, CO2 waarden, etc.). | B24: Beoordelaar 1 | D24: ='Beoordelaar 1'!C9 -> SCORE: | E24: <MOTIVATIE> | G24: ='Beoordelaar 1'!F9 -> SCORE: | H24: <MOTIVATIE> | J24: ='Beoordelaar 1'!I9 -> SCORE: | K24: <MOTIVATIE>
B25: Beoordelaar 2 | D25: ='Beoordelaar 2'!C9 -> SCORE: | G25: ='Beoordelaar 2'!F9 -> SCORE: | J25: ='Beoordelaar 2'!I9 -> SCORE:
B26: Beoordelaar 3 | D26: ='Beoordelaar 3'!C9 -> SCORE: | G26: ='Beoordelaar 3'!F9 -> SCORE: | J26: ='Beoordelaar 3'!I9 -> SCORE:
B27: Beoordelaar 4 | D27: ='Beoordelaar 4'!C9 -> SCORE: | G27: ='Beoordelaar 4'!F9 -> SCORE: | J27: ='Beoordelaar 4'!I9 -> SCORE:
B28: Beoordelaar 5 | D28: ='Beoordelaar 5'!C9 -> SCORE: | G28: ='Beoordelaar 5'!F9 -> SCORE: | J28: ='Beoordelaar 5'!I9 -> SCORE:
A29: Consensus (1A en 1B) | D29: SCORE: | G29: SCORE: | J29: SCORE:
D30: =IF(D29="Uitmuntend","€ 16.500",IF(D29="Goed","€ 8.250",IF(D29="Voldoende","€ 1.650",IF(D29="Matig","€ 0",IF(D29="Onvoldoende","KNOCK OUT"," "))))) | G30: =IF(G29="Uitmuntend","€ 16.500",IF(G29="Goed","€ 8.250",IF(G29="Voldoende","€ 1.650",IF(G29="Matig","€ 0",IF(G29="Onvoldoende","KNOCK OUT"," "))))) | J30: =IF(J29="Uitmuntend","€ 16.500",IF(J29="Goed","€ 8.250",IF(J29="Voldoende","€ 1.650",IF(J29="Matig","€ 0",IF(J29="Onvoldoende","KNOCK OUT"," ")))))
A31: ='Beoordelen 1. Open vragen'!A18 -> Inschrijver dient te beschrijven op maximaal 2 A4 (toe te voegen op TenderNed) op welke wijze zij invulling geeft aan de benodigde onderhouds- en/of reparatiewerkzaamheden indien zij zelf niet de specialistische kennis in huis heeft of zelf niet of niet tijdig de werkzaamheden kan uitvoeren. Inschrijver beschrijft daarbij minimaal: - op welke wijze inschrijver bestaande partnerpartijen (WKO) van de opdrachtgever wil inzetten; - op welke wijze zij borgt dat de in te zetten partnerpartij geen commercieel nadeel ondervindt van deze “tussenkomst van dienstverlening”; - hoe de communicatiestromen lopen met betrekking tot partnerpartijen (excl. vraag 6); - welke risico’s inschrijver ziet en welke beheersmaatregelen zij hier tegen gaat treffen. Daarnaast dient inschrijver te beschrijven hoe zij opdrachtgever meerwaarde kan bieden bij het optimaal maken van de (wisselende) bezettingsgraad van de gebouwen (in het kader van krimp of bij een scenario als Covid). Met andere woorden: hoe zorg je nu voor een goede bezettingsgraad, wordt er dan ook gehandeld naar bezettingsgraad van het gebouw (dus bv. minder gebruik = minder onderhoud = minder kosten?). Wat kunt u opdrachtgever bieden? Ook dient inschrijver te beschrijven wat zij biedt aan meerwaarde bovenop het gestelde (buiten de duurzaamheidsvraagstukken om) inzake: • adviezen • klantrelatie • verdere samenwerking en wederzijdse tevredenheid • innovatie | B31: Beoordelaar 1 | D31: ='Beoordelaar 1'!C11 -> SCORE: | E31: <MOTIVATIE> | G31: ='Beoordelaar 1'!F11 -> SCORE: | H31: <MOTIVATIE> | J31: ='Beoordelaar 1'!I11 -> SCORE: | K31: <MOTIVATIE>
B32: Beoordelaar 2 | D32: ='Beoordelaar 2'!C11 -> SCORE: | G32: ='Beoordelaar 2'!F11 -> SCORE: | J32: ='Beoordelaar 2'!I11 -> SCORE:
B33: Beoordelaar 3 | D33: ='Beoordelaar 3'!C11 -> SCORE: | G33: ='Beoordelaar 3'!F11 -> SCORE: | J33: ='Beoordelaar 3'!I11 -> SCORE:
B34: Beoordelaar 4 | D34: ='Beoordelaar 4'!C11 -> SCORE: | G34: ='Beoordelaar 4'!F11 -> SCORE: | J34: ='Beoordelaar 4'!I11 -> SCORE:
B35: Beoordelaar 5 | D35: ='Beoordelaar 5'!C11 -> SCORE: | G35: ='Beoordelaar 5'!F11 -> SCORE: | J35: ='Beoordelaar 5'!I11 -> SCORE:
A36: Consensus (1A en 1B) | D36: SCORE: | G36: SCORE: | J36: SCORE:
D37: =IF(D36="Uitmuntend","€ 16.500",IF(D36="Goed","€ 8.250",IF(D36="Voldoende","€ 1.650",IF(D36="Matig","€ 0",IF(D36="Onvoldoende","KNOCK OUT"," "))))) | G37: =IF(G36="Uitmuntend","€ 16.500",IF(G36="Goed","€ 8.250",IF(G36="Voldoende","€ 1.650",IF(G36="Matig","€ 0",IF(G36="Onvoldoende","KNOCK OUT"," "))))) | J37: =IF(J36="Uitmuntend","€ 16.500",IF(J36="Goed","€ 8.250",IF(J36="Voldoende","€ 1.650",IF(J36="Matig","€ 0",IF(J36="Onvoldoende","KNOCK OUT"," ")))))
A38: ='Beoordelen 1. Open vragen'!A21 -> Inschrijver beschrijft op maximaal 4 A4 (toe te voegen via TenderNed) op welke wijze zij omgaat met storingsmeldingen. Inschrijver beschrijft daarbij minimaal: - de beschrijving van uw storingsworkflow en communicatiestromen; - welke inzichten er per locatie in de managementinformatie wordt gegeven? - welke middelen/ tools inschrijver hierbij gebruikt (screenshots toe te voegen in de schriftelijke beantwoording) en middels een “live” demonstratie waarbij de gebruikersvriendelijkheid van de tool inzichtelijk wordt tijdens de persoonlijke toelichting; - hoe er gecommuniceerd wordt met en gerapporteerd wordt aan de opdrachtgever (voorbeeld rapportages toevoegen van maximaal 10 pagina’s bij het schriftelijke deel!) - hoe borgt inschrijver dat er direct gecommuniceerd kan worden met de juiste persoon, oftewel hoe borgt inschrijver dat opdrachtgever niet eerst met meerdere personen moet bellen c.q. van het kastje naar de muur wordt gestuurd? | B38: Beoordelaar 1 | D38: ='Beoordelaar 1'!C13 -> SCORE: | E38: <MOTIVATIE> | G38: ='Beoordelaar 1'!F13 -> SCORE: | H38: <MOTIVATIE> | J38: ='Beoordelaar 1'!I13 -> SCORE: | K38: <MOTIVATIE>
