Workbook

Sheet Hulpmiddel scoreberekening
A1: Bijlage 15 Hulpmiddel Programma van wensen en scoreberekening, v2 | F1: 1 | G1: 4 | H1: 6 | I1: 8 | J1: 10
A3: KWALITEIT
A4: Subgunningscriterium | C4: Waardering | D4: Weging1 | E4: Score (gewogen)4 | J4: Vaststelling eindscore
A5: 1 | B5: Kwalitietswensvraag 1. CV's | D5: 16 | E5: =C5*D5 -> 0
A6: 2 | B6: Matchingsproces | E6: =C6*D6 -> 0
A7: 2 | B7: Kwalitietswensvraag 2. Beschikbaarheid | D7: 37 | E7: =C7*D7 -> 0
A8: 3 | B8: Proeve van bekwaamheid W&S | D8: 37 | E8: =C8*D8 -> 0
A9: 4 | B9: Risicomanagement | C9: 10 | D9: 0 | E9: =C9*D9 -> 0
A10: 6 | B10: Specifiek deelnemer | C10: 10 | D10: 0 | E10: =C10*D10 -> 0
B11: SUBTOTAAL KWALITEIT | D11: =SUM(D5:D10) -> 90 | E11: =SUM(E5:E8) -> 0 | J11: =E11 -> 0
A14: PRIJS
A15: Subgunningscriterium | C15: Opgave rekenfactor gemiddeld tarief inschrijver | D15: Rekenfactor laagste inschrijver2 | E15: Waardering3 | F15: Weging1 | G15: Score (gewogen)
A16: 1 | B16: Rekenfactor gemiddelde tarief | E16: =IF(C16>0,MIN(10,MAX(0,10-10*LOG(C16/D16,1.5))),0) -> 0 | F16: 10 | G16: =E16*F16 -> 0
A17: 2A | B17: Korting bij verlenging na een initiële inhuurperiode tot 6 maanden | D17: 1.12 | E17: =IF(#REF!>0,MIN(10,MAX(0,10-10*LOG(#REF!/D17,2))),0) -> #REF! | F17: 0 | G17: =E17*F17 -> #REF!
A18: 2B | B18: Korting bij verlenging na een initiële inhuurperiode van 6 tot 12 maanden | D18: 1.08 | E18: =IF(#REF!>0,MIN(10,MAX(0,10-10*LOG(#REF!/D18,2))),0) -> #REF! | F18: 0 | G18: =E18*F18 -> #REF!
A19: 2C | B19: Korting bij verlenging na een initiële inhuurperiode van 12 maanden of meer | D19: 1.08 | E19: =IF(#REF!>0,MIN(10,MAX(0,10-10*LOG(#REF!/D19,2))),0) -> #REF! | F19: 0 | G19: =E19*F19 -> #REF!
D20: SUBTOTAAL PRIJS | F20: 10 | G20: =SUM(G16:G16) -> 0 | J20: =G20 -> 0
I22: EINDSCORE | J22: =SUM(J11:J21) -> 0
A23: 1 | B23: De som van alle wegingsfactoren (kwaliteit en prijs) moet gelijk zijn aan 100. Wordt vastgesteld in aanbesteding.
A24: 2 | B24: Is de laagste opgave. In dit voorbeeld ingevulde waarde is fictief. Definitieve waarden worden automatisch vastgesteld bij gunning.
A25: 3 | B25: Score = 10 - 10*log(opgave inschrijver/laagste rekenfactor; grondtal= 1,5)
A26: 4 | B26: Rekenfactor na korting = Opgave rekenfactor gemiddeld tarief - (Opgave rekenfactor gemiddeld tarief * kortingspercentage)
A27: 4 | B27: De score op kwaliteit dient tenminste 495 zijn en de waardering 1 (één) is niet toegestaan.

Sheet Hulpmiddel scoreberekening (2)
A1: Bijlage 16 Hulpmiddel Programma van wensen en scoreberekening
A4: PRIJS | F4: INSCHRIJVER A | K4: INSCHRIJVER B | P4: INSCHRIJVER C | U4: INSCHRIJVER D | Z4: INSCHRIJVER E
A5: Gunningscriterium | C5: Lengte Initiële inhuur periode | D5: Weging | E5: Rekenfactor laagste inschrijver | F5: Opgave rekenfactor gemiddeld tarief inschrijver | G5: Opgave kortings percentage inschrijver bij verlenging | H5: Rekenfactor na korting | I5: Waardering | J5: Score (gewogen) | K5: Opgave rekenfactor gemiddeld tarief inschrijver | L5: Opgave kortings percentage inschrijver bij verlenging | M5: Rekenfactor na korting | N5: Waardering | O5: Score (gewogen) | P5: Opgave rekenfactor gemiddeld tarief inschrijver | Q5: Opgave kortings percentage inschrijver bij verlenging | R5: Rekenfactor na korting | S5: Waardering | T5: Score (gewogen) | U5: Opgave rekenfactor gemiddeld tarief inschrijver | V5: Opgave kortings percentage inschrijver bij verlenging | W5: Rekenfactor na korting | X5: Waardering | Y5: Score (gewogen) | Z5: Opgave rekenfactor gemiddeld tarief inschrijver | AA5: Opgave kortings percentage inschrijver bij verlenging | AB5: Rekenfactor na korting | AC5: Waardering | AD5: Score (gewogen)
A6: 1 | B6: Rekenfactor gemiddelde tarief | D6: 6 | E6: =SMALL(F16:F20,1) -> 1.12 | F6: 1.12 | I6: =IF(F6>0,MIN(10,MAX(0,10-10*LOG(F6/$E6,2))),0) -> 10 | J6: =I6*$D6 -> 60 | K6: 1.2 | N6: =IF(K6>0,MIN(10,MAX(0,10-10*LOG(K6/$E6,2))),0) -> 9.0046433 | O6: =N6*$D6 -> 54.02786 | P6: 1.14 | S6: =IF(P6>0,MIN(10,MAX(0,10-10*LOG(P6/$E6,2))),0) -> 9.7446491 | T6: =S6*$D6 -> 58.467894 | U6: 1.25 | X6: =IF(U6>0,MIN(10,MAX(0,10-10*LOG(U6/$E6,2))),0) -> 8.4157064 | Y6: =X6*$D6 -> 50.494238 | Z6: 1.16 | AC6: =IF(Z6>0,MIN(10,MAX(0,10-10*LOG(Z6/$E6,2))),0) -> 9.4937393 | AD6: =AC6*$D6 -> 56.962436
C7: < 6 maanden | D7: 10 | E7: =SMALL(G16:G20,1) -> 1.1058 | G7: 0 | H7: =IF(F6<>0,F6-(F6*G7),0) -> 1.12 | I7: =IF(H7>0,MIN(10,MAX(0,10-10*LOG(H7/$E7,2))),0) -> 9.8159174 | J7: =I7*$D7 -> 98.159174 | L7: 0.03 | M7: =IF(K6<>0,K6-(K6*L7),0) -> 1.164 | N7: =IF(M7>0,MIN(10,MAX(0,10-10*LOG(M7/$E7,2))),0) -> 9.2599942 | O7: =N7*$D7 -> 92.599942 | Q7: 0.03 | R7: =IF(P6<>0,P6-(P6*Q7),0) -> 1.1058 | S7: =IF(R7>0,MIN(10,MAX(0,10-10*LOG(R7/$E7,2))),0) -> 10 | T7: =S7*$D7 -> 100 | V7: 0.04 | W7: =IF(U6<>0,U6-(U6*V7),0) -> 1.2 | X7: =IF(W7>0,MIN(10,MAX(0,10-10*LOG(W7/$E7,2))),0) -> 8.8205607 | Y7: =X7*$D7 -> 88.205607 | AA7: 0.03 | AB7: =IF(Z6<>0,Z6-(Z6*AA7),0) -> 1.1252 | AC7: =IF(AB7>0,MIN(10,MAX(0,10-10*LOG(AB7/$E7,2))),0) -> 9.7490902 | AD7: =AC7*$D7 -> 97.490902
C8: ≥ 6 en < 12 maanden | D8: 3 | E8: =SMALL(H16:H20,1) -> 1.0904 | G8: 0 | H8: =IF(F6<>0,F6-(F6*G8),0) -> 1.12 | I8: =IF(H8>0,MIN(10,MAX(0,10-10*LOG(H8/$E8,2))),0) -> 9.6135873 | J8: =I8*$D8 -> 28.840762 | L8: 0.04 | M8: =IF(K6<>0,K6-(K6*L8),0) -> 1.152 | N8: =IF(M8>0,MIN(10,MAX(0,10-10*LOG(M8/$E8,2))),0) -> 9.2071675 | O8: =N8*$D8 -> 27.621503 | Q8: 0.04 | R8: =IF(P6<>0,P6-(P6*Q8),0) -> 1.0944 | S8: =IF(R8>0,MIN(10,MAX(0,10-10*LOG(R8/$E8,2))),0) -> 9.9471733 | T8: =S8*$D8 -> 29.84152 | V8: 0.05 | W8: =IF(U6<>0,U6-(U6*V8),0) -> 1.1875 | X8: =IF(W8>0,MIN(10,MAX(0,10-10*LOG(W8/$E8,2))),0) -> 8.7692995 | Y8: =X8*$D8 -> 26.307899 | AA8: 0.06 | AB8: =IF(Z6<>0,Z6-(Z6*AA8),0) -> 1.0904 | AC8: =IF(AB8>0,MIN(10,MAX(0,10-10*LOG(AB8/$E8,2))),0) -> 10 | AD8: =AC8*$D8 -> 30
C9: ≥12 maanden | D9: 1 | E9: =SMALL(I16:I20,1) -> 1.0556 | G9: 0 | H9: =IF(F6<>0,F6-(F6*G9),0) -> 1.12 | I9: =IF(H9>0,MIN(10,MAX(0,10-10*LOG(H9/$E9,2))),0) -> 9.1456452 | J9: =I9*$D9 -> 9.1456452 | L9: 0.05 | M9: =IF(K6<>0,K6-(K6*L9),0) -> 1.14 | N9: =IF(M9>0,MIN(10,MAX(0,10-10*LOG(M9/$E9,2))),0) -> 8.8902943 | O9: =N9*$D9 -> 8.8902943 | Q9: 0.04 | R9: =IF(P6<>0,P6-(P6*Q9),0) -> 1.0944 | S9: =IF(R9>0,MIN(10,MAX(0,10-10*LOG(R9/$E9,2))),0) -> 9.4792312 | T9: =S9*$D9 -> 9.4792312 | V9: 0.06 | W9: =IF(U6<>0,U6-(U6*V9),0) -> 1.175 | X9: =IF(W9>0,MIN(10,MAX(0,10-10*LOG(W9/$E9,2))),0) -> 8.454025 | Y9: =X9*$D9 -> 8.454025 | AA9: 0.09 | AB9: =IF(Z6<>0,Z6-(Z6*AA9),0) -> 1.0556 | AC9: =IF(AB9>0,MIN(10,MAX(0,10-10*LOG(AB9/$E9,2))),0) -> 10 | AD9: =AC9*$D9 -> 10
D10: =SUM(D6:D9) -> 20 | H10: SUBTOTAALSCORE PRIJS | J10: =SUM(J6:J9) -> 196.14558 | M10: SUBTOTAALSCORE PRIJS | O10: =SUM(O6:O9) -> 183.1396 | R10: SUBTOTAALSCORE PRIJS | T10: =SUM(T6:T9) -> 197.78865 | W10: SUBTOTAALSCORE PRIJS | Y10: =SUM(Y6:Y9) -> 173.46177 | AB10: SUBTOTAALSCORE PRIJS | AD10: =SUM(AD6:AD9) -> 194.45334
F16: =F6 -> 1.12 | G16: =H7 -> 1.12 | H16: =H8 -> 1.12 | I16: =H9 -> 1.12
F17: =K6 -> 1.2 | G17: =M7 -> 1.164 | H17: =M8 -> 1.152 | I17: =M9 -> 1.14
F18: =P6 -> 1.14 | G18: =R7 -> 1.1058 | H18: =R8 -> 1.0944 | I18: =R9 -> 1.0944
F19: =U6 -> 1.25 | G19: =W7 -> 1.2 | H19: =W8 -> 1.1875 | I19: =W9 -> 1.175
F20: =Z6 -> 1.16 | G20: =AB7 -> 1.1252 | H20: =AB8 -> 1.0904 | I20: =AB9 -> 1.0556

Sheet Blad1
B4: Prijscomponenten | C4: Inschrijver
C5: A | D5: B | E5: C | F5: D | G5: E
B6: 1. Rekenfactor gemiddeld tarief (prijscomponent 1)
B7: Opgegeven rekenfactor gemiddeld tarief | C7: ='Hulpmiddel scoreberekening (2)'!F6 -> 1.12 | D7: ='Hulpmiddel scoreberekening (2)'!K6 -> 1.2 | E7: ='Hulpmiddel scoreberekening (2)'!P6 -> 1.14 | F7: ='Hulpmiddel scoreberekening (2)'!U6 -> 1.25 | G7: ='Hulpmiddel scoreberekening (2)'!Z6 -> 1.16
B8: Puntenscore (ongewogen) | C8: ='Hulpmiddel scoreberekening (2)'!I6 -> 10 | D8: ='Hulpmiddel scoreberekening (2)'!N6 -> 9.0046433 | E8: ='Hulpmiddel scoreberekening (2)'!S6 -> 9.7446491 | F8: ='Hulpmiddel scoreberekening (2)'!X6 -> 8.4157064 | G8: ='Hulpmiddel scoreberekening (2)'!AC6 -> 9.4937393
B9: 2. Korting bij verlenging na initiële inhuurperiode (prijscomponent 2) | J9: Inschrijver | K9: Rekenfactor gemiddeld tarief | L9: Punten (max. 10)
B10: A. Initiële periode tot 6 maanden | J10: A | K10: =C7 -> 1.12 | L10: =C8 -> 10
B11: Opgegeven kortingspercentage | C11: ='Hulpmiddel scoreberekening (2)'!G7 -> 0 | D11: ='Hulpmiddel scoreberekening (2)'!L7 -> 0.03 | E11: ='Hulpmiddel scoreberekening (2)'!Q7 -> 0.03 | F11: ='Hulpmiddel scoreberekening (2)'!V7 -> 0.04 | G11: ='Hulpmiddel scoreberekening (2)'!AA7 -> 0.03 | J11: B | K11: =D7 -> 1.2 | L11: =D8 -> 9.0046433
B12: Rekenfactor na korting | C12: ='Hulpmiddel scoreberekening (2)'!H7 -> 1.12 | D12: ='Hulpmiddel scoreberekening (2)'!M7 -> 1.164 | E12: ='Hulpmiddel scoreberekening (2)'!R7 -> 1.1058 | F12: ='Hulpmiddel scoreberekening (2)'!W7 -> 1.2 | G12: ='Hulpmiddel scoreberekening (2)'!AB7 -> 1.1252 | J12: C | K12: =E7 -> 1.14 | L12: =E8 -> 9.7446491
B13: Puntenscore (ongewogen) | C13: ='Hulpmiddel scoreberekening (2)'!I7 -> 9.8159174 | D13: ='Hulpmiddel scoreberekening (2)'!N7 -> 9.2599942 | E13: ='Hulpmiddel scoreberekening (2)'!S7 -> 10 | F13: ='Hulpmiddel scoreberekening (2)'!X7 -> 8.8205607 | G13: ='Hulpmiddel scoreberekening (2)'!AC7 -> 9.7490902 | J13: D | K13: =F7 -> 1.25 | L13: =F8 -> 8.4157064
B14: B. Initiële periode van 6 tot 12 maanden | J14: E | K14: =G7 -> 1.16 | L14: =G8 -> 9.4937393
B15: Opgegeven kortingspercentage | C15: ='Hulpmiddel scoreberekening (2)'!G8 -> 0 | D15: ='Hulpmiddel scoreberekening (2)'!L8 -> 0.04 | E15: ='Hulpmiddel scoreberekening (2)'!Q8 -> 0.04 | F15: ='Hulpmiddel scoreberekening (2)'!V8 -> 0.05 | G15: ='Hulpmiddel scoreberekening (2)'!AA8 -> 0.06
B16: Rekenfactor na korting | C16: ='Hulpmiddel scoreberekening (2)'!H8 -> 1.12 | D16: ='Hulpmiddel scoreberekening (2)'!M8 -> 1.152 | E16: ='Hulpmiddel scoreberekening (2)'!R8 -> 1.0944 | F16: ='Hulpmiddel scoreberekening (2)'!W8 -> 1.1875 | G16: ='Hulpmiddel scoreberekening (2)'!AB8 -> 1.0904
B17: Puntenscore (ongewogen) | C17: ='Hulpmiddel scoreberekening (2)'!I8 -> 9.6135873 | D17: ='Hulpmiddel scoreberekening (2)'!N8 -> 9.2071675 | E17: ='Hulpmiddel scoreberekening (2)'!S8 -> 9.9471733 | F17: ='Hulpmiddel scoreberekening (2)'!X8 -> 8.7692995 | G17: ='Hulpmiddel scoreberekening (2)'!AC8 -> 10
B18: C. Initiële periode van 12 maanden of meer
B19: Opgegeven kortingspercentage | C19: ='Hulpmiddel scoreberekening (2)'!G9 -> 0 | D19: ='Hulpmiddel scoreberekening (2)'!L9 -> 0.05 | E19: ='Hulpmiddel scoreberekening (2)'!Q9 -> 0.04 | F19: ='Hulpmiddel scoreberekening (2)'!V9 -> 0.06 | G19: ='Hulpmiddel scoreberekening (2)'!AA9 -> 0.09
B20: Rekenfactor na korting | C20: ='Hulpmiddel scoreberekening (2)'!H9 -> 1.12 | D20: ='Hulpmiddel scoreberekening (2)'!M9 -> 1.14 | E20: ='Hulpmiddel scoreberekening (2)'!R9 -> 1.0944 | F20: ='Hulpmiddel scoreberekening (2)'!W9 -> 1.175 | G20: ='Hulpmiddel scoreberekening (2)'!AB9 -> 1.0556
B21: Puntenscore (ongewogen) | C21: ='Hulpmiddel scoreberekening (2)'!I9 -> 9.1456452 | D21: ='Hulpmiddel scoreberekening (2)'!N9 -> 8.8902943 | E21: ='Hulpmiddel scoreberekening (2)'!S9 -> 9.4792312 | F21: ='Hulpmiddel scoreberekening (2)'!X9 -> 8.454025 | G21: ='Hulpmiddel scoreberekening (2)'!AC9 -> 10

Sheet Blad2
