Workbook
Name export_vips_2021_08_24_07.58.25: Blad4!$A$1:$E$1272

Sheet Voorblad
A1: Componentenlijst
A3: Selectiecriteria:
A4: Hoofdgebruiker
A5: ObjectHoofdgebruiker
A6: Object
A7: Component | B7: Valbeveiliging
A8: Regio
A9: Contract
A10: Cluster
A11: Onderhoudsplicht | B11: Ja, vastgoedbeh.
A12: Buiten gebruik gesteld | B12: Nee
A15: Deze export bevat de volgende componenten:
B16: Component | C16: Aantal
A17: 36 | B17: Valbeveiliging | C17: =COUNT(geregistreerd!A:A) -> 133
A19: Op tabblad "geregistreerd" staan alle 133 gereigstreerde componenten (per dakvlak)
A20: Op tabblad "nog niet geregistreerd" staan alle componenten die nog opgeleverd moeten worden en geregistreerd (per gebouw, totaal 364 gebouwen)

Sheet geregistreerd
A1: ComponentID | B1: ComponentSoortID | C1: ComponentSoort | D1: Object | E1: Objectnaam | F1: Plaats | G1: Postcode | H1: Gebouw | I1: Gebouwnaam | J1: BVO | K1: Bouwlaag | L1: Ruimte | M1: Hoofdgebruiker | N1: Objecthoofdgebruiker | O1: Regio | P1: BI code | Q1: Aantal | R1: Fabrikant | S1: Type | T1: Nadere locatiebepaling | U1: Bouwjaar | V1: Nadere specificatie bwd/instl | W1: Aantal dakvlakken | X1: Type hekwerk | Y1: Lengte hekwerk | Z1: Type daktoegang | AA1: Aantal daktoegangen | AB1: Type markering | AC1: Type lijnbeveiligingssysteem | AD1: Aantal lijnbeveiligingssyst. | AE1: Lengte kabelsysteem | AF1: Type ankerpunten | AG1: Aantal individuele ankerpunten | AH1: Type klimvoorziening | AI1: Aantal ladderopstelpunten | AJ1: Aantal kooiladders | AK1: Aantal gevelladders | AL1: Aantal vaste trappen | AM1: Aantal vlizotrappen | AN1: PBM | AO1: Overige voorzieningen | AP1: Onderhoudsplicht | AQ1: Buiten gebruik gesteld
A2: 900075517 | B2: 36 | C2: Valbeveiliging | D2: 51D05 | E2: VLIEGBASIS EINDHOVEN | F2: =VLOOKUP(D2,Blad4!A:E,5,FALSE) -> Eindhoven | G2: =VLOOKUP(D2,Blad4!A:E,4,FALSE) -> 5657EZ | H2: 405 | I2: Hangar 334 SQN | J2: 2942 | M2: Commando Luchtstrijdkrachten | N2: CLSK | O2: RVB-Z | P2: 1 | Q2: 1 | R2: Safe Site bv | S2: Soll horizontaal valbeveiliging | T2: ruimte 1 en 2 | V2: 6 railsysteem, 9 valblokken | X2: Nader te bepalen | Z2: Nader te bepalen | AB2: Nader te bepalen | AC2: Nader te bepalen | AF2: Nader te bepalen | AG2: 2 | AH2: Nader te bepalen | AN2: Nader te bepalen | AO2: Nader te bepalen | AP2: Ja, vastgoedbeh. | AQ2: Nee
A3: 900081779 | B3: 36 | C3: Valbeveiliging | D3: 50E03 | E3: VLIEGBASIS GILZE-RIJEN | F3: =VLOOKUP(D3,Blad4!A:E,5,FALSE) -> Rijen | G3: =VLOOKUP(D3,Blad4!A:E,4,FALSE) -> 5121RD | H3: 350 | I3: Washangar | J3: 3474 | M3: Commando Luchtstrijdkrachten | N3: CLSK | O3: RVB-Z | P3: 1 | Q3: 1 | R3: All risk b.v. | S3: Vertic safety-line | T3: ruimte 26c-26d | U3: 2008 | V3: in gebouw | X3: Nader te bepalen | Z3: Nader te bepalen | AB3: Nader te bepalen | AC3: Nader te bepalen | AE3: 30 | AF3: Nader te bepalen | AH3: Nader te bepalen | AN3: Nader te bepalen | AO3: Nader te bepalen | AP3: Ja, vastgoedbeh. | AQ3: Nee
A4: 900110923 | B4: 36 | C4: Valbeveiliging | D4: 50E03 | E4: VLIEGBASIS GILZE-RIJEN | F4: =VLOOKUP(D4,Blad4!A:E,5,FALSE) -> Rijen | G4: =VLOOKUP(D4,Blad4!A:E,4,FALSE) -> 5121RD | H4: 750 | I4: Squadrongebouw Complex 1 | J4: 16195 | M4: Commando Luchtstrijdkrachten | N4: CLSK | O4: RVB-Z | P4: 2 | Q4: 1 | R4: Uniline safety system | T4: Werkplaats vliegtuigen (binnen) incl. valstopapparaat | U4: 2008 | V4: 12 x in werkplaats ( 12 x 35,80 ) | X4: Nader te bepalen | Z4: Nader te bepalen | AB4: Nader te bepalen | AC4: Nader te bepalen | AE4: 429.6 | AF4: Nader te bepalen | AH4: Nader te bepalen | AN4: Nader te bepalen | AO4: Nader te bepalen | AP4: Ja, vastgoedbeh. | AQ4: Nee
A5: 900111524 | B5: 36 | C5: Valbeveiliging | D5: 25D18 | E5: KONINGIN M┴XIMAKAZERNE | F5: =VLOOKUP(D5,Blad4!A:E,5,FALSE) -> Badhoevedorp | G5: =VLOOKUP(D5,Blad4!A:E,4,FALSE) -> 1171VK | H5: 001 | I5: Kantoor en Legeringsgebouw | J5: 27390 | M5: Koninklijke Marechaussee | N5: KMAR | O5: RVB-NW | P5: 20 | Q5: 1 | R5: Eurosafe Solutions bv | S5: Latchways kabel-valbeveiligingssysteem | T5: 1e verdieping dakvlak 4a | U5: 2012 | V5: DV31 - eurosafe | X5: Nader te bepalen | Z5: Nader te bepalen | AB5: Nader te bepalen | AC5: Nader te bepalen | AE5: 10 | AF5: Nader te bepalen | AH5: Nader te bepalen | AN5: Nader te bepalen | AO5: Nader te bepalen | AP5: Ja, vastgoedbeh. | AQ5: Nee
A6: 900128216 | B6: 36 | C6: Valbeveiliging | D6: 24H01 | E6: ANTENNEPARK NOORDWIJK | F6: =VLOOKUP(D6,Blad4!A:E,5,FALSE) -> Noordwijk | G6: =VLOOKUP(D6,Blad4!A:E,4,FALSE) -> 2204AH | H6: 002 | I6: Zendmast | J6: 60 | M6: Defensie Materieel Organisatie | N6: DMO | O6: RVB-ZW | P6: 1 | Q6: 1 | R6: Soll | S6: Vi-Go | T6: In mast bij Antennepark Noordwijk | U6: 2018 | V6: Valbeveiliging t.b.v. zendmast | W6: 1 | X6: Nader te bepalen | Z6: Deur | AA6: 1 | AB6: Fysieke afscheiding | AC6: Lijnbeveiliging op stalen ondergrond | AD6: 7 | AE6: 67.7 | AF6: Ankerpunt op stalen ondergrond | AG6: 8 | AH6: Combinatie diverse klimvoorzieningen | AI6: 0 | AJ6: 0 | AK6: 0 | AL6: 1 | AM6: 0 | AN6: Harnas | AO6: Dakplan | AP6: Ja, vastgoedbeh. | AQ6: Nee
A7: 900128217 | B7: 36 | C7: Valbeveiliging | D7: 09F92 | E7: ANTENNEPARK HOORN | F7: =VLOOKUP(D7,Blad4!A:E,5,FALSE) -> Hoorn | G7: =VLOOKUP(D7,Blad4!A:E,4,FALSE) -> 1627LB | H7: 001 | I7: Verbindingsgebouw & Mast | J7: 35 | M7: Defensie Materieel Organisatie | N7: DMO | O7: RVB-NW | P7: 1 | Q7: 1 | R7: Soll | S7: Vi-Go | T7: In antennemast | U7: 2019 | V7: Integraal veiligheidssysteem | W7: 1 | X7: Nader te bepalen | Z7: Deur | AB7: Nader te bepalen | AC7: Lijnbeveiliging op stalen ondergrond | AD7: 13 | AE7: 86 | AF7: Ankerpunt op stalen ondergrond | AG7: 5 | AH7: Vaste trap vast verankerd | AL7: 13 | AN7: Harnas | AO7: Nader te bepalen | AP7: Ja, vastgoedbeh. | AQ7: Nee
A8: 900133664 | B8: 36 | C8: Valbeveiliging | D8: 45H03 | E8: VLIEGBASIS VOLKEL | F8: =VLOOKUP(D8,Blad4!A:E,5,FALSE) -> Volkel | G8: =VLOOKUP(D8,Blad4!A:E,4,FALSE) -> 5408SM | H8: 2003 | I8: Werkcentrum EGRESS | J8: 316 | M8: Commando Luchtstrijdkrachten | N8: CLSK | O8: RVB-Z | P8: 1 | Q8: 1 | S8: CFP | U8: 2019 | X8: Nader te bepalen | Z8: Nader te bepalen | AB8: Nader te bepalen | AC8: Nader te bepalen | AF8: Nader te bepalen | AG8: 15 | AH8: Ladderopstelplaats tbv losse ladder | AI8: 1 | AN8: Nader te bepalen | AO8: Nader te bepalen | AP8: Ja, vastgoedbeh. | AQ8: Nee
A9: 900133750 | B9: 36 | C9: Valbeveiliging | D9: 09D04 | E9: FORT HARSSENS | F9: =VLOOKUP(D9,Blad4!A:E,5,FALSE) -> Den Helder | G9: =VLOOKUP(D9,Blad4!A:E,4,FALSE) -> 1781AT | H9: D003 | I9: Radarstation WHH | J9: 31 | M9: Commando Zeestrijdkrachten | N9: CZSK | O9: RVB-NW | P9: 1 | Q9: 1 | R9: Soll | S9: glideloc Y boom | U9: 2018 | W9: 1 | X9: Nader te bepalen | Z9: Op- en afstapvoorziening | AB9: Pictogram | AC9: Nader te bepalen | AF9: Nader te bepalen | AH9: Gevelladder vast verankerd | AI9: 1 | AK9: 1 | AN9: Harnas | AO9: Nader te bepalen | AP9: Ja, vastgoedbeh. | AQ9: Nee
A10: 900133765 | B10: 36 | C10: Valbeveiliging | D10: 45H03 | E10: VLIEGBASIS VOLKEL | F10: =VLOOKUP(D10,Blad4!A:E,5,FALSE) -> Volkel | G10: =VLOOKUP(D10,Blad4!A:E,4,FALSE) -> 5408SM | H10: 1022 | I10: VVA , Open Skies | J10: 858 | M10: Commando Luchtstrijdkrachten | N10: CLSK | O10: RVB-Z | P10: 1 | Q10: 1 | T10: achterzijde via trap buiten | X10: Hekwerk vast verankerd | Z10: Loopbrug vast verankerd | AB10: Nader te bepalen | AC10: Nader te bepalen | AF10: Nader te bepalen | AH10: Nader te bepalen | AN10: Nader te bepalen | AO10: Nader te bepalen | AP10: Ja, vastgoedbeh. | AQ10: Nee
A11: 900133887 | B11: 36 | C11: Valbeveiliging | D11: 32F11 | E11: LEGERPLAATS STROE | F11: =VLOOKUP(D11,Blad4!A:E,5,FALSE) -> Stroe | G11: =VLOOKUP(D11,Blad4!A:E,4,FALSE) -> 3776LR | H11: 544 | I11: Gezondheidscentrum | J11: 2298 | M11: Commando Landstrijdkrachten | N11: CLAS | O11: RVB-O | P11: 1 | Q11: 1 | R11: Protect | S11: SECU Track | T11: Hoofddak | U11: 2019 | V11: Integraal veiligheidssysteem | X11: Hekwerk vast verankerd | Y11: 5 | Z11: Nader te bepalen | AB11: Nader te bepalen | AC11: Nader te bepalen | AE11: 122 | AF11: Nader te bepalen | AG11: 23 | AH11: Nader te bepalen | AN11: Nader te bepalen | AO11: Nader te bepalen | AP11: Ja, vastgoedbeh. | AQ11: Nee
A12: 900134180 | B12: 36 | C12: Valbeveiliging | D12: 51B12 | E12: GENM DE R V S KAZERNE | F12: =VLOOKUP(D12,Blad4!A:E,5,FALSE) -> Oirschot | G12: =VLOOKUP(D12,Blad4!A:E,4,FALSE) -> 5688GN | H12: 145 | I12: Gezondheidscentrum | J12: 2605 | M12: Commando Landstrijdkrachten | N12: CLAS | O12: RVB-Z | P12: 1 | Q12: 1 | R12: Marq Fence | S12: Neerklpabaar hekwerk | U12: 2019 | V12: 62 staanders | X12: Hekwerk los opgelegd | Y12: 152 | Z12: Luik | AA12: 1 | AB12: Nader te bepalen | AC12: Nader te bepalen | AF12: Nader te bepalen | AH12: Nader te bepalen | AN12: Nader te bepalen | AO12: Doorvalbeveiliging | AP12: Ja, vastgoedbeh. | AQ12: Nee
A13: 900134181 | B13: 36 | C13: Valbeveiliging | D13: 51B12 | E13: GENM DE R V S KAZERNE | F13: =VLOOKUP(D13,Blad4!A:E,5,FALSE) -> Oirschot | G13: =VLOOKUP(D13,Blad4!A:E,4,FALSE) -> 5688GN | H13: 211 | I13: Legeringsgebouw | J13: 2975 | M13: Commando Landstrijdkrachten | N13: CLAS | O13: RVB-Z | P13: 1 | Q13: 1 | R13: Marq Fence | S13: Neerklapbaar hekwerk | U13: 2019 | V13: 94 staanders | X13: Hekwerk los opgelegd | Y13: 241 | Z13: Nader te bepalen | AB13: Nader te bepalen | AC13: Nader te bepalen | AF13: Nader te bepalen | AH13: Nader te bepalen | AN13: Nader te bepalen | AO13: Nader te bepalen | AP13: Ja, vastgoedbeh. | AQ13: Nee
A14: 900134182 | B14: 36 | C14: Valbeveiliging | D14: 51B12 | E14: GENM DE R V S KAZERNE | F14: =VLOOKUP(D14,Blad4!A:E,5,FALSE) -> Oirschot | G14: =VLOOKUP(D14,Blad4!A:E,4,FALSE) -> 5688GN | H14: 213 | I14: Legeringsgebouw | J14: 2975 | M14: Commando Landstrijdkrachten | N14: CLAS | O14: RVB-Z | P14: 1 | Q14: 1 | R14: Marq Fence | S14: Neerklapbaar hekwerk | U14: 2019 | X14: Hekwerk los opgelegd | Y14: 241 | Z14: Nader te bepalen | AB14: Nader te bepalen | AC14: Nader te bepalen | AF14: Nader te bepalen | AH14: Nader te bepalen | AN14: Nader te bepalen | AO14: Nader te bepalen | AP14: Ja, vastgoedbeh. | AQ14: Nee
A15: 900134183 | B15: 36 | C15: Valbeveiliging | D15: 51B12 | E15: GENM DE R V S KAZERNE | F15: =VLOOKUP(D15,Blad4!A:E,5,FALSE) -> Oirschot | G15: =VLOOKUP(D15,Blad4!A:E,4,FALSE) -> 5688GN | H15: 214 | I15: Legeringsgebouw | J15: 2975 | M15: Commando Landstrijdkrachten | N15: CLAS | O15: RVB-Z | P15: 1 | Q15: 1 | R15: Marq Fence | S15: Neerklapbaar hekwerk | U15: 2019 | X15: Hekwerk los opgelegd | Y15: 241 | Z15: Luik | AA15: 1 | AB15: Nader te bepalen | AC15: Nader te bepalen | AF15: Nader te bepalen | AH15: Nader te bepalen | AN15: Nader te bepalen | AO15: Doorvalbeveiliging | AP15: Ja, vastgoedbeh. | AQ15: Nee
A16: 900134184 | B16: 36 | C16: Valbeveiliging | D16: 51B12 | E16: GENM DE R V S KAZERNE | F16: =VLOOKUP(D16,Blad4!A:E,5,FALSE) -> Oirschot | G16: =VLOOKUP(D16,Blad4!A:E,4,FALSE) -> 5688GN | H16: 215 | I16: Kantoorgebouw | J16: 445 | M16: Commando Landstrijdkrachten | N16: CLAS | O16: RVB-Z | P16: 1 | Q16: 1 | R16: Marq Fence | S16: Neerklapbaar hekwerk | U16: 2019 | V16: 44 staanders | X16: Hekwerk los opgelegd | Y16: 98 | Z16: Nader te bepalen | AB16: Nader te bepalen | AC16: Nader te bepalen | AF16: Nader te bepalen | AH16: Ladderopstelplaats tbv losse ladder | AI16: 1 | AN16: Nader te bepalen | AO16: Doorvalbeveiliging | AP16: Ja, vastgoedbeh. | AQ16: Nee
A17: 900134185 | B17: 36 | C17: Valbeveiliging | D17: 51B12 | E17: GENM DE R V S KAZERNE | F17: =VLOOKUP(D17,Blad4!A:E,5,FALSE) -> Oirschot | G17: =VLOOKUP(D17,Blad4!A:E,4,FALSE) -> 5688GN | H17: 217 | I17: Legeringsgebouw | J17: 2975 | M17: Commando Landstrijdkrachten | N17: CLAS | O17: RVB-Z | P17: 1 | Q17: 1 | R17: Marq Fence | S17: Neerklapbaar hekwerk | U17: 2019 | X17: Hekwerk los opgelegd | Y17: 241 | Z17: Luik | AA17: 1 | AB17: Nader te bepalen | AC17: Nader te bepalen | AF17: Nader te bepalen | AH17: Nader te bepalen | AN17: Nader te bepalen | AO17: Doorvalbeveiliging | AP17: Ja, vastgoedbeh. | AQ17: Nee
A18: 900134186 | B18: 36 | C18: Valbeveiliging | D18: 51B12 | E18: GENM DE R V S KAZERNE | F18: =VLOOKUP(D18,Blad4!A:E,5,FALSE) -> Oirschot | G18: =VLOOKUP(D18,Blad4!A:E,4,FALSE) -> 5688GN | H18: 218 | I18: Legeringsgebouw | J18: 2975 | M18: Commando Landstrijdkrachten | N18: CLAS | O18: RVB-Z | P18: 1 | Q18: 1 | R18: Marq Fence | S18: Neerklapbaar hekwerk | U18: 2019 | V18: 94 staanders | X18: Hekwerk los opgelegd | Y18: 241 | Z18: Luik | AA18: 1 | AB18: Nader te bepalen | AC18: Nader te bepalen | AF18: Nader te bepalen | AH18: Nader te bepalen | AN18: Nader te bepalen | AO18: Doorvalbeveiliging | AP18: Ja, vastgoedbeh. | AQ18: Nee
A19: 900134189 | B19: 36 | C19: Valbeveiliging | D19: 51B12 | E19: GENM DE R V S KAZERNE | F19: =VLOOKUP(D19,Blad4!A:E,5,FALSE) -> Oirschot | G19: =VLOOKUP(D19,Blad4!A:E,4,FALSE) -> 5688GN | H19: 220 | I19: Legeringsgebouw | J19: 2975 | M19: Commando Landstrijdkrachten | N19: CLAS | O19: RVB-Z | P19: 1 | Q19: 1 | R19: Marq Fence | S19: Neerklapbaar hekwerk | U19: 2019 | V19: 94 staanders | X19: Hekwerk los opgelegd | Y19: 241 | Z19: Luik | AA19: 1 | AB19: Nader te bepalen | AC19: Nader te bepalen | AF19: Nader te bepalen | AH19: Nader te bepalen | AN19: Nader te bepalen | AO19: Doorvalbeveiliging | AP19: Ja, vastgoedbeh. | AQ19: Nee
A20: 900134431 | B20: 36 | C20: Valbeveiliging | D20: 51B12 | E20: GENM DE R V S KAZERNE | F20: =VLOOKUP(D20,Blad4!A:E,5,FALSE) -> Oirschot | G20: =VLOOKUP(D20,Blad4!A:E,4,FALSE) -> 5688GN | H20: 121 | I20: Kantoorgebouw | J20: 3034 | M20: Commando Landstrijdkrachten | N20: CLAS | O20: RVB-Z | P20: 1 | Q20: 1 | R20: Marq Fence | S20: Neerklapbaar | U20: 2019 | X20: Hekwerk los opgelegd | Y20: 210 | Z20: Deur | AA20: 1 | AB20: Nader te bepalen | AC20: Nader te bepalen | AF20: Nader te bepalen | AH20: Kooiladder los opgelegd | AJ20: 1 | AN20: Nader te bepalen | AO20: Nader te bepalen | AP20: Ja, vastgoedbeh. | AQ20: Nee
A21: 900134432 | B21: 36 | C21: Valbeveiliging | D21: 51B12 | E21: GENM DE R V S KAZERNE | F21: =VLOOKUP(D21,Blad4!A:E,5,FALSE) -> Oirschot | G21: =VLOOKUP(D21,Blad4!A:E,4,FALSE) -> 5688GN | H21: 122 | I21: Kantoorgebouw | J21: 2873 | M21: Commando Landstrijdkrachten | N21: CLAS | O21: RVB-Z | P21: 1 | Q21: 1 | R21: Marq Fence | S21: Neerklapbaar hekwerk | U21: 2019 | V21: 86 staanders | X21: Hekwerk los opgelegd | Y21: 210 | Z21: Luik | AA21: 1 | AB21: Nader te bepalen | AC21: Nader te bepalen | AF21: Nader te bepalen | AH21: Nader te bepalen | AJ21: 1 | AM21: 1 | AN21: Nader te bepalen | AO21: Nader te bepalen | AP21: Ja, vastgoedbeh. | AQ21: Nee
A22: 900134433 | B22: 36 | C22: Valbeveiliging | D22: 51B12 | E22: GENM DE R V S KAZERNE | F22: =VLOOKUP(D22,Blad4!A:E,5,FALSE) -> Oirschot | G22: =VLOOKUP(D22,Blad4!A:E,4,FALSE) -> 5688GN | H22: 123 | I22: Kantoorgebouw | J22: 2873 | M22: Commando Landstrijdkrachten | N22: CLAS | O22: RVB-Z | P22: 1 | Q22: 1 | R22: Marq Fence | S22: Neerklapbaar hekwerk | U22: 2019 | V22: 86 staanders | X22: Nader te bepalen | Y22: 210 | Z22: Luik | AA22: 1 | AB22: Nader te bepalen | AC22: Nader te bepalen | AF22: Nader te bepalen | AH22: Nader te bepalen | AJ22: 1 | AN22: Nader te bepalen | AO22: Nader te bepalen | AP22: Ja, vastgoedbeh. | AQ22: Nee
A23: 900134440 | B23: 36 | C23: Valbeveiliging | D23: 51B12 | E23: GENM DE R V S KAZERNE | F23: =VLOOKUP(D23,Blad4!A:E,5,FALSE) -> Oirschot | G23: =VLOOKUP(D23,Blad4!A:E,4,FALSE) -> 5688GN | H23: 150 | I23: KEK-gebouw | J23: 5371 | M23: Commando Landstrijdkrachten | N23: CLAS | O23: RVB-Z | P23: 1 | Q23: 1 | R23: Marq Fence | S23: Neerklapbaar hekwerk | U23: 2019 | V23: 134 staanders | X23: Hekwerk los opgelegd | Y23: 320 | Z23: Deur | AB23: Nader te bepalen | AC23: Nader te bepalen | AF23: Nader te bepalen | AH23: Nader te bepalen | AJ23: 1 | AN23: Nader te bepalen | AO23: Nader te bepalen | AP23: Ja, vastgoedbeh. | AQ23: Nee
A24: 900134446 | B24: 36 | C24: Valbeveiliging | D24: 51B12 | E24: GENM DE R V S KAZERNE | F24: =VLOOKUP(D24,Blad4!A:E,5,FALSE) -> Oirschot | G24: =VLOOKUP(D24,Blad4!A:E,4,FALSE) -> 5688GN | H24: 197 | I24: Legeringsgebouw | J24: 2156 | M24: Commando Landstrijdkrachten | N24: CLAS | O24: RVB-Z | P24: 1 | Q24: 1 | R24: Marq Fence | S24: Neerklapbaar hekwerk | U24: 2020 | V24: 78 staanders | X24: Hekwerk los opgelegd | Y24: 170 | Z24: Luik | AA24: 1 | AB24: Nader te bepalen | AC24: Nader te bepalen | AF24: Nader te bepalen | AH24: Kooiladder los opgelegd | AJ24: 1 | AN24: Nader te bepalen | AO24: Nader te bepalen | AP24: Ja, vastgoedbeh. | AQ24: Nee
A25: 900134447 | B25: 36 | C25: Valbeveiliging | D25: 51B12 | E25: GENM DE R V S KAZERNE | F25: =VLOOKUP(D25,Blad4!A:E,5,FALSE) -> Oirschot | G25: =VLOOKUP(D25,Blad4!A:E,4,FALSE) -> 5688GN | H25: 195 | I25: Legeringsgebouw | J25: 2154 | M25: Commando Landstrijdkrachten | N25: CLAS | O25: RVB-Z | P25: 1 | Q25: 1 | R25: Marq Fence | S25: Neerklapbaar hekwerk | T25: Dak | U25: 2020 | V25: 78 staanders | X25: Nader te bepalen | Y25: 170 | Z25: Luik | AA25: 1 | AB25: Nader te bepalen | AC25: Nader te bepalen | AF25: Nader te bepalen | AH25: Kooiladder los opgelegd | AJ25: 1 | AN25: Nader te bepalen | AO25: Nader te bepalen | AP25: Ja, vastgoedbeh. | AQ25: Nee
A26: 900134469 | B26: 36 | C26: Valbeveiliging | D26: 45H03 | E26: VLIEGBASIS VOLKEL | F26: =VLOOKUP(D26,Blad4!A:E,5,FALSE) -> Volkel | G26: =VLOOKUP(D26,Blad4!A:E,4,FALSE) -> 5408SM | H26: 1000 | I26: Stafgebouw 640 Sqn | J26: 6840 | M26: Commando Luchtstrijdkrachten | N26: CLSK | O26: RVB-Z | P26: 1 | Q26: 1 | R26: Marq Fence | S26: Neerklapbaar hekwerk | U26: 2019 | V26: 115 staanders | W26: 7 | X26: Hekwerk los opgelegd | Y26: 329 | Z26: Nader te bepalen | AB26: Nader te bepalen | AC26: Nader te bepalen | AF26: Nader te bepalen | AH26: Vaste trap vast verankerd | AL26: 1 | AN26: Nader te bepalen | AO26: Doorvalbeveiliging | AP26: Ja, vastgoedbeh. | AQ26: Nee
A27: 900134470 | B27: 36 | C27: Valbeveiliging | D27: 45H03 | E27: VLIEGBASIS VOLKEL | F27: =VLOOKUP(D27,Blad4!A:E,5,FALSE) -> Volkel | G27: =VLOOKUP(D27,Blad4!A:E,4,FALSE) -> 5408SM | H27: 1050 | I27: Stafgebouw 312 Sqn | J27: 6815 | M27: Commando Luchtstrijdkrachten | N27: CLSK | O27: RVB-Z | P27: 1 | Q27: 1 | R27: Marq Fence | S27: Neerklapbaar | U27: 2019 | V27: 115 staanders | W27: 7 | X27: Hekwerk los opgelegd | Y27: 329 | Z27: Nader te bepalen | AA27: 1 | AB27: Nader te bepalen | AC27: Nader te bepalen | AF27: Nader te bepalen | AH27: Vaste trap vast verankerd | AL27: 1 | AN27: Nader te bepalen | AO27: Doorvalbeveiliging | AP27: Ja, vastgoedbeh. | AQ27: Nee
A28: 900134471 | B28: 36 | C28: Valbeveiliging | D28: 45H03 | E28: VLIEGBASIS VOLKEL | F28: =VLOOKUP(D28,Blad4!A:E,5,FALSE) -> Volkel | G28: =VLOOKUP(D28,Blad4!A:E,4,FALSE) -> 5408SM | H28: 1060 | I28: Stafgebouw 313 | J28: 6810 | M28: Commando Luchtstrijdkrachten | N28: CLSK | O28: RVB-Z | P28: 1 | Q28: 1 | R28: Marq Fence | S28: Neerklapbaar | U28: 2019 | V28: 115 staanders | W28: 7 | X28: Hekwerk los opgelegd | Y28: 329 | Z28: Nader te bepalen | AB28: Nader te bepalen | AC28: Nader te bepalen | AF28: Nader te bepalen | AH28: Vaste trap vast verankerd | AL28: 1 | AN28: Nader te bepalen | AO28: Doorvalbeveiliging | AP28: Ja, vastgoedbeh. | AQ28: Nee
A29: 900134503 | B29: 36 | C29: Valbeveiliging | D29: 32C05 | E29: LC KAMP SOESTERBERG | F29: =VLOOKUP(D29,Blad4!A:E,5,FALSE) -> Soesterberg | G29: =VLOOKUP(D29,Blad4!A:E,4,FALSE) -> 3769AP | H29: V37 | I29: Lesgebouw | J29: 1262 | M29: Commando Landstrijdkrachten | N29: CLAS | O29: RVB-NW | P29: 1 | Q29: 1 | U29: 1900 | X29: Nader te bepalen | Z29: Nader te bepalen | AB29: Nader te bepalen | AC29: Nader te bepalen | AF29: Nader te bepalen | AH29: Nader te bepalen | AJ29: 1 | AN29: Nader te bepalen | AO29: Nader te bepalen | AP29: Ja, vastgoedbeh. | AQ29: Nee
A30: 900134504 | B30: 36 | C30: Valbeveiliging | D30: 32C05 | E30: LC KAMP SOESTERBERG | F30: =VLOOKUP(D30,Blad4!A:E,5,FALSE) -> Soesterberg | G30: =VLOOKUP(D30,Blad4!A:E,4,FALSE) -> 3769AP | H30: V40 | I30: 3e Echelonswerkplaats | J30: 3628 | M30: Commando Landstrijdkrachten | N30: CLAS | O30: RVB-NW | P30: 1 | Q30: 1 | X30: Nader te bepalen | Z30: Nader te bepalen | AB30: Nader te bepalen | AC30: Nader te bepalen | AF30: Nader te bepalen | AH30: Nader te bepalen | AJ30: 3 | AN30: Nader te bepalen | AO30: Nader te bepalen | AP30: Ja, vastgoedbeh. | AQ30: Nee
A31: 900134505 | B31: 36 | C31: Valbeveiliging | D31: 32C05 | E31: LC KAMP SOESTERBERG | F31: =VLOOKUP(D31,Blad4!A:E,5,FALSE) -> Soesterberg | G31: =VLOOKUP(D31,Blad4!A:E,4,FALSE) -> 3769AP | H31: V31 | I31: Basisdepot Intendance | J31: 30487 | M31: Commando Landstrijdkrachten | N31: CLAS | O31: RVB-NW | P31: 1 | Q31: 1 | X31: Nader te bepalen | Z31: Nader te bepalen | AB31: Nader te bepalen | AC31: Nader te bepalen | AF31: Nader te bepalen | AH31: Kooiladder los opgelegd | AJ31: 1 | AN31: Nader te bepalen | AO31: Nader te bepalen | AP31: Ja, vastgoedbeh. | AQ31: Nee
A32: 900134506 | B32: 36 | C32: Valbeveiliging | D32: 32C05 | E32: LC KAMP SOESTERBERG | F32: =VLOOKUP(D32,Blad4!A:E,5,FALSE) -> Soesterberg | G32: =VLOOKUP(D32,Blad4!A:E,4,FALSE) -> 3769AP | H32: V10 | I32: Ontvangsthal | J32: 8612 | M32: Commando Landstrijdkrachten | N32: CLAS | O32: RVB-NW | P32: 1 | Q32: 1 | U32: 1900 | V32: 1 stuks 3650cm / 1 stuks 5130cm | X32: Nader te bepalen | Z32: Nader te bepalen | AB32: Nader te bepalen | AC32: Nader te bepalen | AF32: Nader te bepalen | AH32: Kooiladder vast verankerd | AJ32: 3 | AK32: 1 | AN32: Nader te bepalen | AO32: Nader te bepalen | AP32: Ja, vastgoedbeh. | AQ32: Nee
A33: 900134508 | B33: 36 | C33: Valbeveiliging | D33: 32D09 | E33: SERGEANT-MAJOOR SCHEICKKAZERNE | F33: =VLOOKUP(D33,Blad4!A:E,5,FALSE) -> Soesterberg | G33: =VLOOKUP(D33,Blad4!A:E,4,FALSE) -> 3769AP | H33: W1 | I33: Staf- , Lesgebouw | J33: 8556 | M33: Commando Landstrijdkrachten | N33: CLAS | O33: RVB-NW | P33: 1 | Q33: 1 | U33: 1900 | X33: Nader te bepalen | Z33: Nader te bepalen | AB33: Nader te bepalen | AC33: Nader te bepalen | AF33: Nader te bepalen | AH33: Gevelladder vast verankerd | AJ33: 3 | AN33: Nader te bepalen | AO33: Nader te bepalen | AP33: Ja, vastgoedbeh. | AQ33: Nee
A34: 900134509 | B34: 36 | C34: Valbeveiliging | D34: 32C13 | E34: SOLDAAT KETTING OLIVIERKAZERNE | F34: =VLOOKUP(D34,Blad4!A:E,5,FALSE) -> Soesterberg | G34: =VLOOKUP(D34,Blad4!A:E,4,FALSE) -> 3769AP | H34: O17 | I34: Lunchaccommodatie | J34: 1366 | M34: Commando Landstrijdkrachten | N34: CLAS | O34: RVB-NW | P34: 1 | Q34: 1 | X34: Nader te bepalen | Z34: Nader te bepalen | AB34: Nader te bepalen | AC34: Nader te bepalen | AF34: Nader te bepalen | AH34: Nader te bepalen | AL34: 1 | AN34: Nader te bepalen | AO34: Nader te bepalen | AP34: Ja, vastgoedbeh. | AQ34: Nee
A35: 900134510 | B35: 36 | C35: Valbeveiliging | D35: 32C13 | E35: SOLDAAT KETTING OLIVIERKAZERNE | F35: =VLOOKUP(D35,Blad4!A:E,5,FALSE) -> Soesterberg | G35: =VLOOKUP(D35,Blad4!A:E,4,FALSE) -> 3769AP | H35: O4 | I35: AOO Nouwenshal | J35: 2999 | M35: Commando Landstrijdkrachten | N35: CLAS | O35: RVB-NW | P35: 1 | Q35: 1 | X35: Nader te bepalen | Z35: Nader te bepalen | AB35: Nader te bepalen | AC35: Nader te bepalen | AF35: Nader te bepalen | AH35: Nader te bepalen | AJ35: 1 | AN35: Nader te bepalen | AO35: Nader te bepalen | AP35: Ja, vastgoedbeh. | AQ35: Nee
A36: 900134511 | B36: 36 | C36: Valbeveiliging | D36: 32C13 | E36: SOLDAAT KETTING OLIVIERKAZERNE | F36: =VLOOKUP(D36,Blad4!A:E,5,FALSE) -> Soesterberg | G36: =VLOOKUP(D36,Blad4!A:E,4,FALSE) -> 3769AP | H36: O5 | I36: Instructiehal Rupsvoertuigen | J36: 3883 | M36: Commando Landstrijdkrachten | N36: CLAS | O36: RVB-NW | P36: 1 | Q36: 1 | X36: Nader te bepalen | Z36: Nader te bepalen | AB36: Nader te bepalen | AC36: Nader te bepalen | AF36: Nader te bepalen | AH36: Kooiladder los opgelegd | AJ36: 1 | AN36: Nader te bepalen | AO36: Nader te bepalen | AP36: Ja, vastgoedbeh. | AQ36: Nee
A37: 900134514 | B37: 36 | C37: Valbeveiliging | D37: 32C05 | E37: LC KAMP SOESTERBERG | F37: =VLOOKUP(D37,Blad4!A:E,5,FALSE) -> Soesterberg | G37: =VLOOKUP(D37,Blad4!A:E,4,FALSE) -> 3769AP | H37: V40 | I37: 3e Echelonswerkplaats | J37: 3628 | M37: Commando Landstrijdkrachten | N37: CLAS | O37: RVB-NW | P37: 2 | Q37: 1 | U37: 1900 | V37: 1 stuks 6070cm | X37: Nader te bepalen | Z37: Nader te bepalen | AB37: Nader te bepalen | AC37: Nader te bepalen | AF37: Nader te bepalen | AH37: Nader te bepalen | AI37: 2 | AJ37: 1 | AN37: Nader te bepalen | AO37: Nader te bepalen | AP37: Ja, vastgoedbeh. | AQ37: Nee
A38: 900134516 | B38: 36 | C38: Valbeveiliging | D38: 32D09 | E38: SERGEANT-MAJOOR SCHEICKKAZERNE | F38: =VLOOKUP(D38,Blad4!A:E,5,FALSE) -> Soesterberg | G38: =VLOOKUP(D38,Blad4!A:E,4,FALSE) -> 3769AP | H38: W1 | I38: Staf- , Lesgebouw | J38: 8556 | M38: Commando Landstrijdkrachten | N38: CLAS | O38: RVB-NW | P38: 2 | Q38: 1 | U38: 1900 | X38: Nader te bepalen | Z38: Nader te bepalen | AB38: Nader te bepalen | AC38: Nader te bepalen | AF38: Nader te bepalen | AH38: Nader te bepalen | AI38: 1 | AJ38: 3 | AN38: Nader te bepalen | AO38: Nader te bepalen | AP38: Ja, vastgoedbeh. | AQ38: Nee
A39: 900134517 | B39: 36 | C39: Valbeveiliging | D39: 32C13 | E39: SOLDAAT KETTING OLIVIERKAZERNE | F39: =VLOOKUP(D39,Blad4!A:E,5,FALSE) -> Soesterberg | G39: =VLOOKUP(D39,Blad4!A:E,4,FALSE) -> 3769AP | H39: O4 | I39: AOO Nouwenshal | J39: 2999 | M39: Commando Landstrijdkrachten | N39: CLAS | O39: RVB-NW | P39: 2 | Q39: 1 | X39: Nader te bepalen | Z39: Nader te bepalen | AB39: Nader te bepalen | AC39: Nader te bepalen | AF39: Nader te bepalen | AH39: Nader te bepalen | AK39: 1 | AN39: Nader te bepalen | AO39: Nader te bepalen | AP39: Ja, vastgoedbeh. | AQ39: Nee
A40: 900134518 | B40: 36 | C40: Valbeveiliging | D40: 32C13 | E40: SOLDAAT KETTING OLIVIERKAZERNE | F40: =VLOOKUP(D40,Blad4!A:E,5,FALSE) -> Soesterberg | G40: =VLOOKUP(D40,Blad4!A:E,4,FALSE) -> 3769AP | H40: O5 | I40: Instructiehal Rupsvoertuigen | J40: 3883 | M40: Commando Landstrijdkrachten | N40: CLAS | O40: RVB-NW | P40: 2 | Q40: 1 | X40: Nader te bepalen | Z40: Nader te bepalen | AB40: Nader te bepalen | AC40: Nader te bepalen | AF40: Nader te bepalen | AH40: Gevelladder vast verankerd | AK40: 1 | AN40: Nader te bepalen | AO40: Nader te bepalen | AP40: Ja, vastgoedbeh. | AQ40: Nee
...

Sheet Nog niet geregistreerd
A1: ComponentID | B1: ComponentSoortID | C1: Object | D1: Objectnaam | E1: Plaats | F1: Postcode | G1: Gebouw | H1: Gebouwnaam | I1: BVO | J1: Aantal
D3: Regio Midden
A5: 900094354 | B5: 36 | C5: 09B50 | D5: JOOST DOURLEINKAZERNE | E5: =VLOOKUP(C5,Blad4!A:E,5,FALSE) -> Den Hoorn | F5: =VLOOKUP(C5,Blad4!A:E,4,FALSE) -> 1797SB | G5: 022 | H5: EMV MKERF | I5: 306 | J5: 1
A6: 900094353 | B6: 36 | C6: 09B50 | D6: JOOST DOURLEINKAZERNE | E6: =VLOOKUP(C6,Blad4!A:E,5,FALSE) -> Den Hoorn | F6: =VLOOKUP(C6,Blad4!A:E,4,FALSE) -> 1797SB | G6: 036 | H6: Amphitrite | I6: 3683 | J6: 1
A7: 900097486 | B7: 36 | C7: 09D04 | D7: FORT HARSSENS | E7: =VLOOKUP(C7,Blad4!A:E,5,FALSE) -> Den Helder | F7: =VLOOKUP(C7,Blad4!A:E,4,FALSE) -> 1781AT | G7: A001 | H7: Marineclub | I7: 1699 | J7: 1
A8: 900104891 | B8: 36 | C8: 09D04 | D8: FORT HARSSENS | E8: =VLOOKUP(C8,Blad4!A:E,5,FALSE) -> Den Helder | F8: =VLOOKUP(C8,Blad4!A:E,4,FALSE) -> 1781AT | G8: D002 | H8: Havendienst | I8: 996 | J8: 1
A9: 900103984 | B9: 36 | C9: 09D24 | D9: DVD DIENSTKRING DEN HELDER | E9: =VLOOKUP(C9,Blad4!A:E,5,FALSE) -> Den Helder | F9: =VLOOKUP(C9,Blad4!A:E,4,FALSE) -> 1782AZ | G9: 1 | H9: Dienstkringgebouw | I9: 1202 | J9: 1
A10: 900094360 | B10: 36 | C10: 14B03 | D10: COMPLEX NIEUWE HAVEN | E10: =VLOOKUP(C10,Blad4!A:E,5,FALSE) -> Den Helder | F10: =VLOOKUP(C10,Blad4!A:E,4,FALSE) -> 1781AD | G10: D470 | H10: Materieelsgroep Casco 2 | I10: 10334 | J10: 1
A11: 900113788 | B11: 36 | C11: 14B03 | D11: COMPLEX NIEUWE HAVEN | E11: =VLOOKUP(C11,Blad4!A:E,5,FALSE) -> Den Helder | F11: =VLOOKUP(C11,Blad4!A:E,4,FALSE) -> 1781AD | G11: E015 | H11: Zeearend (NLBEOPS) | I11: 13228 | J11: 1
A12: 900105142 | B12: 36 | C12: 14B03 | D12: COMPLEX NIEUWE HAVEN | E12: =VLOOKUP(C12,Blad4!A:E,5,FALSE) -> Den Helder | F12: =VLOOKUP(C12,Blad4!A:E,4,FALSE) -> 1781AD | G12: N002 | H12: Werkplaatsen B en O | I12: 16396 | J12: 1
A13: 900104039 | B13: 36 | C13: 14B03 | D13: COMPLEX NIEUWE HAVEN | E13: =VLOOKUP(C13,Blad4!A:E,5,FALSE) -> Den Helder | F13: =VLOOKUP(C13,Blad4!A:E,4,FALSE) -> 1781AD | G13: N003 | H13: Noorderkroon | I13: 19578 | J13: 1
A14: 900091809 | B14: 36 | C14: 14B03 | D14: COMPLEX NIEUWE HAVEN | E14: =VLOOKUP(C14,Blad4!A:E,5,FALSE) -> Den Helder | F14: =VLOOKUP(C14,Blad4!A:E,4,FALSE) -> 1781AD | G14: R009 | H14: Spotmeeuw | I14: 1929 | J14: 1
A15: 900091810 | B15: 36 | C15: 14B03 | D15: COMPLEX NIEUWE HAVEN | E15: =VLOOKUP(C15,Blad4!A:E,5,FALSE) -> Den Helder | F15: =VLOOKUP(C15,Blad4!A:E,4,FALSE) -> 1781AD | G15: R010 | H15: Spotmeeuw | I15: 1264 | J15: 1
A16: 900097487 | B16: 36 | C16: 14B03 | D16: COMPLEX NIEUWE HAVEN | E16: =VLOOKUP(C16,Blad4!A:E,5,FALSE) -> Den Helder | F16: =VLOOKUP(C16,Blad4!A:E,4,FALSE) -> 1781AD | G16: R015 | H16: Mantelmeeuw | I16: 4217 | J16: 1
... A20: 900091625 | B20: 36 | C20: 14B03 | D20: COMPLEX NIEUWE HAVEN | E20: =VLOOKUP(C20,Blad4!A:E,5,FALSE) -> Den Helder | F20: =VLOOKUP(C20,Blad4!A:E,4,FALSE) -> 1781AD | G20: W001A | H20: Energiegebouw | I20: 238 | J20: 1
B21: 36 | C21: 14B33 | D21: MARINE KAZERNE ERFPRINS | E21: =VLOOKUP(C21,Blad4!A:E,5,FALSE) -> Den Helder | F21: =VLOOKUP(C21,Blad4!A:E,4,FALSE) -> 1782TG | G21: 14
B22: 36 | C22: 14B33 | D22: MARINE KAZERNE ERFPRINS | E22: =VLOOKUP(C22,Blad4!A:E,5,FALSE) -> Den Helder | F22: =VLOOKUP(C22,Blad4!A:E,4,FALSE) -> 1782TG | G22: 37
B23: 36 | C23: 14B33 | D23: MARINE KAZERNE ERFPRINS | E23: =VLOOKUP(C23,Blad4!A:E,5,FALSE) -> Den Helder | F23: =VLOOKUP(C23,Blad4!A:E,4,FALSE) -> 1782TG | G23: 81
B24: 36 | C24: 14B33 | D24: MARINE KAZERNE ERFPRINS | E24: =VLOOKUP(C24,Blad4!A:E,5,FALSE) -> Den Helder | F24: =VLOOKUP(C24,Blad4!A:E,4,FALSE) -> 1782TG | G24: 82
A25: 900091633 | B25: 36 | C25: 14B37 | D25: KIM | E25: =VLOOKUP(C25,Blad4!A:E,5,FALSE) -> Den Helder | F25: =VLOOKUP(C25,Blad4!A:E,4,FALSE) -> 1781AC | G25: 002 | H25: Klooster | I25: 6364 | J25: 1
A26: 900118827 | B26: 36 | C26: 14B37 | D26: KIM | E26: =VLOOKUP(C26,Blad4!A:E,5,FALSE) -> Den Helder | F26: =VLOOKUP(C26,Blad4!A:E,4,FALSE) -> 1781AC | G26: 037 | H26: SHS-trainer | I26: 1405 | J26: 1
A27: 900102027 | B27: 36 | C27: 14B46 | D27: MVK DE KOOY | E27: =VLOOKUP(C27,Blad4!A:E,5,FALSE) -> Den Helder | F27: =VLOOKUP(C27,Blad4!A:E,4,FALSE) -> 1786PT | G27: 039 | H27: Aeolus | I27: 233 | J27: 1
A28: 900103891 | B28: 36 | C28: 14B46 | D28: MVK DE KOOY | E28: =VLOOKUP(C28,Blad4!A:E,5,FALSE) -> Den Helder | F28: =VLOOKUP(C28,Blad4!A:E,4,FALSE) -> 1786PT | G28: 048 | H28: Gemini | I28: 432 | J28: 1
A29: 900094392 | B29: 36 | C29: 14B46 | D29: MVK DE KOOY | E29: =VLOOKUP(C29,Blad4!A:E,5,FALSE) -> Den Helder | F29: =VLOOKUP(C29,Blad4!A:E,4,FALSE) -> 1786PT | G29: 138 | H29: Hangar NH90 | I29: 2510 | J29: 1
A30: 900114639 | B30: 36 | C30: 25D18 | D30: KONINGIN MÁXIMAKAZERNE | E30: =VLOOKUP(C30,Blad4!A:E,5,FALSE) -> Badhoevedorp | F30: =VLOOKUP(C30,Blad4!A:E,4,FALSE) -> 1171VK | G30: 001 | H30: Kantoor | I30: 14621 | J30: 1
A31: 900114615 | B31: 36 | C31: 25D18 | D31: KONINGIN MÁXIMAKAZERNE | E31: =VLOOKUP(C31,Blad4!A:E,5,FALSE) -> Badhoevedorp | F31: =VLOOKUP(C31,Blad4!A:E,4,FALSE) -> 1171VK | G31: 002 | H31: Legering | I31: 12751 | J31: 1
A32: 900115444 | B32: 36 | C32: 25D18 | D32: KONINGIN MÁXIMAKAZERNE | E32: =VLOOKUP(C32,Blad4!A:E,5,FALSE) -> Badhoevedorp | F32: =VLOOKUP(C32,Blad4!A:E,4,FALSE) -> 1171VK | G32: 003 | H32: Opleidingen | I32: 7742 | J32: 1
A33: 900115489 | B33: 36 | C33: 25D18 | D33: KONINGIN MÁXIMAKAZERNE | E33: =VLOOKUP(C33,Blad4!A:E,5,FALSE) -> Badhoevedorp | F33: =VLOOKUP(C33,Blad4!A:E,4,FALSE) -> 1171VK | G33: 004 | H33: Restaurant | I33: 1827 | J33: 1
A34: 900115525 | B34: 36 | C34: 25D18 | D34: KONINGIN MÁXIMAKAZERNE | E34: =VLOOKUP(C34,Blad4!A:E,5,FALSE) -> Badhoevedorp | F34: =VLOOKUP(C34,Blad4!A:E,4,FALSE) -> 1171VK | G34: 005 | H34: Logistiek Gezondheidscentrum | I34: 2553 | J34: 1
A35: 900109166 | B35: 36 | C35: 25G30 | D35: MARINE ETABLISSEMENT AMSTERDAM | E35: =VLOOKUP(C35,Blad4!A:E,5,FALSE) -> Amsterdam | F35: =VLOOKUP(C35,Blad4!A:E,4,FALSE) -> 1018JA | G35: 012 | H35: Kantoor TIVC | I35: 1455 | J35: 1
A36: 900096504 | B36: 36 | C36: 25G30 | D36: MARINE ETABLISSEMENT AMSTERDAM | E36: =VLOOKUP(C36,Blad4!A:E,5,FALSE) -> Amsterdam | F36: =VLOOKUP(C36,Blad4!A:E,4,FALSE) -> 1018JA | G36: 014 | H36: Kantoor Koninklijke Marechaussee | I36: 6987 | J36: 1
A37: 900109169 | B37: 36 | C37: 25G30 | D37: MARINE ETABLISSEMENT AMSTERDAM | E37: =VLOOKUP(C37,Blad4!A:E,5,FALSE) -> Amsterdam | F37: =VLOOKUP(C37,Blad4!A:E,4,FALSE) -> 1018JA | G37: 025 | H37: Legering Onderofficieren | I37: 2427 | J37: 1
A38: 900109187 | B38: 36 | C38: 25G30 | D38: MARINE ETABLISSEMENT AMSTERDAM | E38: =VLOOKUP(C38,Blad4!A:E,5,FALSE) -> Amsterdam | F38: =VLOOKUP(C38,Blad4!A:E,4,FALSE) -> 1018JA | G38: 28 | H38: Sociaal Medische Dienst | I38: 8620 | J38: 1
A39: 900109175 | B39: 36 | C39: 30G03 | D39: FREDERIKKAZERNE | E39: =VLOOKUP(C39,Blad4!A:E,5,FALSE) -> 's-Gravenhage | F39: =VLOOKUP(C39,Blad4!A:E,4,FALSE) -> 2597BC | G39: 32 | H39: Kantoorgebouw | I39: 20127 | J39: 1
A40: 900109176 | B40: 36 | C40: 30G03 | D40: FREDERIKKAZERNE | E40: =VLOOKUP(C40,Blad4!A:E,5,FALSE) -> 's-Gravenhage | F40: =VLOOKUP(C40,Blad4!A:E,4,FALSE) -> 2597BC | G40: 35D | H40: Kantoor | I40: 6232 | J40: 1
A41: 900083980 | B41: 36 | C41: 31F11 | D41: KORPORAAL V OUDHEUSDENKAZERNE | E41: =VLOOKUP(C41,Blad4!A:E,5,FALSE) -> Hilversum | F41: =VLOOKUP(C41,Blad4!A:E,4,FALSE) -> 1213PW | G41: 4 | H41: Bureelgebouw | I41: 1309 | J41: 1
A42: 900115897 | B42: 36 | C42: 32C02 | D42: OT DE VLASAKKERS | E42: =VLOOKUP(C42,Blad4!A:E,5,FALSE) -> Amersfoort | F42: =VLOOKUP(C42,Blad4!A:E,4,FALSE) -> 3818LN | G42: 001 | H42: Oefenwoning | I42: 476 | J42: 1
A43: 900111483 | B43: 36 | C43: 32C04 | D43: DU MOULINKAZERNE | E43: =VLOOKUP(C43,Blad4!A:E,5,FALSE) -> Soesterberg | F43: =VLOOKUP(C43,Blad4!A:E,4,FALSE) -> 3769AP | G43: D40 | H43: Sportgebouw | I43: 2765 | J43: 1
A44: 900095618 | B44: 36 | C44: 32C04 | D44: DU MOULINKAZERNE | E44: =VLOOKUP(C44,Blad4!A:E,5,FALSE) -> Soesterberg | F44: =VLOOKUP(C44,Blad4!A:E,4,FALSE) -> 3769AP | G44: D7 | H44: Legeringsgebouw | I44: 3007 | J44: 1
A45: 900096880 | B45: 36 | C45: 32C05 | D45: LC KAMP SOESTERBERG | E45: =VLOOKUP(C45,Blad4!A:E,5,FALSE) -> Soesterberg | F45: =VLOOKUP(C45,Blad4!A:E,4,FALSE) -> 3769AP | G45: V10 | H45: Ontvangsthal | I45: 8675 | J45: 1
...

Sheet Blad4
A1: ObjectCode | B1: ObjectNaam | C1: Adres | D1: Postcode | E1: Plaats
A2: 02G01 | B2: OT MARNEWAARD | C2: Strandweg 21 | D2: 9974SM | E2: Zoutkamp
A3: 02G02 | B3: SB MARNEWAARD | C3: Kustweg 1 | D3: 9976VP | E3: Lauwersoog
A4: 02G03 | B4: ANTENNEPARK SCHIERMONNIKOOG | C4: Melle Grietjespad 7 | D4: 9166LT | E4: Schiermonnikoog
A5: 02G04 | B5: UTC MARNEHUIZEN | C5: Marneweg | D5: 9975WJ | E5: Lauwersoog
A6: 02G05 | B6: DLP LAUWERSOOG | C6: Haven 6 | D6: 9976VN | E6: Lauwersoog
A7: 02G06 | B7: LIGPLAATS LAUWERSOOG | C7: Kustweg 10 | D7: 9976VP | E7: Lauwersoog
A8: 03G01 | B8: DLP EEMSHAVEN | C8: Borkumweg 3 | D8: 9979XJ | E8: Eemshaven
A9: 03G02 | B9: BOUWTERREIN POMS | C9: Eemshaven | E9: Eemsmond
A10: 03G03 | B10: DLP EN LIGPLAATS EEMSHAVEN | C10: Borkumweg 6 | D10: 9979XH | E10: Eemshaven
A11: 03G04 | B11: LC EEMSHAVEN | C11: Westlob 14 | D11: 9979XJ | E11: Eemshaven
A12: 04F01 | B12: CAVALERIE SCHIETKAMP | C12: Postweg 9 | D12: 8899BZ | E12: Vlieland
A13: 04F02 | B13: WATERMETERPUT | C13: Vuurboetsduin 4 | D13: 8889AT | E13: Vlieland
A14: 04F03 | B14: WONINGEN VLIELAND | E14: Vlieland
A15: 04F06 | B15: SCHIETRANGE VLIEHORS | C15: Postweg 9 | D15: 8899BZ | E15: Vlieland
A16: 04F07 | B16: SAR VLIELAND | C16: Havenweg 18A | D16: 8899BC | E16: Vlieland
A17: 04F08 | B17: KAMPEMENT VLIEHORS | C17: Postweg 9 | D17: 8899BZ | E17: Vlieland
A18: 04G02 | B18: SEINMAST COCKSDORP | C18: Volharding 3 | D18: 1795LH | E18: De Cocksdorp
A19: 05A01 | B19: LEGERINGSGEBOUW | C19: Cornelis Douwesstraat 13 | D19: 8881CL | E19: West-Terschelling
A20: 05A02 | B20: HELIVELD TERSCHELLING | C20: Lutineweg 5 | D20: 8881CP | E20: West-Terschelling
A21: 05A03 | B21: OT DE NOORDSVAARDER | D21: 8881HG | E21: West-Terschelling
A22: 05A04 | B22: HULPWAARNEMINGSPOST | D22: 8881HG | E22: West-Terschelling
A23: 05A05 | B23: ANTENNEPARK TERSCHELLING | C23: Tigerpad 5 | D23: 8881GB | E23: West-Terschelling
A24: 05A07 | B24: PEILSTATION TERSCHELLING | C24: Longway 30 | D24: 8881CM | E24: West-Terschelling
A25: 05A08 | B25: HELIHAVEN MIDSLAND | C25: Kallanspad 28B | D25: 8891GS | E25: Midsland
A26: 05A09 | B26: GARAGEBOX TERSCHELLING | C26: Burg Reedekerstraat 11A | D26: 8881BZ | E26: West-Terschelling
A27: 05A10 | B27: MUNITIECONTAINER LONGWAY | C27: Longway 30 | D27: 8881CM | E27: West-Terschelling
A28: 05G01 | B28: MC RIED | C28: Hoofdstraat 7 | D28: 8811HD | E28: Ried
A29: 05G02 | B29: ZENDERCOMPLEX TE RIED | C29: Berlikumerweg 20 | D29: 8811HR | E29: Ried
A30: 05G03 | B30: POST HARLINGEN HAVEN | C30: Celciusstraat 10 | D30: 8861NE | E30: Harlingen
A31: 05G04 | B31: DLP HARLINGEN | C31: Waddenpromenade 7 1 | D31: 8861NT | E31: Harlingen
A32: 05G05 | B32: POST HARLINGEN | C32: Kimswerderweg 2 | D32: 8862TS | E32: Harlingen
A33: 05G06 | B33: AANLEGPLAATS HARLINGEN | C33: Nieuwe Vissershaven 25 | D33: 8861NX | E33: Harlingen
A34: 05H02 | B34: MMC BEETGUMERMOLEN | C34: Bitgumerlân 1 | D34: 8919AN | E34: Leeuwarden
... A65: 07F11 | B65: ANTENNEPARK APPINGEDAM | C65: Holwierderweg 9A | D65: 9901TM | E65: Appingedam
A66: 08C03 | B66: WL NIEUWESCHANS | C66: Schliekenweg 6 | D66: 26831 | E66: Bunde
A67: 08C04 | B67: GRENSSTROOK A7 WINSCHOTEN | C67: Rijksweg 44 | D67: 9693CK | E67: Bad Nieuweschans
A68: 08C05 | B68: WL WINSCHOTEN | C68: Oostereinde 16 | D68: 9672TC | E68: Winschoten
A69: 09B03 | B69: DLP OUDESCHILD | C69: Haven 20 | D69: 1792AE | E69: Oudeschild
A70: 09B50 | B70: JOOST DOURLEINKAZERNE | C70: Mokweg 18 | D70: 1797SB | E70: Den Hoorn
...
