Workbook
Name export_vips_2021_08_24_07.58.25: Blad4!$A$1:$E$1272

Sheet Voorblad
A1: Componentenlijst
A3: Selectiecriteria:
A4: Hoofdgebruiker
A5: ObjectHoofdgebruiker
A6: Object
A7: Component | B7: Valbeveiliging
A8: Regio
A9: Contract
A10: Cluster
A11: Onderhoudsplicht | B11: Ja, vastgoedbeh.
A12: Buiten gebruik gesteld | B12: Nee
A15: Deze export bevat de volgende componenten:
B16: Component | C16: Aantal
A17: 36 | B17: Valbeveiliging | C17: =COUNT(geregistreerd!A:A) -> 133
A19: Op tabblad "geregistreerd" staan alle 133 gereigstreerde componenten (per dakvlak)
A20: Op tabblad "nog niet geregistreerd" staan alle componenten die nog opgeleverd moeten worden en geregistreerd (per gebouw, totaal 364 gebouwen)

Sheet geregistreerd
A1: ComponentID | B1: ComponentSoortID | C1: ComponentSoort | D1: Object | E1: Objectnaam | F1: Plaats | G1: Postcode | H1: Gebouw | I1: Gebouwnaam | J1: BVO | K1: Bouwlaag | L1: Ruimte | M1: Hoofdgebruiker | N1: Objecthoofdgebruiker | O1: Regio | P1: BI code | Q1: Aantal | R1: Fabrikant | S1: Type | T1: Nadere locatiebepaling | U1: Bouwjaar | V1: Nadere specificatie bwd/instl | W1: Aantal dakvlakken | X1: Type hekwerk | Y1: Lengte hekwerk | Z1: Type daktoegang | AA1: Aantal daktoegangen | AB1: Type markering | AC1: Type lijnbeveiligingssysteem | AD1: Aantal lijnbeveiligingssyst. | AE1: Lengte kabelsysteem | AF1: Type ankerpunten | AG1: Aantal individuele ankerpunten | AH1: Type klimvoorziening | AI1: Aantal ladderopstelpunten | AJ1: Aantal kooiladders | AK1: Aantal gevelladders | AL1: Aantal vaste trappen | AM1: Aantal vlizotrappen | AN1: PBM | AO1: Overige voorzieningen | AP1: Onderhoudsplicht | AQ1: Buiten gebruik gesteld
A2: 900075517 | B2: 36 | C2: Valbeveiliging | D2: 51D05 | E2: VLIEGBASIS EINDHOVEN | F2: =VLOOKUP(D2,Blad4!A:E,5,FALSE) -> Eindhoven | G2: =VLOOKUP(D2,Blad4!A:E,4,FALSE) -> 5657EZ | H2: 405 | I2: Hangar 334 SQN | J2: 2942 | M2: Commando Luchtstrijdkrachten | N2: CLSK | O2: RVB-Z | P2: 1 | Q2: 1 | R2: Safe Site bv | S2: Soll horizontaal valbeveiliging | T2: ruimte 1 en 2 | V2: 6 railsysteem, 9 valblokken | X2: Nader te bepalen | Z2: Nader te bepalen | AB2: Nader te bepalen | AC2: Nader te bepalen | AF2: Nader te bepalen | AG2: 2 | AH2: Nader te bepalen | AN2: Nader te bepalen | AO2: Nader te bepalen | AP2: Ja, vastgoedbeh. | AQ2: Nee
A3: 900081779 | B3: 36 | C3: Valbeveiliging | D3: 50E03 | E3: VLIEGBASIS GILZE-RIJEN | F3: =VLOOKUP(D3,Blad4!A:E,5,FALSE) -> Rijen | G3: =VLOOKUP(D3,Blad4!A:E,4,FALSE) -> 5121RD | H3: 350 | I3: Washangar | J3: 3474 | M3: Commando Luchtstrijdkrachten | N3: CLSK | O3: RVB-Z | P3: 1 | Q3: 1 | R3: All risk b.v. | S3: Vertic safety-line | T3: ruimte 26c-26d | U3: 2008 | V3: in gebouw | X3: Nader te bepalen | Z3: Nader te bepalen | AB3: Nader te bepalen | AC3: Nader te bepalen | AE3: 30 | AF3: Nader te bepalen | AH3: Nader te bepalen | AN3: Nader te bepalen | AO3: Nader te bepalen | AP3: Ja, vastgoedbeh. | AQ3: Nee
A4: 900110923 | B4: 36 | C4: Valbeveiliging | D4: 50E03 | E4: VLIEGBASIS GILZE-RIJEN | F4: =VLOOKUP(D4,Blad4!A:E,5,FALSE) -> Rijen | G4: =VLOOKUP(D4,Blad4!A:E,4,FALSE) -> 5121RD | H4: 750 | I4: Squadrongebouw Complex 1 | J4: 16195 | M4: Commando Luchtstrijdkrachten | N4: CLSK | O4: RVB-Z | P4: 2 | Q4: 1 | R4: Uniline safety system | T4: Werkplaats vliegtuigen (binnen) incl. valstopapparaat | U4: 2008 | V4: 12 x in werkplaats ( 12 x 35,80 ) | X4: Nader te bepalen | Z4: Nader te bepalen | AB4: Nader te bepalen | AC4: Nader te bepalen | AE4: 429.6 | AF4: Nader te bepalen | AH4: Nader te bepalen | AN4: Nader te bepalen | AO4: Nader te bepalen | AP4: Ja, vastgoedbeh. | AQ4: Nee
A5: 900111524 | B5: 36 | C5: Valbeveiliging | D5: 25D18 | E5: KONINGIN M┴XIMAKAZERNE | F5: =VLOOKUP(D5,Blad4!A:E,5,FALSE) -> Badhoevedorp | G5: =VLOOKUP(D5,Blad4!A:E,4,FALSE) -> 1171VK | H5: 001 | I5: Kantoor en Legeringsgebouw | J5: 27390 | M5: Koninklijke Marechaussee | N5: KMAR | O5: RVB-NW | P5: 20 | Q5: 1 | R5: Eurosafe Solutions bv | S5: Latchways kabel-valbeveiligingssysteem | T5: 1e verdieping dakvlak 4a | U5: 2012 | V5: DV31 - eurosafe | X5: Nader te bepalen | Z5: Nader te bepalen | AB5: Nader te bepalen | AC5: Nader te bepalen | AE5: 10 | AF5: Nader te bepalen | AH5: Nader te bepalen | AN5: Nader te bepalen | AO5: Nader te bepalen | AP5: Ja, vastgoedbeh. | AQ5: Nee
A6: 900128216 | B6: 36 | C6: Valbeveiliging | D6: 24H01 | E6: ANTENNEPARK NOORDWIJK | F6: =VLOOKUP(D6,Blad4!A:E,5,FALSE) -> Noordwijk | G6: =VLOOKUP(D6,Blad4!A:E,4,FALSE) -> 2204AH | H6: 002 | I6: Zendmast | J6: 60 | M6: Defensie Materieel Organisatie | N6: DMO | O6: RVB-ZW | P6: 1 | Q6: 1 | R6: Soll | S6: Vi-Go | T6: In mast bij Antennepark Noordwijk | U6: 2018 | V6: Valbeveiliging t.b.v. zendmast | W6: 1 | X6: Nader te bepalen | Z6: Deur | AA6: 1 | AB6: Fysieke afscheiding | AC6: Lijnbeveiliging op stalen ondergrond | AD6: 7 | AE6: 67.7 | AF6: Ankerpunt op stalen ondergrond | AG6: 8 | AH6: Combinatie diverse klimvoorzieningen | AI6: 0 | AJ6: 0 | AK6: 0 | AL6: 1 | AM6: 0 | AN6: Harnas | AO6: Dakplan | AP6: Ja, vastgoedbeh. | AQ6: Nee
A7: 900128217 | B7: 36 | C7: Valbeveiliging | D7: 09F92 | E7: ANTENNEPARK HOORN | F7: =VLOOKUP(D7,Blad4!A:E,5,FALSE) -> Hoorn | G7: =VLOOKUP(D7,Blad4!A:E,4,FALSE) -> 1627LB | H7: 001 | I7: Verbindingsgebouw & Mast | J7: 35 | M7: Defensie Materieel Organisatie | N7: DMO | O7: RVB-NW | P7: 1 | Q7: 1 | R7: Soll | S7: Vi-Go | T7: In antennemast | U7: 2019 | V7: Integraal veiligheidssysteem | W7: 1 | X7: Nader te bepalen | Z7: Deur | AB7: Nader te bepalen | AC7: Lijnbeveiliging op stalen ondergrond | AD7: 13 | AE7: 86 | AF7: Ankerpunt op stalen ondergrond | AG7: 5 | AH7: Vaste trap vast verankerd | AL7: 13 | AN7: Harnas | AO7: Nader te bepalen | AP7: Ja, vastgoedbeh. | AQ7: Nee
A8: 900133664 | B8: 36 | C8: Valbeveiliging | D8: 45H03 | E8: VLIEGBASIS VOLKEL | F8: =VLOOKUP(D8,Blad4!A:E,5,FALSE) -> Volkel | G8: =VLOOKUP(D8,Blad4!A:E,4,FALSE) -> 5408SM | H8: 2003 | I8: Werkcentrum EGRESS | J8: 316 | M8: Commando Luchtstrijdkrachten | N8: CLSK | O8: RVB-Z | P8: 1 | Q8: 1 | S8: CFP | U8: 2019 | X8: Nader te bepalen | Z8: Nader te bepalen | AB8: Nader te bepalen | AC8: Nader te bepalen | AF8: Nader te bepalen | AG8: 15 | AH8: Ladderopstelplaats tbv losse ladder | AI8: 1 | AN8: Nader te bepalen | AO8: Nader te bepalen | AP8: Ja, vastgoedbeh. | AQ8: Nee
A9: 900133750 | B9: 36 | C9: Valbeveiliging | D9: 09D04 | E9: FORT HARSSENS | F9: =VLOOKUP(D9,Blad4!A:E,5,FALSE) -> Den Helder | G9: =VLOOKUP(D9,Blad4!A:E,4,FALSE) -> 1781AT | H9: D003 | I9: Radarstation WHH | J9: 31 | M9: Commando Zeestrijdkrachten | N9: CZSK | O9: RVB-NW | P9: 1 | Q9: 1 | R9: Soll | S9: glideloc Y boom | U9: 2018 | W9: 1 | X9: Nader te bepalen | Z9: Op- en afstapvoorziening | AB9: Pictogram | AC9: Nader te bepalen | AF9: Nader te bepalen | AH9: Gevelladder vast verankerd | AI9: 1 | AK9: 1 | AN9: Harnas | AO9: Nader te bepalen | AP9: Ja, vastgoedbeh. | AQ9: Nee
A10: 900133765 | B10: 36 | C10: Valbeveiliging | D10: 45H03 | E10: VLIEGBASIS VOLKEL | F10: =VLOOKUP(D10,Blad4!A:E,5,FALSE) -> Volkel | G10: =VLOOKUP(D10,Blad4!A:E,4,FALSE) -> 5408SM | H10: 1022 | I10: VVA , Open Skies | J10: 858 | M10: Commando Luchtstrijdkrachten | N10: CLSK | O10: RVB-Z | P10: 1 | Q10: 1 | T10: achterzijde via trap buiten | X10: Hekwerk vast verankerd | Z10: Loopbrug vast verankerd | AB10: Nader te bepalen | AC10: Nader te bepalen | AF10: Nader te bepalen | AH10: Nader te bepalen | AN10: Nader te bepalen | AO10: Nader te bepalen | AP10: Ja, vastgoedbeh. | AQ10: Nee
A11: 900133887 | B11: 36 | C11: Valbeveiliging | D11: 32F11 | E11: LEGERPLAATS STROE | F11: =VLOOKUP(D11,Blad4!A:E,5,FALSE) -> Stroe | G11: =VLOOKUP(D11,Blad4!A:E,4,FALSE) -> 3776LR | H11: 544 | I11: Gezondheidscentrum | J11: 2298 | M11: Commando Landstrijdkrachten | N11: CLAS | O11: RVB-O | P11: 1 | Q11: 1 | R11: Protect | S11: SECU Track | T11: Hoofddak | U11: 2019 | V11: Integraal veiligheidssysteem | X11: Hekwerk vast verankerd | Y11: 5 | Z11: Nader te bepalen | AB11: Nader te bepalen | AC11: Nader te bepalen | AE11: 122 | AF11: Nader te bepalen | AG11: 23 | AH11: Nader te bepalen | AN11: Nader te bepalen | AO11: Nader te bepalen | AP11: Ja, vastgoedbeh. | AQ11: Nee
A12: 900134180 | B12: 36 | C12: Valbeveiliging | D12: 51B12 | E12: GENM DE R V S KAZERNE | F12: =VLOOKUP(D12,Blad4!A:E,5,FALSE) -> Oirschot | G12: =VLOOKUP(D12,Blad4!A:E,4,FALSE) -> 5688GN | H12: 145 | I12: Gezondheidscentrum | J12: 2605 | M12: Commando Landstrijdkrachten | N12: CLAS | O12: RVB-Z | P12: 1 | Q12: 1 | R12: Marq Fence | S12: Neerklpabaar hekwerk | U12: 2019 | V12: 62 staanders | X12: Hekwerk los opgelegd | Y12: 152 | Z12: Luik | AA12: 1 | AB12: Nader te bepalen | AC12: Nader te bepalen | AF12: Nader te bepalen | AH12: Nader te bepalen | AN12: Nader te bepalen | AO12: Doorvalbeveiliging | AP12: Ja, vastgoedbeh. | AQ12: Nee
A13: 900134181 | B13: 36 | C13: Valbeveiliging | D13: 51B12 | E13: GENM DE R V S KAZERNE | F13: =VLOOKUP(D13,Blad4!A:E,5,FALSE) -> Oirschot | G13: =VLOOKUP(D13,Blad4!A:E,4,FALSE) -> 5688GN | H13: 211 | I13: Legeringsgebouw | J13: 2975 | M13: Commando Landstrijdkrachten | N13: CLAS | O13: RVB-Z | P13: 1 | Q13: 1 | R13: Marq Fence | S13: Neerklapbaar hekwerk | U13: 2019 | V13: 94 staanders | X13: Hekwerk los opgelegd | Y13: 241 | Z13: Nader te bepalen | AB13: Nader te bepalen | AC13: Nader te bepalen | AF13: Nader te bepalen | AH13: Nader te bepalen | AN13: Nader te bepalen | AO13: Nader te bepalen | AP13: Ja, vastgoedbeh. | AQ13: Nee
A14: 900134182 | B14: 36 | C14: Valbeveiliging | D14: 51B12 | E14: GENM DE R V S KAZERNE | F14: =VLOOKUP(D14,Blad4!A:E,5,FALSE) -> Oirschot | G14: =VLOOKUP(D14,Blad4!A:E,4,FALSE) -> 5688GN | H14: 213 | I14: Legeringsgebouw | J14: 2975 | M14: Commando Landstrijdkrachten | N14: CLAS | O14: RVB-Z | P14: 1 | Q14: 1 | R14: Marq Fence | S14: Neerklapbaar hekwerk | U14: 2019 | X14: Hekwerk los opgelegd | Y14: 241 | Z14: Nader te bepalen | AB14: Nader te bepalen | AC14: Nader te bepalen | AF14: Nader te bepalen | AH14: Nader te bepalen | AN14: Nader te bepalen | AO14: Nader te bepalen | AP14: Ja, vastgoedbeh. | AQ14: Nee
A15: 900134183 | B15: 36 | C15: Valbeveiliging | D15: 51B12 | E15: GENM DE R V S KAZERNE | F15: =VLOOKUP(D15,Blad4!A:E,5,FALSE) -> Oirschot | G15: =VLOOKUP(D15,Blad4!A:E,4,FALSE) -> 5688GN | H15: 214 | I15: Legeringsgebouw | J15: 2975 | M15: Commando Landstrijdkrachten | N15: CLAS | O15: RVB-Z | P15: 1 | Q15: 1 | R15: Marq Fence | S15: Neerklapbaar hekwerk | U15: 2019 | X15: Hekwerk los opgelegd | Y15: 241 | Z15: Luik | AA15: 1 | AB15: Nader te bepalen | AC15: Nader te bepalen | AF15: Nader te bepalen | AH15: Nader te bepalen | AN15: Nader te bepalen | AO15: Doorvalbeveiliging | AP15: Ja, vastgoedbeh. | AQ15: Nee
A16: 900134184 | B16: 36 | C16: Valbeveiliging | D16: 51B12 | E16: GENM DE R V S KAZERNE | F16: =VLOOKUP(D16,Blad4!A:E,5,FALSE) -> Oirschot | G16: =VLOOKUP(D16,Blad4!A:E,4,FALSE) -> 5688GN | H16: 215 | I16: Kantoorgebouw | J16: 445 | M16: Commando Landstrijdkrachten | N16: CLAS | O16: RVB-Z | P16: 1 | Q16: 1 | R16: Marq Fence | S16: Neerklapbaar hekwerk | U16: 2019 | V16: 44 staanders | X16: Hekwerk los opgelegd | Y16: 98 | Z16: Nader te bepalen | AB16: Nader te bepalen | AC16: Nader te bepalen | AF16: Nader te bepalen | AH16: Ladderopstelplaats tbv losse ladder | AI16: 1 | AN16: Nader te bepalen | AO16: Doorvalbeveiliging | AP16: Ja, vastgoedbeh. | AQ16: Nee
A17: 900134185 | B17: 36 | C17: Valbeveiliging | D17: 51B12 | E17: GENM DE R V S KAZERNE | F17: =VLOOKUP(D17,Blad4!A:E,5,FALSE) -> Oirschot | G17: =VLOOKUP(D17,Blad4!A:E,4,FALSE) -> 5688GN | H17: 217 | I17: Legeringsgebouw | J17: 2975 | M17: Commando Landstrijdkrachten | N17: CLAS | O17: RVB-Z | P17: 1 | Q17: 1 | R17: Marq Fence | S17: Neerklapbaar hekwerk | U17: 2019 | X17: Hekwerk los opgelegd | Y17: 241 | Z17: Luik | AA17: 1 | AB17: Nader te bepalen | AC17: Nader te bepalen | AF17: Nader te bepalen | AH17: Nader te bepalen | AN17: Nader te bepalen | AO17: Doorvalbeveiliging | AP17: Ja, vastgoedbeh. | AQ17: Nee
A18: 900134186 | B18: 36 | C18: Valbeveiliging | D18: 51B12 | E18: GENM DE R V S KAZERNE | F18: =VLOOKUP(D18,Blad4!A:E,5,FALSE) -> Oirschot | G18: =VLOOKUP(D18,Blad4!A:E,4,FALSE) -> 5688GN | H18: 218 | I18: Legeringsgebouw | J18: 2975 | M18: Commando Landstrijdkrachten | N18: CLAS | O18: RVB-Z | P18: 1 | Q18: 1 | R18: Marq Fence | S18: Neerklapbaar hekwerk | U18: 2019 | V18: 94 staanders | X18: Hekwerk los opgelegd | Y18: 241 | Z18: Luik | AA18: 1 | AB18: Nader te bepalen | AC18: Nader te bepalen | AF18: Nader te bepalen | AH18: Nader te bepalen | AN18: Nader te bepalen | AO18: Doorvalbeveiliging | AP18: Ja, vastgoedbeh. | AQ18: Nee
A19: 900134189 | B19: 36 | C19: Valbeveiliging | D19: 51B12 | E19: GENM DE R V S KAZERNE | F19: =VLOOKUP(D19,Blad4!A:E,5,FALSE) -> Oirschot | G19: =VLOOKUP(D19,Blad4!A:E,4,FALSE) -> 5688GN | H19: 220 | I19: Legeringsgebouw | J19: 2975 | M19: Commando Landstrijdkrachten | N19: CLAS | O19: RVB-Z | P19: 1 | Q19: 1 | R19: Marq Fence | S19: Neerklapbaar hekwerk | U19: 2019 | V19: 94 staanders | X19: Hekwerk los opgelegd | Y19: 241 | Z19: Luik | AA19: 1 | AB19: Nader te bepalen | AC19: Nader te bepalen | AF19: Nader te bepalen | AH19: Nader te bepalen | AN19: Nader te bepalen | AO19: Doorvalbeveiliging | AP19: Ja, vastgoedbeh. | AQ19: Nee
A20: 900134431 | B20: 36 | C20: Valbeveiliging | D20: 51B12 | E20: GENM DE R V S KAZERNE | F20: =VLOOKUP(D20,Blad4!A:E,5,FALSE) -> Oirschot | G20: =VLOOKUP(D20,Blad4!A:E,4,FALSE) -> 5688GN | H20: 121 | I20: Kantoorgebouw | J20: 3034 | M20: Commando Landstrijdkrachten | N20: CLAS | O20: RVB-Z | P20: 1 | Q20: 1 | R20: Marq Fence | S20: Neerklapbaar | U20: 2019 | X20: Hekwerk los opgelegd | Y20: 210 | Z20: Deur | AA20: 1 | AB20: Nader te bepalen | AC20: Nader te bepalen | AF20: Nader te bepalen | AH20: Kooiladder los opgelegd | AJ20: 1 | AN20: Nader te bepalen | AO20: Nader te bepalen | AP20: Ja, vastgoedbeh. | AQ20: Nee
A21: 900134432 | B21: 36 | C21: Valbeveiliging | D21: 51B12 | E21: GENM DE R V S KAZERNE | F21: =VLOOKUP(D21,Blad4!A:E,5,FALSE) -> Oirschot | G21: =VLOOKUP(D21,Blad4!A:E,4,FALSE) -> 5688GN | H21: 122 | I21: Kantoorgebouw | J21: 2873 | M21: Commando Landstrijdkrachten | N21: CLAS | O21: RVB-Z | P21: 1 | Q21: 1 | R21: Marq Fence | S21: Neerklapbaar hekwerk | U21: 2019 | V21: 86 staanders | X21: Hekwerk los opgelegd | Y21: 210 | Z21: Luik | AA21: 1 | AB21: Nader te bepalen | AC21: Nader te bepalen | AF21: Nader te bepalen | AH21: Nader te bepalen | AJ21: 1 | AM21: 1 | AN21: Nader te bepalen | AO21: Nader te bepalen | AP21: Ja, vastgoedbeh. | AQ21: Nee
A22: 900134433 | B22: 36 | C22: Valbeveiliging | D22: 51B12 | E22: GENM DE R V S KAZERNE | F22: =VLOOKUP(D22,Blad4!A:E,5,FALSE) -> Oirschot | G22: =VLOOKUP(D22,Blad4!A:E,4,FALSE) -> 5688GN | H22: 123 | I22: Kantoorgebouw | J22: 2873 | M22: Commando Landstrijdkrachten | N22: CLAS | O22: RVB-Z | P22: 1 | Q22: 1 | R22: Marq Fence | S22: Neerklapbaar hekwerk | U22: 2019 | V22: 86 staanders | X22: Nader te bepalen | Y22: 210 | Z22: Luik | AA22: 1 | AB22: Nader te bepalen | AC22: Nader te bepalen | AF22: Nader te bepalen | AH22: Nader te bepalen | AJ22: 1 | AN22: Nader te bepalen | AO22: Nader te bepalen | AP22: Ja, vastgoedbeh. | AQ22: Nee
A23: 900134440 | B23: 36 | C23: Valbeveiliging | D23: 51B12 | E23: GENM DE R V S KAZERNE | F23: =VLOOKUP(D23,Blad4!A:E,5,FALSE) -> Oirschot | G23: =VLOOKUP(D23,Blad4!A:E,4,FALSE) -> 5688GN | H23: 150 | I23: KEK-gebouw | J23: 5371 | M23: Commando Landstrijdkrachten | N23: CLAS | O23: RVB-Z | P23: 1 | Q23: 1 | R23: Marq Fence | S23: Neerklapbaar hekwerk | U23: 2019 | V23: 134 staanders | X23: Hekwerk los opgelegd | Y23: 320 | Z23: Deur | AB23: Nader te bepalen | AC23: Nader te bepalen | AF23: Nader te bepalen | AH23: Nader te bepalen | AJ23: 1 | AN23: Nader te bepalen | AO23: Nader te bepalen | AP23: Ja, vastgoedbeh. | AQ23: Nee
A24: 900134446 | B24: 36 | C24: Valbeveiliging | D24: 51B12 | E24: GENM DE R V S KAZERNE | F24: =VLOOKUP(D24,Blad4!A:E,5,FALSE) -> Oirschot | G24: =VLOOKUP(D24,Blad4!A:E,4,FALSE) -> 5688GN | H24: 197 | I24: Legeringsgebouw | J24: 2156 | M24: Commando Landstrijdkrachten | N24: CLAS | O24: RVB-Z | P24: 1 | Q24: 1 | R24: Marq Fence | S24: Neerklapbaar hekwerk | U24: 2020 | V24: 78 staanders | X24: Hekwerk los opgelegd | Y24: 170 | Z24: Luik | AA24: 1 | AB24: Nader te bepalen | AC24: Nader te bepalen | AF24: Nader te bepalen | AH24: Kooiladder los opgelegd | AJ24: 1 | AN24: Nader te bepalen | AO24: Nader te bepalen | AP24: Ja, vastgoedbeh. | AQ24: Nee
A25: 900134447 | B25: 36 | C25: Valbeveiliging | D25: 51B12 | E25: GENM DE R V S KAZERNE | F25: =VLOOKUP(D25,Blad4!A:E,5,FALSE) -> Oirschot | G25: =VLOOKUP(D25,Blad4!A:E,4,FALSE) -> 5688GN | H25: 195 | I25: Legeringsgebouw | J25: 2154 | M25: Commando Landstrijdkrachten | N25: CLAS | O25: RVB-Z | P25: 1 | Q25: 1 | R25: Marq Fence | S25: Neerklapbaar hekwerk | T25: Dak | U25: 2020 | V25: 78 staanders | X25: Nader te bepalen | Y25: 170 | Z25: Luik | AA25: 1 | AB25: Nader te bepalen | AC25: Nader te bepalen | AF25: Nader te bepalen | AH25: Kooiladder los opgelegd | AJ25: 1 | AN25: Nader te bepalen | AO25: Nader te bepalen | AP25: Ja, vastgoedbeh. | AQ25: Nee
A26: 900134469 | B26: 36 | C26: Valbeveiliging | D26: 45H03 | E26: VLIEGBASIS VOLKEL | F26: =VLOOKUP(D26,Blad4!A:E,5,FALSE) -> Volkel | G26: =VLOOKUP(D26,Blad4!A:E,4,FALSE) -> 5408SM | H26: 1000 | I26: Stafgebouw 640 Sqn | J26: 6840 | M26: Commando Luchtstrijdkrachten | N26: CLSK | O26: RVB-Z | P26: 1 | Q26: 1 | R26: Marq Fence | S26: Neerklapbaar hekwerk | U26: 2019 | V26: 115 staanders | W26: 7 | X26: Hekwerk los opgelegd | Y26: 329 | Z26: Nader te bepalen | AB26: Nader te bepalen | AC26: Nader te bepalen | AF26: Nader te bepalen | AH26: Vaste trap vast verankerd | AL26: 1 | AN26: Nader te bepalen | AO26: Doorvalbeveiliging | AP26: Ja, vastgoedbeh. | AQ26: Nee
A27: 900134470 | B27: 36 | C27: Valbeveiliging | D27: 45H03 | E27: VLIEGBASIS VOLKEL | F27: =VLOOKUP(D27,Blad4!A:E,5,FALSE) -> Volkel | G27: =VLOOKUP(D27,Blad4!A:E,4,FALSE) -> 5408SM | H27: 1050 | I27: Stafgebouw 312 Sqn | J27: 6815 | M27: Commando Luchtstrijdkrachten | N27: CLSK | O27: RVB-Z | P27: 1 | Q27: 1 | R27: Marq Fence | S27: Neerklapbaar | U27: 2019 | V27: 115 staanders | W27: 7 | X27: Hekwerk los opgelegd | Y27: 329 | Z27: Nader te bepalen | AA27: 1 | AB27: Nader te bepalen | AC27: Nader te bepalen | AF27: Nader te bepalen | AH27: Vaste trap vast verankerd | AL27: 1 | AN27: Nader te bepalen | AO27: Doorvalbeveiliging | AP27: Ja, vastgoedbeh. | AQ27: Nee
A28: 900134471 | B28: 36 | C28: Valbeveiliging | D28: 45H03 | E28: VLIEGBASIS VOLKEL | F28: =VLOOKUP(D28,Blad4!A:E,5,FALSE) -> Volkel | G28: =VLOOKUP(D28,Blad4!A:E,4,FALSE) -> 5408SM | H28: 1060 | I28: Stafgebouw 313 | J28: 6810 | M28: Commando Luchtstrijdkrachten | N28: CLSK | O28: RVB-Z | P28: 1 | Q28: 1 | R28: Marq Fence | S28: Neerklapbaar | U28: 2019 | V28: 115 staanders | W28: 7 | X28: Hekwerk los opgelegd | Y28: 329 | Z28: Nader te bepalen | AB28: Nader te bepalen | AC28: Nader te bepalen | AF28: Nader te bepalen | AH28: Vaste trap vast verankerd | AL28: 1 | AN28: Nader te bepalen | AO28: Doorvalbeveiliging | AP28: Ja, vastgoedbeh. | AQ28: Nee
A29: 900134503 | B29: 36 | C29: Valbeveiliging | D29: 32C05 | E29: LC KAMP SOESTERBERG | F29: =VLOOKUP(D29,Blad4!A:E,5,FALSE) -> Soesterberg | G29: =VLOOKUP(D29,Blad4!A:E,4,FALSE) -> 3769AP | H29: V37 | I29: Lesgebouw | J29: 1262 | M29: Commando Landstrijdkrachten | N29: CLAS | O29: RVB-NW | P29: 1 | Q29: 1 | U29: 1900 | X29: Nader te bepalen | Z29: Nader te bepalen | AB29: Nader te bepalen | AC29: Nader te bepalen | AF29: Nader te bepalen | AH29: Nader te bepalen | AJ29: 1 | AN29: Nader te bepalen | AO29: Nader te bepalen | AP29: Ja, vastgoedbeh. | AQ29: Nee
A30: 900134504 | B30: 36 | C30: Valbeveiliging | D30: 32C05 | E30: LC KAMP SOESTERBERG | F30: =VLOOKUP(D30,Blad4!A:E,5,FALSE) -> Soesterberg | G30: =VLOOKUP(D30,Blad4!A:E,4,FALSE) -> 3769AP | H30: V40 | I30: 3e Echelonswerkplaats | J30: 3628 | M30: Commando Landstrijdkrachten | N30: CLAS | O30: RVB-NW | P30: 1 | Q30: 1 | X30: Nader te bepalen | Z30: Nader te bepalen | AB30: Nader te bepalen | AC30: Nader te bepalen | AF30: Nader te bepalen | AH30: Nader te bepalen | AJ30: 3 | AN30: Nader te bepalen | AO30: Nader te bepalen | AP30: Ja, vastgoedbeh. | AQ30: Nee
A31: 900134505 | B31: 36 | C31: Valbeveiliging | D31: 32C05 | E31: LC KAMP SOESTERBERG | F31: =VLOOKUP(D31,Blad4!A:E,5,FALSE) -> Soesterberg | G31: =VLOOKUP(D31,Blad4!A:E,4,FALSE) -> 3769AP | H31: V31 | I31: Basisdepot Intendance | J31: 30487 | M31: Commando Landstrijdkrachten | N31: CLAS | O31: RVB-NW | P31: 1 | Q31: 1 | X31: Nader te bepalen | Z31: Nader te bepalen | AB31: Nader te bepalen | AC31: Nader te bepalen | AF31: Nader te bepalen | AH31: Kooiladder los opgelegd | AJ31: 1 | AN31: Nader te bepalen | AO31: Nader te bepalen | AP31: Ja, vastgoedbeh. | AQ31: Nee
A32: 900134506 | B32: 36 | C32: Valbeveiliging | D32: 32C05 | E32: LC KAMP SOESTERBERG | F32: =VLOOKUP(D32,Blad4!A:E,5,FALSE) -> Soesterberg | G32: =VLOOKUP(D32,Blad4!A:E,4,FALSE) -> 3769AP | H32: V10 | I32: Ontvangsthal | J32: 8612 | M32: Commando Landstrijdkrachten | N32: CLAS | O32: RVB-NW | P32: 1 | Q32: 1 | U32: 1900 | V32: 1 stuks 3650cm / 1 stuks 5130cm | X32: Nader te bepalen | Z32: Nader te bepalen | AB32: Nader te bepalen | AC32: Nader te bepalen | AF32: Nader te bepalen | AH32: Kooiladder vast verankerd | AJ32: 3 | AK32: 1 | AN32: Nader te bepalen | AO32: Nader te bepalen | AP32: Ja, vastgoedbeh. | AQ32: Nee
A33: 900134508 | B33: 36 | C33: Valbeveiliging | D33: 32D09 | E33: SERGEANT-MAJOOR SCHEICKKAZERNE | F33: =VLOOKUP(D33,Blad4!A:E,5,FALSE) -> Soesterberg | G33: =VLOOKUP(D33,Blad4!A:E,4,FALSE) -> 3769AP | H33: W1 | I33: Staf- , Lesgebouw | J33: 8556 | M33: Commando Landstrijdkrachten | N33: CLAS | O33: RVB-NW | P33: 1 | Q33: 1 | U33: 1900 | X33: Nader te bepalen | Z33: Nader te bepalen | AB33: Nader te bepalen | AC33: Nader te bepalen | AF33: Nader te bepalen | AH33: Gevelladder vast verankerd | AJ33: 3 | AN33: Nader te bepalen | AO33: Nader te bepalen | AP33: Ja, vastgoedbeh. | AQ33: Nee
A34: 900134509 | B34: 36 | C34: Valbeveiliging | D34: 32C13 | E34: SOLDAAT KETTING OLIVIERKAZERNE | F34: =VLOOKUP(D34,Blad4!A:E,5,FALSE) -> Soesterberg | G34: =VLOOKUP(D34,Blad4!A:E,4,FALSE) -> 3769AP | H34: O17 | I34: Lunchaccommodatie | J34: 1366 | M34: Commando Landstrijdkrachten | N34: CLAS | O34: RVB-NW | P34: 1 | Q34: 1 | X34: Nader te bepalen | Z34: Nader te bepalen | AB34: Nader te bepalen | AC34: Nader te bepalen | AF34: Nader te bepalen | AH34: Nader te bepalen | AL34: 1 | AN34: Nader te bepalen | AO34: Nader te bepalen | AP34: Ja, vastgoedbeh. | AQ34: Nee
A35: 900134510 | B35: 36 | C35: Valbeveiliging | D35: 32C13 | E35: SOLDAAT KETTING OLIVIERKAZERNE | F35: =VLOOKUP(D35,Blad4!A:E,5,FALSE) -> Soesterberg | G35: =VLOOKUP(D35,Blad4!A:E,4,FALSE) -> 3769AP | H35: O4 | I35: AOO Nouwenshal | J35: 2999 | M35: Commando Landstrijdkrachten | N35: CLAS | O35: RVB-NW | P35: 1 | Q35: 1 | X35: Nader te bepalen | Z35: Nader te bepalen | AB35: Nader te bepalen | AC35: Nader te bepalen | AF35: Nader te bepalen | AH35: Nader te bepalen | AJ35: 1 | AN35: Nader te bepalen | AO35: Nader te bepalen | AP35: Ja, vastgoedbeh. | AQ35: Nee
A36: 900134511 | B36: 36 | C36: Valbeveiliging | D36: 32C13 | E36: SOLDAAT KETTING OLIVIERKAZERNE | F36: =VLOOKUP(D36,Blad4!A:E,5,FALSE) -> Soesterberg | G36: =VLOOKUP(D36,Blad4!A:E,4,FALSE) -> 3769AP | H36: O5 | I36: Instructiehal Rupsvoertuigen | J36: 3883 | M36: Commando Landstrijdkrachten | N36: CLAS | O36: RVB-NW | P36: 1 | Q36: 1 | X36: Nader te bepalen | Z36: Nader te bepalen | AB36: Nader te bepalen | AC36: Nader te bepalen | AF36: Nader te bepalen | AH36: Kooiladder los opgelegd | AJ36: 1 | AN36: Nader te bepalen | AO36: Nader te bepalen | AP36: Ja, vastgoedbeh. | AQ36: Nee
A37: 900134514 | B37: 36 | C37: Valbeveiliging | D37: 32C05 | E37: LC KAMP SOESTERBERG | F37: =VLOOKUP(D37,Blad4!A:E,5,FALSE) -> Soesterberg | G37: =VLOOKUP(D37,Blad4!A:E,4,FALSE) -> 3769AP | H37: V40 | I37: 3e Echelonswerkplaats | J37: 3628 | M37: Commando Landstrijdkrachten | N37: CLAS | O37: RVB-NW | P37: 2 | Q37: 1 | U37: 1900 | V37: 1 stuks 6070cm | X37: Nader te bepalen | Z37: Nader te bepalen | AB37: Nader te bepalen | AC37: Nader te bepalen | AF37: Nader te bepalen | AH37: Nader te bepalen | AI37: 2 | AJ37: 1 | AN37: Nader te bepalen | AO37: Nader te bepalen | AP37: Ja, vastgoedbeh. | AQ37: Nee
A38: 900134516 | B38: 36 | C38: Valbeveiliging | D38: 32D09 | E38: SERGEANT-MAJOOR SCHEICKKAZERNE | F38: =VLOOKUP(D38,Blad4!A:E,5,FALSE) -> Soesterberg | G38: =VLOOKUP(D38,Blad4!A:E,4,FALSE) -> 3769AP | H38: W1 | I38: Staf- , Lesgebouw | J38: 8556 | M38: Commando Landstrijdkrachten | N38: CLAS | O38: RVB-NW | P38: 2 | Q38: 1 | U38: 1900 | X38: Nader te bepalen | Z38: Nader te bepalen | AB38: Nader te bepalen | AC38: Nader te bepalen | AF38: Nader te bepalen | AH38: Nader te bepalen | AI38: 1 | AJ38: 3 | AN38: Nader te bepalen | AO38: Nader te bepalen | AP38: Ja, vastgoedbeh. | AQ38: Nee
A39: 900134517 | B39: 36 | C39: Valbeveiliging | D39: 32C13 | E39: SOLDAAT KETTING OLIVIERKAZERNE | F39: =VLOOKUP(D39,Blad4!A:E,5,FALSE) -> Soesterberg | G39: =VLOOKUP(D39,Blad4!A:E,4,FALSE) -> 3769AP | H39: O4 | I39: AOO Nouwenshal | J39: 2999 | M39: Commando Landstrijdkrachten | N39: CLAS | O39: RVB-NW | P39: 2 | Q39: 1 | X39: Nader te bepalen | Z39: Nader te bepalen | AB39: Nader te bepalen | AC39: Nader te bepalen | AF39: Nader te bepalen | AH39: Nader te bepalen | AK39: 1 | AN39: Nader te bepalen | AO39: Nader te bepalen | AP39: Ja, vastgoedbeh. | AQ39: Nee
A40: 900134518 | B40: 36 | C40: Valbeveiliging | D40: 32C13 | E40: SOLDAAT KETTING OLIVIERKAZERNE | F40: =VLOOKUP(D40,Blad4!A:E,5,FALSE) -> Soesterberg | G40: =VLOOKUP(D40,Blad4!A:E,4,FALSE) -> 3769AP | H40: O5 | I40: Instructiehal Rupsvoertuigen | J40: 3883 | M40: Commando Landstrijdkrachten | N40: CLAS | O40: RVB-NW | P40: 2 | Q40: 1 | X40: Nader te bepalen | Z40: Nader te bepalen | AB40: Nader te bepalen | AC40: Nader te bepalen | AF40: Nader te bepalen | AH40: Gevelladder vast verankerd | AK40: 1 | AN40: Nader te bepalen | AO40: Nader te bepalen | AP40: Ja, vastgoedbeh. | AQ40: Nee
A41: 900134521 | B41: 36 | C41: Valbeveiliging | D41: 25G30 | E41: MARINE ETABLISSEMENT AMSTERDAM | F41: =VLOOKUP(D41,Blad4!A:E,5,FALSE) -> Amsterdam | G41: =VLOOKUP(D41,Blad4!A:E,4,FALSE) -> 1018JA | H41: 014 | I41: Kantoor Koninklijke Marechaussee | J41: 6988 | M41: Commando Zeestrijdkrachten | N41: CZSK | O41: RVB-NW | P41: 2 | Q41: 1 | X41: Nader te bepalen | Z41: Nader te bepalen | AB41: Nader te bepalen | AC41: Nader te bepalen | AF41: Nader te bepalen | AH41: Nader te bepalen | AN41: Nader te bepalen | AO41: Nader te bepalen | AP41: Ja, vastgoedbeh. | AQ41: Nee
A42: 900134522 | B42: 36 | C42: Valbeveiliging | D42: 25D18 | E42: KONINGIN M┴XIMAKAZERNE | F42: =VLOOKUP(D42,Blad4!A:E,5,FALSE) -> Badhoevedorp | G42: =VLOOKUP(D42,Blad4!A:E,4,FALSE) -> 1171VK | H42: 001 | I42: Kantoor en Legeringsgebouw | J42: 27390 | M42: Koninklijke Marechaussee | N42: KMAR | O42: RVB-NW | P42: 1 | Q42: 1 | X42: Nader te bepalen | Z42: Nader te bepalen | AB42: Nader te bepalen | AC42: Nader te bepalen | AF42: Nader te bepalen | AH42: Kooiladder vast verankerd | AJ42: 1 | AN42: Nader te bepalen | AO42: Nader te bepalen | AP42: Ja, vastgoedbeh. | AQ42: Nee
A43: 900134523 | B43: 36 | C43: Valbeveiliging | D43: 25D18 | E43: KONINGIN M┴XIMAKAZERNE | F43: =VLOOKUP(D43,Blad4!A:E,5,FALSE) -> Badhoevedorp | G43: =VLOOKUP(D43,Blad4!A:E,4,FALSE) -> 1171VK | H43: 001 | I43: Kantoor en Legeringsgebouw | J43: 27390 | M43: Koninklijke Marechaussee | N43: KMAR | O43: RVB-NW | P43: 2 | Q43: 1 | X43: Nader te bepalen | Z43: Nader te bepalen | AB43: Nader te bepalen | AC43: Nader te bepalen | AF43: Nader te bepalen | AH43: Nader te bepalen | AI43: 1 | AN43: Nader te bepalen | AO43: Nader te bepalen | AP43: Ja, vastgoedbeh. | AQ43: Nee
A44: 900134524 | B44: 36 | C44: Valbeveiliging | D44: 25D18 | E44: KONINGIN M┴XIMAKAZERNE | F44: =VLOOKUP(D44,Blad4!A:E,5,FALSE) -> Badhoevedorp | G44: =VLOOKUP(D44,Blad4!A:E,4,FALSE) -> 1171VK | H44: 001 | I44: Kantoor en Legeringsgebouw | J44: 27390 | M44: Koninklijke Marechaussee | N44: KMAR | O44: RVB-NW | P44: 3 | Q44: 1 | X44: Nader te bepalen | Z44: Nader te bepalen | AB44: Nader te bepalen | AC44: Nader te bepalen | AF44: Nader te bepalen | AH44: Nader te bepalen | AJ44: 3 | AN44: Nader te bepalen | AO44: Nader te bepalen | AP44: Ja, vastgoedbeh. | AQ44: Nee
A45: 900134525 | B45: 36 | C45: Valbeveiliging | D45: 25D18 | E45: KONINGIN M┴XIMAKAZERNE | F45: =VLOOKUP(D45,Blad4!A:E,5,FALSE) -> Badhoevedorp | G45: =VLOOKUP(D45,Blad4!A:E,4,FALSE) -> 1171VK | H45: 001 | I45: Kantoor en Legeringsgebouw | J45: 27390 | M45: Koninklijke Marechaussee | N45: KMAR | O45: RVB-NW | P45: 4 | Q45: 1 | X45: Nader te bepalen | Z45: Nader te bepalen | AB45: Nader te bepalen | AC45: Nader te bepalen | AF45: Nader te bepalen | AH45: Nader te bepalen | AI45: 2 | AN45: Nader te bepalen | AO45: Nader te bepalen | AP45: Ja, vastgoedbeh. | AQ45: Nee
A46: 900134526 | B46: 36 | C46: Valbeveiliging | D46: 25D18 | E46: KONINGIN M┴XIMAKAZERNE | F46: =VLOOKUP(D46,Blad4!A:E,5,FALSE) -> Badhoevedorp | G46: =VLOOKUP(D46,Blad4!A:E,4,FALSE) -> 1171VK | H46: 001 | I46: Kantoor en Legeringsgebouw | J46: 27390 | M46: Koninklijke Marechaussee | N46: KMAR | O46: RVB-NW | P46: 5 | Q46: 1 | X46: Nader te bepalen | Z46: Nader te bepalen | AB46: Nader te bepalen | AC46: Nader te bepalen | AF46: Nader te bepalen | AH46: Nader te bepalen | AJ46: 1 | AN46: Nader te bepalen | AO46: Nader te bepalen | AP46: Ja, vastgoedbeh. | AQ46: Nee
A47: 900134527 | B47: 36 | C47: Valbeveiliging | D47: 25D18 | E47: KONINGIN M┴XIMAKAZERNE | F47: =VLOOKUP(D47,Blad4!A:E,5,FALSE) -> Badhoevedorp | G47: =VLOOKUP(D47,Blad4!A:E,4,FALSE) -> 1171VK | H47: 001 | I47: Kantoor en Legeringsgebouw | J47: 27390 | M47: Koninklijke Marechaussee | N47: KMAR | O47: RVB-NW | P47: 6 | Q47: 1 | X47: Nader te bepalen | Z47: Nader te bepalen | AB47: Nader te bepalen | AC47: Nader te bepalen | AF47: Nader te bepalen | AH47: Nader te bepalen | AJ47: 3 | AN47: Nader te bepalen | AO47: Nader te bepalen | AP47: Ja, vastgoedbeh. | AQ47: Nee
A48: 900134528 | B48: 36 | C48: Valbeveiliging | D48: 25D18 | E48: KONINGIN M┴XIMAKAZERNE | F48: =VLOOKUP(D48,Blad4!A:E,5,FALSE) -> Badhoevedorp | G48: =VLOOKUP(D48,Blad4!A:E,4,FALSE) -> 1171VK | H48: 001 | I48: Kantoor en Legeringsgebouw | J48: 27390 | M48: Koninklijke Marechaussee | N48: KMAR | O48: RVB-NW | P48: 7 | Q48: 1 | X48: Nader te bepalen | Z48: Nader te bepalen | AB48: Nader te bepalen | AC48: Nader te bepalen | AF48: Nader te bepalen | AH48: Kooiladder vast verankerd | AJ48: 1 | AN48: Nader te bepalen | AO48: Nader te bepalen | AP48: Ja, vastgoedbeh. | AQ48: Nee
A49: 900134529 | B49: 36 | C49: Valbeveiliging | D49: 25D18 | E49: KONINGIN M┴XIMAKAZERNE | F49: =VLOOKUP(D49,Blad4!A:E,5,FALSE) -> Badhoevedorp | G49: =VLOOKUP(D49,Blad4!A:E,4,FALSE) -> 1171VK | H49: 001 | I49: Kantoor en Legeringsgebouw | J49: 27390 | M49: Koninklijke Marechaussee | N49: KMAR | O49: RVB-NW | P49: 8 | Q49: 1 | X49: Nader te bepalen | Z49: Nader te bepalen | AB49: Nader te bepalen | AC49: Nader te bepalen | AF49: Nader te bepalen | AH49: Kooiladder vast verankerd | AJ49: 1 | AN49: Nader te bepalen | AO49: Nader te bepalen | AP49: Ja, vastgoedbeh. | AQ49: Nee
A50: 900134530 | B50: 36 | C50: Valbeveiliging | D50: 25D18 | E50: KONINGIN M┴XIMAKAZERNE | F50: =VLOOKUP(D50,Blad4!A:E,5,FALSE) -> Badhoevedorp | G50: =VLOOKUP(D50,Blad4!A:E,4,FALSE) -> 1171VK | H50: 003 | I50: Opleidingen , Sporthal , Schietbaan | J50: 7758 | M50: Koninklijke Marechaussee | N50: KMAR | O50: RVB-NW | P50: 1 | Q50: 1 | X50: Nader te bepalen | Z50: Nader te bepalen | AB50: Nader te bepalen | AC50: Nader te bepalen | AF50: Nader te bepalen | AH50: Kooiladder vast verankerd | AJ50: 1 | AN50: Nader te bepalen | AO50: Nader te bepalen | AP50: Ja, vastgoedbeh. | AQ50: Nee
A51: 900134531 | B51: 36 | C51: Valbeveiliging | D51: 25D18 | E51: KONINGIN M┴XIMAKAZERNE | F51: =VLOOKUP(D51,Blad4!A:E,5,FALSE) -> Badhoevedorp | G51: =VLOOKUP(D51,Blad4!A:E,4,FALSE) -> 1171VK | H51: 003 | I51: Opleidingen , Sporthal , Schietbaan | J51: 7758 | M51: Koninklijke Marechaussee | N51: KMAR | O51: RVB-NW | P51: 2 | Q51: 1 | X51: Nader te bepalen | Z51: Nader te bepalen | AB51: Nader te bepalen | AC51: Nader te bepalen | AF51: Nader te bepalen | AH51: Kooiladder vast verankerd | AJ51: 1 | AN51: Nader te bepalen | AO51: Nader te bepalen | AP51: Ja, vastgoedbeh. | AQ51: Nee
A52: 900134532 | B52: 36 | C52: Valbeveiliging | D52: 25D18 | E52: KONINGIN M┴XIMAKAZERNE | F52: =VLOOKUP(D52,Blad4!A:E,5,FALSE) -> Badhoevedorp | G52: =VLOOKUP(D52,Blad4!A:E,4,FALSE) -> 1171VK | H52: 003 | I52: Opleidingen , Sporthal , Schietbaan | J52: 7758 | M52: Koninklijke Marechaussee | N52: KMAR | O52: RVB-NW | P52: 3 | Q52: 1 | X52: Nader te bepalen | Z52: Nader te bepalen | AB52: Nader te bepalen | AC52: Nader te bepalen | AF52: Nader te bepalen | AH52: Kooiladder vast verankerd | AJ52: 1 | AN52: Nader te bepalen | AO52: Nader te bepalen | AP52: Ja, vastgoedbeh. | AQ52: Nee
A53: 900134533 | B53: 36 | C53: Valbeveiliging | D53: 25D18 | E53: KONINGIN M┴XIMAKAZERNE | F53: =VLOOKUP(D53,Blad4!A:E,5,FALSE) -> Badhoevedorp | G53: =VLOOKUP(D53,Blad4!A:E,4,FALSE) -> 1171VK | H53: 003 | I53: Opleidingen , Sporthal , Schietbaan | J53: 7758 | M53: Koninklijke Marechaussee | N53: KMAR | O53: RVB-NW | P53: 4 | Q53: 1 | X53: Nader te bepalen | Z53: Nader te bepalen | AB53: Nader te bepalen | AC53: Nader te bepalen | AF53: Nader te bepalen | AH53: Nader te bepalen | AN53: Nader te bepalen | AO53: Nader te bepalen | AP53: Ja, vastgoedbeh. | AQ53: Nee
A54: 900134534 | B54: 36 | C54: Valbeveiliging | D54: 25D18 | E54: KONINGIN M┴XIMAKAZERNE | F54: =VLOOKUP(D54,Blad4!A:E,5,FALSE) -> Badhoevedorp | G54: =VLOOKUP(D54,Blad4!A:E,4,FALSE) -> 1171VK | H54: 004 | I54: Restaurant | J54: 1902 | M54: Koninklijke Marechaussee | N54: KMAR | O54: RVB-NW | P54: 1 | Q54: 1 | X54: Nader te bepalen | Z54: Nader te bepalen | AB54: Nader te bepalen | AC54: Nader te bepalen | AF54: Nader te bepalen | AH54: Kooiladder vast verankerd | AJ54: 1 | AN54: Nader te bepalen | AO54: Nader te bepalen | AP54: Ja, vastgoedbeh. | AQ54: Nee
A55: 900134535 | B55: 36 | C55: Valbeveiliging | D55: 25D18 | E55: KONINGIN M┴XIMAKAZERNE | F55: =VLOOKUP(D55,Blad4!A:E,5,FALSE) -> Badhoevedorp | G55: =VLOOKUP(D55,Blad4!A:E,4,FALSE) -> 1171VK | H55: 004 | I55: Restaurant | J55: 1902 | M55: Koninklijke Marechaussee | N55: KMAR | O55: RVB-NW | P55: 2 | Q55: 1 | X55: Nader te bepalen | Z55: Nader te bepalen | AB55: Nader te bepalen | AC55: Nader te bepalen | AF55: Nader te bepalen | AH55: Nader te bepalen | AN55: Nader te bepalen | AO55: Nader te bepalen | AP55: Ja, vastgoedbeh. | AQ55: Nee
A56: 900134536 | B56: 36 | C56: Valbeveiliging | D56: 25D18 | E56: KONINGIN M┴XIMAKAZERNE | F56: =VLOOKUP(D56,Blad4!A:E,5,FALSE) -> Badhoevedorp | G56: =VLOOKUP(D56,Blad4!A:E,4,FALSE) -> 1171VK | H56: 005 | I56: Logistiek Gezondheidscentrum | J56: 2583 | M56: Koninklijke Marechaussee | N56: KMAR | O56: RVB-NW | P56: 1 | Q56: 1 | X56: Nader te bepalen | Z56: Nader te bepalen | AB56: Nader te bepalen | AC56: Nader te bepalen | AF56: Nader te bepalen | AH56: Vaste trap vast verankerd | AL56: 1 | AN56: Nader te bepalen | AO56: Nader te bepalen | AP56: Ja, vastgoedbeh. | AQ56: Nee
A57: 900134537 | B57: 36 | C57: Valbeveiliging | D57: 25D18 | E57: KONINGIN M┴XIMAKAZERNE | F57: =VLOOKUP(D57,Blad4!A:E,5,FALSE) -> Badhoevedorp | G57: =VLOOKUP(D57,Blad4!A:E,4,FALSE) -> 1171VK | H57: 005 | I57: Logistiek Gezondheidscentrum | J57: 2583 | M57: Koninklijke Marechaussee | N57: KMAR | O57: RVB-NW | P57: 2 | Q57: 1 | X57: Nader te bepalen | Z57: Nader te bepalen | AB57: Nader te bepalen | AC57: Nader te bepalen | AF57: Nader te bepalen | AH57: Gevelladder los opgelegd | AK57: 1 | AN57: Nader te bepalen | AO57: Nader te bepalen | AP57: Ja, vastgoedbeh. | AQ57: Nee
A58: 900134538 | B58: 36 | C58: Valbeveiliging | D58: 25D18 | E58: KONINGIN M┴XIMAKAZERNE | F58: =VLOOKUP(D58,Blad4!A:E,5,FALSE) -> Badhoevedorp | G58: =VLOOKUP(D58,Blad4!A:E,4,FALSE) -> 1171VK | H58: 005 | I58: Logistiek Gezondheidscentrum | J58: 2583 | M58: Koninklijke Marechaussee | N58: KMAR | O58: RVB-NW | P58: 3 | Q58: 1 | X58: Nader te bepalen | Z58: Nader te bepalen | AB58: Nader te bepalen | AC58: Nader te bepalen | AF58: Nader te bepalen | AH58: Kooiladder los opgelegd | AN58: Nader te bepalen | AO58: Nader te bepalen | AP58: Ja, vastgoedbeh. | AQ58: Nee
A59: 900134539 | B59: 36 | C59: Valbeveiliging | D59: 25D18 | E59: KONINGIN M┴XIMAKAZERNE | F59: =VLOOKUP(D59,Blad4!A:E,5,FALSE) -> Badhoevedorp | G59: =VLOOKUP(D59,Blad4!A:E,4,FALSE) -> 1171VK | H59: 005 | I59: Logistiek Gezondheidscentrum | J59: 2583 | M59: Koninklijke Marechaussee | N59: KMAR | O59: RVB-NW | P59: 4 | Q59: 1 | X59: Nader te bepalen | Z59: Nader te bepalen | AB59: Nader te bepalen | AC59: Nader te bepalen | AF59: Nader te bepalen | AH59: Kooiladder vast verankerd | AJ59: 2 | AN59: Nader te bepalen | AO59: Nader te bepalen | AP59: Ja, vastgoedbeh. | AQ59: Nee
A60: 900134540 | B60: 36 | C60: Valbeveiliging | D60: 25D18 | E60: KONINGIN M┴XIMAKAZERNE | F60: =VLOOKUP(D60,Blad4!A:E,5,FALSE) -> Badhoevedorp | G60: =VLOOKUP(D60,Blad4!A:E,4,FALSE) -> 1171VK | H60: 005 | I60: Logistiek Gezondheidscentrum | J60: 2583 | M60: Koninklijke Marechaussee | N60: KMAR | O60: RVB-NW | P60: 5 | Q60: 1 | X60: Nader te bepalen | Z60: Nader te bepalen | AB60: Nader te bepalen | AC60: Nader te bepalen | AF60: Nader te bepalen | AH60: Nader te bepalen | AK60: 1 | AN60: Nader te bepalen | AO60: Nader te bepalen | AP60: Ja, vastgoedbeh. | AQ60: Nee
A61: 900134541 | B61: 36 | C61: Valbeveiliging | D61: 25D18 | E61: KONINGIN M┴XIMAKAZERNE | F61: =VLOOKUP(D61,Blad4!A:E,5,FALSE) -> Badhoevedorp | G61: =VLOOKUP(D61,Blad4!A:E,4,FALSE) -> 1171VK | H61: 005 | I61: Logistiek Gezondheidscentrum | J61: 2583 | M61: Koninklijke Marechaussee | N61: KMAR | O61: RVB-NW | P61: 6 | Q61: 1 | X61: Nader te bepalen | Z61: Nader te bepalen | AB61: Nader te bepalen | AC61: Nader te bepalen | AF61: Nader te bepalen | AH61: Gevelladder vast verankerd | AJ61: 1 | AN61: Nader te bepalen | AO61: Nader te bepalen | AP61: Ja, vastgoedbeh. | AQ61: Nee
A62: 900134542 | B62: 36 | C62: Valbeveiliging | D62: 25D18 | E62: KONINGIN M┴XIMAKAZERNE | F62: =VLOOKUP(D62,Blad4!A:E,5,FALSE) -> Badhoevedorp | G62: =VLOOKUP(D62,Blad4!A:E,4,FALSE) -> 1171VK | H62: 005 | I62: Logistiek Gezondheidscentrum | J62: 2583 | M62: Koninklijke Marechaussee | N62: KMAR | O62: RVB-NW | P62: 7 | Q62: 1 | X62: Nader te bepalen | Z62: Nader te bepalen | AB62: Nader te bepalen | AC62: Nader te bepalen | AF62: Nader te bepalen | AH62: Kooiladder vast verankerd | AJ62: 2 | AN62: Nader te bepalen | AO62: Nader te bepalen | AP62: Ja, vastgoedbeh. | AQ62: Nee
A63: 900134546 | B63: 36 | C63: Valbeveiliging | D63: 32D20 | E63: BERNHARDKAZERNE | F63: =VLOOKUP(D63,Blad4!A:E,5,FALSE) -> Amersfoort | G63: =VLOOKUP(D63,Blad4!A:E,4,FALSE) -> 3818LN | H63: A | I63: Kantoorgebouw | J63: 2642 | M63: Commando Landstrijdkrachten | N63: CLAS | O63: RVB-NW | P63: 1 | Q63: 1 | X63: Nader te bepalen | Z63: Nader te bepalen | AB63: Nader te bepalen | AC63: Nader te bepalen | AF63: Nader te bepalen | AH63: Nader te bepalen | AJ63: 1 | AN63: Nader te bepalen | AO63: Nader te bepalen | AP63: Ja, vastgoedbeh. | AQ63: Nee
A64: 900134547 | B64: 36 | C64: Valbeveiliging | D64: 25D18 | E64: KONINGIN M┴XIMAKAZERNE | F64: =VLOOKUP(D64,Blad4!A:E,5,FALSE) -> Badhoevedorp | G64: =VLOOKUP(D64,Blad4!A:E,4,FALSE) -> 1171VK | H64: 001 | I64: Kantoor en Legeringsgebouw | J64: 27390 | M64: Koninklijke Marechaussee | N64: KMAR | O64: RVB-NW | P64: 10 | Q64: 1 | X64: Nader te bepalen | Z64: Nader te bepalen | AB64: Nader te bepalen | AC64: Nader te bepalen | AF64: Nader te bepalen | AH64: Nader te bepalen | AJ64: 1 | AN64: Nader te bepalen | AO64: Nader te bepalen | AP64: Ja, vastgoedbeh. | AQ64: Nee
A65: 900134548 | B65: 36 | C65: Valbeveiliging | D65: 25D18 | E65: KONINGIN M┴XIMAKAZERNE | F65: =VLOOKUP(D65,Blad4!A:E,5,FALSE) -> Badhoevedorp | G65: =VLOOKUP(D65,Blad4!A:E,4,FALSE) -> 1171VK | H65: 001 | I65: Kantoor en Legeringsgebouw | J65: 27390 | M65: Koninklijke Marechaussee | N65: KMAR | O65: RVB-NW | P65: 9 | Q65: 1 | X65: Nader te bepalen | Z65: Nader te bepalen | AB65: Nader te bepalen | AC65: Nader te bepalen | AF65: Nader te bepalen | AH65: Nader te bepalen | AJ65: 1 | AN65: Nader te bepalen | AO65: Nader te bepalen | AP65: Ja, vastgoedbeh. | AQ65: Nee
A66: 900134622 | B66: 36 | C66: Valbeveiliging | D66: 49G01 | E66: VLIEGBASIS WOENSDRECHT | F66: =VLOOKUP(D66,Blad4!A:E,5,FALSE) -> Hoogerheide | G66: =VLOOKUP(D66,Blad4!A:E,4,FALSE) -> 4631SZ | H66: 109 | I66: Verkeerstoren , Tr12 | J66: 834 | M66: Commando Luchtstrijdkrachten | N66: CLSK | O66: RVB-Z | P66: 2 | Q66: 1 | R66: Eurosafe Solutions | S66: Latchways | U66: 2019 | V66: Marq Fence, neerklapbaar hekwerk, toegang via kooiladder | X66: Hekwerk los opgelegd | Y66: 23.5 | Z66: Nader te bepalen | AB66: Nader te bepalen | AC66: Nader te bepalen | AF66: Nader te bepalen | AH66: Kooiladder vast verankerd | AJ66: 2 | AN66: Nader te bepalen | AO66: Nader te bepalen | AP66: Ja, vastgoedbeh. | AQ66: Nee
A67: 900134817 | B67: 36 | C67: Valbeveiliging | D67: 45H03 | E67: VLIEGBASIS VOLKEL | F67: =VLOOKUP(D67,Blad4!A:E,5,FALSE) -> Volkel | G67: =VLOOKUP(D67,Blad4!A:E,4,FALSE) -> 5408SM | H67: 1117 | I67: Kantoor SCC , AFF , LMF | J67: 2319 | M67: Commando Luchtstrijdkrachten | N67: CLSK | O67: RVB-Z | P67: 1 | Q67: 1 | R67: Eurosafe | U67: 2020 | W67: 1 | X67: Nader te bepalen | Z67: Op- en afstapvoorziening | AA67: 1 | AB67: Nader te bepalen | AC67: Nader te bepalen | AF67: Ankerpunt op betonnen ondergrond | AG67: 10 | AH67: Ladderopstelplaats tbv losse ladder | AI67: 1 | AN67: Nader te bepalen | AO67: Looppadtegels op dakvlak | AP67: Ja, vastgoedbeh. | AQ67: Nee
A68: 900134835 | B68: 36 | C68: Valbeveiliging | D68: 49G01 | E68: VLIEGBASIS WOENSDRECHT | F68: =VLOOKUP(D68,Blad4!A:E,5,FALSE) -> Hoogerheide | G68: =VLOOKUP(D68,Blad4!A:E,4,FALSE) -> 4631SZ | H68: 306 | I68: Zendertoren | J68: 33 | M68: Commando Luchtstrijdkrachten | N68: CLSK | O68: RVB-Z | P68: 1 | Q68: 1 | R68: Soll | S68: Vi-Go | T68: Kabels van 28M (3), 4M (3) en 6M (4) | U68: 2019 | V68: 10 gevelladders met 4 zelfsluitende poorten | X68: Nader te bepalen | Z68: Deur | AA68: 1 | AB68: Nader te bepalen | AC68: Lijnbeveiliging op betonnen ondergrond | AD68: 10 | AE68: 120 | AF68: Nader te bepalen | AH68: Gevelladder vast verankerd | AI68: 4 | AK68: 10 | AN68: Nader te bepalen | AO68: Dakplan | AP68: Ja, vastgoedbeh. | AQ68: Nee
A69: 900134976 | B69: 36 | C69: Valbeveiliging | D69: 51B12 | E69: GENM DE R V S KAZERNE | F69: =VLOOKUP(D69,Blad4!A:E,5,FALSE) -> Oirschot | G69: =VLOOKUP(D69,Blad4!A:E,4,FALSE) -> 5688GN | H69: 142 | I69: Sportgebouw | J69: 2491 | M69: Commando Landstrijdkrachten | N69: CLAS | O69: RVB-Z | P69: 1 | Q69: 1 | R69: Marq Fence | S69: Neerklapbaar hekwerk | U69: 2020 | V69: 19 stuks staander | W69: 5 | X69: Hekwerk los opgelegd | Y69: 64 | Z69: Nader te bepalen | AB69: Nader te bepalen | AC69: Nader te bepalen | AF69: Nader te bepalen | AH69: Nader te bepalen | AN69: Nader te bepalen | AO69: Nader te bepalen | AP69: Ja, vastgoedbeh. | AQ69: Nee
A70: 900134977 | B70: 36 | C70: Valbeveiliging | D70: 51B12 | E70: GENM DE R V S KAZERNE | F70: =VLOOKUP(D70,Blad4!A:E,5,FALSE) -> Oirschot | G70: =VLOOKUP(D70,Blad4!A:E,4,FALSE) -> 5688GN | H70: 250 | I70: Kantoorgebouw | J70: 2862 | M70: Commando Landstrijdkrachten | N70: CLAS | O70: RVB-Z | P70: 1 | Q70: 1 | R70: Marq Fence | S70: Neerklapbaar hekwerk | U70: 2020 | V70: 53 suks staander | W70: 3 | X70: Hekwerk los opgelegd | Y70: 189 | Z70: Luik | AA70: 1 | AB70: Nader te bepalen | AC70: Nader te bepalen | AF70: Nader te bepalen | AH70: Vlizotrap | AN70: Nader te bepalen | AO70: Doorvalbeveiliging | AP70: Ja, vastgoedbeh. | AQ70: Nee
A71: 900134978 | B71: 36 | C71: Valbeveiliging | D71: 51B12 | E71: GENM DE R V S KAZERNE | F71: =VLOOKUP(D71,Blad4!A:E,5,FALSE) -> Oirschot | G71: =VLOOKUP(D71,Blad4!A:E,4,FALSE) -> 5688GN | H71: 542 | I71: Werkplaats | J71: 3218 | M71: Commando Landstrijdkrachten | N71: CLAS | O71: RVB-Z | P71: 1 | Q71: 1 | R71: Marq Fence | S71: neerklapbaar hekwerk | U71: 2020 | V71: 19 stuks staander | W71: 3 | X71: Hekwerk los opgelegd | Y71: 59 | Z71: Luik | AA71: 1 | AB71: Nader te bepalen | AC71: Nader te bepalen | AF71: Nader te bepalen | AH71: Nader te bepalen | AN71: Nader te bepalen | AO71: Looppadroosters op dakvlak | AP71: Ja, vastgoedbeh. | AQ71: Nee
A72: 900134979 | B72: 36 | C72: Valbeveiliging | D72: 51B12 | E72: GENM DE R V S KAZERNE | F72: =VLOOKUP(D72,Blad4!A:E,5,FALSE) -> Oirschot | G72: =VLOOKUP(D72,Blad4!A:E,4,FALSE) -> 5688GN | H72: 243 | I72: Kantoorgebouw | J72: 493 | M72: Commando Landstrijdkrachten | N72: CLAS | O72: RVB-Z | P72: 1 | Q72: 1 | R72: Marq Fence | V72: 39 stuks staander | X72: Hekwerk los opgelegd | Y72: 111 | Z72: Nader te bepalen | AB72: Nader te bepalen | AC72: Nader te bepalen | AF72: Nader te bepalen | AH72: Ladderopstelplaats tbv losse ladder | AK72: 1 | AN72: Nader te bepalen | AO72: Looppadtegels op dakvlak | AP72: Ja, vastgoedbeh. | AQ72: Nee
A73: 900134980 | B73: 36 | C73: Valbeveiliging | D73: 51B12 | E73: GENM DE R V S KAZERNE | F73: =VLOOKUP(D73,Blad4!A:E,5,FALSE) -> Oirschot | G73: =VLOOKUP(D73,Blad4!A:E,4,FALSE) -> 5688GN | H73: 251 | I73: Lesgebouw | J73: 3750 | M73: Commando Landstrijdkrachten | N73: CLAS | O73: RVB-Z | P73: 2 | Q73: 1 | R73: Marq Fence | S73: neerklapbaar hekwerk | U73: 2020 | V73: 63 stuks staander | W73: 2 | X73: Hekwerk los opgelegd | Y73: 200 | Z73: Luik | AA73: 1 | AB73: Nader te bepalen | AC73: Nader te bepalen | AF73: Nader te bepalen | AH73: Vlizotrap | AM73: 1 | AN73: Nader te bepalen | AO73: Doorvalbeveiliging | AP73: Ja, vastgoedbeh. | AQ73: Nee
A74: 900134981 | B74: 36 | C74: Valbeveiliging | D74: 51B12 | E74: GENM DE R V S KAZERNE | F74: =VLOOKUP(D74,Blad4!A:E,5,FALSE) -> Oirschot | G74: =VLOOKUP(D74,Blad4!A:E,4,FALSE) -> 5688GN | H74: 550 | I74: Werkplaats | J74: 3131 | M74: Commando Landstrijdkrachten | N74: CLAS | O74: RVB-Z | P74: 1 | Q74: 1 | R74: Marq Fence | S74: neerklapbaar hekwerk | U74: 2020 | V74: 17 stuks staander | W74: 3 | X74: Hekwerk los opgelegd | Y74: 59 | Z74: Luik | AA74: 1 | AB74: Nader te bepalen | AC74: Nader te bepalen | AF74: Nader te bepalen | AH74: Nader te bepalen | AN74: Nader te bepalen | AO74: Doorvalbeveiliging | AP74: Ja, vastgoedbeh. | AQ74: Nee
A75: 900134982 | B75: 36 | C75: Valbeveiliging | D75: 51B12 | E75: GENM DE R V S KAZERNE | F75: =VLOOKUP(D75,Blad4!A:E,5,FALSE) -> Oirschot | G75: =VLOOKUP(D75,Blad4!A:E,4,FALSE) -> 5688GN | H75: 246 | I75: Kantoorgebouw | J75: 445 | M75: Commando Landstrijdkrachten | N75: CLAS | O75: RVB-Z | P75: 1 | Q75: 1 | R75: Marq Fence | S75: neerklapbaar hekwerk | U75: 2020 | V75: 34 stuks staander | W75: 1 | X75: Hekwerk los opgelegd | Y75: 107 | Z75: Nader te bepalen | AB75: Nader te bepalen | AC75: Nader te bepalen | AF75: Nader te bepalen | AH75: Ladderopstelplaats tbv losse ladder | AI75: 1 | AN75: Nader te bepalen | AO75: Looppadtegels op dakvlak | AP75: Ja, vastgoedbeh. | AQ75: Nee
A76: 900134983 | B76: 36 | C76: Valbeveiliging | D76: 51B12 | E76: GENM DE R V S KAZERNE | F76: =VLOOKUP(D76,Blad4!A:E,5,FALSE) -> Oirschot | G76: =VLOOKUP(D76,Blad4!A:E,4,FALSE) -> 5688GN | H76: 258 | I76: Werkplaats | J76: 3170 | M76: Commando Landstrijdkrachten | N76: CLAS | O76: RVB-Z | P76: 1 | Q76: 1 | R76: Marq Fence | S76: Neerklapbaar hekwerk | U76: 2020 | V76: 4 stuks staander | W76: 2 | X76: Hekwerk los opgelegd | Y76: 12 | Z76: Luik | AA76: 1 | AB76: Nader te bepalen | AC76: Nader te bepalen | AF76: Nader te bepalen | AH76: Nader te bepalen | AN76: Nader te bepalen | AO76: Doorvalbeveiliging | AP76: Ja, vastgoedbeh. | AQ76: Nee
A77: 900134984 | B77: 36 | C77: Valbeveiliging | D77: 51B12 | E77: GENM DE R V S KAZERNE | F77: =VLOOKUP(D77,Blad4!A:E,5,FALSE) -> Oirschot | G77: =VLOOKUP(D77,Blad4!A:E,4,FALSE) -> 5688GN | H77: 328A | I77: Stalling , Overkapping | J77: 73 | M77: Commando Landstrijdkrachten | N77: CLAS | O77: RVB-Z | P77: 1 | Q77: 1 | R77: Marq Fence | S77: Neerklapbaar hekwerk | U77: 2020 | V77: 40 stuks staander | X77: Hekwerk los opgelegd | Y77: 130 | Z77: Combinatie diverse daktoegangen | AB77: Nader te bepalen | AC77: Nader te bepalen | AF77: Nader te bepalen | AH77: Ladderopstelplaats tbv losse ladder | AI77: 1 | AN77: Nader te bepalen | AO77: Doorvalbeveiliging | AP77: Ja, vastgoedbeh. | AQ77: Nee
A78: 900134985 | B78: 36 | C78: Valbeveiliging | D78: 51B12 | E78: GENM DE R V S KAZERNE | F78: =VLOOKUP(D78,Blad4!A:E,5,FALSE) -> Oirschot | G78: =VLOOKUP(D78,Blad4!A:E,4,FALSE) -> 5688GN | H78: 248 | I78: Legeringsgebouw , Kantoorgebouw | J78: 2862 | M78: Commando Landstrijdkrachten | N78: CLAS | O78: RVB-Z | P78: 1 | Q78: 1 | R78: Marq Fence | S78: Neerklapbaar hekwerk | U78: 2020 | V78: 71 stuks staander | X78: Nader te bepalen | Y78: 189 | Z78: Luik | AB78: Nader te bepalen | AC78: Nader te bepalen | AF78: Nader te bepalen | AH78: Nader te bepalen | AN78: Nader te bepalen | AO78: Doorvalbeveiliging | AP78: Ja, vastgoedbeh. | AQ78: Nee
A79: 900134986 | B79: 36 | C79: Valbeveiliging | D79: 51B12 | E79: GENM DE R V S KAZERNE | F79: =VLOOKUP(D79,Blad4!A:E,5,FALSE) -> Oirschot | G79: =VLOOKUP(D79,Blad4!A:E,4,FALSE) -> 5688GN | H79: 520 | I79: Sporthal | J79: 2526 | M79: Commando Landstrijdkrachten | N79: CLAS | O79: RVB-Z | P79: 1 | Q79: 1 | R79: Marq Fence | S79: Neerklapbaar hekwerk | U79: 2020 | V79: 46 stuks staander | W79: 2 | X79: Hekwerk los opgelegd | Y79: 170 | Z79: Nader te bepalen | AB79: Nader te bepalen | AC79: Nader te bepalen | AF79: Nader te bepalen | AH79: Nader te bepalen | AN79: Nader te bepalen | AO79: Nader te bepalen | AP79: Ja, vastgoedbeh. | AQ79: Nee
A80: 900134987 | B80: 36 | C80: Valbeveiliging | D80: 51B12 | E80: GENM DE R V S KAZERNE | F80: =VLOOKUP(D80,Blad4!A:E,5,FALSE) -> Oirschot | G80: =VLOOKUP(D80,Blad4!A:E,4,FALSE) -> 5688GN | H80: W | I80: Wachtgebouw | J80: 347 | M80: Commando Landstrijdkrachten | N80: CLAS | O80: RVB-Z | P80: 1 | Q80: 1 | R80: Marq Fence | S80: Neerklapbar hekwerk | U80: 2020 | V80: 30 stuks staander | X80: Nader te bepalen | Y80: 71 | Z80: Nader te bepalen | AB80: Nader te bepalen | AC80: Nader te bepalen | AF80: Nader te bepalen | AH80: Ladderopstelplaats tbv losse ladder | AI80: 1 | AN80: Nader te bepalen | AO80: Looppadtegels op dakvlak | AP80: Ja, vastgoedbeh. | AQ80: Nee
A81: 900134988 | B81: 36 | C81: Valbeveiliging | D81: 51B12 | E81: GENM DE R V S KAZERNE | F81: =VLOOKUP(D81,Blad4!A:E,5,FALSE) -> Oirschot | G81: =VLOOKUP(D81,Blad4!A:E,4,FALSE) -> 5688GN | H81: 522 | I81: Bedrijfsgebouw | J81: 6292 | M81: Commando Landstrijdkrachten | N81: CLAS | O81: RVB-Z | P81: 1 | Q81: 1 | R81: Marq Fence | S81: Neerklapbaar hekwerk | U81: 2020 | V81: 19 stuks staander | X81: Hekwerk los opgelegd | Y81: 72 | Z81: Luik | AA81: 2 | AB81: Nader te bepalen | AC81: Nader te bepalen | AF81: Nader te bepalen | AH81: Nader te bepalen | AN81: Nader te bepalen | AO81: Doorvalbeveiliging | AP81: Ja, vastgoedbeh. | AQ81: Nee
A82: 900134989 | B82: 36 | C82: Valbeveiliging | D82: 51B12 | E82: GENM DE R V S KAZERNE | F82: =VLOOKUP(D82,Blad4!A:E,5,FALSE) -> Oirschot | G82: =VLOOKUP(D82,Blad4!A:E,4,FALSE) -> 5688GN | H82: 230 | I82: Kantoorgebouw | J82: 2807 | M82: Commando Landstrijdkrachten | N82: CLAS | O82: RVB-Z | P82: 1 | Q82: 1 | R82: Marq fence | S82: neerklapbaar hekwerk | U82: 2019 | V82: 81 staanders | W82: 4 | X82: Hekwerk los opgelegd | Y82: 178 | Z82: Nader te bepalen | AA82: 1 | AB82: Nader te bepalen | AC82: Nader te bepalen | AF82: Nader te bepalen | AH82: Kooiladder los opgelegd | AJ82: 1 | AN82: Nader te bepalen | AO82: Nader te bepalen | AP82: Ja, vastgoedbeh. | AQ82: Nee
A83: 900134992 | B83: 36 | C83: Valbeveiliging | D83: 14B46 | E83: MVK DE KOOY | F83: =VLOOKUP(D83,Blad4!A:E,5,FALSE) -> Den Helder | G83: =VLOOKUP(D83,Blad4!A:E,4,FALSE) -> 1786PT | H83: 048 | I83: Gemini | J83: 432 | M83: Commando Luchtstrijdkrachten | N83: CLSK | O83: RVB-NW | P83: 1 | Q83: 1 | R83: Marq Fence | S83: neerklapbaar hekwerk | U83: 2020 | V83: 34 staanders | W83: 1 | X83: Hekwerk los opgelegd | Y83: 90 | Z83: Nader te bepalen | AA83: 1 | AB83: Gebiedsmarkering | AC83: Nader te bepalen | AF83: Nader te bepalen | AH83: Gevelladder los opgelegd | AI83: 1 | AK83: 1 | AN83: Nader te bepalen | AO83: Geen | AP83: Ja, vastgoedbeh. | AQ83: Nee
A84: 900134993 | B84: 36 | C84: Valbeveiliging | D84: 14B46 | E84: MVK DE KOOY | F84: =VLOOKUP(D84,Blad4!A:E,5,FALSE) -> Den Helder | G84: =VLOOKUP(D84,Blad4!A:E,4,FALSE) -> 1786PT | H84: 070 | I84: Hangar B-8 | J84: 3658 | M84: Commando Luchtstrijdkrachten | N84: CLSK | O84: RVB-NW | P84: 1 | Q84: 1 | R84: Marq Fence | S84: Neerklapbaar hekwerk | U84: 2020 | W84: 4 | X84: Hekwerk los opgelegd | Y84: 90 | Z84: Luik | AA84: 2 | AB84: Fysieke afscheiding | AC84: Nader te bepalen | AF84: Nader te bepalen | AH84: Kooiladder los opgelegd | AI84: 1 | AJ84: 1 | AN84: Nader te bepalen | AO84: Doorvalbeveiliging | AP84: Ja, vastgoedbeh. | AQ84: Nee
A85: 900134995 | B85: 36 | C85: Valbeveiliging | D85: 14B46 | E85: MVK DE KOOY | F85: =VLOOKUP(D85,Blad4!A:E,5,FALSE) -> Den Helder | G85: =VLOOKUP(D85,Blad4!A:E,4,FALSE) -> 1786PT | H85: 138 | I85: Hangar NH90 | J85: 2650 | M85: Commando Luchtstrijdkrachten | N85: CLSK | O85: RVB-NW | P85: 1 | Q85: 1 | R85: Marq Fence | S85: Neerklapbaar hekwerk | U85: 2020 | W85: 8 | X85: Hekwerk los opgelegd | Y85: 348 | Z85: Luik | AA85: 1 | AB85: Gebiedsmarkering | AC85: Nader te bepalen | AF85: Nader te bepalen | AH85: Nader te bepalen | AN85: Nader te bepalen | AO85: Doorvalbeveiliging | AP85: Ja, vastgoedbeh. | AQ85: Nee
A86: 900134996 | B86: 36 | C86: Valbeveiliging | D86: 51B12 | E86: GENM DE R V S KAZERNE | F86: =VLOOKUP(D86,Blad4!A:E,5,FALSE) -> Oirschot | G86: =VLOOKUP(D86,Blad4!A:E,4,FALSE) -> 5688GN | H86: 266 | I86: Wapenkamer | J86: 1610 | M86: Commando Landstrijdkrachten | N86: CLAS | O86: RVB-Z | P86: 1 | Q86: 1 | R86: Marq Fence | S86: neerklapbaar | U86: 2019 | V86: 76 staanders | W86: 1 | X86: Hekwerk los opgelegd | Y86: 179 | Z86: Nader te bepalen | AB86: Nader te bepalen | AC86: Nader te bepalen | AF86: Nader te bepalen | AH86: Ladderopstelplaats tbv losse ladder | AI86: 1 | AN86: Nader te bepalen | AO86: Nader te bepalen | AP86: Ja, vastgoedbeh. | AQ86: Nee
A87: 900134997 | B87: 36 | C87: Valbeveiliging | D87: 51B12 | E87: GENM DE R V S KAZERNE | F87: =VLOOKUP(D87,Blad4!A:E,5,FALSE) -> Oirschot | G87: =VLOOKUP(D87,Blad4!A:E,4,FALSE) -> 5688GN | H87: 268 | I87: Legeringsgebouw | J87: 2104 | M87: Commando Landstrijdkrachten | N87: CLAS | O87: RVB-Z | P87: 1 | Q87: 1 | R87: Marq Fence | S87: neerklapbaar | V87: 78 staanders | W87: 2 | X87: Hekwerk los opgelegd | Y87: 170 | Z87: Nader te bepalen | AB87: Nader te bepalen | AC87: Nader te bepalen | AF87: Nader te bepalen | AH87: Kooiladder los opgelegd | AJ87: 1 | AN87: Nader te bepalen | AO87: Nader te bepalen | AP87: Ja, vastgoedbeh. | AQ87: Nee
A88: 900134998 | B88: 36 | C88: Valbeveiliging | D88: 51B12 | E88: GENM DE R V S KAZERNE | F88: =VLOOKUP(D88,Blad4!A:E,5,FALSE) -> Oirschot | G88: =VLOOKUP(D88,Blad4!A:E,4,FALSE) -> 5688GN | H88: S1 | I88: Kantine , Schijvenloods CA | J88: 483 | M88: Commando Landstrijdkrachten | N88: CLAS | O88: RVB-Z | P88: 1 | Q88: 1 | R88: Marq Fence | S88: neerklapbaar | U88: 2019 | V88: 65 staanders | W88: 3 | X88: Hekwerk los opgelegd | Y88: 142 | Z88: Op- en afstapvoorziening | AA88: 1 | AB88: Nader te bepalen | AC88: Nader te bepalen | AF88: Nader te bepalen | AH88: Nader te bepalen | AI88: 1 | AK88: 2 | AN88: Nader te bepalen | AO88: Nader te bepalen | AP88: Ja, vastgoedbeh. | AQ88: Nee
A89: 900135092 | B89: 36 | C89: Valbeveiliging | D89: 26H23 | E89: LEGERPLAATS ERMELO | F89: =VLOOKUP(D89,Blad4!A:E,5,FALSE) -> Ermelo | G89: =VLOOKUP(D89,Blad4!A:E,4,FALSE) -> 3852AV | H89: 544 | I89: Medisch Centrum | J89: 1334 | M89: Commando Landstrijdkrachten | N89: CLAS | O89: RVB-O | P89: 1 | Q89: 1 | R89: Latch Ways Mansafe | S89: Constant Force | T89: Dak | U89: 2019 | V89: RIE opstelling mobiele ladder met ophangbeugel | X89: Nader te bepalen | Y89: 12 | Z89: Nader te bepalen | AB89: Nader te bepalen | AC89: Nader te bepalen | AD89: 32 | AE89: 184 | AF89: Nader te bepalen | AH89: Nader te bepalen | AN89: Nader te bepalen | AO89: Nader te bepalen | AP89: Ja, vastgoedbeh. | AQ89: Nee
A90: 900135191 | B90: 36 | C90: Valbeveiliging | D90: 33B18 | E90: KONING WILLEM III KAZERNE | F90: =VLOOKUP(D90,Blad4!A:E,5,FALSE) -> Apeldoorn | G90: =VLOOKUP(D90,Blad4!A:E,4,FALSE) -> 7312TG | H90: 150 | I90: Lesgebouw | J90: 16094 | M90: Koninklijke Marechaussee | N90: KMAR | O90: RVB-O | P90: 1 | Q90: 1 | R90: Eurosafe | S90: PRJ90028599 | T90: dak | U90: 2020 | X90: Hekwerk los opgelegd | Y90: 10 | Z90: Luik | AA90: 1 | AB90: Gebiedsmarkering | AC90: Lijnbeveiliging op betonnen ondergrond | AD90: 50 | AE90: 200 | AF90: Ankerpunt op betonnen ondergrond | AG90: 15 | AH90: Nader te bepalen | AI90: 2 | AN90: Nader te bepalen | AO90: Nader te bepalen | AP90: Ja, vastgoedbeh. | AQ90: Nee
A91: 900135255 | B91: 36 | C91: Valbeveiliging | D91: 32C35 | E91: CAMP NEW AMSTERDAM | F91: =VLOOKUP(D91,Blad4!A:E,5,FALSE) -> Huis ter Heide | G91: =VLOOKUP(D91,Blad4!A:E,4,FALSE) -> 3712BR | H91: A101 | I91: Kantoorgebouw | J91: 2850 | M91: Defensie Ondersteuningscommando | N91: DOSCO | O91: RVB-NW | P91: 1 | Q91: 1 | R91: Marq | U91: 2020 | W91: 2 | X91: Nader te bepalen | Y91: 4 | Z91: Nader te bepalen | AA91: 1 | AB91: Nader te bepalen | AC91: Nader te bepalen | AD91: 3 | AE91: 152 | AF91: Nader te bepalen | AG91: 48 | AH91: Nader te bepalen | AJ91: 1 | AL91: 1 | AN91: Harnas | AO91: Nader te bepalen | AP91: Ja, vastgoedbeh. | AQ91: Nee
A92: 900135444 | B92: 36 | C92: Valbeveiliging | D92: 31F11 | E92: KORPORAAL V OUDHEUSDENKAZERNE | F92: =VLOOKUP(D92,Blad4!A:E,5,FALSE) -> Hilversum | G92: =VLOOKUP(D92,Blad4!A:E,4,FALSE) -> 1213PW | H92: 13 | I92: Tetrode | J92: 2453 | M92: Defensie Ondersteuningscommando | N92: DOSCO | O92: RVB-NW | P92: 1 | Q92: 1 | U92: 1900 | V92: klimh 2.7m Constr bevestiging roestig los / klimh. 3,7m | X92: Nader te bepalen | Z92: Nader te bepalen | AB92: Nader te bepalen | AC92: Nader te bepalen | AF92: Nader te bepalen | AH92: Nader te bepalen | AJ92: 2 | AN92: Nader te bepalen | AO92: Nader te bepalen | AP92: Ja, vastgoedbeh. | AQ92: Nee
A93: 900135465 | B93: 36 | C93: Valbeveiliging | D93: 32C04 | E93: DU MOULINKAZERNE | F93: =VLOOKUP(D93,Blad4!A:E,5,FALSE) -> Soesterberg | G93: =VLOOKUP(D93,Blad4!A:E,4,FALSE) -> 3769AP | H93: D30 | I93: Legeringsgebouw Onderofficieren | J93: 1165 | M93: Commando Landstrijdkrachten | N93: CLAS | O93: RVB-NW | P93: 1 | Q93: 1 | U93: 1900 | V93: klimhoogte 8,88m. Constr. bevestiging losgekomen | X93: Nader te bepalen | Z93: Nader te bepalen | AB93: Nader te bepalen | AC93: Nader te bepalen | AF93: Nader te bepalen | AH93: Nader te bepalen | AJ93: 1 | AN93: Nader te bepalen | AO93: Nader te bepalen | AP93: Ja, vastgoedbeh. | AQ93: Nee
A94: 900135466 | B94: 36 | C94: Valbeveiliging | D94: 32C04 | E94: DU MOULINKAZERNE | F94: =VLOOKUP(D94,Blad4!A:E,5,FALSE) -> Soesterberg | G94: =VLOOKUP(D94,Blad4!A:E,4,FALSE) -> 3769AP | H94: D5 | I94: Keuken , Eetzaal | J94: 3125 | M94: Commando Landstrijdkrachten | N94: CLAS | O94: RVB-NW | P94: 1 | Q94: 1 | U94: 1900 | V94: klimhoogte 1,5m. Constr. bevestiging Steens muur | X94: Nader te bepalen | Z94: Nader te bepalen | AB94: Nader te bepalen | AC94: Nader te bepalen | AF94: Nader te bepalen | AH94: Nader te bepalen | AJ94: 1 | AN94: Nader te bepalen | AO94: Nader te bepalen | AP94: Ja, vastgoedbeh. | AQ94: Nee
A95: 900135467 | B95: 36 | C95: Valbeveiliging | D95: 32C04 | E95: DU MOULINKAZERNE | F95: =VLOOKUP(D95,Blad4!A:E,5,FALSE) -> Soesterberg | G95: =VLOOKUP(D95,Blad4!A:E,4,FALSE) -> 3769AP | H95: D12 | I95: Bureelgebouw | J95: 1248 | M95: Commando Landstrijdkrachten | N95: CLAS | O95: RVB-NW | P95: 1 | Q95: 1 | U95: 1900 | V95: klimhoogte 10m. Constr. bevestiging Steens muur | X95: Nader te bepalen | Z95: Nader te bepalen | AB95: Nader te bepalen | AC95: Nader te bepalen | AF95: Nader te bepalen | AH95: Nader te bepalen | AJ95: 1 | AN95: Nader te bepalen | AO95: Nader te bepalen | AP95: Ja, vastgoedbeh. | AQ95: Nee
A96: 900135468 | B96: 36 | C96: Valbeveiliging | D96: 39B01 | E96: MRC AARDENBURG | F96: =VLOOKUP(D96,Blad4!A:E,5,FALSE) -> Doorn | G96: =VLOOKUP(D96,Blad4!A:E,4,FALSE) -> 3941PW | H96: 30 | I96: Werkplaats , Orthopedie | J96: 874 | M96: Defensie Ondersteuningscommando | N96: DOSCO | O96: RVB-NW | P96: 1 | Q96: 1 | U96: 1900 | V96: klimhoogte 3,90m. Constr. Bevestiging Steens muur/trespa | X96: Nader te bepalen | Z96: Nader te bepalen | AB96: Nader te bepalen | AC96: Nader te bepalen | AF96: Nader te bepalen | AH96: Nader te bepalen | AJ96: 1 | AN96: Nader te bepalen | AO96: Nader te bepalen | AP96: Ja, vastgoedbeh. | AQ96: Nee
A97: 900135469 | B97: 36 | C97: Valbeveiliging | D97: 32C35 | E97: CAMP NEW AMSTERDAM | F97: =VLOOKUP(D97,Blad4!A:E,5,FALSE) -> Huis ter Heide | G97: =VLOOKUP(D97,Blad4!A:E,4,FALSE) -> 3712BR | H97: A27 | I97: Kantoorgebouw | J97: 1018 | M97: Defensie Ondersteuningscommando | N97: DOSCO | O97: RVB-NW | P97: 1 | Q97: 1 | U97: 1900 | V97: klimhoogte 6,8m / klimhoogte 3,05m | X97: Nader te bepalen | Z97: Nader te bepalen | AB97: Nader te bepalen | AC97: Nader te bepalen | AF97: Nader te bepalen | AH97: Nader te bepalen | AJ97: 2 | AK97: 1 | AN97: Nader te bepalen | AO97: Nader te bepalen | AP97: Ja, vastgoedbeh. | AQ97: Nee
A98: 900135470 | B98: 36 | C98: Valbeveiliging | D98: 32C35 | E98: CAMP NEW AMSTERDAM | F98: =VLOOKUP(D98,Blad4!A:E,5,FALSE) -> Huis ter Heide | G98: =VLOOKUP(D98,Blad4!A:E,4,FALSE) -> 3712BR | H98: A44D | I98: Huisvesting IVENT | J98: 2777 | M98: Defensie Ondersteuningscommando | N98: DOSCO | O98: RVB-NW | P98: 1 | Q98: 1 | U98: 1900 | V98: klimhoogte 3m | X98: Nader te bepalen | Z98: Nader te bepalen | AB98: Nader te bepalen | AC98: Nader te bepalen | AF98: Nader te bepalen | AH98: Nader te bepalen | AJ98: 1 | AN98: Nader te bepalen | AO98: Nader te bepalen | AP98: Ja, vastgoedbeh. | AQ98: Nee
A99: 900135471 | B99: 36 | C99: Valbeveiliging | D99: 32D20 | E99: BERNHARDKAZERNE | F99: =VLOOKUP(D99,Blad4!A:E,5,FALSE) -> Amersfoort | G99: =VLOOKUP(D99,Blad4!A:E,4,FALSE) -> 3818LN | H99: V | I99: Legeringsgebouw | J99: 2912 | M99: Commando Landstrijdkrachten | N99: CLAS | O99: RVB-NW | P99: 1 | Q99: 1 | U99: 1900 | V99: klimhoogte 5,83m / klimhoogte 6,16m | X99: Nader te bepalen | Z99: Nader te bepalen | AB99: Nader te bepalen | AC99: Nader te bepalen | AF99: Nader te bepalen | AH99: Nader te bepalen | AJ99: 2 | AN99: Nader te bepalen | AO99: Nader te bepalen | AP99: Ja, vastgoedbeh. | AQ99: Nee
A100: 900135472 | B100: 36 | C100: Valbeveiliging | D100: 32D20 | E100: BERNHARDKAZERNE | F100: =VLOOKUP(D100,Blad4!A:E,5,FALSE) -> Amersfoort | G100: =VLOOKUP(D100,Blad4!A:E,4,FALSE) -> 3818LN | H100: W | I100: Kantoorgebouw | J100: 2270 | M100: Commando Landstrijdkrachten | N100: CLAS | O100: RVB-NW | P100: 1 | Q100: 1 | U100: 1900 | V100: klimhoogte 6,03m | X100: Nader te bepalen | Z100: Nader te bepalen | AB100: Nader te bepalen | AC100: Nader te bepalen | AF100: Nader te bepalen | AH100: Nader te bepalen | AJ100: 1 | AN100: Nader te bepalen | AO100: Nader te bepalen | AP100: Ja, vastgoedbeh. | AQ100: Nee
...

Sheet Nog niet geregistreerd
A1: ComponentID | B1: ComponentSoortID | C1: Object | D1: Objectnaam | E1: Plaats | F1: Postcode | G1: Gebouw | H1: Gebouwnaam | I1: BVO | J1: Aantal
D3: Regio Midden
A5: 900094354 | B5: 36 | C5: 09B50 | D5: JOOST DOURLEINKAZERNE | E5: =VLOOKUP(C5,Blad4!A:E,5,FALSE) -> Den Hoorn | F5: =VLOOKUP(C5,Blad4!A:E,4,FALSE) -> 1797SB | G5: 022 | H5: EMV MKERF | I5: 306 | J5: 1
A6: 900094353 | B6: 36 | C6: 09B50 | D6: JOOST DOURLEINKAZERNE | E6: =VLOOKUP(C6,Blad4!A:E,5,FALSE) -> Den Hoorn | F6: =VLOOKUP(C6,Blad4!A:E,4,FALSE) -> 1797SB | G6: 036 | H6: Amphitrite | I6: 3683 | J6: 1
A7: 900097486 | B7: 36 | C7: 09D04 | D7: FORT HARSSENS | E7: =VLOOKUP(C7,Blad4!A:E,5,FALSE) -> Den Helder | F7: =VLOOKUP(C7,Blad4!A:E,4,FALSE) -> 1781AT | G7: A001 | H7: Marineclub | I7: 1699 | J7: 1
A8: 900104891 | B8: 36 | C8: 09D04 | D8: FORT HARSSENS | E8: =VLOOKUP(C8,Blad4!A:E,5,FALSE) -> Den Helder | F8: =VLOOKUP(C8,Blad4!A:E,4,FALSE) -> 1781AT | G8: D002 | H8: Havendienst | I8: 996 | J8: 1
A9: 900103984 | B9: 36 | C9: 09D24 | D9: DVD DIENSTKRING DEN HELDER | E9: =VLOOKUP(C9,Blad4!A:E,5,FALSE) -> Den Helder | F9: =VLOOKUP(C9,Blad4!A:E,4,FALSE) -> 1782AZ | G9: 1 | H9: Dienstkringgebouw | I9: 1202 | J9: 1
A10: 900094360 | B10: 36 | C10: 14B03 | D10: COMPLEX NIEUWE HAVEN | E10: =VLOOKUP(C10,Blad4!A:E,5,FALSE) -> Den Helder | F10: =VLOOKUP(C10,Blad4!A:E,4,FALSE) -> 1781AD | G10: D470 | H10: Materieelsgroep Casco 2 | I10: 10334 | J10: 1
A11: 900113788 | B11: 36 | C11: 14B03 | D11: COMPLEX NIEUWE HAVEN | E11: =VLOOKUP(C11,Blad4!A:E,5,FALSE) -> Den Helder | F11: =VLOOKUP(C11,Blad4!A:E,4,FALSE) -> 1781AD | G11: E015 | H11: Zeearend (NLBEOPS) | I11: 13228 | J11: 1
A12: 900105142 | B12: 36 | C12: 14B03 | D12: COMPLEX NIEUWE HAVEN | E12: =VLOOKUP(C12,Blad4!A:E,5,FALSE) -> Den Helder | F12: =VLOOKUP(C12,Blad4!A:E,4,FALSE) -> 1781AD | G12: N002 | H12: Werkplaatsen B en O | I12: 16396 | J12: 1
A13: 900104039 | B13: 36 | C13: 14B03 | D13: COMPLEX NIEUWE HAVEN | E13: =VLOOKUP(C13,Blad4!A:E,5,FALSE) -> Den Helder | F13: =VLOOKUP(C13,Blad4!A:E,4,FALSE) -> 1781AD | G13: N003 | H13: Noorderkroon | I13: 19578 | J13: 1
A14: 900091809 | B14: 36 | C14: 14B03 | D14: COMPLEX NIEUWE HAVEN | E14: =VLOOKUP(C14,Blad4!A:E,5,FALSE) -> Den Helder | F14: =VLOOKUP(C14,Blad4!A:E,4,FALSE) -> 1781AD | G14: R009 | H14: Spotmeeuw | I14: 1929 | J14: 1
A15: 900091810 | B15: 36 | C15: 14B03 | D15: COMPLEX NIEUWE HAVEN | E15: =VLOOKUP(C15,Blad4!A:E,5,FALSE) -> Den Helder | F15: =VLOOKUP(C15,Blad4!A:E,4,FALSE) -> 1781AD | G15: R010 | H15: Spotmeeuw | I15: 1264 | J15: 1
A16: 900097487 | B16: 36 | C16: 14B03 | D16: COMPLEX NIEUWE HAVEN | E16: =VLOOKUP(C16,Blad4!A:E,5,FALSE) -> Den Helder | F16: =VLOOKUP(C16,Blad4!A:E,4,FALSE) -> 1781AD | G16: R015 | H16: Mantelmeeuw | I16: 4217 | J16: 1
... A20: 900091625 | B20: 36 | C20: 14B03 | D20: COMPLEX NIEUWE HAVEN | E20: =VLOOKUP(C20,Blad4!A:E,5,FALSE) -> Den Helder | F20: =VLOOKUP(C20,Blad4!A:E,4,FALSE) -> 1781AD | G20: W001A | H20: Energiegebouw | I20: 238 | J20: 1
B21: 36 | C21: 14B33 | D21: MARINE KAZERNE ERFPRINS | E21: =VLOOKUP(C21,Blad4!A:E,5,FALSE) -> Den Helder | F21: =VLOOKUP(C21,Blad4!A:E,4,FALSE) -> 1782TG | G21: 14
B22: 36 | C22: 14B33 | D22: MARINE KAZERNE ERFPRINS | E22: =VLOOKUP(C22,Blad4!A:E,5,FALSE) -> Den Helder | F22: =VLOOKUP(C22,Blad4!A:E,4,FALSE) -> 1782TG | G22: 37
B23: 36 | C23: 14B33 | D23: MARINE KAZERNE ERFPRINS | E23: =VLOOKUP(C23,Blad4!A:E,5,FALSE) -> Den Helder | F23: =VLOOKUP(C23,Blad4!A:E,4,FALSE) -> 1782TG | G23: 81
B24: 36 | C24: 14B33 | D24: MARINE KAZERNE ERFPRINS | E24: =VLOOKUP(C24,Blad4!A:E,5,FALSE) -> Den Helder | F24: =VLOOKUP(C24,Blad4!A:E,4,FALSE) -> 1782TG | G24: 82
A25: 900091633 | B25: 36 | C25: 14B37 | D25: KIM | E25: =VLOOKUP(C25,Blad4!A:E,5,FALSE) -> Den Helder | F25: =VLOOKUP(C25,Blad4!A:E,4,FALSE) -> 1781AC | G25: 002 | H25: Klooster | I25: 6364 | J25: 1
A26: 900118827 | B26: 36 | C26: 14B37 | D26: KIM | E26: =VLOOKUP(C26,Blad4!A:E,5,FALSE) -> Den Helder | F26: =VLOOKUP(C26,Blad4!A:E,4,FALSE) -> 1781AC | G26: 037 | H26: SHS-trainer | I26: 1405 | J26: 1
A27: 900102027 | B27: 36 | C27: 14B46 | D27: MVK DE KOOY | E27: =VLOOKUP(C27,Blad4!A:E,5,FALSE) -> Den Helder | F27: =VLOOKUP(C27,Blad4!A:E,4,FALSE) -> 1786PT | G27: 039 | H27: Aeolus | I27: 233 | J27: 1
A28: 900103891 | B28: 36 | C28: 14B46 | D28: MVK DE KOOY | E28: =VLOOKUP(C28,Blad4!A:E,5,FALSE) -> Den Helder | F28: =VLOOKUP(C28,Blad4!A:E,4,FALSE) -> 1786PT | G28: 048 | H28: Gemini | I28: 432 | J28: 1
A29: 900094392 | B29: 36 | C29: 14B46 | D29: MVK DE KOOY | E29: =VLOOKUP(C29,Blad4!A:E,5,FALSE) -> Den Helder | F29: =VLOOKUP(C29,Blad4!A:E,4,FALSE) -> 1786PT | G29: 138 | H29: Hangar NH90 | I29: 2510 | J29: 1
A30: 900114639 | B30: 36 | C30: 25D18 | D30: KONINGIN MÁXIMAKAZERNE | E30: =VLOOKUP(C30,Blad4!A:E,5,FALSE) -> Badhoevedorp | F30: =VLOOKUP(C30,Blad4!A:E,4,FALSE) -> 1171VK | G30: 001 | H30: Kantoor | I30: 14621 | J30: 1
A31: 900114615 | B31: 36 | C31: 25D18 | D31: KONINGIN MÁXIMAKAZERNE | E31: =VLOOKUP(C31,Blad4!A:E,5,FALSE) -> Badhoevedorp | F31: =VLOOKUP(C31,Blad4!A:E,4,FALSE) -> 1171VK | G31: 002 | H31: Legering | I31: 12751 | J31: 1
A32: 900115444 | B32: 36 | C32: 25D18 | D32: KONINGIN MÁXIMAKAZERNE | E32: =VLOOKUP(C32,Blad4!A:E,5,FALSE) -> Badhoevedorp | F32: =VLOOKUP(C32,Blad4!A:E,4,FALSE) -> 1171VK | G32: 003 | H32: Opleidingen | I32: 7742 | J32: 1
A33: 900115489 | B33: 36 | C33: 25D18 | D33: KONINGIN MÁXIMAKAZERNE | E33: =VLOOKUP(C33,Blad4!A:E,5,FALSE) -> Badhoevedorp | F33: =VLOOKUP(C33,Blad4!A:E,4,FALSE) -> 1171VK | G33: 004 | H33: Restaurant | I33: 1827 | J33: 1
A34: 900115525 | B34: 36 | C34: 25D18 | D34: KONINGIN MÁXIMAKAZERNE | E34: =VLOOKUP(C34,Blad4!A:E,5,FALSE) -> Badhoevedorp | F34: =VLOOKUP(C34,Blad4!A:E,4,FALSE) -> 1171VK | G34: 005 | H34: Logistiek Gezondheidscentrum | I34: 2553 | J34: 1
A35: 900109166 | B35: 36 | C35: 25G30 | D35: MARINE ETABLISSEMENT AMSTERDAM | E35: =VLOOKUP(C35,Blad4!A:E,5,FALSE) -> Amsterdam | F35: =VLOOKUP(C35,Blad4!A:E,4,FALSE) -> 1018JA | G35: 012 | H35: Kantoor TIVC | I35: 1455 | J35: 1
A36: 900096504 | B36: 36 | C36: 25G30 | D36: MARINE ETABLISSEMENT AMSTERDAM | E36: =VLOOKUP(C36,Blad4!A:E,5,FALSE) -> Amsterdam | F36: =VLOOKUP(C36,Blad4!A:E,4,FALSE) -> 1018JA | G36: 014 | H36: Kantoor Koninklijke Marechaussee | I36: 6987 | J36: 1
A37: 900109169 | B37: 36 | C37: 25G30 | D37: MARINE ETABLISSEMENT AMSTERDAM | E37: =VLOOKUP(C37,Blad4!A:E,5,FALSE) -> Amsterdam | F37: =VLOOKUP(C37,Blad4!A:E,4,FALSE) -> 1018JA | G37: 025 | H37: Legering Onderofficieren | I37: 2427 | J37: 1
A38: 900109187 | B38: 36 | C38: 25G30 | D38: MARINE ETABLISSEMENT AMSTERDAM | E38: =VLOOKUP(C38,Blad4!A:E,5,FALSE) -> Amsterdam | F38: =VLOOKUP(C38,Blad4!A:E,4,FALSE) -> 1018JA | G38: 28 | H38: Sociaal Medische Dienst | I38: 8620 | J38: 1
A39: 900109175 | B39: 36 | C39: 30G03 | D39: FREDERIKKAZERNE | E39: =VLOOKUP(C39,Blad4!A:E,5,FALSE) -> 's-Gravenhage | F39: =VLOOKUP(C39,Blad4!A:E,4,FALSE) -> 2597BC | G39: 32 | H39: Kantoorgebouw | I39: 20127 | J39: 1
A40: 900109176 | B40: 36 | C40: 30G03 | D40: FREDERIKKAZERNE | E40: =VLOOKUP(C40,Blad4!A:E,5,FALSE) -> 's-Gravenhage | F40: =VLOOKUP(C40,Blad4!A:E,4,FALSE) -> 2597BC | G40: 35D | H40: Kantoor | I40: 6232 | J40: 1
A41: 900083980 | B41: 36 | C41: 31F11 | D41: KORPORAAL V OUDHEUSDENKAZERNE | E41: =VLOOKUP(C41,Blad4!A:E,5,FALSE) -> Hilversum | F41: =VLOOKUP(C41,Blad4!A:E,4,FALSE) -> 1213PW | G41: 4 | H41: Bureelgebouw | I41: 1309 | J41: 1
A42: 900115897 | B42: 36 | C42: 32C02 | D42: OT DE VLASAKKERS | E42: =VLOOKUP(C42,Blad4!A:E,5,FALSE) -> Amersfoort | F42: =VLOOKUP(C42,Blad4!A:E,4,FALSE) -> 3818LN | G42: 001 | H42: Oefenwoning | I42: 476 | J42: 1
A43: 900111483 | B43: 36 | C43: 32C04 | D43: DU MOULINKAZERNE | E43: =VLOOKUP(C43,Blad4!A:E,5,FALSE) -> Soesterberg | F43: =VLOOKUP(C43,Blad4!A:E,4,FALSE) -> 3769AP | G43: D40 | H43: Sportgebouw | I43: 2765 | J43: 1
A44: 900095618 | B44: 36 | C44: 32C04 | D44: DU MOULINKAZERNE | E44: =VLOOKUP(C44,Blad4!A:E,5,FALSE) -> Soesterberg | F44: =VLOOKUP(C44,Blad4!A:E,4,FALSE) -> 3769AP | G44: D7 | H44: Legeringsgebouw | I44: 3007 | J44: 1
A45: 900096880 | B45: 36 | C45: 32C05 | D45: LC KAMP SOESTERBERG | E45: =VLOOKUP(C45,Blad4!A:E,5,FALSE) -> Soesterberg | F45: =VLOOKUP(C45,Blad4!A:E,4,FALSE) -> 3769AP | G45: V10 | H45: Ontvangsthal | I45: 8675 | J45: 1
A46: 900084003 | B46: 36 | C46: 32C05 | D46: LC KAMP SOESTERBERG | E46: =VLOOKUP(C46,Blad4!A:E,5,FALSE) -> Soesterberg | F46: =VLOOKUP(C46,Blad4!A:E,4,FALSE) -> 3769AP | G46: V31 | H46: Basisdepot Intendance | I46: 30626 | J46: 1
A47: 900083978 | B47: 36 | C47: 32C05 | D47: LC KAMP SOESTERBERG | E47: =VLOOKUP(C47,Blad4!A:E,5,FALSE) -> Soesterberg | F47: =VLOOKUP(C47,Blad4!A:E,4,FALSE) -> 3769AP | G47: V37 | H47: Lesgebouw | I47: 1072 | J47: 1
A48: 900083979 | B48: 36 | C48: 32C05 | D48: LC KAMP SOESTERBERG | E48: =VLOOKUP(C48,Blad4!A:E,5,FALSE) -> Soesterberg | F48: =VLOOKUP(C48,Blad4!A:E,4,FALSE) -> 3769AP | G48: V40 | H48: 3e Echelonswerkplaats | I48: 3303 | J48: 1
A49: 900083977 | B49: 36 | C49: 32C13 | D49: SOLDAAT KETTING OLIVIERKAZERNE | E49: =VLOOKUP(C49,Blad4!A:E,5,FALSE) -> Soesterberg | F49: =VLOOKUP(C49,Blad4!A:E,4,FALSE) -> 3769AP | G49: O17 | H49: Lunchaccommodatie | I49: 1366 | J49: 1
A50: 900083974 | B50: 36 | C50: 32C13 | D50: SOLDAAT KETTING OLIVIERKAZERNE | E50: =VLOOKUP(C50,Blad4!A:E,5,FALSE) -> Soesterberg | F50: =VLOOKUP(C50,Blad4!A:E,4,FALSE) -> 3769AP | G50: O4 | H50: AOO Nouwenshal | I50: 2999 | J50: 1
... A71: 900108129 | B71: 36 | C71: 37H10 | D71: VAN GHENTKAZERNE | E71: =VLOOKUP(C71,Blad4!A:E,5,FALSE) -> Rotterdam | F71: =VLOOKUP(C71,Blad4!A:E,4,FALSE) -> 3063NJ | G71: 001 | H71: Hoofdgebouw | I71: 9022 | J71: 1
B72: 36 | C72: 37H10 | D72: VAN GHENTKAZERNE | E72: =VLOOKUP(C72,Blad4!A:E,5,FALSE) -> Rotterdam | F72: =VLOOKUP(C72,Blad4!A:E,4,FALSE) -> 3063NJ | G72: 34 | H72: Hoofdgebouw | I72: 9022 | J72: 1
B73: 36 | C73: 37H10 | D73: VAN GHENTKAZERNE | E73: =VLOOKUP(C73,Blad4!A:E,5,FALSE) -> Rotterdam | F73: =VLOOKUP(C73,Blad4!A:E,4,FALSE) -> 3063NJ | G73: 35 | H73: Hoofdgebouw | I73: 9022 | J73: 1
A74: 900092366 | B74: 36 | C74: 39B01 | D74: MRC AARDENBURG | E74: =VLOOKUP(C74,Blad4!A:E,5,FALSE) -> Doorn | F74: =VLOOKUP(C74,Blad4!A:E,4,FALSE) -> 3941PW | G74: 1 | H74: Kantoor / Portier | I74: 1844 | J74: 1
A75: 900098382 | B75: 36 | C75: 39B01 | D75: MRC AARDENBURG | E75: =VLOOKUP(C75,Blad4!A:E,5,FALSE) -> Doorn | F75: =VLOOKUP(C75,Blad4!A:E,4,FALSE) -> 3941PW | G75: 32D | H75: Verpleeg / Medisch Centrum | I75: 4604 | J75: 1
F76: =VLOOKUP(C76,Blad4!A:E,4,FALSE) -> #N/A
D77: Regio Zuid | F77: =VLOOKUP(C77,Blad4!A:E,4,FALSE) -> #N/A
F78: =VLOOKUP(C78,Blad4!A:E,4,FALSE) -> #N/A
A79: 900087262 | B79: 36 | C79: 44C03 | D79: COMMANDO LUCHTSTRIJDKRACHTEN | E79: =VLOOKUP(C79,Blad4!A:E,5,FALSE) -> Breda | F79: =VLOOKUP(C79,Blad4!A:E,4,FALSE) -> 4822ZB | G79: 1 | H79: Luchtmachttoren | I79: 13422 | J79: 1
A80: 900107804 | B80: 36 | C80: 44D02 | D80: KONINKLIJKE MILITAIRE ACADEMIE | E80: =VLOOKUP(C80,Blad4!A:E,5,FALSE) -> Breda | F80: =VLOOKUP(C80,Blad4!A:E,4,FALSE) -> 4811XC | G80: EI | H80: Sportgebouw | I80: 4189 | J80: 1
A81: 900075480 | B81: 36 | C81: 44D02 | D81: KONINKLIJKE MILITAIRE ACADEMIE | E81: =VLOOKUP(C81,Blad4!A:E,5,FALSE) -> Breda | F81: =VLOOKUP(C81,Blad4!A:E,4,FALSE) -> 4811XC | G81: G | H81: Aula | I81: 1117 | J81: 1
A82: 900075481 | B82: 36 | C82: 44E07 | D82: OVERDIEPSEPOLDER | E82: =VLOOKUP(C82,Blad4!A:E,5,FALSE) -> Raamsdonk | F82: =VLOOKUP(C82,Blad4!A:E,4,FALSE) -> 4944AW | G82: B2 | H82: Opslagloods / Werkplaats | I82: 1003 | J82: 1
A83: 900081305 | B83: 36 | C83: 45A03 | D83: FORT CREVECOEUR | E83: =VLOOKUP(C83,Blad4!A:E,5,FALSE) -> 's-Hertogenbosch | F83: =VLOOKUP(C83,Blad4!A:E,4,FALSE) -> 5221CE | G83: 10 | H83: Duikbassin | I83: 269 | J83: 1
A84: 900077348 | B84: 36 | C84: 45A03 | D84: FORT CREVECOEUR | E84: =VLOOKUP(C84,Blad4!A:E,5,FALSE) -> 's-Hertogenbosch | F84: =VLOOKUP(C84,Blad4!A:E,4,FALSE) -> 5221CE | G84: 11 | H84: Drijvende Lesaccommodatie | I84: 249 | J84: 1
A85: 900100028 | B85: 36 | C85: 45A06 | D85: ENGELENSE GAT | E85: =VLOOKUP(C85,Blad4!A:E,5,FALSE) -> 's-Hertogenbosch | F85: =VLOOKUP(C85,Blad4!A:E,4,FALSE) -> 5221CD | G85: 2 | H85: AS-magazijn 2 | I85: 886 | J85: 1
A86: 900100038 | B86: 36 | C86: 45A06 | D86: ENGELENSE GAT | E86: =VLOOKUP(C86,Blad4!A:E,5,FALSE) -> 's-Hertogenbosch | F86: =VLOOKUP(C86,Blad4!A:E,4,FALSE) -> 5221CD | G86: 3 | H86: AS-magazijn 3 | I86: 1159 | J86: 1
A87: 900118983 | B87: 36 | C87: 45C10 | D87: OT DE KAMP | E87: =VLOOKUP(C87,Blad4!A:E,5,FALSE) -> Vught | F87: =VLOOKUP(C87,Blad4!A:E,4,FALSE) -> 5263NT | G87: 1 | H87: Instructiegebouw | I87: 1016 | J87: 1
A88: 900087049 | B88: 36 | C88: 45C16 | D88: LUNETTENKAZERNE | E88: =VLOOKUP(C88,Blad4!A:E,5,FALSE) -> Vught | F88: =VLOOKUP(C88,Blad4!A:E,4,FALSE) -> 5263NT | G88: 1 | H88: Magazijn / Stalling | I88: 1563 | J88: 1
A89: 900093928 | B89: 36 | C89: 45C16 | D89: LUNETTENKAZERNE | E89: =VLOOKUP(C89,Blad4!A:E,5,FALSE) -> Vught | F89: =VLOOKUP(C89,Blad4!A:E,4,FALSE) -> 5263NT | G89: 8 | H89: Instructiegebouw | I89: 9389 | J89: 1
A90: 900106335 | B90: 36 | C90: 45C21 | D90: VAN BREDERODEKAZERNE | E90: =VLOOKUP(C90,Blad4!A:E,5,FALSE) -> Vught | F90: =VLOOKUP(C90,Blad4!A:E,4,FALSE) -> 5263NT | G90: S | H90: Lesgebouw | I90: 2703 | J90: 1
... A246: 900086771 | B246: 36 | C246: 51D05 | D246: VLIEGBASIS EINDHOVEN | E246: =VLOOKUP(C246,Blad4!A:E,5,FALSE) -> Eindhoven | F246: =VLOOKUP(C246,Blad4!A:E,4,FALSE) -> 5657EZ | G246: 112 | H246: Hangar Diversen Hobbyclub | I246: 2285 | J246: 1
A247: 900075517 | B247: 36 | C247: 51D05 | D247: VLIEGBASIS EINDHOVEN | E247: =VLOOKUP(C247,Blad4!A:E,5,FALSE) -> Eindhoven | F247: =VLOOKUP(C247,Blad4!A:E,4,FALSE) -> 5657EZ | G247: 375 | H247: Brandweerkazerne | I247: 1783 | J247: 1 | K247: reeds geregistreerd
A248: 900086772 | B248: 36 | C248: 51D05 | D248: VLIEGBASIS EINDHOVEN | E248: =VLOOKUP(C248,Blad4!A:E,5,FALSE) -> Eindhoven | F248: =VLOOKUP(C248,Blad4!A:E,4,FALSE) -> 5657EZ | G248: 405 | H248: Hangar 334 SQN | I248: 2837 | J248: 1
A249: 900086773 | B249: 36 | C249: 51D05 | D249: VLIEGBASIS EINDHOVEN | E249: =VLOOKUP(C249,Blad4!A:E,5,FALSE) -> Eindhoven | F249: =VLOOKUP(C249,Blad4!A:E,4,FALSE) -> 5657EZ | G249: 435 | H249: Filterverdeelstation / Aggregaat | I249: 191 | J249: 1
A250: 900075518 | B250: 36 | C250: 51D05 | D250: VLIEGBASIS EINDHOVEN | E250: =VLOOKUP(C250,Blad4!A:E,5,FALSE) -> Eindhoven | F250: =VLOOKUP(C250,Blad4!A:E,4,FALSE) -> 5657EZ | G250: 438 | H250: Magazijn Bedrijfsstoffen | I250: 1177 | J250: 1
A251: 900075519 | B251: 36 | C251: 51D05 | D251: VLIEGBASIS EINDHOVEN | E251: =VLOOKUP(C251,Blad4!A:E,5,FALSE) -> Eindhoven | F251: =VLOOKUP(C251,Blad4!A:E,4,FALSE) -> 5657EZ | G251: 452 | H251: Washangar C-130 | I251: 2754 | J251: 1
A252: 900075522 | B252: 36 | C252: 51D05 | D252: VLIEGBASIS EINDHOVEN | E252: =VLOOKUP(C252,Blad4!A:E,5,FALSE) -> Eindhoven | F252: =VLOOKUP(C252,Blad4!A:E,4,FALSE) -> 5657EZ | G252: 453 | H252: Werkcentra | I252: 5430 | J252: 1
A253: 900086774 | B253: 36 | C253: 51D05 | D253: VLIEGBASIS EINDHOVEN | E253: =VLOOKUP(C253,Blad4!A:E,5,FALSE) -> Eindhoven | F253: =VLOOKUP(C253,Blad4!A:E,4,FALSE) -> 5657EZ | G253: 454 | H253: Hangar KDC-10 | I253: 5169 | J253: 1
A254: 900086818 | B254: 36 | C254: 51D05 | D254: VLIEGBASIS EINDHOVEN | E254: =VLOOKUP(C254,Blad4!A:E,5,FALSE) -> Eindhoven | F254: =VLOOKUP(C254,Blad4!A:E,4,FALSE) -> 5657EZ | G254: 455 | H254: Ketelhuis met trafogebouw T26 | I254: 238 | J254: 1
A255: 900103330 | B255: 36 | C255: 51D05 | D255: VLIEGBASIS EINDHOVEN | E255: =VLOOKUP(C255,Blad4!A:E,5,FALSE) -> Eindhoven | F255: =VLOOKUP(C255,Blad4!A:E,4,FALSE) -> 5657EZ | G255: 456 | H255: SQN-Lijngebouw | I255: 5299 | J255: 1
A256: 900103431 | B256: 36 | C256: 51D05 | D256: VLIEGBASIS EINDHOVEN | E256: =VLOOKUP(C256,Blad4!A:E,5,FALSE) -> Eindhoven | F256: =VLOOKUP(C256,Blad4!A:E,4,FALSE) -> 5657EZ | G256: 457 | H256: Vrachtterminal | I256: 4458 | J256: 1
A257: 900086775 | B257: 36 | C257: 51D05 | D257: VLIEGBASIS EINDHOVEN | E257: =VLOOKUP(C257,Blad4!A:E,5,FALSE) -> Eindhoven | F257: =VLOOKUP(C257,Blad4!A:E,4,FALSE) -> 5657EZ | G257: 458 | H257: Passagiersterminal | I257: 3940 | J257: 1
A258: 900086776 | B258: 36 | C258: 51D05 | D258: VLIEGBASIS EINDHOVEN | E258: =VLOOKUP(C258,Blad4!A:E,5,FALSE) -> Eindhoven | F258: =VLOOKUP(C258,Blad4!A:E,4,FALSE) -> 5657EZ | G258: 459 | H258: Materieelgebouw | I258: 2683 | J258: 1
A259: 900086777 | B259: 36 | C259: 51D05 | D259: VLIEGBASIS EINDHOVEN | E259: =VLOOKUP(C259,Blad4!A:E,5,FALSE) -> Eindhoven | F259: =VLOOKUP(C259,Blad4!A:E,4,FALSE) -> 5657EZ | G259: 464 | H259: Basis Informatie Centrum | I259: 319 | J259: 1
... A292: 900095654 | B292: 36 | C292: 52G09 | D292: BRIGADE BRABANT-N EN LIMBURG-N | E292: =VLOOKUP(C292,Blad4!A:E,5,FALSE) -> Venlo | F292: =VLOOKUP(C292,Blad4!A:E,4,FALSE) -> 5928LA | G292: 001 | H292: Brigade Brabant / Limburg Noord | I292: 2993 | J292: 1
F293: =VLOOKUP(C293,Blad4!A:E,4,FALSE) -> #N/A
D294: Regio Noord - Oost | F294: =VLOOKUP(C294,Blad4!A:E,4,FALSE) -> #N/A
F295: =VLOOKUP(C295,Blad4!A:E,4,FALSE) -> #N/A
A296: 900116412 | B296: 36 | C296: 06C02 | D296: VLIEGBASIS LEEUWARDEN | E296: =VLOOKUP(C296,Blad4!A:E,5,FALSE) -> Leeuwarden | F296: =VLOOKUP(C296,Blad4!A:E,4,FALSE) -> 8919AK | G296: C141 | H296: Pompstation Afs Oost | I296: 147
A297: 900116413 | B297: 36 | C297: 06C02 | D297: VLIEGBASIS LEEUWARDEN | E297: =VLOOKUP(C297,Blad4!A:E,5,FALSE) -> Leeuwarden | F297: =VLOOKUP(C297,Blad4!A:E,4,FALSE) -> 8919AK | G297: C142 | H297: Pompstation Afs Zuid | I297: 148
A298: 900116414 | B298: 36 | C298: 06C02 | D298: VLIEGBASIS LEEUWARDEN | E298: =VLOOKUP(C298,Blad4!A:E,5,FALSE) -> Leeuwarden | F298: =VLOOKUP(C298,Blad4!A:E,4,FALSE) -> 8919AK | G298: C168 | H298: Zenderruimte AKA | I298: 14
A299: 900107319 | B299: 36 | C299: 06C02 | D299: VLIEGBASIS LEEUWARDEN | E299: =VLOOKUP(C299,Blad4!A:E,5,FALSE) -> Leeuwarden | F299: =VLOOKUP(C299,Blad4!A:E,4,FALSE) -> 8919AK | G299: C185 | H299: Stafgebouw 322 SQN | I299: 2625
A300: 900106729 | B300: 36 | C300: 06C02 | D300: VLIEGBASIS LEEUWARDEN | E300: =VLOOKUP(C300,Blad4!A:E,5,FALSE) -> Leeuwarden | F300: =VLOOKUP(C300,Blad4!A:E,4,FALSE) -> 8919AK | G300: C189 | H300: QRA Gebouw | I300: 256
A301: 900029321 | B301: 36 | C301: 06C02 | D301: VLIEGBASIS LEEUWARDEN | E301: =VLOOKUP(C301,Blad4!A:E,5,FALSE) -> Leeuwarden | F301: =VLOOKUP(C301,Blad4!A:E,4,FALSE) -> 8919AK | G301: C22 | H301: Brandweerkazerne | I301: 1287
A302: 900081404 | B302: 36 | C302: 06C02 | D302: VLIEGBASIS LEEUWARDEN | E302: =VLOOKUP(C302,Blad4!A:E,5,FALSE) -> Leeuwarden | F302: =VLOOKUP(C302,Blad4!A:E,4,FALSE) -> 8919AK | G302: K51 | H302: Werkplaats Wielvoertuigen | I302: 1973
A303: 900116416 | B303: 36 | C303: 06F02 | D303: WILLEM L V NASSAUKAZERNE | E303: =VLOOKUP(C303,Blad4!A:E,5,FALSE) -> Zoutkamp | F303: =VLOOKUP(C303,Blad4!A:E,4,FALSE) -> 9974SM | G303: 11 | H303: Werkplaats | I303: 1716
A304: 900116415 | B304: 36 | C304: 06F02 | D304: WILLEM L V NASSAUKAZERNE | E304: =VLOOKUP(C304,Blad4!A:E,5,FALSE) -> Zoutkamp | F304: =VLOOKUP(C304,Blad4!A:E,4,FALSE) -> 9974SM | G304: 2 | H304: Vaste Kampstafgebouw | I304: 1562
A305: 900087189 | B305: 36 | C305: 06F06 | D305: ZENDERCOMPLEX BURUM | E305: =VLOOKUP(C305,Blad4!A:E,5,FALSE) -> Burum | F305: =VLOOKUP(C305,Blad4!A:E,4,FALSE) -> 9851TD | G305: 2 | H305: Bedieningsgebouw | I305: 1483
A306: 900087093 | B306: 36 | C306: 11C01 | D306: GENERAAL-MAJOOR BRUGMANKAZERNE | E306: =VLOOKUP(C306,Blad4!A:E,5,FALSE) -> Heerenveen | F306: =VLOOKUP(C306,Blad4!A:E,4,FALSE) -> 8447AL | G306: 1 | H306: Apotheek | I306: 17009
A307: 900087465 | B307: 36 | C307: 12C02 | D307: KC VEENHUIZEN | E307: =VLOOKUP(C307,Blad4!A:E,5,FALSE) -> Veenhuizen | F307: =VLOOKUP(C307,Blad4!A:E,4,FALSE) -> 9341AX | G307: 1 | H307: Kantoorgebouw | I307: 1436
... A374: 900087804 | B374: 36 | C374: 40E03 | D374: BRIGADE OOSTGRENS-MIDDEN | E374: =VLOOKUP(C374,Blad4!A:E,5,FALSE) -> Zevenaar | F374: =VLOOKUP(C374,Blad4!A:E,4,FALSE) -> 6903ZJ | G374: 02 | H374: Voertuigenstalling | I374: 259

Sheet Blad4
A1: ObjectCode | B1: ObjectNaam | C1: Adres | D1: Postcode | E1: Plaats
A2: 02G01 | B2: OT MARNEWAARD | C2: Strandweg 21 | D2: 9974SM | E2: Zoutkamp
A3: 02G02 | B3: SB MARNEWAARD | C3: Kustweg 1 | D3: 9976VP | E3: Lauwersoog
A4: 02G03 | B4: ANTENNEPARK SCHIERMONNIKOOG | C4: Melle Grietjespad 7 | D4: 9166LT | E4: Schiermonnikoog
A5: 02G04 | B5: UTC MARNEHUIZEN | C5: Marneweg | D5: 9975WJ | E5: Lauwersoog
A6: 02G05 | B6: DLP LAUWERSOOG | C6: Haven 6 | D6: 9976VN | E6: Lauwersoog
A7: 02G06 | B7: LIGPLAATS LAUWERSOOG | C7: Kustweg 10 | D7: 9976VP | E7: Lauwersoog
A8: 03G01 | B8: DLP EEMSHAVEN | C8: Borkumweg 3 | D8: 9979XJ | E8: Eemshaven
A9: 03G02 | B9: BOUWTERREIN POMS | C9: Eemshaven | E9: Eemsmond
A10: 03G03 | B10: DLP EN LIGPLAATS EEMSHAVEN | C10: Borkumweg 6 | D10: 9979XH | E10: Eemshaven
A11: 03G04 | B11: LC EEMSHAVEN | C11: Westlob 14 | D11: 9979XJ | E11: Eemshaven
A12: 04F01 | B12: CAVALERIE SCHIETKAMP | C12: Postweg 9 | D12: 8899BZ | E12: Vlieland
A13: 04F02 | B13: WATERMETERPUT | C13: Vuurboetsduin 4 | D13: 8889AT | E13: Vlieland
A14: 04F03 | B14: WONINGEN VLIELAND | E14: Vlieland
A15: 04F06 | B15: SCHIETRANGE VLIEHORS | C15: Postweg 9 | D15: 8899BZ | E15: Vlieland
A16: 04F07 | B16: SAR VLIELAND | C16: Havenweg 18A | D16: 8899BC | E16: Vlieland
A17: 04F08 | B17: KAMPEMENT VLIEHORS | C17: Postweg 9 | D17: 8899BZ | E17: Vlieland
A18: 04G02 | B18: SEINMAST COCKSDORP | C18: Volharding 3 | D18: 1795LH | E18: De Cocksdorp
A19: 05A01 | B19: LEGERINGSGEBOUW | C19: Cornelis Douwesstraat 13 | D19: 8881CL | E19: West-Terschelling
A20: 05A02 | B20: HELIVELD TERSCHELLING | C20: Lutineweg 5 | D20: 8881CP | E20: West-Terschelling
A21: 05A03 | B21: OT DE NOORDSVAARDER | D21: 8881HG | E21: West-Terschelling
A22: 05A04 | B22: HULPWAARNEMINGSPOST | D22: 8881HG | E22: West-Terschelling
A23: 05A05 | B23: ANTENNEPARK TERSCHELLING | C23: Tigerpad 5 | D23: 8881GB | E23: West-Terschelling
A24: 05A07 | B24: PEILSTATION TERSCHELLING | C24: Longway 30 | D24: 8881CM | E24: West-Terschelling
A25: 05A08 | B25: HELIHAVEN MIDSLAND | C25: Kallanspad 28B | D25: 8891GS | E25: Midsland
A26: 05A09 | B26: GARAGEBOX TERSCHELLING | C26: Burg Reedekerstraat 11A | D26: 8881BZ | E26: West-Terschelling
A27: 05A10 | B27: MUNITIECONTAINER LONGWAY | C27: Longway 30 | D27: 8881CM | E27: West-Terschelling
A28: 05G01 | B28: MC RIED | C28: Hoofdstraat 7 | D28: 8811HD | E28: Ried
A29: 05G02 | B29: ZENDERCOMPLEX TE RIED | C29: Berlikumerweg 20 | D29: 8811HR | E29: Ried
A30: 05G03 | B30: POST HARLINGEN HAVEN | C30: Celciusstraat 10 | D30: 8861NE | E30: Harlingen
A31: 05G04 | B31: DLP HARLINGEN | C31: Waddenpromenade 7 1 | D31: 8861NT | E31: Harlingen
A32: 05G05 | B32: POST HARLINGEN | C32: Kimswerderweg 2 | D32: 8862TS | E32: Harlingen
A33: 05G06 | B33: AANLEGPLAATS HARLINGEN | C33: Nieuwe Vissershaven 25 | D33: 8861NX | E33: Harlingen
A34: 05H02 | B34: MMC BEETGUMERMOLEN | C34: Bitgumerlân 1 | D34: 8919AN | E34: Leeuwarden
... A65: 07F11 | B65: ANTENNEPARK APPINGEDAM | C65: Holwierderweg 9A | D65: 9901TM | E65: Appingedam
A66: 08C03 | B66: WL NIEUWESCHANS | C66: Schliekenweg 6 | D66: 26831 | E66: Bunde
A67: 08C04 | B67: GRENSSTROOK A7 WINSCHOTEN | C67: Rijksweg 44 | D67: 9693CK | E67: Bad Nieuweschans
A68: 08C05 | B68: WL WINSCHOTEN | C68: Oostereinde 16 | D68: 9672TC | E68: Winschoten
A69: 09B03 | B69: DLP OUDESCHILD | C69: Haven 20 | D69: 1792AE | E69: Oudeschild
A70: 09B50 | B70: JOOST DOURLEINKAZERNE | C70: Mokweg 18 | D70: 1797SB | E70: Den Hoorn
A71: 09B51 | B71: OT JOOST DOURLEINKAZERNE | C71: Mokweg 18 | D71: 1797SB | E71: Den Hoorn
A72: 09D01 | B72: GEORGISCHE BEGRAAFPLAATS | C72: Zuidhaffel 45 | D72: 1791LD | E72: Den Burg
A73: 09D04 | B73: FORT HARSSENS | C73: Bevesierweg 1 | D73: 1781AT | E73: Den Helder
A74: 09D05 | B74: MARINECLUB | C74: Havenplein 5 | D74: 1781AB | E74: Den Helder
A75: 09D06 | B75: SCHOOFF/HAVENDIENST | C75: Havenplein 5 | D75: 1781AB | E75: Den Helder
A76: 09D10 | B76: TELEFOONKAZEMAT B | C76: Boerhaavestraat 15 | D76: 1782AA | E76: Den Helder
A77: 09D21 | B77: GRAFELIJKHEIDSDUINEN | C77: Grafelijkheidsweg 20 | D77: 1789AV | E77: Huisduinen
A78: 09D23 | B78: LUITENANT-KOLONEL MAASKAMP | C78: Nieuweweg 2 | D78: 1782AZ | E78: Den Helder
... A165: 14B47 | B165: ANTENNEPARK JULIANADORP | C165: Nieuweweg 24 B | D165: 1784PJ | E165: Den Helder
A166: 14B53 | B166: RAZENDE BOL-NOORDERHAAKS | D166: 1797RT | E166: Den Hoorn
A167: 14B54 | B167: BUITENVELD | C167: Het Nieuwe Diep 18 | D167: 1781AC | E167: Den Helder
A168: 14B55 | B168: VM FORT WESTOEVER | C168: Westoever 1 | D168: 1785PB | E168: Den Helder
A169: 14B56 | B169: KANTOOR KOOYPUNT | C169: Verkeerstorenweg 3 | D169: 1786PN | E169: Den Helder
A170: 14B57 | B170: ZWEMBAD DEN HELDER | C170: Het Nieuwland 2 | D170: 1784EA | E170: Den Helder
A171: 14B58 | B171: ANTENNEPARK HUISDUINEN | C171: Zeeweg 14 | D171: 1789AC | E171: Huisduinen
A172: 14B59 | B172: ANTENNELOCATIE HUISDUINEN | C172: Zeeweg 5 | D172: 1789AC | E172: Huisduinen
A173: 14B60 | B173: DLP DEN HELDER | C173: Bastiondreef 2 | D173: 1784MR | E173: Den Helder
A174: 14C01 | B174: SB PETTEN | C174: S St Maartenszee 1A | D174: 1755SB | E174: Petten
A175: 14C02 | B175: ANTENNEPARK SCHOORL | C175: Hargerstrandweg 1 | D175: 1871GZ | E175: Schoorl
A176: 14D52 | B176: SCHIETTERREIN PETTEN | C176: Westerduinweg 3 | D176: 1755LE | E176: Petten
A177: 14F01 | B177: KAZEM DEN OEVER 01 | C177: Afsluitdijk 3 | D177: 1779GR | E177: Den Oever
A178: 14F04 | B178: KAZEM DEN OEVER 04 | C178: Afsluitdijk 3 | D178: 1779GR | E178: Den Oever
... A240: 25A18 | B240: MC SPAARNDAM | C240: Westlaan 47 | D240: 1991AL | E240: Velserbroek
A241: 25A23 | B241: HORNWEG | E241: Haarlemmerliede
A242: 25A24 | B242: OT OVERVEEN | C242: Zeeweg 71 | D242: 2051EB | E242: Overveen
A243: 25A26 | B243: RIPPERDAKAZERNE | C243: Schoterweg 71 | D243: 2023GC | E243: Haarlem
A244: 25A29 | B244: FORT PENNINGSVEER | C244: Penningsveer 1 | D244: 2065AM | E244: Haarlemmerliede
A245: 25A30 | B245: GEDEKTE LAGE DIJK | C245: Penningsveer 5 | D245: 2065AM | E245: Haarlemmerliede
A246: 25A42 | B246: BRIGADE NOORD-HOLLAND | C246: Kanaalstraat 79 | D246: 1975BB | E246: IJmuiden
A247: 25A43 | B247: BRIGADE HAARLEM | C247: Kenaupark 4 | D247: 2011MS | E247: Haarlem
A248: 25A44 | B248: AANLEGSTEIGER IJMUIDEN | E248: IJmuiden
A249: 25A45 | B249: KUSTWACHT | C249: Merwedestraat 1 | D249: 1972VV | E249: Ijmuiden
A250: 25A46 | B250: DLP IJMUIDEN | C250: Lange Nieuwstraat 422 | D250: 1971GH | E250: IJmuiden
A251: 25A50 | B251: PMC-BUNKER | C251: Schoonzichtlaan 8 | D251: 2015CL | E251: Haarlem
A252: 25A51 | B252: ANTENNELOCATIE IJMUIDEN | C252: Vuurtorenstraat 16 | D252: 1976CJ | E252: IJmuiden
A253: 25A52 | B253: DLP CRUISETERMINAL IJMUIDEN | C253: Cruiseboulevard 10 | D253: 1976EB | E253: IJmuiden
A254: 25A53 | B254: WL LMO REGIO NOORD-HOLLAND | C254: Zijlweg 200 | D254: 2015CK | E254: Haarlem
A255: 25A54 | B255: INTERIM WP NEDERLANDSE BANK | C255: Oudeweg 32 | D255: 2031CC | E255: Haarlem
A256: 25B04 | B256: LC HEMBRUG | C256: Hemkade 24D | D256: 1506PR | E256: Zaandam
A257: 25B13 | B257: MC 1800 ROEDEN | C257: Joris van den Berghweg 101 | D257: 1067HP | E257: Amsterdam
A258: 25B14 | B258: DISTRICT NH/UT (KOL SIXKAZ) | C258: Kabelweg 25 | D258: 1014BA | E258: Amsterdam
A259: 25B15 | B259: POLITIEDIENSTEN (VM SIXKAZ) | C259: Kabelweg 25 | D259: 1014BA | E259: Amsterdam
A260: 25B16 | B260: DLP AMSTERDAM HAVEN | C260: Radarweg 34 | D260: 1042AA | E260: Amsterdam
... A268: 25D14 | B268: BICKL AMSTERDAM | C268: De Clercqstraat 57 | D268: 1053AD | E268: Amsterdam
A269: 25D15 | B269: BEVO KMAR | E269: Badhoevedorp
A270: 25D16 | B270: ADP SCHIPHOL | C270: Oude Vijfhuizerweg 6 | D270: 1118LV | E270: Schiphol
A271: 25D17 | B271: COMPLEX ELZENHOF | C271: Loevesteinse Randweg 150 | D271: 1118EK | E271: Schiphol
A272: 25D18 | B272: KONINGIN MÁXIMAKAZERNE | C272: Sloterweg 400 | D272: 1171VK | E272: Badhoevedorp
A273: 25D19 | B273: OPSLAGLOODS AALSMEER | C273: Aalsmeerderweg 103H | D273: 1432CJ | E273: Aalsmeer
A274: 25D20 | B274: COMPLEX SCHIPHOL-OOST | C274: Ten Pol 64 | D274: 1438AN | E274: Oude Meer
A275: 25D21 | B275: COMPLEX NORTHPORT UNIT 5 | C275: Cateringweg 13 | D275: 1118AM | E275: Schiphol
A276: 25D22 | B276: HANGAR SCHIPHOL-OOST | C276: Thermiekstraat 152 | D276: 1117BG | E276: Schiphol
A277: 25D23 | B277: JUSTITIEEL COMPLEX SCHIPHOL | C277: Duizendbladweg 100 | D277: 1171VA | E277: Badhoevedorp
A278: 25D24 | B278: DLP GENERAL AVIATION TERMINAL | C278: Thermiekstraat 8 | D278: 1117BC | E278: Schiphol
A279: 25E01 | B279: DLP CRUISETERMINAL A'DAM (PTA) | C279: Piet Heinkade 27 | D279: 1019BR | E279: Amsterdam
A280: 25E02 | B280: DLP NS AMSTERDAM EUROSTAR | C280: Stationsplein 1 | D280: 1012AB | E280: Amsterdam
A281: 25G03 | B281: BRIGADE AMSTERDAM-HAVEN | C281: Oostelijke Handelskade 10 | D281: 1019BM | E281: Amsterdam
... A289: 25G33 | B289: EURO CENTER | C289: Barbara Strozzilaan 362A | D289: 1083HN | E289: Amsterdam
A290: 25H13 | B290: MC NAARDEN | E290: Naarden
A291: 25H19 | B291: MARECHAUSSEEKAZ BUSSUM | C291: Hooftlaan | D291: 1401EE | E291: Bussum
...
