Workbook
Name Counter: COUNTA(INDEX(ValData,,MATCH('[1]Data Entry'!A16,[2]Lists!$1:$1,0)))
Name Testdropdown: #REF!

Sheet 1 Gebruiksaanwijzing
A1: Invulaanwijzing Opnamesjabloon
M2: Invulinstructies
M3: - Wat hoort tot de scope en wat niet (geen losse inrichting, geen assets die geen onderhoud behoeven en/of assets waarvan de vervanging niet wordt begroot in een MJOB zoals een wandklok op batterijen)
M4: - Geen lege cellen
M5: - Indien een gevraagde waarde onbekend is, de waarde inschatten. Altijd een waarde invullen. In het veld opmerkingen aangeven dat de waarde is ingeschat en/of waarop de inschatting is gebaseerd
M6: - Indien een asset uit onderdelen van verschillende jaartallen bestaat het vroegste (oudste) jaartal invullen.
M7: - Mits er geen verdeler aanwezig , verdeler met 1 groep invullen
M8: - Indien een installatie niet op de lijst staat, alle kenmerken opnemen waarmee de vervangingswaarde kan worden bepaald en onderhoudsactivitetien kunnen worden toegewezen
M9: - Als er om een Kenmerk gevraagd wordt, moet er een antwoord ingevuld worden direct rechts van de kenmerkvraag
M12: - duplicaatregels zou genoeg moeten zijn, als extra nodig onderaan invoegen, rekening houdend met de keuzemogelijkheden van de oorspronkelijke regel

Sheet Algemene gegevens
B2: Object | C2: VOORBEELD
B3: Adres | C3: voorbeeld
B4: Plaats | C4: Voorbeeld
B5: Oppervlak [m2 BVO] | C5: voorbeeld m2
C7: Aanwezig | D7: Datum
B8: Bouwkundige tekeningen | C8: ja/nee
B9: W (revisie)tekeningen | C9: ja/nee
B10: E (revisie)tekeningen | C10: ja/nee

Sheet 1 Inventarislijst
A1: Locatie | B1: Adres | C1: Plaats | D1: Oppervlak (m2 BVO) | E1: Ruimte | F1: TopDesk ID | G1: Element type | H1: Hoofdelement | I1: Controller ID | J1: Asset Adres | K1: Contractor ID | L1: NLSfB | M1: Omschrijving | N1: Groep | O1: Aantal | P1: Bouwjaar | Q1: Fabrikaat | R1: Type | S1: Kenmerk 4 | T1: Kenmerk 5 | U1: Kenmerk 6 | V1: Kenmerk 7 | W1: Kenmerk 8 | X1: Kenmerk 9 | Y1: Kenmerk 10 | Z1: Start Conditie | AA1: Minimale Conditie | AB1: KPI Data 1 | AC1: KPI Data 2 | AD1: KPI Data 3 | AE1: KPI Data 4 | AF1: PPO code 1 | AG1: Frequentie 1 | AH1: Prijs 1 | AI1: PPO code 2 | AJ1: Frequentie 2 | AK1: Prijs 2 | AL1: PPO code 3 | AM1: Frequentie 3 | AN1: Prijs 3 | AO1: PPO code 4 | AP1: Frequentie 4 | AQ1: Prijs 4 | AR1: Totaal 1 | AS1: Totaal 2 | AT1: Totaal 3 | AU1: Totaal 4 | AV1: Totaal | AX1: RegelOpnamesjabloon
L2: {=_xlfn.XLOOKUP(_xlfn.ANCHORARRAY(AX2),OpnameTabel[Index],OpnameTabel[NL-SfB], "")} -> 31.31.10 | M2: {=_xlfn.XLOOKUP(_xlfn.ANCHORARRAY(AX2),OpnameTabel[Index],OpnameTabel[Omschrijving], "")} -> automatische draaideur (buiten) | O2: {=_xlfn.XLOOKUP(_xlfn.ANCHORARRAY(AX2),OpnameTabel[Index],OpnameTabel[Aantal], "")} -> 1 | P2: {=_xlfn.XLOOKUP(_xlfn.ANCHORARRAY(AX2),OpnameTabel[Index],OpnameTabel[Bouwjaar], "")} -> 0 | Q2: {=_xlfn.XLOOKUP(_xlfn.ANCHORARRAY(AX2),OpnameTabel[Index],OpnameTabel[Fabricaat], "")} -> 0 | R2: {=_xlfn.XLOOKUP(_xlfn.ANCHORARRAY(AX2),OpnameTabel[Index],OpnameTabel[Type], "")} -> 0 | S2: {=_xlfn.XLOOKUP(_xlfn.ANCHORARRAY(AX2),OpnameTabel[Index],OpnameTabel[Kenmerkzin4], "")} | T2: {=_xlfn.XLOOKUP(_xlfn.ANCHORARRAY(AX2),OpnameTabel[Index],OpnameTabel[Kenmerkzin5], "")} -> Hoogte: m | U2: {=_xlfn.XLOOKUP(_xlfn.ANCHORARRAY(AX2),OpnameTabel[Index],OpnameTabel[Kenmerkzin6], "")} -> Diameter: m | V2: {=_xlfn.XLOOKUP(_xlfn.ANCHORARRAY(AX2),OpnameTabel[Index],OpnameTabel[Kenmerkzin7], "")} | W2: {=_xlfn.XLOOKUP(_xlfn.ANCHORARRAY(AX2),OpnameTabel[Index],OpnameTabel[Kenmerkzin8], "")} | X2: {=_xlfn.XLOOKUP(_xlfn.ANCHORARRAY(AX2),OpnameTabel[Index],OpnameTabel[Kenmerkzin9], "")} | Y2: {=_xlfn.XLOOKUP(_xlfn.ANCHORARRAY(AX2),OpnameTabel[Index],OpnameTabel[Kenmerkzin11], "")} | AX2: {=_xlfn._xlws.FILTER(OpnameTabel[Index],OpnameTabel[IsRegelActief], FALSE)} -> 5
L3: 31.32.10 | M3: automatische schuifdeur (buiten) | O3: 1 | P3: 0 | Q3: 0 | R3: 0 | T3: Hoogte: m | U3: Breedte: m | AX3: 6
L4: 31.34.00 | M4: tourniquet (buiten) | O4: 1 | P4: 0 | Q4: 0 | R4: 0 | T4: Hoogte: m | U4: Breedte: m | AX4: 7
L5: 31.35.00 | M5: overheaddeur (buiten) | O5: 1 | P5: 0 | Q5: 0 | R5: 0 | T5: Hoogte: m | U5: Breedte: m | W5: Afstandsbed.: stuks | AX5: 8
L6: 32.42.00 | M6: rolluik (binnen) | O6: 1 | P6: 0 | Q6: 0 | R6: 0 | T6: Hoogte: m | U6: Breedte: m | AX6: 9
L7: 37.26.00 | M7: dakluik | O7: 1 | P7: 0 | Q7: 0 | R7: 0 | T7: Hoogte: m | U7: Breedte: m | AX7: 10
L8: 37.26.10 | M8: dak rook-/ventilatieluik | O8: 1 | P8: 0 | Q8: 0 | R8: 0 | T8: Hoogte: m | U8: Breedte: m | AX8: 11
L9: 52.16.10 | M9: waterpomp hemelwater | O9: 1 | P9: 0 | Q9: 0 | R9: 0 | T9: Max. debiet: m3/h | U9: Opvoerhoogte: kPa | AX9: 12
L10: 52.26.20 | M10: afvoerpomp fecaliën | O10: 1 | P10: 0 | Q10: 0 | R10: 0 | T10: Max. debiet: m3/h | U10: Opvoerhoogte: kPa | AX10: 13
L11: 52.36.10 | M11: droge motorpomp afvalwater | O11: 1 | P11: 0 | Q11: 0 | R11: 0 | T11: Max. debiet: m3/h | U11: Opvoerhoogte: kPa | AX11: 14
L12: 53.16.00 | M12: drukverhogingsinstallatie drinkwater | O12: 1 | P12: 0 | Q12: 0 | R12: 0 | S12: Pompen: stuks | T12: Vermogen (totaal): kW | U12: Opvoerhoogte (max): kPa | AX12: 15
L13: 53.20.20 | M13: pomp verwarmd tapwater | O13: 1 | P13: 0 | Q13: 0 | R13: 0 | S13: Max. debiet: m3/h | T13: Opvoerhoogte: kPa | AX13: 16
L14: 53.21 | M14: tapwater met voorraad | O14: 1 | P14: 0 | Q14: 0 | R14: 0 | T14: Inhoud: L | U14: Vermogen: kW | AX14: 17
L15: 53.22.00 | M15: geiser | O15: 1 | P15: 0 | Q15: 0 | R15: 0 | S15: Vermogen: kW | T15: ontbreekt menu? | AX15: 18
L16: 53.50.10 | M16: waterontharder pekel simplex | O16: 1 | P16: 0 | Q16: 0 | R16: 0 | S16: Max. debiet: m3/h | AX16: 19
L17: 53.60.00 | M17: legionellapreventie | O17: 1 | P17: 0 | Q17: 0 | R17: 0 | T17: Monsterpunten: stuks | U17: Keerkleppen: stuks | AX17: 20
L18: 54.11.00 | M18: aardgas-/menggasvoorziening | O18: 1 | P18: 0 | Q18: 0 | R18: 0 | S18: Leidinglengte: m | T18: Nom. debiet gas: m3/h | U18: Verbruiksaansl.: stuks | AX18: 21
L19: 54.12.00 | M19: butaanvoorziening | O19: 1 | P19: 0 | Q19: 0 | R19: 0 | S19: Leidinglengte: m | T19: Nom. debiet gas: m3/h | U19: Verbruiksaansl.: stuks | AX19: 22
L20: 54.13.00 | M20: propaanvoorziening | O20: 1 | P20: 0 | Q20: 0 | R20: 0 | S20: Leidinglengte: m | T20: Nom. debiet gas: m3/h | U20: Verbruiksaansl.: stuks | AX20: 23
L21: 54.14.00 | M21: LPG-voorziening | O21: 1 | P21: 0 | Q21: 0 | R21: 0 | S21: Leidinglengte: m | T21: Nom. debiet gas: m3/h | U21: Verbruiksaansl.: stuks | AX21: 24
L22: 54.23.00 | M22: compressor perslucht | O22: 1 | P22: 0 | Q22: 0 | R22: 0 | S22: Vermogen: kW | U22: Volume opslagtank: L | V22: Max. debiet: m3/h | W22: Max. leverdruk: bar | AX22: 25
L23: 55.12.10 | M23: splitsysteem koelen (5-50 ton CO2) | O23: 1 | P23: 0 | Q23: 0 | R23: 0 | T23: Koelvermogen (totaal): kW | U23: Verwarmvermogen: kW | W23: Hoeveelheid koudem.: kg | AX23: 26
L24: 55.13.10 | M24: compactsysteem koelen (5-50 ton CO2) | O24: 1 | P24: 0 | Q24: 0 | R24: 0 | T24: Koelvermogen (totaal): kW | V24: Hoeveelheid koudem.: kg | AX24: 27
L25: 55.13.13 | M25: compactsysteem koelen, gekoeld water | O25: 1 | P25: 0 | Q25: 0 | R25: 0 | S25: Koelvermogen (totaal): kW | AX25: 28
L26: 55.14.00 | M26: mobiele koelunit | O26: 1 | P26: 0 | Q26: 0 | R26: 0 | S26: Koelvermogen (totaal): kW | AX26: 29
L27: 55.20.10 | M27: dry cooler | O27: 1 | P27: 0 | Q27: 0 | R27: 0 | S27: Koelvermogen (totaal): kW | T27: Ventilatoren: stuks | AX27: 30
L28: 55.21.10 | M28: koudwateraggregaat (5-50 ton CO2) | O28: 1 | P28: 0 | Q28: 0 | R28: 0 | U28: Koelvermogen (totaal): kW | W28: Hoeveelheid koudem.: kg | AX28: 31
L29: 55.21.13 | M29: Koelcel | O29: 1 | P29: 0 | Q29: 0 | R29: 0 | T29: Koelvermogen (totaal): kW | V29: Hoeveelheid koudem.: kg | W29: Inhoud (netto): m3 | AX29: 32
L30: 55.21.80 | M30: Koeltoren | O30: 1 | P30: 0 | Q30: 0 | R30: 0 | T30: Koelvermogen (totaal): kW | AX30: 33
L31: 55.31.10 | M31: distributieleidingen (koeling) | O31: 1 | P31: 0 | Q31: 0 | R31: 0 | T31: Groepen: stuks | U31: Pompen: stuks | AX31: 34
L32: 55.31.20 | M32: verdeler/verzamelaar (koeling) | O32: 1 | P32: 0 | Q32: 0 | R32: 0 | S32: Groepen: stuks | T32: Pompen: stuks | AX32: 35
L33: 55.81.00 | M33: fancoil/inductie unit (nakoeler) | O33: 1 | P33: 0 | Q33: 0 | R33: 0 | S33: Max. debiet: m3/h | AX33: 36
L34: 56.21.10 | M34: ketel (gas) | O34: 1 | P34: 0 | Q34: 0 | R34: 0 | U34: Vermogen: kW | AX34: 37
L35: 56.29.20 | M35: Warmte- KoudeOpslag | O35: 1 | P35: 0 | Q35: 0 | R35: 0 | T35: Max. debiet: m3/h | U35: Diepte: m | AX35: 38
L36: 56.31.20 | M36: verdeler/verzamelaar (verwarming) | O36: 1 | P36: 0 | Q36: 0 | R36: 0 | S36: Groepen: stuks | T36: Pompen: stuks | AX36: 39
L37: 56.51.10 | M37: tegenstroomapparaat | O37: 1 | P37: 0 | Q37: 0 | R37: 0 | S37: Vermogen: kW | T37: Max. debiet (primair): m3/h | U37: Max. debiet (secundair): m3/h | AX37: 40
L38: 56.81.20 | M38: ventilatorconvector | O38: 1 | P38: 0 | Q38: 0 | R38: 0 | T38: Vermogen: kW | AX38: 41
L39: 56.84.00 | M39: vloer-/wandverwarming | O39: 1 | P39: - | Q39: - | R39: - | T39: Vloeroppervlak: m2 | V39: Aantal naregelingen: stuks | AX39: 42
L40: 56.87.10 | M40: luchtverwarmer, indirect verwarmd | O40: 1 | P40: 0 | Q40: 0 | R40: 0 | S40: ontbreekt menu? | AX40: 43
L41: 56.87.20 | M41: luchtverwarmer, direct verwarmd | O41: 1 | P41: 0 | Q41: 0 | R41: 0 | S41: ontbreekt menu? | AX41: 44
L42: 56.87.20 | M42: Luchtbehandeling luchtgordijn | O42: 1 | P42: 0 | Q42: 0 | R42: 0 | S42: Breedte: m | T42: Vermogen: kW | AX42: 45
L43: 57.41.20 | M43: lokale ventilatoren | O43: 1 | P43: 0 | Q43: 0 | R43: 0 | S43: Max. debiet: m3/h | T43: Opvoerhoogte: m | AX43: 46
L44: 57.41.40 | M44: centrale ventilatoren | O44: 1 | P44: 0 | Q44: 0 | R44: 0 | S44: Max. debiet: m3/h | T44: Opvoerhoogte: m | AX44: 47
L45: 57.50.00 | M45: Luchtbehandelingkast | O45: 1 | P45: 0 | Q45: 0 | R45: 0 | S45: Max. debiet: m3/h | AX45: 48
L46: 57.51.00 | M46: Luchtbehandelingkast met warmteterugwinning | O46: 1 | P46: 0 | Q46: 0 | R46: 0 | S46: Max. debiet: m3/h | AX46: 49
L47: 57.70.30 | M47: stoombevochtiger | O47: 1 | P47: 0 | Q47: 0 | R47: 0 | S47: Elektrisch vermogen: kW | AX47: 50
L48: 57.70.31 | M48: stoombevochtiger (lokaal) | O48: 1 | P48: 0 | Q48: 0 | R48: 0 | S48: Elektrisch vermogen: kW | AX48: 51
L49: 58.12.30 | M49: Regeling (thermostaat, WRT) | O49: 1 | P49: 0 | Q49: 0 | R49: 0 | AX49: 52
L50: 58.20.10 | M50: Regelkast klimaatbeheersing (CV en luchtbehandeling) | O50: 1 | P50: 0 | Q50: 0 | R50: 0 | AX50: 53
L51: 59.10.00 | M51: gasblusinstallatie (algemeen) | O51: 1 | P51: 0 | Q51: 0 | R51: 0 | AX51: 54
L52: 59.21 | M52: sprinklerinstallatie | O52: 1 | P52: 0 | Q52: 0 | R52: 0 | S52: Sprinklerkoppen: stuks | T52: Alarm-/terugslagklep: stuks | U52: Max. debiet: m3/h | W52: Sprinklerpomp: stuks | AX52: 55
L53: 59.23.00 | M53: droge blusleiding | O53: 1 | P53: 0 | Q53: - | R53: - | S53: Aansluitpunten: stuks | AX53: 56
L54: 59.24.00 | M54: brandslanghaspel | O54: 1 | P54: 0 | Q54: - | R54: - | AX54: 57
L55: 59.25.00 | M55: handblusmiddel | O55: 1 | P55: 0 | Q55: 0 | R55: 0 | T55: kg of L | AX55: 58
L56: 59.31.10 | M56: Brandklep | O56: 1 | P56: 0 | Q56: - | R56: - | AX56: 59
L57: 61.12 | M57: nobreak unit (statisch) | O57: 1 | P57: 0 | Q57: 0 | R57: 0 | T57: Accubatterijen: stuks | U57: Tot. vermogen: kVA | AX57: 60
L58: 61.13.00 | M58: noodstroomaggregaat | O58: 1 | P58: 0 | Q58: 0 | R58: 0 | T58: Vermogen: kVA | U58: Tankinhoud: L | AX58: 61
L59: 61.15.10 | M59: PV cellen | O59: 1 | P59: 0 | Q59: 0 | R59: 0 | S59: Piekvermogen: Wp | AX59: 62
L60: 61.15.20 | M60: PV omvormer | O60: 1 | P60: 0 | Q60: 0 | R60: 0 | S60: Vermogen: kW | AX60: 63
L61: 61.21.10 | M61: veiligheidsaarding | O61: 1 | P61: 0 | Q61: 0 | R61: 0 | U61: Verb. centr. aardpunt: stuks | AX61: 64
L62: 61.21.20 | M62: overspanningsbeveiliging | O62: 1 | P62: 0 | Q62: 0 | R62: 0 | AX62: 65
L63: 61.25.00 | M63: bliksemafleiding | O63: 1 | P63: 0 | Q63: - | R63: - | S63: Oppervlakte daknet: m2 | T63: Vangstaven: stuks | U63: Aardelektrodes: stuks | AX63: 66
L64: 61.52.00 | M64: laagspanningshoofdverdeler | O64: 1 | P64: 0 | Q64: 0 | R64: 0 | S64: Inom: A | T64: Lichtgroepen: stuks | U64: Krachtgroepen: stuks | AX64: 67
L65: 61.52.10 | M65: Aardlekschakelaar | O65: 1 | P65: 0 | Q65: - | R65: - | S65: Lichtgroepen: stuks | T65: Krachtgroepen: stuks | AX65: 68
L66: 63.10.00 | M66: regeling en signalering verlichting (algemeen) | O66: 1 | P66: 0 | Q66: 0 | R66: 0 | AX66: 69
L67: 63.20.00 | M67: Noodverlichtingsinstallatie (algemene informatie) | O67: 1 | P67: 0 | Q67: 0 | R67: 0 | V67: Datum (revisie)tekeningen: dd-mm-jjjj | AX67: 70
L68: 63.22.00 | M68: noodverlichtingsarmaturen | O68: 1 | P68: 0 | Q68: 0 | R68: 0 | AX68: 71
L69: 63.42.00 | M69: armaturen vluchtwegsignalering | O69: 1 | P69: 0 | Q69: 0 | R69: 0 | AX69: 72
L70: 64.22.00 | M70: intercom | O70: 1 | P70: 0 | Q70: 0 | R70: 0 | V70: Buitendoorposten: stuks | W70: Uitluisterpunten: stuks | AX70: 73
L71: 64.31.10 | M71: CCTV camera | O71: 1 | P71: 0 | Q71: 0 | R71: 0 | AX71: 74
L72: 64.31.20 | M72: CCTV monitor | O72: 1 | P72: 0 | Q72: 0 | R72: 0 | AX72: 75
L73: 65.11.10 | M73: centrale brandmeldinstallatie | O73: 1 | P73: 0 | Q73: 0 | R73: 0 | V73: Keuringsdatum: dd-mm-jjjj | W73: ontbreekt menu? | X73: Signaleringen: stuks | AX73: 76
L74: 65.11.11 | M74: paneel brandmeldinstallatie | O74: 1 | P74: 0 | Q74: 0 | R74: 0 | AX74: 77
L75: 65.11.12 | M75: rookmelder | O75: 1 | P75: 0 | Q75: 0 | R75: 0 | AX75: 78
L76: 65.11.13 | M76: handmelder (brand) | O76: 1 | P76: 0 | Q76: 0 | R76: 0 | AX76: 79
L77: 65.11.30 | M77: centrale melding- en ontruimingsinstallatie | O77: 1 | P77: 0 | Q77: 0 | R77: 0 | T77: Signaalgevers: stuks | AX77: 80
L78: 65.11.32 | M78: detector melding- en ontruimingsinstallatie | O78: 1 | P78: 0 | Q78: 0 | R78: 0 | S78: Detectors: stuks | AX78: 81
L79: 65.12.10 | M79: Kleefmagneten (deurmagneten) | O79: 1 | P79: 0 | Q79: 0 | R79: 0 | S79: Kleefmagneten: stuks | AX79: 82
L80: 65.21.10 | M80: centrale inbraakinstallatie | O80: 1 | P80: 0 | Q80: 0 | R80: 0 | T80: Codebediendelen: stuks | U80: Overige bediendelen: stuks | V80: Signaalgevers: stuks | W80: Detectie-eenheden: stuks | AX80: 83
L81: 65.22.10 | M81: toegangscontrole installatie | O81: 1 | P81: 0 | Q81: 0 | R81: 0 | V81: Deuraansturingen: stuks | W81: Kaartlezers: stuks | AX81: 84
L82: 65.31.00 | M82: zon- en lichtwering | O82: 1 | P82: 0 | Q82: 0 | R82: 0 | S82: Bedieneenheden: stuks | AX82: 85
L83: 65.34.10 | M83: gasdetectie apparatuur | O83: 1 | P83: 0 | Q83: - | R83: - | AX83: 86
L84: 65.34.20 | M84: waterdetectie apparatuur | O84: 1 | P84: 0 | Q84: - | R84: - | AX84: 87
L85: 65.44.00 | M85: signalering mindervalidetoiletten | O85: 1 | P85: 0 | Q85: - | R85: - | AX85: 88
L86: 66.10 | M86: lift | O86: 1 | P86: 0 | Q86: 0 | R86: 0 | U86: Stopplaatsen: stuks | V86: Laadvermogen: kg | W86: Aantal deuren: stuks | AX86: 89
L87: 66.14.00 | M87: heftableau | O87: 1 | P87: 0 | Q87: 0 | R87: 0 | U87: Stopplaatsen: stuks | V87: Laadvermogen: kg | AX87: 90
L88: 75.13.20 | M88: Gevelladder | O88: 1 | P88: 0 | Q88: 0 | R88: 0 | AX88: 91
L89: 75.13.30 | M89: Gevelwasinstallatie | O89: 1 | P89: 0 | Q89: 0 | R89: 0 | AX89: 92
L90: 90.34.20 | M90: toegangshek | O90: 1 | P90: 0 | Q90: 0 | R90: 0 | T90: Breedte: m | U90: Hoogte: m | V90: Afstandsbedieningen: stuks | AX90: 93
L91: 90.34.30 | M91: slagboom | O91: 1 | P91: 0 | Q91: 0 | R91: 0 | V91: Breedte: m | AX91: 94
L92: 90.63.00 | M92: Lichtmast | O92: 1 | P92: 0 | Q92: 0 | R92: 0 | U92: Vermogen per eenheid: W | V92: Armaturen op mast: stuks | AX92: 95
L93: 90.63.10 | M93: Armaturen buitenverlichting/gevelverlichting | O93: 1 | P93: 0 | Q93: 0 | R93: 0 | T93: Armaturen: stuks | U93: Vermogen per eenheid: W | AX93: 96
L94: 0 | M94: Gesloten bron (WKO) | O94: 1 | P94: 0 | Q94: 0 | R94: 0 | S94: Max. debiet: m3/h | T94: Diepte: m | U94: Boringen: stuks | V94: Aantal boringen | AX94: 97

Sheet 2 Opnamesjabloon
D2: Vergeten velden | E2: =SUM(AP2:AY2) -> 506 | AP2: =SUMIF(AQ5:AQ97, 1) -> 92 | AQ2: =SUMIF(AR5:AR97, 1) -> 84 | AR2: =SUMIF(AS5:AS97, 1) -> 84 | AS2: =SUMIF(AT5:AT97, 1) -> 79 | AT2: =SUMIF(AU5:AU97, 1) -> 64 | AU2: =SUMIF(AV5:AV97, 1) -> 53 | AV2: =SUMIF(AW5:AW97, 1) -> 33 | AW2: =SUMIF(AX5:AX97, 1) -> 11 | ... AZ2: =SUMIF(BA5:BA97, 1) -> 1
A4: Index | B4: Duplicaat | C4: Categorie | D4: Omschrijving | E4: NL-SfB | F4: NL-SfB BIM | G4: NLSFB | H4: Aantal | I4: Bouwjaar | J4: Fabricaat | K4: Type | L4: Kenmerkvraag 4 | M4: Kenmerkantwoord 4 | N4: Kenmerkvraag 5 | O4: Kenmerkantwoord 5 | P4: Kenmerkvraag 6 | Q4: Kenmerkantwoord 6 | R4: Kenmerkvraag 7 | S4: Kenmerkantwoord 7 | T4: Kenmerkvraag 8 | U4: Kenmerkantwoord 8 | V4: Kenmerkvraag 9 | W4: Kenmerkantwoord 9 | X4: Kenmerkvraag 10 | Y4: Kenmerkantwoord 10 | Z4: Kenmerkvraag 11 | AA4: Kenmerkantwoord 11 | AB4: Invulinstructie | AC4: Opmerkingen | AD4: IsAssetRegel | AE4: IsRegelActief | AF4: IsIngevuld1 | AG4: IsIngevuld2 | AH4: IsIngevuld3 | AI4: IsIngevuld4 | AJ4: IsIngevuld5 | AK4: IsIngevuld6 | AL4: IsIngevuld7 | AM4: IsIngevuld8 | AN4: IsIngevuld9 | AO4: IsIngevuld10 | AP4: IsIngevuld11 | AQ4: ow1 | AR4: ow2 | AS4: ow3 | AT4: ow4 | AU4: ow5 | AV4: ow6 | AW4: ow7 | AX4: ow8 | AY4: ow9 | AZ4: ow10 | BA4: ow11 | BB4: HeeftKenmerkEenheid4 | BC4: Kenmerkeenheid4 | BD4: Kenmerkomschrijving4 | BE4: Kenmerkzin4 | BF4: HeeftKenmerkEenheid5 | BG4: Kenmerkeenheid5 | BH4: Kenmerkomschrijving5 | BI4: Kenmerkzin5 | BJ4: HeeftKenmerkEenheid6 | BK4: Kenmerkeenheid6 | BL4: Kenmerkomschrijving6 | BM4: Kenmerkzin6 | BN4: HeeftKenmerkEenheid7 | BO4: Kenmerkeenheid7 | BP4: Kenmerkomschrijving7 | BQ4: Kenmerkzin7 | BR4: HeeftKenmerkEenheid8 | BS4: Kenmerkeenheid8 | BT4: Kenmerkomschrijving8 | BU4: Kenmerkzin8 | BV4: HeeftKenmerkEenheid9 | BW4: Kenmerkeenheid9 | BX4: Kenmerkomschrijving9 | BY4: Kenmerkzin9 | BZ4: HeeftKenmerkEenheid10 | CA4: Kenmerkeenheid10 | CB4: Kenmerkomschrijving10 | CC4: Kenmerkzin10 | CD4: HeeftKenmerkEenheid11 | CE4: Kenmerkeenheid11 | CF4: Kenmerkomschrijving11 | CG4: Kenmerkzin11 | CH4: Kenmerkzin12 | CI4: Kenmerkzin13 | CJ4: Kenmerkzin14 | CK4: Kenmerkzin15 | CL4: Kenmerkzin16 | CM4: Kenmerkzin17 | CN4: Kenmerkzin18 | CO4: Kenmerkzin19 | CP4: Kenmerkzin20 | CQ4: Kenmerkzin21 | CR4: Kenmerkzin22 | CS4: Kenmerkzin23 | CT4: Kenmerkzin24 | CU4: Kenmerkzin25
A5: =ROW() -> 5 | B5: 0 | C5: Ramen en deuren | D5: =VLOOKUP(E5,'3 NL-SfB'!C:F,4,0) -> automatische draaideur (buiten) | E5: 31.31.10 | F5: 31.31 | G5: 31.31 | H5: 1 | L5: Aandrijving | N5: Hoogte [m] | P5: Diameter [m] | R5: vluchtweg ja/nee | AD5: =NOT(ISBLANK(OpnameTabel[[#This Row],[Aantal]])) -> TRUE | AE5: =AND(OpnameTabel[[#This Row],[IsAssetRegel]],NOT(ISBLANK(OpnameTabel[[#This Row],[Aantal]]))) -> TRUE | AF5: =IF(AND(OpnameTabel[[#This Row],[IsAssetRegel]],OpnameTabel[[#This Row],[IsRegelActief]]), NOT(ISBLANK(OpnameTabel[[#This Row],[Bouwjaar]])), TRUE) -> FALSE | AG5: =IF(AND(OpnameTabel[[#This Row],[IsAssetRegel]],OpnameTabel[[#This Row],[IsRegelActief]]), NOT(ISBLANK(J5)), TRUE) -> FALSE | AH5: =IF(AND(OpnameTabel[[#This Row],[IsAssetRegel]],OpnameTabel[[#This Row],[IsRegelActief]]), NOT(ISBLANK(K5)), TRUE) -> FALSE | AI5: =IF(AND(OpnameTabel[[#This Row],[IsAssetRegel]],OpnameTabel[[#This Row],[IsRegelActief]], NOT(ISBLANK(OpnameTabel[[#This Row],[Kenmerkvraag 4]]))), NOT(ISBLANK(OpnameTabel[[#This Row],[Kenmerkantwoord 4]])), TRUE) -> FALSE | AJ5: =IF(AND(OpnameTabel[[#This Row],[IsAssetRegel]],OpnameTabel[[#This Row],[IsRegelActief]], NOT(ISBLANK(OpnameTabel[[#This Row],[Kenmerkvraag 5]]))), NOT(ISBLANK(OpnameTabel[[#This Row],[Kenmerkantwoord 5]])), TRUE) -> FALSE | AK5: =IF(AND(OpnameTabel[[#This Row],[IsAssetRegel]],OpnameTabel[[#This Row],[IsRegelActief]], NOT(ISBLANK(OpnameTabel[[#This Row],[Kenmerkvraag 6]]))), NOT(ISBLANK(OpnameTabel[[#This Row],[Kenmerkantwoord 6]])), TRUE) -> FALSE | AL5: =IF(AND(OpnameTabel[[#This Row],[IsAssetRegel]],OpnameTabel[[#This Row],[IsRegelActief]], NOT(ISBLANK(OpnameTabel[[#This Row],[Kenmerkvraag 7]]))), NOT(ISBLANK(OpnameTabel[[#This Row],[Kenmerkantwoord 7]])), TRUE) -> FALSE | AM5: =IF(AND(OpnameTabel[[#This Row],[IsAssetRegel]],OpnameTabel[[#This Row],[IsRegelActief]], NOT(ISBLANK(OpnameTabel[[#This Row],[Kenmerkvraag 8]]))), NOT(ISBLANK(OpnameTabel[[#This Row],[Kenmerkantwoord 8]])), TRUE) -> TRUE | AN5: =IF(AND(OpnameTabel[[#This Row],[IsAssetRegel]],OpnameTabel[[#This Row],[IsRegelActief]], NOT(ISBLANK(OpnameTabel[[#This Row],[Kenmerkvraag 9]]))), NOT(ISBLANK(OpnameTabel[[#This Row],[Kenmerkantwoord 9]])), TRUE) -> TRUE | AO5: =IF(AND(OpnameTabel[[#This Row],[IsAssetRegel]],OpnameTabel[[#This Row],[IsRegelActief]], NOT(ISBLANK(OpnameTabel[[#This Row],[Kenmerkvraag 10]]))), NOT(ISBLANK(OpnameTabel[[#This Row],[Kenmerkantwoord 10]])), TRUE) -> TRUE | AP5: =IF(AND(OpnameTabel[[#This Row],[IsAssetRegel]],OpnameTabel[[#This Row],[IsRegelActief]], NOT(ISBLANK(OpnameTabel[[#This Row],[Kenmerkvraag 11]]))), NOT(ISBLANK(OpnameTabel[[#This Row],[Kenmerkantwoord 11]])), TRUE) -> TRUE | AQ5: =IF(OpnameTabel[[#This Row],[IsIngevuld1]], 0, 1) -> 1 | AR5: =IF(OpnameTabel[[#This Row],[IsIngevuld2]], 0, 1) -> 1 | AS5: =IF(OpnameTabel[[#This Row],[IsIngevuld3]], 0, 1) -> 1 | AT5: =IF(OpnameTabel[[#This Row],[IsIngevuld4]], 0, 1) -> 1 | AU5: =IF(OpnameTabel[[#This Row],[IsIngevuld5]], 0, 1) -> 1 | AV5: =IF(OpnameTabel[[#This Row],[IsIngevuld6]], 0, 1) -> 1 | AW5: =IF(OpnameTabel[[#This Row],[IsIngevuld7]], 0, 1) -> 1 | AX5: =IF(OpnameTabel[[#This Row],[IsIngevuld8]], 0, 1) -> 0 | AY5: =IF(OpnameTabel[[#This Row],[IsIngevuld9]], 0, 1) -> 0 | AZ5: =IF(OpnameTabel[[#This Row],[IsIngevuld10]], 0, 1) -> 0 | BA5: =IF(OpnameTabel[[#This Row],[IsIngevuld11]], 0, 1) -> 0 | BB5: =ISNUMBER(SEARCH("[",OpnameTabel[[#This Row],[Kenmerkvraag 4]])) -> FALSE | BC5: =IF(OpnameTabel[[#This Row],[HeeftKenmerkEenheid4]], MID(LEFT(OpnameTabel[[#This Row],[Kenmerkvraag 4]],FIND("]",OpnameTabel[[#This Row],[Kenmerkvraag 4]])-1),FIND("[",OpnameTabel[[#This Row],[Kenmerkvraag 4]])+1,LEN(OpnameTabel[[#This Row],[Kenmerkvraag 4]])), "") | BD5: =IF(OpnameTabel[[#This Row],[HeeftKenmerkEenheid4]], LEFT(OpnameTabel[[#This Row],[Kenmerkvraag 4]], (FIND(" [",OpnameTabel[[#This Row],[Kenmerkvraag 4]],1)-1)), "") | BE5: =IF(OpnameTabel[[#This Row],[HeeftKenmerkEenheid4]], (OpnameTabel[[#This Row],[Kenmerkomschrijving4]] & ": " & OpnameTabel[[#This Row],[Kenmerkantwoord 4]] & " " &OpnameTabel[[#This Row],[Kenmerkeenheid4]]), IF(ISTEXT(OpnameTabel[[#This Row],[Kenmerkantwoord 4]]), OpnameTabel[[#This Row],[Kenmerkantwoord 4]], "")) | BF5: =ISNUMBER(SEARCH("[",OpnameTabel[[#This Row],[Kenmerkvraag 5]])) -> TRUE | BG5: =IF(OpnameTabel[[#This Row],[HeeftKenmerkEenheid5]], MID(LEFT(OpnameTabel[[#This Row],[Kenmerkvraag 5]],FIND("]",OpnameTabel[[#This Row],[Kenmerkvraag 5]])-1),FIND("[",OpnameTabel[[#This Row],[Kenmerkvraag 5]])+1,LEN(OpnameTabel[[#This Row],[Kenmerkvraag 5]])), "") -> m | BH5: =IF(OpnameTabel[[#This Row],[HeeftKenmerkEenheid5]], LEFT(OpnameTabel[[#This Row],[Kenmerkvraag 5]], (FIND(" [",OpnameTabel[[#This Row],[Kenmerkvraag 5]],1)-1)), "") -> Hoogte | BI5: =IF(OpnameTabel[[#This Row],[HeeftKenmerkEenheid5]], (OpnameTabel[[#This Row],[Kenmerkomschrijving5]] & ": " & OpnameTabel[[#This Row],[Kenmerkantwoord 5]] & " " &OpnameTabel[[#This Row],[Kenmerkeenheid5]]), IF(ISTEXT(OpnameTabel[[#This Row],[Kenmerkantwoord 5]]), OpnameTabel[[#This Row],[Kenmerkantwoord 5]], "")) -> Hoogte: m | BJ5: =ISNUMBER(SEARCH("[",OpnameTabel[[#This Row],[Kenmerkvraag 6]])) -> TRUE | BK5: =IF(OpnameTabel[[#This Row],[HeeftKenmerkEenheid6]], MID(LEFT(OpnameTabel[[#This Row],[Kenmerkvraag 6]],FIND("]",OpnameTabel[[#This Row],[Kenmerkvraag 6]])-1),FIND("[",OpnameTabel[[#This Row],[Kenmerkvraag 6]])+1,LEN(OpnameTabel[[#This Row],[Kenmerkvraag 6]])), "") -> m | BL5: =IF(OpnameTabel[[#This Row],[HeeftKenmerkEenheid6]], LEFT(OpnameTabel[[#This Row],[Kenmerkvraag 6]], (FIND(" [",OpnameTabel[[#This Row],[Kenmerkvraag 6]],1)-1)), "") -> Diameter | BM5: =IF(OpnameTabel[[#This Row],[HeeftKenmerkEenheid6]], (OpnameTabel[[#This Row],[Kenmerkomschrijving6]] & ": " & OpnameTabel[[#This Row],[Kenmerkantwoord 6]] & " " &OpnameTabel[[#This Row],[Kenmerkeenheid6]]), IF(ISTEXT(OpnameTabel[[#This Row],[Kenmerkantwoord 6]]), OpnameTabel[[#This Row],[Kenmerkantwoord 6]], "")) -> Diameter: m | BN5: =ISNUMBER(SEARCH("[",OpnameTabel[[#This Row],[Kenmerkvraag 7]])) -> FALSE | BO5: =IF(OpnameTabel[[#This Row],[HeeftKenmerkEenheid7]], MID(LEFT(OpnameTabel[[#This Row],[Kenmerkvraag 7]],FIND("]",OpnameTabel[[#This Row],[Kenmerkvraag 7]])-1),FIND("[",OpnameTabel[[#This Row],[Kenmerkvraag 7]])+1,LEN(OpnameTabel[[#This Row],[Kenmerkvraag 7]])), "") | BP5: =IF(OpnameTabel[[#This Row],[HeeftKenmerkEenheid7]], LEFT(OpnameTabel[[#This Row],[Kenmerkvraag 7]], (FIND(" [",OpnameTabel[[#This Row],[Kenmerkvraag 7]],1)-1)), "") | BQ5: =IF(OpnameTabel[[#This Row],[HeeftKenmerkEenheid7]], (OpnameTabel[[#This Row],[Kenmerkomschrijving7]] & ": " & OpnameTabel[[#This Row],[Kenmerkantwoord 7]] & " " &OpnameTabel[[#This Row],[Kenmerkeenheid7]]), IF(ISTEXT(OpnameTabel[[#This Row],[Kenmerkantwoord 7]]), OpnameTabel[[#This Row],[Kenmerkantwoord 7]], "")) | BR5: =ISNUMBER(SEARCH("[",OpnameTabel[[#This Row],[Kenmerkvraag 8]])) -> FALSE | BS5: =IF(OpnameTabel[[#This Row],[HeeftKenmerkEenheid8]], MID(LEFT(OpnameTabel[[#This Row],[Kenmerkvraag 8]],FIND("]",OpnameTabel[[#This Row],[Kenmerkvraag 8]])-1),FIND("[",OpnameTabel[[#This Row],[Kenmerkvraag 8]])+1,LEN(OpnameTabel[[#This Row],[Kenmerkvraag 8]])), "") | BT5: =IF(OpnameTabel[[#This Row],[HeeftKenmerkEenheid8]], LEFT(OpnameTabel[[#This Row],[Kenmerkvraag 8]], (FIND(" [",OpnameTabel[[#This Row],[Kenmerkvraag 8]],1)-1)), "") | BU5: =IF(OpnameTabel[[#This Row],[HeeftKenmerkEenheid8]], (OpnameTabel[[#This Row],[Kenmerkomschrijving8]] & ": " & OpnameTabel[[#This Row],[Kenmerkantwoord 8]] & " " &OpnameTabel[[#This Row],[Kenmerkeenheid8]]), IF(ISTEXT(OpnameTabel[[#This Row],[Kenmerkantwoord 8]]), OpnameTabel[[#This Row],[Kenmerkantwoord 8]], "")) | BV5: =ISNUMBER(SEARCH("[",OpnameTabel[[#This Row],[Kenmerkvraag 9]])) -> FALSE | BW5: =IF(OpnameTabel[[#This Row],[HeeftKenmerkEenheid9]], MID(LEFT(OpnameTabel[[#This Row],[Kenmerkvraag 9]],FIND("]",OpnameTabel[[#This Row],[Kenmerkvraag 9]])-1),FIND("[",OpnameTabel[[#This Row],[Kenmerkvraag 9]])+1,LEN(OpnameTabel[[#This Row],[Kenmerkvraag 9]])), "") | BX5: =IF(OpnameTabel[[#This Row],[HeeftKenmerkEenheid9]], LEFT(OpnameTabel[[#This Row],[Kenmerkvraag 9]], (FIND(" [",OpnameTabel[[#This Row],[Kenmerkvraag 9]],1)-1)), "") | BY5: =IF(OpnameTabel[[#This Row],[HeeftKenmerkEenheid9]], (OpnameTabel[[#This Row],[Kenmerkomschrijving9]] & ": " & OpnameTabel[[#This Row],[Kenmerkantwoord 9]] & " " &OpnameTabel[[#This Row],[Kenmerkeenheid9]]), IF(ISTEXT(OpnameTabel[[#This Row],[Kenmerkantwoord 9]]), OpnameTabel[[#This Row],[Kenmerkantwoord 9]], "")) | BZ5: =ISNUMBER(SEARCH("[",OpnameTabel[[#This Row],[Kenmerkvraag 10]])) -> FALSE | CA5: =IF(OpnameTabel[[#This Row],[HeeftKenmerkEenheid10]], MID(LEFT(OpnameTabel[[#This Row],[Kenmerkvraag 10]],FIND("]",OpnameTabel[[#This Row],[Kenmerkvraag 10]])-1),FIND("[",OpnameTabel[[#This Row],[Kenmerkvraag 10]])+1,LEN(OpnameTabel[[#This Row],[Kenmerkvraag 10]])), "") | CB5: =IF(OpnameTabel[[#This Row],[HeeftKenmerkEenheid10]], LEFT(OpnameTabel[[#This Row],[Kenmerkvraag 10]], (FIND(" [",OpnameTabel[[#This Row],[Kenmerkvraag 10]],1)-1)), "") | CC5: =IF(OpnameTabel[[#This Row],[HeeftKenmerkEenheid10]], (OpnameTabel[[#This Row],[Kenmerkomschrijving10]] & ": " & OpnameTabel[[#This Row],[Kenmerkantwoord 10]] & " " &OpnameTabel[[#This Row],[Kenmerkeenheid10]]), IF(ISTEXT(OpnameTabel[[#This Row],[Kenmerkantwoord 10]]), OpnameTabel[[#This Row],[Kenmerkantwoord 10]], "")) | CD5: =ISNUMBER(SEARCH("[",OpnameTabel[[#This Row],[Kenmerkvraag 11]])) -> FALSE | CE5: =IF(OpnameTabel[[#This Row],[HeeftKenmerkEenheid11]], MID(LEFT(OpnameTabel[[#This Row],[Kenmerkvraag 11]],FIND("]",OpnameTabel[[#This Row],[Kenmerkvraag 11]])-1),FIND("[",OpnameTabel[[#This Row],[Kenmerkvraag 11]])+1,LEN(OpnameTabel[[#This Row],[Kenmerkvraag 11]])), "") | CF5: =IF(OpnameTabel[[#This Row],[HeeftKenmerkEenheid11]], LEFT(OpnameTabel[[#This Row],[Kenmerkvraag 11]], (FIND(" [",OpnameTabel[[#This Row],[Kenmerkvraag 11]],1)-1)), "") | CG5: =IF(OpnameTabel[[#This Row],[HeeftKenmerkEenheid11]], (OpnameTabel[[#This Row],[Kenmerkomschrijving11]] & ": " & OpnameTabel[[#This Row],[Kenmerkantwoord 11]] & " " &OpnameTabel[[#This Row],[Kenmerkeenheid11]]), IF(ISTEXT(OpnameTabel[[#This Row],[Kenmerkantwoord 11]]), OpnameTabel[[#This Row],[Kenmerkantwoord 11]], ""))
A6: =ROW() -> 6 | B6: 0 | C6: Ramen en deuren | D6: =VLOOKUP(E6,'3 NL-SfB'!C:F,4,0) -> automatische schuifdeur (buiten) | E6: 31.32.10 | F6: 31.32 | G6: 31.32 | H6: 1 | L6: Aandrijving | N6: Hoogte [m] | P6: Breedte [m] | R6: vluchtweg ja/nee | AD6: =NOT(ISBLANK(OpnameTabel[[#This Row],[Aantal]])) -> TRUE | AE6: =AND(OpnameTabel[[#This Row],[IsAssetRegel]],NOT(ISBLANK(OpnameTabel[[#This Row],[Aantal]]))) -> TRUE | AF6: =IF(AND(OpnameTabel[[#This Row],[IsAssetRegel]],OpnameTabel[[#This Row],[IsRegelActief]]), NOT(ISBLANK(OpnameTabel[[#This Row],[Bouwjaar]])), TRUE) -> FALSE | AG6: =IF(AND(OpnameTabel[[#This Row],[IsAssetRegel]],OpnameTabel[[#This Row],[IsRegelActief]]), NOT(ISBLANK(J6)), TRUE) -> FALSE | AH6: =IF(AND(OpnameTabel[[#This Row],[IsAssetRegel]],OpnameTabel[[#This Row],[IsRegelActief]]), NOT(ISBLANK(K6)), TRUE) -> FALSE | AI6: =IF(AND(OpnameTabel[[#This Row],[IsAssetRegel]],OpnameTabel[[#This Row],[IsRegelActief]], NOT(ISBLANK(OpnameTabel[[#This Row],[Kenmerkvraag 4]]))), NOT(ISBLANK(OpnameTabel[[#This Row],[Kenmerkantwoord 4]])), TRUE) -> FALSE | AJ6: =IF(AND(OpnameTabel[[#This Row],[IsAssetRegel]],OpnameTabel[[#This Row],[IsRegelActief]], NOT(ISBLANK(OpnameTabel[[#This Row],[Kenmerkvraag 5]]))), NOT(ISBLANK(OpnameTabel[[#This Row],[Kenmerkantwoord 5]])), TRUE) -> FALSE | AK6: =IF(AND(OpnameTabel[[#This Row],[IsAssetRegel]],OpnameTabel[[#This Row],[IsRegelActief]], NOT(ISBLANK(OpnameTabel[[#This Row],[Kenmerkvraag 6]]))), NOT(ISBLANK(OpnameTabel[[#This Row],[Kenmerkantwoord 6]])), TRUE) -> FALSE | AL6: =IF(AND(OpnameTabel[[#This Row],[IsAssetRegel]],OpnameTabel[[#This Row],[IsRegelActief]], NOT(ISBLANK(OpnameTabel[[#This Row],[Kenmerkvraag 7]]))), NOT(ISBLANK(OpnameTabel[[#This Row],[Kenmerkantwoord 7]])), TRUE) -> FALSE | AM6: =IF(AND(OpnameTabel[[#This Row],[IsAssetRegel]],OpnameTabel[[#This Row],[IsRegelActief]], NOT(ISBLANK(OpnameTabel[[#This Row],[Kenmerkvraag 8]]))), NOT(ISBLANK(OpnameTabel[[#This Row],[Kenmerkantwoord 8]])), TRUE) -> TRUE | AN6: =IF(AND(OpnameTabel[[#This Row],[IsAssetRegel]],OpnameTabel[[#This Row],[IsRegelActief]], NOT(ISBLANK(OpnameTabel[[#This Row],[Kenmerkvraag 9]]))), NOT(ISBLANK(OpnameTabel[[#This Row],[Kenmerkantwoord 9]])), TRUE) -> TRUE | AO6: =IF(AND(OpnameTabel[[#This Row],[IsAssetRegel]],OpnameTabel[[#This Row],[IsRegelActief]], NOT(ISBLANK(OpnameTabel[[#This Row],[Kenmerkvraag 10]]))), NOT(ISBLANK(OpnameTabel[[#This Row],[Kenmerkantwoord 10]])), TRUE) -> TRUE | AP6: =IF(AND(OpnameTabel[[#This Row],[IsAssetRegel]],OpnameTabel[[#This Row],[IsRegelActief]], NOT(ISBLANK(OpnameTabel[[#This Row],[Kenmerkvraag 11]]))), NOT(ISBLANK(OpnameTabel[[#This Row],[Kenmerkantwoord 11]])), TRUE) -> TRUE | AQ6: =IF(OpnameTabel[[#This Row],[IsIngevuld1]], 0, 1) -> 1 | AR6: =IF(OpnameTabel[[#This Row],[IsIngevuld2]], 0, 1) -> 1 | AS6: =IF(OpnameTabel[[#This Row],[IsIngevuld3]], 0, 1) -> 1 | AT6: =IF(OpnameTabel[[#This Row],[IsIngevuld4]], 0, 1) -> 1 | AU6: =IF(OpnameTabel[[#This Row],[IsIngevuld5]], 0, 1) -> 1 | AV6: =IF(OpnameTabel[[#This Row],[IsIngevuld6]], 0, 1) -> 1 | AW6: =IF(OpnameTabel[[#This Row],[IsIngevuld7]], 0, 1) -> 1 | AX6: =IF(OpnameTabel[[#This Row],[IsIngevuld8]], 0, 1) -> 0 | AY6: =IF(OpnameTabel[[#This Row],[IsIngevuld9]], 0, 1) -> 0 | AZ6: =IF(OpnameTabel[[#This Row],[IsIngevuld10]], 0, 1) -> 0 | BA6: =IF(OpnameTabel[[#This Row],[IsIngevuld11]], 0, 1) -> 0 | BB6: =ISNUMBER(SEARCH("[",OpnameTabel[[#This Row],[Kenmerkvraag 4]])) -> FALSE | BC6: =IF(OpnameTabel[[#This Row],[HeeftKenmerkEenheid4]], MID(LEFT(OpnameTabel[[#This Row],[Kenmerkvraag 4]],FIND("]",OpnameTabel[[#This Row],[Kenmerkvraag 4]])-1),FIND("[",OpnameTabel[[#This Row],[Kenmerkvraag 4]])+1,LEN(OpnameTabel[[#This Row],[Kenmerkvraag 4]])), "") | BD6: =IF(OpnameTabel[[#This Row],[HeeftKenmerkEenheid4]], LEFT(OpnameTabel[[#This Row],[Kenmerkvraag 4]], (FIND(" [",OpnameTabel[[#This Row],[Kenmerkvraag 4]],1)-1)), "") | BE6: =IF(OpnameTabel[[#This Row],[HeeftKenmerkEenheid4]], (OpnameTabel[[#This Row],[Kenmerkomschrijving4]] & ": " & OpnameTabel[[#This Row],[Kenmerkantwoord 4]] & " " &OpnameTabel[[#This Row],[Kenmerkeenheid4]]), IF(ISTEXT(OpnameTabel[[#This Row],[Kenmerkantwoord 4]]), OpnameTabel[[#This Row],[Kenmerkantwoord 4]], "")) | BF6: =ISNUMBER(SEARCH("[",OpnameTabel[[#This Row],[Kenmerkvraag 5]])) -> TRUE | BG6: =IF(OpnameTabel[[#This Row],[HeeftKenmerkEenheid5]], MID(LEFT(OpnameTabel[[#This Row],[Kenmerkvraag 5]],FIND("]",OpnameTabel[[#This Row],[Kenmerkvraag 5]])-1),FIND("[",OpnameTabel[[#This Row],[Kenmerkvraag 5]])+1,LEN(OpnameTabel[[#This Row],[Kenmerkvraag 5]])), "") -> m | BH6: =IF(OpnameTabel[[#This Row],[HeeftKenmerkEenheid5]], LEFT(OpnameTabel[[#This Row],[Kenmerkvraag 5]], (FIND(" [",OpnameTabel[[#This Row],[Kenmerkvraag 5]],1)-1)), "") -> Hoogte | BI6: =IF(OpnameTabel[[#This Row],[HeeftKenmerkEenheid5]], (OpnameTabel[[#This Row],[Kenmerkomschrijving5]] & ": " & OpnameTabel[[#This Row],[Kenmerkantwoord 5]] & " " &OpnameTabel[[#This Row],[Kenmerkeenheid5]]), IF(ISTEXT(OpnameTabel[[#This Row],[Kenmerkantwoord 5]]), OpnameTabel[[#This Row],[Kenmerkantwoord 5]], "")) -> Hoogte: m | BJ6: =ISNUMBER(SEARCH("[",OpnameTabel[[#This Row],[Kenmerkvraag 6]])) -> TRUE | BK6: =IF(OpnameTabel[[#This Row],[HeeftKenmerkEenheid6]], MID(LEFT(OpnameTabel[[#This Row],[Kenmerkvraag 6]],FIND("]",OpnameTabel[[#This Row],[Kenmerkvraag 6]])-1),FIND("[",OpnameTabel[[#This Row],[Kenmerkvraag 6]])+1,LEN(OpnameTabel[[#This Row],[Kenmerkvraag 6]])), "") -> m | BL6: =IF(OpnameTabel[[#This Row],[HeeftKenmerkEenheid6]], LEFT(OpnameTabel[[#This Row],[Kenmerkvraag 6]], (FIND(" [",OpnameTabel[[#This Row],[Kenmerkvraag 6]],1)-1)), "") -> Breedte | BM6: =IF(OpnameTabel[[#This Row],[HeeftKenmerkEenheid6]], (OpnameTabel[[#This Row],[Kenmerkomschrijving6]] & ": " & OpnameTabel[[#This Row],[Kenmerkantwoord 6]] & " " &OpnameTabel[[#This Row],[Kenmerkeenheid6]]), IF(ISTEXT(OpnameTabel[[#This Row],[Kenmerkantwoord 6]]), OpnameTabel[[#This Row],[Kenmerkantwoord 6]], "")) -> Breedte: m | BN6: =ISNUMBER(SEARCH("[",OpnameTabel[[#This Row],[Kenmerkvraag 7]])) -> FALSE | BO6: =IF(OpnameTabel[[#This Row],[HeeftKenmerkEenheid7]], MID(LEFT(OpnameTabel[[#This Row],[Kenmerkvraag 7]],FIND("]",OpnameTabel[[#This Row],[Kenmerkvraag 7]])-1),FIND("[",OpnameTabel[[#This Row],[Kenmerkvraag 7]])+1,LEN(OpnameTabel[[#This Row],[Kenmerkvraag 7]])), "") | BP6: =IF(OpnameTabel[[#This Row],[HeeftKenmerkEenheid7]], LEFT(OpnameTabel[[#This Row],[Kenmerkvraag 7]], (FIND(" [",OpnameTabel[[#This Row],[Kenmerkvraag 7]],1)-1)), "") | BQ6: =IF(OpnameTabel[[#This Row],[HeeftKenmerkEenheid7]], (OpnameTabel[[#This Row],[Kenmerkomschrijving7]] & ": " & OpnameTabel[[#This Row],[Kenmerkantwoord 7]] & " " &OpnameTabel[[#This Row],[Kenmerkeenheid7]]), IF(ISTEXT(OpnameTabel[[#This Row],[Kenmerkantwoord 7]]), OpnameTabel[[#This Row],[Kenmerkantwoord 7]], "")) | BR6: =ISNUMBER(SEARCH("[",OpnameTabel[[#This Row],[Kenmerkvraag 8]])) -> FALSE | BS6: =IF(OpnameTabel[[#This Row],[HeeftKenmerkEenheid8]], MID(LEFT(OpnameTabel[[#This Row],[Kenmerkvraag 8]],FIND("]",OpnameTabel[[#This Row],[Kenmerkvraag 8]])-1),FIND("[",OpnameTabel[[#This Row],[Kenmerkvraag 8]])+1,LEN(OpnameTabel[[#This Row],[Kenmerkvraag 8]])), "") | BT6: =IF(OpnameTabel[[#This Row],[HeeftKenmerkEenheid8]], LEFT(OpnameTabel[[#This Row],[Kenmerkvraag 8]], (FIND(" [",OpnameTabel[[#This Row],[Kenmerkvraag 8]],1)-1)), "") | BU6: =IF(OpnameTabel[[#This Row],[HeeftKenmerkEenheid8]], (OpnameTabel[[#This Row],[Kenmerkomschrijving8]] & ": " & OpnameTabel[[#This Row],[Kenmerkantwoord 8]] & " " &OpnameTabel[[#This Row],[Kenmerkeenheid8]]), IF(ISTEXT(OpnameTabel[[#This Row],[Kenmerkantwoord 8]]), OpnameTabel[[#This Row],[Kenmerkantwoord 8]], "")) | BV6: =ISNUMBER(SEARCH("[",OpnameTabel[[#This Row],[Kenmerkvraag 9]])) -> FALSE | BW6: =IF(OpnameTabel[[#This Row],[HeeftKenmerkEenheid9]], MID(LEFT(OpnameTabel[[#This Row],[Kenmerkvraag 9]],FIND("]",OpnameTabel[[#This Row],[Kenmerkvraag 9]])-1),FIND("[",OpnameTabel[[#This Row],[Kenmerkvraag 9]])+1,LEN(OpnameTabel[[#This Row],[Kenmerkvraag 9]])), "") | BX6: =IF(OpnameTabel[[#This Row],[HeeftKenmerkEenheid9]], LEFT(OpnameTabel[[#This Row],[Kenmerkvraag 9]], (FIND(" [",OpnameTabel[[#This Row],[Kenmerkvraag 9]],1)-1)), "") | BY6: =IF(OpnameTabel[[#This Row],[HeeftKenmerkEenheid9]], (OpnameTabel[[#This Row],[Kenmerkomschrijving9]] & ": " & OpnameTabel[[#This Row],[Kenmerkantwoord 9]] & " " &OpnameTabel[[#This Row],[Kenmerkeenheid9]]), IF(ISTEXT(OpnameTabel[[#This Row],[Kenmerkantwoord 9]]), OpnameTabel[[#This Row],[Kenmerkantwoord 9]], "")) | BZ6: =ISNUMBER(SEARCH("[",OpnameTabel[[#This Row],[Kenmerkvraag 10]])) -> FALSE | CA6: =IF(OpnameTabel[[#This Row],[HeeftKenmerkEenheid10]], MID(LEFT(OpnameTabel[[#This Row],[Kenmerkvraag 10]],FIND("]",OpnameTabel[[#This Row],[Kenmerkvraag 10]])-1),FIND("[",OpnameTabel[[#This Row],[Kenmerkvraag 10]])+1,LEN(OpnameTabel[[#This Row],[Kenmerkvraag 10]])), "") | CB6: =IF(OpnameTabel[[#This Row],[HeeftKenmerkEenheid10]], LEFT(OpnameTabel[[#This Row],[Kenmerkvraag 10]], (FIND(" [",OpnameTabel[[#This Row],[Kenmerkvraag 10]],1)-1)), "") | CC6: =IF(OpnameTabel[[#This Row],[HeeftKenmerkEenheid10]], (OpnameTabel[[#This Row],[Kenmerkomschrijving10]] & ": " & OpnameTabel[[#This Row],[Kenmerkantwoord 10]] & " " &OpnameTabel[[#This Row],[Kenmerkeenheid10]]), IF(ISTEXT(OpnameTabel[[#This Row],[Kenmerkantwoord 10]]), OpnameTabel[[#This Row],[Kenmerkantwoord 10]], "")) | CD6: =ISNUMBER(SEARCH("[",OpnameTabel[[#This Row],[Kenmerkvraag 11]])) -> FALSE | CE6: =IF(OpnameTabel[[#This Row],[HeeftKenmerkEenheid11]], MID(LEFT(OpnameTabel[[#This Row],[Kenmerkvraag 11]],FIND("]",OpnameTabel[[#This Row],[Kenmerkvraag 11]])-1),FIND("[",OpnameTabel[[#This Row],[Kenmerkvraag 11]])+1,LEN(OpnameTabel[[#This Row],[Kenmerkvraag 11]])), "") | CF6: =IF(OpnameTabel[[#This Row],[HeeftKenmerkEenheid11]], LEFT(OpnameTabel[[#This Row],[Kenmerkvraag 11]], (FIND(" [",OpnameTabel[[#This Row],[Kenmerkvraag 11]],1)-1)), "") | CG6: =IF(OpnameTabel[[#This Row],[HeeftKenmerkEenheid11]], (OpnameTabel[[#This Row],[Kenmerkomschrijving11]] & ": " & OpnameTabel[[#This Row],[Kenmerkantwoord 11]] & " " &OpnameTabel[[#This Row],[Kenmerkeenheid11]]), IF(ISTEXT(OpnameTabel[[#This Row],[Kenmerkantwoord 11]]), OpnameTabel[[#This Row],[Kenmerkantwoord 11]], ""))
A7: =ROW() -> 7 | B7: 0 | C7: Ramen en deuren | D7: =VLOOKUP(E7,'3 NL-SfB'!C:F,4,0) -> tourniquet (buiten) | E7: 31.34.00 | F7: 31.34 | G7: 31.34 | H7: 1 | L7: Aandrijving | N7: Hoogte [m] | P7: Breedte [m] | R7: vluchtweg ja/nee | AD7: =NOT(ISBLANK(OpnameTabel[[#This Row],[Aantal]])) -> TRUE | AE7: =AND(OpnameTabel[[#This Row],[IsAssetRegel]],NOT(ISBLANK(OpnameTabel[[#This Row],[Aantal]]))) -> TRUE | AF7: =IF(AND(OpnameTabel[[#This Row],[IsAssetRegel]],OpnameTabel[[#This Row],[IsRegelActief]]), NOT(ISBLANK(OpnameTabel[[#This Row],[Bouwjaar]])), TRUE) -> FALSE | AG7: =IF(AND(OpnameTabel[[#This Row],[IsAssetRegel]],OpnameTabel[[#This Row],[IsRegelActief]]), NOT(ISBLANK(J7)), TRUE) -> FALSE | AH7: =IF(AND(OpnameTabel[[#This Row],[IsAssetRegel]],OpnameTabel[[#This Row],[IsRegelActief]]), NOT(ISBLANK(K7)), TRUE) -> FALSE | AI7: =IF(AND(OpnameTabel[[#This Row],[IsAssetRegel]],OpnameTabel[[#This Row],[IsRegelActief]], NOT(ISBLANK(OpnameTabel[[#This Row],[Kenmerkvraag 4]]))), NOT(ISBLANK(OpnameTabel[[#This Row],[Kenmerkantwoord 4]])), TRUE) -> FALSE | AJ7: =IF(AND(OpnameTabel[[#This Row],[IsAssetRegel]],OpnameTabel[[#This Row],[IsRegelActief]], NOT(ISBLANK(OpnameTabel[[#This Row],[Kenmerkvraag 5]]))), NOT(ISBLANK(OpnameTabel[[#This Row],[Kenmerkantwoord 5]])), TRUE) -> FALSE | AK7: =IF(AND(OpnameTabel[[#This Row],[IsAssetRegel]],OpnameTabel[[#This Row],[IsRegelActief]], NOT(ISBLANK(OpnameTabel[[#This Row],[Kenmerkvraag 6]]))), NOT(ISBLANK(OpnameTabel[[#This Row],[Kenmerkantwoord 6]])), TRUE) -> FALSE | AL7: =IF(AND(OpnameTabel[[#This Row],[IsAssetRegel]],OpnameTabel[[#This Row],[IsRegelActief]], NOT(ISBLANK(OpnameTabel[[#This Row],[Kenmerkvraag 7]]))), NOT(ISBLANK(OpnameTabel[[#This Row],[Kenmerkantwoord 7]])), TRUE) -> FALSE | AM7: =IF(AND(OpnameTabel[[#This Row],[IsAssetRegel]],OpnameTabel[[#This Row],[IsRegelActief]], NOT(ISBLANK(OpnameTabel[[#This Row],[Kenmerkvraag 8]]))), NOT(ISBLANK(OpnameTabel[[#This Row],[Kenmerkantwoord 8]])), TRUE) -> TRUE | AN7: =IF(AND(OpnameTabel[[#This Row],[IsAssetRegel]],OpnameTabel[[#This Row],[IsRegelActief]], NOT(ISBLANK(OpnameTabel[[#This Row],[Kenmerkvraag 9]]))), NOT(ISBLANK(OpnameTabel[[#This Row],[Kenmerkantwoord 9]])), TRUE) -> TRUE | AO7: =IF(AND(OpnameTabel[[#This Row],[IsAssetRegel]],OpnameTabel[[#This Row],[IsRegelActief]], NOT(ISBLANK(OpnameTabel[[#This Row],[Kenmerkvraag 10]]))), NOT(ISBLANK(OpnameTabel[[#This Row],[Kenmerkantwoord 10]])), TRUE) -> TRUE | AP7: =IF(AND(OpnameTabel[[#This Row],[IsAssetRegel]],OpnameTabel[[#This Row],[IsRegelActief]], NOT(ISBLANK(OpnameTabel[[#This Row],[Kenmerkvraag 11]]))), NOT(ISBLANK(OpnameTabel[[#This Row],[Kenmerkantwoord 11]])), TRUE) -> TRUE | AQ7: =IF(OpnameTabel[[#This Row],[IsIngevuld1]], 0, 1) -> 1 | AR7: =IF(OpnameTabel[[#This Row],[IsIngevuld2]], 0, 1) -> 1 | AS7: =IF(OpnameTabel[[#This Row],[IsIngevuld3]], 0, 1) -> 1 | AT7: =IF(OpnameTabel[[#This Row],[IsIngevuld4]], 0, 1) -> 1 | AU7: =IF(OpnameTabel[[#This Row],[IsIngevuld5]], 0, 1) -> 1 | AV7: =IF(OpnameTabel[[#This Row],[IsIngevuld6]], 0, 1) -> 1 | AW7: =IF(OpnameTabel[[#This Row],[IsIngevuld7]], 0, 1) -> 1 | AX7: =IF(OpnameTabel[[#This Row],[IsIngevuld8]], 0, 1) -> 0 | AY7: =IF(OpnameTabel[[#This Row],[IsIngevuld9]], 0, 1) -> 0 | AZ7: =IF(OpnameTabel[[#This Row],[IsIngevuld10]], 0, 1) -> 0 | BA7: =IF(OpnameTabel[[#This Row],[IsIngevuld11]], 0, 1) -> 0 | BB7: =ISNUMBER(SEARCH("[",OpnameTabel[[#This Row],[Kenmerkvraag 4]])) -> FALSE | BC7: =IF(OpnameTabel[[#This Row],[HeeftKenmerkEenheid4]], MID(LEFT(OpnameTabel[[#This Row],[Kenmerkvraag 4]],FIND("]",OpnameTabel[[#This Row],[Kenmerkvraag 4]])-1),FIND("[",OpnameTabel[[#This Row],[Kenmerkvraag 4]])+1,LEN(OpnameTabel[[#This Row],[Kenmerkvraag 4]])), "") | BD7: =IF(OpnameTabel[[#This Row],[HeeftKenmerkEenheid4]], LEFT(OpnameTabel[[#This Row],[Kenmerkvraag 4]], (FIND(" [",OpnameTabel[[#This Row],[Kenmerkvraag 4]],1)-1)), "") | BE7: =IF(OpnameTabel[[#This Row],[HeeftKenmerkEenheid4]], (OpnameTabel[[#This Row],[Kenmerkomschrijving4]] & ": " & OpnameTabel[[#This Row],[Kenmerkantwoord 4]] & " " &OpnameTabel[[#This Row],[Kenmerkeenheid4]]), IF(ISTEXT(OpnameTabel[[#This Row],[Kenmerkantwoord 4]]), OpnameTabel[[#This Row],[Kenmerkantwoord 4]], "")) | BF7: =ISNUMBER(SEARCH("[",OpnameTabel[[#This Row],[Kenmerkvraag 5]])) -> TRUE | BG7: =IF(OpnameTabel[[#This Row],[HeeftKenmerkEenheid5]], MID(LEFT(OpnameTabel[[#This Row],[Kenmerkvraag 5]],FIND("]",OpnameTabel[[#This Row],[Kenmerkvraag 5]])-1),FIND("[",OpnameTabel[[#This Row],[Kenmerkvraag 5]])+1,LEN(OpnameTabel[[#This Row],[Kenmerkvraag 5]])), "") -> m | BH7: =IF(OpnameTabel[[#This Row],[HeeftKenmerkEenheid5]], LEFT(OpnameTabel[[#This Row],[Kenmerkvraag 5]], (FIND(" [",OpnameTabel[[#This Row],[Kenmerkvraag 5]],1)-1)), "") -> Hoogte | BI7: =IF(OpnameTabel[[#This Row],[HeeftKenmerkEenheid5]], (OpnameTabel[[#This Row],[Kenmerkomschrijving5]] & ": " & OpnameTabel[[#This Row],[Kenmerkantwoord 5]] & " " &OpnameTabel[[#This Row],[Kenmerkeenheid5]]), IF(ISTEXT(OpnameTabel[[#This Row],[Kenmerkantwoord 5]]), OpnameTabel[[#This Row],[Kenmerkantwoord 5]], "")) -> Hoogte: m | BJ7: =ISNUMBER(SEARCH("[",OpnameTabel[[#This Row],[Kenmerkvraag 6]])) -> TRUE | BK7: =IF(OpnameTabel[[#This Row],[HeeftKenmerkEenheid6]], MID(LEFT(OpnameTabel[[#This Row],[Kenmerkvraag 6]],FIND("]",OpnameTabel[[#This Row],[Kenmerkvraag 6]])-1),FIND("[",OpnameTabel[[#This Row],[Kenmerkvraag 6]])+1,LEN(OpnameTabel[[#This Row],[Kenmerkvraag 6]])), "") -> m | BL7: =IF(OpnameTabel[[#This Row],[HeeftKenmerkEenheid6]], LEFT(OpnameTabel[[#This Row],[Kenmerkvraag 6]], (FIND(" [",OpnameTabel[[#This Row],[Kenmerkvraag 6]],1)-1)), "") -> Breedte | BM7: =IF(OpnameTabel[[#This Row],[HeeftKenmerkEenheid6]], (OpnameTabel[[#This Row],[Kenmerkomschrijving6]] & ": " & OpnameTabel[[#This Row],[Kenmerkantwoord 6]] & " " &OpnameTabel[[#This Row],[Kenmerkeenheid6]]), IF(ISTEXT(OpnameTabel[[#This Row],[Kenmerkantwoord 6]]), OpnameTabel[[#This Row],[Kenmerkantwoord 6]], "")) -> Breedte: m | BN7: =ISNUMBER(SEARCH("[",OpnameTabel[[#This Row],[Kenmerkvraag 7]])) -> FALSE | BO7: =IF(OpnameTabel[[#This Row],[HeeftKenmerkEenheid7]], MID(LEFT(OpnameTabel[[#This Row],[Kenmerkvraag 7]],FIND("]",OpnameTabel[[#This Row],[Kenmerkvraag 7]])-1),FIND("[",OpnameTabel[[#This Row],[Kenmerkvraag 7]])+1,LEN(OpnameTabel[[#This Row],[Kenmerkvraag 7]])), "") | BP7: =IF(OpnameTabel[[#This Row],[HeeftKenmerkEenheid7]], LEFT(OpnameTabel[[#This Row],[Kenmerkvraag 7]], (FIND(" [",OpnameTabel[[#This Row],[Kenmerkvraag 7]],1)-1)), "") | BQ7: =IF(OpnameTabel[[#This Row],[HeeftKenmerkEenheid7]], (OpnameTabel[[#This Row],[Kenmerkomschrijving7]] & ": " & OpnameTabel[[#This Row],[Kenmerkantwoord 7]] & " " &OpnameTabel[[#This Row],[Kenmerkeenheid7]]), IF(ISTEXT(OpnameTabel[[#This Row],[Kenmerkantwoord 7]]), OpnameTabel[[#This Row],[Kenmerkantwoord 7]], "")) | BR7: =ISNUMBER(SEARCH("[",OpnameTabel[[#This Row],[Kenmerkvraag 8]])) -> FALSE | BS7: =IF(OpnameTabel[[#This Row],[HeeftKenmerkEenheid8]], MID(LEFT(OpnameTabel[[#This Row],[Kenmerkvraag 8]],FIND("]",OpnameTabel[[#This Row],[Kenmerkvraag 8]])-1),FIND("[",OpnameTabel[[#This Row],[Kenmerkvraag 8]])+1,LEN(OpnameTabel[[#This Row],[Kenmerkvraag 8]])), "") | BT7: =IF(OpnameTabel[[#This Row],[HeeftKenmerkEenheid8]], LEFT(OpnameTabel[[#This Row],[Kenmerkvraag 8]], (FIND(" [",OpnameTabel[[#This Row],[Kenmerkvraag 8]],1)-1)), "") | BU7: =IF(OpnameTabel[[#This Row],[HeeftKenmerkEenheid8]], (OpnameTabel[[#This Row],[Kenmerkomschrijving8]] & ": " & OpnameTabel[[#This Row],[Kenmerkantwoord 8]] & " " &OpnameTabel[[#This Row],[Kenmerkeenheid8]]), IF(ISTEXT(OpnameTabel[[#This Row],[Kenmerkantwoord 8]]), OpnameTabel[[#This Row],[Kenmerkantwoord 8]], "")) | BV7: =ISNUMBER(SEARCH("[",OpnameTabel[[#This Row],[Kenmerkvraag 9]])) -> FALSE | BW7: =IF(OpnameTabel[[#This Row],[HeeftKenmerkEenheid9]], MID(LEFT(OpnameTabel[[#This Row],[Kenmerkvraag 9]],FIND("]",OpnameTabel[[#This Row],[Kenmerkvraag 9]])-1),FIND("[",OpnameTabel[[#This Row],[Kenmerkvraag 9]])+1,LEN(OpnameTabel[[#This Row],[Kenmerkvraag 9]])), "") | BX7: =IF(OpnameTabel[[#This Row],[HeeftKenmerkEenheid9]], LEFT(OpnameTabel[[#This Row],[Kenmerkvraag 9]], (FIND(" [",OpnameTabel[[#This Row],[Kenmerkvraag 9]],1)-1)), "") | BY7: =IF(OpnameTabel[[#This Row],[HeeftKenmerkEenheid9]], (OpnameTabel[[#This Row],[Kenmerkomschrijving9]] & ": " & OpnameTabel[[#This Row],[Kenmerkantwoord 9]] & " " &OpnameTabel[[#This Row],[Kenmerkeenheid9]]), IF(ISTEXT(OpnameTabel[[#This Row],[Kenmerkantwoord 9]]), OpnameTabel[[#This Row],[Kenmerkantwoord 9]], "")) | BZ7: =ISNUMBER(SEARCH("[",OpnameTabel[[#This Row],[Kenmerkvraag 10]])) -> FALSE | CA7: =IF(OpnameTabel[[#This Row],[HeeftKenmerkEenheid10]], MID(LEFT(OpnameTabel[[#This Row],[Kenmerkvraag 10]],FIND("]",OpnameTabel[[#This Row],[Kenmerkvraag 10]])-1),FIND("[",OpnameTabel[[#This Row],[Kenmerkvraag 10]])+1,LEN(OpnameTabel[[#This Row],[Kenmerkvraag 10]])), "") | CB7: =IF(OpnameTabel[[#This Row],[HeeftKenmerkEenheid10]], LEFT(OpnameTabel[[#This Row],[Kenmerkvraag 10]], (FIND(" [",OpnameTabel[[#This Row],[Kenmerkvraag 10]],1)-1)), "") | CC7: =IF(OpnameTabel[[#This Row],[HeeftKenmerkEenheid10]], (OpnameTabel[[#This Row],[Kenmerkomschrijving10]] & ": " & OpnameTabel[[#This Row],[Kenmerkantwoord 10]] & " " &OpnameTabel[[#This Row],[Kenmerkeenheid10]]), IF(ISTEXT(OpnameTabel[[#This Row],[Kenmerkantwoord 10]]), OpnameTabel[[#This Row],[Kenmerkantwoord 10]], "")) | CD7: =ISNUMBER(SEARCH("[",OpnameTabel[[#This Row],[Kenmerkvraag 11]])) -> FALSE | CE7: =IF(OpnameTabel[[#This Row],[HeeftKenmerkEenheid11]], MID(LEFT(OpnameTabel[[#This Row],[Kenmerkvraag 11]],FIND("]",OpnameTabel[[#This Row],[Kenmerkvraag 11]])-1),FIND("[",OpnameTabel[[#This Row],[Kenmerkvraag 11]])+1,LEN(OpnameTabel[[#This Row],[Kenmerkvraag 11]])), "") | CF7: =IF(OpnameTabel[[#This Row],[HeeftKenmerkEenheid11]], LEFT(OpnameTabel[[#This Row],[Kenmerkvraag 11]], (FIND(" [",OpnameTabel[[#This Row],[Kenmerkvraag 11]],1)-1)), "") | CG7: =IF(OpnameTabel[[#This Row],[HeeftKenmerkEenheid11]], (OpnameTabel[[#This Row],[Kenmerkomschrijving11]] & ": " & OpnameTabel[[#This Row],[Kenmerkantwoord 11]] & " " &OpnameTabel[[#This Row],[Kenmerkeenheid11]]), IF(ISTEXT(OpnameTabel[[#This Row],[Kenmerkantwoord 11]]), OpnameTabel[[#This Row],[Kenmerkantwoord 11]], ""))
A8: =ROW() -> 8 | B8: 0 | C8: Ramen en deuren | D8: =VLOOKUP(E8,'3 NL-SfB'!C:F,4,0) -> overheaddeur (buiten) | E8: 31.35.00 | F8: n.b./31.33? | H8: 1 | L8: Aandrijving | N8: Hoogte [m] | P8: Breedte [m] | R8: vluchtweg ja/nee | T8: Afstandsbed. [stuks] | AC8: overhead=tuimeldeur? | AD8: =NOT(ISBLANK(OpnameTabel[[#This Row],[Aantal]])) -> TRUE | AE8: =AND(OpnameTabel[[#This Row],[IsAssetRegel]],NOT(ISBLANK(OpnameTabel[[#This Row],[Aantal]]))) -> TRUE | AF8: =IF(AND(OpnameTabel[[#This Row],[IsAssetRegel]],OpnameTabel[[#This Row],[IsRegelActief]]), NOT(ISBLANK(OpnameTabel[[#This Row],[Bouwjaar]])), TRUE) -> FALSE | AG8: =IF(AND(OpnameTabel[[#This Row],[IsAssetRegel]],OpnameTabel[[#This Row],[IsRegelActief]]), NOT(ISBLANK(J8)), TRUE) -> FALSE | AH8: =IF(AND(OpnameTabel[[#This Row],[IsAssetRegel]],OpnameTabel[[#This Row],[IsRegelActief]]), NOT(ISBLANK(K8)), TRUE) -> FALSE | AI8: =IF(AND(OpnameTabel[[#This Row],[IsAssetRegel]],OpnameTabel[[#This Row],[IsRegelActief]], NOT(ISBLANK(OpnameTabel[[#This Row],[Kenmerkvraag 4]]))), NOT(ISBLANK(OpnameTabel[[#This Row],[Kenmerkantwoord 4]])), TRUE) -> FALSE | AJ8: =IF(AND(OpnameTabel[[#This Row],[IsAssetRegel]],OpnameTabel[[#This Row],[IsRegelActief]], NOT(ISBLANK(OpnameTabel[[#This Row],[Kenmerkvraag 5]]))), NOT(ISBLANK(OpnameTabel[[#This Row],[Kenmerkantwoord 5]])), TRUE) -> FALSE | AK8: =IF(AND(OpnameTabel[[#This Row],[IsAssetRegel]],OpnameTabel[[#This Row],[IsRegelActief]], NOT(ISBLANK(OpnameTabel[[#This Row],[Kenmerkvraag 6]]))), NOT(ISBLANK(OpnameTabel[[#This Row],[Kenmerkantwoord 6]])), TRUE) -> FALSE | AL8: =IF(AND(OpnameTabel[[#This Row],[IsAssetRegel]],OpnameTabel[[#This Row],[IsRegelActief]], NOT(ISBLANK(OpnameTabel[[#This Row],[Kenmerkvraag 7]]))), NOT(ISBLANK(OpnameTabel[[#This Row],[Kenmerkantwoord 7]])), TRUE) -> FALSE | AM8: =IF(AND(OpnameTabel[[#This Row],[IsAssetRegel]],OpnameTabel[[#This Row],[IsRegelActief]], NOT(ISBLANK(OpnameTabel[[#This Row],[Kenmerkvraag 8]]))), NOT(ISBLANK(OpnameTabel[[#This Row],[Kenmerkantwoord 8]])), TRUE) -> FALSE | AN8: =IF(AND(OpnameTabel[[#This Row],[IsAssetRegel]],OpnameTabel[[#This Row],[IsRegelActief]], NOT(ISBLANK(OpnameTabel[[#This Row],[Kenmerkvraag 9]]))), NOT(ISBLANK(OpnameTabel[[#This Row],[Kenmerkantwoord 9]])), TRUE) -> TRUE | AO8: =IF(AND(OpnameTabel[[#This Row],[IsAssetRegel]],OpnameTabel[[#This Row],[IsRegelActief]], NOT(ISBLANK(OpnameTabel[[#This Row],[Kenmerkvraag 10]]))), NOT(ISBLANK(OpnameTabel[[#This Row],[Kenmerkantwoord 10]])), TRUE) -> TRUE | AP8: =IF(AND(OpnameTabel[[#This Row],[IsAssetRegel]],OpnameTabel[[#This Row],[IsRegelActief]], NOT(ISBLANK(OpnameTabel[[#This Row],[Kenmerkvraag 11]]))), NOT(ISBLANK(OpnameTabel[[#This Row],[Kenmerkantwoord 11]])), TRUE) -> TRUE | AQ8: =IF(OpnameTabel[[#This Row],[IsIngevuld1]], 0, 1) -> 1 | AR8: =IF(OpnameTabel[[#This Row],[IsIngevuld2]], 0, 1) -> 1 | AS8: =IF(OpnameTabel[[#This Row],[IsIngevuld3]], 0, 1) -> 1 | AT8: =IF(OpnameTabel[[#This Row],[IsIngevuld4]], 0, 1) -> 1 | AU8: =IF(OpnameTabel[[#This Row],[IsIngevuld5]], 0, 1) -> 1 | AV8: =IF(OpnameTabel[[#This Row],[IsIngevuld6]], 0, 1) -> 1 | AW8: =IF(OpnameTabel[[#This Row],[IsIngevuld7]], 0, 1) -> 1 | AX8: =IF(OpnameTabel[[#This Row],[IsIngevuld8]], 0, 1) -> 1 | AY8: =IF(OpnameTabel[[#This Row],[IsIngevuld9]], 0, 1) -> 0 | AZ8: =IF(OpnameTabel[[#This Row],[IsIngevuld10]], 0, 1) -> 0 | BA8: =IF(OpnameTabel[[#This Row],[IsIngevuld11]], 0, 1) -> 0 | BB8: =ISNUMBER(SEARCH("[",OpnameTabel[[#This Row],[Kenmerkvraag 4]])) -> FALSE | BC8: =IF(OpnameTabel[[#This Row],[HeeftKenmerkEenheid4]], MID(LEFT(OpnameTabel[[#This Row],[Kenmerkvraag 4]],FIND("]",OpnameTabel[[#This Row],[Kenmerkvraag 4]])-1),FIND("[",OpnameTabel[[#This Row],[Kenmerkvraag 4]])+1,LEN(OpnameTabel[[#This Row],[Kenmerkvraag 4]])), "") | BD8: =IF(OpnameTabel[[#This Row],[HeeftKenmerkEenheid4]], LEFT(OpnameTabel[[#This Row],[Kenmerkvraag 4]], (FIND(" [",OpnameTabel[[#This Row],[Kenmerkvraag 4]],1)-1)), "") | BE8: =IF(OpnameTabel[[#This Row],[HeeftKenmerkEenheid4]], (OpnameTabel[[#This Row],[Kenmerkomschrijving4]] & ": " & OpnameTabel[[#This Row],[Kenmerkantwoord 4]] & " " &OpnameTabel[[#This Row],[Kenmerkeenheid4]]), IF(ISTEXT(OpnameTabel[[#This Row],[Kenmerkantwoord 4]]), OpnameTabel[[#This Row],[Kenmerkantwoord 4]], "")) | BF8: =ISNUMBER(SEARCH("[",OpnameTabel[[#This Row],[Kenmerkvraag 5]])) -> TRUE | BG8: =IF(OpnameTabel[[#This Row],[HeeftKenmerkEenheid5]], MID(LEFT(OpnameTabel[[#This Row],[Kenmerkvraag 5]],FIND("]",OpnameTabel[[#This Row],[Kenmerkvraag 5]])-1),FIND("[",OpnameTabel[[#This Row],[Kenmerkvraag 5]])+1,LEN(OpnameTabel[[#This Row],[Kenmerkvraag 5]])), "") -> m | BH8: =IF(OpnameTabel[[#This Row],[HeeftKenmerkEenheid5]], LEFT(OpnameTabel[[#This Row],[Kenmerkvraag 5]], (FIND(" [",OpnameTabel[[#This Row],[Kenmerkvraag 5]],1)-1)), "") -> Hoogte | BI8: =IF(OpnameTabel[[#This Row],[HeeftKenmerkEenheid5]], (OpnameTabel[[#This Row],[Kenmerkomschrijving5]] & ": " & OpnameTabel[[#This Row],[Kenmerkantwoord 5]] & " " &OpnameTabel[[#This Row],[Kenmerkeenheid5]]), IF(ISTEXT(OpnameTabel[[#This Row],[Kenmerkantwoord 5]]), OpnameTabel[[#This Row],[Kenmerkantwoord 5]], "")) -> Hoogte: m | BJ8: =ISNUMBER(SEARCH("[",OpnameTabel[[#This Row],[Kenmerkvraag 6]])) -> TRUE | BK8: =IF(OpnameTabel[[#This Row],[HeeftKenmerkEenheid6]], MID(LEFT(OpnameTabel[[#This Row],[Kenmerkvraag 6]],FIND("]",OpnameTabel[[#This Row],[Kenmerkvraag 6]])-1),FIND("[",OpnameTabel[[#This Row],[Kenmerkvraag 6]])+1,LEN(OpnameTabel[[#This Row],[Kenmerkvraag 6]])), "") -> m | BL8: =IF(OpnameTabel[[#This Row],[HeeftKenmerkEenheid6]], LEFT(OpnameTabel[[#This Row],[Kenmerkvraag 6]], (FIND(" [",OpnameTabel[[#This Row],[Kenmerkvraag 6]],1)-1)), "") -> Breedte | BM8: =IF(OpnameTabel[[#This Row],[HeeftKenmerkEenheid6]], (OpnameTabel[[#This Row],[Kenmerkomschrijving6]] & ": " & OpnameTabel[[#This Row],[Kenmerkantwoord 6]] & " " &OpnameTabel[[#This Row],[Kenmerkeenheid6]]), IF(ISTEXT(OpnameTabel[[#This Row],[Kenmerkantwoord 6]]), OpnameTabel[[#This Row],[Kenmerkantwoord 6]], "")) -> Breedte: m | BN8: =ISNUMBER(SEARCH("[",OpnameTabel[[#This Row],[Kenmerkvraag 7]])) -> FALSE | BO8: =IF(OpnameTabel[[#This Row],[HeeftKenmerkEenheid7]], MID(LEFT(OpnameTabel[[#This Row],[Kenmerkvraag 7]],FIND("]",OpnameTabel[[#This Row],[Kenmerkvraag 7]])-1),FIND("[",OpnameTabel[[#This Row],[Kenmerkvraag 7]])+1,LEN(OpnameTabel[[#This Row],[Kenmerkvraag 7]])), "") | BP8: =IF(OpnameTabel[[#This Row],[HeeftKenmerkEenheid7]], LEFT(OpnameTabel[[#This Row],[Kenmerkvraag 7]], (FIND(" [",OpnameTabel[[#This Row],[Kenmerkvraag 7]],1)-1)), "") | BQ8: =IF(OpnameTabel[[#This Row],[HeeftKenmerkEenheid7]], (OpnameTabel[[#This Row],[Kenmerkomschrijving7]] & ": " & OpnameTabel[[#This Row],[Kenmerkantwoord 7]] & " " &OpnameTabel[[#This Row],[Kenmerkeenheid7]]), IF(ISTEXT(OpnameTabel[[#This Row],[Kenmerkantwoord 7]]), OpnameTabel[[#This Row],[Kenmerkantwoord 7]], "")) | BR8: =ISNUMBER(SEARCH("[",OpnameTabel[[#This Row],[Kenmerkvraag 8]])) -> TRUE | BS8: =IF(OpnameTabel[[#This Row],[HeeftKenmerkEenheid8]], MID(LEFT(OpnameTabel[[#This Row],[Kenmerkvraag 8]],FIND("]",OpnameTabel[[#This Row],[Kenmerkvraag 8]])-1),FIND("[",OpnameTabel[[#This Row],[Kenmerkvraag 8]])+1,LEN(OpnameTabel[[#This Row],[Kenmerkvraag 8]])), "") -> stuks | BT8: =IF(OpnameTabel[[#This Row],[HeeftKenmerkEenheid8]], LEFT(OpnameTabel[[#This Row],[Kenmerkvraag 8]], (FIND(" [",OpnameTabel[[#This Row],[Kenmerkvraag 8]],1)-1)), "") -> Afstandsbed. | BU8: =IF(OpnameTabel[[#This Row],[HeeftKenmerkEenheid8]], (OpnameTabel[[#This Row],[Kenmerkomschrijving8]] & ": " & OpnameTabel[[#This Row],[Kenmerkantwoord 8]] & " " &OpnameTabel[[#This Row],[Kenmerkeenheid8]]), IF(ISTEXT(OpnameTabel[[#This Row],[Kenmerkantwoord 8]]), OpnameTabel[[#This Row],[Kenmerkantwoord 8]], "")) -> Afstandsbed.: stuks | BV8: =ISNUMBER(SEARCH("[",OpnameTabel[[#This Row],[Kenmerkvraag 9]])) -> FALSE | BW8: =IF(OpnameTabel[[#This Row],[HeeftKenmerkEenheid9]], MID(LEFT(OpnameTabel[[#This Row],[Kenmerkvraag 9]],FIND("]",OpnameTabel[[#This Row],[Kenmerkvraag 9]])-1),FIND("[",OpnameTabel[[#This Row],[Kenmerkvraag 9]])+1,LEN(OpnameTabel[[#This Row],[Kenmerkvraag 9]])), "") | BX8: =IF(OpnameTabel[[#This Row],[HeeftKenmerkEenheid9]], LEFT(OpnameTabel[[#This Row],[Kenmerkvraag 9]], (FIND(" [",OpnameTabel[[#This Row],[Kenmerkvraag 9]],1)-1)), "") | BY8: =IF(OpnameTabel[[#This Row],[HeeftKenmerkEenheid9]], (OpnameTabel[[#This Row],[Kenmerkomschrijving9]] & ": " & OpnameTabel[[#This Row],[Kenmerkantwoord 9]] & " " &OpnameTabel[[#This Row],[Kenmerkeenheid9]]), IF(ISTEXT(OpnameTabel[[#This Row],[Kenmerkantwoord 9]]), OpnameTabel[[#This Row],[Kenmerkantwoord 9]], "")) | BZ8: =ISNUMBER(SEARCH("[",OpnameTabel[[#This Row],[Kenmerkvraag 10]])) -> FALSE | CA8: =IF(OpnameTabel[[#This Row],[HeeftKenmerkEenheid10]], MID(LEFT(OpnameTabel[[#This Row],[Kenmerkvraag 10]],FIND("]",OpnameTabel[[#This Row],[Kenmerkvraag 10]])-1),FIND("[",OpnameTabel[[#This Row],[Kenmerkvraag 10]])+1,LEN(OpnameTabel[[#This Row],[Kenmerkvraag 10]])), "") | CB8: =IF(OpnameTabel[[#This Row],[HeeftKenmerkEenheid10]], LEFT(OpnameTabel[[#This Row],[Kenmerkvraag 10]], (FIND(" [",OpnameTabel[[#This Row],[Kenmerkvraag 10]],1)-1)), "") | CC8: =IF(OpnameTabel[[#This Row],[HeeftKenmerkEenheid10]], (OpnameTabel[[#This Row],[Kenmerkomschrijving10]] & ": " & OpnameTabel[[#This Row],[Kenmerkantwoord 10]] & " " &OpnameTabel[[#This Row],[Kenmerkeenheid10]]), IF(ISTEXT(OpnameTabel[[#This Row],[Kenmerkantwoord 10]]), OpnameTabel[[#This Row],[Kenmerkantwoord 10]], "")) | CD8: =ISNUMBER(SEARCH("[",OpnameTabel[[#This Row],[Kenmerkvraag 11]])) -> FALSE | CE8: =IF(OpnameTabel[[#This Row],[HeeftKenmerkEenheid11]], MID(LEFT(OpnameTabel[[#This Row],[Kenmerkvraag 11]],FIND("]",OpnameTabel[[#This Row],[Kenmerkvraag 11]])-1),FIND("[",OpnameTabel[[#This Row],[Kenmerkvraag 11]])+1,LEN(OpnameTabel[[#This Row],[Kenmerkvraag 11]])), "") | CF8: =IF(OpnameTabel[[#This Row],[HeeftKenmerkEenheid11]], LEFT(OpnameTabel[[#This Row],[Kenmerkvraag 11]], (FIND(" [",OpnameTabel[[#This Row],[Kenmerkvraag 11]],1)-1)), "") | CG8: =IF(OpnameTabel[[#This Row],[HeeftKenmerkEenheid11]], (OpnameTabel[[#This Row],[Kenmerkomschrijving11]] & ": " & OpnameTabel[[#This Row],[Kenmerkantwoord 11]] & " " &OpnameTabel[[#This Row],[Kenmerkeenheid11]]), IF(ISTEXT(OpnameTabel[[#This Row],[Kenmerkantwoord 11]]), OpnameTabel[[#This Row],[Kenmerkantwoord 11]], ""))
A9: =ROW() -> 9 | B9: 0 | C9: Ramen en deuren | D9: =VLOOKUP(E9,'3 NL-SfB'!C:F,4,0) -> rolluik (binnen) | E9: 32.42.00 | F9: n.b. | H9: 1 | L9: Aandrijving | N9: Hoogte [m] | P9: Breedte [m] | R9: vluchtweg ja/nee | AD9: =NOT(ISBLANK(OpnameTabel[[#This Row],[Aantal]])) -> TRUE | AE9: =AND(OpnameTabel[[#This Row],[IsAssetRegel]],NOT(ISBLANK(OpnameTabel[[#This Row],[Aantal]]))) -> TRUE | AF9: =IF(AND(OpnameTabel[[#This Row],[IsAssetRegel]],OpnameTabel[[#This Row],[IsRegelActief]]), NOT(ISBLANK(OpnameTabel[[#This Row],[Bouwjaar]])), TRUE) -> FALSE | AG9: =IF(AND(OpnameTabel[[#This Row],[IsAssetRegel]],OpnameTabel[[#This Row],[IsRegelActief]]), NOT(ISBLANK(J9)), TRUE) -> FALSE | AH9: =IF(AND(OpnameTabel[[#This Row],[IsAssetRegel]],OpnameTabel[[#This Row],[IsRegelActief]]), NOT(ISBLANK(K9)), TRUE) -> FALSE | AI9: =IF(AND(OpnameTabel[[#This Row],[IsAssetRegel]],OpnameTabel[[#This Row],[IsRegelActief]], NOT(ISBLANK(OpnameTabel[[#This Row],[Kenmerkvraag 4]]))), NOT(ISBLANK(OpnameTabel[[#This Row],[Kenmerkantwoord 4]])), TRUE) -> FALSE | AJ9: =IF(AND(OpnameTabel[[#This Row],[IsAssetRegel]],OpnameTabel[[#This Row],[IsRegelActief]], NOT(ISBLANK(OpnameTabel[[#This Row],[Kenmerkvraag 5]]))), NOT(ISBLANK(OpnameTabel[[#This Row],[Kenmerkantwoord 5]])), TRUE) -> FALSE | AK9: =IF(AND(OpnameTabel[[#This Row],[IsAssetRegel]],OpnameTabel[[#This Row],[IsRegelActief]], NOT(ISBLANK(OpnameTabel[[#This Row],[Kenmerkvraag 6]]))), NOT(ISBLANK(OpnameTabel[[#This Row],[Kenmerkantwoord 6]])), TRUE) -> FALSE | AL9: =IF(AND(OpnameTabel[[#This Row],[IsAssetRegel]],OpnameTabel[[#This Row],[IsRegelActief]], NOT(ISBLANK(OpnameTabel[[#This Row],[Kenmerkvraag 7]]))), NOT(ISBLANK(OpnameTabel[[#This Row],[Kenmerkantwoord 7]])), TRUE) -> FALSE | AM9: =IF(AND(OpnameTabel[[#This Row],[IsAssetRegel]],OpnameTabel[[#This Row],[IsRegelActief]], NOT(ISBLANK(OpnameTabel[[#This Row],[Kenmerkvraag 8]]))), NOT(ISBLANK(OpnameTabel[[#This Row],[Kenmerkantwoord 8]])), TRUE) -> TRUE | AN9: =IF(AND(OpnameTabel[[#This Row],[IsAssetRegel]],OpnameTabel[[#This Row],[IsRegelActief]], NOT(ISBLANK(OpnameTabel[[#This Row],[Kenmerkvraag 9]]))), NOT(ISBLANK(OpnameTabel[[#This Row],[Kenmerkantwoord 9]])), TRUE) -> TRUE | AO9: =IF(AND(OpnameTabel[[#This Row],[IsAssetRegel]],OpnameTabel[[#This Row],[IsRegelActief]], NOT(ISBLANK(OpnameTabel[[#This Row],[Kenmerkvraag 10]]))), NOT(ISBLANK(OpnameTabel[[#This Row],[Kenmerkantwoord 10]])), TRUE) -> TRUE | AP9: =IF(AND(OpnameTabel[[#This Row],[IsAssetRegel]],OpnameTabel[[#This Row],[IsRegelActief]], NOT(ISBLANK(OpnameTabel[[#This Row],[Kenmerkvraag 11]]))), NOT(ISBLANK(OpnameTabel[[#This Row],[Kenmerkantwoord 11]])), TRUE) -> TRUE | AQ9: =IF(OpnameTabel[[#This Row],[IsIngevuld1]], 0, 1) -> 1 | AR9: =IF(OpnameTabel[[#This Row],[IsIngevuld2]], 0, 1) -> 1 | AS9: =IF(OpnameTabel[[#This Row],[IsIngevuld3]], 0, 1) -> 1 | AT9: =IF(OpnameTabel[[#This Row],[IsIngevuld4]], 0, 1) -> 1 | AU9: =IF(OpnameTabel[[#This Row],[IsIngevuld5]], 0, 1) -> 1 | AV9: =IF(OpnameTabel[[#This Row],[IsIngevuld6]], 0, 1) -> 1 | AW9: =IF(OpnameTabel[[#This Row],[IsIngevuld7]], 0, 1) -> 1 | AX9: =IF(OpnameTabel[[#This Row],[IsIngevuld8]], 0, 1) -> 0 | AY9: =IF(OpnameTabel[[#This Row],[IsIngevuld9]], 0, 1) -> 0 | AZ9: =IF(OpnameTabel[[#This Row],[IsIngevuld10]], 0, 1) -> 0 | BA9: =IF(OpnameTabel[[#This Row],[IsIngevuld11]], 0, 1) -> 0 | BB9: =ISNUMBER(SEARCH("[",OpnameTabel[[#This Row],[Kenmerkvraag 4]])) -> FALSE | BC9: =IF(OpnameTabel[[#This Row],[HeeftKenmerkEenheid4]], MID(LEFT(OpnameTabel[[#This Row],[Kenmerkvraag 4]],FIND("]",OpnameTabel[[#This Row],[Kenmerkvraag 4]])-1),FIND("[",OpnameTabel[[#This Row],[Kenmerkvraag 4]])+1,LEN(OpnameTabel[[#This Row],[Kenmerkvraag 4]])), "") | BD9: =IF(OpnameTabel[[#This Row],[HeeftKenmerkEenheid4]], LEFT(OpnameTabel[[#This Row],[Kenmerkvraag 4]], (FIND(" [",OpnameTabel[[#This Row],[Kenmerkvraag 4]],1)-1)), "") | BE9: =IF(OpnameTabel[[#This Row],[HeeftKenmerkEenheid4]], (OpnameTabel[[#This Row],[Kenmerkomschrijving4]] & ": " & OpnameTabel[[#This Row],[Kenmerkantwoord 4]] & " " &OpnameTabel[[#This Row],[Kenmerkeenheid4]]), IF(ISTEXT(OpnameTabel[[#This Row],[Kenmerkantwoord 4]]), OpnameTabel[[#This Row],[Kenmerkantwoord 4]], "")) | BF9: =ISNUMBER(SEARCH("[",OpnameTabel[[#This Row],[Kenmerkvraag 5]])) -> TRUE | BG9: =IF(OpnameTabel[[#This Row],[HeeftKenmerkEenheid5]], MID(LEFT(OpnameTabel[[#This Row],[Kenmerkvraag 5]],FIND("]",OpnameTabel[[#This Row],[Kenmerkvraag 5]])-1),FIND("[",OpnameTabel[[#This Row],[Kenmerkvraag 5]])+1,LEN(OpnameTabel[[#This Row],[Kenmerkvraag 5]])), "") -> m | BH9: =IF(OpnameTabel[[#This Row],[HeeftKenmerkEenheid5]], LEFT(OpnameTabel[[#This Row],[Kenmerkvraag 5]], (FIND(" [",OpnameTabel[[#This Row],[Kenmerkvraag 5]],1)-1)), "") -> Hoogte | BI9: =IF(OpnameTabel[[#This Row],[HeeftKenmerkEenheid5]], (OpnameTabel[[#This Row],[Kenmerkomschrijving5]] & ": " & OpnameTabel[[#This Row],[Kenmerkantwoord 5]] & " " &OpnameTabel[[#This Row],[Kenmerkeenheid5]]), IF(ISTEXT(OpnameTabel[[#This Row],[Kenmerkantwoord 5]]), OpnameTabel[[#This Row],[Kenmerkantwoord 5]], "")) -> Hoogte: m | BJ9: =ISNUMBER(SEARCH("[",OpnameTabel[[#This Row],[Kenmerkvraag 6]])) -> TRUE | BK9: =IF(OpnameTabel[[#This Row],[HeeftKenmerkEenheid6]], MID(LEFT(OpnameTabel[[#This Row],[Kenmerkvraag 6]],FIND("]",OpnameTabel[[#This Row],[Kenmerkvraag 6]])-1),FIND("[",OpnameTabel[[#This Row],[Kenmerkvraag 6]])+1,LEN(OpnameTabel[[#This Row],[Kenmerkvraag 6]])), "") -> m | BL9: =IF(OpnameTabel[[#This Row],[HeeftKenmerkEenheid6]], LEFT(OpnameTabel[[#This Row],[Kenmerkvraag 6]], (FIND(" [",OpnameTabel[[#This Row],[Kenmerkvraag 6]],1)-1)), "") -> Breedte | BM9: =IF(OpnameTabel[[#This Row],[HeeftKenmerkEenheid6]], (OpnameTabel[[#This Row],[Kenmerkomschrijving6]] & ": " & OpnameTabel[[#This Row],[Kenmerkantwoord 6]] & " " &OpnameTabel[[#This Row],[Kenmerkeenheid6]]), IF(ISTEXT(OpnameTabel[[#This Row],[Kenmerkantwoord 6]]), OpnameTabel[[#This Row],[Kenmerkantwoord 6]], "")) -> Breedte: m | BN9: =ISNUMBER(SEARCH("[",OpnameTabel[[#This Row],[Kenmerkvraag 7]])) -> FALSE | BO9: =IF(OpnameTabel[[#This Row],[HeeftKenmerkEenheid7]], MID(LEFT(OpnameTabel[[#This Row],[Kenmerkvraag 7]],FIND("]",OpnameTabel[[#This Row],[Kenmerkvraag 7]])-1),FIND("[",OpnameTabel[[#This Row],[Kenmerkvraag 7]])+1,LEN(OpnameTabel[[#This Row],[Kenmerkvraag 7]])), "") | BP9: =IF(OpnameTabel[[#This Row],[HeeftKenmerkEenheid7]], LEFT(OpnameTabel[[#This Row],[Kenmerkvraag 7]], (FIND(" [",OpnameTabel[[#This Row],[Kenmerkvraag 7]],1)-1)), "") | BQ9: =IF(OpnameTabel[[#This Row],[HeeftKenmerkEenheid7]], (OpnameTabel[[#This Row],[Kenmerkomschrijving7]] & ": " & OpnameTabel[[#This Row],[Kenmerkantwoord 7]] & " " &OpnameTabel[[#This Row],[Kenmerkeenheid7]]), IF(ISTEXT(OpnameTabel[[#This Row],[Kenmerkantwoord 7]]), OpnameTabel[[#This Row],[Kenmerkantwoord 7]], "")) | BR9: =ISNUMBER(SEARCH("[",OpnameTabel[[#This Row],[Kenmerkvraag 8]])) -> FALSE | BS9: =IF(OpnameTabel[[#This Row],[HeeftKenmerkEenheid8]], MID(LEFT(OpnameTabel[[#This Row],[Kenmerkvraag 8]],FIND("]",OpnameTabel[[#This Row],[Kenmerkvraag 8]])-1),FIND("[",OpnameTabel[[#This Row],[Kenmerkvraag 8]])+1,LEN(OpnameTabel[[#This Row],[Kenmerkvraag 8]])), "") | BT9: =IF(OpnameTabel[[#This Row],[HeeftKenmerkEenheid8]], LEFT(OpnameTabel[[#This Row],[Kenmerkvraag 8]], (FIND(" [",OpnameTabel[[#This Row],[Kenmerkvraag 8]],1)-1)), "") | BU9: =IF(OpnameTabel[[#This Row],[HeeftKenmerkEenheid8]], (OpnameTabel[[#This Row],[Kenmerkomschrijving8]] & ": " & OpnameTabel[[#This Row],[Kenmerkantwoord 8]] & " " &OpnameTabel[[#This Row],[Kenmerkeenheid8]]), IF(ISTEXT(OpnameTabel[[#This Row],[Kenmerkantwoord 8]]), OpnameTabel[[#This Row],[Kenmerkantwoord 8]], "")) | BV9: =ISNUMBER(SEARCH("[",OpnameTabel[[#This Row],[Kenmerkvraag 9]])) -> FALSE | BW9: =IF(OpnameTabel[[#This Row],[HeeftKenmerkEenheid9]], MID(LEFT(OpnameTabel[[#This Row],[Kenmerkvraag 9]],FIND("]",OpnameTabel[[#This Row],[Kenmerkvraag 9]])-1),FIND("[",OpnameTabel[[#This Row],[Kenmerkvraag 9]])+1,LEN(OpnameTabel[[#This Row],[Kenmerkvraag 9]])), "") | BX9: =IF(OpnameTabel[[#This Row],[HeeftKenmerkEenheid9]], LEFT(OpnameTabel[[#This Row],[Kenmerkvraag 9]], (FIND(" [",OpnameTabel[[#This Row],[Kenmerkvraag 9]],1)-1)), "") | BY9: =IF(OpnameTabel[[#This Row],[HeeftKenmerkEenheid9]], (OpnameTabel[[#This Row],[Kenmerkomschrijving9]] & ": " & OpnameTabel[[#This Row],[Kenmerkantwoord 9]] & " " &OpnameTabel[[#This Row],[Kenmerkeenheid9]]), IF(ISTEXT(OpnameTabel[[#This Row],[Kenmerkantwoord 9]]), OpnameTabel[[#This Row],[Kenmerkantwoord 9]], "")) | BZ9: =ISNUMBER(SEARCH("[",OpnameTabel[[#This Row],[Kenmerkvraag 10]])) -> FALSE | CA9: =IF(OpnameTabel[[#This Row],[HeeftKenmerkEenheid10]], MID(LEFT(OpnameTabel[[#This Row],[Kenmerkvraag 10]],FIND("]",OpnameTabel[[#This Row],[Kenmerkvraag 10]])-1),FIND("[",OpnameTabel[[#This Row],[Kenmerkvraag 10]])+1,LEN(OpnameTabel[[#This Row],[Kenmerkvraag 10]])), "") | CB9: =IF(OpnameTabel[[#This Row],[HeeftKenmerkEenheid10]], LEFT(OpnameTabel[[#This Row],[Kenmerkvraag 10]], (FIND(" [",OpnameTabel[[#This Row],[Kenmerkvraag 10]],1)-1)), "") | CC9: =IF(OpnameTabel[[#This Row],[HeeftKenmerkEenheid10]], (OpnameTabel[[#This Row],[Kenmerkomschrijving10]] & ": " & OpnameTabel[[#This Row],[Kenmerkantwoord 10]] & " " &OpnameTabel[[#This Row],[Kenmerkeenheid10]]), IF(ISTEXT(OpnameTabel[[#This Row],[Kenmerkantwoord 10]]), OpnameTabel[[#This Row],[Kenmerkantwoord 10]], "")) | CD9: =ISNUMBER(SEARCH("[",OpnameTabel[[#This Row],[Kenmerkvraag 11]])) -> FALSE | CE9: =IF(OpnameTabel[[#This Row],[HeeftKenmerkEenheid11]], MID(LEFT(OpnameTabel[[#This Row],[Kenmerkvraag 11]],FIND("]",OpnameTabel[[#This Row],[Kenmerkvraag 11]])-1),FIND("[",OpnameTabel[[#This Row],[Kenmerkvraag 11]])+1,LEN(OpnameTabel[[#This Row],[Kenmerkvraag 11]])), "") | CF9: =IF(OpnameTabel[[#This Row],[HeeftKenmerkEenheid11]], LEFT(OpnameTabel[[#This Row],[Kenmerkvraag 11]], (FIND(" [",OpnameTabel[[#This Row],[Kenmerkvraag 11]],1)-1)), "") | CG9: =IF(OpnameTabel[[#This Row],[HeeftKenmerkEenheid11]], (OpnameTabel[[#This Row],[Kenmerkomschrijving11]] & ": " & OpnameTabel[[#This Row],[Kenmerkantwoord 11]] & " " &OpnameTabel[[#This Row],[Kenmerkeenheid11]]), IF(ISTEXT(OpnameTabel[[#This Row],[Kenmerkantwoord 11]]), OpnameTabel[[#This Row],[Kenmerkantwoord 11]], ""))
A10: =ROW() -> 10 | B10: 0 | C10: Ramen en deuren | D10: =VLOOKUP(E10,'3 NL-SfB'!C:F,4,0) -> dakluik | E10: 37.26.00 | F10: n.b. | H10: 1 | L10: Aandrijving | N10: Hoogte [m] | P10: Breedte [m] | R10: vluchtweg ja/nee | AD10: =NOT(ISBLANK(OpnameTabel[[#This Row],[Aantal]])) -> TRUE | AE10: =AND(OpnameTabel[[#This Row],[IsAssetRegel]],NOT(ISBLANK(OpnameTabel[[#This Row],[Aantal]]))) -> TRUE | AF10: =IF(AND(OpnameTabel[[#This Row],[IsAssetRegel]],OpnameTabel[[#This Row],[IsRegelActief]]), NOT(ISBLANK(OpnameTabel[[#This Row],[Bouwjaar]])), TRUE) -> FALSE | AG10: =IF(AND(OpnameTabel[[#This Row],[IsAssetRegel]],OpnameTabel[[#This Row],[IsRegelActief]]), NOT(ISBLANK(J10)), TRUE) -> FALSE | AH10: =IF(AND(OpnameTabel[[#This Row],[IsAssetRegel]],OpnameTabel[[#This Row],[IsRegelActief]]), NOT(ISBLANK(K10)), TRUE) -> FALSE | AI10: =IF(AND(OpnameTabel[[#This Row],[IsAssetRegel]],OpnameTabel[[#This Row],[IsRegelActief]], NOT(ISBLANK(OpnameTabel[[#This Row],[Kenmerkvraag 4]]))), NOT(ISBLANK(OpnameTabel[[#This Row],[Kenmerkantwoord 4]])), TRUE) -> FALSE | AJ10: =IF(AND(OpnameTabel[[#This Row],[IsAssetRegel]],OpnameTabel[[#This Row],[IsRegelActief]], NOT(ISBLANK(OpnameTabel[[#This Row],[Kenmerkvraag 5]]))), NOT(ISBLANK(OpnameTabel[[#This Row],[Kenmerkantwoord 5]])), TRUE) -> FALSE | AK10: =IF(AND(OpnameTabel[[#This Row],[IsAssetRegel]],OpnameTabel[[#This Row],[IsRegelActief]], NOT(ISBLANK(OpnameTabel[[#This Row],[Kenmerkvraag 6]]))), NOT(ISBLANK(OpnameTabel[[#This Row],[Kenmerkantwoord 6]])), TRUE) -> FALSE | AL10: =IF(AND(OpnameTabel[[#This Row],[IsAssetRegel]],OpnameTabel[[#This Row],[IsRegelActief]], NOT(ISBLANK(OpnameTabel[[#This Row],[Kenmerkvraag 7]]))), NOT(ISBLANK(OpnameTabel[[#This Row],[Kenmerkantwoord 7]])), TRUE) -> FALSE | AM10: =IF(AND(OpnameTabel[[#This Row],[IsAssetRegel]],OpnameTabel[[#This Row],[IsRegelActief]], NOT(ISBLANK(OpnameTabel[[#This Row],[Kenmerkvraag 8]]))), NOT(ISBLANK(OpnameTabel[[#This Row],[Kenmerkantwoord 8]])), TRUE) -> TRUE | AN10: =IF(AND(OpnameTabel[[#This Row],[IsAssetRegel]],OpnameTabel[[#This Row],[IsRegelActief]], NOT(ISBLANK(OpnameTabel[[#This Row],[Kenmerkvraag 9]]))), NOT(ISBLANK(OpnameTabel[[#This Row],[Kenmerkantwoord 9]])), TRUE) -> TRUE | AO10: =IF(AND(OpnameTabel[[#This Row],[IsAssetRegel]],OpnameTabel[[#This Row],[IsRegelActief]], NOT(ISBLANK(OpnameTabel[[#This Row],[Kenmerkvraag 10]]))), NOT(ISBLANK(OpnameTabel[[#This Row],[Kenmerkantwoord 10]])), TRUE) -> TRUE | AP10: =IF(AND(OpnameTabel[[#This Row],[IsAssetRegel]],OpnameTabel[[#This Row],[IsRegelActief]], NOT(ISBLANK(OpnameTabel[[#This Row],[Kenmerkvraag 11]]))), NOT(ISBLANK(OpnameTabel[[#This Row],[Kenmerkantwoord 11]])), TRUE) -> TRUE | AQ10: =IF(OpnameTabel[[#This Row],[IsIngevuld1]], 0, 1) -> 1 | AR10: =IF(OpnameTabel[[#This Row],[IsIngevuld2]], 0, 1) -> 1 | AS10: =IF(OpnameTabel[[#This Row],[IsIngevuld3]], 0, 1) -> 1 | AT10: =IF(OpnameTabel[[#This Row],[IsIngevuld4]], 0, 1) -> 1 | AU10: =IF(OpnameTabel[[#This Row],[IsIngevuld5]], 0, 1) -> 1 | AV10: =IF(OpnameTabel[[#This Row],[IsIngevuld6]], 0, 1) -> 1 | AW10: =IF(OpnameTabel[[#This Row],[IsIngevuld7]], 0, 1) -> 1 | AX10: =IF(OpnameTabel[[#This Row],[IsIngevuld8]], 0, 1) -> 0 | AY10: =IF(OpnameTabel[[#This Row],[IsIngevuld9]], 0, 1) -> 0 | AZ10: =IF(OpnameTabel[[#This Row],[IsIngevuld10]], 0, 1) -> 0 | BA10: =IF(OpnameTabel[[#This Row],[IsIngevuld11]], 0, 1) -> 0 | BB10: =ISNUMBER(SEARCH("[",OpnameTabel[[#This Row],[Kenmerkvraag 4]])) -> FALSE | BC10: =IF(OpnameTabel[[#This Row],[HeeftKenmerkEenheid4]], MID(LEFT(OpnameTabel[[#This Row],[Kenmerkvraag 4]],FIND("]",OpnameTabel[[#This Row],[Kenmerkvraag 4]])-1),FIND("[",OpnameTabel[[#This Row],[Kenmerkvraag 4]])+1,LEN(OpnameTabel[[#This Row],[Kenmerkvraag 4]])), "") | BD10: =IF(OpnameTabel[[#This Row],[HeeftKenmerkEenheid4]], LEFT(OpnameTabel[[#This Row],[Kenmerkvraag 4]], (FIND(" [",OpnameTabel[[#This Row],[Kenmerkvraag 4]],1)-1)), "") | BE10: =IF(OpnameTabel[[#This Row],[HeeftKenmerkEenheid4]], (OpnameTabel[[#This Row],[Kenmerkomschrijving4]] & ": " & OpnameTabel[[#This Row],[Kenmerkantwoord 4]] & " " &OpnameTabel[[#This Row],[Kenmerkeenheid4]]), IF(ISTEXT(OpnameTabel[[#This Row],[Kenmerkantwoord 4]]), OpnameTabel[[#This Row],[Kenmerkantwoord 4]], "")) | BF10: =ISNUMBER(SEARCH("[",OpnameTabel[[#This Row],[Kenmerkvraag 5]])) -> TRUE | BG10: =IF(OpnameTabel[[#This Row],[HeeftKenmerkEenheid5]], MID(LEFT(OpnameTabel[[#This Row],[Kenmerkvraag 5]],FIND("]",OpnameTabel[[#This Row],[Kenmerkvraag 5]])-1),FIND("[",OpnameTabel[[#This Row],[Kenmerkvraag 5]])+1,LEN(OpnameTabel[[#This Row],[Kenmerkvraag 5]])), "") -> m | BH10: =IF(OpnameTabel[[#This Row],[HeeftKenmerkEenheid5]], LEFT(OpnameTabel[[#This Row],[Kenmerkvraag 5]], (FIND(" [",OpnameTabel[[#This Row],[Kenmerkvraag 5]],1)-1)), "") -> Hoogte | BI10: =IF(OpnameTabel[[#This Row],[HeeftKenmerkEenheid5]], (OpnameTabel[[#This Row],[Kenmerkomschrijving5]] & ": " & OpnameTabel[[#This Row],[Kenmerkantwoord 5]] & " " &OpnameTabel[[#This Row],[Kenmerkeenheid5]]), IF(ISTEXT(OpnameTabel[[#This Row],[Kenmerkantwoord 5]]), OpnameTabel[[#This Row],[Kenmerkantwoord 5]], "")) -> Hoogte: m | BJ10: =ISNUMBER(SEARCH("[",OpnameTabel[[#This Row],[Kenmerkvraag 6]])) -> TRUE | BK10: =IF(OpnameTabel[[#This Row],[HeeftKenmerkEenheid6]], MID(LEFT(OpnameTabel[[#This Row],[Kenmerkvraag 6]],FIND("]",OpnameTabel[[#This Row],[Kenmerkvraag 6]])-1),FIND("[",OpnameTabel[[#This Row],[Kenmerkvraag 6]])+1,LEN(OpnameTabel[[#This Row],[Kenmerkvraag 6]])), "") -> m | BL10: =IF(OpnameTabel[[#This Row],[HeeftKenmerkEenheid6]], LEFT(OpnameTabel[[#This Row],[Kenmerkvraag 6]], (FIND(" [",OpnameTabel[[#This Row],[Kenmerkvraag 6]],1)-1)), "") -> Breedte | BM10: =IF(OpnameTabel[[#This Row],[HeeftKenmerkEenheid6]], (OpnameTabel[[#This Row],[Kenmerkomschrijving6]] & ": " & OpnameTabel[[#This Row],[Kenmerkantwoord 6]] & " " &OpnameTabel[[#This Row],[Kenmerkeenheid6]]), IF(ISTEXT(OpnameTabel[[#This Row],[Kenmerkantwoord 6]]), OpnameTabel[[#This Row],[Kenmerkantwoord 6]], "")) -> Breedte: m | BN10: =ISNUMBER(SEARCH("[",OpnameTabel[[#This Row],[Kenmerkvraag 7]])) -> FALSE | BO10: =IF(OpnameTabel[[#This Row],[HeeftKenmerkEenheid7]], MID(LEFT(OpnameTabel[[#This Row],[Kenmerkvraag 7]],FIND("]",OpnameTabel[[#This Row],[Kenmerkvraag 7]])-1),FIND("[",OpnameTabel[[#This Row],[Kenmerkvraag 7]])+1,LEN(OpnameTabel[[#This Row],[Kenmerkvraag 7]])), "") | BP10: =IF(OpnameTabel[[#This Row],[HeeftKenmerkEenheid7]], LEFT(OpnameTabel[[#This Row],[Kenmerkvraag 7]], (FIND(" [",OpnameTabel[[#This Row],[Kenmerkvraag 7]],1)-1)), "") | BQ10: =IF(OpnameTabel[[#This Row],[HeeftKenmerkEenheid7]], (OpnameTabel[[#This Row],[Kenmerkomschrijving7]] & ": " & OpnameTabel[[#This Row],[Kenmerkantwoord 7]] & " " &OpnameTabel[[#This Row],[Kenmerkeenheid7]]), IF(ISTEXT(OpnameTabel[[#This Row],[Kenmerkantwoord 7]]), OpnameTabel[[#This Row],[Kenmerkantwoord 7]], "")) | BR10: =ISNUMBER(SEARCH("[",OpnameTabel[[#This Row],[Kenmerkvraag 8]])) -> FALSE | BS10: =IF(OpnameTabel[[#This Row],[HeeftKenmerkEenheid8]], MID(LEFT(OpnameTabel[[#This Row],[Kenmerkvraag 8]],FIND("]",OpnameTabel[[#This Row],[Kenmerkvraag 8]])-1),FIND("[",OpnameTabel[[#This Row],[Kenmerkvraag 8]])+1,LEN(OpnameTabel[[#This Row],[Kenmerkvraag 8]])), "") | BT10: =IF(OpnameTabel[[#This Row],[HeeftKenmerkEenheid8]], LEFT(OpnameTabel[[#This Row],[Kenmerkvraag 8]], (FIND(" [",OpnameTabel[[#This Row],[Kenmerkvraag 8]],1)-1)), "") | BU10: =IF(OpnameTabel[[#This Row],[HeeftKenmerkEenheid8]], (OpnameTabel[[#This Row],[Kenmerkomschrijving8]] & ": " & OpnameTabel[[#This Row],[Kenmerkantwoord 8]] & " " &OpnameTabel[[#This Row],[Kenmerkeenheid8]]), IF(ISTEXT(OpnameTabel[[#This Row],[Kenmerkantwoord 8]]), OpnameTabel[[#This Row],[Kenmerkantwoord 8]], "")) | BV10: =ISNUMBER(SEARCH("[",OpnameTabel[[#This Row],[Kenmerkvraag 9]])) -> FALSE | BW10: =IF(OpnameTabel[[#This Row],[HeeftKenmerkEenheid9]], MID(LEFT(OpnameTabel[[#This Row],[Kenmerkvraag 9]],FIND("]",OpnameTabel[[#This Row],[Kenmerkvraag 9]])-1),FIND("[",OpnameTabel[[#This Row],[Kenmerkvraag 9]])+1,LEN(OpnameTabel[[#This Row],[Kenmerkvraag 9]])), "") | BX10: =IF(OpnameTabel[[#This Row],[HeeftKenmerkEenheid9]], LEFT(OpnameTabel[[#This Row],[Kenmerkvraag 9]], (FIND(" [",OpnameTabel[[#This Row],[Kenmerkvraag 9]],1)-1)), "") | BY10: =IF(OpnameTabel[[#This Row],[HeeftKenmerkEenheid9]], (OpnameTabel[[#This Row],[Kenmerkomschrijving9]] & ": " & OpnameTabel[[#This Row],[Kenmerkantwoord 9]] & " " &OpnameTabel[[#This Row],[Kenmerkeenheid9]]), IF(ISTEXT(OpnameTabel[[#This Row],[Kenmerkantwoord 9]]), OpnameTabel[[#This Row],[Kenmerkantwoord 9]], "")) | BZ10: =ISNUMBER(SEARCH("[",OpnameTabel[[#This Row],[Kenmerkvraag 10]])) -> FALSE | CA10: =IF(OpnameTabel[[#This Row],[HeeftKenmerkEenheid10]], MID(LEFT(OpnameTabel[[#This Row],[Kenmerkvraag 10]],FIND("]",OpnameTabel[[#This Row],[Kenmerkvraag 10]])-1),FIND("[",OpnameTabel[[#This Row],[Kenmerkvraag 10]])+1,LEN(OpnameTabel[[#This Row],[Kenmerkvraag 10]])), "") | CB10: =IF(OpnameTabel[[#This Row],[HeeftKenmerkEenheid10]], LEFT(OpnameTabel[[#This Row],[Kenmerkvraag 10]], (FIND(" [",OpnameTabel[[#This Row],[Kenmerkvraag 10]],1)-1)), "") | CC10: =IF(OpnameTabel[[#This Row],[HeeftKenmerkEenheid10]], (OpnameTabel[[#This Row],[Kenmerkomschrijving10]] & ": " & OpnameTabel[[#This Row],[Kenmerkantwoord 10]] & " " &OpnameTabel[[#This Row],[Kenmerkeenheid10]]), IF(ISTEXT(OpnameTabel[[#This Row],[Kenmerkantwoord 10]]), OpnameTabel[[#This Row],[Kenmerkantwoord 10]], "")) | CD10: =ISNUMBER(SEARCH("[",OpnameTabel[[#This Row],[Kenmerkvraag 11]])) -> FALSE | CE10: =IF(OpnameTabel[[#This Row],[HeeftKenmerkEenheid11]], MID(LEFT(OpnameTabel[[#This Row],[Kenmerkvraag 11]],FIND("]",OpnameTabel[[#This Row],[Kenmerkvraag 11]])-1),FIND("[",OpnameTabel[[#This Row],[Kenmerkvraag 11]])+1,LEN(OpnameTabel[[#This Row],[Kenmerkvraag 11]])), "") | CF10: =IF(OpnameTabel[[#This Row],[HeeftKenmerkEenheid11]], LEFT(OpnameTabel[[#This Row],[Kenmerkvraag 11]], (FIND(" [",OpnameTabel[[#This Row],[Kenmerkvraag 11]],1)-1)), "") | CG10: =IF(OpnameTabel[[#This Row],[HeeftKenmerkEenheid11]], (OpnameTabel[[#This Row],[Kenmerkomschrijving11]] & ": " & OpnameTabel[[#This Row],[Kenmerkantwoord 11]] & " " &OpnameTabel[[#This Row],[Kenmerkeenheid11]]), IF(ISTEXT(OpnameTabel[[#This Row],[Kenmerkantwoord 11]]), OpnameTabel[[#This Row],[Kenmerkantwoord 11]], ""))
A11: =ROW() -> 11 | B11: 0 | C11: Ramen en deuren | D11: =VLOOKUP(E11,'3 NL-SfB'!C:F,4,0) -> dak rook-/ventilatieluik | E11: 37.26.10 | F11: n.b. | G11: 37.12 | H11: 1 | L11: Aandrijving | N11: Hoogte [m] | P11: Breedte [m] | AD11: =NOT(ISBLANK(OpnameTabel[[#This Row],[Aantal]])) -> TRUE | AE11: =AND(OpnameTabel[[#This Row],[IsAssetRegel]],NOT(ISBLANK(OpnameTabel[[#This Row],[Aantal]]))) -> TRUE | AF11: =IF(AND(OpnameTabel[[#This Row],[IsAssetRegel]],OpnameTabel[[#This Row],[IsRegelActief]]), NOT(ISBLANK(OpnameTabel[[#This Row],[Bouwjaar]])), TRUE) -> FALSE | AG11: =IF(AND(OpnameTabel[[#This Row],[IsAssetRegel]],OpnameTabel[[#This Row],[IsRegelActief]]), NOT(ISBLANK(J11)), TRUE) -> FALSE | AH11: =IF(AND(OpnameTabel[[#This Row],[IsAssetRegel]],OpnameTabel[[#This Row],[IsRegelActief]]), NOT(ISBLANK(K11)), TRUE) -> FALSE | AI11: =IF(AND(OpnameTabel[[#This Row],[IsAssetRegel]],OpnameTabel[[#This Row],[IsRegelActief]], NOT(ISBLANK(OpnameTabel[[#This Row],[Kenmerkvraag 4]]))), NOT(ISBLANK(OpnameTabel[[#This Row],[Kenmerkantwoord 4]])), TRUE) -> FALSE | AJ11: =IF(AND(OpnameTabel[[#This Row],[IsAssetRegel]],OpnameTabel[[#This Row],[IsRegelActief]], NOT(ISBLANK(OpnameTabel[[#This Row],[Kenmerkvraag 5]]))), NOT(ISBLANK(OpnameTabel[[#This Row],[Kenmerkantwoord 5]])), TRUE) -> FALSE | AK11: =IF(AND(OpnameTabel[[#This Row],[IsAssetRegel]],OpnameTabel[[#This Row],[IsRegelActief]], NOT(ISBLANK(OpnameTabel[[#This Row],[Kenmerkvraag 6]]))), NOT(ISBLANK(OpnameTabel[[#This Row],[Kenmerkantwoord 6]])), TRUE) -> FALSE | AL11: =IF(AND(OpnameTabel[[#This Row],[IsAssetRegel]],OpnameTabel[[#This Row],[IsRegelActief]], NOT(ISBLANK(OpnameTabel[[#This Row],[Kenmerkvraag 7]]))), NOT(ISBLANK(OpnameTabel[[#This Row],[Kenmerkantwoord 7]])), TRUE) -> TRUE | AM11: =IF(AND(OpnameTabel[[#This Row],[IsAssetRegel]],OpnameTabel[[#This Row],[IsRegelActief]], NOT(ISBLANK(OpnameTabel[[#This Row],[Kenmerkvraag 8]]))), NOT(ISBLANK(OpnameTabel[[#This Row],[Kenmerkantwoord 8]])), TRUE) -> TRUE | AN11: =IF(AND(OpnameTabel[[#This Row],[IsAssetRegel]],OpnameTabel[[#This Row],[IsRegelActief]], NOT(ISBLANK(OpnameTabel[[#This Row],[Kenmerkvraag 9]]))), NOT(ISBLANK(OpnameTabel[[#This Row],[Kenmerkantwoord 9]])), TRUE) -> TRUE | AO11: =IF(AND(OpnameTabel[[#This Row],[IsAssetRegel]],OpnameTabel[[#This Row],[IsRegelActief]], NOT(ISBLANK(OpnameTabel[[#This Row],[Kenmerkvraag 10]]))), NOT(ISBLANK(OpnameTabel[[#This Row],[Kenmerkantwoord 10]])), TRUE) -> TRUE | AP11: =IF(AND(OpnameTabel[[#This Row],[IsAssetRegel]],OpnameTabel[[#This Row],[IsRegelActief]], NOT(ISBLANK(OpnameTabel[[#This Row],[Kenmerkvraag 11]]))), NOT(ISBLANK(OpnameTabel[[#This Row],[Kenmerkantwoord 11]])), TRUE) -> TRUE | AQ11: =IF(OpnameTabel[[#This Row],[IsIngevuld1]], 0, 1) -> 1 | AR11: =IF(OpnameTabel[[#This Row],[IsIngevuld2]], 0, 1) -> 1 | AS11: =IF(OpnameTabel[[#This Row],[IsIngevuld3]], 0, 1) -> 1 | AT11: =IF(OpnameTabel[[#This Row],[IsIngevuld4]], 0, 1) -> 1 | AU11: =IF(OpnameTabel[[#This Row],[IsIngevuld5]], 0, 1) -> 1 | AV11: =IF(OpnameTabel[[#This Row],[IsIngevuld6]], 0, 1) -> 1 | AW11: =IF(OpnameTabel[[#This Row],[IsIngevuld7]], 0, 1) -> 0 | AX11: =IF(OpnameTabel[[#This Row],[IsIngevuld8]], 0, 1) -> 0 | AY11: =IF(OpnameTabel[[#This Row],[IsIngevuld9]], 0, 1) -> 0 | AZ11: =IF(OpnameTabel[[#This Row],[IsIngevuld10]], 0, 1) -> 0 | BA11: =IF(OpnameTabel[[#This Row],[IsIngevuld11]], 0, 1) -> 0 | BB11: =ISNUMBER(SEARCH("[",OpnameTabel[[#This Row],[Kenmerkvraag 4]])) -> FALSE | BC11: =IF(OpnameTabel[[#This Row],[HeeftKenmerkEenheid4]], MID(LEFT(OpnameTabel[[#This Row],[Kenmerkvraag 4]],FIND("]",OpnameTabel[[#This Row],[Kenmerkvraag 4]])-1),FIND("[",OpnameTabel[[#This Row],[Kenmerkvraag 4]])+1,LEN(OpnameTabel[[#This Row],[Kenmerkvraag 4]])), "") | BD11: =IF(OpnameTabel[[#This Row],[HeeftKenmerkEenheid4]], LEFT(OpnameTabel[[#This Row],[Kenmerkvraag 4]], (FIND(" [",OpnameTabel[[#This Row],[Kenmerkvraag 4]],1)-1)), "") | BE11: =IF(OpnameTabel[[#This Row],[HeeftKenmerkEenheid4]], (OpnameTabel[[#This Row],[Kenmerkomschrijving4]] & ": " & OpnameTabel[[#This Row],[Kenmerkantwoord 4]] & " " &OpnameTabel[[#This Row],[Kenmerkeenheid4]]), IF(ISTEXT(OpnameTabel[[#This Row],[Kenmerkantwoord 4]]), OpnameTabel[[#This Row],[Kenmerkantwoord 4]], "")) | BF11: =ISNUMBER(SEARCH("[",OpnameTabel[[#This Row],[Kenmerkvraag 5]])) -> TRUE | BG11: =IF(OpnameTabel[[#This Row],[HeeftKenmerkEenheid5]], MID(LEFT(OpnameTabel[[#This Row],[Kenmerkvraag 5]],FIND("]",OpnameTabel[[#This Row],[Kenmerkvraag 5]])-1),FIND("[",OpnameTabel[[#This Row],[Kenmerkvraag 5]])+1,LEN(OpnameTabel[[#This Row],[Kenmerkvraag 5]])), "") -> m | BH11: =IF(OpnameTabel[[#This Row],[HeeftKenmerkEenheid5]], LEFT(OpnameTabel[[#This Row],[Kenmerkvraag 5]], (FIND(" [",OpnameTabel[[#This Row],[Kenmerkvraag 5]],1)-1)), "") -> Hoogte | BI11: =IF(OpnameTabel[[#This Row],[HeeftKenmerkEenheid5]], (OpnameTabel[[#This Row],[Kenmerkomschrijving5]] & ": " & OpnameTabel[[#This Row],[Kenmerkantwoord 5]] & " " &OpnameTabel[[#This Row],[Kenmerkeenheid5]]), IF(ISTEXT(OpnameTabel[[#This Row],[Kenmerkantwoord 5]]), OpnameTabel[[#This Row],[Kenmerkantwoord 5]], "")) -> Hoogte: m | BJ11: =ISNUMBER(SEARCH("[",OpnameTabel[[#This Row],[Kenmerkvraag 6]])) -> TRUE | BK11: =IF(OpnameTabel[[#This Row],[HeeftKenmerkEenheid6]], MID(LEFT(OpnameTabel[[#This Row],[Kenmerkvraag 6]],FIND("]",OpnameTabel[[#This Row],[Kenmerkvraag 6]])-1),FIND("[",OpnameTabel[[#This Row],[Kenmerkvraag 6]])+1,LEN(OpnameTabel[[#This Row],[Kenmerkvraag 6]])), "") -> m | BL11: =IF(OpnameTabel[[#This Row],[HeeftKenmerkEenheid6]], LEFT(OpnameTabel[[#This Row],[Kenmerkvraag 6]], (FIND(" [",OpnameTabel[[#This Row],[Kenmerkvraag 6]],1)-1)), "") -> Breedte | BM11: =IF(OpnameTabel[[#This Row],[HeeftKenmerkEenheid6]], (OpnameTabel[[#This Row],[Kenmerkomschrijving6]] & ": " & OpnameTabel[[#This Row],[Kenmerkantwoord 6]] & " " &OpnameTabel[[#This Row],[Kenmerkeenheid6]]), IF(ISTEXT(OpnameTabel[[#This Row],[Kenmerkantwoord 6]]), OpnameTabel[[#This Row],[Kenmerkantwoord 6]], "")) -> Breedte: m | BN11: =ISNUMBER(SEARCH("[",OpnameTabel[[#This Row],[Kenmerkvraag 7]])) -> FALSE | BO11: =IF(OpnameTabel[[#This Row],[HeeftKenmerkEenheid7]], MID(LEFT(OpnameTabel[[#This Row],[Kenmerkvraag 7]],FIND("]",OpnameTabel[[#This Row],[Kenmerkvraag 7]])-1),FIND("[",OpnameTabel[[#This Row],[Kenmerkvraag 7]])+1,LEN(OpnameTabel[[#This Row],[Kenmerkvraag 7]])), "") | BP11: =IF(OpnameTabel[[#This Row],[HeeftKenmerkEenheid7]], LEFT(OpnameTabel[[#This Row],[Kenmerkvraag 7]], (FIND(" [",OpnameTabel[[#This Row],[Kenmerkvraag 7]],1)-1)), "") | BQ11: =IF(OpnameTabel[[#This Row],[HeeftKenmerkEenheid7]], (OpnameTabel[[#This Row],[Kenmerkomschrijving7]] & ": " & OpnameTabel[[#This Row],[Kenmerkantwoord 7]] & " " &OpnameTabel[[#This Row],[Kenmerkeenheid7]]), IF(ISTEXT(OpnameTabel[[#This Row],[Kenmerkantwoord 7]]), OpnameTabel[[#This Row],[Kenmerkantwoord 7]], "")) | BR11: =ISNUMBER(SEARCH("[",OpnameTabel[[#This Row],[Kenmerkvraag 8]])) -> FALSE | BS11: =IF(OpnameTabel[[#This Row],[HeeftKenmerkEenheid8]], MID(LEFT(OpnameTabel[[#This Row],[Kenmerkvraag 8]],FIND("]",OpnameTabel[[#This Row],[Kenmerkvraag 8]])-1),FIND("[",OpnameTabel[[#This Row],[Kenmerkvraag 8]])+1,LEN(OpnameTabel[[#This Row],[Kenmerkvraag 8]])), "") | BT11: =IF(OpnameTabel[[#This Row],[HeeftKenmerkEenheid8]], LEFT(OpnameTabel[[#This Row],[Kenmerkvraag 8]], (FIND(" [",OpnameTabel[[#This Row],[Kenmerkvraag 8]],1)-1)), "") | BU11: =IF(OpnameTabel[[#This Row],[HeeftKenmerkEenheid8]], (OpnameTabel[[#This Row],[Kenmerkomschrijving8]] & ": " & OpnameTabel[[#This Row],[Kenmerkantwoord 8]] & " " &OpnameTabel[[#This Row],[Kenmerkeenheid8]]), IF(ISTEXT(OpnameTabel[[#This Row],[Kenmerkantwoord 8]]), OpnameTabel[[#This Row],[Kenmerkantwoord 8]], "")) | BV11: =ISNUMBER(SEARCH("[",OpnameTabel[[#This Row],[Kenmerkvraag 9]])) -> FALSE | BW11: =IF(OpnameTabel[[#This Row],[HeeftKenmerkEenheid9]], MID(LEFT(OpnameTabel[[#This Row],[Kenmerkvraag 9]],FIND("]",OpnameTabel[[#This Row],[Kenmerkvraag 9]])-1),FIND("[",OpnameTabel[[#This Row],[Kenmerkvraag 9]])+1,LEN(OpnameTabel[[#This Row],[Kenmerkvraag 9]])), "") | BX11: =IF(OpnameTabel[[#This Row],[HeeftKenmerkEenheid9]], LEFT(OpnameTabel[[#This Row],[Kenmerkvraag 9]], (FIND(" [",OpnameTabel[[#This Row],[Kenmerkvraag 9]],1)-1)), "") | BY11: =IF(OpnameTabel[[#This Row],[HeeftKenmerkEenheid9]], (OpnameTabel[[#This Row],[Kenmerkomschrijving9]] & ": " & OpnameTabel[[#This Row],[Kenmerkantwoord 9]] & " " &OpnameTabel[[#This Row],[Kenmerkeenheid9]]), IF(ISTEXT(OpnameTabel[[#This Row],[Kenmerkantwoord 9]]), OpnameTabel[[#This Row],[Kenmerkantwoord 9]], "")) | BZ11: =ISNUMBER(SEARCH("[",OpnameTabel[[#This Row],[Kenmerkvraag 10]])) -> FALSE | CA11: =IF(OpnameTabel[[#This Row],[HeeftKenmerkEenheid10]], MID(LEFT(OpnameTabel[[#This Row],[Kenmerkvraag 10]],FIND("]",OpnameTabel[[#This Row],[Kenmerkvraag 10]])-1),FIND("[",OpnameTabel[[#This Row],[Kenmerkvraag 10]])+1,LEN(OpnameTabel[[#This Row],[Kenmerkvraag 10]])), "") | CB11: =IF(OpnameTabel[[#This Row],[HeeftKenmerkEenheid10]], LEFT(OpnameTabel[[#This Row],[Kenmerkvraag 10]], (FIND(" [",OpnameTabel[[#This Row],[Kenmerkvraag 10]],1)-1)), "") | CC11: =IF(OpnameTabel[[#This Row],[HeeftKenmerkEenheid10]], (OpnameTabel[[#This Row],[Kenmerkomschrijving10]] & ": " & OpnameTabel[[#This Row],[Kenmerkantwoord 10]] & " " &OpnameTabel[[#This Row],[Kenmerkeenheid10]]), IF(ISTEXT(OpnameTabel[[#This Row],[Kenmerkantwoord 10]]), OpnameTabel[[#This Row],[Kenmerkantwoord 10]], "")) | CD11: =ISNUMBER(SEARCH("[",OpnameTabel[[#This Row],[Kenmerkvraag 11]])) -> FALSE | CE11: =IF(OpnameTabel[[#This Row],[HeeftKenmerkEenheid11]], MID(LEFT(OpnameTabel[[#This Row],[Kenmerkvraag 11]],FIND("]",OpnameTabel[[#This Row],[Kenmerkvraag 11]])-1),FIND("[",OpnameTabel[[#This Row],[Kenmerkvraag 11]])+1,LEN(OpnameTabel[[#This Row],[Kenmerkvraag 11]])), "") | CF11: =IF(OpnameTabel[[#This Row],[HeeftKenmerkEenheid11]], LEFT(OpnameTabel[[#This Row],[Kenmerkvraag 11]], (FIND(" [",OpnameTabel[[#This Row],[Kenmerkvraag 11]],1)-1)), "") | CG11: =IF(OpnameTabel[[#This Row],[HeeftKenmerkEenheid11]], (OpnameTabel[[#This Row],[Kenmerkomschrijving11]] & ": " & OpnameTabel[[#This Row],[Kenmerkantwoord 11]] & " " &OpnameTabel[[#This Row],[Kenmerkeenheid11]]), IF(ISTEXT(OpnameTabel[[#This Row],[Kenmerkantwoord 11]]), OpnameTabel[[#This Row],[Kenmerkantwoord 11]], ""))
A12: =ROW() -> 12 | B12: 0 | C12: Afvoeren | D12: =VLOOKUP(E12,'3 NL-SfB'!C:F,4,0) -> waterpomp hemelwater | E12: 52.16.10 | F12: 52.16 | G12: 52.16 | H12: 1 | L12: Bediening | N12: Max. debiet [m3/h] | P12: Opvoerhoogte [kPa] | AD12: =NOT(ISBLANK(OpnameTabel[[#This Row],[Aantal]])) -> TRUE | AE12: =AND(OpnameTabel[[#This Row],[IsAssetRegel]],NOT(ISBLANK(OpnameTabel[[#This Row],[Aantal]]))) -> TRUE | AF12: =IF(AND(OpnameTabel[[#This Row],[IsAssetRegel]],OpnameTabel[[#This Row],[IsRegelActief]]), NOT(ISBLANK(OpnameTabel[[#This Row],[Bouwjaar]])), TRUE) -> FALSE | AG12: =IF(AND(OpnameTabel[[#This Row],[IsAssetRegel]],OpnameTabel[[#This Row],[IsRegelActief]]), NOT(ISBLANK(J12)), TRUE) -> FALSE | AH12: =IF(AND(OpnameTabel[[#This Row],[IsAssetRegel]],OpnameTabel[[#This Row],[IsRegelActief]]), NOT(ISBLANK(K12)), TRUE) -> FALSE | AI12: =IF(AND(OpnameTabel[[#This Row],[IsAssetRegel]],OpnameTabel[[#This Row],[IsRegelActief]], NOT(ISBLANK(OpnameTabel[[#This Row],[Kenmerkvraag 4]]))), NOT(ISBLANK(OpnameTabel[[#This Row],[Kenmerkantwoord 4]])), TRUE) -> FALSE | AJ12: =IF(AND(OpnameTabel[[#This Row],[IsAssetRegel]],OpnameTabel[[#This Row],[IsRegelActief]], NOT(ISBLANK(OpnameTabel[[#This Row],[Kenmerkvraag 5]]))), NOT(ISBLANK(OpnameTabel[[#This Row],[Kenmerkantwoord 5]])), TRUE) -> FALSE | AK12: =IF(AND(OpnameTabel[[#This Row],[IsAssetRegel]],OpnameTabel[[#This Row],[IsRegelActief]], NOT(ISBLANK(OpnameTabel[[#This Row],[Kenmerkvraag 6]]))), NOT(ISBLANK(OpnameTabel[[#This Row],[Kenmerkantwoord 6]])), TRUE) -> FALSE | AL12: =IF(AND(OpnameTabel[[#This Row],[IsAssetRegel]],OpnameTabel[[#This Row],[IsRegelActief]], NOT(ISBLANK(OpnameTabel[[#This Row],[Kenmerkvraag 7]]))), NOT(ISBLANK(OpnameTabel[[#This Row],[Kenmerkantwoord 7]])), TRUE) -> TRUE | AM12: =IF(AND(OpnameTabel[[#This Row],[IsAssetRegel]],OpnameTabel[[#This Row],[IsRegelActief]], NOT(ISBLANK(OpnameTabel[[#This Row],[Kenmerkvraag 8]]))), NOT(ISBLANK(OpnameTabel[[#This Row],[Kenmerkantwoord 8]])), TRUE) -> TRUE | AN12: =IF(AND(OpnameTabel[[#This Row],[IsAssetRegel]],OpnameTabel[[#This Row],[IsRegelActief]], NOT(ISBLANK(OpnameTabel[[#This Row],[Kenmerkvraag 9]]))), NOT(ISBLANK(OpnameTabel[[#This Row],[Kenmerkantwoord 9]])), TRUE) -> TRUE | AO12: =IF(AND(OpnameTabel[[#This Row],[IsAssetRegel]],OpnameTabel[[#This Row],[IsRegelActief]], NOT(ISBLANK(OpnameTabel[[#This Row],[Kenmerkvraag 10]]))), NOT(ISBLANK(OpnameTabel[[#This Row],[Kenmerkantwoord 10]])), TRUE) -> TRUE | AP12: =IF(AND(OpnameTabel[[#This Row],[IsAssetRegel]],OpnameTabel[[#This Row],[IsRegelActief]], NOT(ISBLANK(OpnameTabel[[#This Row],[Kenmerkvraag 11]]))), NOT(ISBLANK(OpnameTabel[[#This Row],[Kenmerkantwoord 11]])), TRUE) -> TRUE | AQ12: =IF(OpnameTabel[[#This Row],[IsIngevuld1]], 0, 1) -> 1 | AR12: =IF(OpnameTabel[[#This Row],[IsIngevuld2]], 0, 1) -> 1 | AS12: =IF(OpnameTabel[[#This Row],[IsIngevuld3]], 0, 1) -> 1 | AT12: =IF(OpnameTabel[[#This Row],[IsIngevuld4]], 0, 1) -> 1 | AU12: =IF(OpnameTabel[[#This Row],[IsIngevuld5]], 0, 1) -> 1 | AV12: =IF(OpnameTabel[[#This Row],[IsIngevuld6]], 0, 1) -> 1 | AW12: =IF(OpnameTabel[[#This Row],[IsIngevuld7]], 0, 1) -> 0 | AX12: =IF(OpnameTabel[[#This Row],[IsIngevuld8]], 0, 1) -> 0 | AY12: =IF(OpnameTabel[[#This Row],[IsIngevuld9]], 0, 1) -> 0 | AZ12: =IF(OpnameTabel[[#This Row],[IsIngevuld10]], 0, 1) -> 0 | BA12: =IF(OpnameTabel[[#This Row],[IsIngevuld11]], 0, 1) -> 0 | BB12: =ISNUMBER(SEARCH("[",OpnameTabel[[#This Row],[Kenmerkvraag 4]])) -> FALSE | BC12: =IF(OpnameTabel[[#This Row],[HeeftKenmerkEenheid4]], MID(LEFT(OpnameTabel[[#This Row],[Kenmerkvraag 4]],FIND("]",OpnameTabel[[#This Row],[Kenmerkvraag 4]])-1),FIND("[",OpnameTabel[[#This Row],[Kenmerkvraag 4]])+1,LEN(OpnameTabel[[#This Row],[Kenmerkvraag 4]])), "") | BD12: =IF(OpnameTabel[[#This Row],[HeeftKenmerkEenheid4]], LEFT(OpnameTabel[[#This Row],[Kenmerkvraag 4]], (FIND(" [",OpnameTabel[[#This Row],[Kenmerkvraag 4]],1)-1)), "") | BE12: =IF(OpnameTabel[[#This Row],[HeeftKenmerkEenheid4]], (OpnameTabel[[#This Row],[Kenmerkomschrijving4]] & ": " & OpnameTabel[[#This Row],[Kenmerkantwoord 4]] & " " &OpnameTabel[[#This Row],[Kenmerkeenheid4]]), IF(ISTEXT(OpnameTabel[[#This Row],[Kenmerkantwoord 4]]), OpnameTabel[[#This Row],[Kenmerkantwoord 4]], "")) | BF12: =ISNUMBER(SEARCH("[",OpnameTabel[[#This Row],[Kenmerkvraag 5]])) -> TRUE | BG12: =IF(OpnameTabel[[#This Row],[HeeftKenmerkEenheid5]], MID(LEFT(OpnameTabel[[#This Row],[Kenmerkvraag 5]],FIND("]",OpnameTabel[[#This Row],[Kenmerkvraag 5]])-1),FIND("[",OpnameTabel[[#This Row],[Kenmerkvraag 5]])+1,LEN(OpnameTabel[[#This Row],[Kenmerkvraag 5]])), "") -> m3/h | BH12: =IF(OpnameTabel[[#This Row],[HeeftKenmerkEenheid5]], LEFT(OpnameTabel[[#This Row],[Kenmerkvraag 5]], (FIND(" [",OpnameTabel[[#This Row],[Kenmerkvraag 5]],1)-1)), "") -> Max. debiet | BI12: =IF(OpnameTabel[[#This Row],[HeeftKenmerkEenheid5]], (OpnameTabel[[#This Row],[Kenmerkomschrijving5]] & ": " & OpnameTabel[[#This Row],[Kenmerkantwoord 5]] & " " &OpnameTabel[[#This Row],[Kenmerkeenheid5]]), IF(ISTEXT(OpnameTabel[[#This Row],[Kenmerkantwoord 5]]), OpnameTabel[[#This Row],[Kenmerkantwoord 5]], "")) -> Max. debiet: m3/h | BJ12: =ISNUMBER(SEARCH("[",OpnameTabel[[#This Row],[Kenmerkvraag 6]])) -> TRUE | BK12: =IF(OpnameTabel[[#This Row],[HeeftKenmerkEenheid6]], MID(LEFT(OpnameTabel[[#This Row],[Kenmerkvraag 6]],FIND("]",OpnameTabel[[#This Row],[Kenmerkvraag 6]])-1),FIND("[",OpnameTabel[[#This Row],[Kenmerkvraag 6]])+1,LEN(OpnameTabel[[#This Row],[Kenmerkvraag 6]])), "") -> kPa | BL12: =IF(OpnameTabel[[#This Row],[HeeftKenmerkEenheid6]], LEFT(OpnameTabel[[#This Row],[Kenmerkvraag 6]], (FIND(" [",OpnameTabel[[#This Row],[Kenmerkvraag 6]],1)-1)), "") -> Opvoerhoogte | BM12: =IF(OpnameTabel[[#This Row],[HeeftKenmerkEenheid6]], (OpnameTabel[[#This Row],[Kenmerkomschrijving6]] & ": " & OpnameTabel[[#This Row],[Kenmerkantwoord 6]] & " " &OpnameTabel[[#This Row],[Kenmerkeenheid6]]), IF(ISTEXT(OpnameTabel[[#This Row],[Kenmerkantwoord 6]]), OpnameTabel[[#This Row],[Kenmerkantwoord 6]], "")) -> Opvoerhoogte: kPa | BN12: =ISNUMBER(SEARCH("[",OpnameTabel[[#This Row],[Kenmerkvraag 7]])) -> FALSE | BO12: =IF(OpnameTabel[[#This Row],[HeeftKenmerkEenheid7]], MID(LEFT(OpnameTabel[[#This Row],[Kenmerkvraag 7]],FIND("]",OpnameTabel[[#This Row],[Kenmerkvraag 7]])-1),FIND("[",OpnameTabel[[#This Row],[Kenmerkvraag 7]])+1,LEN(OpnameTabel[[#This Row],[Kenmerkvraag 7]])), "") | BP12: =IF(OpnameTabel[[#This Row],[HeeftKenmerkEenheid7]], LEFT(OpnameTabel[[#This Row],[Kenmerkvraag 7]], (FIND(" [",OpnameTabel[[#This Row],[Kenmerkvraag 7]],1)-1)), "") | BQ12: =IF(OpnameTabel[[#This Row],[HeeftKenmerkEenheid7]], (OpnameTabel[[#This Row],[Kenmerkomschrijving7]] & ": " & OpnameTabel[[#This Row],[Kenmerkantwoord 7]] & " " &OpnameTabel[[#This Row],[Kenmerkeenheid7]]), IF(ISTEXT(OpnameTabel[[#This Row],[Kenmerkantwoord 7]]), OpnameTabel[[#This Row],[Kenmerkantwoord 7]], "")) | BR12: =ISNUMBER(SEARCH("[",OpnameTabel[[#This Row],[Kenmerkvraag 8]])) -> FALSE | BS12: =IF(OpnameTabel[[#This Row],[HeeftKenmerkEenheid8]], MID(LEFT(OpnameTabel[[#This Row],[Kenmerkvraag 8]],FIND("]",OpnameTabel[[#This Row],[Kenmerkvraag 8]])-1),FIND("[",OpnameTabel[[#This Row],[Kenmerkvraag 8]])+1,LEN(OpnameTabel[[#This Row],[Kenmerkvraag 8]])), "") | BT12: =IF(OpnameTabel[[#This Row],[HeeftKenmerkEenheid8]], LEFT(OpnameTabel[[#This Row],[Kenmerkvraag 8]], (FIND(" [",OpnameTabel[[#This Row],[Kenmerkvraag 8]],1)-1)), "") | BU12: =IF(OpnameTabel[[#This Row],[HeeftKenmerkEenheid8]], (OpnameTabel[[#This Row],[Kenmerkomschrijving8]] & ": " & OpnameTabel[[#This Row],[Kenmerkantwoord 8]] & " " &OpnameTabel[[#This Row],[Kenmerkeenheid8]]), IF(ISTEXT(OpnameTabel[[#This Row],[Kenmerkantwoord 8]]), OpnameTabel[[#This Row],[Kenmerkantwoord 8]], "")) | BV12: =ISNUMBER(SEARCH("[",OpnameTabel[[#This Row],[Kenmerkvraag 9]])) -> FALSE | BW12: =IF(OpnameTabel[[#This Row],[HeeftKenmerkEenheid9]], MID(LEFT(OpnameTabel[[#This Row],[Kenmerkvraag 9]],FIND("]",OpnameTabel[[#This Row],[Kenmerkvraag 9]])-1),FIND("[",OpnameTabel[[#This Row],[Kenmerkvraag 9]])+1,LEN(OpnameTabel[[#This Row],[Kenmerkvraag 9]])), "") | BX12: =IF(OpnameTabel[[#This Row],[HeeftKenmerkEenheid9]], LEFT(OpnameTabel[[#This Row],[Kenmerkvraag 9]], (FIND(" [",OpnameTabel[[#This Row],[Kenmerkvraag 9]],1)-1)), "") | BY12: =IF(OpnameTabel[[#This Row],[HeeftKenmerkEenheid9]], (OpnameTabel[[#This Row],[Kenmerkomschrijving9]] & ": " & OpnameTabel[[#This Row],[Kenmerkantwoord 9]] & " " &OpnameTabel[[#This Row],[Kenmerkeenheid9]]), IF(ISTEXT(OpnameTabel[[#This Row],[Kenmerkantwoord 9]]), OpnameTabel[[#This Row],[Kenmerkantwoord 9]], "")) | BZ12: =ISNUMBER(SEARCH("[",OpnameTabel[[#This Row],[Kenmerkvraag 10]])) -> FALSE | CA12: =IF(OpnameTabel[[#This Row],[HeeftKenmerkEenheid10]], MID(LEFT(OpnameTabel[[#This Row],[Kenmerkvraag 10]],FIND("]",OpnameTabel[[#This Row],[Kenmerkvraag 10]])-1),FIND("[",OpnameTabel[[#This Row],[Kenmerkvraag 10]])+1,LEN(OpnameTabel[[#This Row],[Kenmerkvraag 10]])), "") | CB12: =IF(OpnameTabel[[#This Row],[HeeftKenmerkEenheid10]], LEFT(OpnameTabel[[#This Row],[Kenmerkvraag 10]], (FIND(" [",OpnameTabel[[#This Row],[Kenmerkvraag 10]],1)-1)), "") | CC12: =IF(OpnameTabel[[#This Row],[HeeftKenmerkEenheid10]], (OpnameTabel[[#This Row],[Kenmerkomschrijving10]] & ": " & OpnameTabel[[#This Row],[Kenmerkantwoord 10]] & " " &OpnameTabel[[#This Row],[Kenmerkeenheid10]]), IF(ISTEXT(OpnameTabel[[#This Row],[Kenmerkantwoord 10]]), OpnameTabel[[#This Row],[Kenmerkantwoord 10]], "")) | CD12: =ISNUMBER(SEARCH("[",OpnameTabel[[#This Row],[Kenmerkvraag 11]])) -> FALSE | CE12: =IF(OpnameTabel[[#This Row],[HeeftKenmerkEenheid11]], MID(LEFT(OpnameTabel[[#This Row],[Kenmerkvraag 11]],FIND("]",OpnameTabel[[#This Row],[Kenmerkvraag 11]])-1),FIND("[",OpnameTabel[[#This Row],[Kenmerkvraag 11]])+1,LEN(OpnameTabel[[#This Row],[Kenmerkvraag 11]])), "") | CF12: =IF(OpnameTabel[[#This Row],[HeeftKenmerkEenheid11]], LEFT(OpnameTabel[[#This Row],[Kenmerkvraag 11]], (FIND(" [",OpnameTabel[[#This Row],[Kenmerkvraag 11]],1)-1)), "") | CG12: =IF(OpnameTabel[[#This Row],[HeeftKenmerkEenheid11]], (OpnameTabel[[#This Row],[Kenmerkomschrijving11]] & ": " & OpnameTabel[[#This Row],[Kenmerkantwoord 11]] & " " &OpnameTabel[[#This Row],[Kenmerkeenheid11]]), IF(ISTEXT(OpnameTabel[[#This Row],[Kenmerkantwoord 11]]), OpnameTabel[[#This Row],[Kenmerkantwoord 11]], ""))
A13: =ROW() -> 13 | B13: 0 | C13: Afvoeren | D13: =VLOOKUP(E13,'3 NL-SfB'!C:F,4,0) -> afvoerpomp fecaliën | E13: 52.26.20 | F13: 52.26 | G13: 52.26 | H13: 1 | L13: Bediening | N13: Max. debiet [m3/h] | P13: Opvoerhoogte [kPa] | AD13: =NOT(ISBLANK(OpnameTabel[[#This Row],[Aantal]])) -> TRUE | AE13: =AND(OpnameTabel[[#This Row],[IsAssetRegel]],NOT(ISBLANK(OpnameTabel[[#This Row],[Aantal]]))) -> TRUE | AF13: =IF(AND(OpnameTabel[[#This Row],[IsAssetRegel]],OpnameTabel[[#This Row],[IsRegelActief]]), NOT(ISBLANK(OpnameTabel[[#This Row],[Bouwjaar]])), TRUE) -> FALSE | AG13: =IF(AND(OpnameTabel[[#This Row],[IsAssetRegel]],OpnameTabel[[#This Row],[IsRegelActief]]), NOT(ISBLANK(J13)), TRUE) -> FALSE | AH13: =IF(AND(OpnameTabel[[#This Row],[IsAssetRegel]],OpnameTabel[[#This Row],[IsRegelActief]]), NOT(ISBLANK(K13)), TRUE) -> FALSE | AI13: =IF(AND(OpnameTabel[[#This Row],[IsAssetRegel]],OpnameTabel[[#This Row],[IsRegelActief]], NOT(ISBLANK(OpnameTabel[[#This Row],[Kenmerkvraag 4]]))), NOT(ISBLANK(OpnameTabel[[#This Row],[Kenmerkantwoord 4]])), TRUE) -> FALSE | AJ13: =IF(AND(OpnameTabel[[#This Row],[IsAssetRegel]],OpnameTabel[[#This Row],[IsRegelActief]], NOT(ISBLANK(OpnameTabel[[#This Row],[Kenmerkvraag 5]]))), NOT(ISBLANK(OpnameTabel[[#This Row],[Kenmerkantwoord 5]])), TRUE) -> FALSE | AK13: =IF(AND(OpnameTabel[[#This Row],[IsAssetRegel]],OpnameTabel[[#This Row],[IsRegelActief]], NOT(ISBLANK(OpnameTabel[[#This Row],[Kenmerkvraag 6]]))), NOT(ISBLANK(OpnameTabel[[#This Row],[Kenmerkantwoord 6]])), TRUE) -> FALSE | AL13: =IF(AND(OpnameTabel[[#This Row],[IsAssetRegel]],OpnameTabel[[#This Row],[IsRegelActief]], NOT(ISBLANK(OpnameTabel[[#This Row],[Kenmerkvraag 7]]))), NOT(ISBLANK(OpnameTabel[[#This Row],[Kenmerkantwoord 7]])), TRUE) -> TRUE | AM13: =IF(AND(OpnameTabel[[#This Row],[IsAssetRegel]],OpnameTabel[[#This Row],[IsRegelActief]], NOT(ISBLANK(OpnameTabel[[#This Row],[Kenmerkvraag 8]]))), NOT(ISBLANK(OpnameTabel[[#This Row],[Kenmerkantwoord 8]])), TRUE) -> TRUE | AN13: =IF(AND(OpnameTabel[[#This Row],[IsAssetRegel]],OpnameTabel[[#This Row],[IsRegelActief]], NOT(ISBLANK(OpnameTabel[[#This Row],[Kenmerkvraag 9]]))), NOT(ISBLANK(OpnameTabel[[#This Row],[Kenmerkantwoord 9]])), TRUE) -> TRUE | AO13: =IF(AND(OpnameTabel[[#This Row],[IsAssetRegel]],OpnameTabel[[#This Row],[IsRegelActief]], NOT(ISBLANK(OpnameTabel[[#This Row],[Kenmerkvraag 10]]))), NOT(ISBLANK(OpnameTabel[[#This Row],[Kenmerkantwoord 10]])), TRUE) -> TRUE | AP13: =IF(AND(OpnameTabel[[#This Row],[IsAssetRegel]],OpnameTabel[[#This Row],[IsRegelActief]], NOT(ISBLANK(OpnameTabel[[#This Row],[Kenmerkvraag 11]]))), NOT(ISBLANK(OpnameTabel[[#This Row],[Kenmerkantwoord 11]])), TRUE) -> TRUE | AQ13: =IF(OpnameTabel[[#This Row],[IsIngevuld1]], 0, 1) -> 1 | AR13: =IF(OpnameTabel[[#This Row],[IsIngevuld2]], 0, 1) -> 1 | AS13: =IF(OpnameTabel[[#This Row],[IsIngevuld3]], 0, 1) -> 1 | AT13: =IF(OpnameTabel[[#This Row],[IsIngevuld4]], 0, 1) -> 1 | AU13: =IF(OpnameTabel[[#This Row],[IsIngevuld5]], 0, 1) -> 1 | AV13: =IF(OpnameTabel[[#This Row],[IsIngevuld6]], 0, 1) -> 1 | AW13: =IF(OpnameTabel[[#This Row],[IsIngevuld7]], 0, 1) -> 0 | AX13: =IF(OpnameTabel[[#This Row],[IsIngevuld8]], 0, 1) -> 0 | AY13: =IF(OpnameTabel[[#This Row],[IsIngevuld9]], 0, 1) -> 0 | AZ13: =IF(OpnameTabel[[#This Row],[IsIngevuld10]], 0, 1) -> 0 | BA13: =IF(OpnameTabel[[#This Row],[IsIngevuld11]], 0, 1) -> 0 | BB13: =ISNUMBER(SEARCH("[",OpnameTabel[[#This Row],[Kenmerkvraag 4]])) -> FALSE | BC13: =IF(OpnameTabel[[#This Row],[HeeftKenmerkEenheid4]], MID(LEFT(OpnameTabel[[#This Row],[Kenmerkvraag 4]],FIND("]",OpnameTabel[[#This Row],[Kenmerkvraag 4]])-1),FIND("[",OpnameTabel[[#This Row],[Kenmerkvraag 4]])+1,LEN(OpnameTabel[[#This Row],[Kenmerkvraag 4]])), "") | BD13: =IF(OpnameTabel[[#This Row],[HeeftKenmerkEenheid4]], LEFT(OpnameTabel[[#This Row],[Kenmerkvraag 4]], (FIND(" [",OpnameTabel[[#This Row],[Kenmerkvraag 4]],1)-1)), "") | BE13: =IF(OpnameTabel[[#This Row],[HeeftKenmerkEenheid4]], (OpnameTabel[[#This Row],[Kenmerkomschrijving4]] & ": " & OpnameTabel[[#This Row],[Kenmerkantwoord 4]] & " " &OpnameTabel[[#This Row],[Kenmerkeenheid4]]), IF(ISTEXT(OpnameTabel[[#This Row],[Kenmerkantwoord 4]]), OpnameTabel[[#This Row],[Kenmerkantwoord 4]], "")) | BF13: =ISNUMBER(SEARCH("[",OpnameTabel[[#This Row],[Kenmerkvraag 5]])) -> TRUE | BG13: =IF(OpnameTabel[[#This Row],[HeeftKenmerkEenheid5]], MID(LEFT(OpnameTabel[[#This Row],[Kenmerkvraag 5]],FIND("]",OpnameTabel[[#This Row],[Kenmerkvraag 5]])-1),FIND("[",OpnameTabel[[#This Row],[Kenmerkvraag 5]])+1,LEN(OpnameTabel[[#This Row],[Kenmerkvraag 5]])), "") -> m3/h | BH13: =IF(OpnameTabel[[#This Row],[HeeftKenmerkEenheid5]], LEFT(OpnameTabel[[#This Row],[Kenmerkvraag 5]], (FIND(" [",OpnameTabel[[#This Row],[Kenmerkvraag 5]],1)-1)), "") -> Max. debiet | BI13: =IF(OpnameTabel[[#This Row],[HeeftKenmerkEenheid5]], (OpnameTabel[[#This Row],[Kenmerkomschrijving5]] & ": " & OpnameTabel[[#This Row],[Kenmerkantwoord 5]] & " " &OpnameTabel[[#This Row],[Kenmerkeenheid5]]), IF(ISTEXT(OpnameTabel[[#This Row],[Kenmerkantwoord 5]]), OpnameTabel[[#This Row],[Kenmerkantwoord 5]], "")) -> Max. debiet: m3/h | BJ13: =ISNUMBER(SEARCH("[",OpnameTabel[[#This Row],[Kenmerkvraag 6]])) -> TRUE | BK13: =IF(OpnameTabel[[#This Row],[HeeftKenmerkEenheid6]], MID(LEFT(OpnameTabel[[#This Row],[Kenmerkvraag 6]],FIND("]",OpnameTabel[[#This Row],[Kenmerkvraag 6]])-1),FIND("[",OpnameTabel[[#This Row],[Kenmerkvraag 6]])+1,LEN(OpnameTabel[[#This Row],[Kenmerkvraag 6]])), "") -> kPa | BL13: =IF(OpnameTabel[[#This Row],[HeeftKenmerkEenheid6]], LEFT(OpnameTabel[[#This Row],[Kenmerkvraag 6]], (FIND(" [",OpnameTabel[[#This Row],[Kenmerkvraag 6]],1)-1)), "") -> Opvoerhoogte | BM13: =IF(OpnameTabel[[#This Row],[HeeftKenmerkEenheid6]], (OpnameTabel[[#This Row],[Kenmerkomschrijving6]] & ": " & OpnameTabel[[#This Row],[Kenmerkantwoord 6]] & " " &OpnameTabel[[#This Row],[Kenmerkeenheid6]]), IF(ISTEXT(OpnameTabel[[#This Row],[Kenmerkantwoord 6]]), OpnameTabel[[#This Row],[Kenmerkantwoord 6]], "")) -> Opvoerhoogte: kPa | BN13: =ISNUMBER(SEARCH("[",OpnameTabel[[#This Row],[Kenmerkvraag 7]])) -> FALSE | BO13: =IF(OpnameTabel[[#This Row],[HeeftKenmerkEenheid7]], MID(LEFT(OpnameTabel[[#This Row],[Kenmerkvraag 7]],FIND("]",OpnameTabel[[#This Row],[Kenmerkvraag 7]])-1),FIND("[",OpnameTabel[[#This Row],[Kenmerkvraag 7]])+1,LEN(OpnameTabel[[#This Row],[Kenmerkvraag 7]])), "") | BP13: =IF(OpnameTabel[[#This Row],[HeeftKenmerkEenheid7]], LEFT(OpnameTabel[[#This Row],[Kenmerkvraag 7]], (FIND(" [",OpnameTabel[[#This Row],[Kenmerkvraag 7]],1)-1)), "") | BQ13: =IF(OpnameTabel[[#This Row],[HeeftKenmerkEenheid7]], (OpnameTabel[[#This Row],[Kenmerkomschrijving7]] & ": " & OpnameTabel[[#This Row],[Kenmerkantwoord 7]] & " " &OpnameTabel[[#This Row],[Kenmerkeenheid7]]), IF(ISTEXT(OpnameTabel[[#This Row],[Kenmerkantwoord 7]]), OpnameTabel[[#This Row],[Kenmerkantwoord 7]], "")) | BR13: =ISNUMBER(SEARCH("[",OpnameTabel[[#This Row],[Kenmerkvraag 8]])) -> FALSE | BS13: =IF(OpnameTabel[[#This Row],[HeeftKenmerkEenheid8]], MID(LEFT(OpnameTabel[[#This Row],[Kenmerkvraag 8]],FIND("]",OpnameTabel[[#This Row],[Kenmerkvraag 8]])-1),FIND("[",OpnameTabel[[#This Row],[Kenmerkvraag 8]])+1,LEN(OpnameTabel[[#This Row],[Kenmerkvraag 8]])), "") | BT13: =IF(OpnameTabel[[#This Row],[HeeftKenmerkEenheid8]], LEFT(OpnameTabel[[#This Row],[Kenmerkvraag 8]], (FIND(" [",OpnameTabel[[#This Row],[Kenmerkvraag 8]],1)-1)), "") | BU13: =IF(OpnameTabel[[#This Row],[HeeftKenmerkEenheid8]], (OpnameTabel[[#This Row],[Kenmerkomschrijving8]] & ": " & OpnameTabel[[#This Row],[Kenmerkantwoord 8]] & " " &OpnameTabel[[#This Row],[Kenmerkeenheid8]]), IF(ISTEXT(OpnameTabel[[#This Row],[Kenmerkantwoord 8]]), OpnameTabel[[#This Row],[Kenmerkantwoord 8]], "")) | BV13: =ISNUMBER(SEARCH("[",OpnameTabel[[#This Row],[Kenmerkvraag 9]])) -> FALSE | BW13: =IF(OpnameTabel[[#This Row],[HeeftKenmerkEenheid9]], MID(LEFT(OpnameTabel[[#This Row],[Kenmerkvraag 9]],FIND("]",OpnameTabel[[#This Row],[Kenmerkvraag 9]])-1),FIND("[",OpnameTabel[[#This Row],[Kenmerkvraag 9]])+1,LEN(OpnameTabel[[#This Row],[Kenmerkvraag 9]])), "") | BX13: =IF(OpnameTabel[[#This Row],[HeeftKenmerkEenheid9]], LEFT(OpnameTabel[[#This Row],[Kenmerkvraag 9]], (FIND(" [",OpnameTabel[[#This Row],[Kenmerkvraag 9]],1)-1)), "") | BY13: =IF(OpnameTabel[[#This Row],[HeeftKenmerkEenheid9]], (OpnameTabel[[#This Row],[Kenmerkomschrijving9]] & ": " & OpnameTabel[[#This Row],[Kenmerkantwoord 9]] & " " &OpnameTabel[[#This Row],[Kenmerkeenheid9]]), IF(ISTEXT(OpnameTabel[[#This Row],[Kenmerkantwoord 9]]), OpnameTabel[[#This Row],[Kenmerkantwoord 9]], "")) | BZ13: =ISNUMBER(SEARCH("[",OpnameTabel[[#This Row],[Kenmerkvraag 10]])) -> FALSE | CA13: =IF(OpnameTabel[[#This Row],[HeeftKenmerkEenheid10]], MID(LEFT(OpnameTabel[[#This Row],[Kenmerkvraag 10]],FIND("]",OpnameTabel[[#This Row],[Kenmerkvraag 10]])-1),FIND("[",OpnameTabel[[#This Row],[Kenmerkvraag 10]])+1,LEN(OpnameTabel[[#This Row],[Kenmerkvraag 10]])), "") | CB13: =IF(OpnameTabel[[#This Row],[HeeftKenmerkEenheid10]], LEFT(OpnameTabel[[#This Row],[Kenmerkvraag 10]], (FIND(" [",OpnameTabel[[#This Row],[Kenmerkvraag 10]],1)-1)), "") | CC13: =IF(OpnameTabel[[#This Row],[HeeftKenmerkEenheid10]], (OpnameTabel[[#This Row],[Kenmerkomschrijving10]] & ": " & OpnameTabel[[#This Row],[Kenmerkantwoord 10]] & " " &OpnameTabel[[#This Row],[Kenmerkeenheid10]]), IF(ISTEXT(OpnameTabel[[#This Row],[Kenmerkantwoord 10]]), OpnameTabel[[#This Row],[Kenmerkantwoord 10]], "")) | CD13: =ISNUMBER(SEARCH("[",OpnameTabel[[#This Row],[Kenmerkvraag 11]])) -> FALSE | CE13: =IF(OpnameTabel[[#This Row],[HeeftKenmerkEenheid11]], MID(LEFT(OpnameTabel[[#This Row],[Kenmerkvraag 11]],FIND("]",OpnameTabel[[#This Row],[Kenmerkvraag 11]])-1),FIND("[",OpnameTabel[[#This Row],[Kenmerkvraag 11]])+1,LEN(OpnameTabel[[#This Row],[Kenmerkvraag 11]])), "") | CF13: =IF(OpnameTabel[[#This Row],[HeeftKenmerkEenheid11]], LEFT(OpnameTabel[[#This Row],[Kenmerkvraag 11]], (FIND(" [",OpnameTabel[[#This Row],[Kenmerkvraag 11]],1)-1)), "") | CG13: =IF(OpnameTabel[[#This Row],[HeeftKenmerkEenheid11]], (OpnameTabel[[#This Row],[Kenmerkomschrijving11]] & ": " & OpnameTabel[[#This Row],[Kenmerkantwoord 11]] & " " &OpnameTabel[[#This Row],[Kenmerkeenheid11]]), IF(ISTEXT(OpnameTabel[[#This Row],[Kenmerkantwoord 11]]), OpnameTabel[[#This Row],[Kenmerkantwoord 11]], "")) | CH13: Optie 1 | CI13: Optie 2
A14: =ROW() -> 14 | B14: 0 | C14: Afvoeren | D14: =VLOOKUP(E14,'3 NL-SfB'!C:F,4,0) -> droge motorpomp afvalwater | E14: 52.36.10 | F14: 52.36 | G14: 52.36 | H14: 1 | L14: Bediening | N14: Max. debiet [m3/h] | P14: Opvoerhoogte [kPa] | AC14: nieuwe vraag: type pomp? | AD14: =NOT(ISBLANK(OpnameTabel[[#This Row],[Aantal]])) -> TRUE | AE14: =AND(OpnameTabel[[#This Row],[IsAssetRegel]],NOT(ISBLANK(OpnameTabel[[#This Row],[Aantal]]))) -> TRUE | AF14: =IF(AND(OpnameTabel[[#This Row],[IsAssetRegel]],OpnameTabel[[#This Row],[IsRegelActief]]), NOT(ISBLANK(OpnameTabel[[#This Row],[Bouwjaar]])), TRUE) -> FALSE | AG14: =IF(AND(OpnameTabel[[#This Row],[IsAssetRegel]],OpnameTabel[[#This Row],[IsRegelActief]]), NOT(ISBLANK(J14)), TRUE) -> FALSE | AH14: =IF(AND(OpnameTabel[[#This Row],[IsAssetRegel]],OpnameTabel[[#This Row],[IsRegelActief]]), NOT(ISBLANK(K14)), TRUE) -> FALSE | AI14: =IF(AND(OpnameTabel[[#This Row],[IsAssetRegel]],OpnameTabel[[#This Row],[IsRegelActief]], NOT(ISBLANK(OpnameTabel[[#This Row],[Kenmerkvraag 4]]))), NOT(ISBLANK(OpnameTabel[[#This Row],[Kenmerkantwoord 4]])), TRUE) -> FALSE | AJ14: =IF(AND(OpnameTabel[[#This Row],[IsAssetRegel]],OpnameTabel[[#This Row],[IsRegelActief]], NOT(ISBLANK(OpnameTabel[[#This Row],[Kenmerkvraag 5]]))), NOT(ISBLANK(OpnameTabel[[#This Row],[Kenmerkantwoord 5]])), TRUE) -> FALSE | AK14: =IF(AND(OpnameTabel[[#This Row],[IsAssetRegel]],OpnameTabel[[#This Row],[IsRegelActief]], NOT(ISBLANK(OpnameTabel[[#This Row],[Kenmerkvraag 6]]))), NOT(ISBLANK(OpnameTabel[[#This Row],[Kenmerkantwoord 6]])), TRUE) -> FALSE | AL14: =IF(AND(OpnameTabel[[#This Row],[IsAssetRegel]],OpnameTabel[[#This Row],[IsRegelActief]], NOT(ISBLANK(OpnameTabel[[#This Row],[Kenmerkvraag 7]]))), NOT(ISBLANK(OpnameTabel[[#This Row],[Kenmerkantwoord 7]])), TRUE) -> TRUE | AM14: =IF(AND(OpnameTabel[[#This Row],[IsAssetRegel]],OpnameTabel[[#This Row],[IsRegelActief]], NOT(ISBLANK(OpnameTabel[[#This Row],[Kenmerkvraag 8]]))), NOT(ISBLANK(OpnameTabel[[#This Row],[Kenmerkantwoord 8]])), TRUE) -> TRUE | AN14: =IF(AND(OpnameTabel[[#This Row],[IsAssetRegel]],OpnameTabel[[#This Row],[IsRegelActief]], NOT(ISBLANK(OpnameTabel[[#This Row],[Kenmerkvraag 9]]))), NOT(ISBLANK(OpnameTabel[[#This Row],[Kenmerkantwoord 9]])), TRUE) -> TRUE | AO14: =IF(AND(OpnameTabel[[#This Row],[IsAssetRegel]],OpnameTabel[[#This Row],[IsRegelActief]], NOT(ISBLANK(OpnameTabel[[#This Row],[Kenmerkvraag 10]]))), NOT(ISBLANK(OpnameTabel[[#This Row],[Kenmerkantwoord 10]])), TRUE) -> TRUE | AP14: =IF(AND(OpnameTabel[[#This Row],[IsAssetRegel]],OpnameTabel[[#This Row],[IsRegelActief]], NOT(ISBLANK(OpnameTabel[[#This Row],[Kenmerkvraag 11]]))), NOT(ISBLANK(OpnameTabel[[#This Row],[Kenmerkantwoord 11]])), TRUE) -> TRUE | AQ14: =IF(OpnameTabel[[#This Row],[IsIngevuld1]], 0, 1) -> 1 | AR14: =IF(OpnameTabel[[#This Row],[IsIngevuld2]], 0, 1) -> 1 | AS14: =IF(OpnameTabel[[#This Row],[IsIngevuld3]], 0, 1) -> 1 | AT14: =IF(OpnameTabel[[#This Row],[IsIngevuld4]], 0, 1) -> 1 | AU14: =IF(OpnameTabel[[#This Row],[IsIngevuld5]], 0, 1) -> 1 | AV14: =IF(OpnameTabel[[#This Row],[IsIngevuld6]], 0, 1) -> 1 | AW14: =IF(OpnameTabel[[#This Row],[IsIngevuld7]], 0, 1) -> 0 | AX14: =IF(OpnameTabel[[#This Row],[IsIngevuld8]], 0, 1) -> 0 | AY14: =IF(OpnameTabel[[#This Row],[IsIngevuld9]], 0, 1) -> 0 | AZ14: =IF(OpnameTabel[[#This Row],[IsIngevuld10]], 0, 1) -> 0 | BA14: =IF(OpnameTabel[[#This Row],[IsIngevuld11]], 0, 1) -> 0 | BB14: =ISNUMBER(SEARCH("[",OpnameTabel[[#This Row],[Kenmerkvraag 4]])) -> FALSE | BC14: =IF(OpnameTabel[[#This Row],[HeeftKenmerkEenheid4]], MID(LEFT(OpnameTabel[[#This Row],[Kenmerkvraag 4]],FIND("]",OpnameTabel[[#This Row],[Kenmerkvraag 4]])-1),FIND("[",OpnameTabel[[#This Row],[Kenmerkvraag 4]])+1,LEN(OpnameTabel[[#This Row],[Kenmerkvraag 4]])), "") | BD14: =IF(OpnameTabel[[#This Row],[HeeftKenmerkEenheid4]], LEFT(OpnameTabel[[#This Row],[Kenmerkvraag 4]], (FIND(" [",OpnameTabel[[#This Row],[Kenmerkvraag 4]],1)-1)), "") | BE14: =IF(OpnameTabel[[#This Row],[HeeftKenmerkEenheid4]], (OpnameTabel[[#This Row],[Kenmerkomschrijving4]] & ": " & OpnameTabel[[#This Row],[Kenmerkantwoord 4]] & " " &OpnameTabel[[#This Row],[Kenmerkeenheid4]]), IF(ISTEXT(OpnameTabel[[#This Row],[Kenmerkantwoord 4]]), OpnameTabel[[#This Row],[Kenmerkantwoord 4]], "")) | BF14: =ISNUMBER(SEARCH("[",OpnameTabel[[#This Row],[Kenmerkvraag 5]])) -> TRUE | BG14: =IF(OpnameTabel[[#This Row],[HeeftKenmerkEenheid5]], MID(LEFT(OpnameTabel[[#This Row],[Kenmerkvraag 5]],FIND("]",OpnameTabel[[#This Row],[Kenmerkvraag 5]])-1),FIND("[",OpnameTabel[[#This Row],[Kenmerkvraag 5]])+1,LEN(OpnameTabel[[#This Row],[Kenmerkvraag 5]])), "") -> m3/h | BH14: =IF(OpnameTabel[[#This Row],[HeeftKenmerkEenheid5]], LEFT(OpnameTabel[[#This Row],[Kenmerkvraag 5]], (FIND(" [",OpnameTabel[[#This Row],[Kenmerkvraag 5]],1)-1)), "") -> Max. debiet | BI14: =IF(OpnameTabel[[#This Row],[HeeftKenmerkEenheid5]], (OpnameTabel[[#This Row],[Kenmerkomschrijving5]] & ": " & OpnameTabel[[#This Row],[Kenmerkantwoord 5]] & " " &OpnameTabel[[#This Row],[Kenmerkeenheid5]]), IF(ISTEXT(OpnameTabel[[#This Row],[Kenmerkantwoord 5]]), OpnameTabel[[#This Row],[Kenmerkantwoord 5]], "")) -> Max. debiet: m3/h | BJ14: =ISNUMBER(SEARCH("[",OpnameTabel[[#This Row],[Kenmerkvraag 6]])) -> TRUE | BK14: =IF(OpnameTabel[[#This Row],[HeeftKenmerkEenheid6]], MID(LEFT(OpnameTabel[[#This Row],[Kenmerkvraag 6]],FIND("]",OpnameTabel[[#This Row],[Kenmerkvraag 6]])-1),FIND("[",OpnameTabel[[#This Row],[Kenmerkvraag 6]])+1,LEN(OpnameTabel[[#This Row],[Kenmerkvraag 6]])), "") -> kPa | BL14: =IF(OpnameTabel[[#This Row],[HeeftKenmerkEenheid6]], LEFT(OpnameTabel[[#This Row],[Kenmerkvraag 6]], (FIND(" [",OpnameTabel[[#This Row],[Kenmerkvraag 6]],1)-1)), "") -> Opvoerhoogte | BM14: =IF(OpnameTabel[[#This Row],[HeeftKenmerkEenheid6]], (OpnameTabel[[#This Row],[Kenmerkomschrijving6]] & ": " & OpnameTabel[[#This Row],[Kenmerkantwoord 6]] & " " &OpnameTabel[[#This Row],[Kenmerkeenheid6]]), IF(ISTEXT(OpnameTabel[[#This Row],[Kenmerkantwoord 6]]), OpnameTabel[[#This Row],[Kenmerkantwoord 6]], "")) -> Opvoerhoogte: kPa | BN14: =ISNUMBER(SEARCH("[",OpnameTabel[[#This Row],[Kenmerkvraag 7]])) -> FALSE | BO14: =IF(OpnameTabel[[#This Row],[HeeftKenmerkEenheid7]], MID(LEFT(OpnameTabel[[#This Row],[Kenmerkvraag 7]],FIND("]",OpnameTabel[[#This Row],[Kenmerkvraag 7]])-1),FIND("[",OpnameTabel[[#This Row],[Kenmerkvraag 7]])+1,LEN(OpnameTabel[[#This Row],[Kenmerkvraag 7]])), "") | BP14: =IF(OpnameTabel[[#This Row],[HeeftKenmerkEenheid7]], LEFT(OpnameTabel[[#This Row],[Kenmerkvraag 7]], (FIND(" [",OpnameTabel[[#This Row],[Kenmerkvraag 7]],1)-1)), "") | BQ14: =IF(OpnameTabel[[#This Row],[HeeftKenmerkEenheid7]], (OpnameTabel[[#This Row],[Kenmerkomschrijving7]] & ": " & OpnameTabel[[#This Row],[Kenmerkantwoord 7]] & " " &OpnameTabel[[#This Row],[Kenmerkeenheid7]]), IF(ISTEXT(OpnameTabel[[#This Row],[Kenmerkantwoord 7]]), OpnameTabel[[#This Row],[Kenmerkantwoord 7]], "")) | BR14: =ISNUMBER(SEARCH("[",OpnameTabel[[#This Row],[Kenmerkvraag 8]])) -> FALSE | BS14: =IF(OpnameTabel[[#This Row],[HeeftKenmerkEenheid8]], MID(LEFT(OpnameTabel[[#This Row],[Kenmerkvraag 8]],FIND("]",OpnameTabel[[#This Row],[Kenmerkvraag 8]])-1),FIND("[",OpnameTabel[[#This Row],[Kenmerkvraag 8]])+1,LEN(OpnameTabel[[#This Row],[Kenmerkvraag 8]])), "") | BT14: =IF(OpnameTabel[[#This Row],[HeeftKenmerkEenheid8]], LEFT(OpnameTabel[[#This Row],[Kenmerkvraag 8]], (FIND(" [",OpnameTabel[[#This Row],[Kenmerkvraag 8]],1)-1)), "") | BU14: =IF(OpnameTabel[[#This Row],[HeeftKenmerkEenheid8]], (OpnameTabel[[#This Row],[Kenmerkomschrijving8]] & ": " & OpnameTabel[[#This Row],[Kenmerkantwoord 8]] & " " &OpnameTabel[[#This Row],[Kenmerkeenheid8]]), IF(ISTEXT(OpnameTabel[[#This Row],[Kenmerkantwoord 8]]), OpnameTabel[[#This Row],[Kenmerkantwoord 8]], "")) | BV14: =ISNUMBER(SEARCH("[",OpnameTabel[[#This Row],[Kenmerkvraag 9]])) -> FALSE | BW14: =IF(OpnameTabel[[#This Row],[HeeftKenmerkEenheid9]], MID(LEFT(OpnameTabel[[#This Row],[Kenmerkvraag 9]],FIND("]",OpnameTabel[[#This Row],[Kenmerkvraag 9]])-1),FIND("[",OpnameTabel[[#This Row],[Kenmerkvraag 9]])+1,LEN(OpnameTabel[[#This Row],[Kenmerkvraag 9]])), "") | BX14: =IF(OpnameTabel[[#This Row],[HeeftKenmerkEenheid9]], LEFT(OpnameTabel[[#This Row],[Kenmerkvraag 9]], (FIND(" [",OpnameTabel[[#This Row],[Kenmerkvraag 9]],1)-1)), "") | BY14: =IF(OpnameTabel[[#This Row],[HeeftKenmerkEenheid9]], (OpnameTabel[[#This Row],[Kenmerkomschrijving9]] & ": " & OpnameTabel[[#This Row],[Kenmerkantwoord 9]] & " " &OpnameTabel[[#This Row],[Kenmerkeenheid9]]), IF(ISTEXT(OpnameTabel[[#This Row],[Kenmerkantwoord 9]]), OpnameTabel[[#This Row],[Kenmerkantwoord 9]], "")) | BZ14: =ISNUMBER(SEARCH("[",OpnameTabel[[#This Row],[Kenmerkvraag 10]])) -> FALSE | CA14: =IF(OpnameTabel[[#This Row],[HeeftKenmerkEenheid10]], MID(LEFT(OpnameTabel[[#This Row],[Kenmerkvraag 10]],FIND("]",OpnameTabel[[#This Row],[Kenmerkvraag 10]])-1),FIND("[",OpnameTabel[[#This Row],[Kenmerkvraag 10]])+1,LEN(OpnameTabel[[#This Row],[Kenmerkvraag 10]])), "") | CB14: =IF(OpnameTabel[[#This Row],[HeeftKenmerkEenheid10]], LEFT(OpnameTabel[[#This Row],[Kenmerkvraag 10]], (FIND(" [",OpnameTabel[[#This Row],[Kenmerkvraag 10]],1)-1)), "") | CC14: =IF(OpnameTabel[[#This Row],[HeeftKenmerkEenheid10]], (OpnameTabel[[#This Row],[Kenmerkomschrijving10]] & ": " & OpnameTabel[[#This Row],[Kenmerkantwoord 10]] & " " &OpnameTabel[[#This Row],[Kenmerkeenheid10]]), IF(ISTEXT(OpnameTabel[[#This Row],[Kenmerkantwoord 10]]), OpnameTabel[[#This Row],[Kenmerkantwoord 10]], "")) | CD14: =ISNUMBER(SEARCH("[",OpnameTabel[[#This Row],[Kenmerkvraag 11]])) -> FALSE | CE14: =IF(OpnameTabel[[#This Row],[HeeftKenmerkEenheid11]], MID(LEFT(OpnameTabel[[#This Row],[Kenmerkvraag 11]],FIND("]",OpnameTabel[[#This Row],[Kenmerkvraag 11]])-1),FIND("[",OpnameTabel[[#This Row],[Kenmerkvraag 11]])+1,LEN(OpnameTabel[[#This Row],[Kenmerkvraag 11]])), "") | CF14: =IF(OpnameTabel[[#This Row],[HeeftKenmerkEenheid11]], LEFT(OpnameTabel[[#This Row],[Kenmerkvraag 11]], (FIND(" [",OpnameTabel[[#This Row],[Kenmerkvraag 11]],1)-1)), "") | CG14: =IF(OpnameTabel[[#This Row],[HeeftKenmerkEenheid11]], (OpnameTabel[[#This Row],[Kenmerkomschrijving11]] & ": " & OpnameTabel[[#This Row],[Kenmerkantwoord 11]] & " " &OpnameTabel[[#This Row],[Kenmerkeenheid11]]), IF(ISTEXT(OpnameTabel[[#This Row],[Kenmerkantwoord 11]]), OpnameTabel[[#This Row],[Kenmerkantwoord 11]], ""))
A15: =ROW() -> 15 | B15: 0 | C15: Water | D15: =VLOOKUP(E15,'3 NL-SfB'!C:F,4,0) -> drukverhogingsinstallatie drinkwater | E15: 53.16.00 | F15: 53.16 | G15: 53.16 | H15: 1 | L15: Pompen [stuks] | N15: Vermogen (totaal) [kW] | P15: Opvoerhoogte (max) [kPa] | AD15: =NOT(ISBLANK(OpnameTabel[[#This Row],[Aantal]])) -> TRUE | AE15: =AND(OpnameTabel[[#This Row],[IsAssetRegel]],NOT(ISBLANK(OpnameTabel[[#This Row],[Aantal]]))) -> TRUE | AF15: =IF(AND(OpnameTabel[[#This Row],[IsAssetRegel]],OpnameTabel[[#This Row],[IsRegelActief]]), NOT(ISBLANK(OpnameTabel[[#This Row],[Bouwjaar]])), TRUE) -> FALSE | AG15: =IF(AND(OpnameTabel[[#This Row],[IsAssetRegel]],OpnameTabel[[#This Row],[IsRegelActief]]), NOT(ISBLANK(J15)), TRUE) -> FALSE | AH15: =IF(AND(OpnameTabel[[#This Row],[IsAssetRegel]],OpnameTabel[[#This Row],[IsRegelActief]]), NOT(ISBLANK(K15)), TRUE) -> FALSE | AI15: =IF(AND(OpnameTabel[[#This Row],[IsAssetRegel]],OpnameTabel[[#This Row],[IsRegelActief]], NOT(ISBLANK(OpnameTabel[[#This Row],[Kenmerkvraag 4]]))), NOT(ISBLANK(OpnameTabel[[#This Row],[Kenmerkantwoord 4]])), TRUE) -> FALSE | AJ15: =IF(AND(OpnameTabel[[#This Row],[IsAssetRegel]],OpnameTabel[[#This Row],[IsRegelActief]], NOT(ISBLANK(OpnameTabel[[#This Row],[Kenmerkvraag 5]]))), NOT(ISBLANK(OpnameTabel[[#This Row],[Kenmerkantwoord 5]])), TRUE) -> FALSE | AK15: =IF(AND(OpnameTabel[[#This Row],[IsAssetRegel]],OpnameTabel[[#This Row],[IsRegelActief]], NOT(ISBLANK(OpnameTabel[[#This Row],[Kenmerkvraag 6]]))), NOT(ISBLANK(OpnameTabel[[#This Row],[Kenmerkantwoord 6]])), TRUE) -> FALSE | AL15: =IF(AND(OpnameTabel[[#This Row],[IsAssetRegel]],OpnameTabel[[#This Row],[IsRegelActief]], NOT(ISBLANK(OpnameTabel[[#This Row],[Kenmerkvraag 7]]))), NOT(ISBLANK(OpnameTabel[[#This Row],[Kenmerkantwoord 7]])), TRUE) -> TRUE | AM15: =IF(AND(OpnameTabel[[#This Row],[IsAssetRegel]],OpnameTabel[[#This Row],[IsRegelActief]], NOT(ISBLANK(OpnameTabel[[#This Row],[Kenmerkvraag 8]]))), NOT(ISBLANK(OpnameTabel[[#This Row],[Kenmerkantwoord 8]])), TRUE) -> TRUE | AN15: =IF(AND(OpnameTabel[[#This Row],[IsAssetRegel]],OpnameTabel[[#This Row],[IsRegelActief]], NOT(ISBLANK(OpnameTabel[[#This Row],[Kenmerkvraag 9]]))), NOT(ISBLANK(OpnameTabel[[#This Row],[Kenmerkantwoord 9]])), TRUE) -> TRUE | AO15: =IF(AND(OpnameTabel[[#This Row],[IsAssetRegel]],OpnameTabel[[#This Row],[IsRegelActief]], NOT(ISBLANK(OpnameTabel[[#This Row],[Kenmerkvraag 10]]))), NOT(ISBLANK(OpnameTabel[[#This Row],[Kenmerkantwoord 10]])), TRUE) -> TRUE | AP15: =IF(AND(OpnameTabel[[#This Row],[IsAssetRegel]],OpnameTabel[[#This Row],[IsRegelActief]], NOT(ISBLANK(OpnameTabel[[#This Row],[Kenmerkvraag 11]]))), NOT(ISBLANK(OpnameTabel[[#This Row],[Kenmerkantwoord 11]])), TRUE) -> TRUE | AQ15: =IF(OpnameTabel[[#This Row],[IsIngevuld1]], 0, 1) -> 1 | AR15: =IF(OpnameTabel[[#This Row],[IsIngevuld2]], 0, 1) -> 1 | AS15: =IF(OpnameTabel[[#This Row],[IsIngevuld3]], 0, 1) -> 1 | AT15: =IF(OpnameTabel[[#This Row],[IsIngevuld4]], 0, 1) -> 1 | AU15: =IF(OpnameTabel[[#This Row],[IsIngevuld5]], 0, 1) -> 1 | AV15: =IF(OpnameTabel[[#This Row],[IsIngevuld6]], 0, 1) -> 1 | AW15: =IF(OpnameTabel[[#This Row],[IsIngevuld7]], 0, 1) -> 0 | AX15: =IF(OpnameTabel[[#This Row],[IsIngevuld8]], 0, 1) -> 0 | AY15: =IF(OpnameTabel[[#This Row],[IsIngevuld9]], 0, 1) -> 0 | AZ15: =IF(OpnameTabel[[#This Row],[IsIngevuld10]], 0, 1) -> 0 | BA15: =IF(OpnameTabel[[#This Row],[IsIngevuld11]], 0, 1) -> 0 | BB15: =ISNUMBER(SEARCH("[",OpnameTabel[[#This Row],[Kenmerkvraag 4]])) -> TRUE | BC15: =IF(OpnameTabel[[#This Row],[HeeftKenmerkEenheid4]], MID(LEFT(OpnameTabel[[#This Row],[Kenmerkvraag 4]],FIND("]",OpnameTabel[[#This Row],[Kenmerkvraag 4]])-1),FIND("[",OpnameTabel[[#This Row],[Kenmerkvraag 4]])+1,LEN(OpnameTabel[[#This Row],[Kenmerkvraag 4]])), "") -> stuks | BD15: =IF(OpnameTabel[[#This Row],[HeeftKenmerkEenheid4]], LEFT(OpnameTabel[[#This Row],[Kenmerkvraag 4]], (FIND(" [",OpnameTabel[[#This Row],[Kenmerkvraag 4]],1)-1)), "") -> Pompen | BE15: =IF(OpnameTabel[[#This Row],[HeeftKenmerkEenheid4]], (OpnameTabel[[#This Row],[Kenmerkomschrijving4]] & ": " & OpnameTabel[[#This Row],[Kenmerkantwoord 4]] & " " &OpnameTabel[[#This Row],[Kenmerkeenheid4]]), IF(ISTEXT(OpnameTabel[[#This Row],[Kenmerkantwoord 4]]), OpnameTabel[[#This Row],[Kenmerkantwoord 4]], "")) -> Pompen: stuks | BF15: =ISNUMBER(SEARCH("[",OpnameTabel[[#This Row],[Kenmerkvraag 5]])) -> TRUE | BG15: =IF(OpnameTabel[[#This Row],[HeeftKenmerkEenheid5]], MID(LEFT(OpnameTabel[[#This Row],[Kenmerkvraag 5]],FIND("]",OpnameTabel[[#This Row],[Kenmerkvraag 5]])-1),FIND("[",OpnameTabel[[#This Row],[Kenmerkvraag 5]])+1,LEN(OpnameTabel[[#This Row],[Kenmerkvraag 5]])), "") -> kW | BH15: =IF(OpnameTabel[[#This Row],[HeeftKenmerkEenheid5]], LEFT(OpnameTabel[[#This Row],[Kenmerkvraag 5]], (FIND(" [",OpnameTabel[[#This Row],[Kenmerkvraag 5]],1)-1)), "") -> Vermogen (totaal) | BI15: =IF(OpnameTabel[[#This Row],[HeeftKenmerkEenheid5]], (OpnameTabel[[#This Row],[Kenmerkomschrijving5]] & ": " & OpnameTabel[[#This Row],[Kenmerkantwoord 5]] & " " &OpnameTabel[[#This Row],[Kenmerkeenheid5]]), IF(ISTEXT(OpnameTabel[[#This Row],[Kenmerkantwoord 5]]), OpnameTabel[[#This Row],[Kenmerkantwoord 5]], "")) -> Vermogen (totaal): kW | BJ15: =ISNUMBER(SEARCH("[",OpnameTabel[[#This Row],[Kenmerkvraag 6]])) -> TRUE | BK15: =IF(OpnameTabel[[#This Row],[HeeftKenmerkEenheid6]], MID(LEFT(OpnameTabel[[#This Row],[Kenmerkvraag 6]],FIND("]",OpnameTabel[[#This Row],[Kenmerkvraag 6]])-1),FIND("[",OpnameTabel[[#This Row],[Kenmerkvraag 6]])+1,LEN(OpnameTabel[[#This Row],[Kenmerkvraag 6]])), "") -> kPa | BL15: =IF(OpnameTabel[[#This Row],[HeeftKenmerkEenheid6]], LEFT(OpnameTabel[[#This Row],[Kenmerkvraag 6]], (FIND(" [",OpnameTabel[[#This Row],[Kenmerkvraag 6]],1)-1)), "") -> Opvoerhoogte (max) | BM15: =IF(OpnameTabel[[#This Row],[HeeftKenmerkEenheid6]], (OpnameTabel[[#This Row],[Kenmerkomschrijving6]] & ": " & OpnameTabel[[#This Row],[Kenmerkantwoord 6]] & " " &OpnameTabel[[#This Row],[Kenmerkeenheid6]]), IF(ISTEXT(OpnameTabel[[#This Row],[Kenmerkantwoord 6]]), OpnameTabel[[#This Row],[Kenmerkantwoord 6]], "")) -> Opvoerhoogte (max): kPa | BN15: =ISNUMBER(SEARCH("[",OpnameTabel[[#This Row],[Kenmerkvraag 7]])) -> FALSE | BO15: =IF(OpnameTabel[[#This Row],[HeeftKenmerkEenheid7]], MID(LEFT(OpnameTabel[[#This Row],[Kenmerkvraag 7]],FIND("]",OpnameTabel[[#This Row],[Kenmerkvraag 7]])-1),FIND("[",OpnameTabel[[#This Row],[Kenmerkvraag 7]])+1,LEN(OpnameTabel[[#This Row],[Kenmerkvraag 7]])), "") | BP15: =IF(OpnameTabel[[#This Row],[HeeftKenmerkEenheid7]], LEFT(OpnameTabel[[#This Row],[Kenmerkvraag 7]], (FIND(" [",OpnameTabel[[#This Row],[Kenmerkvraag 7]],1)-1)), "") | BQ15: =IF(OpnameTabel[[#This Row],[HeeftKenmerkEenheid7]], (OpnameTabel[[#This Row],[Kenmerkomschrijving7]] & ": " & OpnameTabel[[#This Row],[Kenmerkantwoord 7]] & " " &OpnameTabel[[#This Row],[Kenmerkeenheid7]]), IF(ISTEXT(OpnameTabel[[#This Row],[Kenmerkantwoord 7]]), OpnameTabel[[#This Row],[Kenmerkantwoord 7]], "")) | BR15: =ISNUMBER(SEARCH("[",OpnameTabel[[#This Row],[Kenmerkvraag 8]])) -> FALSE | BS15: =IF(OpnameTabel[[#This Row],[HeeftKenmerkEenheid8]], MID(LEFT(OpnameTabel[[#This Row],[Kenmerkvraag 8]],FIND("]",OpnameTabel[[#This Row],[Kenmerkvraag 8]])-1),FIND("[",OpnameTabel[[#This Row],[Kenmerkvraag 8]])+1,LEN(OpnameTabel[[#This Row],[Kenmerkvraag 8]])), "") | BT15: =IF(OpnameTabel[[#This Row],[HeeftKenmerkEenheid8]], LEFT(OpnameTabel[[#This Row],[Kenmerkvraag 8]], (FIND(" [",OpnameTabel[[#This Row],[Kenmerkvraag 8]],1)-1)), "") | BU15: =IF(OpnameTabel[[#This Row],[HeeftKenmerkEenheid8]], (OpnameTabel[[#This Row],[Kenmerkomschrijving8]] & ": " & OpnameTabel[[#This Row],[Kenmerkantwoord 8]] & " " &OpnameTabel[[#This Row],[Kenmerkeenheid8]]), IF(ISTEXT(OpnameTabel[[#This Row],[Kenmerkantwoord 8]]), OpnameTabel[[#This Row],[Kenmerkantwoord 8]], "")) | BV15: =ISNUMBER(SEARCH("[",OpnameTabel[[#This Row],[Kenmerkvraag 9]])) -> FALSE | BW15: =IF(OpnameTabel[[#This Row],[HeeftKenmerkEenheid9]], MID(LEFT(OpnameTabel[[#This Row],[Kenmerkvraag 9]],FIND("]",OpnameTabel[[#This Row],[Kenmerkvraag 9]])-1),FIND("[",OpnameTabel[[#This Row],[Kenmerkvraag 9]])+1,LEN(OpnameTabel[[#This Row],[Kenmerkvraag 9]])), "") | BX15: =IF(OpnameTabel[[#This Row],[HeeftKenmerkEenheid9]], LEFT(OpnameTabel[[#This Row],[Kenmerkvraag 9]], (FIND(" [",OpnameTabel[[#This Row],[Kenmerkvraag 9]],1)-1)), "") | BY15: =IF(OpnameTabel[[#This Row],[HeeftKenmerkEenheid9]], (OpnameTabel[[#This Row],[Kenmerkomschrijving9]] & ": " & OpnameTabel[[#This Row],[Kenmerkantwoord 9]] & " " &OpnameTabel[[#This Row],[Kenmerkeenheid9]]), IF(ISTEXT(OpnameTabel[[#This Row],[Kenmerkantwoord 9]]), OpnameTabel[[#This Row],[Kenmerkantwoord 9]], "")) | BZ15: =ISNUMBER(SEARCH("[",OpnameTabel[[#This Row],[Kenmerkvraag 10]])) -> FALSE | CA15: =IF(OpnameTabel[[#This Row],[HeeftKenmerkEenheid10]], MID(LEFT(OpnameTabel[[#This Row],[Kenmerkvraag 10]],FIND("]",OpnameTabel[[#This Row],[Kenmerkvraag 10]])-1),FIND("[",OpnameTabel[[#This Row],[Kenmerkvraag 10]])+1,LEN(OpnameTabel[[#This Row],[Kenmerkvraag 10]])), "") | CB15: =IF(OpnameTabel[[#This Row],[HeeftKenmerkEenheid10]], LEFT(OpnameTabel[[#This Row],[Kenmerkvraag 10]], (FIND(" [",OpnameTabel[[#This Row],[Kenmerkvraag 10]],1)-1)), "") | CC15: =IF(OpnameTabel[[#This Row],[HeeftKenmerkEenheid10]], (OpnameTabel[[#This Row],[Kenmerkomschrijving10]] & ": " & OpnameTabel[[#This Row],[Kenmerkantwoord 10]] & " " &OpnameTabel[[#This Row],[Kenmerkeenheid10]]), IF(ISTEXT(OpnameTabel[[#This Row],[Kenmerkantwoord 10]]), OpnameTabel[[#This Row],[Kenmerkantwoord 10]], "")) | CD15: =ISNUMBER(SEARCH("[",OpnameTabel[[#This Row],[Kenmerkvraag 11]])) -> FALSE | CE15: =IF(OpnameTabel[[#This Row],[HeeftKenmerkEenheid11]], MID(LEFT(OpnameTabel[[#This Row],[Kenmerkvraag 11]],FIND("]",OpnameTabel[[#This Row],[Kenmerkvraag 11]])-1),FIND("[",OpnameTabel[[#This Row],[Kenmerkvraag 11]])+1,LEN(OpnameTabel[[#This Row],[Kenmerkvraag 11]])), "") | CF15: =IF(OpnameTabel[[#This Row],[HeeftKenmerkEenheid11]], LEFT(OpnameTabel[[#This Row],[Kenmerkvraag 11]], (FIND(" [",OpnameTabel[[#This Row],[Kenmerkvraag 11]],1)-1)), "") | CG15: =IF(OpnameTabel[[#This Row],[HeeftKenmerkEenheid11]], (OpnameTabel[[#This Row],[Kenmerkomschrijving11]] & ": " & OpnameTabel[[#This Row],[Kenmerkantwoord 11]] & " " &OpnameTabel[[#This Row],[Kenmerkeenheid11]]), IF(ISTEXT(OpnameTabel[[#This Row],[Kenmerkantwoord 11]]), OpnameTabel[[#This Row],[Kenmerkantwoord 11]], ""))
A16: =ROW() -> 16 | B16: 0 | C16: Water | D16: =VLOOKUP(E16,'3 NL-SfB'!C:F,4,0) -> pomp verwarmd tapwater | E16: 53.20.20 | F16: 53.20 | H16: 1 | L16: Max. debiet [m3/h] | N16: Opvoerhoogte [kPa] | AC16: 53.20 = verwarmd tapwater algemeen | AD16: =NOT(ISBLANK(OpnameTabel[[#This Row],[Aantal]])) -> TRUE | AE16: =AND(OpnameTabel[[#This Row],[IsAssetRegel]],NOT(ISBLANK(OpnameTabel[[#This Row],[Aantal]]))) -> TRUE | AF16: =IF(AND(OpnameTabel[[#This Row],[IsAssetRegel]],OpnameTabel[[#This Row],[IsRegelActief]]), NOT(ISBLANK(OpnameTabel[[#This Row],[Bouwjaar]])), TRUE) -> FALSE | AG16: =IF(AND(OpnameTabel[[#This Row],[IsAssetRegel]],OpnameTabel[[#This Row],[IsRegelActief]]), NOT(ISBLANK(J16)), TRUE) -> FALSE | AH16: =IF(AND(OpnameTabel[[#This Row],[IsAssetRegel]],OpnameTabel[[#This Row],[IsRegelActief]]), NOT(ISBLANK(K16)), TRUE) -> FALSE | AI16: =IF(AND(OpnameTabel[[#This Row],[IsAssetRegel]],OpnameTabel[[#This Row],[IsRegelActief]], NOT(ISBLANK(OpnameTabel[[#This Row],[Kenmerkvraag 4]]))), NOT(ISBLANK(OpnameTabel[[#This Row],[Kenmerkantwoord 4]])), TRUE) -> FALSE | AJ16: =IF(AND(OpnameTabel[[#This Row],[IsAssetRegel]],OpnameTabel[[#This Row],[IsRegelActief]], NOT(ISBLANK(OpnameTabel[[#This Row],[Kenmerkvraag 5]]))), NOT(ISBLANK(OpnameTabel[[#This Row],[Kenmerkantwoord 5]])), TRUE) -> FALSE | AK16: =IF(AND(OpnameTabel[[#This Row],[IsAssetRegel]],OpnameTabel[[#This Row],[IsRegelActief]], NOT(ISBLANK(OpnameTabel[[#This Row],[Kenmerkvraag 6]]))), NOT(ISBLANK(OpnameTabel[[#This Row],[Kenmerkantwoord 6]])), TRUE) -> TRUE | AL16: =IF(AND(OpnameTabel[[#This Row],[IsAssetRegel]],OpnameTabel[[#This Row],[IsRegelActief]], NOT(ISBLANK(OpnameTabel[[#This Row],[Kenmerkvraag 7]]))), NOT(ISBLANK(OpnameTabel[[#This Row],[Kenmerkantwoord 7]])), TRUE) -> TRUE | AM16: =IF(AND(OpnameTabel[[#This Row],[IsAssetRegel]],OpnameTabel[[#This Row],[IsRegelActief]], NOT(ISBLANK(OpnameTabel[[#This Row],[Kenmerkvraag 8]]))), NOT(ISBLANK(OpnameTabel[[#This Row],[Kenmerkantwoord 8]])), TRUE) -> TRUE | AN16: =IF(AND(OpnameTabel[[#This Row],[IsAssetRegel]],OpnameTabel[[#This Row],[IsRegelActief]], NOT(ISBLANK(OpnameTabel[[#This Row],[Kenmerkvraag 9]]))), NOT(ISBLANK(OpnameTabel[[#This Row],[Kenmerkantwoord 9]])), TRUE) -> TRUE | AO16: =IF(AND(OpnameTabel[[#This Row],[IsAssetRegel]],OpnameTabel[[#This Row],[IsRegelActief]], NOT(ISBLANK(OpnameTabel[[#This Row],[Kenmerkvraag 10]]))), NOT(ISBLANK(OpnameTabel[[#This Row],[Kenmerkantwoord 10]])), TRUE) -> TRUE | AP16: =IF(AND(OpnameTabel[[#This Row],[IsAssetRegel]],OpnameTabel[[#This Row],[IsRegelActief]], NOT(ISBLANK(OpnameTabel[[#This Row],[Kenmerkvraag 11]]))), NOT(ISBLANK(OpnameTabel[[#This Row],[Kenmerkantwoord 11]])), TRUE) -> TRUE | AQ16: =IF(OpnameTabel[[#This Row],[IsIngevuld1]], 0, 1) -> 1 | AR16: =IF(OpnameTabel[[#This Row],[IsIngevuld2]], 0, 1) -> 1 | AS16: =IF(OpnameTabel[[#This Row],[IsIngevuld3]], 0, 1) -> 1 | AT16: =IF(OpnameTabel[[#This Row],[IsIngevuld4]], 0, 1) -> 1 | AU16: =IF(OpnameTabel[[#This Row],[IsIngevuld5]], 0, 1) -> 1 | AV16: =IF(OpnameTabel[[#This Row],[IsIngevuld6]], 0, 1) -> 0 | AW16: =IF(OpnameTabel[[#This Row],[IsIngevuld7]], 0, 1) -> 0 | AX16: =IF(OpnameTabel[[#This Row],[IsIngevuld8]], 0, 1) -> 0 | AY16: =IF(OpnameTabel[[#This Row],[IsIngevuld9]], 0, 1) -> 0 | AZ16: =IF(OpnameTabel[[#This Row],[IsIngevuld10]], 0, 1) -> 0 | BA16: =IF(OpnameTabel[[#This Row],[IsIngevuld11]], 0, 1) -> 0 | BB16: =ISNUMBER(SEARCH("[",OpnameTabel[[#This Row],[Kenmerkvraag 4]])) -> TRUE | BC16: =IF(OpnameTabel[[#This Row],[HeeftKenmerkEenheid4]], MID(LEFT(OpnameTabel[[#This Row],[Kenmerkvraag 4]],FIND("]",OpnameTabel[[#This Row],[Kenmerkvraag 4]])-1),FIND("[",OpnameTabel[[#This Row],[Kenmerkvraag 4]])+1,LEN(OpnameTabel[[#This Row],[Kenmerkvraag 4]])), "") -> m3/h | BD16: =IF(OpnameTabel[[#This Row],[HeeftKenmerkEenheid4]], LEFT(OpnameTabel[[#This Row],[Kenmerkvraag 4]], (FIND(" [",OpnameTabel[[#This Row],[Kenmerkvraag 4]],1)-1)), "") -> Max. debiet | BE16: =IF(OpnameTabel[[#This Row],[HeeftKenmerkEenheid4]], (OpnameTabel[[#This Row],[Kenmerkomschrijving4]] & ": " & OpnameTabel[[#This Row],[Kenmerkantwoord 4]] & " " &OpnameTabel[[#This Row],[Kenmerkeenheid4]]), IF(ISTEXT(OpnameTabel[[#This Row],[Kenmerkantwoord 4]]), OpnameTabel[[#This Row],[Kenmerkantwoord 4]], "")) -> Max. debiet: m3/h | BF16: =ISNUMBER(SEARCH("[",OpnameTabel[[#This Row],[Kenmerkvraag 5]])) -> TRUE | BG16: =IF(OpnameTabel[[#This Row],[HeeftKenmerkEenheid5]], MID(LEFT(OpnameTabel[[#This Row],[Kenmerkvraag 5]],FIND("]",OpnameTabel[[#This Row],[Kenmerkvraag 5]])-1),FIND("[",OpnameTabel[[#This Row],[Kenmerkvraag 5]])+1,LEN(OpnameTabel[[#This Row],[Kenmerkvraag 5]])), "") -> kPa | BH16: =IF(OpnameTabel[[#This Row],[HeeftKenmerkEenheid5]], LEFT(OpnameTabel[[#This Row],[Kenmerkvraag 5]], (FIND(" [",OpnameTabel[[#This Row],[Kenmerkvraag 5]],1)-1)), "") -> Opvoerhoogte | BI16: =IF(OpnameTabel[[#This Row],[HeeftKenmerkEenheid5]], (OpnameTabel[[#This Row],[Kenmerkomschrijving5]] & ": " & OpnameTabel[[#This Row],[Kenmerkantwoord 5]] & " " &OpnameTabel[[#This Row],[Kenmerkeenheid5]]), IF(ISTEXT(OpnameTabel[[#This Row],[Kenmerkantwoord 5]]), OpnameTabel[[#This Row],[Kenmerkantwoord 5]], "")) -> Opvoerhoogte: kPa | BJ16: =ISNUMBER(SEARCH("[",OpnameTabel[[#This Row],[Kenmerkvraag 6]])) -> FALSE | BK16: =IF(OpnameTabel[[#This Row],[HeeftKenmerkEenheid6]], MID(LEFT(OpnameTabel[[#This Row],[Kenmerkvraag 6]],FIND("]",OpnameTabel[[#This Row],[Kenmerkvraag 6]])-1),FIND("[",OpnameTabel[[#This Row],[Kenmerkvraag 6]])+1,LEN(OpnameTabel[[#This Row],[Kenmerkvraag 6]])), "") | BL16: =IF(OpnameTabel[[#This Row],[HeeftKenmerkEenheid6]], LEFT(OpnameTabel[[#This Row],[Kenmerkvraag 6]], (FIND(" [",OpnameTabel[[#This Row],[Kenmerkvraag 6]],1)-1)), "") | BM16: =IF(OpnameTabel[[#This Row],[HeeftKenmerkEenheid6]], (OpnameTabel[[#This Row],[Kenmerkomschrijving6]] & ": " & OpnameTabel[[#This Row],[Kenmerkantwoord 6]] & " " &OpnameTabel[[#This Row],[Kenmerkeenheid6]]), IF(ISTEXT(OpnameTabel[[#This Row],[Kenmerkantwoord 6]]), OpnameTabel[[#This Row],[Kenmerkantwoord 6]], "")) | BN16: =ISNUMBER(SEARCH("[",OpnameTabel[[#This Row],[Kenmerkvraag 7]])) -> FALSE | BO16: =IF(OpnameTabel[[#This Row],[HeeftKenmerkEenheid7]], MID(LEFT(OpnameTabel[[#This Row],[Kenmerkvraag 7]],FIND("]",OpnameTabel[[#This Row],[Kenmerkvraag 7]])-1),FIND("[",OpnameTabel[[#This Row],[Kenmerkvraag 7]])+1,LEN(OpnameTabel[[#This Row],[Kenmerkvraag 7]])), "") | BP16: =IF(OpnameTabel[[#This Row],[HeeftKenmerkEenheid7]], LEFT(OpnameTabel[[#This Row],[Kenmerkvraag 7]], (FIND(" [",OpnameTabel[[#This Row],[Kenmerkvraag 7]],1)-1)), "") | BQ16: =IF(OpnameTabel[[#This Row],[HeeftKenmerkEenheid7]], (OpnameTabel[[#This Row],[Kenmerkomschrijving7]] & ": " & OpnameTabel[[#This Row],[Kenmerkantwoord 7]] & " " &OpnameTabel[[#This Row],[Kenmerkeenheid7]]), IF(ISTEXT(OpnameTabel[[#This Row],[Kenmerkantwoord 7]]), OpnameTabel[[#This Row],[Kenmerkantwoord 7]], "")) | BR16: =ISNUMBER(SEARCH("[",OpnameTabel[[#This Row],[Kenmerkvraag 8]])) -> FALSE | BS16: =IF(OpnameTabel[[#This Row],[HeeftKenmerkEenheid8]], MID(LEFT(OpnameTabel[[#This Row],[Kenmerkvraag 8]],FIND("]",OpnameTabel[[#This Row],[Kenmerkvraag 8]])-1),FIND("[",OpnameTabel[[#This Row],[Kenmerkvraag 8]])+1,LEN(OpnameTabel[[#This Row],[Kenmerkvraag 8]])), "") | BT16: =IF(OpnameTabel[[#This Row],[HeeftKenmerkEenheid8]], LEFT(OpnameTabel[[#This Row],[Kenmerkvraag 8]], (FIND(" [",OpnameTabel[[#This Row],[Kenmerkvraag 8]],1)-1)), "") | BU16: =IF(OpnameTabel[[#This Row],[HeeftKenmerkEenheid8]], (OpnameTabel[[#This Row],[Kenmerkomschrijving8]] & ": " & OpnameTabel[[#This Row],[Kenmerkantwoord 8]] & " " &OpnameTabel[[#This Row],[Kenmerkeenheid8]]), IF(ISTEXT(OpnameTabel[[#This Row],[Kenmerkantwoord 8]]), OpnameTabel[[#This Row],[Kenmerkantwoord 8]], "")) | BV16: =ISNUMBER(SEARCH("[",OpnameTabel[[#This Row],[Kenmerkvraag 9]])) -> FALSE | BW16: =IF(OpnameTabel[[#This Row],[HeeftKenmerkEenheid9]], MID(LEFT(OpnameTabel[[#This Row],[Kenmerkvraag 9]],FIND("]",OpnameTabel[[#This Row],[Kenmerkvraag 9]])-1),FIND("[",OpnameTabel[[#This Row],[Kenmerkvraag 9]])+1,LEN(OpnameTabel[[#This Row],[Kenmerkvraag 9]])), "") | BX16: =IF(OpnameTabel[[#This Row],[HeeftKenmerkEenheid9]], LEFT(OpnameTabel[[#This Row],[Kenmerkvraag 9]], (FIND(" [",OpnameTabel[[#This Row],[Kenmerkvraag 9]],1)-1)), "") | BY16: =IF(OpnameTabel[[#This Row],[HeeftKenmerkEenheid9]], (OpnameTabel[[#This Row],[Kenmerkomschrijving9]] & ": " & OpnameTabel[[#This Row],[Kenmerkantwoord 9]] & " " &OpnameTabel[[#This Row],[Kenmerkeenheid9]]), IF(ISTEXT(OpnameTabel[[#This Row],[Kenmerkantwoord 9]]), OpnameTabel[[#This Row],[Kenmerkantwoord 9]], "")) | BZ16: =ISNUMBER(SEARCH("[",OpnameTabel[[#This Row],[Kenmerkvraag 10]])) -> FALSE | CA16: =IF(OpnameTabel[[#This Row],[HeeftKenmerkEenheid10]], MID(LEFT(OpnameTabel[[#This Row],[Kenmerkvraag 10]],FIND("]",OpnameTabel[[#This Row],[Kenmerkvraag 10]])-1),FIND("[",OpnameTabel[[#This Row],[Kenmerkvraag 10]])+1,LEN(OpnameTabel[[#This Row],[Kenmerkvraag 10]])), "") | CB16: =IF(OpnameTabel[[#This Row],[HeeftKenmerkEenheid10]], LEFT(OpnameTabel[[#This Row],[Kenmerkvraag 10]], (FIND(" [",OpnameTabel[[#This Row],[Kenmerkvraag 10]],1)-1)), "") | CC16: =IF(OpnameTabel[[#This Row],[HeeftKenmerkEenheid10]], (OpnameTabel[[#This Row],[Kenmerkomschrijving10]] & ": " & OpnameTabel[[#This Row],[Kenmerkantwoord 10]] & " " &OpnameTabel[[#This Row],[Kenmerkeenheid10]]), IF(ISTEXT(OpnameTabel[[#This Row],[Kenmerkantwoord 10]]), OpnameTabel[[#This Row],[Kenmerkantwoord 10]], "")) | CD16: =ISNUMBER(SEARCH("[",OpnameTabel[[#This Row],[Kenmerkvraag 11]])) -> FALSE | CE16: =IF(OpnameTabel[[#This Row],[HeeftKenmerkEenheid11]], MID(LEFT(OpnameTabel[[#This Row],[Kenmerkvraag 11]],FIND("]",OpnameTabel[[#This Row],[Kenmerkvraag 11]])-1),FIND("[",OpnameTabel[[#This Row],[Kenmerkvraag 11]])+1,LEN(OpnameTabel[[#This Row],[Kenmerkvraag 11]])), "") | CF16: =IF(OpnameTabel[[#This Row],[HeeftKenmerkEenheid11]], LEFT(OpnameTabel[[#This Row],[Kenmerkvraag 11]], (FIND(" [",OpnameTabel[[#This Row],[Kenmerkvraag 11]],1)-1)), "") | CG16: =IF(OpnameTabel[[#This Row],[HeeftKenmerkEenheid11]], (OpnameTabel[[#This Row],[Kenmerkomschrijving11]] & ": " & OpnameTabel[[#This Row],[Kenmerkantwoord 11]] & " " &OpnameTabel[[#This Row],[Kenmerkeenheid11]]), IF(ISTEXT(OpnameTabel[[#This Row],[Kenmerkantwoord 11]]), OpnameTabel[[#This Row],[Kenmerkantwoord 11]], ""))
A17: =ROW() -> 17 | B17: 0 | C17: Water | D17: =VLOOKUP(E17,'3 NL-SfB'!C:F,4,0) -> tapwater met voorraad | E17: 53.21 | F17: 53.21 | G17: 53.21 | H17: 1 | L17: Type boiler | N17: Inhoud [L] | P17: Vermogen [kW] | R17: Type toestel | AD17: =NOT(ISBLANK(OpnameTabel[[#This Row],[Aantal]])) -> TRUE | AE17: =AND(OpnameTabel[[#This Row],[IsAssetRegel]],NOT(ISBLANK(OpnameTabel[[#This Row],[Aantal]]))) -> TRUE | AF17: =IF(AND(OpnameTabel[[#This Row],[IsAssetRegel]],OpnameTabel[[#This Row],[IsRegelActief]]), NOT(ISBLANK(OpnameTabel[[#This Row],[Bouwjaar]])), TRUE) -> FALSE | AG17: =IF(AND(OpnameTabel[[#This Row],[IsAssetRegel]],OpnameTabel[[#This Row],[IsRegelActief]]), NOT(ISBLANK(J17)), TRUE) -> FALSE | AH17: =IF(AND(OpnameTabel[[#This Row],[IsAssetRegel]],OpnameTabel[[#This Row],[IsRegelActief]]), NOT(ISBLANK(K17)), TRUE) -> FALSE | AI17: =IF(AND(OpnameTabel[[#This Row],[IsAssetRegel]],OpnameTabel[[#This Row],[IsRegelActief]], NOT(ISBLANK(OpnameTabel[[#This Row],[Kenmerkvraag 4]]))), NOT(ISBLANK(OpnameTabel[[#This Row],[Kenmerkantwoord 4]])), TRUE) -> FALSE | AJ17: =IF(AND(OpnameTabel[[#This Row],[IsAssetRegel]],OpnameTabel[[#This Row],[IsRegelActief]], NOT(ISBLANK(OpnameTabel[[#This Row],[Kenmerkvraag 5]]))), NOT(ISBLANK(OpnameTabel[[#This Row],[Kenmerkantwoord 5]])), TRUE) -> FALSE | AK17: =IF(AND(OpnameTabel[[#This Row],[IsAssetRegel]],OpnameTabel[[#This Row],[IsRegelActief]], NOT(ISBLANK(OpnameTabel[[#This Row],[Kenmerkvraag 6]]))), NOT(ISBLANK(OpnameTabel[[#This Row],[Kenmerkantwoord 6]])), TRUE) -> FALSE | AL17: =IF(AND(OpnameTabel[[#This Row],[IsAssetRegel]],OpnameTabel[[#This Row],[IsRegelActief]], NOT(ISBLANK(OpnameTabel[[#This Row],[Kenmerkvraag 7]]))), NOT(ISBLANK(OpnameTabel[[#This Row],[Kenmerkantwoord 7]])), TRUE) -> FALSE | AM17: =IF(AND(OpnameTabel[[#This Row],[IsAssetRegel]],OpnameTabel[[#This Row],[IsRegelActief]], NOT(ISBLANK(OpnameTabel[[#This Row],[Kenmerkvraag 8]]))), NOT(ISBLANK(OpnameTabel[[#This Row],[Kenmerkantwoord 8]])), TRUE) -> TRUE | AN17: =IF(AND(OpnameTabel[[#This Row],[IsAssetRegel]],OpnameTabel[[#This Row],[IsRegelActief]], NOT(ISBLANK(OpnameTabel[[#This Row],[Kenmerkvraag 9]]))), NOT(ISBLANK(OpnameTabel[[#This Row],[Kenmerkantwoord 9]])), TRUE) -> TRUE | AO17: =IF(AND(OpnameTabel[[#This Row],[IsAssetRegel]],OpnameTabel[[#This Row],[IsRegelActief]], NOT(ISBLANK(OpnameTabel[[#This Row],[Kenmerkvraag 10]]))), NOT(ISBLANK(OpnameTabel[[#This Row],[Kenmerkantwoord 10]])), TRUE) -> TRUE | AP17: =IF(AND(OpnameTabel[[#This Row],[IsAssetRegel]],OpnameTabel[[#This Row],[IsRegelActief]], NOT(ISBLANK(OpnameTabel[[#This Row],[Kenmerkvraag 11]]))), NOT(ISBLANK(OpnameTabel[[#This Row],[Kenmerkantwoord 11]])), TRUE) -> TRUE | AQ17: =IF(OpnameTabel[[#This Row],[IsIngevuld1]], 0, 1) -> 1 | AR17: =IF(OpnameTabel[[#This Row],[IsIngevuld2]], 0, 1) -> 1 | AS17: =IF(OpnameTabel[[#This Row],[IsIngevuld3]], 0, 1) -> 1 | AT17: =IF(OpnameTabel[[#This Row],[IsIngevuld4]], 0, 1) -> 1 | AU17: =IF(OpnameTabel[[#This Row],[IsIngevuld5]], 0, 1) -> 1 | AV17: =IF(OpnameTabel[[#This Row],[IsIngevuld6]], 0, 1) -> 1 | AW17: =IF(OpnameTabel[[#This Row],[IsIngevuld7]], 0, 1) -> 1 | AX17: =IF(OpnameTabel[[#This Row],[IsIngevuld8]], 0, 1) -> 0 | AY17: =IF(OpnameTabel[[#This Row],[IsIngevuld9]], 0, 1) -> 0 | AZ17: =IF(OpnameTabel[[#This Row],[IsIngevuld10]], 0, 1) -> 0 | BA17: =IF(OpnameTabel[[#This Row],[IsIngevuld11]], 0, 1) -> 0 | BB17: =ISNUMBER(SEARCH("[",OpnameTabel[[#This Row],[Kenmerkvraag 4]])) -> FALSE | BC17: =IF(OpnameTabel[[#This Row],[HeeftKenmerkEenheid4]], MID(LEFT(OpnameTabel[[#This Row],[Kenmerkvraag 4]],FIND("]",OpnameTabel[[#This Row],[Kenmerkvraag 4]])-1),FIND("[",OpnameTabel[[#This Row],[Kenmerkvraag 4]])+1,LEN(OpnameTabel[[#This Row],[Kenmerkvraag 4]])), "") | BD17: =IF(OpnameTabel[[#This Row],[HeeftKenmerkEenheid4]], LEFT(OpnameTabel[[#This Row],[Kenmerkvraag 4]], (FIND(" [",OpnameTabel[[#This Row],[Kenmerkvraag 4]],1)-1)), "") | BE17: =IF(OpnameTabel[[#This Row],[HeeftKenmerkEenheid4]], (OpnameTabel[[#This Row],[Kenmerkomschrijving4]] & ": " & OpnameTabel[[#This Row],[Kenmerkantwoord 4]] & " " &OpnameTabel[[#This Row],[Kenmerkeenheid4]]), IF(ISTEXT(OpnameTabel[[#This Row],[Kenmerkantwoord 4]]), OpnameTabel[[#This Row],[Kenmerkantwoord 4]], "")) | BF17: =ISNUMBER(SEARCH("[",OpnameTabel[[#This Row],[Kenmerkvraag 5]])) -> TRUE | BG17: =IF(OpnameTabel[[#This Row],[HeeftKenmerkEenheid5]], MID(LEFT(OpnameTabel[[#This Row],[Kenmerkvraag 5]],FIND("]",OpnameTabel[[#This Row],[Kenmerkvraag 5]])-1),FIND("[",OpnameTabel[[#This Row],[Kenmerkvraag 5]])+1,LEN(OpnameTabel[[#This Row],[Kenmerkvraag 5]])), "") -> L | BH17: =IF(OpnameTabel[[#This Row],[HeeftKenmerkEenheid5]], LEFT(OpnameTabel[[#This Row],[Kenmerkvraag 5]], (FIND(" [",OpnameTabel[[#This Row],[Kenmerkvraag 5]],1)-1)), "") -> Inhoud | BI17: =IF(OpnameTabel[[#This Row],[HeeftKenmerkEenheid5]], (OpnameTabel[[#This Row],[Kenmerkomschrijving5]] & ": " & OpnameTabel[[#This Row],[Kenmerkantwoord 5]] & " " &OpnameTabel[[#This Row],[Kenmerkeenheid5]]), IF(ISTEXT(OpnameTabel[[#This Row],[Kenmerkantwoord 5]]), OpnameTabel[[#This Row],[Kenmerkantwoord 5]], "")) -> Inhoud: L | BJ17: =ISNUMBER(SEARCH("[",OpnameTabel[[#This Row],[Kenmerkvraag 6]])) -> TRUE | BK17: =IF(OpnameTabel[[#This Row],[HeeftKenmerkEenheid6]], MID(LEFT(OpnameTabel[[#This Row],[Kenmerkvraag 6]],FIND("]",OpnameTabel[[#This Row],[Kenmerkvraag 6]])-1),FIND("[",OpnameTabel[[#This Row],[Kenmerkvraag 6]])+1,LEN(OpnameTabel[[#This Row],[Kenmerkvraag 6]])), "") -> kW | BL17: =IF(OpnameTabel[[#This Row],[HeeftKenmerkEenheid6]], LEFT(OpnameTabel[[#This Row],[Kenmerkvraag 6]], (FIND(" [",OpnameTabel[[#This Row],[Kenmerkvraag 6]],1)-1)), "") -> Vermogen | BM17: =IF(OpnameTabel[[#This Row],[HeeftKenmerkEenheid6]], (OpnameTabel[[#This Row],[Kenmerkomschrijving6]] & ": " & OpnameTabel[[#This Row],[Kenmerkantwoord 6]] & " " &OpnameTabel[[#This Row],[Kenmerkeenheid6]]), IF(ISTEXT(OpnameTabel[[#This Row],[Kenmerkantwoord 6]]), OpnameTabel[[#This Row],[Kenmerkantwoord 6]], "")) -> Vermogen: kW | BN17: =ISNUMBER(SEARCH("[",OpnameTabel[[#This Row],[Kenmerkvraag 7]])) -> FALSE | BO17: =IF(OpnameTabel[[#This Row],[HeeftKenmerkEenheid7]], MID(LEFT(OpnameTabel[[#This Row],[Kenmerkvraag 7]],FIND("]",OpnameTabel[[#This Row],[Kenmerkvraag 7]])-1),FIND("[",OpnameTabel[[#This Row],[Kenmerkvraag 7]])+1,LEN(OpnameTabel[[#This Row],[Kenmerkvraag 7]])), "") | BP17: =IF(OpnameTabel[[#This Row],[HeeftKenmerkEenheid7]], LEFT(OpnameTabel[[#This Row],[Kenmerkvraag 7]], (FIND(" [",OpnameTabel[[#This Row],[Kenmerkvraag 7]],1)-1)), "") | BQ17: =IF(OpnameTabel[[#This Row],[HeeftKenmerkEenheid7]], (OpnameTabel[[#This Row],[Kenmerkomschrijving7]] & ": " & OpnameTabel[[#This Row],[Kenmerkantwoord 7]] & " " &OpnameTabel[[#This Row],[Kenmerkeenheid7]]), IF(ISTEXT(OpnameTabel[[#This Row],[Kenmerkantwoord 7]]), OpnameTabel[[#This Row],[Kenmerkantwoord 7]], "")) | BR17: =ISNUMBER(SEARCH("[",OpnameTabel[[#This Row],[Kenmerkvraag 8]])) -> FALSE | BS17: =IF(OpnameTabel[[#This Row],[HeeftKenmerkEenheid8]], MID(LEFT(OpnameTabel[[#This Row],[Kenmerkvraag 8]],FIND("]",OpnameTabel[[#This Row],[Kenmerkvraag 8]])-1),FIND("[",OpnameTabel[[#This Row],[Kenmerkvraag 8]])+1,LEN(OpnameTabel[[#This Row],[Kenmerkvraag 8]])), "") | BT17: =IF(OpnameTabel[[#This Row],[HeeftKenmerkEenheid8]], LEFT(OpnameTabel[[#This Row],[Kenmerkvraag 8]], (FIND(" [",OpnameTabel[[#This Row],[Kenmerkvraag 8]],1)-1)), "") | BU17: =IF(OpnameTabel[[#This Row],[HeeftKenmerkEenheid8]], (OpnameTabel[[#This Row],[Kenmerkomschrijving8]] & ": " & OpnameTabel[[#This Row],[Kenmerkantwoord 8]] & " " &OpnameTabel[[#This Row],[Kenmerkeenheid8]]), IF(ISTEXT(OpnameTabel[[#This Row],[Kenmerkantwoord 8]]), OpnameTabel[[#This Row],[Kenmerkantwoord 8]], "")) | BV17: =ISNUMBER(SEARCH("[",OpnameTabel[[#This Row],[Kenmerkvraag 9]])) -> FALSE | BW17: =IF(OpnameTabel[[#This Row],[HeeftKenmerkEenheid9]], MID(LEFT(OpnameTabel[[#This Row],[Kenmerkvraag 9]],FIND("]",OpnameTabel[[#This Row],[Kenmerkvraag 9]])-1),FIND("[",OpnameTabel[[#This Row],[Kenmerkvraag 9]])+1,LEN(OpnameTabel[[#This Row],[Kenmerkvraag 9]])), "") | BX17: =IF(OpnameTabel[[#This Row],[HeeftKenmerkEenheid9]], LEFT(OpnameTabel[[#This Row],[Kenmerkvraag 9]], (FIND(" [",OpnameTabel[[#This Row],[Kenmerkvraag 9]],1)-1)), "") | BY17: =IF(OpnameTabel[[#This Row],[HeeftKenmerkEenheid9]], (OpnameTabel[[#This Row],[Kenmerkomschrijving9]] & ": " & OpnameTabel[[#This Row],[Kenmerkantwoord 9]] & " " &OpnameTabel[[#This Row],[Kenmerkeenheid9]]), IF(ISTEXT(OpnameTabel[[#This Row],[Kenmerkantwoord 9]]), OpnameTabel[[#This Row],[Kenmerkantwoord 9]], "")) | BZ17: =ISNUMBER(SEARCH("[",OpnameTabel[[#This Row],[Kenmerkvraag 10]])) -> FALSE | CA17: =IF(OpnameTabel[[#This Row],[HeeftKenmerkEenheid10]], MID(LEFT(OpnameTabel[[#This Row],[Kenmerkvraag 10]],FIND("]",OpnameTabel[[#This Row],[Kenmerkvraag 10]])-1),FIND("[",OpnameTabel[[#This Row],[Kenmerkvraag 10]])+1,LEN(OpnameTabel[[#This Row],[Kenmerkvraag 10]])), "") | CB17: =IF(OpnameTabel[[#This Row],[HeeftKenmerkEenheid10]], LEFT(OpnameTabel[[#This Row],[Kenmerkvraag 10]], (FIND(" [",OpnameTabel[[#This Row],[Kenmerkvraag 10]],1)-1)), "") | CC17: =IF(OpnameTabel[[#This Row],[HeeftKenmerkEenheid10]], (OpnameTabel[[#This Row],[Kenmerkomschrijving10]] & ": " & OpnameTabel[[#This Row],[Kenmerkantwoord 10]] & " " &OpnameTabel[[#This Row],[Kenmerkeenheid10]]), IF(ISTEXT(OpnameTabel[[#This Row],[Kenmerkantwoord 10]]), OpnameTabel[[#This Row],[Kenmerkantwoord 10]], "")) | CD17: =ISNUMBER(SEARCH("[",OpnameTabel[[#This Row],[Kenmerkvraag 11]])) -> FALSE | CE17: =IF(OpnameTabel[[#This Row],[HeeftKenmerkEenheid11]], MID(LEFT(OpnameTabel[[#This Row],[Kenmerkvraag 11]],FIND("]",OpnameTabel[[#This Row],[Kenmerkvraag 11]])-1),FIND("[",OpnameTabel[[#This Row],[Kenmerkvraag 11]])+1,LEN(OpnameTabel[[#This Row],[Kenmerkvraag 11]])), "") | CF17: =IF(OpnameTabel[[#This Row],[HeeftKenmerkEenheid11]], LEFT(OpnameTabel[[#This Row],[Kenmerkvraag 11]], (FIND(" [",OpnameTabel[[#This Row],[Kenmerkvraag 11]],1)-1)), "") | CG17: =IF(OpnameTabel[[#This Row],[HeeftKenmerkEenheid11]], (OpnameTabel[[#This Row],[Kenmerkomschrijving11]] & ": " & OpnameTabel[[#This Row],[Kenmerkantwoord 11]] & " " &OpnameTabel[[#This Row],[Kenmerkeenheid11]]), IF(ISTEXT(OpnameTabel[[#This Row],[Kenmerkantwoord 11]]), OpnameTabel[[#This Row],[Kenmerkantwoord 11]], ""))
A18: =ROW() -> 18 | B18: 0 | C18: Water | D18: =VLOOKUP(E18,'3 NL-SfB'!C:F,4,0) -> geiser | E18: 53.22.00 | F18: n.b./53.22 | H18: 1 | L18: Vermogen [kW] | N18: Type toestel | O18: ontbreekt menu? | AC18: 53.22 bestaat niet (meer) | AD18: =NOT(ISBLANK(OpnameTabel[[#This Row],[Aantal]])) -> TRUE | AE18: =AND(OpnameTabel[[#This Row],[IsAssetRegel]],NOT(ISBLANK(OpnameTabel[[#This Row],[Aantal]]))) -> TRUE | AF18: =IF(AND(OpnameTabel[[#This Row],[IsAssetRegel]],OpnameTabel[[#This Row],[IsRegelActief]]), NOT(ISBLANK(OpnameTabel[[#This Row],[Bouwjaar]])), TRUE) -> FALSE | AG18: =IF(AND(OpnameTabel[[#This Row],[IsAssetRegel]],OpnameTabel[[#This Row],[IsRegelActief]]), NOT(ISBLANK(J18)), TRUE) -> FALSE | AH18: =IF(AND(OpnameTabel[[#This Row],[IsAssetRegel]],OpnameTabel[[#This Row],[IsRegelActief]]), NOT(ISBLANK(K18)), TRUE) -> FALSE | AI18: =IF(AND(OpnameTabel[[#This Row],[IsAssetRegel]],OpnameTabel[[#This Row],[IsRegelActief]], NOT(ISBLANK(OpnameTabel[[#This Row],[Kenmerkvraag 4]]))), NOT(ISBLANK(OpnameTabel[[#This Row],[Kenmerkantwoord 4]])), TRUE) -> FALSE | AJ18: =IF(AND(OpnameTabel[[#This Row],[IsAssetRegel]],OpnameTabel[[#This Row],[IsRegelActief]], NOT(ISBLANK(OpnameTabel[[#This Row],[Kenmerkvraag 5]]))), NOT(ISBLANK(OpnameTabel[[#This Row],[Kenmerkantwoord 5]])), TRUE) -> TRUE | AK18: =IF(AND(OpnameTabel[[#This Row],[IsAssetRegel]],OpnameTabel[[#This Row],[IsRegelActief]], NOT(ISBLANK(OpnameTabel[[#This Row],[Kenmerkvraag 6]]))), NOT(ISBLANK(OpnameTabel[[#This Row],[Kenmerkantwoord 6]])), TRUE) -> TRUE | AL18: =IF(AND(OpnameTabel[[#This Row],[IsAssetRegel]],OpnameTabel[[#This Row],[IsRegelActief]], NOT(ISBLANK(OpnameTabel[[#This Row],[Kenmerkvraag 7]]))), NOT(ISBLANK(OpnameTabel[[#This Row],[Kenmerkantwoord 7]])), TRUE) -> TRUE | AM18: =IF(AND(OpnameTabel[[#This Row],[IsAssetRegel]],OpnameTabel[[#This Row],[IsRegelActief]], NOT(ISBLANK(OpnameTabel[[#This Row],[Kenmerkvraag 8]]))), NOT(ISBLANK(OpnameTabel[[#This Row],[Kenmerkantwoord 8]])), TRUE) -> TRUE | AN18: =IF(AND(OpnameTabel[[#This Row],[IsAssetRegel]],OpnameTabel[[#This Row],[IsRegelActief]], NOT(ISBLANK(OpnameTabel[[#This Row],[Kenmerkvraag 9]]))), NOT(ISBLANK(OpnameTabel[[#This Row],[Kenmerkantwoord 9]])), TRUE) -> TRUE | AO18: =IF(AND(OpnameTabel[[#This Row],[IsAssetRegel]],OpnameTabel[[#This Row],[IsRegelActief]], NOT(ISBLANK(OpnameTabel[[#This Row],[Kenmerkvraag 10]]))), NOT(ISBLANK(OpnameTabel[[#This Row],[Kenmerkantwoord 10]])), TRUE) -> TRUE | AP18: =IF(AND(OpnameTabel[[#This Row],[IsAssetRegel]],OpnameTabel[[#This Row],[IsRegelActief]], NOT(ISBLANK(OpnameTabel[[#This Row],[Kenmerkvraag 11]]))), NOT(ISBLANK(OpnameTabel[[#This Row],[Kenmerkantwoord 11]])), TRUE) -> TRUE | AQ18: =IF(OpnameTabel[[#This Row],[IsIngevuld1]], 0, 1) -> 1 | AR18: =IF(OpnameTabel[[#This Row],[IsIngevuld2]], 0, 1) -> 1 | AS18: =IF(OpnameTabel[[#This Row],[IsIngevuld3]], 0, 1) -> 1 | AT18: =IF(OpnameTabel[[#This Row],[IsIngevuld4]], 0, 1) -> 1 | AU18: =IF(OpnameTabel[[#This Row],[IsIngevuld5]], 0, 1) -> 0 | AV18: =IF(OpnameTabel[[#This Row],[IsIngevuld6]], 0, 1) -> 0 | AW18: =IF(OpnameTabel[[#This Row],[IsIngevuld7]], 0, 1) -> 0 | AX18: =IF(OpnameTabel[[#This Row],[IsIngevuld8]], 0, 1) -> 0 | AY18: =IF(OpnameTabel[[#This Row],[IsIngevuld9]], 0, 1) -> 0 | AZ18: =IF(OpnameTabel[[#This Row],[IsIngevuld10]], 0, 1) -> 0 | BA18: =IF(OpnameTabel[[#This Row],[IsIngevuld11]], 0, 1) -> 0 | BB18: =ISNUMBER(SEARCH("[",OpnameTabel[[#This Row],[Kenmerkvraag 4]])) -> TRUE | BC18: =IF(OpnameTabel[[#This Row],[HeeftKenmerkEenheid4]], MID(LEFT(OpnameTabel[[#This Row],[Kenmerkvraag 4]],FIND("]",OpnameTabel[[#This Row],[Kenmerkvraag 4]])-1),FIND("[",OpnameTabel[[#This Row],[Kenmerkvraag 4]])+1,LEN(OpnameTabel[[#This Row],[Kenmerkvraag 4]])), "") -> kW | BD18: =IF(OpnameTabel[[#This Row],[HeeftKenmerkEenheid4]], LEFT(OpnameTabel[[#This Row],[Kenmerkvraag 4]], (FIND(" [",OpnameTabel[[#This Row],[Kenmerkvraag 4]],1)-1)), "") -> Vermogen | BE18: =IF(OpnameTabel[[#This Row],[HeeftKenmerkEenheid4]], (OpnameTabel[[#This Row],[Kenmerkomschrijving4]] & ": " & OpnameTabel[[#This Row],[Kenmerkantwoord 4]] & " " &OpnameTabel[[#This Row],[Kenmerkeenheid4]]), IF(ISTEXT(OpnameTabel[[#This Row],[Kenmerkantwoord 4]]), OpnameTabel[[#This Row],[Kenmerkantwoord 4]], "")) -> Vermogen: kW | BF18: =ISNUMBER(SEARCH("[",OpnameTabel[[#This Row],[Kenmerkvraag 5]])) -> FALSE | BG18: =IF(OpnameTabel[[#This Row],[HeeftKenmerkEenheid5]], MID(LEFT(OpnameTabel[[#This Row],[Kenmerkvraag 5]],FIND("]",OpnameTabel[[#This Row],[Kenmerkvraag 5]])-1),FIND("[",OpnameTabel[[#This Row],[Kenmerkvraag 5]])+1,LEN(OpnameTabel[[#This Row],[Kenmerkvraag 5]])), "") | BH18: =IF(OpnameTabel[[#This Row],[HeeftKenmerkEenheid5]], LEFT(OpnameTabel[[#This Row],[Kenmerkvraag 5]], (FIND(" [",OpnameTabel[[#This Row],[Kenmerkvraag 5]],1)-1)), "") | BI18: =IF(OpnameTabel[[#This Row],[HeeftKenmerkEenheid5]], (OpnameTabel[[#This Row],[Kenmerkomschrijving5]] & ": " & OpnameTabel[[#This Row],[Kenmerkantwoord 5]] & " " &OpnameTabel[[#This Row],[Kenmerkeenheid5]]), IF(ISTEXT(OpnameTabel[[#This Row],[Kenmerkantwoord 5]]), OpnameTabel[[#This Row],[Kenmerkantwoord 5]], "")) -> ontbreekt menu? | BJ18: =ISNUMBER(SEARCH("[",OpnameTabel[[#This Row],[Kenmerkvraag 6]])) -> FALSE | BK18: =IF(OpnameTabel[[#This Row],[HeeftKenmerkEenheid6]], MID(LEFT(OpnameTabel[[#This Row],[Kenmerkvraag 6]],FIND("]",OpnameTabel[[#This Row],[Kenmerkvraag 6]])-1),FIND("[",OpnameTabel[[#This Row],[Kenmerkvraag 6]])+1,LEN(OpnameTabel[[#This Row],[Kenmerkvraag 6]])), "") | BL18: =IF(OpnameTabel[[#This Row],[HeeftKenmerkEenheid6]], LEFT(OpnameTabel[[#This Row],[Kenmerkvraag 6]], (FIND(" [",OpnameTabel[[#This Row],[Kenmerkvraag 6]],1)-1)), "") | BM18: =IF(OpnameTabel[[#This Row],[HeeftKenmerkEenheid6]], (OpnameTabel[[#This Row],[Kenmerkomschrijving6]] & ": " & OpnameTabel[[#This Row],[Kenmerkantwoord 6]] & " " &OpnameTabel[[#This Row],[Kenmerkeenheid6]]), IF(ISTEXT(OpnameTabel[[#This Row],[Kenmerkantwoord 6]]), OpnameTabel[[#This Row],[Kenmerkantwoord 6]], "")) | BN18: =ISNUMBER(SEARCH("[",OpnameTabel[[#This Row],[Kenmerkvraag 7]])) -> FALSE | BO18: =IF(OpnameTabel[[#This Row],[HeeftKenmerkEenheid7]], MID(LEFT(OpnameTabel[[#This Row],[Kenmerkvraag 7]],FIND("]",OpnameTabel[[#This Row],[Kenmerkvraag 7]])-1),FIND("[",OpnameTabel[[#This Row],[Kenmerkvraag 7]])+1,LEN(OpnameTabel[[#This Row],[Kenmerkvraag 7]])), "") | BP18: =IF(OpnameTabel[[#This Row],[HeeftKenmerkEenheid7]], LEFT(OpnameTabel[[#This Row],[Kenmerkvraag 7]], (FIND(" [",OpnameTabel[[#This Row],[Kenmerkvraag 7]],1)-1)), "") | BQ18: =IF(OpnameTabel[[#This Row],[HeeftKenmerkEenheid7]], (OpnameTabel[[#This Row],[Kenmerkomschrijving7]] & ": " & OpnameTabel[[#This Row],[Kenmerkantwoord 7]] & " " &OpnameTabel[[#This Row],[Kenmerkeenheid7]]), IF(ISTEXT(OpnameTabel[[#This Row],[Kenmerkantwoord 7]]), OpnameTabel[[#This Row],[Kenmerkantwoord 7]], "")) | BR18: =ISNUMBER(SEARCH("[",OpnameTabel[[#This Row],[Kenmerkvraag 8]])) -> FALSE | BS18: =IF(OpnameTabel[[#This Row],[HeeftKenmerkEenheid8]], MID(LEFT(OpnameTabel[[#This Row],[Kenmerkvraag 8]],FIND("]",OpnameTabel[[#This Row],[Kenmerkvraag 8]])-1),FIND("[",OpnameTabel[[#This Row],[Kenmerkvraag 8]])+1,LEN(OpnameTabel[[#This Row],[Kenmerkvraag 8]])), "") | BT18: =IF(OpnameTabel[[#This Row],[HeeftKenmerkEenheid8]], LEFT(OpnameTabel[[#This Row],[Kenmerkvraag 8]], (FIND(" [",OpnameTabel[[#This Row],[Kenmerkvraag 8]],1)-1)), "") | BU18: =IF(OpnameTabel[[#This Row],[HeeftKenmerkEenheid8]], (OpnameTabel[[#This Row],[Kenmerkomschrijving8]] & ": " & OpnameTabel[[#This Row],[Kenmerkantwoord 8]] & " " &OpnameTabel[[#This Row],[Kenmerkeenheid8]]), IF(ISTEXT(OpnameTabel[[#This Row],[Kenmerkantwoord 8]]), OpnameTabel[[#This Row],[Kenmerkantwoord 8]], "")) | BV18: =ISNUMBER(SEARCH("[",OpnameTabel[[#This Row],[Kenmerkvraag 9]])) -> FALSE | BW18: =IF(OpnameTabel[[#This Row],[HeeftKenmerkEenheid9]], MID(LEFT(OpnameTabel[[#This Row],[Kenmerkvraag 9]],FIND("]",OpnameTabel[[#This Row],[Kenmerkvraag 9]])-1),FIND("[",OpnameTabel[[#This Row],[Kenmerkvraag 9]])+1,LEN(OpnameTabel[[#This Row],[Kenmerkvraag 9]])), "") | BX18: =IF(OpnameTabel[[#This Row],[HeeftKenmerkEenheid9]], LEFT(OpnameTabel[[#This Row],[Kenmerkvraag 9]], (FIND(" [",OpnameTabel[[#This Row],[Kenmerkvraag 9]],1)-1)), "") | BY18: =IF(OpnameTabel[[#This Row],[HeeftKenmerkEenheid9]], (OpnameTabel[[#This Row],[Kenmerkomschrijving9]] & ": " & OpnameTabel[[#This Row],[Kenmerkantwoord 9]] & " " &OpnameTabel[[#This Row],[Kenmerkeenheid9]]), IF(ISTEXT(OpnameTabel[[#This Row],[Kenmerkantwoord 9]]), OpnameTabel[[#This Row],[Kenmerkantwoord 9]], "")) | BZ18: =ISNUMBER(SEARCH("[",OpnameTabel[[#This Row],[Kenmerkvraag 10]])) -> FALSE | CA18: =IF(OpnameTabel[[#This Row],[HeeftKenmerkEenheid10]], MID(LEFT(OpnameTabel[[#This Row],[Kenmerkvraag 10]],FIND("]",OpnameTabel[[#This Row],[Kenmerkvraag 10]])-1),FIND("[",OpnameTabel[[#This Row],[Kenmerkvraag 10]])+1,LEN(OpnameTabel[[#This Row],[Kenmerkvraag 10]])), "") | CB18: =IF(OpnameTabel[[#This Row],[HeeftKenmerkEenheid10]], LEFT(OpnameTabel[[#This Row],[Kenmerkvraag 10]], (FIND(" [",OpnameTabel[[#This Row],[Kenmerkvraag 10]],1)-1)), "") | CC18: =IF(OpnameTabel[[#This Row],[HeeftKenmerkEenheid10]], (OpnameTabel[[#This Row],[Kenmerkomschrijving10]] & ": " & OpnameTabel[[#This Row],[Kenmerkantwoord 10]] & " " &OpnameTabel[[#This Row],[Kenmerkeenheid10]]), IF(ISTEXT(OpnameTabel[[#This Row],[Kenmerkantwoord 10]]), OpnameTabel[[#This Row],[Kenmerkantwoord 10]], "")) | CD18: =ISNUMBER(SEARCH("[",OpnameTabel[[#This Row],[Kenmerkvraag 11]])) -> FALSE | CE18: =IF(OpnameTabel[[#This Row],[HeeftKenmerkEenheid11]], MID(LEFT(OpnameTabel[[#This Row],[Kenmerkvraag 11]],FIND("]",OpnameTabel[[#This Row],[Kenmerkvraag 11]])-1),FIND("[",OpnameTabel[[#This Row],[Kenmerkvraag 11]])+1,LEN(OpnameTabel[[#This Row],[Kenmerkvraag 11]])), "") | CF18: =IF(OpnameTabel[[#This Row],[HeeftKenmerkEenheid11]], LEFT(OpnameTabel[[#This Row],[Kenmerkvraag 11]], (FIND(" [",OpnameTabel[[#This Row],[Kenmerkvraag 11]],1)-1)), "") | CG18: =IF(OpnameTabel[[#This Row],[HeeftKenmerkEenheid11]], (OpnameTabel[[#This Row],[Kenmerkomschrijving11]] & ": " & OpnameTabel[[#This Row],[Kenmerkantwoord 11]] & " " &OpnameTabel[[#This Row],[Kenmerkeenheid11]]), IF(ISTEXT(OpnameTabel[[#This Row],[Kenmerkantwoord 11]]), OpnameTabel[[#This Row],[Kenmerkantwoord 11]], ""))
A19: =ROW() -> 19 | B19: 0 | C19: Water | D19: =VLOOKUP(E19,'3 NL-SfB'!C:F,4,0) -> waterontharder pekel simplex | E19: 53.50.10 | F19: 53.50 | H19: 1 | L19: Max. debiet [m3/h] | AC19: 53.50 = waterbehandeling algemeen | AD19: =NOT(ISBLANK(OpnameTabel[[#This Row],[Aantal]])) -> TRUE | AE19: =AND(OpnameTabel[[#This Row],[IsAssetRegel]],NOT(ISBLANK(OpnameTabel[[#This Row],[Aantal]]))) -> TRUE | AF19: =IF(AND(OpnameTabel[[#This Row],[IsAssetRegel]],OpnameTabel[[#This Row],[IsRegelActief]]), NOT(ISBLANK(OpnameTabel[[#This Row],[Bouwjaar]])), TRUE) -> FALSE | AG19: =IF(AND(OpnameTabel[[#This Row],[IsAssetRegel]],OpnameTabel[[#This Row],[IsRegelActief]]), NOT(ISBLANK(J19)), TRUE) -> FALSE | AH19: =IF(AND(OpnameTabel[[#This Row],[IsAssetRegel]],OpnameTabel[[#This Row],[IsRegelActief]]), NOT(ISBLANK(K19)), TRUE) -> FALSE | AI19: =IF(AND(OpnameTabel[[#This Row],[IsAssetRegel]],OpnameTabel[[#This Row],[IsRegelActief]], NOT(ISBLANK(OpnameTabel[[#This Row],[Kenmerkvraag 4]]))), NOT(ISBLANK(OpnameTabel[[#This Row],[Kenmerkantwoord 4]])), TRUE) -> FALSE | AJ19: =IF(AND(OpnameTabel[[#This Row],[IsAssetRegel]],OpnameTabel[[#This Row],[IsRegelActief]], NOT(ISBLANK(OpnameTabel[[#This Row],[Kenmerkvraag 5]]))), NOT(ISBLANK(OpnameTabel[[#This Row],[Kenmerkantwoord 5]])), TRUE) -> TRUE | AK19: =IF(AND(OpnameTabel[[#This Row],[IsAssetRegel]],OpnameTabel[[#This Row],[IsRegelActief]], NOT(ISBLANK(OpnameTabel[[#This Row],[Kenmerkvraag 6]]))), NOT(ISBLANK(OpnameTabel[[#This Row],[Kenmerkantwoord 6]])), TRUE) -> TRUE | AL19: =IF(AND(OpnameTabel[[#This Row],[IsAssetRegel]],OpnameTabel[[#This Row],[IsRegelActief]], NOT(ISBLANK(OpnameTabel[[#This Row],[Kenmerkvraag 7]]))), NOT(ISBLANK(OpnameTabel[[#This Row],[Kenmerkantwoord 7]])), TRUE) -> TRUE | AM19: =IF(AND(OpnameTabel[[#This Row],[IsAssetRegel]],OpnameTabel[[#This Row],[IsRegelActief]], NOT(ISBLANK(OpnameTabel[[#This Row],[Kenmerkvraag 8]]))), NOT(ISBLANK(OpnameTabel[[#This Row],[Kenmerkantwoord 8]])), TRUE) -> TRUE | AN19: =IF(AND(OpnameTabel[[#This Row],[IsAssetRegel]],OpnameTabel[[#This Row],[IsRegelActief]], NOT(ISBLANK(OpnameTabel[[#This Row],[Kenmerkvraag 9]]))), NOT(ISBLANK(OpnameTabel[[#This Row],[Kenmerkantwoord 9]])), TRUE) -> TRUE | AO19: =IF(AND(OpnameTabel[[#This Row],[IsAssetRegel]],OpnameTabel[[#This Row],[IsRegelActief]], NOT(ISBLANK(OpnameTabel[[#This Row],[Kenmerkvraag 10]]))), NOT(ISBLANK(OpnameTabel[[#This Row],[Kenmerkantwoord 10]])), TRUE) -> TRUE | AP19: =IF(AND(OpnameTabel[[#This Row],[IsAssetRegel]],OpnameTabel[[#This Row],[IsRegelActief]], NOT(ISBLANK(OpnameTabel[[#This Row],[Kenmerkvraag 11]]))), NOT(ISBLANK(OpnameTabel[[#This Row],[Kenmerkantwoord 11]])), TRUE) -> TRUE | AQ19: =IF(OpnameTabel[[#This Row],[IsIngevuld1]], 0, 1) -> 1 | AR19: =IF(OpnameTabel[[#This Row],[IsIngevuld2]], 0, 1) -> 1 | AS19: =IF(OpnameTabel[[#This Row],[IsIngevuld3]], 0, 1) -> 1 | AT19: =IF(OpnameTabel[[#This Row],[IsIngevuld4]], 0, 1) -> 1 | AU19: =IF(OpnameTabel[[#This Row],[IsIngevuld5]], 0, 1) -> 0 | AV19: =IF(OpnameTabel[[#This Row],[IsIngevuld6]], 0, 1) -> 0 | AW19: =IF(OpnameTabel[[#This Row],[IsIngevuld7]], 0, 1) -> 0 | AX19: =IF(OpnameTabel[[#This Row],[IsIngevuld8]], 0, 1) -> 0 | AY19: =IF(OpnameTabel[[#This Row],[IsIngevuld9]], 0, 1) -> 0 | AZ19: =IF(OpnameTabel[[#This Row],[IsIngevuld10]], 0, 1) -> 0 | BA19: =IF(OpnameTabel[[#This Row],[IsIngevuld11]], 0, 1) -> 0 | BB19: =ISNUMBER(SEARCH("[",OpnameTabel[[#This Row],[Kenmerkvraag 4]])) -> TRUE | BC19: =IF(OpnameTabel[[#This Row],[HeeftKenmerkEenheid4]], MID(LEFT(OpnameTabel[[#This Row],[Kenmerkvraag 4]],FIND("]",OpnameTabel[[#This Row],[Kenmerkvraag 4]])-1),FIND("[",OpnameTabel[[#This Row],[Kenmerkvraag 4]])+1,LEN(OpnameTabel[[#This Row],[Kenmerkvraag 4]])), "") -> m3/h | BD19: =IF(OpnameTabel[[#This Row],[HeeftKenmerkEenheid4]], LEFT(OpnameTabel[[#This Row],[Kenmerkvraag 4]], (FIND(" [",OpnameTabel[[#This Row],[Kenmerkvraag 4]],1)-1)), "") -> Max. debiet | BE19: =IF(OpnameTabel[[#This Row],[HeeftKenmerkEenheid4]], (OpnameTabel[[#This Row],[Kenmerkomschrijving4]] & ": " & OpnameTabel[[#This Row],[Kenmerkantwoord 4]] & " " &OpnameTabel[[#This Row],[Kenmerkeenheid4]]), IF(ISTEXT(OpnameTabel[[#This Row],[Kenmerkantwoord 4]]), OpnameTabel[[#This Row],[Kenmerkantwoord 4]], "")) -> Max. debiet: m3/h | BF19: =ISNUMBER(SEARCH("[",OpnameTabel[[#This Row],[Kenmerkvraag 5]])) -> FALSE | BG19: =IF(OpnameTabel[[#This Row],[HeeftKenmerkEenheid5]], MID(LEFT(OpnameTabel[[#This Row],[Kenmerkvraag 5]],FIND("]",OpnameTabel[[#This Row],[Kenmerkvraag 5]])-1),FIND("[",OpnameTabel[[#This Row],[Kenmerkvraag 5]])+1,LEN(OpnameTabel[[#This Row],[Kenmerkvraag 5]])), "") | BH19: =IF(OpnameTabel[[#This Row],[HeeftKenmerkEenheid5]], LEFT(OpnameTabel[[#This Row],[Kenmerkvraag 5]], (FIND(" [",OpnameTabel[[#This Row],[Kenmerkvraag 5]],1)-1)), "") | BI19: =IF(OpnameTabel[[#This Row],[HeeftKenmerkEenheid5]], (OpnameTabel[[#This Row],[Kenmerkomschrijving5]] & ": " & OpnameTabel[[#This Row],[Kenmerkantwoord 5]] & " " &OpnameTabel[[#This Row],[Kenmerkeenheid5]]), IF(ISTEXT(OpnameTabel[[#This Row],[Kenmerkantwoord 5]]), OpnameTabel[[#This Row],[Kenmerkantwoord 5]], "")) | BJ19: =ISNUMBER(SEARCH("[",OpnameTabel[[#This Row],[Kenmerkvraag 6]])) -> FALSE | BK19: =IF(OpnameTabel[[#This Row],[HeeftKenmerkEenheid6]], MID(LEFT(OpnameTabel[[#This Row],[Kenmerkvraag 6]],FIND("]",OpnameTabel[[#This Row],[Kenmerkvraag 6]])-1),FIND("[",OpnameTabel[[#This Row],[Kenmerkvraag 6]])+1,LEN(OpnameTabel[[#This Row],[Kenmerkvraag 6]])), "") | BL19: =IF(OpnameTabel[[#This Row],[HeeftKenmerkEenheid6]], LEFT(OpnameTabel[[#This Row],[Kenmerkvraag 6]], (FIND(" [",OpnameTabel[[#This Row],[Kenmerkvraag 6]],1)-1)), "") | BM19: =IF(OpnameTabel[[#This Row],[HeeftKenmerkEenheid6]], (OpnameTabel[[#This Row],[Kenmerkomschrijving6]] & ": " & OpnameTabel[[#This Row],[Kenmerkantwoord 6]] & " " &OpnameTabel[[#This Row],[Kenmerkeenheid6]]), IF(ISTEXT(OpnameTabel[[#This Row],[Kenmerkantwoord 6]]), OpnameTabel[[#This Row],[Kenmerkantwoord 6]], "")) | BN19: =ISNUMBER(SEARCH("[",OpnameTabel[[#This Row],[Kenmerkvraag 7]])) -> FALSE | BO19: =IF(OpnameTabel[[#This Row],[HeeftKenmerkEenheid7]], MID(LEFT(OpnameTabel[[#This Row],[Kenmerkvraag 7]],FIND("]",OpnameTabel[[#This Row],[Kenmerkvraag 7]])-1),FIND("[",OpnameTabel[[#This Row],[Kenmerkvraag 7]])+1,LEN(OpnameTabel[[#This Row],[Kenmerkvraag 7]])), "") | BP19: =IF(OpnameTabel[[#This Row],[HeeftKenmerkEenheid7]], LEFT(OpnameTabel[[#This Row],[Kenmerkvraag 7]], (FIND(" [",OpnameTabel[[#This Row],[Kenmerkvraag 7]],1)-1)), "") | BQ19: =IF(OpnameTabel[[#This Row],[HeeftKenmerkEenheid7]], (OpnameTabel[[#This Row],[Kenmerkomschrijving7]] & ": " & OpnameTabel[[#This Row],[Kenmerkantwoord 7]] & " " &OpnameTabel[[#This Row],[Kenmerkeenheid7]]), IF(ISTEXT(OpnameTabel[[#This Row],[Kenmerkantwoord 7]]), OpnameTabel[[#This Row],[Kenmerkantwoord 7]], "")) | BR19: =ISNUMBER(SEARCH("[",OpnameTabel[[#This Row],[Kenmerkvraag 8]])) -> FALSE | BS19: =IF(OpnameTabel[[#This Row],[HeeftKenmerkEenheid8]], MID(LEFT(OpnameTabel[[#This Row],[Kenmerkvraag 8]],FIND("]",OpnameTabel[[#This Row],[Kenmerkvraag 8]])-1),FIND("[",OpnameTabel[[#This Row],[Kenmerkvraag 8]])+1,LEN(OpnameTabel[[#This Row],[Kenmerkvraag 8]])), "") | BT19: =IF(OpnameTabel[[#This Row],[HeeftKenmerkEenheid8]], LEFT(OpnameTabel[[#This Row],[Kenmerkvraag 8]], (FIND(" [",OpnameTabel[[#This Row],[Kenmerkvraag 8]],1)-1)), "") | BU19: =IF(OpnameTabel[[#This Row],[HeeftKenmerkEenheid8]], (OpnameTabel[[#This Row],[Kenmerkomschrijving8]] & ": " & OpnameTabel[[#This Row],[Kenmerkantwoord 8]] & " " &OpnameTabel[[#This Row],[Kenmerkeenheid8]]), IF(ISTEXT(OpnameTabel[[#This Row],[Kenmerkantwoord 8]]), OpnameTabel[[#This Row],[Kenmerkantwoord 8]], "")) | BV19: =ISNUMBER(SEARCH("[",OpnameTabel[[#This Row],[Kenmerkvraag 9]])) -> FALSE | BW19: =IF(OpnameTabel[[#This Row],[HeeftKenmerkEenheid9]], MID(LEFT(OpnameTabel[[#This Row],[Kenmerkvraag 9]],FIND("]",OpnameTabel[[#This Row],[Kenmerkvraag 9]])-1),FIND("[",OpnameTabel[[#This Row],[Kenmerkvraag 9]])+1,LEN(OpnameTabel[[#This Row],[Kenmerkvraag 9]])), "") | BX19: =IF(OpnameTabel[[#This Row],[HeeftKenmerkEenheid9]], LEFT(OpnameTabel[[#This Row],[Kenmerkvraag 9]], (FIND(" [",OpnameTabel[[#This Row],[Kenmerkvraag 9]],1)-1)), "") | BY19: =IF(OpnameTabel[[#This Row],[HeeftKenmerkEenheid9]], (OpnameTabel[[#This Row],[Kenmerkomschrijving9]] & ": " & OpnameTabel[[#This Row],[Kenmerkantwoord 9]] & " " &OpnameTabel[[#This Row],[Kenmerkeenheid9]]), IF(ISTEXT(OpnameTabel[[#This Row],[Kenmerkantwoord 9]]), OpnameTabel[[#This Row],[Kenmerkantwoord 9]], "")) | BZ19: =ISNUMBER(SEARCH("[",OpnameTabel[[#This Row],[Kenmerkvraag 10]])) -> FALSE | CA19: =IF(OpnameTabel[[#This Row],[HeeftKenmerkEenheid10]], MID(LEFT(OpnameTabel[[#This Row],[Kenmerkvraag 10]],FIND("]",OpnameTabel[[#This Row],[Kenmerkvraag 10]])-1),FIND("[",OpnameTabel[[#This Row],[Kenmerkvraag 10]])+1,LEN(OpnameTabel[[#This Row],[Kenmerkvraag 10]])), "") | CB19: =IF(OpnameTabel[[#This Row],[HeeftKenmerkEenheid10]], LEFT(OpnameTabel[[#This Row],[Kenmerkvraag 10]], (FIND(" [",OpnameTabel[[#This Row],[Kenmerkvraag 10]],1)-1)), "") | CC19: =IF(OpnameTabel[[#This Row],[HeeftKenmerkEenheid10]], (OpnameTabel[[#This Row],[Kenmerkomschrijving10]] & ": " & OpnameTabel[[#This Row],[Kenmerkantwoord 10]] & " " &OpnameTabel[[#This Row],[Kenmerkeenheid10]]), IF(ISTEXT(OpnameTabel[[#This Row],[Kenmerkantwoord 10]]), OpnameTabel[[#This Row],[Kenmerkantwoord 10]], "")) | CD19: =ISNUMBER(SEARCH("[",OpnameTabel[[#This Row],[Kenmerkvraag 11]])) -> FALSE | CE19: =IF(OpnameTabel[[#This Row],[HeeftKenmerkEenheid11]], MID(LEFT(OpnameTabel[[#This Row],[Kenmerkvraag 11]],FIND("]",OpnameTabel[[#This Row],[Kenmerkvraag 11]])-1),FIND("[",OpnameTabel[[#This Row],[Kenmerkvraag 11]])+1,LEN(OpnameTabel[[#This Row],[Kenmerkvraag 11]])), "") | CF19: =IF(OpnameTabel[[#This Row],[HeeftKenmerkEenheid11]], LEFT(OpnameTabel[[#This Row],[Kenmerkvraag 11]], (FIND(" [",OpnameTabel[[#This Row],[Kenmerkvraag 11]],1)-1)), "") | CG19: =IF(OpnameTabel[[#This Row],[HeeftKenmerkEenheid11]], (OpnameTabel[[#This Row],[Kenmerkomschrijving11]] & ": " & OpnameTabel[[#This Row],[Kenmerkantwoord 11]] & " " &OpnameTabel[[#This Row],[Kenmerkeenheid11]]), IF(ISTEXT(OpnameTabel[[#This Row],[Kenmerkantwoord 11]]), OpnameTabel[[#This Row],[Kenmerkantwoord 11]], ""))
A20: =ROW() -> 20 | B20: 0 | C20: Water | D20: =VLOOKUP(E20,'3 NL-SfB'!C:F,4,0) -> legionellapreventie | E20: 53.60.00 | F20: n.b. | H20: 1 | L20: Beheersplan | N20: Monsterpunten [stuks] | P20: Keerkleppen [stuks] | AD20: =NOT(ISBLANK(OpnameTabel[[#This Row],[Aantal]])) -> TRUE | AE20: =AND(OpnameTabel[[#This Row],[IsAssetRegel]],NOT(ISBLANK(OpnameTabel[[#This Row],[Aantal]]))) -> TRUE | AF20: =IF(AND(OpnameTabel[[#This Row],[IsAssetRegel]],OpnameTabel[[#This Row],[IsRegelActief]]), NOT(ISBLANK(OpnameTabel[[#This Row],[Bouwjaar]])), TRUE) -> FALSE | AG20: =IF(AND(OpnameTabel[[#This Row],[IsAssetRegel]],OpnameTabel[[#This Row],[IsRegelActief]]), NOT(ISBLANK(J20)), TRUE) -> FALSE | AH20: =IF(AND(OpnameTabel[[#This Row],[IsAssetRegel]],OpnameTabel[[#This Row],[IsRegelActief]]), NOT(ISBLANK(K20)), TRUE) -> FALSE | AI20: =IF(AND(OpnameTabel[[#This Row],[IsAssetRegel]],OpnameTabel[[#This Row],[IsRegelActief]], NOT(ISBLANK(OpnameTabel[[#This Row],[Kenmerkvraag 4]]))), NOT(ISBLANK(OpnameTabel[[#This Row],[Kenmerkantwoord 4]])), TRUE) -> FALSE | AJ20: =IF(AND(OpnameTabel[[#This Row],[IsAssetRegel]],OpnameTabel[[#This Row],[IsRegelActief]], NOT(ISBLANK(OpnameTabel[[#This Row],[Kenmerkvraag 5]]))), NOT(ISBLANK(OpnameTabel[[#This Row],[Kenmerkantwoord 5]])), TRUE) -> FALSE | AK20: =IF(AND(OpnameTabel[[#This Row],[IsAssetRegel]],OpnameTabel[[#This Row],[IsRegelActief]], NOT(ISBLANK(OpnameTabel[[#This Row],[Kenmerkvraag 6]]))), NOT(ISBLANK(OpnameTabel[[#This Row],[Kenmerkantwoord 6]])), TRUE) -> FALSE | AL20: =IF(AND(OpnameTabel[[#This Row],[IsAssetRegel]],OpnameTabel[[#This Row],[IsRegelActief]], NOT(ISBLANK(OpnameTabel[[#This Row],[Kenmerkvraag 7]]))), NOT(ISBLANK(OpnameTabel[[#This Row],[Kenmerkantwoord 7]])), TRUE) -> TRUE | AM20: =IF(AND(OpnameTabel[[#This Row],[IsAssetRegel]],OpnameTabel[[#This Row],[IsRegelActief]], NOT(ISBLANK(OpnameTabel[[#This Row],[Kenmerkvraag 8]]))), NOT(ISBLANK(OpnameTabel[[#This Row],[Kenmerkantwoord 8]])), TRUE) -> TRUE | AN20: =IF(AND(OpnameTabel[[#This Row],[IsAssetRegel]],OpnameTabel[[#This Row],[IsRegelActief]], NOT(ISBLANK(OpnameTabel[[#This Row],[Kenmerkvraag 9]]))), NOT(ISBLANK(OpnameTabel[[#This Row],[Kenmerkantwoord 9]])), TRUE) -> TRUE | AO20: =IF(AND(OpnameTabel[[#This Row],[IsAssetRegel]],OpnameTabel[[#This Row],[IsRegelActief]], NOT(ISBLANK(OpnameTabel[[#This Row],[Kenmerkvraag 10]]))), NOT(ISBLANK(OpnameTabel[[#This Row],[Kenmerkantwoord 10]])), TRUE) -> TRUE | AP20: =IF(AND(OpnameTabel[[#This Row],[IsAssetRegel]],OpnameTabel[[#This Row],[IsRegelActief]], NOT(ISBLANK(OpnameTabel[[#This Row],[Kenmerkvraag 11]]))), NOT(ISBLANK(OpnameTabel[[#This Row],[Kenmerkantwoord 11]])), TRUE) -> TRUE | AQ20: =IF(OpnameTabel[[#This Row],[IsIngevuld1]], 0, 1) -> 1 | AR20: =IF(OpnameTabel[[#This Row],[IsIngevuld2]], 0, 1) -> 1 | AS20: =IF(OpnameTabel[[#This Row],[IsIngevuld3]], 0, 1) -> 1 | AT20: =IF(OpnameTabel[[#This Row],[IsIngevuld4]], 0, 1) -> 1 | AU20: =IF(OpnameTabel[[#This Row],[IsIngevuld5]], 0, 1) -> 1 | AV20: =IF(OpnameTabel[[#This Row],[IsIngevuld6]], 0, 1) -> 1 | AW20: =IF(OpnameTabel[[#This Row],[IsIngevuld7]], 0, 1) -> 0 | AX20: =IF(OpnameTabel[[#This Row],[IsIngevuld8]], 0, 1) -> 0 | AY20: =IF(OpnameTabel[[#This Row],[IsIngevuld9]], 0, 1) -> 0 | AZ20: =IF(OpnameTabel[[#This Row],[IsIngevuld10]], 0, 1) -> 0 | BA20: =IF(OpnameTabel[[#This Row],[IsIngevuld11]], 0, 1) -> 0 | BB20: =ISNUMBER(SEARCH("[",OpnameTabel[[#This Row],[Kenmerkvraag 4]])) -> FALSE | BC20: =IF(OpnameTabel[[#This Row],[HeeftKenmerkEenheid4]], MID(LEFT(OpnameTabel[[#This Row],[Kenmerkvraag 4]],FIND("]",OpnameTabel[[#This Row],[Kenmerkvraag 4]])-1),FIND("[",OpnameTabel[[#This Row],[Kenmerkvraag 4]])+1,LEN(OpnameTabel[[#This Row],[Kenmerkvraag 4]])), "") | BD20: =IF(OpnameTabel[[#This Row],[HeeftKenmerkEenheid4]], LEFT(OpnameTabel[[#This Row],[Kenmerkvraag 4]], (FIND(" [",OpnameTabel[[#This Row],[Kenmerkvraag 4]],1)-1)), "") | BE20: =IF(OpnameTabel[[#This Row],[HeeftKenmerkEenheid4]], (OpnameTabel[[#This Row],[Kenmerkomschrijving4]] & ": " & OpnameTabel[[#This Row],[Kenmerkantwoord 4]] & " " &OpnameTabel[[#This Row],[Kenmerkeenheid4]]), IF(ISTEXT(OpnameTabel[[#This Row],[Kenmerkantwoord 4]]), OpnameTabel[[#This Row],[Kenmerkantwoord 4]], "")) | BF20: =ISNUMBER(SEARCH("[",OpnameTabel[[#This Row],[Kenmerkvraag 5]])) -> TRUE | BG20: =IF(OpnameTabel[[#This Row],[HeeftKenmerkEenheid5]], MID(LEFT(OpnameTabel[[#This Row],[Kenmerkvraag 5]],FIND("]",OpnameTabel[[#This Row],[Kenmerkvraag 5]])-1),FIND("[",OpnameTabel[[#This Row],[Kenmerkvraag 5]])+1,LEN(OpnameTabel[[#This Row],[Kenmerkvraag 5]])), "") -> stuks | BH20: =IF(OpnameTabel[[#This Row],[HeeftKenmerkEenheid5]], LEFT(OpnameTabel[[#This Row],[Kenmerkvraag 5]], (FIND(" [",OpnameTabel[[#This Row],[Kenmerkvraag 5]],1)-1)), "") -> Monsterpunten | BI20: =IF(OpnameTabel[[#This Row],[HeeftKenmerkEenheid5]], (OpnameTabel[[#This Row],[Kenmerkomschrijving5]] & ": " & OpnameTabel[[#This Row],[Kenmerkantwoord 5]] & " " &OpnameTabel[[#This Row],[Kenmerkeenheid5]]), IF(ISTEXT(OpnameTabel[[#This Row],[Kenmerkantwoord 5]]), OpnameTabel[[#This Row],[Kenmerkantwoord 5]], "")) -> Monsterpunten: stuks | BJ20: =ISNUMBER(SEARCH("[",OpnameTabel[[#This Row],[Kenmerkvraag 6]])) -> TRUE | BK20: =IF(OpnameTabel[[#This Row],[HeeftKenmerkEenheid6]], MID(LEFT(OpnameTabel[[#This Row],[Kenmerkvraag 6]],FIND("]",OpnameTabel[[#This Row],[Kenmerkvraag 6]])-1),FIND("[",OpnameTabel[[#This Row],[Kenmerkvraag 6]])+1,LEN(OpnameTabel[[#This Row],[Kenmerkvraag 6]])), "") -> stuks | BL20: =IF(OpnameTabel[[#This Row],[HeeftKenmerkEenheid6]], LEFT(OpnameTabel[[#This Row],[Kenmerkvraag 6]], (FIND(" [",OpnameTabel[[#This Row],[Kenmerkvraag 6]],1)-1)), "") -> Keerkleppen | BM20: =IF(OpnameTabel[[#This Row],[HeeftKenmerkEenheid6]], (OpnameTabel[[#This Row],[Kenmerkomschrijving6]] & ": " & OpnameTabel[[#This Row],[Kenmerkantwoord 6]] & " " &OpnameTabel[[#This Row],[Kenmerkeenheid6]]), IF(ISTEXT(OpnameTabel[[#This Row],[Kenmerkantwoord 6]]), OpnameTabel[[#This Row],[Kenmerkantwoord 6]], "")) -> Keerkleppen: stuks | BN20: =ISNUMBER(SEARCH("[",OpnameTabel[[#This Row],[Kenmerkvraag 7]])) -> FALSE | BO20: =IF(OpnameTabel[[#This Row],[HeeftKenmerkEenheid7]], MID(LEFT(OpnameTabel[[#This Row],[Kenmerkvraag 7]],FIND("]",OpnameTabel[[#This Row],[Kenmerkvraag 7]])-1),FIND("[",OpnameTabel[[#This Row],[Kenmerkvraag 7]])+1,LEN(OpnameTabel[[#This Row],[Kenmerkvraag 7]])), "") | BP20: =IF(OpnameTabel[[#This Row],[HeeftKenmerkEenheid7]], LEFT(OpnameTabel[[#This Row],[Kenmerkvraag 7]], (FIND(" [",OpnameTabel[[#This Row],[Kenmerkvraag 7]],1)-1)), "") | BQ20: =IF(OpnameTabel[[#This Row],[HeeftKenmerkEenheid7]], (OpnameTabel[[#This Row],[Kenmerkomschrijving7]] & ": " & OpnameTabel[[#This Row],[Kenmerkantwoord 7]] & " " &OpnameTabel[[#This Row],[Kenmerkeenheid7]]), IF(ISTEXT(OpnameTabel[[#This Row],[Kenmerkantwoord 7]]), OpnameTabel[[#This Row],[Kenmerkantwoord 7]], "")) | BR20: =ISNUMBER(SEARCH("[",OpnameTabel[[#This Row],[Kenmerkvraag 8]])) -> FALSE | BS20: =IF(OpnameTabel[[#This Row],[HeeftKenmerkEenheid8]], MID(LEFT(OpnameTabel[[#This Row],[Kenmerkvraag 8]],FIND("]",OpnameTabel[[#This Row],[Kenmerkvraag 8]])-1),FIND("[",OpnameTabel[[#This Row],[Kenmerkvraag 8]])+1,LEN(OpnameTabel[[#This Row],[Kenmerkvraag 8]])), "") | BT20: =IF(OpnameTabel[[#This Row],[HeeftKenmerkEenheid8]], LEFT(OpnameTabel[[#This Row],[Kenmerkvraag 8]], (FIND(" [",OpnameTabel[[#This Row],[Kenmerkvraag 8]],1)-1)), "") | BU20: =IF(OpnameTabel[[#This Row],[HeeftKenmerkEenheid8]], (OpnameTabel[[#This Row],[Kenmerkomschrijving8]] & ": " & OpnameTabel[[#This Row],[Kenmerkantwoord 8]] & " " &OpnameTabel[[#This Row],[Kenmerkeenheid8]]), IF(ISTEXT(OpnameTabel[[#This Row],[Kenmerkantwoord 8]]), OpnameTabel[[#This Row],[Kenmerkantwoord 8]], "")) | BV20: =ISNUMBER(SEARCH("[",OpnameTabel[[#This Row],[Kenmerkvraag 9]])) -> FALSE | BW20: =IF(OpnameTabel[[#This Row],[HeeftKenmerkEenheid9]], MID(LEFT(OpnameTabel[[#This Row],[Kenmerkvraag 9]],FIND("]",OpnameTabel[[#This Row],[Kenmerkvraag 9]])-1),FIND("[",OpnameTabel[[#This Row],[Kenmerkvraag 9]])+1,LEN(OpnameTabel[[#This Row],[Kenmerkvraag 9]])), "") | BX20: =IF(OpnameTabel[[#This Row],[HeeftKenmerkEenheid9]], LEFT(OpnameTabel[[#This Row],[Kenmerkvraag 9]], (FIND(" [",OpnameTabel[[#This Row],[Kenmerkvraag 9]],1)-1)), "") | BY20: =IF(OpnameTabel[[#This Row],[HeeftKenmerkEenheid9]], (OpnameTabel[[#This Row],[Kenmerkomschrijving9]] & ": " & OpnameTabel[[#This Row],[Kenmerkantwoord 9]] & " " &OpnameTabel[[#This Row],[Kenmerkeenheid9]]), IF(ISTEXT(OpnameTabel[[#This Row],[Kenmerkantwoord 9]]), OpnameTabel[[#This Row],[Kenmerkantwoord 9]], "")) | BZ20: =ISNUMBER(SEARCH("[",OpnameTabel[[#This Row],[Kenmerkvraag 10]])) -> FALSE | CA20: =IF(OpnameTabel[[#This Row],[HeeftKenmerkEenheid10]], MID(LEFT(OpnameTabel[[#This Row],[Kenmerkvraag 10]],FIND("]",OpnameTabel[[#This Row],[Kenmerkvraag 10]])-1),FIND("[",OpnameTabel[[#This Row],[Kenmerkvraag 10]])+1,LEN(OpnameTabel[[#This Row],[Kenmerkvraag 10]])), "") | CB20: =IF(OpnameTabel[[#This Row],[HeeftKenmerkEenheid10]], LEFT(OpnameTabel[[#This Row],[Kenmerkvraag 10]], (FIND(" [",OpnameTabel[[#This Row],[Kenmerkvraag 10]],1)-1)), "") | CC20: =IF(OpnameTabel[[#This Row],[HeeftKenmerkEenheid10]], (OpnameTabel[[#This Row],[Kenmerkomschrijving10]] & ": " & OpnameTabel[[#This Row],[Kenmerkantwoord 10]] & " " &OpnameTabel[[#This Row],[Kenmerkeenheid10]]), IF(ISTEXT(OpnameTabel[[#This Row],[Kenmerkantwoord 10]]), OpnameTabel[[#This Row],[Kenmerkantwoord 10]], "")) | CD20: =ISNUMBER(SEARCH("[",OpnameTabel[[#This Row],[Kenmerkvraag 11]])) -> FALSE | CE20: =IF(OpnameTabel[[#This Row],[HeeftKenmerkEenheid11]], MID(LEFT(OpnameTabel[[#This Row],[Kenmerkvraag 11]],FIND("]",OpnameTabel[[#This Row],[Kenmerkvraag 11]])-1),FIND("[",OpnameTabel[[#This Row],[Kenmerkvraag 11]])+1,LEN(OpnameTabel[[#This Row],[Kenmerkvraag 11]])), "") | CF20: =IF(OpnameTabel[[#This Row],[HeeftKenmerkEenheid11]], LEFT(OpnameTabel[[#This Row],[Kenmerkvraag 11]], (FIND(" [",OpnameTabel[[#This Row],[Kenmerkvraag 11]],1)-1)), "") | CG20: =IF(OpnameTabel[[#This Row],[HeeftKenmerkEenheid11]], (OpnameTabel[[#This Row],[Kenmerkomschrijving11]] & ": " & OpnameTabel[[#This Row],[Kenmerkantwoord 11]] & " " &OpnameTabel[[#This Row],[Kenmerkeenheid11]]), IF(ISTEXT(OpnameTabel[[#This Row],[Kenmerkantwoord 11]]), OpnameTabel[[#This Row],[Kenmerkantwoord 11]], ""))
A21: =ROW() -> 21 | B21: 0 | C21: Gassen | D21: =VLOOKUP(E21,'3 NL-SfB'!C:F,4,0) -> aardgas-/menggasvoorziening | E21: 54.11.00 | F21: 54.11 | G21: 54.11 | H21: 1 | L21: Leidinglengte [m] | N21: Nom. debiet gas [m3/h] | P21: Verbruiksaansl. [stuks] | AD21: =NOT(ISBLANK(OpnameTabel[[#This Row],[Aantal]])) -> TRUE | AE21: =AND(OpnameTabel[[#This Row],[IsAssetRegel]],NOT(ISBLANK(OpnameTabel[[#This Row],[Aantal]]))) -> TRUE | AF21: =IF(AND(OpnameTabel[[#This Row],[IsAssetRegel]],OpnameTabel[[#This Row],[IsRegelActief]]), NOT(ISBLANK(OpnameTabel[[#This Row],[Bouwjaar]])), TRUE) -> FALSE | AG21: =IF(AND(OpnameTabel[[#This Row],[IsAssetRegel]],OpnameTabel[[#This Row],[IsRegelActief]]), NOT(ISBLANK(J21)), TRUE) -> FALSE | AH21: =IF(AND(OpnameTabel[[#This Row],[IsAssetRegel]],OpnameTabel[[#This Row],[IsRegelActief]]), NOT(ISBLANK(K21)), TRUE) -> FALSE | AI21: =IF(AND(OpnameTabel[[#This Row],[IsAssetRegel]],OpnameTabel[[#This Row],[IsRegelActief]], NOT(ISBLANK(OpnameTabel[[#This Row],[Kenmerkvraag 4]]))), NOT(ISBLANK(OpnameTabel[[#This Row],[Kenmerkantwoord 4]])), TRUE) -> FALSE | AJ21: =IF(AND(OpnameTabel[[#This Row],[IsAssetRegel]],OpnameTabel[[#This Row],[IsRegelActief]], NOT(ISBLANK(OpnameTabel[[#This Row],[Kenmerkvraag 5]]))), NOT(ISBLANK(OpnameTabel[[#This Row],[Kenmerkantwoord 5]])), TRUE) -> FALSE | AK21: =IF(AND(OpnameTabel[[#This Row],[IsAssetRegel]],OpnameTabel[[#This Row],[IsRegelActief]], NOT(ISBLANK(OpnameTabel[[#This Row],[Kenmerkvraag 6]]))), NOT(ISBLANK(OpnameTabel[[#This Row],[Kenmerkantwoord 6]])), TRUE) -> FALSE | AL21: =IF(AND(OpnameTabel[[#This Row],[IsAssetRegel]],OpnameTabel[[#This Row],[IsRegelActief]], NOT(ISBLANK(OpnameTabel[[#This Row],[Kenmerkvraag 7]]))), NOT(ISBLANK(OpnameTabel[[#This Row],[Kenmerkantwoord 7]])), TRUE) -> TRUE | AM21: =IF(AND(OpnameTabel[[#This Row],[IsAssetRegel]],OpnameTabel[[#This Row],[IsRegelActief]], NOT(ISBLANK(OpnameTabel[[#This Row],[Kenmerkvraag 8]]))), NOT(ISBLANK(OpnameTabel[[#This Row],[Kenmerkantwoord 8]])), TRUE) -> TRUE | AN21: =IF(AND(OpnameTabel[[#This Row],[IsAssetRegel]],OpnameTabel[[#This Row],[IsRegelActief]], NOT(ISBLANK(OpnameTabel[[#This Row],[Kenmerkvraag 9]]))), NOT(ISBLANK(OpnameTabel[[#This Row],[Kenmerkantwoord 9]])), TRUE) -> TRUE | AO21: =IF(AND(OpnameTabel[[#This Row],[IsAssetRegel]],OpnameTabel[[#This Row],[IsRegelActief]], NOT(ISBLANK(OpnameTabel[[#This Row],[Kenmerkvraag 10]]))), NOT(ISBLANK(OpnameTabel[[#This Row],[Kenmerkantwoord 10]])), TRUE) -> TRUE | AP21: =IF(AND(OpnameTabel[[#This Row],[IsAssetRegel]],OpnameTabel[[#This Row],[IsRegelActief]], NOT(ISBLANK(OpnameTabel[[#This Row],[Kenmerkvraag 11]]))), NOT(ISBLANK(OpnameTabel[[#This Row],[Kenmerkantwoord 11]])), TRUE) -> TRUE | AQ21: =IF(OpnameTabel[[#This Row],[IsIngevuld1]], 0, 1) -> 1 | AR21: =IF(OpnameTabel[[#This Row],[IsIngevuld2]], 0, 1) -> 1 | AS21: =IF(OpnameTabel[[#This Row],[IsIngevuld3]], 0, 1) -> 1 | AT21: =IF(OpnameTabel[[#This Row],[IsIngevuld4]], 0, 1) -> 1 | AU21: =IF(OpnameTabel[[#This Row],[IsIngevuld5]], 0, 1) -> 1 | AV21: =IF(OpnameTabel[[#This Row],[IsIngevuld6]], 0, 1) -> 1 | AW21: =IF(OpnameTabel[[#This Row],[IsIngevuld7]], 0, 1) -> 0 | AX21: =IF(OpnameTabel[[#This Row],[IsIngevuld8]], 0, 1) -> 0 | AY21: =IF(OpnameTabel[[#This Row],[IsIngevuld9]], 0, 1) -> 0 | AZ21: =IF(OpnameTabel[[#This Row],[IsIngevuld10]], 0, 1) -> 0 | BA21: =IF(OpnameTabel[[#This Row],[IsIngevuld11]], 0, 1) -> 0 | BB21: =ISNUMBER(SEARCH("[",OpnameTabel[[#This Row],[Kenmerkvraag 4]])) -> TRUE | BC21: =IF(OpnameTabel[[#This Row],[HeeftKenmerkEenheid4]], MID(LEFT(OpnameTabel[[#This Row],[Kenmerkvraag 4]],FIND("]",OpnameTabel[[#This Row],[Kenmerkvraag 4]])-1),FIND("[",OpnameTabel[[#This Row],[Kenmerkvraag 4]])+1,LEN(OpnameTabel[[#This Row],[Kenmerkvraag 4]])), "") -> m | BD21: =IF(OpnameTabel[[#This Row],[HeeftKenmerkEenheid4]], LEFT(OpnameTabel[[#This Row],[Kenmerkvraag 4]], (FIND(" [",OpnameTabel[[#This Row],[Kenmerkvraag 4]],1)-1)), "") -> Leidinglengte | BE21: =IF(OpnameTabel[[#This Row],[HeeftKenmerkEenheid4]], (OpnameTabel[[#This Row],[Kenmerkomschrijving4]] & ": " & OpnameTabel[[#This Row],[Kenmerkantwoord 4]] & " " &OpnameTabel[[#This Row],[Kenmerkeenheid4]]), IF(ISTEXT(OpnameTabel[[#This Row],[Kenmerkantwoord 4]]), OpnameTabel[[#This Row],[Kenmerkantwoord 4]], "")) -> Leidinglengte: m | BF21: =ISNUMBER(SEARCH("[",OpnameTabel[[#This Row],[Kenmerkvraag 5]])) -> TRUE | BG21: =IF(OpnameTabel[[#This Row],[HeeftKenmerkEenheid5]], MID(LEFT(OpnameTabel[[#This Row],[Kenmerkvraag 5]],FIND("]",OpnameTabel[[#This Row],[Kenmerkvraag 5]])-1),FIND("[",OpnameTabel[[#This Row],[Kenmerkvraag 5]])+1,LEN(OpnameTabel[[#This Row],[Kenmerkvraag 5]])), "") -> m3/h | BH21: =IF(OpnameTabel[[#This Row],[HeeftKenmerkEenheid5]], LEFT(OpnameTabel[[#This Row],[Kenmerkvraag 5]], (FIND(" [",OpnameTabel[[#This Row],[Kenmerkvraag 5]],1)-1)), "") -> Nom. debiet gas | BI21: =IF(OpnameTabel[[#This Row],[HeeftKenmerkEenheid5]], (OpnameTabel[[#This Row],[Kenmerkomschrijving5]] & ": " & OpnameTabel[[#This Row],[Kenmerkantwoord 5]] & " " &OpnameTabel[[#This Row],[Kenmerkeenheid5]]), IF(ISTEXT(OpnameTabel[[#This Row],[Kenmerkantwoord 5]]), OpnameTabel[[#This Row],[Kenmerkantwoord 5]], "")) -> Nom. debiet gas: m3/h | BJ21: =ISNUMBER(SEARCH("[",OpnameTabel[[#This Row],[Kenmerkvraag 6]])) -> TRUE | BK21: =IF(OpnameTabel[[#This Row],[HeeftKenmerkEenheid6]], MID(LEFT(OpnameTabel[[#This Row],[Kenmerkvraag 6]],FIND("]",OpnameTabel[[#This Row],[Kenmerkvraag 6]])-1),FIND("[",OpnameTabel[[#This Row],[Kenmerkvraag 6]])+1,LEN(OpnameTabel[[#This Row],[Kenmerkvraag 6]])), "") -> stuks | BL21: =IF(OpnameTabel[[#This Row],[HeeftKenmerkEenheid6]], LEFT(OpnameTabel[[#This Row],[Kenmerkvraag 6]], (FIND(" [",OpnameTabel[[#This Row],[Kenmerkvraag 6]],1)-1)), "") -> Verbruiksaansl. | BM21: =IF(OpnameTabel[[#This Row],[HeeftKenmerkEenheid6]], (OpnameTabel[[#This Row],[Kenmerkomschrijving6]] & ": " & OpnameTabel[[#This Row],[Kenmerkantwoord 6]] & " " &OpnameTabel[[#This Row],[Kenmerkeenheid6]]), IF(ISTEXT(OpnameTabel[[#This Row],[Kenmerkantwoord 6]]), OpnameTabel[[#This Row],[Kenmerkantwoord 6]], "")) -> Verbruiksaansl.: stuks | BN21: =ISNUMBER(SEARCH("[",OpnameTabel[[#This Row],[Kenmerkvraag 7]])) -> FALSE | BO21: =IF(OpnameTabel[[#This Row],[HeeftKenmerkEenheid7]], MID(LEFT(OpnameTabel[[#This Row],[Kenmerkvraag 7]],FIND("]",OpnameTabel[[#This Row],[Kenmerkvraag 7]])-1),FIND("[",OpnameTabel[[#This Row],[Kenmerkvraag 7]])+1,LEN(OpnameTabel[[#This Row],[Kenmerkvraag 7]])), "") | BP21: =IF(OpnameTabel[[#This Row],[HeeftKenmerkEenheid7]], LEFT(OpnameTabel[[#This Row],[Kenmerkvraag 7]], (FIND(" [",OpnameTabel[[#This Row],[Kenmerkvraag 7]],1)-1)), "") | BQ21: =IF(OpnameTabel[[#This Row],[HeeftKenmerkEenheid7]], (OpnameTabel[[#This Row],[Kenmerkomschrijving7]] & ": " & OpnameTabel[[#This Row],[Kenmerkantwoord 7]] & " " &OpnameTabel[[#This Row],[Kenmerkeenheid7]]), IF(ISTEXT(OpnameTabel[[#This Row],[Kenmerkantwoord 7]]), OpnameTabel[[#This Row],[Kenmerkantwoord 7]], "")) | BR21: =ISNUMBER(SEARCH("[",OpnameTabel[[#This Row],[Kenmerkvraag 8]])) -> FALSE | BS21: =IF(OpnameTabel[[#This Row],[HeeftKenmerkEenheid8]], MID(LEFT(OpnameTabel[[#This Row],[Kenmerkvraag 8]],FIND("]",OpnameTabel[[#This Row],[Kenmerkvraag 8]])-1),FIND("[",OpnameTabel[[#This Row],[Kenmerkvraag 8]])+1,LEN(OpnameTabel[[#This Row],[Kenmerkvraag 8]])), "") | BT21: =IF(OpnameTabel[[#This Row],[HeeftKenmerkEenheid8]], LEFT(OpnameTabel[[#This Row],[Kenmerkvraag 8]], (FIND(" [",OpnameTabel[[#This Row],[Kenmerkvraag 8]],1)-1)), "") | BU21: =IF(OpnameTabel[[#This Row],[HeeftKenmerkEenheid8]], (OpnameTabel[[#This Row],[Kenmerkomschrijving8]] & ": " & OpnameTabel[[#This Row],[Kenmerkantwoord 8]] & " " &OpnameTabel[[#This Row],[Kenmerkeenheid8]]), IF(ISTEXT(OpnameTabel[[#This Row],[Kenmerkantwoord 8]]), OpnameTabel[[#This Row],[Kenmerkantwoord 8]], "")) | BV21: =ISNUMBER(SEARCH("[",OpnameTabel[[#This Row],[Kenmerkvraag 9]])) -> FALSE | BW21: =IF(OpnameTabel[[#This Row],[HeeftKenmerkEenheid9]], MID(LEFT(OpnameTabel[[#This Row],[Kenmerkvraag 9]],FIND("]",OpnameTabel[[#This Row],[Kenmerkvraag 9]])-1),FIND("[",OpnameTabel[[#This Row],[Kenmerkvraag 9]])+1,LEN(OpnameTabel[[#This Row],[Kenmerkvraag 9]])), "") | BX21: =IF(OpnameTabel[[#This Row],[HeeftKenmerkEenheid9]], LEFT(OpnameTabel[[#This Row],[Kenmerkvraag 9]], (FIND(" [",OpnameTabel[[#This Row],[Kenmerkvraag 9]],1)-1)), "") | BY21: =IF(OpnameTabel[[#This Row],[HeeftKenmerkEenheid9]], (OpnameTabel[[#This Row],[Kenmerkomschrijving9]] & ": " & OpnameTabel[[#This Row],[Kenmerkantwoord 9]] & " " &OpnameTabel[[#This Row],[Kenmerkeenheid9]]), IF(ISTEXT(OpnameTabel[[#This Row],[Kenmerkantwoord 9]]), OpnameTabel[[#This Row],[Kenmerkantwoord 9]], "")) | BZ21: =ISNUMBER(SEARCH("[",OpnameTabel[[#This Row],[Kenmerkvraag 10]])) -> FALSE | CA21: =IF(OpnameTabel[[#This Row],[HeeftKenmerkEenheid10]], MID(LEFT(OpnameTabel[[#This Row],[Kenmerkvraag 10]],FIND("]",OpnameTabel[[#This Row],[Kenmerkvraag 10]])-1),FIND("[",OpnameTabel[[#This Row],[Kenmerkvraag 10]])+1,LEN(OpnameTabel[[#This Row],[Kenmerkvraag 10]])), "") | CB21: =IF(OpnameTabel[[#This Row],[HeeftKenmerkEenheid10]], LEFT(OpnameTabel[[#This Row],[Kenmerkvraag 10]], (FIND(" [",OpnameTabel[[#This Row],[Kenmerkvraag 10]],1)-1)), "") | CC21: =IF(OpnameTabel[[#This Row],[HeeftKenmerkEenheid10]], (OpnameTabel[[#This Row],[Kenmerkomschrijving10]] & ": " & OpnameTabel[[#This Row],[Kenmerkantwoord 10]] & " " &OpnameTabel[[#This Row],[Kenmerkeenheid10]]), IF(ISTEXT(OpnameTabel[[#This Row],[Kenmerkantwoord 10]]), OpnameTabel[[#This Row],[Kenmerkantwoord 10]], "")) | CD21: =ISNUMBER(SEARCH("[",OpnameTabel[[#This Row],[Kenmerkvraag 11]])) -> FALSE | CE21: =IF(OpnameTabel[[#This Row],[HeeftKenmerkEenheid11]], MID(LEFT(OpnameTabel[[#This Row],[Kenmerkvraag 11]],FIND("]",OpnameTabel[[#This Row],[Kenmerkvraag 11]])-1),FIND("[",OpnameTabel[[#This Row],[Kenmerkvraag 11]])+1,LEN(OpnameTabel[[#This Row],[Kenmerkvraag 11]])), "") | CF21: =IF(OpnameTabel[[#This Row],[HeeftKenmerkEenheid11]], LEFT(OpnameTabel[[#This Row],[Kenmerkvraag 11]], (FIND(" [",OpnameTabel[[#This Row],[Kenmerkvraag 11]],1)-1)), "") | CG21: =IF(OpnameTabel[[#This Row],[HeeftKenmerkEenheid11]], (OpnameTabel[[#This Row],[Kenmerkomschrijving11]] & ": " & OpnameTabel[[#This Row],[Kenmerkantwoord 11]] & " " &OpnameTabel[[#This Row],[Kenmerkeenheid11]]), IF(ISTEXT(OpnameTabel[[#This Row],[Kenmerkantwoord 11]]), OpnameTabel[[#This Row],[Kenmerkantwoord 11]], ""))
