Workbook
Name Counter: COUNTA(INDEX(ValData,,MATCH('[1]Data Entry'!A16,[2]Lists!$1:$1,0)))
Name Testdropdown: #REF!

Sheet 1 Gebruiksaanwijzing
A1: Invulaanwijzing Opnamesjabloon
M2: Invulinstructies
M3: - Wat hoort tot de scope en wat niet (geen losse inrichting, geen assets die geen onderhoud behoeven en/of assets waarvan de vervanging niet wordt begroot in een MJOB zoals een wandklok op batterijen)
M4: - Geen lege cellen
M5: - Indien een gevraagde waarde onbekend is, de waarde inschatten. Altijd een waarde invullen. In het veld opmerkingen aangeven dat de waarde is ingeschat en/of waarop de inschatting is gebaseerd
M6: - Indien een asset uit onderdelen van verschillende jaartallen bestaat het vroegste (oudste) jaartal invullen.
M7: - Mits er geen verdeler aanwezig , verdeler met 1 groep invullen
M8: - Indien een installatie niet op de lijst staat, alle kenmerken opnemen waarmee de vervangingswaarde kan worden bepaald en onderhoudsactivitetien kunnen worden toegewezen
M9: - Als er om een Kenmerk gevraagd wordt, moet er een antwoord ingevuld worden direct rechts van de kenmerkvraag
M12: - duplicaatregels zou genoeg moeten zijn, als extra nodig onderaan invoegen, rekening houdend met de keuzemogelijkheden van de oorspronkelijke regel

Sheet Algemene gegevens
B2: Object | C2: VOORBEELD
B3: Adres | C3: voorbeeld
B4: Plaats | C4: Voorbeeld
B5: Oppervlak [m2 BVO] | C5: voorbeeld m2
C7: Aanwezig | D7: Datum
B8: Bouwkundige tekeningen | C8: ja/nee
B9: W (revisie)tekeningen | C9: ja/nee
B10: E (revisie)tekeningen | C10: ja/nee

Sheet 1 Inventarislijst
A1: Locatie | B1: Adres | C1: Plaats | D1: Oppervlak (m2 BVO) | E1: Ruimte | F1: TopDesk ID | G1: Element type | H1: Hoofdelement | I1: Controller ID | J1: Asset Adres | K1: Contractor ID | L1: NLSfB | M1: Omschrijving | N1: Groep | O1: Aantal | P1: Bouwjaar | Q1: Fabrikaat | R1: Type | S1: Kenmerk 4 | T1: Kenmerk 5 | U1: Kenmerk 6 | V1: Kenmerk 7 | W1: Kenmerk 8 | X1: Kenmerk 9 | Y1: Kenmerk 10 | Z1: Start Conditie | AA1: Minimale Conditie | AB1: KPI Data 1 | AC1: KPI Data 2 | AD1: KPI Data 3 | AE1: KPI Data 4 | AF1: PPO code 1 | AG1: Frequentie 1 | AH1: Prijs 1 | AI1: PPO code 2 | AJ1: Frequentie 2 | AK1: Prijs 2 | AL1: PPO code 3 | AM1: Frequentie 3 | AN1: Prijs 3 | AO1: PPO code 4 | AP1: Frequentie 4 | AQ1: Prijs 4 | AR1: Totaal 1 | AS1: Totaal 2 | AT1: Totaal 3 | AU1: Totaal 4 | AV1: Totaal | AX1: RegelOpnamesjabloon
L2: {=_xlfn.XLOOKUP(_xlfn.ANCHORARRAY(AX2),OpnameTabel[Index],OpnameTabel[NL-SfB], "")} -> 31.31.10 | M2: {=_xlfn.XLOOKUP(_xlfn.ANCHORARRAY(AX2),OpnameTabel[Index],OpnameTabel[Omschrijving], "")} -> automatische draaideur (buiten) | O2: {=_xlfn.XLOOKUP(_xlfn.ANCHORARRAY(AX2),OpnameTabel[Index],OpnameTabel[Aantal], "")} -> 1 | P2: {=_xlfn.XLOOKUP(_xlfn.ANCHORARRAY(AX2),OpnameTabel[Index],OpnameTabel[Bouwjaar], "")} -> 0 | Q2: {=_xlfn.XLOOKUP(_xlfn.ANCHORARRAY(AX2),OpnameTabel[Index],OpnameTabel[Fabricaat], "")} -> 0 | R2: {=_xlfn.XLOOKUP(_xlfn.ANCHORARRAY(AX2),OpnameTabel[Index],OpnameTabel[Type], "")} -> 0 | S2: {=_xlfn.XLOOKUP(_xlfn.ANCHORARRAY(AX2),OpnameTabel[Index],OpnameTabel[Kenmerkzin4], "")} | T2: {=_xlfn.XLOOKUP(_xlfn.ANCHORARRAY(AX2),OpnameTabel[Index],OpnameTabel[Kenmerkzin5], "")} -> Hoogte: m | U2: {=_xlfn.XLOOKUP(_xlfn.ANCHORARRAY(AX2),OpnameTabel[Index],OpnameTabel[Kenmerkzin6], "")} -> Diameter: m | V2: {=_xlfn.XLOOKUP(_xlfn.ANCHORARRAY(AX2),OpnameTabel[Index],OpnameTabel[Kenmerkzin7], "")} | W2: {=_xlfn.XLOOKUP(_xlfn.ANCHORARRAY(AX2),OpnameTabel[Index],OpnameTabel[Kenmerkzin8], "")} | X2: {=_xlfn.XLOOKUP(_xlfn.ANCHORARRAY(AX2),OpnameTabel[Index],OpnameTabel[Kenmerkzin9], "")} | Y2: {=_xlfn.XLOOKUP(_xlfn.ANCHORARRAY(AX2),OpnameTabel[Index],OpnameTabel[Kenmerkzin11], "")} | AX2: {=_xlfn._xlws.FILTER(OpnameTabel[Index],OpnameTabel[IsRegelActief], FALSE)} -> 5
L3: 31.32.10 | M3: automatische schuifdeur (buiten) | O3: 1 | P3: 0 | Q3: 0 | R3: 0 | T3: Hoogte: m | U3: Breedte: m | AX3: 6
L4: 31.34.00 | M4: tourniquet (buiten) | O4: 1 | P4: 0 | Q4: 0 | R4: 0 | T4: Hoogte: m | U4: Breedte: m | AX4: 7
L5: 31.35.00 | M5: overheaddeur (buiten) | O5: 1 | P5: 0 | Q5: 0 | R5: 0 | T5: Hoogte: m | U5: Breedte: m | W5: Afstandsbed.: stuks | AX5: 8
L6: 32.42.00 | M6: rolluik (binnen) | O6: 1 | P6: 0 | Q6: 0 | R6: 0 | T6: Hoogte: m | U6: Breedte: m | AX6: 9
L7: 37.26.00 | M7: dakluik | O7: 1 | P7: 0 | Q7: 0 | R7: 0 | T7: Hoogte: m | U7: Breedte: m | AX7: 10
L8: 37.26.10 | M8: dak rook-/ventilatieluik | O8: 1 | P8: 0 | Q8: 0 | R8: 0 | T8: Hoogte: m | U8: Breedte: m | AX8: 11
L9: 52.16.10 | M9: waterpomp hemelwater | O9: 1 | P9: 0 | Q9: 0 | R9: 0 | T9: Max. debiet: m3/h | U9: Opvoerhoogte: kPa | AX9: 12
L10: 52.26.20 | M10: afvoerpomp fecaliën | O10: 1 | P10: 0 | Q10: 0 | R10: 0 | T10: Max. debiet: m3/h | U10: Opvoerhoogte: kPa | AX10: 13
L11: 52.36.10 | M11: droge motorpomp afvalwater | O11: 1 | P11: 0 | Q11: 0 | R11: 0 | T11: Max. debiet: m3/h | U11: Opvoerhoogte: kPa | AX11: 14
L12: 53.16.00 | M12: drukverhogingsinstallatie drinkwater | O12: 1 | P12: 0 | Q12: 0 | R12: 0 | S12: Pompen: stuks | T12: Vermogen (totaal): kW | U12: Opvoerhoogte (max): kPa | AX12: 15
L13: 53.20.20 | M13: pomp verwarmd tapwater | O13: 1 | P13: 0 | Q13: 0 | R13: 0 | S13: Max. debiet: m3/h | T13: Opvoerhoogte: kPa | AX13: 16
L14: 53.21 | M14: tapwater met voorraad | O14: 1 | P14: 0 | Q14: 0 | R14: 0 | T14: Inhoud: L | U14: Vermogen: kW | AX14: 17
L15: 53.22.00 | M15: geiser | O15: 1 | P15: 0 | Q15: 0 | R15: 0 | S15: Vermogen: kW | T15: ontbreekt menu? | AX15: 18
L16: 53.50.10 | M16: waterontharder pekel simplex | O16: 1 | P16: 0 | Q16: 0 | R16: 0 | S16: Max. debiet: m3/h | AX16: 19
L17: 53.60.00 | M17: legionellapreventie | O17: 1 | P17: 0 | Q17: 0 | R17: 0 | T17: Monsterpunten: stuks | U17: Keerkleppen: stuks | AX17: 20
L18: 54.11.00 | M18: aardgas-/menggasvoorziening | O18: 1 | P18: 0 | Q18: 0 | R18: 0 | S18: Leidinglengte: m | T18: Nom. debiet gas: m3/h | U18: Verbruiksaansl.: stuks | AX18: 21
L19: 54.12.00 | M19: butaanvoorziening | O19: 1 | P19: 0 | Q19: 0 | R19: 0 | S19: Leidinglengte: m | T19: Nom. debiet gas: m3/h | U19: Verbruiksaansl.: stuks | AX19: 22
L20: 54.13.00 | M20: propaanvoorziening | O20: 1 | P20: 0 | Q20: 0 | R20: 0 | S20: Leidinglengte: m | T20: Nom. debiet gas: m3/h | U20: Verbruiksaansl.: stuks | AX20: 23
L21: 54.14.00 | M21: LPG-voorziening | O21: 1 | P21: 0 | Q21: 0 | R21: 0 | S21: Leidinglengte: m | T21: Nom. debiet gas: m3/h | U21: Verbruiksaansl.: stuks | AX21: 24
L22: 54.23.00 | M22: compressor perslucht | O22: 1 | P22: 0 | Q22: 0 | R22: 0 | S22: Vermogen: kW | U22: Volume opslagtank: L | V22: Max. debiet: m3/h | W22: Max. leverdruk: bar | AX22: 25
L23: 55.12.10 | M23: splitsysteem koelen (5-50 ton CO2) | O23: 1 | P23: 0 | Q23: 0 | R23: 0 | T23: Koelvermogen (totaal): kW | U23: Verwarmvermogen: kW | W23: Hoeveelheid koudem.: kg | AX23: 26
L24: 55.13.10 | M24: compactsysteem koelen (5-50 ton CO2) | O24: 1 | P24: 0 | Q24: 0 | R24: 0 | T24: Koelvermogen (totaal): kW | V24: Hoeveelheid koudem.: kg | AX24: 27
L25: 55.13.13 | M25: compactsysteem koelen, gekoeld water | O25: 1 | P25: 0 | Q25: 0 | R25: 0 | S25: Koelvermogen (totaal): kW | AX25: 28
L26: 55.14.00 | M26: mobiele koelunit | O26: 1 | P26: 0 | Q26: 0 | R26: 0 | S26: Koelvermogen (totaal): kW | AX26: 29
L27: 55.20.10 | M27: dry cooler | O27: 1 | P27: 0 | Q27: 0 | R27: 0 | S27: Koelvermogen (totaal): kW | T27: Ventilatoren: stuks | AX27: 30
L28: 55.21.10 | M28: koudwateraggregaat (5-50 ton CO2) | O28: 1 | P28: 0 | Q28: 0 | R28: 0 | U28: Koelvermogen (totaal): kW | W28: Hoeveelheid koudem.: kg | AX28: 31
L29: 55.21.13 | M29: Koelcel | O29: 1 | P29: 0 | Q29: 0 | R29: 0 | T29: Koelvermogen (totaal): kW | V29: Hoeveelheid koudem.: kg | W29: Inhoud (netto): m3 | AX29: 32
L30: 55.21.80 | M30: Koeltoren | O30: 1 | P30: 0 | Q30: 0 | R30: 0 | T30: Koelvermogen (totaal): kW | AX30: 33
L31: 55.31.10 | M31: distributieleidingen (koeling) | O31: 1 | P31: 0 | Q31: 0 | R31: 0 | T31: Groepen: stuks | U31: Pompen: stuks | AX31: 34
L32: 55.31.20 | M32: verdeler/verzamelaar (koeling) | O32: 1 | P32: 0 | Q32: 0 | R32: 0 | S32: Groepen: stuks | T32: Pompen: stuks | AX32: 35
L33: 55.81.00 | M33: fancoil/inductie unit (nakoeler) | O33: 1 | P33: 0 | Q33: 0 | R33: 0 | S33: Max. debiet: m3/h | AX33: 36
L34: 56.21.10 | M34: ketel (gas) | O34: 1 | P34: 0 | Q34: 0 | R34: 0 | U34: Vermogen: kW | AX34: 37
L35: 56.29.20 | M35: Warmte- KoudeOpslag | O35: 1 | P35: 0 | Q35: 0 | R35: 0 | T35: Max. debiet: m3/h | U35: Diepte: m | AX35: 38
L36: 56.31.20 | M36: verdeler/verzamelaar (verwarming) | O36: 1 | P36: 0 | Q36: 0 | R36: 0 | S36: Groepen: stuks | T36: Pompen: stuks | AX36: 39
L37: 56.51.10 | M37: tegenstroomapparaat | O37: 1 | P37: 0 | Q37: 0 | R37: 0 | S37: Vermogen: kW | T37: Max. debiet (primair): m3/h | U37: Max. debiet (secundair): m3/h | AX37: 40
L38: 56.81.20 | M38: ventilatorconvector | O38: 1 | P38: 0 | Q38: 0 | R38: 0 | T38: Vermogen: kW | AX38: 41
L39: 56.84.00 | M39: vloer-/wandverwarming | O39: 1 | P39: - | Q39: - | R39: - | T39: Vloeroppervlak: m2 | V39: Aantal naregelingen: stuks | AX39: 42
L40: 56.87.10 | M40: luchtverwarmer, indirect verwarmd | O40: 1 | P40: 0 | Q40: 0 | R40: 0 | S40: ontbreekt menu? | AX40: 43
...

Sheet 2 Opnamesjabloon
D2: Vergeten velden | E2: =SUM(AP2:AY2) -> 506 | AP2: =SUMIF(AQ5:AQ97, 1) -> 92 | AQ2: =SUMIF(AR5:AR97, 1) -> 84 | AR2: =SUMIF(AS5:AS97, 1) -> 84 | AS2: =SUMIF(AT5:AT97, 1) -> 79 | AT2: =SUMIF(AU5:AU97, 1) -> 64 | AU2: =SUMIF(AV5:AV97, 1) -> 53 | AV2: =SUMIF(AW5:AW97, 1) -> 33 | AW2: =SUMIF(AX5:AX97, 1) -> 11 | ... AZ2: =SUMIF(BA5:BA97, 1) -> 1
A4: Index | B4: Duplicaat | C4: Categorie | D4: Omschrijving | E4: NL-SfB | F4: NL-SfB BIM | G4: NLSFB | H4: Aantal | I4: Bouwjaar | J4: Fabricaat | K4: Type | L4: Kenmerkvraag 4 | M4: Kenmerkantwoord 4 | N4: Kenmerkvraag 5 | O4: Kenmerkantwoord 5 | P4: Kenmerkvraag 6 | Q4: Kenmerkantwoord 6 | R4: Kenmerkvraag 7 | S4: Kenmerkantwoord 7 | T4: Kenmerkvraag 8 | U4: Kenmerkantwoord 8 | V4: Kenmerkvraag 9 | W4: Kenmerkantwoord 9 | X4: Kenmerkvraag 10 | Y4: Kenmerkantwoord 10 | Z4: Kenmerkvraag 11 | AA4: Kenmerkantwoord 11 | AB4: Invulinstructie | AC4: Opmerkingen | AD4: IsAssetRegel | AE4: IsRegelActief | AF4: IsIngevuld1 | AG4: IsIngevuld2 | AH4: IsIngevuld3 | AI4: IsIngevuld4 | AJ4: IsIngevuld5 | AK4: IsIngevuld6 | AL4: IsIngevuld7 | AM4: IsIngevuld8 | AN4: IsIngevuld9 | AO4: IsIngevuld10 | AP4: IsIngevuld11 | AQ4: ow1 | AR4: ow2 | AS4: ow3 | AT4: ow4 | AU4: ow5 | AV4: ow6 | AW4: ow7 | AX4: ow8 | AY4: ow9 | AZ4: ow10 | BA4: ow11 | BB4: HeeftKenmerkEenheid4 | BC4: Kenmerkeenheid4 | BD4: Kenmerkomschrijving4 | BE4: Kenmerkzin4 | BF4: HeeftKenmerkEenheid5 | BG4: Kenmerkeenheid5 | BH4: Kenmerkomschrijving5 | BI4: Kenmerkzin5 | BJ4: HeeftKenmerkEenheid6 | BK4: Kenmerkeenheid6 | BL4: Kenmerkomschrijving6 | BM4: Kenmerkzin6 | BN4: HeeftKenmerkEenheid7 | BO4: Kenmerkeenheid7 | BP4: Kenmerkomschrijving7 | BQ4: Kenmerkzin7 | BR4: HeeftKenmerkEenheid8 | BS4: Kenmerkeenheid8 | BT4: Kenmerkomschrijving8 | BU4: Kenmerkzin8 | BV4: HeeftKenmerkEenheid9 | BW4: Kenmerkeenheid9 | BX4: Kenmerkomschrijving9 | BY4: Kenmerkzin9 | BZ4: HeeftKenmerkEenheid10 | CA4: Kenmerkeenheid10 | CB4: Kenmerkomschrijving10 | CC4: Kenmerkzin10 | CD4: HeeftKenmerkEenheid11 | CE4: Kenmerkeenheid11 | CF4: Kenmerkomschrijving11 | CG4: Kenmerkzin11 | CH4: Kenmerkzin12 | CI4: Kenmerkzin13 | CJ4: Kenmerkzin14 | CK4: Kenmerkzin15 | CL4: Kenmerkzin16 | CM4: Kenmerkzin17 | CN4: Kenmerkzin18 | CO4: Kenmerkzin19 | CP4: Kenmerkzin20 | CQ4: Kenmerkzin21 | CR4: Kenmerkzin22 | CS4: Kenmerkzin23 | CT4: Kenmerkzin24 | CU4: Kenmerkzin25
A5: =ROW() -> 5 | B5: 0 | C5: Ramen en deuren | D5: =VLOOKUP(E5,'3 NL-SfB'!C:F,4,0) -> automatische draaideur (buiten) | E5: 31.31.10 | F5: 31.31 | G5: 31.31 | H5: 1 | L5: Aandrijving | N5: Hoogte [m] | P5: Diameter [m] | R5: vluchtweg ja/nee | AD5: =NOT(ISBLANK(OpnameTabel[[#This Row],[Aantal]])) -> TRUE | AE5: =AND(OpnameTabel[[#This Row],[IsAssetRegel]],NOT(ISBLANK(OpnameTabel[[#This Row],[Aantal]]))) -> TRUE | AF5: =IF(AND(OpnameTabel[[#This Row],[IsAssetRegel]],OpnameTabel[[#This Row],[IsRegelActief]]), NOT(ISBLANK(OpnameTabel[[#This Row],[Bouwjaar]])), TRUE) -> FALSE | AG5: =IF(AND(OpnameTabel[[#This Row],[IsAssetRegel]],OpnameTabel[[#This Row],[IsRegelActief]]), NOT(ISBLANK(J5)), TRUE) -> FALSE | AH5: =IF(AND(OpnameTabel[[#This Row],[IsAssetRegel]],OpnameTabel[[#This Row],[IsRegelActief]]), NOT(ISBLANK(K5)), TRUE) -> FALSE | AI5: =IF(AND(OpnameTabel[[#This Row],[IsAssetRegel]],OpnameTabel[[#This Row],[IsRegelActief]], NOT(ISBLANK(OpnameTabel[[#This Row],[Kenmerkvraag 4]]))), NOT(ISBLANK(OpnameTabel[[#This Row],[Kenmerkantwoord 4]])), TRUE) -> FALSE | AJ5: =IF(AND(OpnameTabel[[#This Row],[IsAssetRegel]],OpnameTabel[[#This Row],[IsRegelActief]], NOT(ISBLANK(OpnameTabel[[#This Row],[Kenmerkvraag 5]]))), NOT(ISBLANK(OpnameTabel[[#This Row],[Kenmerkantwoord 5]])), TRUE) -> FALSE | AK5: =IF(AND(OpnameTabel[[#This Row],[IsAssetRegel]],OpnameTabel[[#This Row],[IsRegelActief]], NOT(ISBLANK(OpnameTabel[[#This Row],[Kenmerkvraag 6]]))), NOT(ISBLANK(OpnameTabel[[#This Row],[Kenmerkantwoord 6]])), TRUE) -> FALSE | AL5: =IF(AND(OpnameTabel[[#This Row],[IsAssetRegel]],OpnameTabel[[#This Row],[IsRegelActief]], NOT(ISBLANK(OpnameTabel[[#This Row],[Kenmerkvraag 7]]))), NOT(ISBLANK(OpnameTabel[[#This Row],[Kenmerkantwoord 7]])), TRUE) -> FALSE | AM5: =IF(AND(OpnameTabel[[#This Row],[IsAssetRegel]],OpnameTabel[[#This Row],[IsRegelActief]], NOT(ISBLANK(OpnameTabel[[#This Row],[Kenmerkvraag 8]]))), NOT(ISBLANK(OpnameTabel[[#This Row],[Kenmerkantwoord 8]])), TRUE) -> TRUE | AN5: =IF(AND(OpnameTabel[[#This Row],[IsAssetRegel]],OpnameTabel[[#This Row],[IsRegelActief]], NOT(ISBLANK(OpnameTabel[[#This Row],[Kenmerkvraag 9]]))), NOT(ISBLANK(OpnameTabel[[#This Row],[Kenmerkantwoord 9]])), TRUE) -> TRUE | AO5: =IF(AND(OpnameTabel[[#This Row],[IsAssetRegel]],OpnameTabel[[#This Row],[IsRegelActief]], NOT(ISBLANK(OpnameTabel[[#This Row],[Kenmerkvraag 10]]))), NOT(ISBLANK(OpnameTabel[[#This Row],[Kenmerkantwoord 10]])), TRUE) -> TRUE | AP5: =IF(AND(OpnameTabel[[#This Row],[IsAssetRegel]],OpnameTabel[[#This Row],[IsRegelActief]], NOT(ISBLANK(OpnameTabel[[#This Row],[Kenmerkvraag 11]]))), NOT(ISBLANK(OpnameTabel[[#This Row],[Kenmerkantwoord 11]])), TRUE) -> TRUE | AQ5: =IF(OpnameTabel[[#This Row],[IsIngevuld1]], 0, 1) -> 1 | AR5: =IF(OpnameTabel[[#This Row],[IsIngevuld2]], 0, 1) -> 1 | AS5: =IF(OpnameTabel[[#This Row],[IsIngevuld3]], 0, 1) -> 1 | AT5: =IF(OpnameTabel[[#This Row],[IsIngevuld4]], 0, 1) -> 1 | AU5: =IF(OpnameTabel[[#This Row],[IsIngevuld5]], 0, 1) -> 1 | AV5: =IF(OpnameTabel[[#This Row],[IsIngevuld6]], 0, 1) -> 1 | AW5: =IF(OpnameTabel[[#This Row],[IsIngevuld7]], 0, 1) -> 1 | AX5: =IF(OpnameTabel[[#This Row],[IsIngevuld8]], 0, 1) -> 0 | AY5: =IF(OpnameTabel[[#This Row],[IsIngevuld9]], 0, 1) -> 0 | AZ5: =IF(OpnameTabel[[#This Row],[IsIngevuld10]], 0, 1) -> 0 | BA5: =IF(OpnameTabel[[#This Row],[IsIngevuld11]], 0, 1) -> 0 | BB5: =ISNUMBER(SEARCH("[",OpnameTabel[[#This Row],[Kenmerkvraag 4]])) -> FALSE | BC5: =IF(OpnameTabel[[#This Row],[HeeftKenmerkEenheid4]], MID(LEFT(OpnameTabel[[#This Row],[Kenmerkvraag 4]],FIND("]",OpnameTabel[[#This Row],[Kenmerkvraag 4]])-1),FIND("[",OpnameTabel[[#This Row],[Kenmerkvraag 4]])+1,LEN(OpnameTabel[[#This Row],[Kenmerkvraag 4]])), "") | BD5: =IF(OpnameTabel[[#This Row],[HeeftKenmerkEenheid4]], LEFT(OpnameTabel[[#This Row],[Kenmerkvraag 4]], (FIND(" [",OpnameTabel[[#This Row],[Kenmerkvraag 4]],1)-1)), "") | BE5: =IF(OpnameTabel[[#This Row],[HeeftKenmerkEenheid4]], (OpnameTabel[[#This Row],[Kenmerkomschrijving4]] & ": " & OpnameTabel[[#This Row],[Kenmerkantwoord 4]] & " " &OpnameTabel[[#This Row],[Kenmerkeenheid4]]), IF(ISTEXT(OpnameTabel[[#This Row],[Kenmerkantwoord 4]]), OpnameTabel[[#This Row],[Kenmerkantwoord 4]], "")) | BF5: =ISNUMBER(SEARCH("[",OpnameTabel[[#This Row],[Kenmerkvraag 5]])) -> TRUE | BG5: =IF(OpnameTabel[[#This Row],[HeeftKenmerkEenheid5]], MID(LEFT(OpnameTabel[[#This Row],[Kenmerkvraag 5]],FIND("]",OpnameTabel[[#This Row],[Kenmerkvraag 5]])-1),FIND("[",OpnameTabel[[#This Row],[Kenmerkvraag 5]])+1,LEN(OpnameTabel[[#This Row],[Kenmerkvraag 5]])), "") -> m | BH5: =IF(OpnameTabel[[#This Row],[HeeftKenmerkEenheid5]], LEFT(OpnameTabel[[#This Row],[Kenmerkvraag 5]], (FIND(" [",OpnameTabel[[#This Row],[Kenmerkvraag 5]],1)-1)), "") -> Hoogte | BI5: =IF(OpnameTabel[[#This Row],[HeeftKenmerkEenheid5]], (OpnameTabel[[#This Row],[Kenmerkomschrijving5]] & ": " & OpnameTabel[[#This Row],[Kenmerkantwoord 5]] & " " &OpnameTabel[[#This Row],[Kenmerkeenheid5]]), IF(ISTEXT(OpnameTabel[[#This Row],[Kenmerkantwoord 5]]), OpnameTabel[[#This Row],[Kenmerkantwoord 5]], "")) -> Hoogte: m | BJ5: =ISNUMBER(SEARCH("[",OpnameTabel[[#This Row],[Kenmerkvraag 6]])) -> TRUE | BK5: =IF(OpnameTabel[[#This Row],[HeeftKenmerkEenheid6]], MID(LEFT(OpnameTabel[[#This Row],[Kenmerkvraag 6]],FIND("]",OpnameTabel[[#This Row],[Kenmerkvraag 6]])-1),FIND("[",OpnameTabel[[#This Row],[Kenmerkvraag 6]])+1,LEN(OpnameTabel[[#This Row],[Kenmerkvraag 6]])), "") -> m | BL5: =IF(OpnameTabel[[#This Row],[HeeftKenmerkEenheid6]], LEFT(OpnameTabel[[#This Row],[Kenmerkvraag 6]], (FIND(" [",OpnameTabel[[#This Row],[Kenmerkvraag 6]],1)-1)), "") -> Diameter | BM5: =IF(OpnameTabel[[#This Row],[HeeftKenmerkEenheid6]], (OpnameTabel[[#This Row],[Kenmerkomschrijving6]] & ": " & OpnameTabel[[#This Row],[Kenmerkantwoord 6]] & " " &OpnameTabel[[#This Row],[Kenmerkeenheid6]]), IF(ISTEXT(OpnameTabel[[#This Row],[Kenmerkantwoord 6]]), OpnameTabel[[#This Row],[Kenmerkantwoord 6]], "")) -> Diameter: m | BN5: =ISNUMBER(SEARCH("[",OpnameTabel[[#This Row],[Kenmerkvraag 7]])) -> FALSE | BO5: =IF(OpnameTabel[[#This Row],[HeeftKenmerkEenheid7]], MID(LEFT(OpnameTabel[[#This Row],[Kenmerkvraag 7]],FIND("]",OpnameTabel[[#This Row],[Kenmerkvraag 7]])-1),FIND("[",OpnameTabel[[#This Row],[Kenmerkvraag 7]])+1,LEN(OpnameTabel[[#This Row],[Kenmerkvraag 7]])), "") | BP5: =IF(OpnameTabel[[#This Row],[HeeftKenmerkEenheid7]], LEFT(OpnameTabel[[#This Row],[Kenmerkvraag 7]], (FIND(" [",OpnameTabel[[#This Row],[Kenmerkvraag 7]],1)-1)), "") | BQ5: =IF(OpnameTabel[[#This Row],[HeeftKenmerkEenheid7]], (OpnameTabel[[#This Row],[Kenmerkomschrijving7]] & ": " & OpnameTabel[[#This Row],[Kenmerkantwoord 7]] & " " &OpnameTabel[[#This Row],[Kenmerkeenheid7]]), IF(ISTEXT(OpnameTabel[[#This Row],[Kenmerkantwoord 7]]), OpnameTabel[[#This Row],[Kenmerkantwoord 7]], "")) | BR5: =ISNUMBER(SEARCH("[",OpnameTabel[[#This Row],[Kenmerkvraag 8]])) -> FALSE | BS5: =IF(OpnameTabel[[#This Row],[HeeftKenmerkEenheid8]], MID(LEFT(OpnameTabel[[#This Row],[Kenmerkvraag 8]],FIND("]",OpnameTabel[[#This Row],[Kenmerkvraag 8]])-1),FIND("[",OpnameTabel[[#This Row],[Kenmerkvraag 8]])+1,LEN(OpnameTabel[[#This Row],[Kenmerkvraag 8]])), "") | BT5: =IF(OpnameTabel[[#This Row],[HeeftKenmerkEenheid8]], LEFT(OpnameTabel[[#This Row],[Kenmerkvraag 8]], (FIND(" [",OpnameTabel[[#This Row],[Kenmerkvraag 8]],1)-1)), "") | BU5: =IF(OpnameTabel[[#This Row],[HeeftKenmerkEenheid8]], (OpnameTabel[[#This Row],[Kenmerkomschrijving8]] & ": " & OpnameTabel[[#This Row],[Kenmerkantwoord 8]] & " " &OpnameTabel[[#This Row],[Kenmerkeenheid8]]), IF(ISTEXT(OpnameTabel[[#This Row],[Kenmerkantwoord 8]]), OpnameTabel[[#This Row],[Kenmerkantwoord 8]], "")) | BV5: =ISNUMBER(SEARCH("[",OpnameTabel[[#This Row],[Kenmerkvraag 9]])) -> FALSE | BW5: =IF(OpnameTabel[[#This Row],[HeeftKenmerkEenheid9]], MID(LEFT(OpnameTabel[[#This Row],[Kenmerkvraag 9]],FIND("]",OpnameTabel[[#This Row],[Kenmerkvraag 9]])-1),FIND("[",OpnameTabel[[#This Row],[Kenmerkvraag 9]])+1,LEN(OpnameTabel[[#This Row],[Kenmerkvraag 9]])), "") | BX5: =IF(OpnameTabel[[#This Row],[HeeftKenmerkEenheid9]], LEFT(OpnameTabel[[#This Row],[Kenmerkvraag 9]], (FIND(" [",OpnameTabel[[#This Row],[Kenmerkvraag 9]],1)-1)), "") | BY5: =IF(OpnameTabel[[#This Row],[HeeftKenmerkEenheid9]], (OpnameTabel[[#This Row],[Kenmerkomschrijving9]] & ": " & OpnameTabel[[#This Row],[Kenmerkantwoord 9]] & " " &OpnameTabel[[#This Row],[Kenmerkeenheid9]]), IF(ISTEXT(OpnameTabel[[#This Row],[Kenmerkantwoord 9]]), OpnameTabel[[#This Row],[Kenmerkantwoord 9]], "")) | BZ5: =ISNUMBER(SEARCH("[",OpnameTabel[[#This Row],[Kenmerkvraag 10]])) -> FALSE | CA5: =IF(OpnameTabel[[#This Row],[HeeftKenmerkEenheid10]], MID(LEFT(OpnameTabel[[#This Row],[Kenmerkvraag 10]],FIND("]",OpnameTabel[[#This Row],[Kenmerkvraag 10]])-1),FIND("[",OpnameTabel[[#This Row],[Kenmerkvraag 10]])+1,LEN(OpnameTabel[[#This Row],[Kenmerkvraag 10]])), "") | CB5: =IF(OpnameTabel[[#This Row],[HeeftKenmerkEenheid10]], LEFT(OpnameTabel[[#This Row],[Kenmerkvraag 10]], (FIND(" [",OpnameTabel[[#This Row],[Kenmerkvraag 10]],1)-1)), "") | CC5: =IF(OpnameTabel[[#This Row],[HeeftKenmerkEenheid10]], (OpnameTabel[[#This Row],[Kenmerkomschrijving10]] & ": " & OpnameTabel[[#This Row],[Kenmerkantwoord 10]] & " " &OpnameTabel[[#This Row],[Kenmerkeenheid10]]), IF(ISTEXT(OpnameTabel[[#This Row],[Kenmerkantwoord 10]]), OpnameTabel[[#This Row],[Kenmerkantwoord 10]], "")) | CD5: =ISNUMBER(SEARCH("[",OpnameTabel[[#This Row],[Kenmerkvraag 11]])) -> FALSE | CE5: =IF(OpnameTabel[[#This Row],[HeeftKenmerkEenheid11]], MID(LEFT(OpnameTabel[[#This Row],[Kenmerkvraag 11]],FIND("]",OpnameTabel[[#This Row],[Kenmerkvraag 11]])-1),FIND("[",OpnameTabel[[#This Row],[Kenmerkvraag 11]])+1,LEN(OpnameTabel[[#This Row],[Kenmerkvraag 11]])), "") | CF5: =IF(OpnameTabel[[#This Row],[HeeftKenmerkEenheid11]], LEFT(OpnameTabel[[#This Row],[Kenmerkvraag 11]], (FIND(" [",OpnameTabel[[#This Row],[Kenmerkvraag 11]],1)-1)), "") | CG5: =IF(OpnameTabel[[#This Row],[HeeftKenmerkEenheid11]], (OpnameTabel[[#This Row],[Kenmerkomschrijving11]] & ": " & OpnameTabel[[#This Row],[Kenmerkantwoord 11]] & " " &OpnameTabel[[#This Row],[Kenmerkeenheid11]]), IF(ISTEXT(OpnameTabel[[#This Row],[Kenmerkantwoord 11]]), OpnameTabel[[#This Row],[Kenmerkantwoord 11]], ""))
A6: =ROW() -> 6 | B6: 0 | C6: Ramen en deuren | D6: =VLOOKUP(E6,'3 NL-SfB'!C:F,4,0) -> automatische schuifdeur (buiten) | E6: 31.32.10 | F6: 31.32 | G6: 31.32 | H6: 1 | L6: Aandrijving | N6: Hoogte [m] | P6: Breedte [m] | R6: vluchtweg ja/nee | AD6: =NOT(ISBLANK(OpnameTabel[[#This Row],[Aantal]])) -> TRUE | AE6: =AND(OpnameTabel[[#This Row],[IsAssetRegel]],NOT(ISBLANK(OpnameTabel[[#This Row],[Aantal]]))) -> TRUE | AF6: =IF(AND(OpnameTabel[[#This Row],[IsAssetRegel]],OpnameTabel[[#This Row],[IsRegelActief]]), NOT(ISBLANK(OpnameTabel[[#This Row],[Bouwjaar]])), TRUE) -> FALSE | AG6: =IF(AND(OpnameTabel[[#This Row],[IsAssetRegel]],OpnameTabel[[#This Row],[IsRegelActief]]), NOT(ISBLANK(J6)), TRUE) -> FALSE | AH6: =IF(AND(OpnameTabel[[#This Row],[IsAssetRegel]],OpnameTabel[[#This Row],[IsRegelActief]]), NOT(ISBLANK(K6)), TRUE) -> FALSE | AI6: =IF(AND(OpnameTabel[[#This Row],[IsAssetRegel]],OpnameTabel[[#This Row],[IsRegelActief]], NOT(ISBLANK(OpnameTabel[[#This Row],[Kenmerkvraag 4]]))), NOT(ISBLANK(OpnameTabel[[#This Row],[Kenmerkantwoord 4]])), TRUE) -> FALSE | AJ6: =IF(AND(OpnameTabel[[#This Row],[IsAssetRegel]],OpnameTabel[[#This Row],[IsRegelActief]], NOT(ISBLANK(OpnameTabel[[#This Row],[Kenmerkvraag 5]]))), NOT(ISBLANK(OpnameTabel[[#This Row],[Kenmerkantwoord 5]])), TRUE) -> FALSE | AK6: =IF(AND(OpnameTabel[[#This Row],[IsAssetRegel]],OpnameTabel[[#This Row],[IsRegelActief]], NOT(ISBLANK(OpnameTabel[[#This Row],[Kenmerkvraag 6]]))), NOT(ISBLANK(OpnameTabel[[#This Row],[Kenmerkantwoord 6]])), TRUE) -> FALSE | AL6: =IF(AND(OpnameTabel[[#This Row],[IsAssetRegel]],OpnameTabel[[#This Row],[IsRegelActief]], NOT(ISBLANK(OpnameTabel[[#This Row],[Kenmerkvraag 7]]))), NOT(ISBLANK(OpnameTabel[[#This Row],[Kenmerkantwoord 7]])), TRUE) -> FALSE | AM6: =IF(AND(OpnameTabel[[#This Row],[IsAssetRegel]],OpnameTabel[[#This Row],[IsRegelActief]], NOT(ISBLANK(OpnameTabel[[#This Row],[Kenmerkvraag 8]]))), NOT(ISBLANK(OpnameTabel[[#This Row],[Kenmerkantwoord 8]])), TRUE) -> TRUE | AN6: =IF(AND(OpnameTabel[[#This Row],[IsAssetRegel]],OpnameTabel[[#This Row],[IsRegelActief]], NOT(ISBLANK(OpnameTabel[[#This Row],[Kenmerkvraag 9]]))), NOT(ISBLANK(OpnameTabel[[#This Row],[Kenmerkantwoord 9]])), TRUE) -> TRUE | AO6: =IF(AND(OpnameTabel[[#This Row],[IsAssetRegel]],OpnameTabel[[#This Row],[IsRegelActief]], NOT(ISBLANK(OpnameTabel[[#This Row],[Kenmerkvraag 10]]))), NOT(ISBLANK(OpnameTabel[[#This Row],[Kenmerkantwoord 10]])), TRUE) -> TRUE | AP6: =IF(AND(OpnameTabel[[#This Row],[IsAssetRegel]],OpnameTabel[[#This Row],[IsRegelActief]], NOT(ISBLANK(OpnameTabel[[#This Row],[Kenmerkvraag 11]]))), NOT(ISBLANK(OpnameTabel[[#This Row],[Kenmerkantwoord 11]])), TRUE) -> TRUE | AQ6: =IF(OpnameTabel[[#This Row],[IsIngevuld1]], 0, 1) -> 1 | AR6: =IF(OpnameTabel[[#This Row],[IsIngevuld2]], 0, 1) -> 1 | AS6: =IF(OpnameTabel[[#This Row],[IsIngevuld3]], 0, 1) -> 1 | AT6: =IF(OpnameTabel[[#This Row],[IsIngevuld4]], 0, 1) -> 1 | AU6: =IF(OpnameTabel[[#This Row],[IsIngevuld5]], 0, 1) -> 1 | AV6: =IF(OpnameTabel[[#This Row],[IsIngevuld6]], 0, 1) -> 1 | AW6: =IF(OpnameTabel[[#This Row],[IsIngevuld7]], 0, 1) -> 1 | AX6: =IF(OpnameTabel[[#This Row],[IsIngevuld8]], 0, 1) -> 0 | AY6: =IF(OpnameTabel[[#This Row],[IsIngevuld9]], 0, 1) -> 0 | AZ6: =IF(OpnameTabel[[#This Row],[IsIngevuld10]], 0, 1) -> 0 | BA6: =IF(OpnameTabel[[#This Row],[IsIngevuld11]], 0, 1) -> 0 | BB6: =ISNUMBER(SEARCH("[",OpnameTabel[[#This Row],[Kenmerkvraag 4]])) -> FALSE | BC6: =IF(OpnameTabel[[#This Row],[HeeftKenmerkEenheid4]], MID(LEFT(OpnameTabel[[#This Row],[Kenmerkvraag 4]],FIND("]",OpnameTabel[[#This Row],[Kenmerkvraag 4]])-1),FIND("[",OpnameTabel[[#This Row],[Kenmerkvraag 4]])+1,LEN(OpnameTabel[[#This Row],[Kenmerkvraag 4]])), "") | BD6: =IF(OpnameTabel[[#This Row],[HeeftKenmerkEenheid4]], LEFT(OpnameTabel[[#This Row],[Kenmerkvraag 4]], (FIND(" [",OpnameTabel[[#This Row],[Kenmerkvraag 4]],1)-1)), "") | BE6: =IF(OpnameTabel[[#This Row],[HeeftKenmerkEenheid4]], (OpnameTabel[[#This Row],[Kenmerkomschrijving4]] & ": " & OpnameTabel[[#This Row],[Kenmerkantwoord 4]] & " " &OpnameTabel[[#This Row],[Kenmerkeenheid4]]), IF(ISTEXT(OpnameTabel[[#This Row],[Kenmerkantwoord 4]]), OpnameTabel[[#This Row],[Kenmerkantwoord 4]], "")) | BF6: =ISNUMBER(SEARCH("[",OpnameTabel[[#This Row],[Kenmerkvraag 5]])) -> TRUE | BG6: =IF(OpnameTabel[[#This Row],[HeeftKenmerkEenheid5]], MID(LEFT(OpnameTabel[[#This Row],[Kenmerkvraag 5]],FIND("]",OpnameTabel[[#This Row],[Kenmerkvraag 5]])-1),FIND("[",OpnameTabel[[#This Row],[Kenmerkvraag 5]])+1,LEN(OpnameTabel[[#This Row],[Kenmerkvraag 5]])), "") -> m | BH6: =IF(OpnameTabel[[#This Row],[HeeftKenmerkEenheid5]], LEFT(OpnameTabel[[#This Row],[Kenmerkvraag 5]], (FIND(" [",OpnameTabel[[#This Row],[Kenmerkvraag 5]],1)-1)), "") -> Hoogte | BI6: =IF(OpnameTabel[[#This Row],[HeeftKenmerkEenheid5]], (OpnameTabel[[#This Row],[Kenmerkomschrijving5]] & ": " & OpnameTabel[[#This Row],[Kenmerkantwoord 5]] & " " &OpnameTabel[[#This Row],[Kenmerkeenheid5]]), IF(ISTEXT(OpnameTabel[[#This Row],[Kenmerkantwoord 5]]), OpnameTabel[[#This Row],[Kenmerkantwoord 5]], "")) -> Hoogte: m | BJ6: =ISNUMBER(SEARCH("[",OpnameTabel[[#This Row],[Kenmerkvraag 6]])) -> TRUE | BK6: =IF(OpnameTabel[[#This Row],[HeeftKenmerkEenheid6]], MID(LEFT(OpnameTabel[[#This Row],[Kenmerkvraag 6]],FIND("]",OpnameTabel[[#This Row],[Kenmerkvraag 6]])-1),FIND("[",OpnameTabel[[#This Row],[Kenmerkvraag 6]])+1,LEN(OpnameTabel[[#This Row],[Kenmerkvraag 6]])), "") -> m | BL6: =IF(OpnameTabel[[#This Row],[HeeftKenmerkEenheid6]], LEFT(OpnameTabel[[#This Row],[Kenmerkvraag 6]], (FIND(" [",OpnameTabel[[#This Row],[Kenmerkvraag 6]],1)-1)), "") -> Breedte | BM6: =IF(OpnameTabel[[#This Row],[HeeftKenmerkEenheid6]], (OpnameTabel[[#This Row],[Kenmerkomschrijving6]] & ": " & OpnameTabel[[#This Row],[Kenmerkantwoord 6]] & " " &OpnameTabel[[#This Row],[Kenmerkeenheid6]]), IF(ISTEXT(OpnameTabel[[#This Row],[Kenmerkantwoord 6]]), OpnameTabel[[#This Row],[Kenmerkantwoord 6]], "")) -> Breedte: m | BN6: =ISNUMBER(SEARCH("[",OpnameTabel[[#This Row],[Kenmerkvraag 7]])) -> FALSE | BO6: =IF(OpnameTabel[[#This Row],[HeeftKenmerkEenheid7]], MID(LEFT(OpnameTabel[[#This Row],[Kenmerkvraag 7]],FIND("]",OpnameTabel[[#This Row],[Kenmerkvraag 7]])-1),FIND("[",OpnameTabel[[#This Row],[Kenmerkvraag 7]])+1,LEN(OpnameTabel[[#This Row],[Kenmerkvraag 7]])), "") | BP6: =IF(OpnameTabel[[#This Row],[HeeftKenmerkEenheid7]], LEFT(OpnameTabel[[#This Row],[Kenmerkvraag 7]], (FIND(" [",OpnameTabel[[#This Row],[Kenmerkvraag 7]],1)-1)), "") | BQ6: =IF(OpnameTabel[[#This Row],[HeeftKenmerkEenheid7]], (OpnameTabel[[#This Row],[Kenmerkomschrijving7]] & ": " & OpnameTabel[[#This Row],[Kenmerkantwoord 7]] & " " &OpnameTabel[[#This Row],[Kenmerkeenheid7]]), IF(ISTEXT(OpnameTabel[[#This Row],[Kenmerkantwoord 7]]), OpnameTabel[[#This Row],[Kenmerkantwoord 7]], "")) | BR6: =ISNUMBER(SEARCH("[",OpnameTabel[[#This Row],[Kenmerkvraag 8]])) -> FALSE | BS6: =IF(OpnameTabel[[#This Row],[HeeftKenmerkEenheid8]], MID(LEFT(OpnameTabel[[#This Row],[Kenmerkvraag 8]],FIND("]",OpnameTabel[[#This Row],[Kenmerkvraag 8]])-1),FIND("[",OpnameTabel[[#This Row],[Kenmerkvraag 8]])+1,LEN(OpnameTabel[[#This Row],[Kenmerkvraag 8]])), "") | BT6: =IF(OpnameTabel[[#This Row],[HeeftKenmerkEenheid8]], LEFT(OpnameTabel[[#This Row],[Kenmerkvraag 8]], (FIND(" [",OpnameTabel[[#This Row],[Kenmerkvraag 8]],1)-1)), "") | BU6: =IF(OpnameTabel[[#This Row],[HeeftKenmerkEenheid8]], (OpnameTabel[[#This Row],[Kenmerkomschrijving8]] & ": " & OpnameTabel[[#This Row],[Kenmerkantwoord 8]] & " " &OpnameTabel[[#This Row],[Kenmerkeenheid8]]), IF(ISTEXT(OpnameTabel[[#This Row],[Kenmerkantwoord 8]]), OpnameTabel[[#This Row],[Kenmerkantwoord 8]], "")) | BV6: =ISNUMBER(SEARCH("[",OpnameTabel[[#This Row],[Kenmerkvraag 9]])) -> FALSE | BW6: =IF(OpnameTabel[[#This Row],[HeeftKenmerkEenheid9]], MID(LEFT(OpnameTabel[[#This Row],[Kenmerkvraag 9]],FIND("]",OpnameTabel[[#This Row],[Kenmerkvraag 9]])-1),FIND("[",OpnameTabel[[#This Row],[Kenmerkvraag 9]])+1,LEN(OpnameTabel[[#This Row],[Kenmerkvraag 9]])), "") | BX6: =IF(OpnameTabel[[#This Row],[HeeftKenmerkEenheid9]], LEFT(OpnameTabel[[#This Row],[Kenmerkvraag 9]], (FIND(" [",OpnameTabel[[#This Row],[Kenmerkvraag 9]],1)-1)), "") | BY6: =IF(OpnameTabel[[#This Row],[HeeftKenmerkEenheid9]], (OpnameTabel[[#This Row],[Kenmerkomschrijving9]] & ": " & OpnameTabel[[#This Row],[Kenmerkantwoord 9]] & " " &OpnameTabel[[#This Row],[Kenmerkeenheid9]]), IF(ISTEXT(OpnameTabel[[#This Row],[Kenmerkantwoord 9]]), OpnameTabel[[#This Row],[Kenmerkantwoord 9]], "")) | BZ6: =ISNUMBER(SEARCH("[",OpnameTabel[[#This Row],[Kenmerkvraag 10]])) -> FALSE | CA6: =IF(OpnameTabel[[#This Row],[HeeftKenmerkEenheid10]], MID(LEFT(OpnameTabel[[#This Row],[Kenmerkvraag 10]],FIND("]",OpnameTabel[[#This Row],[Kenmerkvraag 10]])-1),FIND("[",OpnameTabel[[#This Row],[Kenmerkvraag 10]])+1,LEN(OpnameTabel[[#This Row],[Kenmerkvraag 10]])), "") | CB6: =IF(OpnameTabel[[#This Row],[HeeftKenmerkEenheid10]], LEFT(OpnameTabel[[#This Row],[Kenmerkvraag 10]], (FIND(" [",OpnameTabel[[#This Row],[Kenmerkvraag 10]],1)-1)), "") | CC6: =IF(OpnameTabel[[#This Row],[HeeftKenmerkEenheid10]], (OpnameTabel[[#This Row],[Kenmerkomschrijving10]] & ": " & OpnameTabel[[#This Row],[Kenmerkantwoord 10]] & " " &OpnameTabel[[#This Row],[Kenmerkeenheid10]]), IF(ISTEXT(OpnameTabel[[#This Row],[Kenmerkantwoord 10]]), OpnameTabel[[#This Row],[Kenmerkantwoord 10]], "")) | CD6: =ISNUMBER(SEARCH("[",OpnameTabel[[#This Row],[Kenmerkvraag 11]])) -> FALSE | CE6: =IF(OpnameTabel[[#This Row],[HeeftKenmerkEenheid11]], MID(LEFT(OpnameTabel[[#This Row],[Kenmerkvraag 11]],FIND("]",OpnameTabel[[#This Row],[Kenmerkvraag 11]])-1),FIND("[",OpnameTabel[[#This Row],[Kenmerkvraag 11]])+1,LEN(OpnameTabel[[#This Row],[Kenmerkvraag 11]])), "") | CF6: =IF(OpnameTabel[[#This Row],[HeeftKenmerkEenheid11]], LEFT(OpnameTabel[[#This Row],[Kenmerkvraag 11]], (FIND(" [",OpnameTabel[[#This Row],[Kenmerkvraag 11]],1)-1)), "") | CG6: =IF(OpnameTabel[[#This Row],[HeeftKenmerkEenheid11]], (OpnameTabel[[#This Row],[Kenmerkomschrijving11]] & ": " & OpnameTabel[[#This Row],[Kenmerkantwoord 11]] & " " &OpnameTabel[[#This Row],[Kenmerkeenheid11]]), IF(ISTEXT(OpnameTabel[[#This Row],[Kenmerkantwoord 11]]), OpnameTabel[[#This Row],[Kenmerkantwoord 11]], ""))
A7: =ROW() -> 7 | B7: 0 | C7: Ramen en deuren | D7: =VLOOKUP(E7,'3 NL-SfB'!C:F,4,0) -> tourniquet (buiten) | E7: 31.34.00 | F7: 31.34 | G7: 31.34 | H7: 1 | L7: Aandrijving | N7: Hoogte [m] | P7: Breedte [m] | R7: vluchtweg ja/nee | AD7: =NOT(ISBLANK(OpnameTabel[[#This Row],[Aantal]])) -> TRUE | AE7: =AND(OpnameTabel[[#This Row],[IsAssetRegel]],NOT(ISBLANK(OpnameTabel[[#This Row],[Aantal]]))) -> TRUE | AF7: =IF(AND(OpnameTabel[[#This Row],[IsAssetRegel]],OpnameTabel[[#This Row],[IsRegelActief]]), NOT(ISBLANK(OpnameTabel[[#This Row],[Bouwjaar]])), TRUE) -> FALSE | AG7: =IF(AND(OpnameTabel[[#This Row],[IsAssetRegel]],OpnameTabel[[#This Row],[IsRegelActief]]), NOT(ISBLANK(J7)), TRUE) -> FALSE | AH7: =IF(AND(OpnameTabel[[#This Row],[IsAssetRegel]],OpnameTabel[[#This Row],[IsRegelActief]]), NOT(ISBLANK(K7)), TRUE) -> FALSE | AI7: =IF(AND(OpnameTabel[[#This Row],[IsAssetRegel]],OpnameTabel[[#This Row],[IsRegelActief]], NOT(ISBLANK(OpnameTabel[[#This Row],[Kenmerkvraag 4]]))), NOT(ISBLANK(OpnameTabel[[#This Row],[Kenmerkantwoord 4]])), TRUE) -> FALSE | AJ7: =IF(AND(OpnameTabel[[#This Row],[IsAssetRegel]],OpnameTabel[[#This Row],[IsRegelActief]], NOT(ISBLANK(OpnameTabel[[#This Row],[Kenmerkvraag 5]]))), NOT(ISBLANK(OpnameTabel[[#This Row],[Kenmerkantwoord 5]])), TRUE) -> FALSE | AK7: =IF(AND(OpnameTabel[[#This Row],[IsAssetRegel]],OpnameTabel[[#This Row],[IsRegelActief]], NOT(ISBLANK(OpnameTabel[[#This Row],[Kenmerkvraag 6]]))), NOT(ISBLANK(OpnameTabel[[#This Row],[Kenmerkantwoord 6]])), TRUE) -> FALSE | AL7: =IF(AND(OpnameTabel[[#This Row],[IsAssetRegel]],OpnameTabel[[#This Row],[IsRegelActief]], NOT(ISBLANK(OpnameTabel[[#This Row],[Kenmerkvraag 7]]))), NOT(ISBLANK(OpnameTabel[[#This Row],[Kenmerkantwoord 7]])), TRUE) -> FALSE | AM7: =IF(AND(OpnameTabel[[#This Row],[IsAssetRegel]],OpnameTabel[[#This Row],[IsRegelActief]], NOT(ISBLANK(OpnameTabel[[#This Row],[Kenmerkvraag 8]]))), NOT(ISBLANK(OpnameTabel[[#This Row],[Kenmerkantwoord 8]])), TRUE) -> TRUE | AN7: =IF(AND(OpnameTabel[[#This Row],[IsAssetRegel]],OpnameTabel[[#This Row],[IsRegelActief]], NOT(ISBLANK(OpnameTabel[[#This Row],[Kenmerkvraag 9]]))), NOT(ISBLANK(OpnameTabel[[#This Row],[Kenmerkantwoord 9]])), TRUE) -> TRUE | AO7: =IF(AND(OpnameTabel[[#This Row],[IsAssetRegel]],OpnameTabel[[#This Row],[IsRegelActief]], NOT(ISBLANK(OpnameTabel[[#This Row],[Kenmerkvraag 10]]))), NOT(ISBLANK(OpnameTabel[[#This Row],[Kenmerkantwoord 10]])), TRUE) -> TRUE | AP7: =IF(AND(OpnameTabel[[#This Row],[IsAssetRegel]],OpnameTabel[[#This Row],[IsRegelActief]], NOT(ISBLANK(OpnameTabel[[#This Row],[Kenmerkvraag 11]]))), NOT(ISBLANK(OpnameTabel[[#This Row],[Kenmerkantwoord 11]])), TRUE) -> TRUE | AQ7: =IF(OpnameTabel[[#This Row],[IsIngevuld1]], 0, 1) -> 1 | AR7: =IF(OpnameTabel[[#This Row],[IsIngevuld2]], 0, 1) -> 1 | AS7: =IF(OpnameTabel[[#This Row],[IsIngevuld3]], 0, 1) -> 1 | AT7: =IF(OpnameTabel[[#This Row],[IsIngevuld4]], 0, 1) -> 1 | AU7: =IF(OpnameTabel[[#This Row],[IsIngevuld5]], 0, 1) -> 1 | AV7: =IF(OpnameTabel[[#This Row],[IsIngevuld6]], 0, 1) -> 1 | AW7: =IF(OpnameTabel[[#This Row],[IsIngevuld7]], 0, 1) -> 1 | AX7: =IF(OpnameTabel[[#This Row],[IsIngevuld8]], 0, 1) -> 0 | AY7: =IF(OpnameTabel[[#This Row],[IsIngevuld9]], 0, 1) -> 0 | AZ7: =IF(OpnameTabel[[#This Row],[IsIngevuld10]], 0, 1) -> 0 | BA7: =IF(OpnameTabel[[#This Row],[IsIngevuld11]], 0, 1) -> 0 | BB7: =ISNUMBER(SEARCH("[",OpnameTabel[[#This Row],[Kenmerkvraag 4]])) -> FALSE | BC7: =IF(OpnameTabel[[#This Row],[HeeftKenmerkEenheid4]], MID(LEFT(OpnameTabel[[#This Row],[Kenmerkvraag 4]],FIND("]",OpnameTabel[[#This Row],[Kenmerkvraag 4]])-1),FIND("[",OpnameTabel[[#This Row],[Kenmerkvraag 4]])+1,LEN(OpnameTabel[[#This Row],[Kenmerkvraag 4]])), "") | BD7: =IF(OpnameTabel[[#This Row],[HeeftKenmerkEenheid4]], LEFT(OpnameTabel[[#This Row],[Kenmerkvraag 4]], (FIND(" [",OpnameTabel[[#This Row],[Kenmerkvraag 4]],1)-1)), "") | BE7: =IF(OpnameTabel[[#This Row],[HeeftKenmerkEenheid4]], (OpnameTabel[[#This Row],[Kenmerkomschrijving4]] & ": " & OpnameTabel[[#This Row],[Kenmerkantwoord 4]] & " " &OpnameTabel[[#This Row],[Kenmerkeenheid4]]), IF(ISTEXT(OpnameTabel[[#This Row],[Kenmerkantwoord 4]]), OpnameTabel[[#This Row],[Kenmerkantwoord 4]], "")) | BF7: =ISNUMBER(SEARCH("[",OpnameTabel[[#This Row],[Kenmerkvraag 5]])) -> TRUE | BG7: =IF(OpnameTabel[[#This Row],[HeeftKenmerkEenheid5]], MID(LEFT(OpnameTabel[[#This Row],[Kenmerkvraag 5]],FIND("]",OpnameTabel[[#This Row],[Kenmerkvraag 5]])-1),FIND("[",OpnameTabel[[#This Row],[Kenmerkvraag 5]])+1,LEN(OpnameTabel[[#This Row],[Kenmerkvraag 5]])), "") -> m | BH7: =IF(OpnameTabel[[#This Row],[HeeftKenmerkEenheid5]], LEFT(OpnameTabel[[#This Row],[Kenmerkvraag 5]], (FIND(" [",OpnameTabel[[#This Row],[Kenmerkvraag 5]],1)-1)), "") -> Hoogte | BI7: =IF(OpnameTabel[[#This Row],[HeeftKenmerkEenheid5]], (OpnameTabel[[#This Row],[Kenmerkomschrijving5]] & ": " & OpnameTabel[[#This Row],[Kenmerkantwoord 5]] & " " &OpnameTabel[[#This Row],[Kenmerkeenheid5]]), IF(ISTEXT(OpnameTabel[[#This Row],[Kenmerkantwoord 5]]), OpnameTabel[[#This Row],[Kenmerkantwoord 5]], "")) -> Hoogte: m | BJ7: =ISNUMBER(SEARCH("[",OpnameTabel[[#This Row],[Kenmerkvraag 6]])) -> TRUE | BK7: =IF(OpnameTabel[[#This Row],[HeeftKenmerkEenheid6]], MID(LEFT(OpnameTabel[[#This Row],[Kenmerkvraag 6]],FIND("]",OpnameTabel[[#This Row],[Kenmerkvraag 6]])-1),FIND("[",OpnameTabel[[#This Row],[Kenmerkvraag 6]])+1,LEN(OpnameTabel[[#This Row],[Kenmerkvraag 6]])), "") -> m | BL7: =IF(OpnameTabel[[#This Row],[HeeftKenmerkEenheid6]], LEFT(OpnameTabel[[#This Row],[Kenmerkvraag 6]], (FIND(" [",OpnameTabel[[#This Row],[Kenmerkvraag 6]],1)-1)), "") -> Breedte | BM7: =IF(OpnameTabel[[#This Row],[HeeftKenmerkEenheid6]], (OpnameTabel[[#This Row],[Kenmerkomschrijving6]] & ": " & OpnameTabel[[#This Row],[Kenmerkantwoord 6]] & " " &OpnameTabel[[#This Row],[Kenmerkeenheid6]]), IF(ISTEXT(OpnameTabel[[#This Row],[Kenmerkantwoord 6]]), OpnameTabel[[#This Row],[Kenmerkantwoord 6]], "")) -> Breedte: m | BN7: =ISNUMBER(SEARCH("[",OpnameTabel[[#This Row],[Kenmerkvraag 7]])) -> FALSE | BO7: =IF(OpnameTabel[[#This Row],[HeeftKenmerkEenheid7]], MID(LEFT(OpnameTabel[[#This Row],[Kenmerkvraag 7]],FIND("]",OpnameTabel[[#This Row],[Kenmerkvraag 7]])-1),FIND("[",OpnameTabel[[#This Row],[Kenmerkvraag 7]])+1,LEN(OpnameTabel[[#This Row],[Kenmerkvraag 7]])), "") | BP7: =IF(OpnameTabel[[#This Row],[HeeftKenmerkEenheid7]], LEFT(OpnameTabel[[#This Row],[Kenmerkvraag 7]], (FIND(" [",OpnameTabel[[#This Row],[Kenmerkvraag 7]],1)-1)), "") | BQ7: =IF(OpnameTabel[[#This Row],[HeeftKenmerkEenheid7]], (OpnameTabel[[#This Row],[Kenmerkomschrijving7]] & ": " & OpnameTabel[[#This Row],[Kenmerkantwoord 7]] & " " &OpnameTabel[[#This Row],[Kenmerkeenheid7]]), IF(ISTEXT(OpnameTabel[[#This Row],[Kenmerkantwoord 7]]), OpnameTabel[[#This Row],[Kenmerkantwoord 7]], "")) | BR7: =ISNUMBER(SEARCH("[",OpnameTabel[[#This Row],[Kenmerkvraag 8]])) -> FALSE | BS7: =IF(OpnameTabel[[#This Row],[HeeftKenmerkEenheid8]], MID(LEFT(OpnameTabel[[#This Row],[Kenmerkvraag 8]],FIND("]",OpnameTabel[[#This Row],[Kenmerkvraag 8]])-1),FIND("[",OpnameTabel[[#This Row],[Kenmerkvraag 8]])+1,LEN(OpnameTabel[[#This Row],[Kenmerkvraag 8]])), "") | BT7: =IF(OpnameTabel[[#This Row],[HeeftKenmerkEenheid8]], LEFT(OpnameTabel[[#This Row],[Kenmerkvraag 8]], (FIND(" [",OpnameTabel[[#This Row],[Kenmerkvraag 8]],1)-1)), "") | BU7: =IF(OpnameTabel[[#This Row],[HeeftKenmerkEenheid8]], (OpnameTabel[[#This Row],[Kenmerkomschrijving8]] & ": " & OpnameTabel[[#This Row],[Kenmerkantwoord 8]] & " " &OpnameTabel[[#This Row],[Kenmerkeenheid8]]), IF(ISTEXT(OpnameTabel[[#This Row],[Kenmerkantwoord 8]]), OpnameTabel[[#This Row],[Kenmerkantwoord 8]], "")) | BV7: =ISNUMBER(SEARCH("[",OpnameTabel[[#This Row],[Kenmerkvraag 9]])) -> FALSE | BW7: =IF(OpnameTabel[[#This Row],[HeeftKenmerkEenheid9]], MID(LEFT(OpnameTabel[[#This Row],[Kenmerkvraag 9]],FIND("]",OpnameTabel[[#This Row],[Kenmerkvraag 9]])-1),FIND("[",OpnameTabel[[#This Row],[Kenmerkvraag 9]])+1,LEN(OpnameTabel[[#This Row],[Kenmerkvraag 9]])), "") | BX7: =IF(OpnameTabel[[#This Row],[HeeftKenmerkEenheid9]], LEFT(OpnameTabel[[#This Row],[Kenmerkvraag 9]], (FIND(" [",OpnameTabel[[#This Row],[Kenmerkvraag 9]],1)-1)), "") | BY7: =IF(OpnameTabel[[#This Row],[HeeftKenmerkEenheid9]], (OpnameTabel[[#This Row],[Kenmerkomschrijving9]] & ": " & OpnameTabel[[#This Row],[Kenmerkantwoord 9]] & " " &OpnameTabel[[#This Row],[Kenmerkeenheid9]]), IF(ISTEXT(OpnameTabel[[#This Row],[Kenmerkantwoord 9]]), OpnameTabel[[#This Row],[Kenmerkantwoord 9]], "")) | BZ7: =ISNUMBER(SEARCH("[",OpnameTabel[[#This Row],[Kenmerkvraag 10]])) -> FALSE | CA7: =IF(OpnameTabel[[#This Row],[HeeftKenmerkEenheid10]], MID(LEFT(OpnameTabel[[#This Row],[Kenmerkvraag 10]],FIND("]",OpnameTabel[[#This Row],[Kenmerkvraag 10]])-1),FIND("[",OpnameTabel[[#This Row],[Kenmerkvraag 10]])+1,LEN(OpnameTabel[[#This Row],[Kenmerkvraag 10]])), "") | CB7: =IF(OpnameTabel[[#This Row],[HeeftKenmerkEenheid10]], LEFT(OpnameTabel[[#This Row],[Kenmerkvraag 10]], (FIND(" [",OpnameTabel[[#This Row],[Kenmerkvraag 10]],1)-1)), "") | CC7: =IF(OpnameTabel[[#This Row],[HeeftKenmerkEenheid10]], (OpnameTabel[[#This Row],[Kenmerkomschrijving10]] & ": " & OpnameTabel[[#This Row],[Kenmerkantwoord 10]] & " " &OpnameTabel[[#This Row],[Kenmerkeenheid10]]), IF(ISTEXT(OpnameTabel[[#This Row],[Kenmerkantwoord 10]]), OpnameTabel[[#This Row],[Kenmerkantwoord 10]], "")) | CD7: =ISNUMBER(SEARCH("[",OpnameTabel[[#This Row],[Kenmerkvraag 11]])) -> FALSE | CE7: =IF(OpnameTabel[[#This Row],[HeeftKenmerkEenheid11]], MID(LEFT(OpnameTabel[[#This Row],[Kenmerkvraag 11]],FIND("]",OpnameTabel[[#This Row],[Kenmerkvraag 11]])-1),FIND("[",OpnameTabel[[#This Row],[Kenmerkvraag 11]])+1,LEN(OpnameTabel[[#This Row],[Kenmerkvraag 11]])), "") | CF7: =IF(OpnameTabel[[#This Row],[HeeftKenmerkEenheid11]], LEFT(OpnameTabel[[#This Row],[Kenmerkvraag 11]], (FIND(" [",OpnameTabel[[#This Row],[Kenmerkvraag 11]],1)-1)), "") | CG7: =IF(OpnameTabel[[#This Row],[HeeftKenmerkEenheid11]], (OpnameTabel[[#This Row],[Kenmerkomschrijving11]] & ": " & OpnameTabel[[#This Row],[Kenmerkantwoord 11]] & " " &OpnameTabel[[#This Row],[Kenmerkeenheid11]]), IF(ISTEXT(OpnameTabel[[#This Row],[Kenmerkantwoord 11]]), OpnameTabel[[#This Row],[Kenmerkantwoord 11]], ""))
A8: =ROW() -> 8 | B8: 0 | C8: Ramen en deuren | D8: =VLOOKUP(E8,'3 NL-SfB'!C:F,4,0) -> overheaddeur (buiten) | E8: 31.35.00 | F8: n.b./31.33? | H8: 1 | L8: Aandrijving | N8: Hoogte [m] | P8: Breedte [m] | R8: vluchtweg ja/nee | T8: Afstandsbed. [stuks] | AC8: overhead=tuimeldeur? | AD8: =NOT(ISBLANK(OpnameTabel[[#This Row],[Aantal]])) -> TRUE | AE8: =AND(OpnameTabel[[#This Row],[IsAssetRegel]],NOT(ISBLANK(OpnameTabel[[#This Row],[Aantal]]))) -> TRUE | AF8: =IF(AND(OpnameTabel[[#This Row],[IsAssetRegel]],OpnameTabel[[#This Row],[IsRegelActief]]), NOT(ISBLANK(OpnameTabel[[#This Row],[Bouwjaar]])), TRUE) -> FALSE | AG8: =IF(AND(OpnameTabel[[#This Row],[IsAssetRegel]],OpnameTabel[[#This Row],[IsRegelActief]]), NOT(ISBLANK(J8)), TRUE) -> FALSE | AH8: =IF(AND(OpnameTabel[[#This Row],[IsAssetRegel]],OpnameTabel[[#This Row],[IsRegelActief]]), NOT(ISBLANK(K8)), TRUE) -> FALSE | AI8: =IF(AND(OpnameTabel[[#This Row],[IsAssetRegel]],OpnameTabel[[#This Row],[IsRegelActief]], NOT(ISBLANK(OpnameTabel[[#This Row],[Kenmerkvraag 4]]))), NOT(ISBLANK(OpnameTabel[[#This Row],[Kenmerkantwoord 4]])), TRUE) -> FALSE | AJ8: =IF(AND(OpnameTabel[[#This Row],[IsAssetRegel]],OpnameTabel[[#This Row],[IsRegelActief]], NOT(ISBLANK(OpnameTabel[[#This Row],[Kenmerkvraag 5]]))), NOT(ISBLANK(OpnameTabel[[#This Row],[Kenmerkantwoord 5]])), TRUE) -> FALSE | AK8: =IF(AND(OpnameTabel[[#This Row],[IsAssetRegel]],OpnameTabel[[#This Row],[IsRegelActief]], NOT(ISBLANK(OpnameTabel[[#This Row],[Kenmerkvraag 6]]))), NOT(ISBLANK(OpnameTabel[[#This Row],[Kenmerkantwoord 6]])), TRUE) -> FALSE | AL8: =IF(AND(OpnameTabel[[#This Row],[IsAssetRegel]],OpnameTabel[[#This Row],[IsRegelActief]], NOT(ISBLANK(OpnameTabel[[#This Row],[Kenmerkvraag 7]]))), NOT(ISBLANK(OpnameTabel[[#This Row],[Kenmerkantwoord 7]])), TRUE) -> FALSE | AM8: =IF(AND(OpnameTabel[[#This Row],[IsAssetRegel]],OpnameTabel[[#This Row],[IsRegelActief]], NOT(ISBLANK(OpnameTabel[[#This Row],[Kenmerkvraag 8]]))), NOT(ISBLANK(OpnameTabel[[#This Row],[Kenmerkantwoord 8]])), TRUE) -> FALSE | AN8: =IF(AND(OpnameTabel[[#This Row],[IsAssetRegel]],OpnameTabel[[#This Row],[IsRegelActief]], NOT(ISBLANK(OpnameTabel[[#This Row],[Kenmerkvraag 9]]))), NOT(ISBLANK(OpnameTabel[[#This Row],[Kenmerkantwoord 9]])), TRUE) -> TRUE | AO8: =IF(AND(OpnameTabel[[#This Row],[IsAssetRegel]],OpnameTabel[[#This Row],[IsRegelActief]], NOT(ISBLANK(OpnameTabel[[#This Row],[Kenmerkvraag 10]]))), NOT(ISBLANK(OpnameTabel[[#This Row],[Kenmerkantwoord 10]])), TRUE) -> TRUE | AP8: =IF(AND(OpnameTabel[[#This Row],[IsAssetRegel]],OpnameTabel[[#This Row],[IsRegelActief]], NOT(ISBLANK(OpnameTabel[[#This Row],[Kenmerkvraag 11]]))), NOT(ISBLANK(OpnameTabel[[#This Row],[Kenmerkantwoord 11]])), TRUE) -> TRUE | AQ8: =IF(OpnameTabel[[#This Row],[IsIngevuld1]], 0, 1) -> 1 | AR8: =IF(OpnameTabel[[#This Row],[IsIngevuld2]], 0, 1) -> 1 | AS8: =IF(OpnameTabel[[#This Row],[IsIngevuld3]], 0, 1) -> 1 | AT8: =IF(OpnameTabel[[#This Row],[IsIngevuld4]], 0, 1) -> 1 | AU8: =IF(OpnameTabel[[#This Row],[IsIngevuld5]], 0, 1) -> 1 | AV8: =IF(OpnameTabel[[#This Row],[IsIngevuld6]], 0, 1) -> 1 | AW8: =IF(OpnameTabel[[#This Row],[IsIngevuld7]], 0, 1) -> 1 | AX8: =IF(OpnameTabel[[#This Row],[IsIngevuld8]], 0, 1) -> 1 | AY8: =IF(OpnameTabel[[#This Row],[IsIngevuld9]], 0, 1) -> 0 | AZ8: =IF(OpnameTabel[[#This Row],[IsIngevuld10]], 0, 1) -> 0 | BA8: =IF(OpnameTabel[[#This Row],[IsIngevuld11]], 0, 1) -> 0 | BB8: =ISNUMBER(SEARCH("[",OpnameTabel[[#This Row],[Kenmerkvraag 4]])) -> FALSE | BC8: =IF(OpnameTabel[[#This Row],[HeeftKenmerkEenheid4]], MID(LEFT(OpnameTabel[[#This Row],[Kenmerkvraag 4]],FIND("]",OpnameTabel[[#This Row],[Kenmerkvraag 4]])-1),FIND("[",OpnameTabel[[#This Row],[Kenmerkvraag 4]])+1,LEN(OpnameTabel[[#This Row],[Kenmerkvraag 4]])), "") | BD8: =IF(OpnameTabel[[#This Row],[HeeftKenmerkEenheid4]], LEFT(OpnameTabel[[#This Row],[Kenmerkvraag 4]], (FIND(" [",OpnameTabel[[#This Row],[Kenmerkvraag 4]],1)-1)), "") | BE8: =IF(OpnameTabel[[#This Row],[HeeftKenmerkEenheid4]], (OpnameTabel[[#This Row],[Kenmerkomschrijving4]] & ": " & OpnameTabel[[#This Row],[Kenmerkantwoord 4]] & " " &OpnameTabel[[#This Row],[Kenmerkeenheid4]]), IF(ISTEXT(OpnameTabel[[#This Row],[Kenmerkantwoord 4]]), OpnameTabel[[#This Row],[Kenmerkantwoord 4]], "")) | BF8: =ISNUMBER(SEARCH("[",OpnameTabel[[#This Row],[Kenmerkvraag 5]])) -> TRUE | BG8: =IF(OpnameTabel[[#This Row],[HeeftKenmerkEenheid5]], MID(LEFT(OpnameTabel[[#This Row],[Kenmerkvraag 5]],FIND("]",OpnameTabel[[#This Row],[Kenmerkvraag 5]])-1),FIND("[",OpnameTabel[[#This Row],[Kenmerkvraag 5]])+1,LEN(OpnameTabel[[#This Row],[Kenmerkvraag 5]])), "") -> m | BH8: =IF(OpnameTabel[[#This Row],[HeeftKenmerkEenheid5]], LEFT(OpnameTabel[[#This Row],[Kenmerkvraag 5]], (FIND(" [",OpnameTabel[[#This Row],[Kenmerkvraag 5]],1)-1)), "") -> Hoogte | BI8: =IF(OpnameTabel[[#This Row],[HeeftKenmerkEenheid5]], (OpnameTabel[[#This Row],[Kenmerkomschrijving5]] & ": " & OpnameTabel[[#This Row],[Kenmerkantwoord 5]] & " " &OpnameTabel[[#This Row],[Kenmerkeenheid5]]), IF(ISTEXT(OpnameTabel[[#This Row],[Kenmerkantwoord 5]]), OpnameTabel[[#This Row],[Kenmerkantwoord 5]], "")) -> Hoogte: m | BJ8: =ISNUMBER(SEARCH("[",OpnameTabel[[#This Row],[Kenmerkvraag 6]])) -> TRUE | BK8: =IF(OpnameTabel[[#This Row],[HeeftKenmerkEenheid6]], MID(LEFT(OpnameTabel[[#This Row],[Kenmerkvraag 6]],FIND("]",OpnameTabel[[#This Row],[Kenmerkvraag 6]])-1),FIND("[",OpnameTabel[[#This Row],[Kenmerkvraag 6]])+1,LEN(OpnameTabel[[#This Row],[Kenmerkvraag 6]])), "") -> m | BL8: =IF(OpnameTabel[[#This Row],[HeeftKenmerkEenheid6]], LEFT(OpnameTabel[[#This Row],[Kenmerkvraag 6]], (FIND(" [",OpnameTabel[[#This Row],[Kenmerkvraag 6]],1)-1)), "") -> Breedte | BM8: =IF(OpnameTabel[[#This Row],[HeeftKenmerkEenheid6]], (OpnameTabel[[#This Row],[Kenmerkomschrijving6]] & ": " & OpnameTabel[[#This Row],[Kenmerkantwoord 6]] & " " &OpnameTabel[[#This Row],[Kenmerkeenheid6]]), IF(ISTEXT(OpnameTabel[[#This Row],[Kenmerkantwoord 6]]), OpnameTabel[[#This Row],[Kenmerkantwoord 6]], "")) -> Breedte: m | BN8: =ISNUMBER(SEARCH("[",OpnameTabel[[#This Row],[Kenmerkvraag 7]])) -> FALSE | BO8: =IF(OpnameTabel[[#This Row],[HeeftKenmerkEenheid7]], MID(LEFT(OpnameTabel[[#This Row],[Kenmerkvraag 7]],FIND("]",OpnameTabel[[#This Row],[Kenmerkvraag 7]])-1),FIND("[",OpnameTabel[[#This Row],[Kenmerkvraag 7]])+1,LEN(OpnameTabel[[#This Row],[Kenmerkvraag 7]])), "") | BP8: =IF(OpnameTabel[[#This Row],[HeeftKenmerkEenheid7]], LEFT(OpnameTabel[[#This Row],[Kenmerkvraag 7]], (FIND(" [",OpnameTabel[[#This Row],[Kenmerkvraag 7]],1)-1)), "") | BQ8: =IF(OpnameTabel[[#This Row],[HeeftKenmerkEenheid7]], (OpnameTabel[[#This Row],[Kenmerkomschrijving7]] & ": " & OpnameTabel[[#This Row],[Kenmerkantwoord 7]] & " " &OpnameTabel[[#This Row],[Kenmerkeenheid7]]), IF(ISTEXT(OpnameTabel[[#This Row],[Kenmerkantwoord 7]]), OpnameTabel[[#This Row],[Kenmerkantwoord 7]], "")) | BR8: =ISNUMBER(SEARCH("[",OpnameTabel[[#This Row],[Kenmerkvraag 8]])) -> TRUE | BS8: =IF(OpnameTabel[[#This Row],[HeeftKenmerkEenheid8]], MID(LEFT(OpnameTabel[[#This Row],[Kenmerkvraag 8]],FIND("]",OpnameTabel[[#This Row],[Kenmerkvraag 8]])-1),FIND("[",OpnameTabel[[#This Row],[Kenmerkvraag 8]])+1,LEN(OpnameTabel[[#This Row],[Kenmerkvraag 8]])), "") -> stuks | BT8: =IF(OpnameTabel[[#This Row],[HeeftKenmerkEenheid8]], LEFT(OpnameTabel[[#This Row],[Kenmerkvraag 8]], (FIND(" [",OpnameTabel[[#This Row],[Kenmerkvraag 8]],1)-1)), "") -> Afstandsbed. | BU8: =IF(OpnameTabel[[#This Row],[HeeftKenmerkEenheid8]], (OpnameTabel[[#This Row],[Kenmerkomschrijving8]] & ": " & OpnameTabel[[#This Row],[Kenmerkantwoord 8]] & " " &OpnameTabel[[#This Row],[Kenmerkeenheid8]]), IF(ISTEXT(OpnameTabel[[#This Row],[Kenmerkantwoord 8]]), OpnameTabel[[#This Row],[Kenmerkantwoord 8]], "")) -> Afstandsbed.: stuks | BV8: =ISNUMBER(SEARCH("[",OpnameTabel[[#This Row],[Kenmerkvraag 9]])) -> FALSE | BW8: =IF(OpnameTabel[[#This Row],[HeeftKenmerkEenheid9]], MID(LEFT(OpnameTabel[[#This Row],[Kenmerkvraag 9]],FIND("]",OpnameTabel[[#This Row],[Kenmerkvraag 9]])-1),FIND("[",OpnameTabel[[#This Row],[Kenmerkvraag 9]])+1,LEN(OpnameTabel[[#This Row],[Kenmerkvraag 9]])), "") | BX8: =IF(OpnameTabel[[#This Row],[HeeftKenmerkEenheid9]], LEFT(OpnameTabel[[#This Row],[Kenmerkvraag 9]], (FIND(" [",OpnameTabel[[#This Row],[Kenmerkvraag 9]],1)-1)), "") | BY8: =IF(OpnameTabel[[#This Row],[HeeftKenmerkEenheid9]], (OpnameTabel[[#This Row],[Kenmerkomschrijving9]] & ": " & OpnameTabel[[#This Row],[Kenmerkantwoord 9]] & " " &OpnameTabel[[#This Row],[Kenmerkeenheid9]]), IF(ISTEXT(OpnameTabel[[#This Row],[Kenmerkantwoord 9]]), OpnameTabel[[#This Row],[Kenmerkantwoord 9]], "")) | BZ8: =ISNUMBER(SEARCH("[",OpnameTabel[[#This Row],[Kenmerkvraag 10]])) -> FALSE | CA8: =IF(OpnameTabel[[#This Row],[HeeftKenmerkEenheid10]], MID(LEFT(OpnameTabel[[#This Row],[Kenmerkvraag 10]],FIND("]",OpnameTabel[[#This Row],[Kenmerkvraag 10]])-1),FIND("[",OpnameTabel[[#This Row],[Kenmerkvraag 10]])+1,LEN(OpnameTabel[[#This Row],[Kenmerkvraag 10]])), "") | CB8: =IF(OpnameTabel[[#This Row],[HeeftKenmerkEenheid10]], LEFT(OpnameTabel[[#This Row],[Kenmerkvraag 10]], (FIND(" [",OpnameTabel[[#This Row],[Kenmerkvraag 10]],1)-1)), "") | CC8: =IF(OpnameTabel[[#This Row],[HeeftKenmerkEenheid10]], (OpnameTabel[[#This Row],[Kenmerkomschrijving10]] & ": " & OpnameTabel[[#This Row],[Kenmerkantwoord 10]] & " " &OpnameTabel[[#This Row],[Kenmerkeenheid10]]), IF(ISTEXT(OpnameTabel[[#This Row],[Kenmerkantwoord 10]]), OpnameTabel[[#This Row],[Kenmerkantwoord 10]], "")) | CD8: =ISNUMBER(SEARCH("[",OpnameTabel[[#This Row],[Kenmerkvraag 11]])) -> FALSE | CE8: =IF(OpnameTabel[[#This Row],[HeeftKenmerkEenheid11]], MID(LEFT(OpnameTabel[[#This Row],[Kenmerkvraag 11]],FIND("]",OpnameTabel[[#This Row],[Kenmerkvraag 11]])-1),FIND("[",OpnameTabel[[#This Row],[Kenmerkvraag 11]])+1,LEN(OpnameTabel[[#This Row],[Kenmerkvraag 11]])), "") | CF8: =IF(OpnameTabel[[#This Row],[HeeftKenmerkEenheid11]], LEFT(OpnameTabel[[#This Row],[Kenmerkvraag 11]], (FIND(" [",OpnameTabel[[#This Row],[Kenmerkvraag 11]],1)-1)), "") | CG8: =IF(OpnameTabel[[#This Row],[HeeftKenmerkEenheid11]], (OpnameTabel[[#This Row],[Kenmerkomschrijving11]] & ": " & OpnameTabel[[#This Row],[Kenmerkantwoord 11]] & " " &OpnameTabel[[#This Row],[Kenmerkeenheid11]]), IF(ISTEXT(OpnameTabel[[#This Row],[Kenmerkantwoord 11]]), OpnameTabel[[#This Row],[Kenmerkantwoord 11]], ""))
