Workbook

Sheet Inventarislijst
A1: Bijlage I Standaardformulier Inventarislijst met prijzen en frequentie activiteiten per asset
A2: Project: | B2: Onderhoud gebouwgebonden installaties | Z2: Totaal Proactief preventief onderhoud | AF2: =SUM(Tabel1[Totaal]) -> 0
A3: Betreft: | B3: Invulformulier deelprijzen per activiteit per asset. De totaalprijs wordt gehanteerd om de Inschrijfprijs te bepalen. Aan de Inschrijfprijs en gehanteerde rekenwaarden kunnen geen rechten worden ontleend.
A4: Locatie | B4: Adres | C4: Plaats | D4: Oppervlak (m2 BVO) | E4: NLSfB | F4: Omschrijving | G4: Korte omschrijving | H4: Groep | I4: Aantal | J4: Bouwjaar | K4: Fabrikaat | L4: Type | M4: Kenmerk 1 | N4: Kenmerk 2 | O4: Kenmerk 3 | P4: Kenmerk 4 | Q4: Kenmerk 5 | R4: Kenmerk 6 | S4: Kenmerk 7 | T4: hulpkolom | U4: PPO code 1 | V4: Frequentie 1 | W4: Prijs 1 | X4: PPO code 2 | Y4: Frequentie 2 | Z4: Prijs 2 | AA4: PPO code 3 | AB4: Frequentie 3 | AC4: Prijs 3 | AD4: PPO code 4 | AE4: Frequentie 4 | AF4: Prijs 4 | AG4: Totaal 1 | AH4: Totaal 2 | AI4: Totaal 3 | AJ4: Totaal 4 | AK4: Totaal
A5: Brandweer | B5: Verlengde parklaan 36 | C5: Hattem | D5: 788 m2 | E5: 31.35.00 | F5: buitenwandopeningen; gevuld met deuren, overheaddeur (rol/sectionale) | G5: =VLOOKUP(Tabel1[[#This Row],[NLSfB]],NLSfB!A:D,4,1) -> overheaddeur (buiten) | H5: toegang | I5: 3 | J5: 2009 | K5: Hormann | L5: B 460FU | M5: elektrische bediening | N5: 4 m (h) | O5: 3,5 m (b) | P5: onbekend aantal afstandsbedieningen | Q5: 0 | R5: 0 | S5: 0 | T5: =_xlfn.XMATCH(E5,'NLSfb - PPO'!$B$2:$B$205,0)+1 -> 122 | U5: {=IF(ISNUMBER(Tabel1[[#This Row],[hulpkolom]]),INDIRECT("'NLSfB - PPO'!D"&$T5),"n.v.t.")} -> TG050-A | V5: {=IF(ISNUMBER(Tabel1[[#This Row],[hulpkolom]]),INDIRECT("'NLSfB - PPO'!E"&$T5),"-")} -> 1 | X5: {=IF(ISNUMBER(Tabel1[[#This Row],[hulpkolom]]),INDIRECT("'NLSfB - PPO'!G"&$T5),"-")} -> - | Y5: {=IF(ISNUMBER(Tabel1[[#This Row],[hulpkolom]]),INDIRECT("'NLSfB - PPO'!H"&$T5),"-")} -> - | AA5: {=IF(ISNUMBER(Tabel1[[#This Row],[hulpkolom]]),INDIRECT("'NLSfB - PPO'!J"&$T5),"-")} -> - | AB5: {=IF(ISNUMBER(Tabel1[[#This Row],[hulpkolom]]),INDIRECT("'NLSfB - PPO'!K"&$T5),"-")} -> - | AD5: {=IF(ISNUMBER(Tabel1[[#This Row],[hulpkolom]]),INDIRECT("'NLSfB - PPO'!M"&$T5),"-")} -> - | AE5: {=IF(ISNUMBER(Tabel1[[#This Row],[hulpkolom]]),INDIRECT("'NLSfB - PPO'!L"&$T5),"-")} -> - | AG5: =IF(ISNUMBER(Tabel1[[#This Row],[Frequentie 1]]),Tabel1[[#This Row],[Frequentie 1]]*Tabel1[[#This Row],[Prijs 1]],0) -> 0 | AH5: =IF(ISNUMBER(Tabel1[[#This Row],[Frequentie 2]]),Tabel1[[#This Row],[Frequentie 2]]*Tabel1[[#This Row],[Prijs 2]],0) -> 0 | AI5: =IF(ISNUMBER(Tabel1[[#This Row],[Frequentie 3]]),Tabel1[[#This Row],[Frequentie 3]]*Tabel1[[#This Row],[Prijs 3]],0) -> 0 | AJ5: =IF(ISNUMBER(Tabel1[[#This Row],[Frequentie 4]]),Tabel1[[#This Row],[Frequentie 4]]*Tabel1[[#This Row],[Prijs 4]],0) -> 0 | AK5: =SUM(Tabel1[[#This Row],[Totaal 1]:[Totaal 4]]) -> 0
A6: Brandweer | B6: Verlengde parklaan 36 | C6: Hattem | D6: 788 m2 | E6: 52.21.10 | F6: afvoeren; fecaliën, standaardsysteem; leidingen afvoer | G6: =VLOOKUP(Tabel1[[#This Row],[NLSfB]],NLSfB!A:D,4,1) -> afvoerleidingen fecaliën | H6: water | I6: 1 | J6: 2009 | K6: 0 | L6: 0 | M6: kunststof | N6: 0 | O6: 0 | P6: 0 | Q6: 0 | R6: 0 | S6: 0 | T6: =_xlfn.XMATCH(E6,'NLSfb - PPO'!$B$2:$B$205,0)+1 -> 200 | U6: {=IF(ISNUMBER(Tabel1[[#This Row],[hulpkolom]]),INDIRECT("'NLSfB - PPO'!D"&$T6),"n.v.t.")} -> WTR190-A | V6: {=IF(ISNUMBER(Tabel1[[#This Row],[hulpkolom]]),INDIRECT("'NLSfB - PPO'!E"&$T6),"-")} -> 1 | X6: {=IF(ISNUMBER(Tabel1[[#This Row],[hulpkolom]]),INDIRECT("'NLSfB - PPO'!G"&$T6),"-")} -> - | Y6: {=IF(ISNUMBER(Tabel1[[#This Row],[hulpkolom]]),INDIRECT("'NLSfB - PPO'!H"&$T6),"-")} -> - | AA6: {=IF(ISNUMBER(Tabel1[[#This Row],[hulpkolom]]),INDIRECT("'NLSfB - PPO'!J"&$T6),"-")} -> - | AB6: {=IF(ISNUMBER(Tabel1[[#This Row],[hulpkolom]]),INDIRECT("'NLSfB - PPO'!K"&$T6),"-")} -> - | AD6: {=IF(ISNUMBER(Tabel1[[#This Row],[hulpkolom]]),INDIRECT("'NLSfB - PPO'!M"&$T6),"-")} -> - | AE6: {=IF(ISNUMBER(Tabel1[[#This Row],[hulpkolom]]),INDIRECT("'NLSfB - PPO'!L"&$T6),"-")} -> - | AG6: =IF(ISNUMBER(Tabel1[[#This Row],[Frequentie 1]]),Tabel1[[#This Row],[Frequentie 1]]*Tabel1[[#This Row],[Prijs 1]],0) -> 0 | AH6: =IF(ISNUMBER(Tabel1[[#This Row],[Frequentie 2]]),Tabel1[[#This Row],[Frequentie 2]]*Tabel1[[#This Row],[Prijs 2]],0) -> 0 | AI6: =IF(ISNUMBER(Tabel1[[#This Row],[Frequentie 3]]),Tabel1[[#This Row],[Frequentie 3]]*Tabel1[[#This Row],[Prijs 3]],0) -> 0 | AJ6: =IF(ISNUMBER(Tabel1[[#This Row],[Frequentie 4]]),Tabel1[[#This Row],[Frequentie 4]]*Tabel1[[#This Row],[Prijs 4]],0) -> 0 | AK6: =SUM(Tabel1[[#This Row],[Totaal 1]:[Totaal 4]]) -> 0
A7: Brandweer | B7: Verlengde parklaan 36 | C7: Hattem | D7: 788 m2 | E7: 53.60.00 | F7: water; legionellapreventie, algemeen (verzamelniveau) | G7: =VLOOKUP(Tabel1[[#This Row],[NLSfB]],NLSfB!A:D,4,1) -> legionellapreventie | H7: water | I7: 1 | J7: 0 | K7: 0 | L7: 0 | M7: beheersplan niet aanwezig | N7: monsterpunten | O7: keerkleppen | P7: 0 | Q7: 0 | R7: 0 | S7: 0 | T7: =_xlfn.XMATCH(E7,'NLSfb - PPO'!$B$2:$B$205,0)+1 -> 177 | U7: {=IF(ISNUMBER(Tabel1[[#This Row],[hulpkolom]]),INDIRECT("'NLSfB - PPO'!D"&$T7),"n.v.t.")} -> WTR050-A1 | V7: {=IF(ISNUMBER(Tabel1[[#This Row],[hulpkolom]]),INDIRECT("'NLSfB - PPO'!E"&$T7),"-")} -> Conform beheersplan | X7: {=IF(ISNUMBER(Tabel1[[#This Row],[hulpkolom]]),INDIRECT("'NLSfB - PPO'!G"&$T7),"-")} -> WTR050-A2 | Y7: {=IF(ISNUMBER(Tabel1[[#This Row],[hulpkolom]]),INDIRECT("'NLSfB - PPO'!H"&$T7),"-")} -> 2 | AA7: {=IF(ISNUMBER(Tabel1[[#This Row],[hulpkolom]]),INDIRECT("'NLSfB - PPO'!J"&$T7),"-")} -> - | AB7: {=IF(ISNUMBER(Tabel1[[#This Row],[hulpkolom]]),INDIRECT("'NLSfB - PPO'!K"&$T7),"-")} -> - | AD7: {=IF(ISNUMBER(Tabel1[[#This Row],[hulpkolom]]),INDIRECT("'NLSfB - PPO'!M"&$T7),"-")} -> - | AE7: {=IF(ISNUMBER(Tabel1[[#This Row],[hulpkolom]]),INDIRECT("'NLSfB - PPO'!L"&$T7),"-")} -> - | AG7: =IF(ISNUMBER(Tabel1[[#This Row],[Frequentie 1]]),Tabel1[[#This Row],[Frequentie 1]]*Tabel1[[#This Row],[Prijs 1]],0) -> 0 | AH7: =IF(ISNUMBER(Tabel1[[#This Row],[Frequentie 2]]),Tabel1[[#This Row],[Frequentie 2]]*Tabel1[[#This Row],[Prijs 2]],0) -> 0 | AI7: =IF(ISNUMBER(Tabel1[[#This Row],[Frequentie 3]]),Tabel1[[#This Row],[Frequentie 3]]*Tabel1[[#This Row],[Prijs 3]],0) -> 0 | AJ7: =IF(ISNUMBER(Tabel1[[#This Row],[Frequentie 4]]),Tabel1[[#This Row],[Frequentie 4]]*Tabel1[[#This Row],[Prijs 4]],0) -> 0 | AK7: =SUM(Tabel1[[#This Row],[Totaal 1]:[Totaal 4]]) -> 0
A8: Brandweer | B8: Verlengde parklaan 36 | C8: Hattem | D8: 788 m2 | E8: 54.11.00 | F8: gassen; brandstof, aardgasvoorziening / menggasvoorziening | G8: =VLOOKUP(Tabel1[[#This Row],[NLSfB]],NLSfB!A:D,4,1) -> aardgas-/menggasvoorziening | H8: gas | I8: 1 | J8: 2009 | K8: 0 | L8: 0 | M8: Gasmeter G4 | N8: 0 | O8: 0 | P8: 0 | Q8: 0 | R8: 0 | S8: 0 | T8: =_xlfn.XMATCH(E8,'NLSfb - PPO'!$B$2:$B$205,0)+1 -> 33 | U8: {=IF(ISNUMBER(Tabel1[[#This Row],[hulpkolom]]),INDIRECT("'NLSfB - PPO'!D"&$T8),"n.v.t.")} -> GAL010-A | V8: {=IF(ISNUMBER(Tabel1[[#This Row],[hulpkolom]]),INDIRECT("'NLSfB - PPO'!E"&$T8),"-")} -> 1 | X8: {=IF(ISNUMBER(Tabel1[[#This Row],[hulpkolom]]),INDIRECT("'NLSfB - PPO'!G"&$T8),"-")} -> GAL010-K | Y8: {=IF(ISNUMBER(Tabel1[[#This Row],[hulpkolom]]),INDIRECT("'NLSfB - PPO'!H"&$T8),"-")} -> 0.25 | AA8: {=IF(ISNUMBER(Tabel1[[#This Row],[hulpkolom]]),INDIRECT("'NLSfB - PPO'!J"&$T8),"-")} -> - | AB8: {=IF(ISNUMBER(Tabel1[[#This Row],[hulpkolom]]),INDIRECT("'NLSfB - PPO'!K"&$T8),"-")} -> - | AD8: {=IF(ISNUMBER(Tabel1[[#This Row],[hulpkolom]]),INDIRECT("'NLSfB - PPO'!M"&$T8),"-")} -> - | AE8: {=IF(ISNUMBER(Tabel1[[#This Row],[hulpkolom]]),INDIRECT("'NLSfB - PPO'!L"&$T8),"-")} -> - | AG8: =IF(ISNUMBER(Tabel1[[#This Row],[Frequentie 1]]),Tabel1[[#This Row],[Frequentie 1]]*Tabel1[[#This Row],[Prijs 1]],0) -> 0 | AH8: =IF(ISNUMBER(Tabel1[[#This Row],[Frequentie 2]]),Tabel1[[#This Row],[Frequentie 2]]*Tabel1[[#This Row],[Prijs 2]],0) -> 0 | AI8: =IF(ISNUMBER(Tabel1[[#This Row],[Frequentie 3]]),Tabel1[[#This Row],[Frequentie 3]]*Tabel1[[#This Row],[Prijs 3]],0) -> 0 | AJ8: =IF(ISNUMBER(Tabel1[[#This Row],[Frequentie 4]]),Tabel1[[#This Row],[Frequentie 4]]*Tabel1[[#This Row],[Prijs 4]],0) -> 0 | AK8: =SUM(Tabel1[[#This Row],[Totaal 1]:[Totaal 4]]) -> 0
A9: Brandweer | B9: Verlengde parklaan 36 | C9: Hattem | D9: 788 m2 | E9: 54.23.00 | F9: gassen; perslucht, compressor | G9: =VLOOKUP(Tabel1[[#This Row],[NLSfB]],NLSfB!A:D,4,1) -> compressor perslucht | H9: gas | I9: 1 | J9: 2009 | K9: 0 | L9: LW230 ES | M9: 5,5 kW | N9: 0 | O9: L | P9: l/min | Q9: bar | R9: 0 | S9: 0 | T9: =_xlfn.XMATCH(E9,'NLSfb - PPO'!$B$2:$B$205,0)+1 -> 98 | U9: {=IF(ISNUMBER(Tabel1[[#This Row],[hulpkolom]]),INDIRECT("'NLSfB - PPO'!D"&$T9),"n.v.t.")} -> PERS010-A | V9: {=IF(ISNUMBER(Tabel1[[#This Row],[hulpkolom]]),INDIRECT("'NLSfB - PPO'!E"&$T9),"-")} -> 1 | X9: {=IF(ISNUMBER(Tabel1[[#This Row],[hulpkolom]]),INDIRECT("'NLSfB - PPO'!G"&$T9),"-")} -> - | Y9: {=IF(ISNUMBER(Tabel1[[#This Row],[hulpkolom]]),INDIRECT("'NLSfB - PPO'!H"&$T9),"-")} -> - | AA9: {=IF(ISNUMBER(Tabel1[[#This Row],[hulpkolom]]),INDIRECT("'NLSfB - PPO'!J"&$T9),"-")} -> - | AB9: {=IF(ISNUMBER(Tabel1[[#This Row],[hulpkolom]]),INDIRECT("'NLSfB - PPO'!K"&$T9),"-")} -> - | AD9: {=IF(ISNUMBER(Tabel1[[#This Row],[hulpkolom]]),INDIRECT("'NLSfB - PPO'!M"&$T9),"-")} -> - | AE9: {=IF(ISNUMBER(Tabel1[[#This Row],[hulpkolom]]),INDIRECT("'NLSfB - PPO'!L"&$T9),"-")} -> - | AG9: =IF(ISNUMBER(Tabel1[[#This Row],[Frequentie 1]]),Tabel1[[#This Row],[Frequentie 1]]*Tabel1[[#This Row],[Prijs 1]],0) -> 0 | AH9: =IF(ISNUMBER(Tabel1[[#This Row],[Frequentie 2]]),Tabel1[[#This Row],[Frequentie 2]]*Tabel1[[#This Row],[Prijs 2]],0) -> 0 | AI9: =IF(ISNUMBER(Tabel1[[#This Row],[Frequentie 3]]),Tabel1[[#This Row],[Frequentie 3]]*Tabel1[[#This Row],[Prijs 3]],0) -> 0 | AJ9: =IF(ISNUMBER(Tabel1[[#This Row],[Frequentie 4]]),Tabel1[[#This Row],[Frequentie 4]]*Tabel1[[#This Row],[Prijs 4]],0) -> 0 | AK9: =SUM(Tabel1[[#This Row],[Totaal 1]:[Totaal 4]]) -> 0
A10: Brandweer | B10: Verlengde parklaan 36 | C10: Hattem | D10: 788 m2 | E10: 54.23.00 | F10: gassen; perslucht, compressor | G10: =VLOOKUP(Tabel1[[#This Row],[NLSfB]],NLSfB!A:D,4,1) -> compressor perslucht | H10: gas | I10: 1 | J10: 2009 | K10: 0 | L10: ESC 514/270 | M10: 3 kW | N10: 0 | O10: 270 L | P10: l/min | Q10: bar | R10: 0 | S10: 0 | T10: =_xlfn.XMATCH(E10,'NLSfb - PPO'!$B$2:$B$205,0)+1 -> 98 | U10: {=IF(ISNUMBER(Tabel1[[#This Row],[hulpkolom]]),INDIRECT("'NLSfB - PPO'!D"&$T10),"n.v.t.")} -> PERS010-A | V10: {=IF(ISNUMBER(Tabel1[[#This Row],[hulpkolom]]),INDIRECT("'NLSfB - PPO'!E"&$T10),"-")} -> 1 | X10: {=IF(ISNUMBER(Tabel1[[#This Row],[hulpkolom]]),INDIRECT("'NLSfB - PPO'!G"&$T10),"-")} -> - | Y10: {=IF(ISNUMBER(Tabel1[[#This Row],[hulpkolom]]),INDIRECT("'NLSfB - PPO'!H"&$T10),"-")} -> - | AA10: {=IF(ISNUMBER(Tabel1[[#This Row],[hulpkolom]]),INDIRECT("'NLSfB - PPO'!J"&$T10),"-")} -> - | AB10: {=IF(ISNUMBER(Tabel1[[#This Row],[hulpkolom]]),INDIRECT("'NLSfB - PPO'!K"&$T10),"-")} -> - | AD10: {=IF(ISNUMBER(Tabel1[[#This Row],[hulpkolom]]),INDIRECT("'NLSfB - PPO'!M"&$T10),"-")} -> - | AE10: {=IF(ISNUMBER(Tabel1[[#This Row],[hulpkolom]]),INDIRECT("'NLSfB - PPO'!L"&$T10),"-")} -> - | AG10: =IF(ISNUMBER(Tabel1[[#This Row],[Frequentie 1]]),Tabel1[[#This Row],[Frequentie 1]]*Tabel1[[#This Row],[Prijs 1]],0) -> 0 | AH10: =IF(ISNUMBER(Tabel1[[#This Row],[Frequentie 2]]),Tabel1[[#This Row],[Frequentie 2]]*Tabel1[[#This Row],[Prijs 2]],0) -> 0 | AI10: =IF(ISNUMBER(Tabel1[[#This Row],[Frequentie 3]]),Tabel1[[#This Row],[Frequentie 3]]*Tabel1[[#This Row],[Prijs 3]],0) -> 0 | AJ10: =IF(ISNUMBER(Tabel1[[#This Row],[Frequentie 4]]),Tabel1[[#This Row],[Frequentie 4]]*Tabel1[[#This Row],[Prijs 4]],0) -> 0 | AK10: =SUM(Tabel1[[#This Row],[Totaal 1]:[Totaal 4]]) -> 0
A11: Brandweer | B11: Verlengde parklaan 36 | C11: Hattem | D11: 788 m2 | E11: 55.12.20 | F11: koeling; lokaal, splitsysteem; verwarmen/koelen 5-50 ton CO2 | G11: =VLOOKUP(Tabel1[[#This Row],[NLSfB]],NLSfB!A:D,4,1) -> splitsysteem verwarmen/koelen (5-50 ton CO2) | H11: koeling | I11: 2 | J11: 2009 | K11: Samsung | L11: binnen AR18RXFPEWQNEU buiten AR18RXFPEWQX | M11: STEK logboek niet aanwezig | N11: 5 kW | O11: 6 kW | P11: R32 | Q11: kg | R11: binnenunits | S11: wand unit | T11: =_xlfn.XMATCH(E11,'NLSfb - PPO'!$B$2:$B$205,0)+1 -> 155 | U11: {=IF(ISNUMBER(Tabel1[[#This Row],[hulpkolom]]),INDIRECT("'NLSfB - PPO'!D"&$T11),"n.v.t.")} -> VW110-A1 | V11: {=IF(ISNUMBER(Tabel1[[#This Row],[hulpkolom]]),INDIRECT("'NLSfB - PPO'!E"&$T11),"-")} -> 1 | X11: {=IF(ISNUMBER(Tabel1[[#This Row],[hulpkolom]]),INDIRECT("'NLSfB - PPO'!G"&$T11),"-")} -> - | Y11: {=IF(ISNUMBER(Tabel1[[#This Row],[hulpkolom]]),INDIRECT("'NLSfB - PPO'!H"&$T11),"-")} -> - | AA11: {=IF(ISNUMBER(Tabel1[[#This Row],[hulpkolom]]),INDIRECT("'NLSfB - PPO'!J"&$T11),"-")} -> - | AB11: {=IF(ISNUMBER(Tabel1[[#This Row],[hulpkolom]]),INDIRECT("'NLSfB - PPO'!K"&$T11),"-")} -> - | AD11: {=IF(ISNUMBER(Tabel1[[#This Row],[hulpkolom]]),INDIRECT("'NLSfB - PPO'!M"&$T11),"-")} -> - | AE11: {=IF(ISNUMBER(Tabel1[[#This Row],[hulpkolom]]),INDIRECT("'NLSfB - PPO'!L"&$T11),"-")} -> - | AG11: =IF(ISNUMBER(Tabel1[[#This Row],[Frequentie 1]]),Tabel1[[#This Row],[Frequentie 1]]*Tabel1[[#This Row],[Prijs 1]],0) -> 0 | AH11: =IF(ISNUMBER(Tabel1[[#This Row],[Frequentie 2]]),Tabel1[[#This Row],[Frequentie 2]]*Tabel1[[#This Row],[Prijs 2]],0) -> 0 | AI11: =IF(ISNUMBER(Tabel1[[#This Row],[Frequentie 3]]),Tabel1[[#This Row],[Frequentie 3]]*Tabel1[[#This Row],[Prijs 3]],0) -> 0 | AJ11: =IF(ISNUMBER(Tabel1[[#This Row],[Frequentie 4]]),Tabel1[[#This Row],[Frequentie 4]]*Tabel1[[#This Row],[Prijs 4]],0) -> 0 | AK11: =SUM(Tabel1[[#This Row],[Totaal 1]:[Totaal 4]]) -> 0
A12: Brandweer | B12: Verlengde parklaan 36 | C12: Hattem | D12: 788 m2 | E12: 55.12.20 | F12: koeling; lokaal, splitsysteem; verwarmen/koelen 5-50 ton CO2 | G12: =VLOOKUP(Tabel1[[#This Row],[NLSfB]],NLSfB!A:D,4,1) -> splitsysteem verwarmen/koelen (5-50 ton CO2) | H12: koeling | I12: 1 | J12: 2009 | K12: Samsung | L12: binnen AC100RNCDKGEU buiten AC100RXADNG/EU | M12: STEK logboek niet aanwezig | N12: 12 kW | O12: 15 kW | P12: R32 | Q12: 2,7 kg | R12: binnenunits | S12: wand unit | T12: =_xlfn.XMATCH(E12,'NLSfb - PPO'!$B$2:$B$205,0)+1 -> 155 | U12: {=IF(ISNUMBER(Tabel1[[#This Row],[hulpkolom]]),INDIRECT("'NLSfB - PPO'!D"&$T12),"n.v.t.")} -> VW110-A1 | V12: {=IF(ISNUMBER(Tabel1[[#This Row],[hulpkolom]]),INDIRECT("'NLSfB - PPO'!E"&$T12),"-")} -> 1 | X12: {=IF(ISNUMBER(Tabel1[[#This Row],[hulpkolom]]),INDIRECT("'NLSfB - PPO'!G"&$T12),"-")} -> - | Y12: {=IF(ISNUMBER(Tabel1[[#This Row],[hulpkolom]]),INDIRECT("'NLSfB - PPO'!H"&$T12),"-")} -> - | AA12: {=IF(ISNUMBER(Tabel1[[#This Row],[hulpkolom]]),INDIRECT("'NLSfB - PPO'!J"&$T12),"-")} -> - | AB12: {=IF(ISNUMBER(Tabel1[[#This Row],[hulpkolom]]),INDIRECT("'NLSfB - PPO'!K"&$T12),"-")} -> - | AD12: {=IF(ISNUMBER(Tabel1[[#This Row],[hulpkolom]]),INDIRECT("'NLSfB - PPO'!M"&$T12),"-")} -> - | AE12: {=IF(ISNUMBER(Tabel1[[#This Row],[hulpkolom]]),INDIRECT("'NLSfB - PPO'!L"&$T12),"-")} -> - | AG12: =IF(ISNUMBER(Tabel1[[#This Row],[Frequentie 1]]),Tabel1[[#This Row],[Frequentie 1]]*Tabel1[[#This Row],[Prijs 1]],0) -> 0 | AH12: =IF(ISNUMBER(Tabel1[[#This Row],[Frequentie 2]]),Tabel1[[#This Row],[Frequentie 2]]*Tabel1[[#This Row],[Prijs 2]],0) -> 0 | AI12: =IF(ISNUMBER(Tabel1[[#This Row],[Frequentie 3]]),Tabel1[[#This Row],[Frequentie 3]]*Tabel1[[#This Row],[Prijs 3]],0) -> 0 | AJ12: =IF(ISNUMBER(Tabel1[[#This Row],[Frequentie 4]]),Tabel1[[#This Row],[Frequentie 4]]*Tabel1[[#This Row],[Prijs 4]],0) -> 0 | AK12: =SUM(Tabel1[[#This Row],[Totaal 1]:[Totaal 4]]) -> 0
A13: Brandweer | B13: Verlengde parklaan 36 | C13: Hattem | D13: 788 m2 | E13: 53.21.30 | F13: water; verwarmd tapwater, met voorraad; voorraadboiler elektrisch | G13: =VLOOKUP(Tabel1[[#This Row],[NLSfB]],NLSfB!A:D,4,1) -> voorraadboiler elektrisch | H13: verwarming | I13: 2 | J13: 2009 | K13: Daalderop | L13: close-in | M13: 15 L | N13: 0 | O13: 0 | P13: 0 | Q13: 0 | R13: 0 | S13: 0 | T13: =_xlfn.XMATCH(E13,'NLSfb - PPO'!$B$2:$B$205,0)+1 -> 174 | U13: {=IF(ISNUMBER(Tabel1[[#This Row],[hulpkolom]]),INDIRECT("'NLSfB - PPO'!D"&$T13),"n.v.t.")} -> WTR030-A | V13: {=IF(ISNUMBER(Tabel1[[#This Row],[hulpkolom]]),INDIRECT("'NLSfB - PPO'!E"&$T13),"-")} -> 1 | X13: {=IF(ISNUMBER(Tabel1[[#This Row],[hulpkolom]]),INDIRECT("'NLSfB - PPO'!G"&$T13),"-")} -> - | Y13: {=IF(ISNUMBER(Tabel1[[#This Row],[hulpkolom]]),INDIRECT("'NLSfB - PPO'!H"&$T13),"-")} -> - | AA13: {=IF(ISNUMBER(Tabel1[[#This Row],[hulpkolom]]),INDIRECT("'NLSfB - PPO'!J"&$T13),"-")} -> - | AB13: {=IF(ISNUMBER(Tabel1[[#This Row],[hulpkolom]]),INDIRECT("'NLSfB - PPO'!K"&$T13),"-")} -> - | AD13: {=IF(ISNUMBER(Tabel1[[#This Row],[hulpkolom]]),INDIRECT("'NLSfB - PPO'!M"&$T13),"-")} -> - | AE13: {=IF(ISNUMBER(Tabel1[[#This Row],[hulpkolom]]),INDIRECT("'NLSfB - PPO'!L"&$T13),"-")} -> - | AG13: =IF(ISNUMBER(Tabel1[[#This Row],[Frequentie 1]]),Tabel1[[#This Row],[Frequentie 1]]*Tabel1[[#This Row],[Prijs 1]],0) -> 0 | AH13: =IF(ISNUMBER(Tabel1[[#This Row],[Frequentie 2]]),Tabel1[[#This Row],[Frequentie 2]]*Tabel1[[#This Row],[Prijs 2]],0) -> 0 | AI13: =IF(ISNUMBER(Tabel1[[#This Row],[Frequentie 3]]),Tabel1[[#This Row],[Frequentie 3]]*Tabel1[[#This Row],[Prijs 3]],0) -> 0 | AJ13: =IF(ISNUMBER(Tabel1[[#This Row],[Frequentie 4]]),Tabel1[[#This Row],[Frequentie 4]]*Tabel1[[#This Row],[Prijs 4]],0) -> 0 | AK13: =SUM(Tabel1[[#This Row],[Totaal 1]:[Totaal 4]]) -> 0
A14: Brandweer | B14: Verlengde parklaan 36 | C14: Hattem | D14: 788 m2 | E14: 56.21.10 | F14: verwarming; opwekking centraal, verwarmingstoestellen; atmosferische gasketel | G14: =VLOOKUP(Tabel1[[#This Row],[NLSfB]],NLSfB!A:D,4,1) -> ketel (gas) | H14: verwarming | I14: 1 | J14: 2009 | K14: Atag | L14: Q51C | M14: 48,7 kW | N14: voorziening warmtapwater | O14: 0 | P14: 0 | Q14: 0 | R14: 0 | S14: 0 | T14: =_xlfn.XMATCH(E14,'NLSfb - PPO'!$B$2:$B$205,0)+1 -> 130 | U14: {=IF(ISNUMBER(Tabel1[[#This Row],[hulpkolom]]),INDIRECT("'NLSfB - PPO'!D"&$T14),"n.v.t.")} -> VW030-A | V14: {=IF(ISNUMBER(Tabel1[[#This Row],[hulpkolom]]),INDIRECT("'NLSfB - PPO'!E"&$T14),"-")} -> 1 | X14: {=IF(ISNUMBER(Tabel1[[#This Row],[hulpkolom]]),INDIRECT("'NLSfB - PPO'!G"&$T14),"-")} -> VW030-K | Y14: {=IF(ISNUMBER(Tabel1[[#This Row],[hulpkolom]]),INDIRECT("'NLSfB - PPO'!H"&$T14),"-")} -> 0.25 | AA14: {=IF(ISNUMBER(Tabel1[[#This Row],[hulpkolom]]),INDIRECT("'NLSfB - PPO'!J"&$T14),"-")} -> - | AB14: {=IF(ISNUMBER(Tabel1[[#This Row],[hulpkolom]]),INDIRECT("'NLSfB - PPO'!K"&$T14),"-")} -> - | AD14: {=IF(ISNUMBER(Tabel1[[#This Row],[hulpkolom]]),INDIRECT("'NLSfB - PPO'!M"&$T14),"-")} -> - | AE14: {=IF(ISNUMBER(Tabel1[[#This Row],[hulpkolom]]),INDIRECT("'NLSfB - PPO'!L"&$T14),"-")} -> - | AG14: =IF(ISNUMBER(Tabel1[[#This Row],[Frequentie 1]]),Tabel1[[#This Row],[Frequentie 1]]*Tabel1[[#This Row],[Prijs 1]],0) -> 0 | AH14: =IF(ISNUMBER(Tabel1[[#This Row],[Frequentie 2]]),Tabel1[[#This Row],[Frequentie 2]]*Tabel1[[#This Row],[Prijs 2]],0) -> 0 | AI14: =IF(ISNUMBER(Tabel1[[#This Row],[Frequentie 3]]),Tabel1[[#This Row],[Frequentie 3]]*Tabel1[[#This Row],[Prijs 3]],0) -> 0 | AJ14: =IF(ISNUMBER(Tabel1[[#This Row],[Frequentie 4]]),Tabel1[[#This Row],[Frequentie 4]]*Tabel1[[#This Row],[Prijs 4]],0) -> 0 | AK14: =SUM(Tabel1[[#This Row],[Totaal 1]:[Totaal 4]]) -> 0
A15: Brandweer | B15: Verlengde parklaan 36 | C15: Hattem | D15: 788 m2 | E15: 56.24.10 | F15: verwarming; opwekking centraal, rookgasafvoer; ketel gas | G15: =VLOOKUP(Tabel1[[#This Row],[NLSfB]],NLSfB!A:D,4,1) -> rookgasafvoer gasketel | H15: verwarming | I15: 1 | J15: 2009 | K15: Skyline | L15: rvs | M15: 8 cm (Ø) | N15: 10 m (l) | O15: 0 | P15: 0 | Q15: 0 | R15: 0 | S15: 0 | T15: =_xlfn.XMATCH(E15,'NLSfb - PPO'!$B$2:$B$205,0)+1 -> 133 | U15: {=IF(ISNUMBER(Tabel1[[#This Row],[hulpkolom]]),INDIRECT("'NLSfB - PPO'!D"&$T15),"n.v.t.")} -> VW030-A | V15: {=IF(ISNUMBER(Tabel1[[#This Row],[hulpkolom]]),INDIRECT("'NLSfB - PPO'!E"&$T15),"-")} -> 1 | X15: {=IF(ISNUMBER(Tabel1[[#This Row],[hulpkolom]]),INDIRECT("'NLSfB - PPO'!G"&$T15),"-")} -> VW030-K | Y15: {=IF(ISNUMBER(Tabel1[[#This Row],[hulpkolom]]),INDIRECT("'NLSfB - PPO'!H"&$T15),"-")} -> 0.25 | AA15: {=IF(ISNUMBER(Tabel1[[#This Row],[hulpkolom]]),INDIRECT("'NLSfB - PPO'!J"&$T15),"-")} -> VW070-A | AB15: {=IF(ISNUMBER(Tabel1[[#This Row],[hulpkolom]]),INDIRECT("'NLSfB - PPO'!K"&$T15),"-")} -> 1 | AD15: {=IF(ISNUMBER(Tabel1[[#This Row],[hulpkolom]]),INDIRECT("'NLSfB - PPO'!M"&$T15),"-")} -> - | AE15: {=IF(ISNUMBER(Tabel1[[#This Row],[hulpkolom]]),INDIRECT("'NLSfB - PPO'!L"&$T15),"-")} -> - | AG15: =IF(ISNUMBER(Tabel1[[#This Row],[Frequentie 1]]),Tabel1[[#This Row],[Frequentie 1]]*Tabel1[[#This Row],[Prijs 1]],0) -> 0 | AH15: =IF(ISNUMBER(Tabel1[[#This Row],[Frequentie 2]]),Tabel1[[#This Row],[Frequentie 2]]*Tabel1[[#This Row],[Prijs 2]],0) -> 0 | AI15: =IF(ISNUMBER(Tabel1[[#This Row],[Frequentie 3]]),Tabel1[[#This Row],[Frequentie 3]]*Tabel1[[#This Row],[Prijs 3]],0) -> 0 | AJ15: =IF(ISNUMBER(Tabel1[[#This Row],[Frequentie 4]]),Tabel1[[#This Row],[Frequentie 4]]*Tabel1[[#This Row],[Prijs 4]],0) -> 0 | AK15: =SUM(Tabel1[[#This Row],[Totaal 1]:[Totaal 4]]) -> 0
A16: Brandweer | B16: Verlengde parklaan 36 | C16: Hattem | D16: 788 m2 | E16: 56.31.20 | F16: verwarming; distributie hoofdverdeling, distributiesystemen; verdeler/verzamelaar | G16: =VLOOKUP(Tabel1[[#This Row],[NLSfB]],NLSfB!A:D,4,1) -> verdeler/verzamelaar (verwarming) | H16: verwarming | I16: 1 | J16: 2009 | K16: merkloos | L16: 0 | M16: 3 groepen | N16: 1 pompen | O16: automatische ontluchting | P16: 0 | Q16: 0 | R16: 0 | S16: 0 | T16: =_xlfn.XMATCH(E16,'NLSfb - PPO'!$B$2:$B$205,0)+1 -> 139 | U16: {=IF(ISNUMBER(Tabel1[[#This Row],[hulpkolom]]),INDIRECT("'NLSfB - PPO'!D"&$T16),"n.v.t.")} -> VW060-A | V16: {=IF(ISNUMBER(Tabel1[[#This Row],[hulpkolom]]),INDIRECT("'NLSfB - PPO'!E"&$T16),"-")} -> 1 | X16: {=IF(ISNUMBER(Tabel1[[#This Row],[hulpkolom]]),INDIRECT("'NLSfB - PPO'!G"&$T16),"-")} -> - | Y16: {=IF(ISNUMBER(Tabel1[[#This Row],[hulpkolom]]),INDIRECT("'NLSfB - PPO'!H"&$T16),"-")} -> - | AA16: {=IF(ISNUMBER(Tabel1[[#This Row],[hulpkolom]]),INDIRECT("'NLSfB - PPO'!J"&$T16),"-")} -> - | AB16: {=IF(ISNUMBER(Tabel1[[#This Row],[hulpkolom]]),INDIRECT("'NLSfB - PPO'!K"&$T16),"-")} -> - | AD16: {=IF(ISNUMBER(Tabel1[[#This Row],[hulpkolom]]),INDIRECT("'NLSfB - PPO'!M"&$T16),"-")} -> - | AE16: {=IF(ISNUMBER(Tabel1[[#This Row],[hulpkolom]]),INDIRECT("'NLSfB - PPO'!L"&$T16),"-")} -> - | AG16: =IF(ISNUMBER(Tabel1[[#This Row],[Frequentie 1]]),Tabel1[[#This Row],[Frequentie 1]]*Tabel1[[#This Row],[Prijs 1]],0) -> 0 | AH16: =IF(ISNUMBER(Tabel1[[#This Row],[Frequentie 2]]),Tabel1[[#This Row],[Frequentie 2]]*Tabel1[[#This Row],[Prijs 2]],0) -> 0 | AI16: =IF(ISNUMBER(Tabel1[[#This Row],[Frequentie 3]]),Tabel1[[#This Row],[Frequentie 3]]*Tabel1[[#This Row],[Prijs 3]],0) -> 0 | AJ16: =IF(ISNUMBER(Tabel1[[#This Row],[Frequentie 4]]),Tabel1[[#This Row],[Frequentie 4]]*Tabel1[[#This Row],[Prijs 4]],0) -> 0 | AK16: =SUM(Tabel1[[#This Row],[Totaal 1]:[Totaal 4]]) -> 0
A17: Brandweer | B17: Verlengde parklaan 36 | C17: Hattem | D17: 788 m2 | E17: 56.31.50 | F17: verwarming; distributie hoofdverdeling, distributiesystemen; expansievoorziening | G17: =VLOOKUP(Tabel1[[#This Row],[NLSfB]],NLSfB!A:D,4,1) -> expansievoorziening (verwarming) | H17: verwarming | I17: 1 | J17: 2019 | K17: Flamco | L17: 0 | M17: 18 L | N17: 1 bar voordruk | O17: 0 | P17: 0 | Q17: 0 | R17: 0 | S17: 0 | T17: =_xlfn.XMATCH(E17,'NLSfb - PPO'!$B$2:$B$205,0)+1 -> 148 | U17: {=IF(ISNUMBER(Tabel1[[#This Row],[hulpkolom]]),INDIRECT("'NLSfB - PPO'!D"&$T17),"n.v.t.")} -> VW060-A | V17: {=IF(ISNUMBER(Tabel1[[#This Row],[hulpkolom]]),INDIRECT("'NLSfB - PPO'!E"&$T17),"-")} -> 1 | X17: {=IF(ISNUMBER(Tabel1[[#This Row],[hulpkolom]]),INDIRECT("'NLSfB - PPO'!G"&$T17),"-")} -> - | Y17: {=IF(ISNUMBER(Tabel1[[#This Row],[hulpkolom]]),INDIRECT("'NLSfB - PPO'!H"&$T17),"-")} -> - | AA17: {=IF(ISNUMBER(Tabel1[[#This Row],[hulpkolom]]),INDIRECT("'NLSfB - PPO'!J"&$T17),"-")} -> - | AB17: {=IF(ISNUMBER(Tabel1[[#This Row],[hulpkolom]]),INDIRECT("'NLSfB - PPO'!K"&$T17),"-")} -> - | AD17: {=IF(ISNUMBER(Tabel1[[#This Row],[hulpkolom]]),INDIRECT("'NLSfB - PPO'!M"&$T17),"-")} -> - | AE17: {=IF(ISNUMBER(Tabel1[[#This Row],[hulpkolom]]),INDIRECT("'NLSfB - PPO'!L"&$T17),"-")} -> - | AG17: =IF(ISNUMBER(Tabel1[[#This Row],[Frequentie 1]]),Tabel1[[#This Row],[Frequentie 1]]*Tabel1[[#This Row],[Prijs 1]],0) -> 0 | AH17: =IF(ISNUMBER(Tabel1[[#This Row],[Frequentie 2]]),Tabel1[[#This Row],[Frequentie 2]]*Tabel1[[#This Row],[Prijs 2]],0) -> 0 | AI17: =IF(ISNUMBER(Tabel1[[#This Row],[Frequentie 3]]),Tabel1[[#This Row],[Frequentie 3]]*Tabel1[[#This Row],[Prijs 3]],0) -> 0 | AJ17: =IF(ISNUMBER(Tabel1[[#This Row],[Frequentie 4]]),Tabel1[[#This Row],[Frequentie 4]]*Tabel1[[#This Row],[Prijs 4]],0) -> 0 | AK17: =SUM(Tabel1[[#This Row],[Totaal 1]:[Totaal 4]]) -> 0
A18: Brandweer | B18: Verlengde parklaan 36 | C18: Hattem | D18: 788 m2 | E18: 56.84.00 | F18: verwarming; afgifte, vloerverwarming/wandverwarming, algemeen (verzamelniveau) | G18: =VLOOKUP(Tabel1[[#This Row],[NLSfB]],NLSfB!A:D,4,1) -> vloer-/wandverwarming | H18: verwarming | I18: 1 | J18: 2009 | K18: SBK | L18: 0 | M18: CV-water | N18: 530 m2 | O18: naregeling per vertrek | P18: 8 naregelingen | Q18: 0 | R18: 0 | S18: 0 | T18: =_xlfn.XMATCH(E18,'NLSfb - PPO'!$B$2:$B$205,0)+1 -> #N/A | U18: {=IF(ISNUMBER(Tabel1[[#This Row],[hulpkolom]]),INDIRECT("'NLSfB - PPO'!D"&$T18),"n.v.t.")} -> n.v.t. | V18: {=IF(ISNUMBER(Tabel1[[#This Row],[hulpkolom]]),INDIRECT("'NLSfB - PPO'!E"&$T18),"-")} -> - | X18: {=IF(ISNUMBER(Tabel1[[#This Row],[hulpkolom]]),INDIRECT("'NLSfB - PPO'!G"&$T18),"-")} -> - | Y18: {=IF(ISNUMBER(Tabel1[[#This Row],[hulpkolom]]),INDIRECT("'NLSfB - PPO'!H"&$T18),"-")} -> - | AA18: {=IF(ISNUMBER(Tabel1[[#This Row],[hulpkolom]]),INDIRECT("'NLSfB - PPO'!J"&$T18),"-")} -> - | AB18: {=IF(ISNUMBER(Tabel1[[#This Row],[hulpkolom]]),INDIRECT("'NLSfB - PPO'!K"&$T18),"-")} -> - | AD18: {=IF(ISNUMBER(Tabel1[[#This Row],[hulpkolom]]),INDIRECT("'NLSfB - PPO'!M"&$T18),"-")} -> - | AE18: {=IF(ISNUMBER(Tabel1[[#This Row],[hulpkolom]]),INDIRECT("'NLSfB - PPO'!L"&$T18),"-")} -> - | AG18: =IF(ISNUMBER(Tabel1[[#This Row],[Frequentie 1]]),Tabel1[[#This Row],[Frequentie 1]]*Tabel1[[#This Row],[Prijs 1]],0) -> 0 | AH18: =IF(ISNUMBER(Tabel1[[#This Row],[Frequentie 2]]),Tabel1[[#This Row],[Frequentie 2]]*Tabel1[[#This Row],[Prijs 2]],0) -> 0 | AI18: =IF(ISNUMBER(Tabel1[[#This Row],[Frequentie 3]]),Tabel1[[#This Row],[Frequentie 3]]*Tabel1[[#This Row],[Prijs 3]],0) -> 0 | AJ18: =IF(ISNUMBER(Tabel1[[#This Row],[Frequentie 4]]),Tabel1[[#This Row],[Frequentie 4]]*Tabel1[[#This Row],[Prijs 4]],0) -> 0 | AK18: =SUM(Tabel1[[#This Row],[Totaal 1]:[Totaal 4]]) -> 0
A19: Brandweer | B19: Verlengde parklaan 36 | C19: Hattem | D19: 788 m2 | E19: 56.84.10 | F19: verwarming; afgifte, vloerverwarming/wandverwarming; verdeler | G19: =VLOOKUP(Tabel1[[#This Row],[NLSfB]],NLSfB!A:D,4,1) -> verdeler vloer-/wandverwarming | H19: verwarming | I19: 1 | J19: 2009 | K19: SBK | L19: 0 | M19: 8 groepen | N19: 0 | O19: 0 | P19: 0 | Q19: 0 | R19: 0 | S19: 0 | T19: =_xlfn.XMATCH(E19,'NLSfb - PPO'!$B$2:$B$205,0)+1 -> 144 | U19: {=IF(ISNUMBER(Tabel1[[#This Row],[hulpkolom]]),INDIRECT("'NLSfB - PPO'!D"&$T19),"n.v.t.")} -> VW060-A | V19: {=IF(ISNUMBER(Tabel1[[#This Row],[hulpkolom]]),INDIRECT("'NLSfB - PPO'!E"&$T19),"-")} -> 1 | X19: {=IF(ISNUMBER(Tabel1[[#This Row],[hulpkolom]]),INDIRECT("'NLSfB - PPO'!G"&$T19),"-")} -> - | Y19: {=IF(ISNUMBER(Tabel1[[#This Row],[hulpkolom]]),INDIRECT("'NLSfB - PPO'!H"&$T19),"-")} -> - | AA19: {=IF(ISNUMBER(Tabel1[[#This Row],[hulpkolom]]),INDIRECT("'NLSfB - PPO'!J"&$T19),"-")} -> - | AB19: {=IF(ISNUMBER(Tabel1[[#This Row],[hulpkolom]]),INDIRECT("'NLSfB - PPO'!K"&$T19),"-")} -> - | AD19: {=IF(ISNUMBER(Tabel1[[#This Row],[hulpkolom]]),INDIRECT("'NLSfB - PPO'!M"&$T19),"-")} -> - | AE19: {=IF(ISNUMBER(Tabel1[[#This Row],[hulpkolom]]),INDIRECT("'NLSfB - PPO'!L"&$T19),"-")} -> - | AG19: =IF(ISNUMBER(Tabel1[[#This Row],[Frequentie 1]]),Tabel1[[#This Row],[Frequentie 1]]*Tabel1[[#This Row],[Prijs 1]],0) -> 0 | AH19: =IF(ISNUMBER(Tabel1[[#This Row],[Frequentie 2]]),Tabel1[[#This Row],[Frequentie 2]]*Tabel1[[#This Row],[Prijs 2]],0) -> 0 | AI19: =IF(ISNUMBER(Tabel1[[#This Row],[Frequentie 3]]),Tabel1[[#This Row],[Frequentie 3]]*Tabel1[[#This Row],[Prijs 3]],0) -> 0 | AJ19: =IF(ISNUMBER(Tabel1[[#This Row],[Frequentie 4]]),Tabel1[[#This Row],[Frequentie 4]]*Tabel1[[#This Row],[Prijs 4]],0) -> 0 | AK19: =SUM(Tabel1[[#This Row],[Totaal 1]:[Totaal 4]]) -> 0
A20: Brandweer | B20: Verlengde parklaan 36 | C20: Hattem | D20: 788 m2 | E20: 56.84.10 | F20: verwarming; afgifte, vloerverwarming/wandverwarming; verdeler | G20: =VLOOKUP(Tabel1[[#This Row],[NLSfB]],NLSfB!A:D,4,1) -> verdeler vloer-/wandverwarming | H20: verwarming | I20: 1 | J20: 2009 | K20: SBK | L20: 0 | M20: 10 groepen | N20: 0 | O20: 0 | P20: 0 | Q20: 0 | R20: 0 | S20: 0 | T20: =_xlfn.XMATCH(E20,'NLSfb - PPO'!$B$2:$B$205,0)+1 -> 144 | U20: {=IF(ISNUMBER(Tabel1[[#This Row],[hulpkolom]]),INDIRECT("'NLSfB - PPO'!D"&$T20),"n.v.t.")} -> VW060-A | V20: {=IF(ISNUMBER(Tabel1[[#This Row],[hulpkolom]]),INDIRECT("'NLSfB - PPO'!E"&$T20),"-")} -> 1 | X20: {=IF(ISNUMBER(Tabel1[[#This Row],[hulpkolom]]),INDIRECT("'NLSfB - PPO'!G"&$T20),"-")} -> - | Y20: {=IF(ISNUMBER(Tabel1[[#This Row],[hulpkolom]]),INDIRECT("'NLSfB - PPO'!H"&$T20),"-")} -> - | AA20: {=IF(ISNUMBER(Tabel1[[#This Row],[hulpkolom]]),INDIRECT("'NLSfB - PPO'!J"&$T20),"-")} -> - | AB20: {=IF(ISNUMBER(Tabel1[[#This Row],[hulpkolom]]),INDIRECT("'NLSfB - PPO'!K"&$T20),"-")} -> - | AD20: {=IF(ISNUMBER(Tabel1[[#This Row],[hulpkolom]]),INDIRECT("'NLSfB - PPO'!M"&$T20),"-")} -> - | AE20: {=IF(ISNUMBER(Tabel1[[#This Row],[hulpkolom]]),INDIRECT("'NLSfB - PPO'!L"&$T20),"-")} -> - | AG20: =IF(ISNUMBER(Tabel1[[#This Row],[Frequentie 1]]),Tabel1[[#This Row],[Frequentie 1]]*Tabel1[[#This Row],[Prijs 1]],0) -> 0 | AH20: =IF(ISNUMBER(Tabel1[[#This Row],[Frequentie 2]]),Tabel1[[#This Row],[Frequentie 2]]*Tabel1[[#This Row],[Prijs 2]],0) -> 0 | AI20: =IF(ISNUMBER(Tabel1[[#This Row],[Frequentie 3]]),Tabel1[[#This Row],[Frequentie 3]]*Tabel1[[#This Row],[Prijs 3]],0) -> 0 | AJ20: =IF(ISNUMBER(Tabel1[[#This Row],[Frequentie 4]]),Tabel1[[#This Row],[Frequentie 4]]*Tabel1[[#This Row],[Prijs 4]],0) -> 0 | AK20: =SUM(Tabel1[[#This Row],[Totaal 1]:[Totaal 4]]) -> 0
A21: Brandweer | B21: Verlengde parklaan 36 | C21: Hattem | D21: 788 m2 | E21: 56.84.10 | F21: verwarming; afgifte, vloerverwarming/wandverwarming; verdeler | G21: =VLOOKUP(Tabel1[[#This Row],[NLSfB]],NLSfB!A:D,4,1) -> verdeler vloer-/wandverwarming | H21: verwarming | I21: 1 | J21: 2009 | K21: SBK | L21: 0 | M21: 13 groepen | N21: 0 | O21: 0 | P21: 0 | Q21: 0 | R21: 0 | S21: 0 | T21: =_xlfn.XMATCH(E21,'NLSfb - PPO'!$B$2:$B$205,0)+1 -> 144 | U21: {=IF(ISNUMBER(Tabel1[[#This Row],[hulpkolom]]),INDIRECT("'NLSfB - PPO'!D"&$T21),"n.v.t.")} -> VW060-A | V21: {=IF(ISNUMBER(Tabel1[[#This Row],[hulpkolom]]),INDIRECT("'NLSfB - PPO'!E"&$T21),"-")} -> 1 | X21: {=IF(ISNUMBER(Tabel1[[#This Row],[hulpkolom]]),INDIRECT("'NLSfB - PPO'!G"&$T21),"-")} -> - | Y21: {=IF(ISNUMBER(Tabel1[[#This Row],[hulpkolom]]),INDIRECT("'NLSfB - PPO'!H"&$T21),"-")} -> - | AA21: {=IF(ISNUMBER(Tabel1[[#This Row],[hulpkolom]]),INDIRECT("'NLSfB - PPO'!J"&$T21),"-")} -> - | AB21: {=IF(ISNUMBER(Tabel1[[#This Row],[hulpkolom]]),INDIRECT("'NLSfB - PPO'!K"&$T21),"-")} -> - | AD21: {=IF(ISNUMBER(Tabel1[[#This Row],[hulpkolom]]),INDIRECT("'NLSfB - PPO'!M"&$T21),"-")} -> - | AE21: {=IF(ISNUMBER(Tabel1[[#This Row],[hulpkolom]]),INDIRECT("'NLSfB - PPO'!L"&$T21),"-")} -> - | AG21: =IF(ISNUMBER(Tabel1[[#This Row],[Frequentie 1]]),Tabel1[[#This Row],[Frequentie 1]]*Tabel1[[#This Row],[Prijs 1]],0) -> 0 | AH21: =IF(ISNUMBER(Tabel1[[#This Row],[Frequentie 2]]),Tabel1[[#This Row],[Frequentie 2]]*Tabel1[[#This Row],[Prijs 2]],0) -> 0 | AI21: =IF(ISNUMBER(Tabel1[[#This Row],[Frequentie 3]]),Tabel1[[#This Row],[Frequentie 3]]*Tabel1[[#This Row],[Prijs 3]],0) -> 0 | AJ21: =IF(ISNUMBER(Tabel1[[#This Row],[Frequentie 4]]),Tabel1[[#This Row],[Frequentie 4]]*Tabel1[[#This Row],[Prijs 4]],0) -> 0 | AK21: =SUM(Tabel1[[#This Row],[Totaal 1]:[Totaal 4]]) -> 0
A22: Brandweer | B22: Verlengde parklaan 36 | C22: Hattem | D22: 788 m2 | E22: 57.51.00 | F22: luchtbehandeling; luchtbehandelingskast, warmteterugwinning | G22: =VLOOKUP(Tabel1[[#This Row],[NLSfB]],NLSfB!A:D,4,1) -> luchtbehandelingskast met warmteterugwinning | H22: luchtbehandeling | I22: 1 | J22: 2009 | K22: 0 | L22: WTA HR 3000 | M22: 3000 m3/h | N22: niet voorzien van koeling | O22: niet voorzien van bevochtiging | P22: 0 | Q22: 0 | R22: 0 | S22: 0 | T22: =_xlfn.XMATCH(E22,'NLSfb - PPO'!$B$2:$B$205,0)+1 -> 66 | U22: {=IF(ISNUMBER(Tabel1[[#This Row],[hulpkolom]]),INDIRECT("'NLSfB - PPO'!D"&$T22),"n.v.t.")} -> LBH010-A | V22: {=IF(ISNUMBER(Tabel1[[#This Row],[hulpkolom]]),INDIRECT("'NLSfB - PPO'!E"&$T22),"-")} -> 1 | X22: {=IF(ISNUMBER(Tabel1[[#This Row],[hulpkolom]]),INDIRECT("'NLSfB - PPO'!G"&$T22),"-")} -> - | Y22: {=IF(ISNUMBER(Tabel1[[#This Row],[hulpkolom]]),INDIRECT("'NLSfB - PPO'!H"&$T22),"-")} -> - | AA22: {=IF(ISNUMBER(Tabel1[[#This Row],[hulpkolom]]),INDIRECT("'NLSfB - PPO'!J"&$T22),"-")} -> - | AB22: {=IF(ISNUMBER(Tabel1[[#This Row],[hulpkolom]]),INDIRECT("'NLSfB - PPO'!K"&$T22),"-")} -> - | AD22: {=IF(ISNUMBER(Tabel1[[#This Row],[hulpkolom]]),INDIRECT("'NLSfB - PPO'!M"&$T22),"-")} -> - | AE22: {=IF(ISNUMBER(Tabel1[[#This Row],[hulpkolom]]),INDIRECT("'NLSfB - PPO'!L"&$T22),"-")} -> - | AG22: =IF(ISNUMBER(Tabel1[[#This Row],[Frequentie 1]]),Tabel1[[#This Row],[Frequentie 1]]*Tabel1[[#This Row],[Prijs 1]],0) -> 0 | AH22: =IF(ISNUMBER(Tabel1[[#This Row],[Frequentie 2]]),Tabel1[[#This Row],[Frequentie 2]]*Tabel1[[#This Row],[Prijs 2]],0) -> 0 | AI22: =IF(ISNUMBER(Tabel1[[#This Row],[Frequentie 3]]),Tabel1[[#This Row],[Frequentie 3]]*Tabel1[[#This Row],[Prijs 3]],0) -> 0 | AJ22: =IF(ISNUMBER(Tabel1[[#This Row],[Frequentie 4]]),Tabel1[[#This Row],[Frequentie 4]]*Tabel1[[#This Row],[Prijs 4]],0) -> 0 | AK22: =SUM(Tabel1[[#This Row],[Totaal 1]:[Totaal 4]]) -> 0
A23: Brandweer | B23: Verlengde parklaan 36 | C23: Hattem | D23: 788 m2 | E23: 58.20.10 | F23: meet- en regelinstallaties; verdeling centraal Gebouw Beheer Systeem (GBS), algemeen; regelkasten klimaat centraal | G23: =VLOOKUP(Tabel1[[#This Row],[NLSfB]],NLSfB!A:D,4,1) -> regelkast klimaat | H23: regeltechniek | I23: 1 | J23: 2009 | K23: Br controls | L23: BRC23 | M23: gecombineerde regelkast CV/LBK | N23: 1 luchtbehandelingsinstallaties | O23: 0 koelmachines | P23: 1 CV ketels | Q23: 0 koelgroepen | R23: 8 CV groepen | S23: radiator groepen | T23: =_xlfn.XMATCH(E23,'NLSfb - PPO'!$B$2:$B$205,0)+1 -> 100 | U23: {=IF(ISNUMBER(Tabel1[[#This Row],[hulpkolom]]),INDIRECT("'NLSfB - PPO'!D"&$T23),"n.v.t.")} -> RGL010-A | V23: {=IF(ISNUMBER(Tabel1[[#This Row],[hulpkolom]]),INDIRECT("'NLSfB - PPO'!E"&$T23),"-")} -> 1 | X23: {=IF(ISNUMBER(Tabel1[[#This Row],[hulpkolom]]),INDIRECT("'NLSfB - PPO'!G"&$T23),"-")} -> VW120-A | Y23: {=IF(ISNUMBER(Tabel1[[#This Row],[hulpkolom]]),INDIRECT("'NLSfB - PPO'!H"&$T23),"-")} -> 2 | AA23: {=IF(ISNUMBER(Tabel1[[#This Row],[hulpkolom]]),INDIRECT("'NLSfB - PPO'!J"&$T23),"-")} -> - | AB23: {=IF(ISNUMBER(Tabel1[[#This Row],[hulpkolom]]),INDIRECT("'NLSfB - PPO'!K"&$T23),"-")} -> - | AD23: {=IF(ISNUMBER(Tabel1[[#This Row],[hulpkolom]]),INDIRECT("'NLSfB - PPO'!M"&$T23),"-")} -> - | AE23: {=IF(ISNUMBER(Tabel1[[#This Row],[hulpkolom]]),INDIRECT("'NLSfB - PPO'!L"&$T23),"-")} -> - | AG23: =IF(ISNUMBER(Tabel1[[#This Row],[Frequentie 1]]),Tabel1[[#This Row],[Frequentie 1]]*Tabel1[[#This Row],[Prijs 1]],0) -> 0 | AH23: =IF(ISNUMBER(Tabel1[[#This Row],[Frequentie 2]]),Tabel1[[#This Row],[Frequentie 2]]*Tabel1[[#This Row],[Prijs 2]],0) -> 0 | AI23: =IF(ISNUMBER(Tabel1[[#This Row],[Frequentie 3]]),Tabel1[[#This Row],[Frequentie 3]]*Tabel1[[#This Row],[Prijs 3]],0) -> 0 | AJ23: =IF(ISNUMBER(Tabel1[[#This Row],[Frequentie 4]]),Tabel1[[#This Row],[Frequentie 4]]*Tabel1[[#This Row],[Prijs 4]],0) -> 0 | AK23: =SUM(Tabel1[[#This Row],[Totaal 1]:[Totaal 4]]) -> 0
A24: Brandweer | B24: Verlengde parklaan 36 | C24: Hattem | D24: 788 m2 | E24: 59.24.00 | F24: brandveiligheid; waterblusinstallatie, brandslanghaspels | G24: =VLOOKUP(Tabel1[[#This Row],[NLSfB]],NLSfB!A:D,4,1) -> brandslanghaspel | H24: brandveiligheid | I24: 3 | J24: 0 | K24: Ansul | L24: 0 | M24: vrijhangend | N24: 25 m | O24: 0 | P24: 0 | Q24: 0 | R24: 0 | S24: 0 | T24: =_xlfn.XMATCH(E24,'NLSfb - PPO'!$B$2:$B$205,0)+1 -> 8 | U24: {=IF(ISNUMBER(Tabel1[[#This Row],[hulpkolom]]),INDIRECT("'NLSfB - PPO'!D"&$T24),"n.v.t.")} -> BRND010-A | V24: {=IF(ISNUMBER(Tabel1[[#This Row],[hulpkolom]]),INDIRECT("'NLSfB - PPO'!E"&$T24),"-")} -> 1 | X24: {=IF(ISNUMBER(Tabel1[[#This Row],[hulpkolom]]),INDIRECT("'NLSfB - PPO'!G"&$T24),"-")} -> BRND010-K | Y24: {=IF(ISNUMBER(Tabel1[[#This Row],[hulpkolom]]),INDIRECT("'NLSfB - PPO'!H"&$T24),"-")} -> 0.2 | AA24: {=IF(ISNUMBER(Tabel1[[#This Row],[hulpkolom]]),INDIRECT("'NLSfB - PPO'!J"&$T24),"-")} -> - | AB24: {=IF(ISNUMBER(Tabel1[[#This Row],[hulpkolom]]),INDIRECT("'NLSfB - PPO'!K"&$T24),"-")} -> - | AD24: {=IF(ISNUMBER(Tabel1[[#This Row],[hulpkolom]]),INDIRECT("'NLSfB - PPO'!M"&$T24),"-")} -> - | AE24: {=IF(ISNUMBER(Tabel1[[#This Row],[hulpkolom]]),INDIRECT("'NLSfB - PPO'!L"&$T24),"-")} -> - | AG24: =IF(ISNUMBER(Tabel1[[#This Row],[Frequentie 1]]),Tabel1[[#This Row],[Frequentie 1]]*Tabel1[[#This Row],[Prijs 1]],0) -> 0 | AH24: =IF(ISNUMBER(Tabel1[[#This Row],[Frequentie 2]]),Tabel1[[#This Row],[Frequentie 2]]*Tabel1[[#This Row],[Prijs 2]],0) -> 0 | AI24: =IF(ISNUMBER(Tabel1[[#This Row],[Frequentie 3]]),Tabel1[[#This Row],[Frequentie 3]]*Tabel1[[#This Row],[Prijs 3]],0) -> 0 | AJ24: =IF(ISNUMBER(Tabel1[[#This Row],[Frequentie 4]]),Tabel1[[#This Row],[Frequentie 4]]*Tabel1[[#This Row],[Prijs 4]],0) -> 0 | AK24: =SUM(Tabel1[[#This Row],[Totaal 1]:[Totaal 4]]) -> 0
A25: Brandweer | B25: Verlengde parklaan 36 | C25: Hattem | D25: 788 m2 | E25: 59.25.00 | F25: brandveiligheid; handblusmiddelen | G25: =VLOOKUP(Tabel1[[#This Row],[NLSfB]],NLSfB!A:D,4,1) -> handblusmiddel | H25: brandveiligheid | I25: 6 | J25: 0 | K25: Ansul | L25: 0 | M25: schuim | N25: 6 kg/L | O25: 0 | P25: 0 | Q25: 0 | R25: 0 | S25: 0 | T25: =_xlfn.XMATCH(E25,'NLSfb - PPO'!$B$2:$B$205,0)+1 -> 10 | U25: {=IF(ISNUMBER(Tabel1[[#This Row],[hulpkolom]]),INDIRECT("'NLSfB - PPO'!D"&$T25),"n.v.t.")} -> BRND030-K | V25: {=IF(ISNUMBER(Tabel1[[#This Row],[hulpkolom]]),INDIRECT("'NLSfB - PPO'!E"&$T25),"-")} -> 0.5 | X25: {=IF(ISNUMBER(Tabel1[[#This Row],[hulpkolom]]),INDIRECT("'NLSfB - PPO'!G"&$T25),"-")} -> - | Y25: {=IF(ISNUMBER(Tabel1[[#This Row],[hulpkolom]]),INDIRECT("'NLSfB - PPO'!H"&$T25),"-")} -> - | AA25: {=IF(ISNUMBER(Tabel1[[#This Row],[hulpkolom]]),INDIRECT("'NLSfB - PPO'!J"&$T25),"-")} -> - | AB25: {=IF(ISNUMBER(Tabel1[[#This Row],[hulpkolom]]),INDIRECT("'NLSfB - PPO'!K"&$T25),"-")} -> - | AD25: {=IF(ISNUMBER(Tabel1[[#This Row],[hulpkolom]]),INDIRECT("'NLSfB - PPO'!M"&$T25),"-")} -> - | AE25: {=IF(ISNUMBER(Tabel1[[#This Row],[hulpkolom]]),INDIRECT("'NLSfB - PPO'!L"&$T25),"-")} -> - | AG25: =IF(ISNUMBER(Tabel1[[#This Row],[Frequentie 1]]),Tabel1[[#This Row],[Frequentie 1]]*Tabel1[[#This Row],[Prijs 1]],0) -> 0 | AH25: =IF(ISNUMBER(Tabel1[[#This Row],[Frequentie 2]]),Tabel1[[#This Row],[Frequentie 2]]*Tabel1[[#This Row],[Prijs 2]],0) -> 0 | AI25: =IF(ISNUMBER(Tabel1[[#This Row],[Frequentie 3]]),Tabel1[[#This Row],[Frequentie 3]]*Tabel1[[#This Row],[Prijs 3]],0) -> 0 | AJ25: =IF(ISNUMBER(Tabel1[[#This Row],[Frequentie 4]]),Tabel1[[#This Row],[Frequentie 4]]*Tabel1[[#This Row],[Prijs 4]],0) -> 0 | AK25: =SUM(Tabel1[[#This Row],[Totaal 1]:[Totaal 4]]) -> 0
A26: Brandweer | B26: Verlengde parklaan 36 | C26: Hattem | D26: 788 m2 | E26: 61.15.10 | F26: centrale elektrotechnische voorzieningen; energie-opwekking, Photo Voltaic (PV) installatie; cellen | G26: =VLOOKUP(Tabel1[[#This Row],[NLSfB]],NLSfB!A:D,4,1) -> PV cellen | H26: elektra/verlichting | I26: 129 | J26: 0 | K26: Solaredge | L26: SE 17 K | M26: 0 | N26: 0 | O26: 0 | P26: 0 | Q26: 0 | R26: 0 | S26: 0 | T26: =_xlfn.XMATCH(E26,'NLSfb - PPO'!$B$2:$B$205,0)+1 -> 28 | U26: {=IF(ISNUMBER(Tabel1[[#This Row],[hulpkolom]]),INDIRECT("'NLSfB - PPO'!D"&$T26),"n.v.t.")} -> E180-A | V26: {=IF(ISNUMBER(Tabel1[[#This Row],[hulpkolom]]),INDIRECT("'NLSfB - PPO'!E"&$T26),"-")} -> 1 | X26: {=IF(ISNUMBER(Tabel1[[#This Row],[hulpkolom]]),INDIRECT("'NLSfB - PPO'!G"&$T26),"-")} -> - | Y26: {=IF(ISNUMBER(Tabel1[[#This Row],[hulpkolom]]),INDIRECT("'NLSfB - PPO'!H"&$T26),"-")} -> - | AA26: {=IF(ISNUMBER(Tabel1[[#This Row],[hulpkolom]]),INDIRECT("'NLSfB - PPO'!J"&$T26),"-")} -> - | AB26: {=IF(ISNUMBER(Tabel1[[#This Row],[hulpkolom]]),INDIRECT("'NLSfB - PPO'!K"&$T26),"-")} -> - | AD26: {=IF(ISNUMBER(Tabel1[[#This Row],[hulpkolom]]),INDIRECT("'NLSfB - PPO'!M"&$T26),"-")} -> - | AE26: {=IF(ISNUMBER(Tabel1[[#This Row],[hulpkolom]]),INDIRECT("'NLSfB - PPO'!L"&$T26),"-")} -> - | AG26: =IF(ISNUMBER(Tabel1[[#This Row],[Frequentie 1]]),Tabel1[[#This Row],[Frequentie 1]]*Tabel1[[#This Row],[Prijs 1]],0) -> 0 | AH26: =IF(ISNUMBER(Tabel1[[#This Row],[Frequentie 2]]),Tabel1[[#This Row],[Frequentie 2]]*Tabel1[[#This Row],[Prijs 2]],0) -> 0 | AI26: =IF(ISNUMBER(Tabel1[[#This Row],[Frequentie 3]]),Tabel1[[#This Row],[Frequentie 3]]*Tabel1[[#This Row],[Prijs 3]],0) -> 0 | AJ26: =IF(ISNUMBER(Tabel1[[#This Row],[Frequentie 4]]),Tabel1[[#This Row],[Frequentie 4]]*Tabel1[[#This Row],[Prijs 4]],0) -> 0 | AK26: =SUM(Tabel1[[#This Row],[Totaal 1]:[Totaal 4]]) -> 0
A27: Brandweer | B27: Verlengde parklaan 36 | C27: Hattem | D27: 788 m2 | E27: 61.15.20 | F27: centrale elektrotechnische voorzieningen; energie-opwekking, Photo Voltaic (PV) installatie; omvormer | G27: =VLOOKUP(Tabel1[[#This Row],[NLSfB]],NLSfB!A:D,4,1) -> PV omvormer | H27: elektra/verlichting | I27: 2 | J27: 0 | K27: Solaredge | L27: SE 17 K | M27: 0 | N27: 0 | O27: 0 | P27: 0 | Q27: 0 | R27: 0 | S27: 0 | T27: =_xlfn.XMATCH(E27,'NLSfb - PPO'!$B$2:$B$205,0)+1 -> 29 | U27: {=IF(ISNUMBER(Tabel1[[#This Row],[hulpkolom]]),INDIRECT("'NLSfB - PPO'!D"&$T27),"n.v.t.")} -> E180-A | V27: {=IF(ISNUMBER(Tabel1[[#This Row],[hulpkolom]]),INDIRECT("'NLSfB - PPO'!E"&$T27),"-")} -> 1 | X27: {=IF(ISNUMBER(Tabel1[[#This Row],[hulpkolom]]),INDIRECT("'NLSfB - PPO'!G"&$T27),"-")} -> - | Y27: {=IF(ISNUMBER(Tabel1[[#This Row],[hulpkolom]]),INDIRECT("'NLSfB - PPO'!H"&$T27),"-")} -> - | AA27: {=IF(ISNUMBER(Tabel1[[#This Row],[hulpkolom]]),INDIRECT("'NLSfB - PPO'!J"&$T27),"-")} -> - | AB27: {=IF(ISNUMBER(Tabel1[[#This Row],[hulpkolom]]),INDIRECT("'NLSfB - PPO'!K"&$T27),"-")} -> - | AD27: {=IF(ISNUMBER(Tabel1[[#This Row],[hulpkolom]]),INDIRECT("'NLSfB - PPO'!M"&$T27),"-")} -> - | AE27: {=IF(ISNUMBER(Tabel1[[#This Row],[hulpkolom]]),INDIRECT("'NLSfB - PPO'!L"&$T27),"-")} -> - | AG27: =IF(ISNUMBER(Tabel1[[#This Row],[Frequentie 1]]),Tabel1[[#This Row],[Frequentie 1]]*Tabel1[[#This Row],[Prijs 1]],0) -> 0 | AH27: =IF(ISNUMBER(Tabel1[[#This Row],[Frequentie 2]]),Tabel1[[#This Row],[Frequentie 2]]*Tabel1[[#This Row],[Prijs 2]],0) -> 0 | AI27: =IF(ISNUMBER(Tabel1[[#This Row],[Frequentie 3]]),Tabel1[[#This Row],[Frequentie 3]]*Tabel1[[#This Row],[Prijs 3]],0) -> 0 | AJ27: =IF(ISNUMBER(Tabel1[[#This Row],[Frequentie 4]]),Tabel1[[#This Row],[Frequentie 4]]*Tabel1[[#This Row],[Prijs 4]],0) -> 0 | AK27: =SUM(Tabel1[[#This Row],[Totaal 1]:[Totaal 4]]) -> 0
A28: Brandweer | B28: Verlengde parklaan 36 | C28: Hattem | D28: 788 m2 | E28: 61.21.10 | F28: centrale elektrotechnische voorzieningen; aarding, beveiliging; veiligheidsaarding | G28: =VLOOKUP(Tabel1[[#This Row],[NLSfB]],NLSfB!A:D,4,1) -> veiligheidsaarding | H28: elektra/verlichting | I28: 1 | J28: 2009 | K28: 0 | L28: 0 | M28: aardelektrode aanwezig | N28: 4 verbindingen aan centraal aardpunt | O28: 0 | P28: 0 | Q28: 0 | R28: 0 | S28: 0 | T28: =_xlfn.XMATCH(E28,'NLSfb - PPO'!$B$2:$B$205,0)+1 -> 24 | U28: {=IF(ISNUMBER(Tabel1[[#This Row],[hulpkolom]]),INDIRECT("'NLSfB - PPO'!D"&$T28),"n.v.t.")} -> E030-A | V28: {=IF(ISNUMBER(Tabel1[[#This Row],[hulpkolom]]),INDIRECT("'NLSfB - PPO'!E"&$T28),"-")} -> 0.2 | X28: {=IF(ISNUMBER(Tabel1[[#This Row],[hulpkolom]]),INDIRECT("'NLSfB - PPO'!G"&$T28),"-")} -> E170-A | Y28: {=IF(ISNUMBER(Tabel1[[#This Row],[hulpkolom]]),INDIRECT("'NLSfB - PPO'!H"&$T28),"-")} -> 1 | AA28: {=IF(ISNUMBER(Tabel1[[#This Row],[hulpkolom]]),INDIRECT("'NLSfB - PPO'!J"&$T28),"-")} -> - | AB28: {=IF(ISNUMBER(Tabel1[[#This Row],[hulpkolom]]),INDIRECT("'NLSfB - PPO'!K"&$T28),"-")} -> - | AD28: {=IF(ISNUMBER(Tabel1[[#This Row],[hulpkolom]]),INDIRECT("'NLSfB - PPO'!M"&$T28),"-")} -> - | AE28: {=IF(ISNUMBER(Tabel1[[#This Row],[hulpkolom]]),INDIRECT("'NLSfB - PPO'!L"&$T28),"-")} -> - | AG28: =IF(ISNUMBER(Tabel1[[#This Row],[Frequentie 1]]),Tabel1[[#This Row],[Frequentie 1]]*Tabel1[[#This Row],[Prijs 1]],0) -> 0 | AH28: =IF(ISNUMBER(Tabel1[[#This Row],[Frequentie 2]]),Tabel1[[#This Row],[Frequentie 2]]*Tabel1[[#This Row],[Prijs 2]],0) -> 0 | AI28: =IF(ISNUMBER(Tabel1[[#This Row],[Frequentie 3]]),Tabel1[[#This Row],[Frequentie 3]]*Tabel1[[#This Row],[Prijs 3]],0) -> 0 | AJ28: =IF(ISNUMBER(Tabel1[[#This Row],[Frequentie 4]]),Tabel1[[#This Row],[Frequentie 4]]*Tabel1[[#This Row],[Prijs 4]],0) -> 0 | AK28: =SUM(Tabel1[[#This Row],[Totaal 1]:[Totaal 4]]) -> 0
A29: Brandweer | B29: Verlengde parklaan 36 | C29: Hattem | D29: 788 m2 | E29: 61.21.20 | F29: centrale elektrotechnische voorzieningen; aarding, beveiliging; overspanningsbeveiliging | G29: =VLOOKUP(Tabel1[[#This Row],[NLSfB]],NLSfB!A:D,4,1) -> overspanningsbeveiliging | H29: elektra/verlichting | I29: 1 | J29: 2009 | K29: OBO | L29: 0 | M29: 0 | N29: 0 | O29: 0 | P29: 0 | Q29: 0 | R29: 0 | S29: 0 | T29: =_xlfn.XMATCH(E29,'NLSfb - PPO'!$B$2:$B$205,0)+1 -> 27 | U29: {=IF(ISNUMBER(Tabel1[[#This Row],[hulpkolom]]),INDIRECT("'NLSfB - PPO'!D"&$T29),"n.v.t.")} -> E140-A | V29: {=IF(ISNUMBER(Tabel1[[#This Row],[hulpkolom]]),INDIRECT("'NLSfB - PPO'!E"&$T29),"-")} -> 1 | X29: {=IF(ISNUMBER(Tabel1[[#This Row],[hulpkolom]]),INDIRECT("'NLSfB - PPO'!G"&$T29),"-")} -> - | Y29: {=IF(ISNUMBER(Tabel1[[#This Row],[hulpkolom]]),INDIRECT("'NLSfB - PPO'!H"&$T29),"-")} -> - | AA29: {=IF(ISNUMBER(Tabel1[[#This Row],[hulpkolom]]),INDIRECT("'NLSfB - PPO'!J"&$T29),"-")} -> - | AB29: {=IF(ISNUMBER(Tabel1[[#This Row],[hulpkolom]]),INDIRECT("'NLSfB - PPO'!K"&$T29),"-")} -> - | AD29: {=IF(ISNUMBER(Tabel1[[#This Row],[hulpkolom]]),INDIRECT("'NLSfB - PPO'!M"&$T29),"-")} -> - | AE29: {=IF(ISNUMBER(Tabel1[[#This Row],[hulpkolom]]),INDIRECT("'NLSfB - PPO'!L"&$T29),"-")} -> - | AG29: =IF(ISNUMBER(Tabel1[[#This Row],[Frequentie 1]]),Tabel1[[#This Row],[Frequentie 1]]*Tabel1[[#This Row],[Prijs 1]],0) -> 0 | AH29: =IF(ISNUMBER(Tabel1[[#This Row],[Frequentie 2]]),Tabel1[[#This Row],[Frequentie 2]]*Tabel1[[#This Row],[Prijs 2]],0) -> 0 | AI29: =IF(ISNUMBER(Tabel1[[#This Row],[Frequentie 3]]),Tabel1[[#This Row],[Frequentie 3]]*Tabel1[[#This Row],[Prijs 3]],0) -> 0 | AJ29: =IF(ISNUMBER(Tabel1[[#This Row],[Frequentie 4]]),Tabel1[[#This Row],[Frequentie 4]]*Tabel1[[#This Row],[Prijs 4]],0) -> 0 | AK29: =SUM(Tabel1[[#This Row],[Totaal 1]:[Totaal 4]]) -> 0
A30: Brandweer | B30: Verlengde parklaan 36 | C30: Hattem | D30: 788 m2 | E30: 61.52.00 | F30: centrale elektrotechnische voorzieningen; energiedistributie laagspanning ≤1kV, laagspanningshoofdverdeler | G30: =VLOOKUP(Tabel1[[#This Row],[NLSfB]],NLSfB!A:D,4,1) -> laagspanningshoofdverdeler | H30: elektra/verlichting | I30: 1 | J30: 2009 | K30: Eaton | L30: systeem 55 | M30: Inom 63-250A | N30: 11 groepen licht | O30: 4 groepen krachtstroom | P30: 11 groepen achter aardlekschakelaar | Q30: overspanningsbeveiliging aanwezig | R30: 0 | S30: 0 | T30: =_xlfn.XMATCH(E30,'NLSfb - PPO'!$B$2:$B$205,0)+1 -> 25 | U30: {=IF(ISNUMBER(Tabel1[[#This Row],[hulpkolom]]),INDIRECT("'NLSfB - PPO'!D"&$T30),"n.v.t.")} -> E030-A | V30: {=IF(ISNUMBER(Tabel1[[#This Row],[hulpkolom]]),INDIRECT("'NLSfB - PPO'!E"&$T30),"-")} -> 0.2 | X30: {=IF(ISNUMBER(Tabel1[[#This Row],[hulpkolom]]),INDIRECT("'NLSfB - PPO'!G"&$T30),"-")} -> E160-A | Y30: {=IF(ISNUMBER(Tabel1[[#This Row],[hulpkolom]]),INDIRECT("'NLSfB - PPO'!H"&$T30),"-")} -> 1 | AA30: {=IF(ISNUMBER(Tabel1[[#This Row],[hulpkolom]]),INDIRECT("'NLSfB - PPO'!J"&$T30),"-")} -> E170-A | AB30: {=IF(ISNUMBER(Tabel1[[#This Row],[hulpkolom]]),INDIRECT("'NLSfB - PPO'!K"&$T30),"-")} -> 1 | AD30: {=IF(ISNUMBER(Tabel1[[#This Row],[hulpkolom]]),INDIRECT("'NLSfB - PPO'!M"&$T30),"-")} -> - | AE30: {=IF(ISNUMBER(Tabel1[[#This Row],[hulpkolom]]),INDIRECT("'NLSfB - PPO'!L"&$T30),"-")} -> - | AG30: =IF(ISNUMBER(Tabel1[[#This Row],[Frequentie 1]]),Tabel1[[#This Row],[Frequentie 1]]*Tabel1[[#This Row],[Prijs 1]],0) -> 0 | AH30: =IF(ISNUMBER(Tabel1[[#This Row],[Frequentie 2]]),Tabel1[[#This Row],[Frequentie 2]]*Tabel1[[#This Row],[Prijs 2]],0) -> 0 | AI30: =IF(ISNUMBER(Tabel1[[#This Row],[Frequentie 3]]),Tabel1[[#This Row],[Frequentie 3]]*Tabel1[[#This Row],[Prijs 3]],0) -> 0 | AJ30: =IF(ISNUMBER(Tabel1[[#This Row],[Frequentie 4]]),Tabel1[[#This Row],[Frequentie 4]]*Tabel1[[#This Row],[Prijs 4]],0) -> 0 | AK30: =SUM(Tabel1[[#This Row],[Totaal 1]:[Totaal 4]]) -> 0
A31: Brandweer | B31: Verlengde parklaan 36 | C31: Hattem | D31: 788 m2 | E31: 61.52.00 | F31: centrale elektrotechnische voorzieningen; energiedistributie laagspanning ≤1kV, laagspanningshoofdverdeler | G31: =VLOOKUP(Tabel1[[#This Row],[NLSfB]],NLSfB!A:D,4,1) -> laagspanningshoofdverdeler | H31: elektra/verlichting | I31: 1 | J31: 2009 | K31: Merlin | L31: Gerin | M31: Inom 63-250A | N31: 19 groepen licht | O31: 4 groepen krachtstroom | P31: 19 groepen achter aardlekschakelaar | Q31: overspanningsbeveiliging aanwezig | R31: 0 | S31: 0 | T31: =_xlfn.XMATCH(E31,'NLSfb - PPO'!$B$2:$B$205,0)+1 -> 25 | U31: {=IF(ISNUMBER(Tabel1[[#This Row],[hulpkolom]]),INDIRECT("'NLSfB - PPO'!D"&$T31),"n.v.t.")} -> E030-A | V31: {=IF(ISNUMBER(Tabel1[[#This Row],[hulpkolom]]),INDIRECT("'NLSfB - PPO'!E"&$T31),"-")} -> 0.2 | X31: {=IF(ISNUMBER(Tabel1[[#This Row],[hulpkolom]]),INDIRECT("'NLSfB - PPO'!G"&$T31),"-")} -> E160-A | Y31: {=IF(ISNUMBER(Tabel1[[#This Row],[hulpkolom]]),INDIRECT("'NLSfB - PPO'!H"&$T31),"-")} -> 1 | AA31: {=IF(ISNUMBER(Tabel1[[#This Row],[hulpkolom]]),INDIRECT("'NLSfB - PPO'!J"&$T31),"-")} -> E170-A | AB31: {=IF(ISNUMBER(Tabel1[[#This Row],[hulpkolom]]),INDIRECT("'NLSfB - PPO'!K"&$T31),"-")} -> 1 | AD31: {=IF(ISNUMBER(Tabel1[[#This Row],[hulpkolom]]),INDIRECT("'NLSfB - PPO'!M"&$T31),"-")} -> - | AE31: {=IF(ISNUMBER(Tabel1[[#This Row],[hulpkolom]]),INDIRECT("'NLSfB - PPO'!L"&$T31),"-")} -> - | AG31: =IF(ISNUMBER(Tabel1[[#This Row],[Frequentie 1]]),Tabel1[[#This Row],[Frequentie 1]]*Tabel1[[#This Row],[Prijs 1]],0) -> 0 | AH31: =IF(ISNUMBER(Tabel1[[#This Row],[Frequentie 2]]),Tabel1[[#This Row],[Frequentie 2]]*Tabel1[[#This Row],[Prijs 2]],0) -> 0 | AI31: =IF(ISNUMBER(Tabel1[[#This Row],[Frequentie 3]]),Tabel1[[#This Row],[Frequentie 3]]*Tabel1[[#This Row],[Prijs 3]],0) -> 0 | AJ31: =IF(ISNUMBER(Tabel1[[#This Row],[Frequentie 4]]),Tabel1[[#This Row],[Frequentie 4]]*Tabel1[[#This Row],[Prijs 4]],0) -> 0 | AK31: =SUM(Tabel1[[#This Row],[Totaal 1]:[Totaal 4]]) -> 0
A32: Brandweer | B32: Verlengde parklaan 36 | C32: Hattem | D32: 788 m2 | E32: 61.52.00 | F32: centrale elektrotechnische voorzieningen; energiedistributie laagspanning ≤1kV, laagspanningshoofdverdeler | G32: =VLOOKUP(Tabel1[[#This Row],[NLSfB]],NLSfB!A:D,4,1) -> laagspanningshoofdverdeler | H32: elektra/verlichting | I32: 1 | J32: 0 | K32: Els | L32: 0 | M32: Inom 63-250A | N32: 1 groepen licht | O32: 2 groepen krachtstroom | P32: 3 groepen achter aardlekschakelaar | Q32: geen overspanningsbeveiliging aanwezig | R32: PV verdeler | S32: 0 | T32: =_xlfn.XMATCH(E32,'NLSfb - PPO'!$B$2:$B$205,0)+1 -> 25 | U32: {=IF(ISNUMBER(Tabel1[[#This Row],[hulpkolom]]),INDIRECT("'NLSfB - PPO'!D"&$T32),"n.v.t.")} -> E030-A | V32: {=IF(ISNUMBER(Tabel1[[#This Row],[hulpkolom]]),INDIRECT("'NLSfB - PPO'!E"&$T32),"-")} -> 0.2 | X32: {=IF(ISNUMBER(Tabel1[[#This Row],[hulpkolom]]),INDIRECT("'NLSfB - PPO'!G"&$T32),"-")} -> E160-A | Y32: {=IF(ISNUMBER(Tabel1[[#This Row],[hulpkolom]]),INDIRECT("'NLSfB - PPO'!H"&$T32),"-")} -> 1 | AA32: {=IF(ISNUMBER(Tabel1[[#This Row],[hulpkolom]]),INDIRECT("'NLSfB - PPO'!J"&$T32),"-")} -> E170-A | AB32: {=IF(ISNUMBER(Tabel1[[#This Row],[hulpkolom]]),INDIRECT("'NLSfB - PPO'!K"&$T32),"-")} -> 1 | AD32: {=IF(ISNUMBER(Tabel1[[#This Row],[hulpkolom]]),INDIRECT("'NLSfB - PPO'!M"&$T32),"-")} -> - | AE32: {=IF(ISNUMBER(Tabel1[[#This Row],[hulpkolom]]),INDIRECT("'NLSfB - PPO'!L"&$T32),"-")} -> - | AG32: =IF(ISNUMBER(Tabel1[[#This Row],[Frequentie 1]]),Tabel1[[#This Row],[Frequentie 1]]*Tabel1[[#This Row],[Prijs 1]],0) -> 0 | AH32: =IF(ISNUMBER(Tabel1[[#This Row],[Frequentie 2]]),Tabel1[[#This Row],[Frequentie 2]]*Tabel1[[#This Row],[Prijs 2]],0) -> 0 | AI32: =IF(ISNUMBER(Tabel1[[#This Row],[Frequentie 3]]),Tabel1[[#This Row],[Frequentie 3]]*Tabel1[[#This Row],[Prijs 3]],0) -> 0 | AJ32: =IF(ISNUMBER(Tabel1[[#This Row],[Frequentie 4]]),Tabel1[[#This Row],[Frequentie 4]]*Tabel1[[#This Row],[Prijs 4]],0) -> 0 | AK32: =SUM(Tabel1[[#This Row],[Totaal 1]:[Totaal 4]]) -> 0
A33: Brandweer | B33: Verlengde parklaan 36 | C33: Hattem | D33: 788 m2 | E33: 63.21.00 | F33: verlichting; verlichting standaard armaturen, armaturen | G33: =VLOOKUP(Tabel1[[#This Row],[NLSfB]],NLSfB!A:D,4,1) -> verlichtingsarmaturen | H33: elektra/verlichting | I33: 26 | J33: 2009 | K33: Philips | L33: 0 | M33: 1 lichtbronnen per armatuur | N33: 49 W | O33: 0 | P33: 0 | Q33: 0 | R33: 0 | S33: 0 | T33: =_xlfn.XMATCH(E33,'NLSfb - PPO'!$B$2:$B$205,0)+1 -> 79 | U33: {=IF(ISNUMBER(Tabel1[[#This Row],[hulpkolom]]),INDIRECT("'NLSfB - PPO'!D"&$T33),"n.v.t.")} -> LCHT010-A | V33: {=IF(ISNUMBER(Tabel1[[#This Row],[hulpkolom]]),INDIRECT("'NLSfB - PPO'!E"&$T33),"-")} -> 1 | X33: {=IF(ISNUMBER(Tabel1[[#This Row],[hulpkolom]]),INDIRECT("'NLSfB - PPO'!G"&$T33),"-")} -> - | Y33: {=IF(ISNUMBER(Tabel1[[#This Row],[hulpkolom]]),INDIRECT("'NLSfB - PPO'!H"&$T33),"-")} -> - | AA33: {=IF(ISNUMBER(Tabel1[[#This Row],[hulpkolom]]),INDIRECT("'NLSfB - PPO'!J"&$T33),"-")} -> - | AB33: {=IF(ISNUMBER(Tabel1[[#This Row],[hulpkolom]]),INDIRECT("'NLSfB - PPO'!K"&$T33),"-")} -> - | AD33: {=IF(ISNUMBER(Tabel1[[#This Row],[hulpkolom]]),INDIRECT("'NLSfB - PPO'!M"&$T33),"-")} -> - | AE33: {=IF(ISNUMBER(Tabel1[[#This Row],[hulpkolom]]),INDIRECT("'NLSfB - PPO'!L"&$T33),"-")} -> - | AG33: =IF(ISNUMBER(Tabel1[[#This Row],[Frequentie 1]]),Tabel1[[#This Row],[Frequentie 1]]*Tabel1[[#This Row],[Prijs 1]],0) -> 0 | AH33: =IF(ISNUMBER(Tabel1[[#This Row],[Frequentie 2]]),Tabel1[[#This Row],[Frequentie 2]]*Tabel1[[#This Row],[Prijs 2]],0) -> 0 | AI33: =IF(ISNUMBER(Tabel1[[#This Row],[Frequentie 3]]),Tabel1[[#This Row],[Frequentie 3]]*Tabel1[[#This Row],[Prijs 3]],0) -> 0 | AJ33: =IF(ISNUMBER(Tabel1[[#This Row],[Frequentie 4]]),Tabel1[[#This Row],[Frequentie 4]]*Tabel1[[#This Row],[Prijs 4]],0) -> 0 | AK33: =SUM(Tabel1[[#This Row],[Totaal 1]:[Totaal 4]]) -> 0
A34: Brandweer | B34: Verlengde parklaan 36 | C34: Hattem | D34: 788 m2 | E34: 63.21.00 | F34: verlichting; verlichting standaard armaturen, armaturen | G34: =VLOOKUP(Tabel1[[#This Row],[NLSfB]],NLSfB!A:D,4,1) -> verlichtingsarmaturen | H34: elektra/verlichting | I34: 12 | J34: 2009 | K34: Philips | L34: 0 | M34: 1 lichtbronnen per armatuur | N34: 58 W | O34: waterdicht armatuur | P34: 0 | Q34: 0 | R34: 0 | S34: 0 | T34: =_xlfn.XMATCH(E34,'NLSfb - PPO'!$B$2:$B$205,0)+1 -> 79 | U34: {=IF(ISNUMBER(Tabel1[[#This Row],[hulpkolom]]),INDIRECT("'NLSfB - PPO'!D"&$T34),"n.v.t.")} -> LCHT010-A | V34: {=IF(ISNUMBER(Tabel1[[#This Row],[hulpkolom]]),INDIRECT("'NLSfB - PPO'!E"&$T34),"-")} -> 1 | X34: {=IF(ISNUMBER(Tabel1[[#This Row],[hulpkolom]]),INDIRECT("'NLSfB - PPO'!G"&$T34),"-")} -> - | Y34: {=IF(ISNUMBER(Tabel1[[#This Row],[hulpkolom]]),INDIRECT("'NLSfB - PPO'!H"&$T34),"-")} -> - | AA34: {=IF(ISNUMBER(Tabel1[[#This Row],[hulpkolom]]),INDIRECT("'NLSfB - PPO'!J"&$T34),"-")} -> - | AB34: {=IF(ISNUMBER(Tabel1[[#This Row],[hulpkolom]]),INDIRECT("'NLSfB - PPO'!K"&$T34),"-")} -> - | AD34: {=IF(ISNUMBER(Tabel1[[#This Row],[hulpkolom]]),INDIRECT("'NLSfB - PPO'!M"&$T34),"-")} -> - | AE34: {=IF(ISNUMBER(Tabel1[[#This Row],[hulpkolom]]),INDIRECT("'NLSfB - PPO'!L"&$T34),"-")} -> - | AG34: =IF(ISNUMBER(Tabel1[[#This Row],[Frequentie 1]]),Tabel1[[#This Row],[Frequentie 1]]*Tabel1[[#This Row],[Prijs 1]],0) -> 0 | AH34: =IF(ISNUMBER(Tabel1[[#This Row],[Frequentie 2]]),Tabel1[[#This Row],[Frequentie 2]]*Tabel1[[#This Row],[Prijs 2]],0) -> 0 | AI34: =IF(ISNUMBER(Tabel1[[#This Row],[Frequentie 3]]),Tabel1[[#This Row],[Frequentie 3]]*Tabel1[[#This Row],[Prijs 3]],0) -> 0 | AJ34: =IF(ISNUMBER(Tabel1[[#This Row],[Frequentie 4]]),Tabel1[[#This Row],[Frequentie 4]]*Tabel1[[#This Row],[Prijs 4]],0) -> 0 | AK34: =SUM(Tabel1[[#This Row],[Totaal 1]:[Totaal 4]]) -> 0
A35: Brandweer | B35: Verlengde parklaan 36 | C35: Hattem | D35: 788 m2 | E35: 63.21.00 | F35: verlichting; verlichting standaard armaturen, armaturen | G35: =VLOOKUP(Tabel1[[#This Row],[NLSfB]],NLSfB!A:D,4,1) -> verlichtingsarmaturen | H35: elektra/verlichting | I35: 4 | J35: 2009 | K35: Philips | L35: 0 | M35: 1 lichtbronnen per armatuur | N35: 58 W | O35: trog armatuur | P35: 0 | Q35: 0 | R35: 0 | S35: 0 | T35: =_xlfn.XMATCH(E35,'NLSfb - PPO'!$B$2:$B$205,0)+1 -> 79 | U35: {=IF(ISNUMBER(Tabel1[[#This Row],[hulpkolom]]),INDIRECT("'NLSfB - PPO'!D"&$T35),"n.v.t.")} -> LCHT010-A | V35: {=IF(ISNUMBER(Tabel1[[#This Row],[hulpkolom]]),INDIRECT("'NLSfB - PPO'!E"&$T35),"-")} -> 1 | X35: {=IF(ISNUMBER(Tabel1[[#This Row],[hulpkolom]]),INDIRECT("'NLSfB - PPO'!G"&$T35),"-")} -> - | Y35: {=IF(ISNUMBER(Tabel1[[#This Row],[hulpkolom]]),INDIRECT("'NLSfB - PPO'!H"&$T35),"-")} -> - | AA35: {=IF(ISNUMBER(Tabel1[[#This Row],[hulpkolom]]),INDIRECT("'NLSfB - PPO'!J"&$T35),"-")} -> - | AB35: {=IF(ISNUMBER(Tabel1[[#This Row],[hulpkolom]]),INDIRECT("'NLSfB - PPO'!K"&$T35),"-")} -> - | AD35: {=IF(ISNUMBER(Tabel1[[#This Row],[hulpkolom]]),INDIRECT("'NLSfB - PPO'!M"&$T35),"-")} -> - | AE35: {=IF(ISNUMBER(Tabel1[[#This Row],[hulpkolom]]),INDIRECT("'NLSfB - PPO'!L"&$T35),"-")} -> - | AG35: =IF(ISNUMBER(Tabel1[[#This Row],[Frequentie 1]]),Tabel1[[#This Row],[Frequentie 1]]*Tabel1[[#This Row],[Prijs 1]],0) -> 0 | AH35: =IF(ISNUMBER(Tabel1[[#This Row],[Frequentie 2]]),Tabel1[[#This Row],[Frequentie 2]]*Tabel1[[#This Row],[Prijs 2]],0) -> 0 | AI35: =IF(ISNUMBER(Tabel1[[#This Row],[Frequentie 3]]),Tabel1[[#This Row],[Frequentie 3]]*Tabel1[[#This Row],[Prijs 3]],0) -> 0 | AJ35: =IF(ISNUMBER(Tabel1[[#This Row],[Frequentie 4]]),Tabel1[[#This Row],[Frequentie 4]]*Tabel1[[#This Row],[Prijs 4]],0) -> 0 | AK35: =SUM(Tabel1[[#This Row],[Totaal 1]:[Totaal 4]]) -> 0
