Workbook

Sheet Inventarislijst
A1: Bijlage I Standaardformulier Inventarislijst met prijzen en frequentie activiteiten per asset
A2: Project: | B2: Onderhoud gebouwgebonden installaties | Z2: Totaal Proactief preventief onderhoud | AF2: =SUM(Tabel1[Totaal]) -> 0
A3: Betreft: | B3: Invulformulier deelprijzen per activiteit per asset. De totaalprijs wordt gehanteerd om de Inschrijfprijs te bepalen. Aan de Inschrijfprijs en gehanteerde rekenwaarden kunnen geen rechten worden ontleend.
A4: Locatie | B4: Adres | C4: Plaats | D4: Oppervlak (m2 BVO) | E4: NLSfB | F4: Omschrijving | G4: Korte omschrijving | H4: Groep | I4: Aantal | J4: Bouwjaar | K4: Fabrikaat | L4: Type | M4: Kenmerk 1 | N4: Kenmerk 2 | O4: Kenmerk 3 | P4: Kenmerk 4 | Q4: Kenmerk 5 | R4: Kenmerk 6 | S4: Kenmerk 7 | T4: hulpkolom | U4: PPO code 1 | V4: Frequentie 1 | W4: Prijs 1 | X4: PPO code 2 | Y4: Frequentie 2 | Z4: Prijs 2 | AA4: PPO code 3 | AB4: Frequentie 3 | AC4: Prijs 3 | AD4: PPO code 4 | AE4: Frequentie 4 | AF4: Prijs 4 | AG4: Totaal 1 | AH4: Totaal 2 | AI4: Totaal 3 | AJ4: Totaal 4 | AK4: Totaal
A5: Brandweer | B5: Verlengde parklaan 36 | C5: Hattem | D5: 788 m2 | E5: 31.35.00 | F5: buitenwandopeningen; gevuld met deuren, overheaddeur (rol/sectionale) | G5: =VLOOKUP(Tabel1[[#This Row],[NLSfB]],NLSfB!A:D,4,1) -> overheaddeur (buiten) | H5: toegang | I5: 3 | J5: 2009 | K5: Hormann | L5: B 460FU | M5: elektrische bediening | N5: 4 m (h) | O5: 3,5 m (b) | P5: onbekend aantal afstandsbedieningen | Q5: 0 | R5: 0 | S5: 0 | T5: =_xlfn.XMATCH(E5,'NLSfb - PPO'!$B$2:$B$205,0)+1 -> 122 | U5: {=IF(ISNUMBER(Tabel1[[#This Row],[hulpkolom]]),INDIRECT("'NLSfB - PPO'!D"&$T5),"n.v.t.")} -> TG050-A | V5: {=IF(ISNUMBER(Tabel1[[#This Row],[hulpkolom]]),INDIRECT("'NLSfB - PPO'!E"&$T5),"-")} -> 1 | X5: {=IF(ISNUMBER(Tabel1[[#This Row],[hulpkolom]]),INDIRECT("'NLSfB - PPO'!G"&$T5),"-")} -> - | Y5: {=IF(ISNUMBER(Tabel1[[#This Row],[hulpkolom]]),INDIRECT("'NLSfB - PPO'!H"&$T5),"-")} -> - | AA5: {=IF(ISNUMBER(Tabel1[[#This Row],[hulpkolom]]),INDIRECT("'NLSfB - PPO'!J"&$T5),"-")} -> - | AB5: {=IF(ISNUMBER(Tabel1[[#This Row],[hulpkolom]]),INDIRECT("'NLSfB - PPO'!K"&$T5),"-")} -> - | AD5: {=IF(ISNUMBER(Tabel1[[#This Row],[hulpkolom]]),INDIRECT("'NLSfB - PPO'!M"&$T5),"-")} -> - | AE5: {=IF(ISNUMBER(Tabel1[[#This Row],[hulpkolom]]),INDIRECT("'NLSfB - PPO'!L"&$T5),"-")} -> - | AG5: =IF(ISNUMBER(Tabel1[[#This Row],[Frequentie 1]]),Tabel1[[#This Row],[Frequentie 1]]*Tabel1[[#This Row],[Prijs 1]],0) -> 0 | AH5: =IF(ISNUMBER(Tabel1[[#This Row],[Frequentie 2]]),Tabel1[[#This Row],[Frequentie 2]]*Tabel1[[#This Row],[Prijs 2]],0) -> 0 | AI5: =IF(ISNUMBER(Tabel1[[#This Row],[Frequentie 3]]),Tabel1[[#This Row],[Frequentie 3]]*Tabel1[[#This Row],[Prijs 3]],0) -> 0 | AJ5: =IF(ISNUMBER(Tabel1[[#This Row],[Frequentie 4]]),Tabel1[[#This Row],[Frequentie 4]]*Tabel1[[#This Row],[Prijs 4]],0) -> 0 | AK5: =SUM(Tabel1[[#This Row],[Totaal 1]:[Totaal 4]]) -> 0
A6: Brandweer | B6: Verlengde parklaan 36 | C6: Hattem | D6: 788 m2 | E6: 52.21.10 | F6: afvoeren; fecaliën, standaardsysteem; leidingen afvoer | G6: =VLOOKUP(Tabel1[[#This Row],[NLSfB]],NLSfB!A:D,4,1) -> afvoerleidingen fecaliën | H6: water | I6: 1 | J6: 2009 | K6: 0 | L6: 0 | M6: kunststof | N6: 0 | O6: 0 | P6: 0 | Q6: 0 | R6: 0 | S6: 0 | T6: =_xlfn.XMATCH(E6,'NLSfb - PPO'!$B$2:$B$205,0)+1 -> 200 | U6: {=IF(ISNUMBER(Tabel1[[#This Row],[hulpkolom]]),INDIRECT("'NLSfB - PPO'!D"&$T6),"n.v.t.")} -> WTR190-A | V6: {=IF(ISNUMBER(Tabel1[[#This Row],[hulpkolom]]),INDIRECT("'NLSfB - PPO'!E"&$T6),"-")} -> 1 | X6: {=IF(ISNUMBER(Tabel1[[#This Row],[hulpkolom]]),INDIRECT("'NLSfB - PPO'!G"&$T6),"-")} -> - | Y6: {=IF(ISNUMBER(Tabel1[[#This Row],[hulpkolom]]),INDIRECT("'NLSfB - PPO'!H"&$T6),"-")} -> - | AA6: {=IF(ISNUMBER(Tabel1[[#This Row],[hulpkolom]]),INDIRECT("'NLSfB - PPO'!J"&$T6),"-")} -> - | AB6: {=IF(ISNUMBER(Tabel1[[#This Row],[hulpkolom]]),INDIRECT("'NLSfB - PPO'!K"&$T6),"-")} -> - | AD6: {=IF(ISNUMBER(Tabel1[[#This Row],[hulpkolom]]),INDIRECT("'NLSfB - PPO'!M"&$T6),"-")} -> - | AE6: {=IF(ISNUMBER(Tabel1[[#This Row],[hulpkolom]]),INDIRECT("'NLSfB - PPO'!L"&$T6),"-")} -> - | AG6: =IF(ISNUMBER(Tabel1[[#This Row],[Frequentie 1]]),Tabel1[[#This Row],[Frequentie 1]]*Tabel1[[#This Row],[Prijs 1]],0) -> 0 | AH6: =IF(ISNUMBER(Tabel1[[#This Row],[Frequentie 2]]),Tabel1[[#This Row],[Frequentie 2]]*Tabel1[[#This Row],[Prijs 2]],0) -> 0 | AI6: =IF(ISNUMBER(Tabel1[[#This Row],[Frequentie 3]]),Tabel1[[#This Row],[Frequentie 3]]*Tabel1[[#This Row],[Prijs 3]],0) -> 0 | AJ6: =IF(ISNUMBER(Tabel1[[#This Row],[Frequentie 4]]),Tabel1[[#This Row],[Frequentie 4]]*Tabel1[[#This Row],[Prijs 4]],0) -> 0 | AK6: =SUM(Tabel1[[#This Row],[Totaal 1]:[Totaal 4]]) -> 0
A7: Brandweer | B7: Verlengde parklaan 36 | C7: Hattem | D7: 788 m2 | E7: 53.60.00 | F7: water; legionellapreventie, algemeen (verzamelniveau) | G7: =VLOOKUP(Tabel1[[#This Row],[NLSfB]],NLSfB!A:D,4,1) -> legionellapreventie | H7: water | I7: 1 | J7: 0 | K7: 0 | L7: 0 | M7: beheersplan niet aanwezig | N7: monsterpunten | O7: keerkleppen | P7: 0 | Q7: 0 | R7: 0 | S7: 0 | T7: =_xlfn.XMATCH(E7,'NLSfb - PPO'!$B$2:$B$205,0)+1 -> 177 | U7: {=IF(ISNUMBER(Tabel1[[#This Row],[hulpkolom]]),INDIRECT("'NLSfB - PPO'!D"&$T7),"n.v.t.")} -> WTR050-A1 | V7: {=IF(ISNUMBER(Tabel1[[#This Row],[hulpkolom]]),INDIRECT("'NLSfB - PPO'!E"&$T7),"-")} -> Conform beheersplan | X7: {=IF(ISNUMBER(Tabel1[[#This Row],[hulpkolom]]),INDIRECT("'NLSfB - PPO'!G"&$T7),"-")} -> WTR050-A2 | Y7: {=IF(ISNUMBER(Tabel1[[#This Row],[hulpkolom]]),INDIRECT("'NLSfB - PPO'!H"&$T7),"-")} -> 2 | AA7: {=IF(ISNUMBER(Tabel1[[#This Row],[hulpkolom]]),INDIRECT("'NLSfB - PPO'!J"&$T7),"-")} -> - | AB7: {=IF(ISNUMBER(Tabel1[[#This Row],[hulpkolom]]),INDIRECT("'NLSfB - PPO'!K"&$T7),"-")} -> - | AD7: {=IF(ISNUMBER(Tabel1[[#This Row],[hulpkolom]]),INDIRECT("'NLSfB - PPO'!M"&$T7),"-")} -> - | AE7: {=IF(ISNUMBER(Tabel1[[#This Row],[hulpkolom]]),INDIRECT("'NLSfB - PPO'!L"&$T7),"-")} -> - | AG7: =IF(ISNUMBER(Tabel1[[#This Row],[Frequentie 1]]),Tabel1[[#This Row],[Frequentie 1]]*Tabel1[[#This Row],[Prijs 1]],0) -> 0 | AH7: =IF(ISNUMBER(Tabel1[[#This Row],[Frequentie 2]]),Tabel1[[#This Row],[Frequentie 2]]*Tabel1[[#This Row],[Prijs 2]],0) -> 0 | AI7: =IF(ISNUMBER(Tabel1[[#This Row],[Frequentie 3]]),Tabel1[[#This Row],[Frequentie 3]]*Tabel1[[#This Row],[Prijs 3]],0) -> 0 | AJ7: =IF(ISNUMBER(Tabel1[[#This Row],[Frequentie 4]]),Tabel1[[#This Row],[Frequentie 4]]*Tabel1[[#This Row],[Prijs 4]],0) -> 0 | AK7: =SUM(Tabel1[[#This Row],[Totaal 1]:[Totaal 4]]) -> 0
A8: Brandweer | B8: Verlengde parklaan 36 | C8: Hattem | D8: 788 m2 | E8: 54.11.00 | F8: gassen; brandstof, aardgasvoorziening / menggasvoorziening | G8: =VLOOKUP(Tabel1[[#This Row],[NLSfB]],NLSfB!A:D,4,1) -> aardgas-/menggasvoorziening | H8: gas | I8: 1 | J8: 2009 | K8: 0 | L8: 0 | M8: Gasmeter G4 | N8: 0 | O8: 0 | P8: 0 | Q8: 0 | R8: 0 | S8: 0 | T8: =_xlfn.XMATCH(E8,'NLSfb - PPO'!$B$2:$B$205,0)+1 -> 33 | U8: {=IF(ISNUMBER(Tabel1[[#This Row],[hulpkolom]]),INDIRECT("'NLSfB - PPO'!D"&$T8),"n.v.t.")} -> GAL010-A | V8: {=IF(ISNUMBER(Tabel1[[#This Row],[hulpkolom]]),INDIRECT("'NLSfB - PPO'!E"&$T8),"-")} -> 1 | X8: {=IF(ISNUMBER(Tabel1[[#This Row],[hulpkolom]]),INDIRECT("'NLSfB - PPO'!G"&$T8),"-")} -> GAL010-K | Y8: {=IF(ISNUMBER(Tabel1[[#This Row],[hulpkolom]]),INDIRECT("'NLSfB - PPO'!H"&$T8),"-")} -> 0.25 | AA8: {=IF(ISNUMBER(Tabel1[[#This Row],[hulpkolom]]),INDIRECT("'NLSfB - PPO'!J"&$T8),"-")} -> - | AB8: {=IF(ISNUMBER(Tabel1[[#This Row],[hulpkolom]]),INDIRECT("'NLSfB - PPO'!K"&$T8),"-")} -> - | AD8: {=IF(ISNUMBER(Tabel1[[#This Row],[hulpkolom]]),INDIRECT("'NLSfB - PPO'!M"&$T8),"-")} -> - | AE8: {=IF(ISNUMBER(Tabel1[[#This Row],[hulpkolom]]),INDIRECT("'NLSfB - PPO'!L"&$T8),"-")} -> - | AG8: =IF(ISNUMBER(Tabel1[[#This Row],[Frequentie 1]]),Tabel1[[#This Row],[Frequentie 1]]*Tabel1[[#This Row],[Prijs 1]],0) -> 0 | AH8: =IF(ISNUMBER(Tabel1[[#This Row],[Frequentie 2]]),Tabel1[[#This Row],[Frequentie 2]]*Tabel1[[#This Row],[Prijs 2]],0) -> 0 | AI8: =IF(ISNUMBER(Tabel1[[#This Row],[Frequentie 3]]),Tabel1[[#This Row],[Frequentie 3]]*Tabel1[[#This Row],[Prijs 3]],0) -> 0 | AJ8: =IF(ISNUMBER(Tabel1[[#This Row],[Frequentie 4]]),Tabel1[[#This Row],[Frequentie 4]]*Tabel1[[#This Row],[Prijs 4]],0) -> 0 | AK8: =SUM(Tabel1[[#This Row],[Totaal 1]:[Totaal 4]]) -> 0
A9: Brandweer | B9: Verlengde parklaan 36 | C9: Hattem | D9: 788 m2 | E9: 54.23.00 | F9: gassen; perslucht, compressor | G9: =VLOOKUP(Tabel1[[#This Row],[NLSfB]],NLSfB!A:D,4,1) -> compressor perslucht | H9: gas | I9: 1 | J9: 2009 | K9: 0 | L9: LW230 ES | M9: 5,5 kW | N9: 0 | O9: L | P9: l/min | Q9: bar | R9: 0 | S9: 0 | T9: =_xlfn.XMATCH(E9,'NLSfb - PPO'!$B$2:$B$205,0)+1 -> 98 | U9: {=IF(ISNUMBER(Tabel1[[#This Row],[hulpkolom]]),INDIRECT("'NLSfB - PPO'!D"&$T9),"n.v.t.")} -> PERS010-A | V9: {=IF(ISNUMBER(Tabel1[[#This Row],[hulpkolom]]),INDIRECT("'NLSfB - PPO'!E"&$T9),"-")} -> 1 | X9: {=IF(ISNUMBER(Tabel1[[#This Row],[hulpkolom]]),INDIRECT("'NLSfB - PPO'!G"&$T9),"-")} -> - | Y9: {=IF(ISNUMBER(Tabel1[[#This Row],[hulpkolom]]),INDIRECT("'NLSfB - PPO'!H"&$T9),"-")} -> - | AA9: {=IF(ISNUMBER(Tabel1[[#This Row],[hulpkolom]]),INDIRECT("'NLSfB - PPO'!J"&$T9),"-")} -> - | AB9: {=IF(ISNUMBER(Tabel1[[#This Row],[hulpkolom]]),INDIRECT("'NLSfB - PPO'!K"&$T9),"-")} -> - | AD9: {=IF(ISNUMBER(Tabel1[[#This Row],[hulpkolom]]),INDIRECT("'NLSfB - PPO'!M"&$T9),"-")} -> - | AE9: {=IF(ISNUMBER(Tabel1[[#This Row],[hulpkolom]]),INDIRECT("'NLSfB - PPO'!L"&$T9),"-")} -> - | AG9: =IF(ISNUMBER(Tabel1[[#This Row],[Frequentie 1]]),Tabel1[[#This Row],[Frequentie 1]]*Tabel1[[#This Row],[Prijs 1]],0) -> 0 | AH9: =IF(ISNUMBER(Tabel1[[#This Row],[Frequentie 2]]),Tabel1[[#This Row],[Frequentie 2]]*Tabel1[[#This Row],[Prijs 2]],0) -> 0 | AI9: =IF(ISNUMBER(Tabel1[[#This Row],[Frequentie 3]]),Tabel1[[#This Row],[Frequentie 3]]*Tabel1[[#This Row],[Prijs 3]],0) -> 0 | AJ9: =IF(ISNUMBER(Tabel1[[#This Row],[Frequentie 4]]),Tabel1[[#This Row],[Frequentie 4]]*Tabel1[[#This Row],[Prijs 4]],0) -> 0 | AK9: =SUM(Tabel1[[#This Row],[Totaal 1]:[Totaal 4]]) -> 0
A10: Brandweer | B10: Verlengde parklaan 36 | C10: Hattem | D10: 788 m2 | E10: 54.23.00 | F10: gassen; perslucht, compressor | G10: =VLOOKUP(Tabel1[[#This Row],[NLSfB]],NLSfB!A:D,4,1) -> compressor perslucht | H10: gas | I10: 1 | J10: 2009 | K10: 0 | L10: ESC 514/270 | M10: 3 kW | N10: 0 | O10: 270 L | P10: l/min | Q10: bar | R10: 0 | S10: 0 | T10: =_xlfn.XMATCH(E10,'NLSfb - PPO'!$B$2:$B$205,0)+1 -> 98 | U10: {=IF(ISNUMBER(Tabel1[[#This Row],[hulpkolom]]),INDIRECT("'NLSfB - PPO'!D"&$T10),"n.v.t.")} -> PERS010-A | V10: {=IF(ISNUMBER(Tabel1[[#This Row],[hulpkolom]]),INDIRECT("'NLSfB - PPO'!E"&$T10),"-")} -> 1 | X10: {=IF(ISNUMBER(Tabel1[[#This Row],[hulpkolom]]),INDIRECT("'NLSfB - PPO'!G"&$T10),"-")} -> - | Y10: {=IF(ISNUMBER(Tabel1[[#This Row],[hulpkolom]]),INDIRECT("'NLSfB - PPO'!H"&$T10),"-")} -> - | AA10: {=IF(ISNUMBER(Tabel1[[#This Row],[hulpkolom]]),INDIRECT("'NLSfB - PPO'!J"&$T10),"-")} -> - | AB10: {=IF(ISNUMBER(Tabel1[[#This Row],[hulpkolom]]),INDIRECT("'NLSfB - PPO'!K"&$T10),"-")} -> - | AD10: {=IF(ISNUMBER(Tabel1[[#This Row],[hulpkolom]]),INDIRECT("'NLSfB - PPO'!M"&$T10),"-")} -> - | AE10: {=IF(ISNUMBER(Tabel1[[#This Row],[hulpkolom]]),INDIRECT("'NLSfB - PPO'!L"&$T10),"-")} -> - | AG10: =IF(ISNUMBER(Tabel1[[#This Row],[Frequentie 1]]),Tabel1[[#This Row],[Frequentie 1]]*Tabel1[[#This Row],[Prijs 1]],0) -> 0 | AH10: =IF(ISNUMBER(Tabel1[[#This Row],[Frequentie 2]]),Tabel1[[#This Row],[Frequentie 2]]*Tabel1[[#This Row],[Prijs 2]],0) -> 0 | AI10: =IF(ISNUMBER(Tabel1[[#This Row],[Frequentie 3]]),Tabel1[[#This Row],[Frequentie 3]]*Tabel1[[#This Row],[Prijs 3]],0) -> 0 | AJ10: =IF(ISNUMBER(Tabel1[[#This Row],[Frequentie 4]]),Tabel1[[#This Row],[Frequentie 4]]*Tabel1[[#This Row],[Prijs 4]],0) -> 0 | AK10: =SUM(Tabel1[[#This Row],[Totaal 1]:[Totaal 4]]) -> 0
A11: Brandweer | B11: Verlengde parklaan 36 | C11: Hattem | D11: 788 m2 | E11: 55.12.20 | F11: koeling; lokaal, splitsysteem; verwarmen/koelen 5-50 ton CO2 | G11: =VLOOKUP(Tabel1[[#This Row],[NLSfB]],NLSfB!A:D,4,1) -> splitsysteem verwarmen/koelen (5-50 ton CO2) | H11: koeling | I11: 2 | J11: 2009 | K11: Samsung | L11: binnen AR18RXFPEWQNEU buiten AR18RXFPEWQX | M11: STEK logboek niet aanwezig | N11: 5 kW | O11: 6 kW | P11: R32 | Q11: kg | R11: binnenunits | S11: wand unit | T11: =_xlfn.XMATCH(E11,'NLSfb - PPO'!$B$2:$B$205,0)+1 -> 155 | U11: {=IF(ISNUMBER(Tabel1[[#This Row],[hulpkolom]]),INDIRECT("'NLSfB - PPO'!D"&$T11),"n.v.t.")} -> VW110-A1 | V11: {=IF(ISNUMBER(Tabel1[[#This Row],[hulpkolom]]),INDIRECT("'NLSfB - PPO'!E"&$T11),"-")} -> 1 | X11: {=IF(ISNUMBER(Tabel1[[#This Row],[hulpkolom]]),INDIRECT("'NLSfB - PPO'!G"&$T11),"-")} -> - | Y11: {=IF(ISNUMBER(Tabel1[[#This Row],[hulpkolom]]),INDIRECT("'NLSfB - PPO'!H"&$T11),"-")} -> - | AA11: {=IF(ISNUMBER(Tabel1[[#This Row],[hulpkolom]]),INDIRECT("'NLSfB - PPO'!J"&$T11),"-")} -> - | AB11: {=IF(ISNUMBER(Tabel1[[#This Row],[hulpkolom]]),INDIRECT("'NLSfB - PPO'!K"&$T11),"-")} -> - | AD11: {=IF(ISNUMBER(Tabel1[[#This Row],[hulpkolom]]),INDIRECT("'NLSfB - PPO'!M"&$T11),"-")} -> - | AE11: {=IF(ISNUMBER(Tabel1[[#This Row],[hulpkolom]]),INDIRECT("'NLSfB - PPO'!L"&$T11),"-")} -> - | AG11: =IF(ISNUMBER(Tabel1[[#This Row],[Frequentie 1]]),Tabel1[[#This Row],[Frequentie 1]]*Tabel1[[#This Row],[Prijs 1]],0) -> 0 | AH11: =IF(ISNUMBER(Tabel1[[#This Row],[Frequentie 2]]),Tabel1[[#This Row],[Frequentie 2]]*Tabel1[[#This Row],[Prijs 2]],0) -> 0 | AI11: =IF(ISNUMBER(Tabel1[[#This Row],[Frequentie 3]]),Tabel1[[#This Row],[Frequentie 3]]*Tabel1[[#This Row],[Prijs 3]],0) -> 0 | AJ11: =IF(ISNUMBER(Tabel1[[#This Row],[Frequentie 4]]),Tabel1[[#This Row],[Frequentie 4]]*Tabel1[[#This Row],[Prijs 4]],0) -> 0 | AK11: =SUM(Tabel1[[#This Row],[Totaal 1]:[Totaal 4]]) -> 0
A12: Brandweer | B12: Verlengde parklaan 36 | C12: Hattem | D12: 788 m2 | E12: 55.12.20 | F12: koeling; lokaal, splitsysteem; verwarmen/koelen 5-50 ton CO2 | G12: =VLOOKUP(Tabel1[[#This Row],[NLSfB]],NLSfB!A:D,4,1) -> splitsysteem verwarmen/koelen (5-50 ton CO2) | H12: koeling | I12: 1 | J12: 2009 | K12: Samsung | L12: binnen AC100RNCDKGEU buiten AC100RXADNG/EU | M12: STEK logboek niet aanwezig | N12: 12 kW | O12: 15 kW | P12: R32 | Q12: 2,7 kg | R12: binnenunits | S12: wand unit | T12: =_xlfn.XMATCH(E12,'NLSfb - PPO'!$B$2:$B$205,0)+1 -> 155 | U12: {=IF(ISNUMBER(Tabel1[[#This Row],[hulpkolom]]),INDIRECT("'NLSfB - PPO'!D"&$T12),"n.v.t.")} -> VW110-A1 | V12: {=IF(ISNUMBER(Tabel1[[#This Row],[hulpkolom]]),INDIRECT("'NLSfB - PPO'!E"&$T12),"-")} -> 1 | X12: {=IF(ISNUMBER(Tabel1[[#This Row],[hulpkolom]]),INDIRECT("'NLSfB - PPO'!G"&$T12),"-")} -> - | Y12: {=IF(ISNUMBER(Tabel1[[#This Row],[hulpkolom]]),INDIRECT("'NLSfB - PPO'!H"&$T12),"-")} -> - | AA12: {=IF(ISNUMBER(Tabel1[[#This Row],[hulpkolom]]),INDIRECT("'NLSfB - PPO'!J"&$T12),"-")} -> - | AB12: {=IF(ISNUMBER(Tabel1[[#This Row],[hulpkolom]]),INDIRECT("'NLSfB - PPO'!K"&$T12),"-")} -> - | AD12: {=IF(ISNUMBER(Tabel1[[#This Row],[hulpkolom]]),INDIRECT("'NLSfB - PPO'!M"&$T12),"-")} -> - | AE12: {=IF(ISNUMBER(Tabel1[[#This Row],[hulpkolom]]),INDIRECT("'NLSfB - PPO'!L"&$T12),"-")} -> - | AG12: =IF(ISNUMBER(Tabel1[[#This Row],[Frequentie 1]]),Tabel1[[#This Row],[Frequentie 1]]*Tabel1[[#This Row],[Prijs 1]],0) -> 0 | AH12: =IF(ISNUMBER(Tabel1[[#This Row],[Frequentie 2]]),Tabel1[[#This Row],[Frequentie 2]]*Tabel1[[#This Row],[Prijs 2]],0) -> 0 | AI12: =IF(ISNUMBER(Tabel1[[#This Row],[Frequentie 3]]),Tabel1[[#This Row],[Frequentie 3]]*Tabel1[[#This Row],[Prijs 3]],0) -> 0 | AJ12: =IF(ISNUMBER(Tabel1[[#This Row],[Frequentie 4]]),Tabel1[[#This Row],[Frequentie 4]]*Tabel1[[#This Row],[Prijs 4]],0) -> 0 | AK12: =SUM(Tabel1[[#This Row],[Totaal 1]:[Totaal 4]]) -> 0
A13: Brandweer | B13: Verlengde parklaan 36 | C13: Hattem | D13: 788 m2 | E13: 53.21.30 | F13: water; verwarmd tapwater, met voorraad; voorraadboiler elektrisch | G13: =VLOOKUP(Tabel1[[#This Row],[NLSfB]],NLSfB!A:D,4,1) -> voorraadboiler elektrisch | H13: verwarming | I13: 2 | J13: 2009 | K13: Daalderop | L13: close-in | M13: 15 L | N13: 0 | O13: 0 | P13: 0 | Q13: 0 | R13: 0 | S13: 0 | T13: =_xlfn.XMATCH(E13,'NLSfb - PPO'!$B$2:$B$205,0)+1 -> 174 | U13: {=IF(ISNUMBER(Tabel1[[#This Row],[hulpkolom]]),INDIRECT("'NLSfB - PPO'!D"&$T13),"n.v.t.")} -> WTR030-A | V13: {=IF(ISNUMBER(Tabel1[[#This Row],[hulpkolom]]),INDIRECT("'NLSfB - PPO'!E"&$T13),"-")} -> 1 | X13: {=IF(ISNUMBER(Tabel1[[#This Row],[hulpkolom]]),INDIRECT("'NLSfB - PPO'!G"&$T13),"-")} -> - | Y13: {=IF(ISNUMBER(Tabel1[[#This Row],[hulpkolom]]),INDIRECT("'NLSfB - PPO'!H"&$T13),"-")} -> - | AA13: {=IF(ISNUMBER(Tabel1[[#This Row],[hulpkolom]]),INDIRECT("'NLSfB - PPO'!J"&$T13),"-")} -> - | AB13: {=IF(ISNUMBER(Tabel1[[#This Row],[hulpkolom]]),INDIRECT("'NLSfB - PPO'!K"&$T13),"-")} -> - | AD13: {=IF(ISNUMBER(Tabel1[[#This Row],[hulpkolom]]),INDIRECT("'NLSfB - PPO'!M"&$T13),"-")} -> - | AE13: {=IF(ISNUMBER(Tabel1[[#This Row],[hulpkolom]]),INDIRECT("'NLSfB - PPO'!L"&$T13),"-")} -> - | AG13: =IF(ISNUMBER(Tabel1[[#This Row],[Frequentie 1]]),Tabel1[[#This Row],[Frequentie 1]]*Tabel1[[#This Row],[Prijs 1]],0) -> 0 | AH13: =IF(ISNUMBER(Tabel1[[#This Row],[Frequentie 2]]),Tabel1[[#This Row],[Frequentie 2]]*Tabel1[[#This Row],[Prijs 2]],0) -> 0 | AI13: =IF(ISNUMBER(Tabel1[[#This Row],[Frequentie 3]]),Tabel1[[#This Row],[Frequentie 3]]*Tabel1[[#This Row],[Prijs 3]],0) -> 0 | AJ13: =IF(ISNUMBER(Tabel1[[#This Row],[Frequentie 4]]),Tabel1[[#This Row],[Frequentie 4]]*Tabel1[[#This Row],[Prijs 4]],0) -> 0 | AK13: =SUM(Tabel1[[#This Row],[Totaal 1]:[Totaal 4]]) -> 0
A14: Brandweer | B14: Verlengde parklaan 36 | C14: Hattem | D14: 788 m2 | E14: 56.21.10 | F14: verwarming; opwekking centraal, verwarmingstoestellen; atmosferische gasketel | G14: =VLOOKUP(Tabel1[[#This Row],[NLSfB]],NLSfB!A:D,4,1) -> ketel (gas) | H14: verwarming | I14: 1 | J14: 2009 | K14: Atag | L14: Q51C | M14: 48,7 kW | N14: voorziening warmtapwater | O14: 0 | P14: 0 | Q14: 0 | R14: 0 | S14: 0 | T14: =_xlfn.XMATCH(E14,'NLSfb - PPO'!$B$2:$B$205,0)+1 -> 130 | U14: {=IF(ISNUMBER(Tabel1[[#This Row],[hulpkolom]]),INDIRECT("'NLSfB - PPO'!D"&$T14),"n.v.t.")} -> VW030-A | V14: {=IF(ISNUMBER(Tabel1[[#This Row],[hulpkolom]]),INDIRECT("'NLSfB - PPO'!E"&$T14),"-")} -> 1 | X14: {=IF(ISNUMBER(Tabel1[[#This Row],[hulpkolom]]),INDIRECT("'NLSfB - PPO'!G"&$T14),"-")} -> VW030-K | Y14: {=IF(ISNUMBER(Tabel1[[#This Row],[hulpkolom]]),INDIRECT("'NLSfB - PPO'!H"&$T14),"-")} -> 0.25 | AA14: {=IF(ISNUMBER(Tabel1[[#This Row],[hulpkolom]]),INDIRECT("'NLSfB - PPO'!J"&$T14),"-")} -> - | AB14: {=IF(ISNUMBER(Tabel1[[#This Row],[hulpkolom]]),INDIRECT("'NLSfB - PPO'!K"&$T14),"-")} -> - | AD14: {=IF(ISNUMBER(Tabel1[[#This Row],[hulpkolom]]),INDIRECT("'NLSfB - PPO'!M"&$T14),"-")} -> - | AE14: {=IF(ISNUMBER(Tabel1[[#This Row],[hulpkolom]]),INDIRECT("'NLSfB - PPO'!L"&$T14),"-")} -> - | AG14: =IF(ISNUMBER(Tabel1[[#This Row],[Frequentie 1]]),Tabel1[[#This Row],[Frequentie 1]]*Tabel1[[#This Row],[Prijs 1]],0) -> 0 | AH14: =IF(ISNUMBER(Tabel1[[#This Row],[Frequentie 2]]),Tabel1[[#This Row],[Frequentie 2]]*Tabel1[[#This Row],[Prijs 2]],0) -> 0 | AI14: =IF(ISNUMBER(Tabel1[[#This Row],[Frequentie 3]]),Tabel1[[#This Row],[Frequentie 3]]*Tabel1[[#This Row],[Prijs 3]],0) -> 0 | AJ14: =IF(ISNUMBER(Tabel1[[#This Row],[Frequentie 4]]),Tabel1[[#This Row],[Frequentie 4]]*Tabel1[[#This Row],[Prijs 4]],0) -> 0 | AK14: =SUM(Tabel1[[#This Row],[Totaal 1]:[Totaal 4]]) -> 0
A15: Brandweer | B15: Verlengde parklaan 36 | C15: Hattem | D15: 788 m2 | E15: 56.24.10 | F15: verwarming; opwekking centraal, rookgasafvoer; ketel gas | G15: =VLOOKUP(Tabel1[[#This Row],[NLSfB]],NLSfB!A:D,4,1) -> rookgasafvoer gasketel | H15: verwarming | I15: 1 | J15: 2009 | K15: Skyline | L15: rvs | M15: 8 cm (Ø) | N15: 10 m (l) | O15: 0 | P15: 0 | Q15: 0 | R15: 0 | S15: 0 | T15: =_xlfn.XMATCH(E15,'NLSfb - PPO'!$B$2:$B$205,0)+1 -> 133 | U15: {=IF(ISNUMBER(Tabel1[[#This Row],[hulpkolom]]),INDIRECT("'NLSfB - PPO'!D"&$T15),"n.v.t.")} -> VW030-A | V15: {=IF(ISNUMBER(Tabel1[[#This Row],[hulpkolom]]),INDIRECT("'NLSfB - PPO'!E"&$T15),"-")} -> 1 | X15: {=IF(ISNUMBER(Tabel1[[#This Row],[hulpkolom]]),INDIRECT("'NLSfB - PPO'!G"&$T15),"-")} -> VW030-K | Y15: {=IF(ISNUMBER(Tabel1[[#This Row],[hulpkolom]]),INDIRECT("'NLSfB - PPO'!H"&$T15),"-")} -> 0.25 | AA15: {=IF(ISNUMBER(Tabel1[[#This Row],[hulpkolom]]),INDIRECT("'NLSfB - PPO'!J"&$T15),"-")} -> VW070-A | AB15: {=IF(ISNUMBER(Tabel1[[#This Row],[hulpkolom]]),INDIRECT("'NLSfB - PPO'!K"&$T15),"-")} -> 1 | AD15: {=IF(ISNUMBER(Tabel1[[#This Row],[hulpkolom]]),INDIRECT("'NLSfB - PPO'!M"&$T15),"-")} -> - | AE15: {=IF(ISNUMBER(Tabel1[[#This Row],[hulpkolom]]),INDIRECT("'NLSfB - PPO'!L"&$T15),"-")} -> - | AG15: =IF(ISNUMBER(Tabel1[[#This Row],[Frequentie 1]]),Tabel1[[#This Row],[Frequentie 1]]*Tabel1[[#This Row],[Prijs 1]],0) -> 0 | AH15: =IF(ISNUMBER(Tabel1[[#This Row],[Frequentie 2]]),Tabel1[[#This Row],[Frequentie 2]]*Tabel1[[#This Row],[Prijs 2]],0) -> 0 | AI15: =IF(ISNUMBER(Tabel1[[#This Row],[Frequentie 3]]),Tabel1[[#This Row],[Frequentie 3]]*Tabel1[[#This Row],[Prijs 3]],0) -> 0 | AJ15: =IF(ISNUMBER(Tabel1[[#This Row],[Frequentie 4]]),Tabel1[[#This Row],[Frequentie 4]]*Tabel1[[#This Row],[Prijs 4]],0) -> 0 | AK15: =SUM(Tabel1[[#This Row],[Totaal 1]:[Totaal 4]]) -> 0
A16: Brandweer | B16: Verlengde parklaan 36 | C16: Hattem | D16: 788 m2 | E16: 56.31.20 | F16: verwarming; distributie hoofdverdeling, distributiesystemen; verdeler/verzamelaar | G16: =VLOOKUP(Tabel1[[#This Row],[NLSfB]],NLSfB!A:D,4,1) -> verdeler/verzamelaar (verwarming) | H16: verwarming | I16: 1 | J16: 2009 | K16: merkloos | L16: 0 | M16: 3 groepen | N16: 1 pompen | O16: automatische ontluchting | P16: 0 | Q16: 0 | R16: 0 | S16: 0 | T16: =_xlfn.XMATCH(E16,'NLSfb - PPO'!$B$2:$B$205,0)+1 -> 139 | U16: {=IF(ISNUMBER(Tabel1[[#This Row],[hulpkolom]]),INDIRECT("'NLSfB - PPO'!D"&$T16),"n.v.t.")} -> VW060-A | V16: {=IF(ISNUMBER(Tabel1[[#This Row],[hulpkolom]]),INDIRECT("'NLSfB - PPO'!E"&$T16),"-")} -> 1 | X16: {=IF(ISNUMBER(Tabel1[[#This Row],[hulpkolom]]),INDIRECT("'NLSfB - PPO'!G"&$T16),"-")} -> - | Y16: {=IF(ISNUMBER(Tabel1[[#This Row],[hulpkolom]]),INDIRECT("'NLSfB - PPO'!H"&$T16),"-")} -> - | AA16: {=IF(ISNUMBER(Tabel1[[#This Row],[hulpkolom]]),INDIRECT("'NLSfB - PPO'!J"&$T16),"-")} -> - | AB16: {=IF(ISNUMBER(Tabel1[[#This Row],[hulpkolom]]),INDIRECT("'NLSfB - PPO'!K"&$T16),"-")} -> - | AD16: {=IF(ISNUMBER(Tabel1[[#This Row],[hulpkolom]]),INDIRECT("'NLSfB - PPO'!M"&$T16),"-")} -> - | AE16: {=IF(ISNUMBER(Tabel1[[#This Row],[hulpkolom]]),INDIRECT("'NLSfB - PPO'!L"&$T16),"-")} -> - | AG16: =IF(ISNUMBER(Tabel1[[#This Row],[Frequentie 1]]),Tabel1[[#This Row],[Frequentie 1]]*Tabel1[[#This Row],[Prijs 1]],0) -> 0 | AH16: =IF(ISNUMBER(Tabel1[[#This Row],[Frequentie 2]]),Tabel1[[#This Row],[Frequentie 2]]*Tabel1[[#This Row],[Prijs 2]],0) -> 0 | AI16: =IF(ISNUMBER(Tabel1[[#This Row],[Frequentie 3]]),Tabel1[[#This Row],[Frequentie 3]]*Tabel1[[#This Row],[Prijs 3]],0) -> 0 | AJ16: =IF(ISNUMBER(Tabel1[[#This Row],[Frequentie 4]]),Tabel1[[#This Row],[Frequentie 4]]*Tabel1[[#This Row],[Prijs 4]],0) -> 0 | AK16: =SUM(Tabel1[[#This Row],[Totaal 1]:[Totaal 4]]) -> 0
A17: Brandweer | B17: Verlengde parklaan 36 | C17: Hattem | D17: 788 m2 | E17: 56.31.50 | F17: verwarming; distributie hoofdverdeling, distributiesystemen; expansievoorziening | G17: =VLOOKUP(Tabel1[[#This Row],[NLSfB]],NLSfB!A:D,4,1) -> expansievoorziening (verwarming) | H17: verwarming | I17: 1 | J17: 2019 | K17: Flamco | L17: 0 | M17: 18 L | N17: 1 bar voordruk | O17: 0 | P17: 0 | Q17: 0 | R17: 0 | S17: 0 | T17: =_xlfn.XMATCH(E17,'NLSfb - PPO'!$B$2:$B$205,0)+1 -> 148 | U17: {=IF(ISNUMBER(Tabel1[[#This Row],[hulpkolom]]),INDIRECT("'NLSfB - PPO'!D"&$T17),"n.v.t.")} -> VW060-A | V17: {=IF(ISNUMBER(Tabel1[[#This Row],[hulpkolom]]),INDIRECT("'NLSfB - PPO'!E"&$T17),"-")} -> 1 | X17: {=IF(ISNUMBER(Tabel1[[#This Row],[hulpkolom]]),INDIRECT("'NLSfB - PPO'!G"&$T17),"-")} -> - | Y17: {=IF(ISNUMBER(Tabel1[[#This Row],[hulpkolom]]),INDIRECT("'NLSfB - PPO'!H"&$T17),"-")} -> - | AA17: {=IF(ISNUMBER(Tabel1[[#This Row],[hulpkolom]]),INDIRECT("'NLSfB - PPO'!J"&$T17),"-")} -> - | AB17: {=IF(ISNUMBER(Tabel1[[#This Row],[hulpkolom]]),INDIRECT("'NLSfB - PPO'!K"&$T17),"-")} -> - | AD17: {=IF(ISNUMBER(Tabel1[[#This Row],[hulpkolom]]),INDIRECT("'NLSfB - PPO'!M"&$T17),"-")} -> - | AE17: {=IF(ISNUMBER(Tabel1[[#This Row],[hulpkolom]]),INDIRECT("'NLSfB - PPO'!L"&$T17),"-")} -> - | AG17: =IF(ISNUMBER(Tabel1[[#This Row],[Frequentie 1]]),Tabel1[[#This Row],[Frequentie 1]]*Tabel1[[#This Row],[Prijs 1]],0) -> 0 | AH17: =IF(ISNUMBER(Tabel1[[#This Row],[Frequentie 2]]),Tabel1[[#This Row],[Frequentie 2]]*Tabel1[[#This Row],[Prijs 2]],0) -> 0 | AI17: =IF(ISNUMBER(Tabel1[[#This Row],[Frequentie 3]]),Tabel1[[#This Row],[Frequentie 3]]*Tabel1[[#This Row],[Prijs 3]],0) -> 0 | AJ17: =IF(ISNUMBER(Tabel1[[#This Row],[Frequentie 4]]),Tabel1[[#This Row],[Frequentie 4]]*Tabel1[[#This Row],[Prijs 4]],0) -> 0 | AK17: =SUM(Tabel1[[#This Row],[Totaal 1]:[Totaal 4]]) -> 0
A18: Brandweer | B18: Verlengde parklaan 36 | C18: Hattem | D18: 788 m2 | E18: 56.84.00 | F18: verwarming; afgifte, vloerverwarming/wandverwarming, algemeen (verzamelniveau) | G18: =VLOOKUP(Tabel1[[#This Row],[NLSfB]],NLSfB!A:D,4,1) -> vloer-/wandverwarming | H18: verwarming | I18: 1 | J18: 2009 | K18: SBK | L18: 0 | M18: CV-water | N18: 530 m2 | O18: naregeling per vertrek | P18: 8 naregelingen | Q18: 0 | R18: 0 | S18: 0 | T18: =_xlfn.XMATCH(E18,'NLSfb - PPO'!$B$2:$B$205,0)+1 -> #N/A | U18: {=IF(ISNUMBER(Tabel1[[#This Row],[hulpkolom]]),INDIRECT("'NLSfB - PPO'!D"&$T18),"n.v.t.")} -> n.v.t. | V18: {=IF(ISNUMBER(Tabel1[[#This Row],[hulpkolom]]),INDIRECT("'NLSfB - PPO'!E"&$T18),"-")} -> - | X18: {=IF(ISNUMBER(Tabel1[[#This Row],[hulpkolom]]),INDIRECT("'NLSfB - PPO'!G"&$T18),"-")} -> - | Y18: {=IF(ISNUMBER(Tabel1[[#This Row],[hulpkolom]]),INDIRECT("'NLSfB - PPO'!H"&$T18),"-")} -> - | AA18: {=IF(ISNUMBER(Tabel1[[#This Row],[hulpkolom]]),INDIRECT("'NLSfB - PPO'!J"&$T18),"-")} -> - | AB18: {=IF(ISNUMBER(Tabel1[[#This Row],[hulpkolom]]),INDIRECT("'NLSfB - PPO'!K"&$T18),"-")} -> - | AD18: {=IF(ISNUMBER(Tabel1[[#This Row],[hulpkolom]]),INDIRECT("'NLSfB - PPO'!M"&$T18),"-")} -> - | AE18: {=IF(ISNUMBER(Tabel1[[#This Row],[hulpkolom]]),INDIRECT("'NLSfB - PPO'!L"&$T18),"-")} -> - | AG18: =IF(ISNUMBER(Tabel1[[#This Row],[Frequentie 1]]),Tabel1[[#This Row],[Frequentie 1]]*Tabel1[[#This Row],[Prijs 1]],0) -> 0 | AH18: =IF(ISNUMBER(Tabel1[[#This Row],[Frequentie 2]]),Tabel1[[#This Row],[Frequentie 2]]*Tabel1[[#This Row],[Prijs 2]],0) -> 0 | AI18: =IF(ISNUMBER(Tabel1[[#This Row],[Frequentie 3]]),Tabel1[[#This Row],[Frequentie 3]]*Tabel1[[#This Row],[Prijs 3]],0) -> 0 | AJ18: =IF(ISNUMBER(Tabel1[[#This Row],[Frequentie 4]]),Tabel1[[#This Row],[Frequentie 4]]*Tabel1[[#This Row],[Prijs 4]],0) -> 0 | AK18: =SUM(Tabel1[[#This Row],[Totaal 1]:[Totaal 4]]) -> 0
A19: Brandweer | B19: Verlengde parklaan 36 | C19: Hattem | D19: 788 m2 | E19: 56.84.10 | F19: verwarming; afgifte, vloerverwarming/wandverwarming; verdeler | G19: =VLOOKUP(Tabel1[[#This Row],[NLSfB]],NLSfB!A:D,4,1) -> verdeler vloer-/wandverwarming | H19: verwarming | I19: 1 | J19: 2009 | K19: SBK | L19: 0 | M19: 8 groepen | N19: 0 | O19: 0 | P19: 0 | Q19: 0 | R19: 0 | S19: 0 | T19: =_xlfn.XMATCH(E19,'NLSfb - PPO'!$B$2:$B$205,0)+1 -> 144 | U19: {=IF(ISNUMBER(Tabel1[[#This Row],[hulpkolom]]),INDIRECT("'NLSfB - PPO'!D"&$T19),"n.v.t.")} -> VW060-A | V19: {=IF(ISNUMBER(Tabel1[[#This Row],[hulpkolom]]),INDIRECT("'NLSfB - PPO'!E"&$T19),"-")} -> 1 | X19: {=IF(ISNUMBER(Tabel1[[#This Row],[hulpkolom]]),INDIRECT("'NLSfB - PPO'!G"&$T19),"-")} -> - | Y19: {=IF(ISNUMBER(Tabel1[[#This Row],[hulpkolom]]),INDIRECT("'NLSfB - PPO'!H"&$T19),"-")} -> - | AA19: {=IF(ISNUMBER(Tabel1[[#This Row],[hulpkolom]]),INDIRECT("'NLSfB - PPO'!J"&$T19),"-")} -> - | AB19: {=IF(ISNUMBER(Tabel1[[#This Row],[hulpkolom]]),INDIRECT("'NLSfB - PPO'!K"&$T19),"-")} -> - | AD19: {=IF(ISNUMBER(Tabel1[[#This Row],[hulpkolom]]),INDIRECT("'NLSfB - PPO'!M"&$T19),"-")} -> - | AE19: {=IF(ISNUMBER(Tabel1[[#This Row],[hulpkolom]]),INDIRECT("'NLSfB - PPO'!L"&$T19),"-")} -> - | AG19: =IF(ISNUMBER(Tabel1[[#This Row],[Frequentie 1]]),Tabel1[[#This Row],[Frequentie 1]]*Tabel1[[#This Row],[Prijs 1]],0) -> 0 | AH19: =IF(ISNUMBER(Tabel1[[#This Row],[Frequentie 2]]),Tabel1[[#This Row],[Frequentie 2]]*Tabel1[[#This Row],[Prijs 2]],0) -> 0 | AI19: =IF(ISNUMBER(Tabel1[[#This Row],[Frequentie 3]]),Tabel1[[#This Row],[Frequentie 3]]*Tabel1[[#This Row],[Prijs 3]],0) -> 0 | AJ19: =IF(ISNUMBER(Tabel1[[#This Row],[Frequentie 4]]),Tabel1[[#This Row],[Frequentie 4]]*Tabel1[[#This Row],[Prijs 4]],0) -> 0 | AK19: =SUM(Tabel1[[#This Row],[Totaal 1]:[Totaal 4]]) -> 0
A20: Brandweer | B20: Verlengde parklaan 36 | C20: Hattem | D20: 788 m2 | E20: 56.84.10 | F20: verwarming; afgifte, vloerverwarming/wandverwarming; verdeler | G20: =VLOOKUP(Tabel1[[#This Row],[NLSfB]],NLSfB!A:D,4,1) -> verdeler vloer-/wandverwarming | H20: verwarming | I20: 1 | J20: 2009 | K20: SBK | L20: 0 | M20: 10 groepen | N20: 0 | O20: 0 | P20: 0 | Q20: 0 | R20: 0 | S20: 0 | T20: =_xlfn.XMATCH(E20,'NLSfb - PPO'!$B$2:$B$205,0)+1 -> 144 | U20: {=IF(ISNUMBER(Tabel1[[#This Row],[hulpkolom]]),INDIRECT("'NLSfB - PPO'!D"&$T20),"n.v.t.")} -> VW060-A | V20: {=IF(ISNUMBER(Tabel1[[#This Row],[hulpkolom]]),INDIRECT("'NLSfB - PPO'!E"&$T20),"-")} -> 1 | X20: {=IF(ISNUMBER(Tabel1[[#This Row],[hulpkolom]]),INDIRECT("'NLSfB - PPO'!G"&$T20),"-")} -> - | Y20: {=IF(ISNUMBER(Tabel1[[#This Row],[hulpkolom]]),INDIRECT("'NLSfB - PPO'!H"&$T20),"-")} -> - | AA20: {=IF(ISNUMBER(Tabel1[[#This Row],[hulpkolom]]),INDIRECT("'NLSfB - PPO'!J"&$T20),"-")} -> - | AB20: {=IF(ISNUMBER(Tabel1[[#This Row],[hulpkolom]]),INDIRECT("'NLSfB - PPO'!K"&$T20),"-")} -> - | AD20: {=IF(ISNUMBER(Tabel1[[#This Row],[hulpkolom]]),INDIRECT("'NLSfB - PPO'!M"&$T20),"-")} -> - | AE20: {=IF(ISNUMBER(Tabel1[[#This Row],[hulpkolom]]),INDIRECT("'NLSfB - PPO'!L"&$T20),"-")} -> - | AG20: =IF(ISNUMBER(Tabel1[[#This Row],[Frequentie 1]]),Tabel1[[#This Row],[Frequentie 1]]*Tabel1[[#This Row],[Prijs 1]],0) -> 0 | AH20: =IF(ISNUMBER(Tabel1[[#This Row],[Frequentie 2]]),Tabel1[[#This Row],[Frequentie 2]]*Tabel1[[#This Row],[Prijs 2]],0) -> 0 | AI20: =IF(ISNUMBER(Tabel1[[#This Row],[Frequentie 3]]),Tabel1[[#This Row],[Frequentie 3]]*Tabel1[[#This Row],[Prijs 3]],0) -> 0 | AJ20: =IF(ISNUMBER(Tabel1[[#This Row],[Frequentie 4]]),Tabel1[[#This Row],[Frequentie 4]]*Tabel1[[#This Row],[Prijs 4]],0) -> 0 | AK20: =SUM(Tabel1[[#This Row],[Totaal 1]:[Totaal 4]]) -> 0
A21: Brandweer | B21: Verlengde parklaan 36 | C21: Hattem | D21: 788 m2 | E21: 56.84.10 | F21: verwarming; afgifte, vloerverwarming/wandverwarming; verdeler | G21: =VLOOKUP(Tabel1[[#This Row],[NLSfB]],NLSfB!A:D,4,1) -> verdeler vloer-/wandverwarming | H21: verwarming | I21: 1 | J21: 2009 | K21: SBK | L21: 0 | M21: 13 groepen | N21: 0 | O21: 0 | P21: 0 | Q21: 0 | R21: 0 | S21: 0 | T21: =_xlfn.XMATCH(E21,'NLSfb - PPO'!$B$2:$B$205,0)+1 -> 144 | U21: {=IF(ISNUMBER(Tabel1[[#This Row],[hulpkolom]]),INDIRECT("'NLSfB - PPO'!D"&$T21),"n.v.t.")} -> VW060-A | V21: {=IF(ISNUMBER(Tabel1[[#This Row],[hulpkolom]]),INDIRECT("'NLSfB - PPO'!E"&$T21),"-")} -> 1 | X21: {=IF(ISNUMBER(Tabel1[[#This Row],[hulpkolom]]),INDIRECT("'NLSfB - PPO'!G"&$T21),"-")} -> - | Y21: {=IF(ISNUMBER(Tabel1[[#This Row],[hulpkolom]]),INDIRECT("'NLSfB - PPO'!H"&$T21),"-")} -> - | AA21: {=IF(ISNUMBER(Tabel1[[#This Row],[hulpkolom]]),INDIRECT("'NLSfB - PPO'!J"&$T21),"-")} -> - | AB21: {=IF(ISNUMBER(Tabel1[[#This Row],[hulpkolom]]),INDIRECT("'NLSfB - PPO'!K"&$T21),"-")} -> - | AD21: {=IF(ISNUMBER(Tabel1[[#This Row],[hulpkolom]]),INDIRECT("'NLSfB - PPO'!M"&$T21),"-")} -> - | AE21: {=IF(ISNUMBER(Tabel1[[#This Row],[hulpkolom]]),INDIRECT("'NLSfB - PPO'!L"&$T21),"-")} -> - | AG21: =IF(ISNUMBER(Tabel1[[#This Row],[Frequentie 1]]),Tabel1[[#This Row],[Frequentie 1]]*Tabel1[[#This Row],[Prijs 1]],0) -> 0 | AH21: =IF(ISNUMBER(Tabel1[[#This Row],[Frequentie 2]]),Tabel1[[#This Row],[Frequentie 2]]*Tabel1[[#This Row],[Prijs 2]],0) -> 0 | AI21: =IF(ISNUMBER(Tabel1[[#This Row],[Frequentie 3]]),Tabel1[[#This Row],[Frequentie 3]]*Tabel1[[#This Row],[Prijs 3]],0) -> 0 | AJ21: =IF(ISNUMBER(Tabel1[[#This Row],[Frequentie 4]]),Tabel1[[#This Row],[Frequentie 4]]*Tabel1[[#This Row],[Prijs 4]],0) -> 0 | AK21: =SUM(Tabel1[[#This Row],[Totaal 1]:[Totaal 4]]) -> 0
A22: Brandweer | B22: Verlengde parklaan 36 | C22: Hattem | D22: 788 m2 | E22: 57.51.00 | F22: luchtbehandeling; luchtbehandelingskast, warmteterugwinning | G22: =VLOOKUP(Tabel1[[#This Row],[NLSfB]],NLSfB!A:D,4,1) -> luchtbehandelingskast met warmteterugwinning | H22: luchtbehandeling | I22: 1 | J22: 2009 | K22: 0 | L22: WTA HR 3000 | M22: 3000 m3/h | N22: niet voorzien van koeling | O22: niet voorzien van bevochtiging | P22: 0 | Q22: 0 | R22: 0 | S22: 0 | T22: =_xlfn.XMATCH(E22,'NLSfb - PPO'!$B$2:$B$205,0)+1 -> 66 | U22: {=IF(ISNUMBER(Tabel1[[#This Row],[hulpkolom]]),INDIRECT("'NLSfB - PPO'!D"&$T22),"n.v.t.")} -> LBH010-A | V22: {=IF(ISNUMBER(Tabel1[[#This Row],[hulpkolom]]),INDIRECT("'NLSfB - PPO'!E"&$T22),"-")} -> 1 | X22: {=IF(ISNUMBER(Tabel1[[#This Row],[hulpkolom]]),INDIRECT("'NLSfB - PPO'!G"&$T22),"-")} -> - | Y22: {=IF(ISNUMBER(Tabel1[[#This Row],[hulpkolom]]),INDIRECT("'NLSfB - PPO'!H"&$T22),"-")} -> - | AA22: {=IF(ISNUMBER(Tabel1[[#This Row],[hulpkolom]]),INDIRECT("'NLSfB - PPO'!J"&$T22),"-")} -> - | AB22: {=IF(ISNUMBER(Tabel1[[#This Row],[hulpkolom]]),INDIRECT("'NLSfB - PPO'!K"&$T22),"-")} -> - | AD22: {=IF(ISNUMBER(Tabel1[[#This Row],[hulpkolom]]),INDIRECT("'NLSfB - PPO'!M"&$T22),"-")} -> - | AE22: {=IF(ISNUMBER(Tabel1[[#This Row],[hulpkolom]]),INDIRECT("'NLSfB - PPO'!L"&$T22),"-")} -> - | AG22: =IF(ISNUMBER(Tabel1[[#This Row],[Frequentie 1]]),Tabel1[[#This Row],[Frequentie 1]]*Tabel1[[#This Row],[Prijs 1]],0) -> 0 | AH22: =IF(ISNUMBER(Tabel1[[#This Row],[Frequentie 2]]),Tabel1[[#This Row],[Frequentie 2]]*Tabel1[[#This Row],[Prijs 2]],0) -> 0 | AI22: =IF(ISNUMBER(Tabel1[[#This Row],[Frequentie 3]]),Tabel1[[#This Row],[Frequentie 3]]*Tabel1[[#This Row],[Prijs 3]],0) -> 0 | AJ22: =IF(ISNUMBER(Tabel1[[#This Row],[Frequentie 4]]),Tabel1[[#This Row],[Frequentie 4]]*Tabel1[[#This Row],[Prijs 4]],0) -> 0 | AK22: =SUM(Tabel1[[#This Row],[Totaal 1]:[Totaal 4]]) -> 0
A23: Brandweer | B23: Verlengde parklaan 36 | C23: Hattem | D23: 788 m2 | E23: 58.20.10 | F23: meet- en regelinstallaties; verdeling centraal Gebouw Beheer Systeem (GBS), algemeen; regelkasten klimaat centraal | G23: =VLOOKUP(Tabel1[[#This Row],[NLSfB]],NLSfB!A:D,4,1) -> regelkast klimaat | H23: regeltechniek | I23: 1 | J23: 2009 | K23: Br controls | L23: BRC23 | M23: gecombineerde regelkast CV/LBK | N23: 1 luchtbehandelingsinstallaties | O23: 0 koelmachines | P23: 1 CV ketels | Q23: 0 koelgroepen | R23: 8 CV groepen | S23: radiator groepen | T23: =_xlfn.XMATCH(E23,'NLSfb - PPO'!$B$2:$B$205,0)+1 -> 100 | U23: {=IF(ISNUMBER(Tabel1[[#This Row],[hulpkolom]]),INDIRECT("'NLSfB - PPO'!D"&$T23),"n.v.t.")} -> RGL010-A | V23: {=IF(ISNUMBER(Tabel1[[#This Row],[hulpkolom]]),INDIRECT("'NLSfB - PPO'!E"&$T23),"-")} -> 1 | X23: {=IF(ISNUMBER(Tabel1[[#This Row],[hulpkolom]]),INDIRECT("'NLSfB - PPO'!G"&$T23),"-")} -> VW120-A | Y23: {=IF(ISNUMBER(Tabel1[[#This Row],[hulpkolom]]),INDIRECT("'NLSfB - PPO'!H"&$T23),"-")} -> 2 | AA23: {=IF(ISNUMBER(Tabel1[[#This Row],[hulpkolom]]),INDIRECT("'NLSfB - PPO'!J"&$T23),"-")} -> - | AB23: {=IF(ISNUMBER(Tabel1[[#This Row],[hulpkolom]]),INDIRECT("'NLSfB - PPO'!K"&$T23),"-")} -> - | AD23: {=IF(ISNUMBER(Tabel1[[#This Row],[hulpkolom]]),INDIRECT("'NLSfB - PPO'!M"&$T23),"-")} -> - | AE23: {=IF(ISNUMBER(Tabel1[[#This Row],[hulpkolom]]),INDIRECT("'NLSfB - PPO'!L"&$T23),"-")} -> - | AG23: =IF(ISNUMBER(Tabel1[[#This Row],[Frequentie 1]]),Tabel1[[#This Row],[Frequentie 1]]*Tabel1[[#This Row],[Prijs 1]],0) -> 0 | AH23: =IF(ISNUMBER(Tabel1[[#This Row],[Frequentie 2]]),Tabel1[[#This Row],[Frequentie 2]]*Tabel1[[#This Row],[Prijs 2]],0) -> 0 | AI23: =IF(ISNUMBER(Tabel1[[#This Row],[Frequentie 3]]),Tabel1[[#This Row],[Frequentie 3]]*Tabel1[[#This Row],[Prijs 3]],0) -> 0 | AJ23: =IF(ISNUMBER(Tabel1[[#This Row],[Frequentie 4]]),Tabel1[[#This Row],[Frequentie 4]]*Tabel1[[#This Row],[Prijs 4]],0) -> 0 | AK23: =SUM(Tabel1[[#This Row],[Totaal 1]:[Totaal 4]]) -> 0
A24: Brandweer | B24: Verlengde parklaan 36 | C24: Hattem | D24: 788 m2 | E24: 59.24.00 | F24: brandveiligheid; waterblusinstallatie, brandslanghaspels | G24: =VLOOKUP(Tabel1[[#This Row],[NLSfB]],NLSfB!A:D,4,1) -> brandslanghaspel | H24: brandveiligheid | I24: 3 | J24: 0 | K24: Ansul | L24: 0 | M24: vrijhangend | N24: 25 m | O24: 0 | P24: 0 | Q24: 0 | R24: 0 | S24: 0 | T24: =_xlfn.XMATCH(E24,'NLSfb - PPO'!$B$2:$B$205,0)+1 -> 8 | U24: {=IF(ISNUMBER(Tabel1[[#This Row],[hulpkolom]]),INDIRECT("'NLSfB - PPO'!D"&$T24),"n.v.t.")} -> BRND010-A | V24: {=IF(ISNUMBER(Tabel1[[#This Row],[hulpkolom]]),INDIRECT("'NLSfB - PPO'!E"&$T24),"-")} -> 1 | X24: {=IF(ISNUMBER(Tabel1[[#This Row],[hulpkolom]]),INDIRECT("'NLSfB - PPO'!G"&$T24),"-")} -> BRND010-K | Y24: {=IF(ISNUMBER(Tabel1[[#This Row],[hulpkolom]]),INDIRECT("'NLSfB - PPO'!H"&$T24),"-")} -> 0.2 | AA24: {=IF(ISNUMBER(Tabel1[[#This Row],[hulpkolom]]),INDIRECT("'NLSfB - PPO'!J"&$T24),"-")} -> - | AB24: {=IF(ISNUMBER(Tabel1[[#This Row],[hulpkolom]]),INDIRECT("'NLSfB - PPO'!K"&$T24),"-")} -> - | AD24: {=IF(ISNUMBER(Tabel1[[#This Row],[hulpkolom]]),INDIRECT("'NLSfB - PPO'!M"&$T24),"-")} -> - | AE24: {=IF(ISNUMBER(Tabel1[[#This Row],[hulpkolom]]),INDIRECT("'NLSfB - PPO'!L"&$T24),"-")} -> - | AG24: =IF(ISNUMBER(Tabel1[[#This Row],[Frequentie 1]]),Tabel1[[#This Row],[Frequentie 1]]*Tabel1[[#This Row],[Prijs 1]],0) -> 0 | AH24: =IF(ISNUMBER(Tabel1[[#This Row],[Frequentie 2]]),Tabel1[[#This Row],[Frequentie 2]]*Tabel1[[#This Row],[Prijs 2]],0) -> 0 | AI24: =IF(ISNUMBER(Tabel1[[#This Row],[Frequentie 3]]),Tabel1[[#This Row],[Frequentie 3]]*Tabel1[[#This Row],[Prijs 3]],0) -> 0 | AJ24: =IF(ISNUMBER(Tabel1[[#This Row],[Frequentie 4]]),Tabel1[[#This Row],[Frequentie 4]]*Tabel1[[#This Row],[Prijs 4]],0) -> 0 | AK24: =SUM(Tabel1[[#This Row],[Totaal 1]:[Totaal 4]]) -> 0
A25: Brandweer | B25: Verlengde parklaan 36 | C25: Hattem | D25: 788 m2 | E25: 59.25.00 | F25: brandveiligheid; handblusmiddelen | G25: =VLOOKUP(Tabel1[[#This Row],[NLSfB]],NLSfB!A:D,4,1) -> handblusmiddel | H25: brandveiligheid | I25: 6 | J25: 0 | K25: Ansul | L25: 0 | M25: schuim | N25: 6 kg/L | O25: 0 | P25: 0 | Q25: 0 | R25: 0 | S25: 0 | T25: =_xlfn.XMATCH(E25,'NLSfb - PPO'!$B$2:$B$205,0)+1 -> 10 | U25: {=IF(ISNUMBER(Tabel1[[#This Row],[hulpkolom]]),INDIRECT("'NLSfB - PPO'!D"&$T25),"n.v.t.")} -> BRND030-K | V25: {=IF(ISNUMBER(Tabel1[[#This Row],[hulpkolom]]),INDIRECT("'NLSfB - PPO'!E"&$T25),"-")} -> 0.5 | X25: {=IF(ISNUMBER(Tabel1[[#This Row],[hulpkolom]]),INDIRECT("'NLSfB - PPO'!G"&$T25),"-")} -> - | Y25: {=IF(ISNUMBER(Tabel1[[#This Row],[hulpkolom]]),INDIRECT("'NLSfB - PPO'!H"&$T25),"-")} -> - | AA25: {=IF(ISNUMBER(Tabel1[[#This Row],[hulpkolom]]),INDIRECT("'NLSfB - PPO'!J"&$T25),"-")} -> - | AB25: {=IF(ISNUMBER(Tabel1[[#This Row],[hulpkolom]]),INDIRECT("'NLSfB - PPO'!K"&$T25),"-")} -> - | AD25: {=IF(ISNUMBER(Tabel1[[#This Row],[hulpkolom]]),INDIRECT("'NLSfB - PPO'!M"&$T25),"-")} -> - | AE25: {=IF(ISNUMBER(Tabel1[[#This Row],[hulpkolom]]),INDIRECT("'NLSfB - PPO'!L"&$T25),"-")} -> - | AG25: =IF(ISNUMBER(Tabel1[[#This Row],[Frequentie 1]]),Tabel1[[#This Row],[Frequentie 1]]*Tabel1[[#This Row],[Prijs 1]],0) -> 0 | AH25: =IF(ISNUMBER(Tabel1[[#This Row],[Frequentie 2]]),Tabel1[[#This Row],[Frequentie 2]]*Tabel1[[#This Row],[Prijs 2]],0) -> 0 | AI25: =IF(ISNUMBER(Tabel1[[#This Row],[Frequentie 3]]),Tabel1[[#This Row],[Frequentie 3]]*Tabel1[[#This Row],[Prijs 3]],0) -> 0 | AJ25: =IF(ISNUMBER(Tabel1[[#This Row],[Frequentie 4]]),Tabel1[[#This Row],[Frequentie 4]]*Tabel1[[#This Row],[Prijs 4]],0) -> 0 | AK25: =SUM(Tabel1[[#This Row],[Totaal 1]:[Totaal 4]]) -> 0
A26: Brandweer | B26: Verlengde parklaan 36 | C26: Hattem | D26: 788 m2 | E26: 61.15.10 | F26: centrale elektrotechnische voorzieningen; energie-opwekking, Photo Voltaic (PV) installatie; cellen | G26: =VLOOKUP(Tabel1[[#This Row],[NLSfB]],NLSfB!A:D,4,1) -> PV cellen | H26: elektra/verlichting | I26: 129 | J26: 0 | K26: Solaredge | L26: SE 17 K | M26: 0 | N26: 0 | O26: 0 | P26: 0 | Q26: 0 | R26: 0 | S26: 0 | T26: =_xlfn.XMATCH(E26,'NLSfb - PPO'!$B$2:$B$205,0)+1 -> 28 | U26: {=IF(ISNUMBER(Tabel1[[#This Row],[hulpkolom]]),INDIRECT("'NLSfB - PPO'!D"&$T26),"n.v.t.")} -> E180-A | V26: {=IF(ISNUMBER(Tabel1[[#This Row],[hulpkolom]]),INDIRECT("'NLSfB - PPO'!E"&$T26),"-")} -> 1 | X26: {=IF(ISNUMBER(Tabel1[[#This Row],[hulpkolom]]),INDIRECT("'NLSfB - PPO'!G"&$T26),"-")} -> - | Y26: {=IF(ISNUMBER(Tabel1[[#This Row],[hulpkolom]]),INDIRECT("'NLSfB - PPO'!H"&$T26),"-")} -> - | AA26: {=IF(ISNUMBER(Tabel1[[#This Row],[hulpkolom]]),INDIRECT("'NLSfB - PPO'!J"&$T26),"-")} -> - | AB26: {=IF(ISNUMBER(Tabel1[[#This Row],[hulpkolom]]),INDIRECT("'NLSfB - PPO'!K"&$T26),"-")} -> - | AD26: {=IF(ISNUMBER(Tabel1[[#This Row],[hulpkolom]]),INDIRECT("'NLSfB - PPO'!M"&$T26),"-")} -> - | AE26: {=IF(ISNUMBER(Tabel1[[#This Row],[hulpkolom]]),INDIRECT("'NLSfB - PPO'!L"&$T26),"-")} -> - | AG26: =IF(ISNUMBER(Tabel1[[#This Row],[Frequentie 1]]),Tabel1[[#This Row],[Frequentie 1]]*Tabel1[[#This Row],[Prijs 1]],0) -> 0 | AH26: =IF(ISNUMBER(Tabel1[[#This Row],[Frequentie 2]]),Tabel1[[#This Row],[Frequentie 2]]*Tabel1[[#This Row],[Prijs 2]],0) -> 0 | AI26: =IF(ISNUMBER(Tabel1[[#This Row],[Frequentie 3]]),Tabel1[[#This Row],[Frequentie 3]]*Tabel1[[#This Row],[Prijs 3]],0) -> 0 | AJ26: =IF(ISNUMBER(Tabel1[[#This Row],[Frequentie 4]]),Tabel1[[#This Row],[Frequentie 4]]*Tabel1[[#This Row],[Prijs 4]],0) -> 0 | AK26: =SUM(Tabel1[[#This Row],[Totaal 1]:[Totaal 4]]) -> 0
A27: Brandweer | B27: Verlengde parklaan 36 | C27: Hattem | D27: 788 m2 | E27: 61.15.20 | F27: centrale elektrotechnische voorzieningen; energie-opwekking, Photo Voltaic (PV) installatie; omvormer | G27: =VLOOKUP(Tabel1[[#This Row],[NLSfB]],NLSfB!A:D,4,1) -> PV omvormer | H27: elektra/verlichting | I27: 2 | J27: 0 | K27: Solaredge | L27: SE 17 K | M27: 0 | N27: 0 | O27: 0 | P27: 0 | Q27: 0 | R27: 0 | S27: 0 | T27: =_xlfn.XMATCH(E27,'NLSfb - PPO'!$B$2:$B$205,0)+1 -> 29 | U27: {=IF(ISNUMBER(Tabel1[[#This Row],[hulpkolom]]),INDIRECT("'NLSfB - PPO'!D"&$T27),"n.v.t.")} -> E180-A | V27: {=IF(ISNUMBER(Tabel1[[#This Row],[hulpkolom]]),INDIRECT("'NLSfB - PPO'!E"&$T27),"-")} -> 1 | X27: {=IF(ISNUMBER(Tabel1[[#This Row],[hulpkolom]]),INDIRECT("'NLSfB - PPO'!G"&$T27),"-")} -> - | Y27: {=IF(ISNUMBER(Tabel1[[#This Row],[hulpkolom]]),INDIRECT("'NLSfB - PPO'!H"&$T27),"-")} -> - | AA27: {=IF(ISNUMBER(Tabel1[[#This Row],[hulpkolom]]),INDIRECT("'NLSfB - PPO'!J"&$T27),"-")} -> - | AB27: {=IF(ISNUMBER(Tabel1[[#This Row],[hulpkolom]]),INDIRECT("'NLSfB - PPO'!K"&$T27),"-")} -> - | AD27: {=IF(ISNUMBER(Tabel1[[#This Row],[hulpkolom]]),INDIRECT("'NLSfB - PPO'!M"&$T27),"-")} -> - | AE27: {=IF(ISNUMBER(Tabel1[[#This Row],[hulpkolom]]),INDIRECT("'NLSfB - PPO'!L"&$T27),"-")} -> - | AG27: =IF(ISNUMBER(Tabel1[[#This Row],[Frequentie 1]]),Tabel1[[#This Row],[Frequentie 1]]*Tabel1[[#This Row],[Prijs 1]],0) -> 0 | AH27: =IF(ISNUMBER(Tabel1[[#This Row],[Frequentie 2]]),Tabel1[[#This Row],[Frequentie 2]]*Tabel1[[#This Row],[Prijs 2]],0) -> 0 | AI27: =IF(ISNUMBER(Tabel1[[#This Row],[Frequentie 3]]),Tabel1[[#This Row],[Frequentie 3]]*Tabel1[[#This Row],[Prijs 3]],0) -> 0 | AJ27: =IF(ISNUMBER(Tabel1[[#This Row],[Frequentie 4]]),Tabel1[[#This Row],[Frequentie 4]]*Tabel1[[#This Row],[Prijs 4]],0) -> 0 | AK27: =SUM(Tabel1[[#This Row],[Totaal 1]:[Totaal 4]]) -> 0
A28: Brandweer | B28: Verlengde parklaan 36 | C28: Hattem | D28: 788 m2 | E28: 61.21.10 | F28: centrale elektrotechnische voorzieningen; aarding, beveiliging; veiligheidsaarding | G28: =VLOOKUP(Tabel1[[#This Row],[NLSfB]],NLSfB!A:D,4,1) -> veiligheidsaarding | H28: elektra/verlichting | I28: 1 | J28: 2009 | K28: 0 | L28: 0 | M28: aardelektrode aanwezig | N28: 4 verbindingen aan centraal aardpunt | O28: 0 | P28: 0 | Q28: 0 | R28: 0 | S28: 0 | T28: =_xlfn.XMATCH(E28,'NLSfb - PPO'!$B$2:$B$205,0)+1 -> 24 | U28: {=IF(ISNUMBER(Tabel1[[#This Row],[hulpkolom]]),INDIRECT("'NLSfB - PPO'!D"&$T28),"n.v.t.")} -> E030-A | V28: {=IF(ISNUMBER(Tabel1[[#This Row],[hulpkolom]]),INDIRECT("'NLSfB - PPO'!E"&$T28),"-")} -> 0.2 | X28: {=IF(ISNUMBER(Tabel1[[#This Row],[hulpkolom]]),INDIRECT("'NLSfB - PPO'!G"&$T28),"-")} -> E170-A | Y28: {=IF(ISNUMBER(Tabel1[[#This Row],[hulpkolom]]),INDIRECT("'NLSfB - PPO'!H"&$T28),"-")} -> 1 | AA28: {=IF(ISNUMBER(Tabel1[[#This Row],[hulpkolom]]),INDIRECT("'NLSfB - PPO'!J"&$T28),"-")} -> - | AB28: {=IF(ISNUMBER(Tabel1[[#This Row],[hulpkolom]]),INDIRECT("'NLSfB - PPO'!K"&$T28),"-")} -> - | AD28: {=IF(ISNUMBER(Tabel1[[#This Row],[hulpkolom]]),INDIRECT("'NLSfB - PPO'!M"&$T28),"-")} -> - | AE28: {=IF(ISNUMBER(Tabel1[[#This Row],[hulpkolom]]),INDIRECT("'NLSfB - PPO'!L"&$T28),"-")} -> - | AG28: =IF(ISNUMBER(Tabel1[[#This Row],[Frequentie 1]]),Tabel1[[#This Row],[Frequentie 1]]*Tabel1[[#This Row],[Prijs 1]],0) -> 0 | AH28: =IF(ISNUMBER(Tabel1[[#This Row],[Frequentie 2]]),Tabel1[[#This Row],[Frequentie 2]]*Tabel1[[#This Row],[Prijs 2]],0) -> 0 | AI28: =IF(ISNUMBER(Tabel1[[#This Row],[Frequentie 3]]),Tabel1[[#This Row],[Frequentie 3]]*Tabel1[[#This Row],[Prijs 3]],0) -> 0 | AJ28: =IF(ISNUMBER(Tabel1[[#This Row],[Frequentie 4]]),Tabel1[[#This Row],[Frequentie 4]]*Tabel1[[#This Row],[Prijs 4]],0) -> 0 | AK28: =SUM(Tabel1[[#This Row],[Totaal 1]:[Totaal 4]]) -> 0
A29: Brandweer | B29: Verlengde parklaan 36 | C29: Hattem | D29: 788 m2 | E29: 61.21.20 | F29: centrale elektrotechnische voorzieningen; aarding, beveiliging; overspanningsbeveiliging | G29: =VLOOKUP(Tabel1[[#This Row],[NLSfB]],NLSfB!A:D,4,1) -> overspanningsbeveiliging | H29: elektra/verlichting | I29: 1 | J29: 2009 | K29: OBO | L29: 0 | M29: 0 | N29: 0 | O29: 0 | P29: 0 | Q29: 0 | R29: 0 | S29: 0 | T29: =_xlfn.XMATCH(E29,'NLSfb - PPO'!$B$2:$B$205,0)+1 -> 27 | U29: {=IF(ISNUMBER(Tabel1[[#This Row],[hulpkolom]]),INDIRECT("'NLSfB - PPO'!D"&$T29),"n.v.t.")} -> E140-A | V29: {=IF(ISNUMBER(Tabel1[[#This Row],[hulpkolom]]),INDIRECT("'NLSfB - PPO'!E"&$T29),"-")} -> 1 | X29: {=IF(ISNUMBER(Tabel1[[#This Row],[hulpkolom]]),INDIRECT("'NLSfB - PPO'!G"&$T29),"-")} -> - | Y29: {=IF(ISNUMBER(Tabel1[[#This Row],[hulpkolom]]),INDIRECT("'NLSfB - PPO'!H"&$T29),"-")} -> - | AA29: {=IF(ISNUMBER(Tabel1[[#This Row],[hulpkolom]]),INDIRECT("'NLSfB - PPO'!J"&$T29),"-")} -> - | AB29: {=IF(ISNUMBER(Tabel1[[#This Row],[hulpkolom]]),INDIRECT("'NLSfB - PPO'!K"&$T29),"-")} -> - | AD29: {=IF(ISNUMBER(Tabel1[[#This Row],[hulpkolom]]),INDIRECT("'NLSfB - PPO'!M"&$T29),"-")} -> - | AE29: {=IF(ISNUMBER(Tabel1[[#This Row],[hulpkolom]]),INDIRECT("'NLSfB - PPO'!L"&$T29),"-")} -> - | AG29: =IF(ISNUMBER(Tabel1[[#This Row],[Frequentie 1]]),Tabel1[[#This Row],[Frequentie 1]]*Tabel1[[#This Row],[Prijs 1]],0) -> 0 | AH29: =IF(ISNUMBER(Tabel1[[#This Row],[Frequentie 2]]),Tabel1[[#This Row],[Frequentie 2]]*Tabel1[[#This Row],[Prijs 2]],0) -> 0 | AI29: =IF(ISNUMBER(Tabel1[[#This Row],[Frequentie 3]]),Tabel1[[#This Row],[Frequentie 3]]*Tabel1[[#This Row],[Prijs 3]],0) -> 0 | AJ29: =IF(ISNUMBER(Tabel1[[#This Row],[Frequentie 4]]),Tabel1[[#This Row],[Frequentie 4]]*Tabel1[[#This Row],[Prijs 4]],0) -> 0 | AK29: =SUM(Tabel1[[#This Row],[Totaal 1]:[Totaal 4]]) -> 0
A30: Brandweer | B30: Verlengde parklaan 36 | C30: Hattem | D30: 788 m2 | E30: 61.52.00 | F30: centrale elektrotechnische voorzieningen; energiedistributie laagspanning ≤1kV, laagspanningshoofdverdeler | G30: =VLOOKUP(Tabel1[[#This Row],[NLSfB]],NLSfB!A:D,4,1) -> laagspanningshoofdverdeler | H30: elektra/verlichting | I30: 1 | J30: 2009 | K30: Eaton | L30: systeem 55 | M30: Inom 63-250A | N30: 11 groepen licht | O30: 4 groepen krachtstroom | P30: 11 groepen achter aardlekschakelaar | Q30: overspanningsbeveiliging aanwezig | R30: 0 | S30: 0 | T30: =_xlfn.XMATCH(E30,'NLSfb - PPO'!$B$2:$B$205,0)+1 -> 25 | U30: {=IF(ISNUMBER(Tabel1[[#This Row],[hulpkolom]]),INDIRECT("'NLSfB - PPO'!D"&$T30),"n.v.t.")} -> E030-A | V30: {=IF(ISNUMBER(Tabel1[[#This Row],[hulpkolom]]),INDIRECT("'NLSfB - PPO'!E"&$T30),"-")} -> 0.2 | X30: {=IF(ISNUMBER(Tabel1[[#This Row],[hulpkolom]]),INDIRECT("'NLSfB - PPO'!G"&$T30),"-")} -> E160-A | Y30: {=IF(ISNUMBER(Tabel1[[#This Row],[hulpkolom]]),INDIRECT("'NLSfB - PPO'!H"&$T30),"-")} -> 1 | AA30: {=IF(ISNUMBER(Tabel1[[#This Row],[hulpkolom]]),INDIRECT("'NLSfB - PPO'!J"&$T30),"-")} -> E170-A | AB30: {=IF(ISNUMBER(Tabel1[[#This Row],[hulpkolom]]),INDIRECT("'NLSfB - PPO'!K"&$T30),"-")} -> 1 | AD30: {=IF(ISNUMBER(Tabel1[[#This Row],[hulpkolom]]),INDIRECT("'NLSfB - PPO'!M"&$T30),"-")} -> - | AE30: {=IF(ISNUMBER(Tabel1[[#This Row],[hulpkolom]]),INDIRECT("'NLSfB - PPO'!L"&$T30),"-")} -> - | AG30: =IF(ISNUMBER(Tabel1[[#This Row],[Frequentie 1]]),Tabel1[[#This Row],[Frequentie 1]]*Tabel1[[#This Row],[Prijs 1]],0) -> 0 | AH30: =IF(ISNUMBER(Tabel1[[#This Row],[Frequentie 2]]),Tabel1[[#This Row],[Frequentie 2]]*Tabel1[[#This Row],[Prijs 2]],0) -> 0 | AI30: =IF(ISNUMBER(Tabel1[[#This Row],[Frequentie 3]]),Tabel1[[#This Row],[Frequentie 3]]*Tabel1[[#This Row],[Prijs 3]],0) -> 0 | AJ30: =IF(ISNUMBER(Tabel1[[#This Row],[Frequentie 4]]),Tabel1[[#This Row],[Frequentie 4]]*Tabel1[[#This Row],[Prijs 4]],0) -> 0 | AK30: =SUM(Tabel1[[#This Row],[Totaal 1]:[Totaal 4]]) -> 0
A31: Brandweer | B31: Verlengde parklaan 36 | C31: Hattem | D31: 788 m2 | E31: 61.52.00 | F31: centrale elektrotechnische voorzieningen; energiedistributie laagspanning ≤1kV, laagspanningshoofdverdeler | G31: =VLOOKUP(Tabel1[[#This Row],[NLSfB]],NLSfB!A:D,4,1) -> laagspanningshoofdverdeler | H31: elektra/verlichting | I31: 1 | J31: 2009 | K31: Merlin | L31: Gerin | M31: Inom 63-250A | N31: 19 groepen licht | O31: 4 groepen krachtstroom | P31: 19 groepen achter aardlekschakelaar | Q31: overspanningsbeveiliging aanwezig | R31: 0 | S31: 0 | T31: =_xlfn.XMATCH(E31,'NLSfb - PPO'!$B$2:$B$205,0)+1 -> 25 | U31: {=IF(ISNUMBER(Tabel1[[#This Row],[hulpkolom]]),INDIRECT("'NLSfB - PPO'!D"&$T31),"n.v.t.")} -> E030-A | V31: {=IF(ISNUMBER(Tabel1[[#This Row],[hulpkolom]]),INDIRECT("'NLSfB - PPO'!E"&$T31),"-")} -> 0.2 | X31: {=IF(ISNUMBER(Tabel1[[#This Row],[hulpkolom]]),INDIRECT("'NLSfB - PPO'!G"&$T31),"-")} -> E160-A | Y31: {=IF(ISNUMBER(Tabel1[[#This Row],[hulpkolom]]),INDIRECT("'NLSfB - PPO'!H"&$T31),"-")} -> 1 | AA31: {=IF(ISNUMBER(Tabel1[[#This Row],[hulpkolom]]),INDIRECT("'NLSfB - PPO'!J"&$T31),"-")} -> E170-A | AB31: {=IF(ISNUMBER(Tabel1[[#This Row],[hulpkolom]]),INDIRECT("'NLSfB - PPO'!K"&$T31),"-")} -> 1 | AD31: {=IF(ISNUMBER(Tabel1[[#This Row],[hulpkolom]]),INDIRECT("'NLSfB - PPO'!M"&$T31),"-")} -> - | AE31: {=IF(ISNUMBER(Tabel1[[#This Row],[hulpkolom]]),INDIRECT("'NLSfB - PPO'!L"&$T31),"-")} -> - | AG31: =IF(ISNUMBER(Tabel1[[#This Row],[Frequentie 1]]),Tabel1[[#This Row],[Frequentie 1]]*Tabel1[[#This Row],[Prijs 1]],0) -> 0 | AH31: =IF(ISNUMBER(Tabel1[[#This Row],[Frequentie 2]]),Tabel1[[#This Row],[Frequentie 2]]*Tabel1[[#This Row],[Prijs 2]],0) -> 0 | AI31: =IF(ISNUMBER(Tabel1[[#This Row],[Frequentie 3]]),Tabel1[[#This Row],[Frequentie 3]]*Tabel1[[#This Row],[Prijs 3]],0) -> 0 | AJ31: =IF(ISNUMBER(Tabel1[[#This Row],[Frequentie 4]]),Tabel1[[#This Row],[Frequentie 4]]*Tabel1[[#This Row],[Prijs 4]],0) -> 0 | AK31: =SUM(Tabel1[[#This Row],[Totaal 1]:[Totaal 4]]) -> 0
A32: Brandweer | B32: Verlengde parklaan 36 | C32: Hattem | D32: 788 m2 | E32: 61.52.00 | F32: centrale elektrotechnische voorzieningen; energiedistributie laagspanning ≤1kV, laagspanningshoofdverdeler | G32: =VLOOKUP(Tabel1[[#This Row],[NLSfB]],NLSfB!A:D,4,1) -> laagspanningshoofdverdeler | H32: elektra/verlichting | I32: 1 | J32: 0 | K32: Els | L32: 0 | M32: Inom 63-250A | N32: 1 groepen licht | O32: 2 groepen krachtstroom | P32: 3 groepen achter aardlekschakelaar | Q32: geen overspanningsbeveiliging aanwezig | R32: PV verdeler | S32: 0 | T32: =_xlfn.XMATCH(E32,'NLSfb - PPO'!$B$2:$B$205,0)+1 -> 25 | U32: {=IF(ISNUMBER(Tabel1[[#This Row],[hulpkolom]]),INDIRECT("'NLSfB - PPO'!D"&$T32),"n.v.t.")} -> E030-A | V32: {=IF(ISNUMBER(Tabel1[[#This Row],[hulpkolom]]),INDIRECT("'NLSfB - PPO'!E"&$T32),"-")} -> 0.2 | X32: {=IF(ISNUMBER(Tabel1[[#This Row],[hulpkolom]]),INDIRECT("'NLSfB - PPO'!G"&$T32),"-")} -> E160-A | Y32: {=IF(ISNUMBER(Tabel1[[#This Row],[hulpkolom]]),INDIRECT("'NLSfB - PPO'!H"&$T32),"-")} -> 1 | AA32: {=IF(ISNUMBER(Tabel1[[#This Row],[hulpkolom]]),INDIRECT("'NLSfB - PPO'!J"&$T32),"-")} -> E170-A | AB32: {=IF(ISNUMBER(Tabel1[[#This Row],[hulpkolom]]),INDIRECT("'NLSfB - PPO'!K"&$T32),"-")} -> 1 | AD32: {=IF(ISNUMBER(Tabel1[[#This Row],[hulpkolom]]),INDIRECT("'NLSfB - PPO'!M"&$T32),"-")} -> - | AE32: {=IF(ISNUMBER(Tabel1[[#This Row],[hulpkolom]]),INDIRECT("'NLSfB - PPO'!L"&$T32),"-")} -> - | AG32: =IF(ISNUMBER(Tabel1[[#This Row],[Frequentie 1]]),Tabel1[[#This Row],[Frequentie 1]]*Tabel1[[#This Row],[Prijs 1]],0) -> 0 | AH32: =IF(ISNUMBER(Tabel1[[#This Row],[Frequentie 2]]),Tabel1[[#This Row],[Frequentie 2]]*Tabel1[[#This Row],[Prijs 2]],0) -> 0 | AI32: =IF(ISNUMBER(Tabel1[[#This Row],[Frequentie 3]]),Tabel1[[#This Row],[Frequentie 3]]*Tabel1[[#This Row],[Prijs 3]],0) -> 0 | AJ32: =IF(ISNUMBER(Tabel1[[#This Row],[Frequentie 4]]),Tabel1[[#This Row],[Frequentie 4]]*Tabel1[[#This Row],[Prijs 4]],0) -> 0 | AK32: =SUM(Tabel1[[#This Row],[Totaal 1]:[Totaal 4]]) -> 0
A33: Brandweer | B33: Verlengde parklaan 36 | C33: Hattem | D33: 788 m2 | E33: 63.21.00 | F33: verlichting; verlichting standaard armaturen, armaturen | G33: =VLOOKUP(Tabel1[[#This Row],[NLSfB]],NLSfB!A:D,4,1) -> verlichtingsarmaturen | H33: elektra/verlichting | I33: 26 | J33: 2009 | K33: Philips | L33: 0 | M33: 1 lichtbronnen per armatuur | N33: 49 W | O33: 0 | P33: 0 | Q33: 0 | R33: 0 | S33: 0 | T33: =_xlfn.XMATCH(E33,'NLSfb - PPO'!$B$2:$B$205,0)+1 -> 79 | U33: {=IF(ISNUMBER(Tabel1[[#This Row],[hulpkolom]]),INDIRECT("'NLSfB - PPO'!D"&$T33),"n.v.t.")} -> LCHT010-A | V33: {=IF(ISNUMBER(Tabel1[[#This Row],[hulpkolom]]),INDIRECT("'NLSfB - PPO'!E"&$T33),"-")} -> 1 | X33: {=IF(ISNUMBER(Tabel1[[#This Row],[hulpkolom]]),INDIRECT("'NLSfB - PPO'!G"&$T33),"-")} -> - | Y33: {=IF(ISNUMBER(Tabel1[[#This Row],[hulpkolom]]),INDIRECT("'NLSfB - PPO'!H"&$T33),"-")} -> - | AA33: {=IF(ISNUMBER(Tabel1[[#This Row],[hulpkolom]]),INDIRECT("'NLSfB - PPO'!J"&$T33),"-")} -> - | AB33: {=IF(ISNUMBER(Tabel1[[#This Row],[hulpkolom]]),INDIRECT("'NLSfB - PPO'!K"&$T33),"-")} -> - | AD33: {=IF(ISNUMBER(Tabel1[[#This Row],[hulpkolom]]),INDIRECT("'NLSfB - PPO'!M"&$T33),"-")} -> - | AE33: {=IF(ISNUMBER(Tabel1[[#This Row],[hulpkolom]]),INDIRECT("'NLSfB - PPO'!L"&$T33),"-")} -> - | AG33: =IF(ISNUMBER(Tabel1[[#This Row],[Frequentie 1]]),Tabel1[[#This Row],[Frequentie 1]]*Tabel1[[#This Row],[Prijs 1]],0) -> 0 | AH33: =IF(ISNUMBER(Tabel1[[#This Row],[Frequentie 2]]),Tabel1[[#This Row],[Frequentie 2]]*Tabel1[[#This Row],[Prijs 2]],0) -> 0 | AI33: =IF(ISNUMBER(Tabel1[[#This Row],[Frequentie 3]]),Tabel1[[#This Row],[Frequentie 3]]*Tabel1[[#This Row],[Prijs 3]],0) -> 0 | AJ33: =IF(ISNUMBER(Tabel1[[#This Row],[Frequentie 4]]),Tabel1[[#This Row],[Frequentie 4]]*Tabel1[[#This Row],[Prijs 4]],0) -> 0 | AK33: =SUM(Tabel1[[#This Row],[Totaal 1]:[Totaal 4]]) -> 0
A34: Brandweer | B34: Verlengde parklaan 36 | C34: Hattem | D34: 788 m2 | E34: 63.21.00 | F34: verlichting; verlichting standaard armaturen, armaturen | G34: =VLOOKUP(Tabel1[[#This Row],[NLSfB]],NLSfB!A:D,4,1) -> verlichtingsarmaturen | H34: elektra/verlichting | I34: 12 | J34: 2009 | K34: Philips | L34: 0 | M34: 1 lichtbronnen per armatuur | N34: 58 W | O34: waterdicht armatuur | P34: 0 | Q34: 0 | R34: 0 | S34: 0 | T34: =_xlfn.XMATCH(E34,'NLSfb - PPO'!$B$2:$B$205,0)+1 -> 79 | U34: {=IF(ISNUMBER(Tabel1[[#This Row],[hulpkolom]]),INDIRECT("'NLSfB - PPO'!D"&$T34),"n.v.t.")} -> LCHT010-A | V34: {=IF(ISNUMBER(Tabel1[[#This Row],[hulpkolom]]),INDIRECT("'NLSfB - PPO'!E"&$T34),"-")} -> 1 | X34: {=IF(ISNUMBER(Tabel1[[#This Row],[hulpkolom]]),INDIRECT("'NLSfB - PPO'!G"&$T34),"-")} -> - | Y34: {=IF(ISNUMBER(Tabel1[[#This Row],[hulpkolom]]),INDIRECT("'NLSfB - PPO'!H"&$T34),"-")} -> - | AA34: {=IF(ISNUMBER(Tabel1[[#This Row],[hulpkolom]]),INDIRECT("'NLSfB - PPO'!J"&$T34),"-")} -> - | AB34: {=IF(ISNUMBER(Tabel1[[#This Row],[hulpkolom]]),INDIRECT("'NLSfB - PPO'!K"&$T34),"-")} -> - | AD34: {=IF(ISNUMBER(Tabel1[[#This Row],[hulpkolom]]),INDIRECT("'NLSfB - PPO'!M"&$T34),"-")} -> - | AE34: {=IF(ISNUMBER(Tabel1[[#This Row],[hulpkolom]]),INDIRECT("'NLSfB - PPO'!L"&$T34),"-")} -> - | AG34: =IF(ISNUMBER(Tabel1[[#This Row],[Frequentie 1]]),Tabel1[[#This Row],[Frequentie 1]]*Tabel1[[#This Row],[Prijs 1]],0) -> 0 | AH34: =IF(ISNUMBER(Tabel1[[#This Row],[Frequentie 2]]),Tabel1[[#This Row],[Frequentie 2]]*Tabel1[[#This Row],[Prijs 2]],0) -> 0 | AI34: =IF(ISNUMBER(Tabel1[[#This Row],[Frequentie 3]]),Tabel1[[#This Row],[Frequentie 3]]*Tabel1[[#This Row],[Prijs 3]],0) -> 0 | AJ34: =IF(ISNUMBER(Tabel1[[#This Row],[Frequentie 4]]),Tabel1[[#This Row],[Frequentie 4]]*Tabel1[[#This Row],[Prijs 4]],0) -> 0 | AK34: =SUM(Tabel1[[#This Row],[Totaal 1]:[Totaal 4]]) -> 0
A35: Brandweer | B35: Verlengde parklaan 36 | C35: Hattem | D35: 788 m2 | E35: 63.21.00 | F35: verlichting; verlichting standaard armaturen, armaturen | G35: =VLOOKUP(Tabel1[[#This Row],[NLSfB]],NLSfB!A:D,4,1) -> verlichtingsarmaturen | H35: elektra/verlichting | I35: 4 | J35: 2009 | K35: Philips | L35: 0 | M35: 1 lichtbronnen per armatuur | N35: 58 W | O35: trog armatuur | P35: 0 | Q35: 0 | R35: 0 | S35: 0 | T35: =_xlfn.XMATCH(E35,'NLSfb - PPO'!$B$2:$B$205,0)+1 -> 79 | U35: {=IF(ISNUMBER(Tabel1[[#This Row],[hulpkolom]]),INDIRECT("'NLSfB - PPO'!D"&$T35),"n.v.t.")} -> LCHT010-A | V35: {=IF(ISNUMBER(Tabel1[[#This Row],[hulpkolom]]),INDIRECT("'NLSfB - PPO'!E"&$T35),"-")} -> 1 | X35: {=IF(ISNUMBER(Tabel1[[#This Row],[hulpkolom]]),INDIRECT("'NLSfB - PPO'!G"&$T35),"-")} -> - | Y35: {=IF(ISNUMBER(Tabel1[[#This Row],[hulpkolom]]),INDIRECT("'NLSfB - PPO'!H"&$T35),"-")} -> - | AA35: {=IF(ISNUMBER(Tabel1[[#This Row],[hulpkolom]]),INDIRECT("'NLSfB - PPO'!J"&$T35),"-")} -> - | AB35: {=IF(ISNUMBER(Tabel1[[#This Row],[hulpkolom]]),INDIRECT("'NLSfB - PPO'!K"&$T35),"-")} -> - | AD35: {=IF(ISNUMBER(Tabel1[[#This Row],[hulpkolom]]),INDIRECT("'NLSfB - PPO'!M"&$T35),"-")} -> - | AE35: {=IF(ISNUMBER(Tabel1[[#This Row],[hulpkolom]]),INDIRECT("'NLSfB - PPO'!L"&$T35),"-")} -> - | AG35: =IF(ISNUMBER(Tabel1[[#This Row],[Frequentie 1]]),Tabel1[[#This Row],[Frequentie 1]]*Tabel1[[#This Row],[Prijs 1]],0) -> 0 | AH35: =IF(ISNUMBER(Tabel1[[#This Row],[Frequentie 2]]),Tabel1[[#This Row],[Frequentie 2]]*Tabel1[[#This Row],[Prijs 2]],0) -> 0 | AI35: =IF(ISNUMBER(Tabel1[[#This Row],[Frequentie 3]]),Tabel1[[#This Row],[Frequentie 3]]*Tabel1[[#This Row],[Prijs 3]],0) -> 0 | AJ35: =IF(ISNUMBER(Tabel1[[#This Row],[Frequentie 4]]),Tabel1[[#This Row],[Frequentie 4]]*Tabel1[[#This Row],[Prijs 4]],0) -> 0 | AK35: =SUM(Tabel1[[#This Row],[Totaal 1]:[Totaal 4]]) -> 0
A36: Brandweer | B36: Verlengde parklaan 36 | C36: Hattem | D36: 788 m2 | E36: 63.21.00 | F36: verlichting; verlichting standaard armaturen, armaturen | G36: =VLOOKUP(Tabel1[[#This Row],[NLSfB]],NLSfB!A:D,4,1) -> verlichtingsarmaturen | H36: elektra/verlichting | I36: 2 | J36: 2009 | K36: Philips | L36: 0 | M36: 2 lichtbronnen per armatuur | N36: 36 W | O36: trog armatuur | P36: 0 | Q36: 0 | R36: 0 | S36: 0 | T36: =_xlfn.XMATCH(E36,'NLSfb - PPO'!$B$2:$B$205,0)+1 -> 79 | U36: {=IF(ISNUMBER(Tabel1[[#This Row],[hulpkolom]]),INDIRECT("'NLSfB - PPO'!D"&$T36),"n.v.t.")} -> LCHT010-A | V36: {=IF(ISNUMBER(Tabel1[[#This Row],[hulpkolom]]),INDIRECT("'NLSfB - PPO'!E"&$T36),"-")} -> 1 | X36: {=IF(ISNUMBER(Tabel1[[#This Row],[hulpkolom]]),INDIRECT("'NLSfB - PPO'!G"&$T36),"-")} -> - | Y36: {=IF(ISNUMBER(Tabel1[[#This Row],[hulpkolom]]),INDIRECT("'NLSfB - PPO'!H"&$T36),"-")} -> - | AA36: {=IF(ISNUMBER(Tabel1[[#This Row],[hulpkolom]]),INDIRECT("'NLSfB - PPO'!J"&$T36),"-")} -> - | AB36: {=IF(ISNUMBER(Tabel1[[#This Row],[hulpkolom]]),INDIRECT("'NLSfB - PPO'!K"&$T36),"-")} -> - | AD36: {=IF(ISNUMBER(Tabel1[[#This Row],[hulpkolom]]),INDIRECT("'NLSfB - PPO'!M"&$T36),"-")} -> - | AE36: {=IF(ISNUMBER(Tabel1[[#This Row],[hulpkolom]]),INDIRECT("'NLSfB - PPO'!L"&$T36),"-")} -> - | AG36: =IF(ISNUMBER(Tabel1[[#This Row],[Frequentie 1]]),Tabel1[[#This Row],[Frequentie 1]]*Tabel1[[#This Row],[Prijs 1]],0) -> 0 | AH36: =IF(ISNUMBER(Tabel1[[#This Row],[Frequentie 2]]),Tabel1[[#This Row],[Frequentie 2]]*Tabel1[[#This Row],[Prijs 2]],0) -> 0 | AI36: =IF(ISNUMBER(Tabel1[[#This Row],[Frequentie 3]]),Tabel1[[#This Row],[Frequentie 3]]*Tabel1[[#This Row],[Prijs 3]],0) -> 0 | AJ36: =IF(ISNUMBER(Tabel1[[#This Row],[Frequentie 4]]),Tabel1[[#This Row],[Frequentie 4]]*Tabel1[[#This Row],[Prijs 4]],0) -> 0 | AK36: =SUM(Tabel1[[#This Row],[Totaal 1]:[Totaal 4]]) -> 0
A37: Brandweer | B37: Verlengde parklaan 36 | C37: Hattem | D37: 788 m2 | E37: 63.21.00 | F37: verlichting; verlichting standaard armaturen, armaturen | G37: =VLOOKUP(Tabel1[[#This Row],[NLSfB]],NLSfB!A:D,4,1) -> verlichtingsarmaturen | H37: elektra/verlichting | I37: 15 | J37: 2009 | K37: n.v.t. | L37: 0 | M37: 1 lichtbronnen per armatuur | N37: 18 W | O37: 0 | P37: 0 | Q37: 0 | R37: 0 | S37: 0 | T37: =_xlfn.XMATCH(E37,'NLSfb - PPO'!$B$2:$B$205,0)+1 -> 79 | U37: {=IF(ISNUMBER(Tabel1[[#This Row],[hulpkolom]]),INDIRECT("'NLSfB - PPO'!D"&$T37),"n.v.t.")} -> LCHT010-A | V37: {=IF(ISNUMBER(Tabel1[[#This Row],[hulpkolom]]),INDIRECT("'NLSfB - PPO'!E"&$T37),"-")} -> 1 | X37: {=IF(ISNUMBER(Tabel1[[#This Row],[hulpkolom]]),INDIRECT("'NLSfB - PPO'!G"&$T37),"-")} -> - | Y37: {=IF(ISNUMBER(Tabel1[[#This Row],[hulpkolom]]),INDIRECT("'NLSfB - PPO'!H"&$T37),"-")} -> - | AA37: {=IF(ISNUMBER(Tabel1[[#This Row],[hulpkolom]]),INDIRECT("'NLSfB - PPO'!J"&$T37),"-")} -> - | AB37: {=IF(ISNUMBER(Tabel1[[#This Row],[hulpkolom]]),INDIRECT("'NLSfB - PPO'!K"&$T37),"-")} -> - | AD37: {=IF(ISNUMBER(Tabel1[[#This Row],[hulpkolom]]),INDIRECT("'NLSfB - PPO'!M"&$T37),"-")} -> - | AE37: {=IF(ISNUMBER(Tabel1[[#This Row],[hulpkolom]]),INDIRECT("'NLSfB - PPO'!L"&$T37),"-")} -> - | AG37: =IF(ISNUMBER(Tabel1[[#This Row],[Frequentie 1]]),Tabel1[[#This Row],[Frequentie 1]]*Tabel1[[#This Row],[Prijs 1]],0) -> 0 | AH37: =IF(ISNUMBER(Tabel1[[#This Row],[Frequentie 2]]),Tabel1[[#This Row],[Frequentie 2]]*Tabel1[[#This Row],[Prijs 2]],0) -> 0 | AI37: =IF(ISNUMBER(Tabel1[[#This Row],[Frequentie 3]]),Tabel1[[#This Row],[Frequentie 3]]*Tabel1[[#This Row],[Prijs 3]],0) -> 0 | AJ37: =IF(ISNUMBER(Tabel1[[#This Row],[Frequentie 4]]),Tabel1[[#This Row],[Frequentie 4]]*Tabel1[[#This Row],[Prijs 4]],0) -> 0 | AK37: =SUM(Tabel1[[#This Row],[Totaal 1]:[Totaal 4]]) -> 0
A38: Brandweer | B38: Verlengde parklaan 36 | C38: Hattem | D38: 788 m2 | E38: 63.21.00 | F38: verlichting; verlichting standaard armaturen, armaturen | G38: =VLOOKUP(Tabel1[[#This Row],[NLSfB]],NLSfB!A:D,4,1) -> verlichtingsarmaturen | H38: elektra/verlichting | I38: 21 | J38: 0 | K38: n.v.t. | L38: 0 | M38: 2 lichtbronnen per armatuur | N38: 18 W | O38: 0 | P38: 0 | Q38: 0 | R38: 0 | S38: 0 | T38: =_xlfn.XMATCH(E38,'NLSfb - PPO'!$B$2:$B$205,0)+1 -> 79 | U38: {=IF(ISNUMBER(Tabel1[[#This Row],[hulpkolom]]),INDIRECT("'NLSfB - PPO'!D"&$T38),"n.v.t.")} -> LCHT010-A | V38: {=IF(ISNUMBER(Tabel1[[#This Row],[hulpkolom]]),INDIRECT("'NLSfB - PPO'!E"&$T38),"-")} -> 1 | X38: {=IF(ISNUMBER(Tabel1[[#This Row],[hulpkolom]]),INDIRECT("'NLSfB - PPO'!G"&$T38),"-")} -> - | Y38: {=IF(ISNUMBER(Tabel1[[#This Row],[hulpkolom]]),INDIRECT("'NLSfB - PPO'!H"&$T38),"-")} -> - | AA38: {=IF(ISNUMBER(Tabel1[[#This Row],[hulpkolom]]),INDIRECT("'NLSfB - PPO'!J"&$T38),"-")} -> - | AB38: {=IF(ISNUMBER(Tabel1[[#This Row],[hulpkolom]]),INDIRECT("'NLSfB - PPO'!K"&$T38),"-")} -> - | AD38: {=IF(ISNUMBER(Tabel1[[#This Row],[hulpkolom]]),INDIRECT("'NLSfB - PPO'!M"&$T38),"-")} -> - | AE38: {=IF(ISNUMBER(Tabel1[[#This Row],[hulpkolom]]),INDIRECT("'NLSfB - PPO'!L"&$T38),"-")} -> - | AG38: =IF(ISNUMBER(Tabel1[[#This Row],[Frequentie 1]]),Tabel1[[#This Row],[Frequentie 1]]*Tabel1[[#This Row],[Prijs 1]],0) -> 0 | AH38: =IF(ISNUMBER(Tabel1[[#This Row],[Frequentie 2]]),Tabel1[[#This Row],[Frequentie 2]]*Tabel1[[#This Row],[Prijs 2]],0) -> 0 | AI38: =IF(ISNUMBER(Tabel1[[#This Row],[Frequentie 3]]),Tabel1[[#This Row],[Frequentie 3]]*Tabel1[[#This Row],[Prijs 3]],0) -> 0 | AJ38: =IF(ISNUMBER(Tabel1[[#This Row],[Frequentie 4]]),Tabel1[[#This Row],[Frequentie 4]]*Tabel1[[#This Row],[Prijs 4]],0) -> 0 | AK38: =SUM(Tabel1[[#This Row],[Totaal 1]:[Totaal 4]]) -> 0
A39: Brandweer | B39: Verlengde parklaan 36 | C39: Hattem | D39: 788 m2 | E39: 63.21.00 | F39: verlichting; verlichting standaard armaturen, armaturen | G39: =VLOOKUP(Tabel1[[#This Row],[NLSfB]],NLSfB!A:D,4,1) -> verlichtingsarmaturen | H39: elektra/verlichting | I39: 3 | J39: 0 | K39: 0 | L39: 0 | M39: LED | N39: 1 lichtbronnen per armatuur | O39: 4 W | P39: 0 | Q39: 0 | R39: 0 | S39: 0 | T39: =_xlfn.XMATCH(E39,'NLSfb - PPO'!$B$2:$B$205,0)+1 -> 79 | U39: {=IF(ISNUMBER(Tabel1[[#This Row],[hulpkolom]]),INDIRECT("'NLSfB - PPO'!D"&$T39),"n.v.t.")} -> LCHT010-A | V39: {=IF(ISNUMBER(Tabel1[[#This Row],[hulpkolom]]),INDIRECT("'NLSfB - PPO'!E"&$T39),"-")} -> 1 | X39: {=IF(ISNUMBER(Tabel1[[#This Row],[hulpkolom]]),INDIRECT("'NLSfB - PPO'!G"&$T39),"-")} -> - | Y39: {=IF(ISNUMBER(Tabel1[[#This Row],[hulpkolom]]),INDIRECT("'NLSfB - PPO'!H"&$T39),"-")} -> - | AA39: {=IF(ISNUMBER(Tabel1[[#This Row],[hulpkolom]]),INDIRECT("'NLSfB - PPO'!J"&$T39),"-")} -> - | AB39: {=IF(ISNUMBER(Tabel1[[#This Row],[hulpkolom]]),INDIRECT("'NLSfB - PPO'!K"&$T39),"-")} -> - | AD39: {=IF(ISNUMBER(Tabel1[[#This Row],[hulpkolom]]),INDIRECT("'NLSfB - PPO'!M"&$T39),"-")} -> - | AE39: {=IF(ISNUMBER(Tabel1[[#This Row],[hulpkolom]]),INDIRECT("'NLSfB - PPO'!L"&$T39),"-")} -> - | AG39: =IF(ISNUMBER(Tabel1[[#This Row],[Frequentie 1]]),Tabel1[[#This Row],[Frequentie 1]]*Tabel1[[#This Row],[Prijs 1]],0) -> 0 | AH39: =IF(ISNUMBER(Tabel1[[#This Row],[Frequentie 2]]),Tabel1[[#This Row],[Frequentie 2]]*Tabel1[[#This Row],[Prijs 2]],0) -> 0 | AI39: =IF(ISNUMBER(Tabel1[[#This Row],[Frequentie 3]]),Tabel1[[#This Row],[Frequentie 3]]*Tabel1[[#This Row],[Prijs 3]],0) -> 0 | AJ39: =IF(ISNUMBER(Tabel1[[#This Row],[Frequentie 4]]),Tabel1[[#This Row],[Frequentie 4]]*Tabel1[[#This Row],[Prijs 4]],0) -> 0 | AK39: =SUM(Tabel1[[#This Row],[Totaal 1]:[Totaal 4]]) -> 0
A40: Brandweer | B40: Verlengde parklaan 36 | C40: Hattem | D40: 788 m2 | E40: 63.21.00 | F40: verlichting; verlichting standaard armaturen, armaturen | G40: =VLOOKUP(Tabel1[[#This Row],[NLSfB]],NLSfB!A:D,4,1) -> verlichtingsarmaturen | H40: elektra/verlichting | I40: 1 | J40: 0 | K40: 0 | L40: 0 | M40: halogeen | N40: 1 lichtbronnen per armatuur | O40: 35 W | P40: 0 | Q40: 0 | R40: 0 | S40: 0 | T40: =_xlfn.XMATCH(E40,'NLSfb - PPO'!$B$2:$B$205,0)+1 -> 79 | U40: {=IF(ISNUMBER(Tabel1[[#This Row],[hulpkolom]]),INDIRECT("'NLSfB - PPO'!D"&$T40),"n.v.t.")} -> LCHT010-A | V40: {=IF(ISNUMBER(Tabel1[[#This Row],[hulpkolom]]),INDIRECT("'NLSfB - PPO'!E"&$T40),"-")} -> 1 | X40: {=IF(ISNUMBER(Tabel1[[#This Row],[hulpkolom]]),INDIRECT("'NLSfB - PPO'!G"&$T40),"-")} -> - | Y40: {=IF(ISNUMBER(Tabel1[[#This Row],[hulpkolom]]),INDIRECT("'NLSfB - PPO'!H"&$T40),"-")} -> - | AA40: {=IF(ISNUMBER(Tabel1[[#This Row],[hulpkolom]]),INDIRECT("'NLSfB - PPO'!J"&$T40),"-")} -> - | AB40: {=IF(ISNUMBER(Tabel1[[#This Row],[hulpkolom]]),INDIRECT("'NLSfB - PPO'!K"&$T40),"-")} -> - | AD40: {=IF(ISNUMBER(Tabel1[[#This Row],[hulpkolom]]),INDIRECT("'NLSfB - PPO'!M"&$T40),"-")} -> - | AE40: {=IF(ISNUMBER(Tabel1[[#This Row],[hulpkolom]]),INDIRECT("'NLSfB - PPO'!L"&$T40),"-")} -> - | AG40: =IF(ISNUMBER(Tabel1[[#This Row],[Frequentie 1]]),Tabel1[[#This Row],[Frequentie 1]]*Tabel1[[#This Row],[Prijs 1]],0) -> 0 | AH40: =IF(ISNUMBER(Tabel1[[#This Row],[Frequentie 2]]),Tabel1[[#This Row],[Frequentie 2]]*Tabel1[[#This Row],[Prijs 2]],0) -> 0 | AI40: =IF(ISNUMBER(Tabel1[[#This Row],[Frequentie 3]]),Tabel1[[#This Row],[Frequentie 3]]*Tabel1[[#This Row],[Prijs 3]],0) -> 0 | AJ40: =IF(ISNUMBER(Tabel1[[#This Row],[Frequentie 4]]),Tabel1[[#This Row],[Frequentie 4]]*Tabel1[[#This Row],[Prijs 4]],0) -> 0 | AK40: =SUM(Tabel1[[#This Row],[Totaal 1]:[Totaal 4]]) -> 0
A41: Brandweer | B41: Verlengde parklaan 36 | C41: Hattem | D41: 788 m2 | E41: 63.21.00 | F41: verlichting; verlichting standaard armaturen, armaturen | G41: =VLOOKUP(Tabel1[[#This Row],[NLSfB]],NLSfB!A:D,4,1) -> verlichtingsarmaturen | H41: elektra/verlichting | I41: 2 | J41: 0 | K41: 0 | L41: 0 | M41: LED | N41: 1 lichtbronnen per armatuur | O41: 4 W | P41: 0 | Q41: 0 | R41: 0 | S41: 0 | T41: =_xlfn.XMATCH(E41,'NLSfb - PPO'!$B$2:$B$205,0)+1 -> 79 | U41: {=IF(ISNUMBER(Tabel1[[#This Row],[hulpkolom]]),INDIRECT("'NLSfB - PPO'!D"&$T41),"n.v.t.")} -> LCHT010-A | V41: {=IF(ISNUMBER(Tabel1[[#This Row],[hulpkolom]]),INDIRECT("'NLSfB - PPO'!E"&$T41),"-")} -> 1 | X41: {=IF(ISNUMBER(Tabel1[[#This Row],[hulpkolom]]),INDIRECT("'NLSfB - PPO'!G"&$T41),"-")} -> - | Y41: {=IF(ISNUMBER(Tabel1[[#This Row],[hulpkolom]]),INDIRECT("'NLSfB - PPO'!H"&$T41),"-")} -> - | AA41: {=IF(ISNUMBER(Tabel1[[#This Row],[hulpkolom]]),INDIRECT("'NLSfB - PPO'!J"&$T41),"-")} -> - | AB41: {=IF(ISNUMBER(Tabel1[[#This Row],[hulpkolom]]),INDIRECT("'NLSfB - PPO'!K"&$T41),"-")} -> - | AD41: {=IF(ISNUMBER(Tabel1[[#This Row],[hulpkolom]]),INDIRECT("'NLSfB - PPO'!M"&$T41),"-")} -> - | AE41: {=IF(ISNUMBER(Tabel1[[#This Row],[hulpkolom]]),INDIRECT("'NLSfB - PPO'!L"&$T41),"-")} -> - | AG41: =IF(ISNUMBER(Tabel1[[#This Row],[Frequentie 1]]),Tabel1[[#This Row],[Frequentie 1]]*Tabel1[[#This Row],[Prijs 1]],0) -> 0 | AH41: =IF(ISNUMBER(Tabel1[[#This Row],[Frequentie 2]]),Tabel1[[#This Row],[Frequentie 2]]*Tabel1[[#This Row],[Prijs 2]],0) -> 0 | AI41: =IF(ISNUMBER(Tabel1[[#This Row],[Frequentie 3]]),Tabel1[[#This Row],[Frequentie 3]]*Tabel1[[#This Row],[Prijs 3]],0) -> 0 | AJ41: =IF(ISNUMBER(Tabel1[[#This Row],[Frequentie 4]]),Tabel1[[#This Row],[Frequentie 4]]*Tabel1[[#This Row],[Prijs 4]],0) -> 0 | AK41: =SUM(Tabel1[[#This Row],[Totaal 1]:[Totaal 4]]) -> 0
A42: Brandweer | B42: Verlengde parklaan 36 | C42: Hattem | D42: 788 m2 | E42: 63.31.00 | F42: verlichting; verlichting overige armaturen, reclameverlichting | G42: =VLOOKUP(Tabel1[[#This Row],[NLSfB]],NLSfB!A:D,4,1) -> reclameverlichting | H42: elektra/verlichting | I42: 1 | J42: 0 | K42: 0 | L42: 0 | M42: TL | N42: 36 W | O42: 0 | P42: 0 | Q42: 0 | R42: 0 | S42: 0 | T42: =_xlfn.XMATCH(E42,'NLSfb - PPO'!$B$2:$B$205,0)+1 -> 82 | U42: {=IF(ISNUMBER(Tabel1[[#This Row],[hulpkolom]]),INDIRECT("'NLSfB - PPO'!D"&$T42),"n.v.t.")} -> LCHT020-A | V42: {=IF(ISNUMBER(Tabel1[[#This Row],[hulpkolom]]),INDIRECT("'NLSfB - PPO'!E"&$T42),"-")} -> 1 | X42: {=IF(ISNUMBER(Tabel1[[#This Row],[hulpkolom]]),INDIRECT("'NLSfB - PPO'!G"&$T42),"-")} -> - | Y42: {=IF(ISNUMBER(Tabel1[[#This Row],[hulpkolom]]),INDIRECT("'NLSfB - PPO'!H"&$T42),"-")} -> - | AA42: {=IF(ISNUMBER(Tabel1[[#This Row],[hulpkolom]]),INDIRECT("'NLSfB - PPO'!J"&$T42),"-")} -> - | AB42: {=IF(ISNUMBER(Tabel1[[#This Row],[hulpkolom]]),INDIRECT("'NLSfB - PPO'!K"&$T42),"-")} -> - | AD42: {=IF(ISNUMBER(Tabel1[[#This Row],[hulpkolom]]),INDIRECT("'NLSfB - PPO'!M"&$T42),"-")} -> - | AE42: {=IF(ISNUMBER(Tabel1[[#This Row],[hulpkolom]]),INDIRECT("'NLSfB - PPO'!L"&$T42),"-")} -> - | AG42: =IF(ISNUMBER(Tabel1[[#This Row],[Frequentie 1]]),Tabel1[[#This Row],[Frequentie 1]]*Tabel1[[#This Row],[Prijs 1]],0) -> 0 | AH42: =IF(ISNUMBER(Tabel1[[#This Row],[Frequentie 2]]),Tabel1[[#This Row],[Frequentie 2]]*Tabel1[[#This Row],[Prijs 2]],0) -> 0 | AI42: =IF(ISNUMBER(Tabel1[[#This Row],[Frequentie 3]]),Tabel1[[#This Row],[Frequentie 3]]*Tabel1[[#This Row],[Prijs 3]],0) -> 0 | AJ42: =IF(ISNUMBER(Tabel1[[#This Row],[Frequentie 4]]),Tabel1[[#This Row],[Frequentie 4]]*Tabel1[[#This Row],[Prijs 4]],0) -> 0 | AK42: =SUM(Tabel1[[#This Row],[Totaal 1]:[Totaal 4]]) -> 0
A43: Brandweer | B43: Verlengde parklaan 36 | C43: Hattem | D43: 788 m2 | E43: 63.20.00 | F43: Noodverlichtingsinstallatie (algemene informatie) | G43: algemene informatie noodverlichtingsinstallatie | H43: elektra/verlichting | I43: 1 | J43: 0 | K43: 0 | L43: 0 | M43: decentrale noodverlichting | N43: logboek niet aanwezig | O43: elektra tekeningen aanwezig | P43: 0 | Q43: 0 | R43: 0 | S43: 0 | T43: =_xlfn.XMATCH(E43,'NLSfb - PPO'!$B$2:$B$205,0)+1 -> #N/A | U43: {=IF(ISNUMBER(Tabel1[[#This Row],[hulpkolom]]),INDIRECT("'NLSfB - PPO'!D"&$T43),"n.v.t.")} -> n.v.t. | V43: {=IF(ISNUMBER(Tabel1[[#This Row],[hulpkolom]]),INDIRECT("'NLSfB - PPO'!E"&$T43),"-")} -> - | X43: {=IF(ISNUMBER(Tabel1[[#This Row],[hulpkolom]]),INDIRECT("'NLSfB - PPO'!G"&$T43),"-")} -> - | Y43: {=IF(ISNUMBER(Tabel1[[#This Row],[hulpkolom]]),INDIRECT("'NLSfB - PPO'!H"&$T43),"-")} -> - | AA43: {=IF(ISNUMBER(Tabel1[[#This Row],[hulpkolom]]),INDIRECT("'NLSfB - PPO'!J"&$T43),"-")} -> - | AB43: {=IF(ISNUMBER(Tabel1[[#This Row],[hulpkolom]]),INDIRECT("'NLSfB - PPO'!K"&$T43),"-")} -> - | AD43: {=IF(ISNUMBER(Tabel1[[#This Row],[hulpkolom]]),INDIRECT("'NLSfB - PPO'!M"&$T43),"-")} -> - | AE43: {=IF(ISNUMBER(Tabel1[[#This Row],[hulpkolom]]),INDIRECT("'NLSfB - PPO'!L"&$T43),"-")} -> - | AG43: =IF(ISNUMBER(Tabel1[[#This Row],[Frequentie 1]]),Tabel1[[#This Row],[Frequentie 1]]*Tabel1[[#This Row],[Prijs 1]],0) -> 0 | AH43: =IF(ISNUMBER(Tabel1[[#This Row],[Frequentie 2]]),Tabel1[[#This Row],[Frequentie 2]]*Tabel1[[#This Row],[Prijs 2]],0) -> 0 | AI43: =IF(ISNUMBER(Tabel1[[#This Row],[Frequentie 3]]),Tabel1[[#This Row],[Frequentie 3]]*Tabel1[[#This Row],[Prijs 3]],0) -> 0 | AJ43: =IF(ISNUMBER(Tabel1[[#This Row],[Frequentie 4]]),Tabel1[[#This Row],[Frequentie 4]]*Tabel1[[#This Row],[Prijs 4]],0) -> 0 | AK43: =SUM(Tabel1[[#This Row],[Totaal 1]:[Totaal 4]]) -> 0
A44: Brandweer | B44: Verlengde parklaan 36 | C44: Hattem | D44: 788 m2 | E44: 63.42.00 | F44: verlichting; vluchtwegsignalering, armaturen | G44: =VLOOKUP(Tabel1[[#This Row],[NLSfB]],NLSfB!A:D,4,1) -> armaturen vluchtwegsignalering | H44: elektra/verlichting | I44: 10 | J44: 0 | K44: Famostar | L44: 0 | M44: LED | N44: 1 accupakketten in armatuur | O44: 0 | P44: 0 | Q44: 0 | R44: 0 | S44: 0 | T44: =_xlfn.XMATCH(E44,'NLSfb - PPO'!$B$2:$B$205,0)+1 -> 84 | U44: {=IF(ISNUMBER(Tabel1[[#This Row],[hulpkolom]]),INDIRECT("'NLSfB - PPO'!D"&$T44),"n.v.t.")} -> LCHT040-A | V44: {=IF(ISNUMBER(Tabel1[[#This Row],[hulpkolom]]),INDIRECT("'NLSfB - PPO'!E"&$T44),"-")} -> 1 | X44: {=IF(ISNUMBER(Tabel1[[#This Row],[hulpkolom]]),INDIRECT("'NLSfB - PPO'!G"&$T44),"-")} -> - | Y44: {=IF(ISNUMBER(Tabel1[[#This Row],[hulpkolom]]),INDIRECT("'NLSfB - PPO'!H"&$T44),"-")} -> - | AA44: {=IF(ISNUMBER(Tabel1[[#This Row],[hulpkolom]]),INDIRECT("'NLSfB - PPO'!J"&$T44),"-")} -> - | AB44: {=IF(ISNUMBER(Tabel1[[#This Row],[hulpkolom]]),INDIRECT("'NLSfB - PPO'!K"&$T44),"-")} -> - | AD44: {=IF(ISNUMBER(Tabel1[[#This Row],[hulpkolom]]),INDIRECT("'NLSfB - PPO'!M"&$T44),"-")} -> - | AE44: {=IF(ISNUMBER(Tabel1[[#This Row],[hulpkolom]]),INDIRECT("'NLSfB - PPO'!L"&$T44),"-")} -> - | AG44: =IF(ISNUMBER(Tabel1[[#This Row],[Frequentie 1]]),Tabel1[[#This Row],[Frequentie 1]]*Tabel1[[#This Row],[Prijs 1]],0) -> 0 | AH44: =IF(ISNUMBER(Tabel1[[#This Row],[Frequentie 2]]),Tabel1[[#This Row],[Frequentie 2]]*Tabel1[[#This Row],[Prijs 2]],0) -> 0 | AI44: =IF(ISNUMBER(Tabel1[[#This Row],[Frequentie 3]]),Tabel1[[#This Row],[Frequentie 3]]*Tabel1[[#This Row],[Prijs 3]],0) -> 0 | AJ44: =IF(ISNUMBER(Tabel1[[#This Row],[Frequentie 4]]),Tabel1[[#This Row],[Frequentie 4]]*Tabel1[[#This Row],[Prijs 4]],0) -> 0 | AK44: =SUM(Tabel1[[#This Row],[Totaal 1]:[Totaal 4]]) -> 0
A45: Brandweer | B45: Verlengde parklaan 36 | C45: Hattem | D45: 788 m2 | E45: 64.22.00 | F45: communicatie; overdracht van geluid/spraak, intercom | G45: =VLOOKUP(Tabel1[[#This Row],[NLSfB]],NLSfB!A:D,4,1) -> intercom | H45: inbraak/omroep/meld | I45: 1 | J45: 2009 | K45: 0 | L45: 0 | M45: intercom audio | N45: 0 | O45: geen koppeling DECT | P45: 1 buitendeurposten | Q45: 1 uitluisterpunten/monitoren | R45: geen bellentableau aanwezig | S45: 0 | T45: =_xlfn.XMATCH(E45,'NLSfb - PPO'!$B$2:$B$205,0)+1 -> 105 | U45: {=IF(ISNUMBER(Tabel1[[#This Row],[hulpkolom]]),INDIRECT("'NLSfB - PPO'!D"&$T45),"n.v.t.")} -> SCR030-A | V45: {=IF(ISNUMBER(Tabel1[[#This Row],[hulpkolom]]),INDIRECT("'NLSfB - PPO'!E"&$T45),"-")} -> 1 | X45: {=IF(ISNUMBER(Tabel1[[#This Row],[hulpkolom]]),INDIRECT("'NLSfB - PPO'!G"&$T45),"-")} -> - | Y45: {=IF(ISNUMBER(Tabel1[[#This Row],[hulpkolom]]),INDIRECT("'NLSfB - PPO'!H"&$T45),"-")} -> - | AA45: {=IF(ISNUMBER(Tabel1[[#This Row],[hulpkolom]]),INDIRECT("'NLSfB - PPO'!J"&$T45),"-")} -> - | AB45: {=IF(ISNUMBER(Tabel1[[#This Row],[hulpkolom]]),INDIRECT("'NLSfB - PPO'!K"&$T45),"-")} -> - | AD45: {=IF(ISNUMBER(Tabel1[[#This Row],[hulpkolom]]),INDIRECT("'NLSfB - PPO'!M"&$T45),"-")} -> - | AE45: {=IF(ISNUMBER(Tabel1[[#This Row],[hulpkolom]]),INDIRECT("'NLSfB - PPO'!L"&$T45),"-")} -> - | AG45: =IF(ISNUMBER(Tabel1[[#This Row],[Frequentie 1]]),Tabel1[[#This Row],[Frequentie 1]]*Tabel1[[#This Row],[Prijs 1]],0) -> 0 | AH45: =IF(ISNUMBER(Tabel1[[#This Row],[Frequentie 2]]),Tabel1[[#This Row],[Frequentie 2]]*Tabel1[[#This Row],[Prijs 2]],0) -> 0 | AI45: =IF(ISNUMBER(Tabel1[[#This Row],[Frequentie 3]]),Tabel1[[#This Row],[Frequentie 3]]*Tabel1[[#This Row],[Prijs 3]],0) -> 0 | AJ45: =IF(ISNUMBER(Tabel1[[#This Row],[Frequentie 4]]),Tabel1[[#This Row],[Frequentie 4]]*Tabel1[[#This Row],[Prijs 4]],0) -> 0 | AK45: =SUM(Tabel1[[#This Row],[Totaal 1]:[Totaal 4]]) -> 0
A46: Brandweer | B46: Verlengde parklaan 36 | C46: Hattem | D46: 788 m2 | E46: 65.11.10 | F46: beveiliging; brandmeldings- en ontruimingsinstallatie, detectie en alarmering; brandmeldinstallatie centrale | G46: =VLOOKUP(Tabel1[[#This Row],[NLSfB]],NLSfB!A:D,4,1) -> centrale brandmeldinstallatie | H46: brandveiligheid | I46: 1 | J46: 2009 | K46: 0 | L46: BC 216-1 | M46: gecertificeerd | N46: keuringsrapport aanwezig | O46: logboek aanwezig | P46: 0 | Q46: geen geografisch paneel aanwezig | R46: signaleringen | S46: 0 | T46: =_xlfn.XMATCH(E46,'NLSfb - PPO'!$B$2:$B$205,0)+1 -> 12 | U46: {=IF(ISNUMBER(Tabel1[[#This Row],[hulpkolom]]),INDIRECT("'NLSfB - PPO'!D"&$T46),"n.v.t.")} -> BRND100-A1 | V46: {=IF(ISNUMBER(Tabel1[[#This Row],[hulpkolom]]),INDIRECT("'NLSfB - PPO'!E"&$T46),"-")} -> 1 | X46: {=IF(ISNUMBER(Tabel1[[#This Row],[hulpkolom]]),INDIRECT("'NLSfB - PPO'!G"&$T46),"-")} -> BRND100-A2 | Y46: {=IF(ISNUMBER(Tabel1[[#This Row],[hulpkolom]]),INDIRECT("'NLSfB - PPO'!H"&$T46),"-")} -> 2 | AA46: {=IF(ISNUMBER(Tabel1[[#This Row],[hulpkolom]]),INDIRECT("'NLSfB - PPO'!J"&$T46),"-")} -> BRND100-A3 | AB46: {=IF(ISNUMBER(Tabel1[[#This Row],[hulpkolom]]),INDIRECT("'NLSfB - PPO'!K"&$T46),"-")} -> 12 | AD46: {=IF(ISNUMBER(Tabel1[[#This Row],[hulpkolom]]),INDIRECT("'NLSfB - PPO'!M"&$T46),"-")} -> - | AE46: {=IF(ISNUMBER(Tabel1[[#This Row],[hulpkolom]]),INDIRECT("'NLSfB - PPO'!L"&$T46),"-")} -> - | AG46: =IF(ISNUMBER(Tabel1[[#This Row],[Frequentie 1]]),Tabel1[[#This Row],[Frequentie 1]]*Tabel1[[#This Row],[Prijs 1]],0) -> 0 | AH46: =IF(ISNUMBER(Tabel1[[#This Row],[Frequentie 2]]),Tabel1[[#This Row],[Frequentie 2]]*Tabel1[[#This Row],[Prijs 2]],0) -> 0 | AI46: =IF(ISNUMBER(Tabel1[[#This Row],[Frequentie 3]]),Tabel1[[#This Row],[Frequentie 3]]*Tabel1[[#This Row],[Prijs 3]],0) -> 0 | AJ46: =IF(ISNUMBER(Tabel1[[#This Row],[Frequentie 4]]),Tabel1[[#This Row],[Frequentie 4]]*Tabel1[[#This Row],[Prijs 4]],0) -> 0 | AK46: =SUM(Tabel1[[#This Row],[Totaal 1]:[Totaal 4]]) -> 0
A47: Brandweer | B47: Verlengde parklaan 36 | C47: Hattem | D47: 788 m2 | E47: 65.11.11 | F47: beveiliging; brandmeldings- en ontruimingsinstallatie, detectie en alarmering; brandmeldinstallatie paneel | G47: =VLOOKUP(Tabel1[[#This Row],[NLSfB]],NLSfB!A:D,4,1) -> paneel brandmeldinstallatie | H47: brandveiligheid | I47: 1 | J47: 0 | K47: 0 | L47: BC 216-1 | M47: doormelding | N47: 3 handmelders | O47: 0 brand-/rookmelders | P47: 0 brand-/rookmelders met geïntegreerde signaalgevers | Q47: 0 storingen | R47: 0 | S47: 0 | T47: =_xlfn.XMATCH(E47,'NLSfb - PPO'!$B$2:$B$205,0)+1 -> 15 | U47: {=IF(ISNUMBER(Tabel1[[#This Row],[hulpkolom]]),INDIRECT("'NLSfB - PPO'!D"&$T47),"n.v.t.")} -> BRND100-A1 | V47: {=IF(ISNUMBER(Tabel1[[#This Row],[hulpkolom]]),INDIRECT("'NLSfB - PPO'!E"&$T47),"-")} -> 1 | X47: {=IF(ISNUMBER(Tabel1[[#This Row],[hulpkolom]]),INDIRECT("'NLSfB - PPO'!G"&$T47),"-")} -> BRND100-A2 | Y47: {=IF(ISNUMBER(Tabel1[[#This Row],[hulpkolom]]),INDIRECT("'NLSfB - PPO'!H"&$T47),"-")} -> 2 | AA47: {=IF(ISNUMBER(Tabel1[[#This Row],[hulpkolom]]),INDIRECT("'NLSfB - PPO'!J"&$T47),"-")} -> BRND100-A3 | AB47: {=IF(ISNUMBER(Tabel1[[#This Row],[hulpkolom]]),INDIRECT("'NLSfB - PPO'!K"&$T47),"-")} -> 12 | AD47: {=IF(ISNUMBER(Tabel1[[#This Row],[hulpkolom]]),INDIRECT("'NLSfB - PPO'!M"&$T47),"-")} -> - | AE47: {=IF(ISNUMBER(Tabel1[[#This Row],[hulpkolom]]),INDIRECT("'NLSfB - PPO'!L"&$T47),"-")} -> - | AG47: =IF(ISNUMBER(Tabel1[[#This Row],[Frequentie 1]]),Tabel1[[#This Row],[Frequentie 1]]*Tabel1[[#This Row],[Prijs 1]],0) -> 0 | AH47: =IF(ISNUMBER(Tabel1[[#This Row],[Frequentie 2]]),Tabel1[[#This Row],[Frequentie 2]]*Tabel1[[#This Row],[Prijs 2]],0) -> 0 | AI47: =IF(ISNUMBER(Tabel1[[#This Row],[Frequentie 3]]),Tabel1[[#This Row],[Frequentie 3]]*Tabel1[[#This Row],[Prijs 3]],0) -> 0 | AJ47: =IF(ISNUMBER(Tabel1[[#This Row],[Frequentie 4]]),Tabel1[[#This Row],[Frequentie 4]]*Tabel1[[#This Row],[Prijs 4]],0) -> 0 | AK47: =SUM(Tabel1[[#This Row],[Totaal 1]:[Totaal 4]]) -> 0
A48: Brandweer | B48: Verlengde parklaan 36 | C48: Hattem | D48: 788 m2 | E48: 65.11.30 | F48: beveiliging; brandmeldings- en ontruimingsinstallatie, detectie en alarmering; melding- en ontruimingsinstallatie centrale | G48: =VLOOKUP(Tabel1[[#This Row],[NLSfB]],NLSfB!A:D,4,1) -> centrale melding- en ontruimingsinstallatie | H48: inbraak/omroep/meld | I48: 1 | J48: 0 | K48: 0 | L48: BC 216-1 | M48: 0 | N48: 5 signaalgevers geluid/licht | O48: 0 signaalgevers overig | P48: 0 GVTS-units | Q48: geen geografisch paneel aanwezig | R48: 0 | S48: 0 | T48: =_xlfn.XMATCH(E48,'NLSfb - PPO'!$B$2:$B$205,0)+1 -> 13 | U48: {=IF(ISNUMBER(Tabel1[[#This Row],[hulpkolom]]),INDIRECT("'NLSfB - PPO'!D"&$T48),"n.v.t.")} -> BRND100-A1 | V48: {=IF(ISNUMBER(Tabel1[[#This Row],[hulpkolom]]),INDIRECT("'NLSfB - PPO'!E"&$T48),"-")} -> 1 | X48: {=IF(ISNUMBER(Tabel1[[#This Row],[hulpkolom]]),INDIRECT("'NLSfB - PPO'!G"&$T48),"-")} -> BRND100-A2 | Y48: {=IF(ISNUMBER(Tabel1[[#This Row],[hulpkolom]]),INDIRECT("'NLSfB - PPO'!H"&$T48),"-")} -> 2 | AA48: {=IF(ISNUMBER(Tabel1[[#This Row],[hulpkolom]]),INDIRECT("'NLSfB - PPO'!J"&$T48),"-")} -> BRND100-A3 | AB48: {=IF(ISNUMBER(Tabel1[[#This Row],[hulpkolom]]),INDIRECT("'NLSfB - PPO'!K"&$T48),"-")} -> 12 | AD48: {=IF(ISNUMBER(Tabel1[[#This Row],[hulpkolom]]),INDIRECT("'NLSfB - PPO'!M"&$T48),"-")} -> - | AE48: {=IF(ISNUMBER(Tabel1[[#This Row],[hulpkolom]]),INDIRECT("'NLSfB - PPO'!L"&$T48),"-")} -> - | AG48: =IF(ISNUMBER(Tabel1[[#This Row],[Frequentie 1]]),Tabel1[[#This Row],[Frequentie 1]]*Tabel1[[#This Row],[Prijs 1]],0) -> 0 | AH48: =IF(ISNUMBER(Tabel1[[#This Row],[Frequentie 2]]),Tabel1[[#This Row],[Frequentie 2]]*Tabel1[[#This Row],[Prijs 2]],0) -> 0 | AI48: =IF(ISNUMBER(Tabel1[[#This Row],[Frequentie 3]]),Tabel1[[#This Row],[Frequentie 3]]*Tabel1[[#This Row],[Prijs 3]],0) -> 0 | AJ48: =IF(ISNUMBER(Tabel1[[#This Row],[Frequentie 4]]),Tabel1[[#This Row],[Frequentie 4]]*Tabel1[[#This Row],[Prijs 4]],0) -> 0 | AK48: =SUM(Tabel1[[#This Row],[Totaal 1]:[Totaal 4]]) -> 0
A49: Brandweer | B49: Verlengde parklaan 36 | C49: Hattem | D49: 788 m2 | E49: 65.21.10 | F49: beveiliging; braak-en toegangsbeheer, detectie en alarmering; inbraaksignaleringsinstallatie centrale | G49: =VLOOKUP(Tabel1[[#This Row],[NLSfB]],NLSfB!A:D,4,1) -> centrale inbraakinstallatie | H49: inbraak/omroep/meld | I49: 1 | J49: 0 | K49: 0 | L49: BC 216-1 | M49: doormelding | N49: 3 codebediendelen | O49: 0 bediendelen overig | P49: 2 signaalgevers (geluid/licht) | Q49: 13 detectie-eenheden | R49: 0 | S49: 0 | T49: =_xlfn.XMATCH(E49,'NLSfb - PPO'!$B$2:$B$205,0)+1 -> 106 | U49: {=IF(ISNUMBER(Tabel1[[#This Row],[hulpkolom]]),INDIRECT("'NLSfB - PPO'!D"&$T49),"n.v.t.")} -> SIG010-A | V49: {=IF(ISNUMBER(Tabel1[[#This Row],[hulpkolom]]),INDIRECT("'NLSfB - PPO'!E"&$T49),"-")} -> 1 | X49: {=IF(ISNUMBER(Tabel1[[#This Row],[hulpkolom]]),INDIRECT("'NLSfB - PPO'!G"&$T49),"-")} -> - | Y49: {=IF(ISNUMBER(Tabel1[[#This Row],[hulpkolom]]),INDIRECT("'NLSfB - PPO'!H"&$T49),"-")} -> - | AA49: {=IF(ISNUMBER(Tabel1[[#This Row],[hulpkolom]]),INDIRECT("'NLSfB - PPO'!J"&$T49),"-")} -> - | AB49: {=IF(ISNUMBER(Tabel1[[#This Row],[hulpkolom]]),INDIRECT("'NLSfB - PPO'!K"&$T49),"-")} -> - | AD49: {=IF(ISNUMBER(Tabel1[[#This Row],[hulpkolom]]),INDIRECT("'NLSfB - PPO'!M"&$T49),"-")} -> - | AE49: {=IF(ISNUMBER(Tabel1[[#This Row],[hulpkolom]]),INDIRECT("'NLSfB - PPO'!L"&$T49),"-")} -> - | AG49: =IF(ISNUMBER(Tabel1[[#This Row],[Frequentie 1]]),Tabel1[[#This Row],[Frequentie 1]]*Tabel1[[#This Row],[Prijs 1]],0) -> 0 | AH49: =IF(ISNUMBER(Tabel1[[#This Row],[Frequentie 2]]),Tabel1[[#This Row],[Frequentie 2]]*Tabel1[[#This Row],[Prijs 2]],0) -> 0 | AI49: =IF(ISNUMBER(Tabel1[[#This Row],[Frequentie 3]]),Tabel1[[#This Row],[Frequentie 3]]*Tabel1[[#This Row],[Prijs 3]],0) -> 0 | AJ49: =IF(ISNUMBER(Tabel1[[#This Row],[Frequentie 4]]),Tabel1[[#This Row],[Frequentie 4]]*Tabel1[[#This Row],[Prijs 4]],0) -> 0 | AK49: =SUM(Tabel1[[#This Row],[Totaal 1]:[Totaal 4]]) -> 0
A50: Brandweer | B50: Verlengde parklaan 36 | C50: Hattem | D50: 788 m2 | E50: 65.22.30 | F50: beveiliging; braak- en toegangsbeheer, toegangsbeheer; deurbelinstallatie | G50: =VLOOKUP(Tabel1[[#This Row],[NLSfB]],NLSfB!A:D,4,1) -> deurbelinstallatie | H50: toegang | I50: 1 | J50: 0 | K50: n.v.t. | L50: 0 | M50: 1 signaalgevers | N50: 0 | O50: 0 | P50: 0 | Q50: 0 | R50: 0 | S50: 0 | T50: =_xlfn.XMATCH(E50,'NLSfb - PPO'!$B$2:$B$205,0)+1 -> 22 | U50: {=IF(ISNUMBER(Tabel1[[#This Row],[hulpkolom]]),INDIRECT("'NLSfB - PPO'!D"&$T50),"n.v.t.")} -> E010-A | V50: {=IF(ISNUMBER(Tabel1[[#This Row],[hulpkolom]]),INDIRECT("'NLSfB - PPO'!E"&$T50),"-")} -> 1 | X50: {=IF(ISNUMBER(Tabel1[[#This Row],[hulpkolom]]),INDIRECT("'NLSfB - PPO'!G"&$T50),"-")} -> - | Y50: {=IF(ISNUMBER(Tabel1[[#This Row],[hulpkolom]]),INDIRECT("'NLSfB - PPO'!H"&$T50),"-")} -> - | AA50: {=IF(ISNUMBER(Tabel1[[#This Row],[hulpkolom]]),INDIRECT("'NLSfB - PPO'!J"&$T50),"-")} -> - | AB50: {=IF(ISNUMBER(Tabel1[[#This Row],[hulpkolom]]),INDIRECT("'NLSfB - PPO'!K"&$T50),"-")} -> - | AD50: {=IF(ISNUMBER(Tabel1[[#This Row],[hulpkolom]]),INDIRECT("'NLSfB - PPO'!M"&$T50),"-")} -> - | AE50: {=IF(ISNUMBER(Tabel1[[#This Row],[hulpkolom]]),INDIRECT("'NLSfB - PPO'!L"&$T50),"-")} -> - | AG50: =IF(ISNUMBER(Tabel1[[#This Row],[Frequentie 1]]),Tabel1[[#This Row],[Frequentie 1]]*Tabel1[[#This Row],[Prijs 1]],0) -> 0 | AH50: =IF(ISNUMBER(Tabel1[[#This Row],[Frequentie 2]]),Tabel1[[#This Row],[Frequentie 2]]*Tabel1[[#This Row],[Prijs 2]],0) -> 0 | AI50: =IF(ISNUMBER(Tabel1[[#This Row],[Frequentie 3]]),Tabel1[[#This Row],[Frequentie 3]]*Tabel1[[#This Row],[Prijs 3]],0) -> 0 | AJ50: =IF(ISNUMBER(Tabel1[[#This Row],[Frequentie 4]]),Tabel1[[#This Row],[Frequentie 4]]*Tabel1[[#This Row],[Prijs 4]],0) -> 0 | AK50: =SUM(Tabel1[[#This Row],[Totaal 1]:[Totaal 4]]) -> 0
A51: Brandweer | B51: Verlengde parklaan 36 | C51: Hattem | D51: 788 m2 | E51: 65.44.00 | F51: beveiliging; overlast-, sociale alarmeringsinstallatie, signalering mindervalidetoiletten | G51: =VLOOKUP(Tabel1[[#This Row],[NLSfB]],NLSfB!A:D,4,1) -> signalering mindervalidetoiletten | H51: inbraak/omroep/meld | I51: 1 | J51: 0 | K51: n.v.t. | L51: 0 | M51: 0 | N51: 1 signaalgevers | O51: 1 detectie-eenheden | P51: 0 | Q51: 0 | R51: 0 | S51: 0 | T51: =_xlfn.XMATCH(E51,'NLSfb - PPO'!$B$2:$B$205,0)+1 -> 111 | U51: {=IF(ISNUMBER(Tabel1[[#This Row],[hulpkolom]]),INDIRECT("'NLSfB - PPO'!D"&$T51),"n.v.t.")} -> SIG060-A | V51: {=IF(ISNUMBER(Tabel1[[#This Row],[hulpkolom]]),INDIRECT("'NLSfB - PPO'!E"&$T51),"-")} -> 1 | X51: {=IF(ISNUMBER(Tabel1[[#This Row],[hulpkolom]]),INDIRECT("'NLSfB - PPO'!G"&$T51),"-")} -> - | Y51: {=IF(ISNUMBER(Tabel1[[#This Row],[hulpkolom]]),INDIRECT("'NLSfB - PPO'!H"&$T51),"-")} -> - | AA51: {=IF(ISNUMBER(Tabel1[[#This Row],[hulpkolom]]),INDIRECT("'NLSfB - PPO'!J"&$T51),"-")} -> - | AB51: {=IF(ISNUMBER(Tabel1[[#This Row],[hulpkolom]]),INDIRECT("'NLSfB - PPO'!K"&$T51),"-")} -> - | AD51: {=IF(ISNUMBER(Tabel1[[#This Row],[hulpkolom]]),INDIRECT("'NLSfB - PPO'!M"&$T51),"-")} -> - | AE51: {=IF(ISNUMBER(Tabel1[[#This Row],[hulpkolom]]),INDIRECT("'NLSfB - PPO'!L"&$T51),"-")} -> - | AG51: =IF(ISNUMBER(Tabel1[[#This Row],[Frequentie 1]]),Tabel1[[#This Row],[Frequentie 1]]*Tabel1[[#This Row],[Prijs 1]],0) -> 0 | AH51: =IF(ISNUMBER(Tabel1[[#This Row],[Frequentie 2]]),Tabel1[[#This Row],[Frequentie 2]]*Tabel1[[#This Row],[Prijs 2]],0) -> 0 | AI51: =IF(ISNUMBER(Tabel1[[#This Row],[Frequentie 3]]),Tabel1[[#This Row],[Frequentie 3]]*Tabel1[[#This Row],[Prijs 3]],0) -> 0 | AJ51: =IF(ISNUMBER(Tabel1[[#This Row],[Frequentie 4]]),Tabel1[[#This Row],[Frequentie 4]]*Tabel1[[#This Row],[Prijs 4]],0) -> 0 | AK51: =SUM(Tabel1[[#This Row],[Totaal 1]:[Totaal 4]]) -> 0
A52: Brandweer | B52: Verlengde parklaan 36 | C52: Hattem | D52: 788 m2 | E52: 74.11.10 | F52: vaste sanitaire voorzieningen; standaard, sanitaire toestellen normaal; toiletten | G52: =VLOOKUP(Tabel1[[#This Row],[NLSfB]],NLSfB!A:D,4,1) -> toilet | H52: water | I52: 4 | J52: 2009 | K52: Geberit/Sphinx | L52: 0 | M52: 0 | N52: 0 | O52: 0 | P52: 0 | Q52: 0 | R52: 0 | S52: 0 | T52: =_xlfn.XMATCH(E52,'NLSfb - PPO'!$B$2:$B$205,0)+1 -> 187 | U52: {=IF(ISNUMBER(Tabel1[[#This Row],[hulpkolom]]),INDIRECT("'NLSfB - PPO'!D"&$T52),"n.v.t.")} -> WTR100-A | V52: {=IF(ISNUMBER(Tabel1[[#This Row],[hulpkolom]]),INDIRECT("'NLSfB - PPO'!E"&$T52),"-")} -> 1 | X52: {=IF(ISNUMBER(Tabel1[[#This Row],[hulpkolom]]),INDIRECT("'NLSfB - PPO'!G"&$T52),"-")} -> WTR180-A | Y52: {=IF(ISNUMBER(Tabel1[[#This Row],[hulpkolom]]),INDIRECT("'NLSfB - PPO'!H"&$T52),"-")} -> 1 | AA52: {=IF(ISNUMBER(Tabel1[[#This Row],[hulpkolom]]),INDIRECT("'NLSfB - PPO'!J"&$T52),"-")} -> - | AB52: {=IF(ISNUMBER(Tabel1[[#This Row],[hulpkolom]]),INDIRECT("'NLSfB - PPO'!K"&$T52),"-")} -> - | AD52: {=IF(ISNUMBER(Tabel1[[#This Row],[hulpkolom]]),INDIRECT("'NLSfB - PPO'!M"&$T52),"-")} -> - | AE52: {=IF(ISNUMBER(Tabel1[[#This Row],[hulpkolom]]),INDIRECT("'NLSfB - PPO'!L"&$T52),"-")} -> - | AG52: =IF(ISNUMBER(Tabel1[[#This Row],[Frequentie 1]]),Tabel1[[#This Row],[Frequentie 1]]*Tabel1[[#This Row],[Prijs 1]],0) -> 0 | AH52: =IF(ISNUMBER(Tabel1[[#This Row],[Frequentie 2]]),Tabel1[[#This Row],[Frequentie 2]]*Tabel1[[#This Row],[Prijs 2]],0) -> 0 | AI52: =IF(ISNUMBER(Tabel1[[#This Row],[Frequentie 3]]),Tabel1[[#This Row],[Frequentie 3]]*Tabel1[[#This Row],[Prijs 3]],0) -> 0 | AJ52: =IF(ISNUMBER(Tabel1[[#This Row],[Frequentie 4]]),Tabel1[[#This Row],[Frequentie 4]]*Tabel1[[#This Row],[Prijs 4]],0) -> 0 | AK52: =SUM(Tabel1[[#This Row],[Totaal 1]:[Totaal 4]]) -> 0
A53: Brandweer | B53: Verlengde parklaan 36 | C53: Hattem | D53: 788 m2 | E53: 74.11.20 | F53: vaste sanitaire voorzieningen; standaard, sanitaire toestellen normaal; urinoirs | G53: =VLOOKUP(Tabel1[[#This Row],[NLSfB]],NLSfB!A:D,4,1) -> urinoir | H53: water | I53: 3 | J53: 2009 | K53: Geberit/Sphinx | L53: 0 | M53: 0 | N53: 0 | O53: 0 | P53: 0 | Q53: 0 | R53: 0 | S53: 0 | T53: =_xlfn.XMATCH(E53,'NLSfb - PPO'!$B$2:$B$205,0)+1 -> 188 | U53: {=IF(ISNUMBER(Tabel1[[#This Row],[hulpkolom]]),INDIRECT("'NLSfB - PPO'!D"&$T53),"n.v.t.")} -> WTR100-A | V53: {=IF(ISNUMBER(Tabel1[[#This Row],[hulpkolom]]),INDIRECT("'NLSfB - PPO'!E"&$T53),"-")} -> 1 | X53: {=IF(ISNUMBER(Tabel1[[#This Row],[hulpkolom]]),INDIRECT("'NLSfB - PPO'!G"&$T53),"-")} -> WTR180-A | Y53: {=IF(ISNUMBER(Tabel1[[#This Row],[hulpkolom]]),INDIRECT("'NLSfB - PPO'!H"&$T53),"-")} -> 1 | AA53: {=IF(ISNUMBER(Tabel1[[#This Row],[hulpkolom]]),INDIRECT("'NLSfB - PPO'!J"&$T53),"-")} -> - | AB53: {=IF(ISNUMBER(Tabel1[[#This Row],[hulpkolom]]),INDIRECT("'NLSfB - PPO'!K"&$T53),"-")} -> - | AD53: {=IF(ISNUMBER(Tabel1[[#This Row],[hulpkolom]]),INDIRECT("'NLSfB - PPO'!M"&$T53),"-")} -> - | AE53: {=IF(ISNUMBER(Tabel1[[#This Row],[hulpkolom]]),INDIRECT("'NLSfB - PPO'!L"&$T53),"-")} -> - | AG53: =IF(ISNUMBER(Tabel1[[#This Row],[Frequentie 1]]),Tabel1[[#This Row],[Frequentie 1]]*Tabel1[[#This Row],[Prijs 1]],0) -> 0 | AH53: =IF(ISNUMBER(Tabel1[[#This Row],[Frequentie 2]]),Tabel1[[#This Row],[Frequentie 2]]*Tabel1[[#This Row],[Prijs 2]],0) -> 0 | AI53: =IF(ISNUMBER(Tabel1[[#This Row],[Frequentie 3]]),Tabel1[[#This Row],[Frequentie 3]]*Tabel1[[#This Row],[Prijs 3]],0) -> 0 | AJ53: =IF(ISNUMBER(Tabel1[[#This Row],[Frequentie 4]]),Tabel1[[#This Row],[Frequentie 4]]*Tabel1[[#This Row],[Prijs 4]],0) -> 0 | AK53: =SUM(Tabel1[[#This Row],[Totaal 1]:[Totaal 4]]) -> 0
A54: Brandweer | B54: Verlengde parklaan 36 | C54: Hattem | D54: 788 m2 | E54: 74.11.30 | F54: vaste sanitaire voorzieningen; standaard, sanitaire toestellen normaal; wastafels | G54: =VLOOKUP(Tabel1[[#This Row],[NLSfB]],NLSfB!A:D,4,1) -> wastafel | H54: water | I54: 6 | J54: 2009 | K54: Sphinx/Venlo | L54: 0 | M54: 0 | N54: 0 | O54: 0 | P54: 0 | Q54: 0 | R54: 0 | S54: 0 | T54: =_xlfn.XMATCH(E54,'NLSfb - PPO'!$B$2:$B$205,0)+1 -> 189 | U54: {=IF(ISNUMBER(Tabel1[[#This Row],[hulpkolom]]),INDIRECT("'NLSfB - PPO'!D"&$T54),"n.v.t.")} -> WTR100-A | V54: {=IF(ISNUMBER(Tabel1[[#This Row],[hulpkolom]]),INDIRECT("'NLSfB - PPO'!E"&$T54),"-")} -> 1 | X54: {=IF(ISNUMBER(Tabel1[[#This Row],[hulpkolom]]),INDIRECT("'NLSfB - PPO'!G"&$T54),"-")} -> - | Y54: {=IF(ISNUMBER(Tabel1[[#This Row],[hulpkolom]]),INDIRECT("'NLSfB - PPO'!H"&$T54),"-")} -> - | AA54: {=IF(ISNUMBER(Tabel1[[#This Row],[hulpkolom]]),INDIRECT("'NLSfB - PPO'!J"&$T54),"-")} -> - | AB54: {=IF(ISNUMBER(Tabel1[[#This Row],[hulpkolom]]),INDIRECT("'NLSfB - PPO'!K"&$T54),"-")} -> - | AD54: {=IF(ISNUMBER(Tabel1[[#This Row],[hulpkolom]]),INDIRECT("'NLSfB - PPO'!M"&$T54),"-")} -> - | AE54: {=IF(ISNUMBER(Tabel1[[#This Row],[hulpkolom]]),INDIRECT("'NLSfB - PPO'!L"&$T54),"-")} -> - | AG54: =IF(ISNUMBER(Tabel1[[#This Row],[Frequentie 1]]),Tabel1[[#This Row],[Frequentie 1]]*Tabel1[[#This Row],[Prijs 1]],0) -> 0 | AH54: =IF(ISNUMBER(Tabel1[[#This Row],[Frequentie 2]]),Tabel1[[#This Row],[Frequentie 2]]*Tabel1[[#This Row],[Prijs 2]],0) -> 0 | AI54: =IF(ISNUMBER(Tabel1[[#This Row],[Frequentie 3]]),Tabel1[[#This Row],[Frequentie 3]]*Tabel1[[#This Row],[Prijs 3]],0) -> 0 | AJ54: =IF(ISNUMBER(Tabel1[[#This Row],[Frequentie 4]]),Tabel1[[#This Row],[Frequentie 4]]*Tabel1[[#This Row],[Prijs 4]],0) -> 0 | AK54: =SUM(Tabel1[[#This Row],[Totaal 1]:[Totaal 4]]) -> 0
A55: Brandweer | B55: Verlengde parklaan 36 | C55: Hattem | D55: 788 m2 | E55: 74.11.40 | F55: vaste sanitaire voorzieningen; standaard, sanitaire toestellen normaal; wastrog | G55: =VLOOKUP(Tabel1[[#This Row],[NLSfB]],NLSfB!A:D,4,1) -> wastrog | H55: water | I55: 1 | J55: 2009 | K55: Grohe | L55: 0 | M55: met mengthermostaat | N55: 0 | O55: 0 | P55: 0 | Q55: 0 | R55: 0 | S55: 0 | T55: =_xlfn.XMATCH(E55,'NLSfb - PPO'!$B$2:$B$205,0)+1 -> 192 | U55: {=IF(ISNUMBER(Tabel1[[#This Row],[hulpkolom]]),INDIRECT("'NLSfB - PPO'!D"&$T55),"n.v.t.")} -> WTR100-A | V55: {=IF(ISNUMBER(Tabel1[[#This Row],[hulpkolom]]),INDIRECT("'NLSfB - PPO'!E"&$T55),"-")} -> 1 | X55: {=IF(ISNUMBER(Tabel1[[#This Row],[hulpkolom]]),INDIRECT("'NLSfB - PPO'!G"&$T55),"-")} -> - | Y55: {=IF(ISNUMBER(Tabel1[[#This Row],[hulpkolom]]),INDIRECT("'NLSfB - PPO'!H"&$T55),"-")} -> - | AA55: {=IF(ISNUMBER(Tabel1[[#This Row],[hulpkolom]]),INDIRECT("'NLSfB - PPO'!J"&$T55),"-")} -> - | AB55: {=IF(ISNUMBER(Tabel1[[#This Row],[hulpkolom]]),INDIRECT("'NLSfB - PPO'!K"&$T55),"-")} -> - | AD55: {=IF(ISNUMBER(Tabel1[[#This Row],[hulpkolom]]),INDIRECT("'NLSfB - PPO'!M"&$T55),"-")} -> - | AE55: {=IF(ISNUMBER(Tabel1[[#This Row],[hulpkolom]]),INDIRECT("'NLSfB - PPO'!L"&$T55),"-")} -> - | AG55: =IF(ISNUMBER(Tabel1[[#This Row],[Frequentie 1]]),Tabel1[[#This Row],[Frequentie 1]]*Tabel1[[#This Row],[Prijs 1]],0) -> 0 | AH55: =IF(ISNUMBER(Tabel1[[#This Row],[Frequentie 2]]),Tabel1[[#This Row],[Frequentie 2]]*Tabel1[[#This Row],[Prijs 2]],0) -> 0 | AI55: =IF(ISNUMBER(Tabel1[[#This Row],[Frequentie 3]]),Tabel1[[#This Row],[Frequentie 3]]*Tabel1[[#This Row],[Prijs 3]],0) -> 0 | AJ55: =IF(ISNUMBER(Tabel1[[#This Row],[Frequentie 4]]),Tabel1[[#This Row],[Frequentie 4]]*Tabel1[[#This Row],[Prijs 4]],0) -> 0 | AK55: =SUM(Tabel1[[#This Row],[Totaal 1]:[Totaal 4]]) -> 0
A56: Brandweer | B56: Verlengde parklaan 36 | C56: Hattem | D56: 788 m2 | E56: 74.11.50 | F56: vaste sanitaire voorzieningen; standaard, sanitaire toestellen normaal; douches | G56: =VLOOKUP(Tabel1[[#This Row],[NLSfB]],NLSfB!A:D,4,1) -> douche | H56: water | I56: 2 | J56: 2009 | K56: Grohe | L56: 0 | M56: inbouw thermostaat | N56: 0 | O56: 0 | P56: 0 | Q56: 0 | R56: 0 | S56: 0 | T56: =_xlfn.XMATCH(E56,'NLSfb - PPO'!$B$2:$B$205,0)+1 -> 190 | U56: {=IF(ISNUMBER(Tabel1[[#This Row],[hulpkolom]]),INDIRECT("'NLSfB - PPO'!D"&$T56),"n.v.t.")} -> WTR100-A | V56: {=IF(ISNUMBER(Tabel1[[#This Row],[hulpkolom]]),INDIRECT("'NLSfB - PPO'!E"&$T56),"-")} -> 1 | X56: {=IF(ISNUMBER(Tabel1[[#This Row],[hulpkolom]]),INDIRECT("'NLSfB - PPO'!G"&$T56),"-")} -> WTR160-A | Y56: {=IF(ISNUMBER(Tabel1[[#This Row],[hulpkolom]]),INDIRECT("'NLSfB - PPO'!H"&$T56),"-")} -> 1 | AA56: {=IF(ISNUMBER(Tabel1[[#This Row],[hulpkolom]]),INDIRECT("'NLSfB - PPO'!J"&$T56),"-")} -> - | AB56: {=IF(ISNUMBER(Tabel1[[#This Row],[hulpkolom]]),INDIRECT("'NLSfB - PPO'!K"&$T56),"-")} -> - | AD56: {=IF(ISNUMBER(Tabel1[[#This Row],[hulpkolom]]),INDIRECT("'NLSfB - PPO'!M"&$T56),"-")} -> - | AE56: {=IF(ISNUMBER(Tabel1[[#This Row],[hulpkolom]]),INDIRECT("'NLSfB - PPO'!L"&$T56),"-")} -> - | AG56: =IF(ISNUMBER(Tabel1[[#This Row],[Frequentie 1]]),Tabel1[[#This Row],[Frequentie 1]]*Tabel1[[#This Row],[Prijs 1]],0) -> 0 | AH56: =IF(ISNUMBER(Tabel1[[#This Row],[Frequentie 2]]),Tabel1[[#This Row],[Frequentie 2]]*Tabel1[[#This Row],[Prijs 2]],0) -> 0 | AI56: =IF(ISNUMBER(Tabel1[[#This Row],[Frequentie 3]]),Tabel1[[#This Row],[Frequentie 3]]*Tabel1[[#This Row],[Prijs 3]],0) -> 0 | AJ56: =IF(ISNUMBER(Tabel1[[#This Row],[Frequentie 4]]),Tabel1[[#This Row],[Frequentie 4]]*Tabel1[[#This Row],[Prijs 4]],0) -> 0 | AK56: =SUM(Tabel1[[#This Row],[Totaal 1]:[Totaal 4]]) -> 0
A57: Brandweer | B57: Verlengde parklaan 36 | C57: Hattem | D57: 788 m2 | E57: 74.13.10 | F57: vaste sanitaire voorzieningen; standaard, accessoires; thermostatische mengkraan | G57: =VLOOKUP(Tabel1[[#This Row],[NLSfB]],NLSfB!A:D,4,1) -> thermostatische mengkraan | H57: water | I57: 1 | J57: 2009 | K57: Venlo | L57: 0 | M57: 0 | N57: 0 | O57: 0 | P57: 0 | Q57: 0 | R57: 0 | S57: 0 | T57: =_xlfn.XMATCH(E57,'NLSfb - PPO'!$B$2:$B$205,0)+1 -> 191 | U57: {=IF(ISNUMBER(Tabel1[[#This Row],[hulpkolom]]),INDIRECT("'NLSfB - PPO'!D"&$T57),"n.v.t.")} -> WTR100-A | V57: {=IF(ISNUMBER(Tabel1[[#This Row],[hulpkolom]]),INDIRECT("'NLSfB - PPO'!E"&$T57),"-")} -> 1 | X57: {=IF(ISNUMBER(Tabel1[[#This Row],[hulpkolom]]),INDIRECT("'NLSfB - PPO'!G"&$T57),"-")} -> - | Y57: {=IF(ISNUMBER(Tabel1[[#This Row],[hulpkolom]]),INDIRECT("'NLSfB - PPO'!H"&$T57),"-")} -> - | AA57: {=IF(ISNUMBER(Tabel1[[#This Row],[hulpkolom]]),INDIRECT("'NLSfB - PPO'!J"&$T57),"-")} -> - | AB57: {=IF(ISNUMBER(Tabel1[[#This Row],[hulpkolom]]),INDIRECT("'NLSfB - PPO'!K"&$T57),"-")} -> - | AD57: {=IF(ISNUMBER(Tabel1[[#This Row],[hulpkolom]]),INDIRECT("'NLSfB - PPO'!M"&$T57),"-")} -> - | AE57: {=IF(ISNUMBER(Tabel1[[#This Row],[hulpkolom]]),INDIRECT("'NLSfB - PPO'!L"&$T57),"-")} -> - | AG57: =IF(ISNUMBER(Tabel1[[#This Row],[Frequentie 1]]),Tabel1[[#This Row],[Frequentie 1]]*Tabel1[[#This Row],[Prijs 1]],0) -> 0 | AH57: =IF(ISNUMBER(Tabel1[[#This Row],[Frequentie 2]]),Tabel1[[#This Row],[Frequentie 2]]*Tabel1[[#This Row],[Prijs 2]],0) -> 0 | AI57: =IF(ISNUMBER(Tabel1[[#This Row],[Frequentie 3]]),Tabel1[[#This Row],[Frequentie 3]]*Tabel1[[#This Row],[Prijs 3]],0) -> 0 | AJ57: =IF(ISNUMBER(Tabel1[[#This Row],[Frequentie 4]]),Tabel1[[#This Row],[Frequentie 4]]*Tabel1[[#This Row],[Prijs 4]],0) -> 0 | AK57: =SUM(Tabel1[[#This Row],[Totaal 1]:[Totaal 4]]) -> 0
A58: Brandweer | B58: Verlengde parklaan 36 | C58: Hattem | D58: 788 m2 | E58: 74.13.20 | F58: vaste sanitaire voorzieningen; standaard, accesoires; uitstortgootsteen | G58: =VLOOKUP(Tabel1[[#This Row],[NLSfB]],NLSfB!A:D,4,1) -> uitstortgootsteen | H58: water | I58: 1 | J58: 2009 | K58: 0 | L58: 0 | M58: 0 | N58: 0 | O58: 0 | P58: 0 | Q58: 0 | R58: 0 | S58: 0 | T58: =_xlfn.XMATCH(E58,'NLSfb - PPO'!$B$2:$B$205,0)+1 -> 193 | U58: {=IF(ISNUMBER(Tabel1[[#This Row],[hulpkolom]]),INDIRECT("'NLSfB - PPO'!D"&$T58),"n.v.t.")} -> WTR100-A | V58: {=IF(ISNUMBER(Tabel1[[#This Row],[hulpkolom]]),INDIRECT("'NLSfB - PPO'!E"&$T58),"-")} -> 1 | X58: {=IF(ISNUMBER(Tabel1[[#This Row],[hulpkolom]]),INDIRECT("'NLSfB - PPO'!G"&$T58),"-")} -> - | Y58: {=IF(ISNUMBER(Tabel1[[#This Row],[hulpkolom]]),INDIRECT("'NLSfB - PPO'!H"&$T58),"-")} -> - | AA58: {=IF(ISNUMBER(Tabel1[[#This Row],[hulpkolom]]),INDIRECT("'NLSfB - PPO'!J"&$T58),"-")} -> - | AB58: {=IF(ISNUMBER(Tabel1[[#This Row],[hulpkolom]]),INDIRECT("'NLSfB - PPO'!K"&$T58),"-")} -> - | AD58: {=IF(ISNUMBER(Tabel1[[#This Row],[hulpkolom]]),INDIRECT("'NLSfB - PPO'!M"&$T58),"-")} -> - | AE58: {=IF(ISNUMBER(Tabel1[[#This Row],[hulpkolom]]),INDIRECT("'NLSfB - PPO'!L"&$T58),"-")} -> - | AG58: =IF(ISNUMBER(Tabel1[[#This Row],[Frequentie 1]]),Tabel1[[#This Row],[Frequentie 1]]*Tabel1[[#This Row],[Prijs 1]],0) -> 0 | AH58: =IF(ISNUMBER(Tabel1[[#This Row],[Frequentie 2]]),Tabel1[[#This Row],[Frequentie 2]]*Tabel1[[#This Row],[Prijs 2]],0) -> 0 | AI58: =IF(ISNUMBER(Tabel1[[#This Row],[Frequentie 3]]),Tabel1[[#This Row],[Frequentie 3]]*Tabel1[[#This Row],[Prijs 3]],0) -> 0 | AJ58: =IF(ISNUMBER(Tabel1[[#This Row],[Frequentie 4]]),Tabel1[[#This Row],[Frequentie 4]]*Tabel1[[#This Row],[Prijs 4]],0) -> 0 | AK58: =SUM(Tabel1[[#This Row],[Totaal 1]:[Totaal 4]]) -> 0
A59: Brandweer | B59: Verlengde parklaan 36 | C59: Hattem | D59: 788 m2 | E59: 90.63.10 | F59: terrein; elektrotechnisch, lichtvoorzieningen; armaturen | G59: =VLOOKUP(Tabel1[[#This Row],[NLSfB]],NLSfB!A:D,4,1) -> armaturen (terrein) | H59: elektra/verlichting | I59: 2 | J59: 2009 | K59: Philips | L59: 0 | M59: PL | N59: 2 armaturen | O59: < 100 W per eenheid | P59: 0 | Q59: 0 | R59: 0 | S59: 0 | T59: =_xlfn.XMATCH(E59,'NLSfb - PPO'!$B$2:$B$205,0)+1 -> 80 | U59: {=IF(ISNUMBER(Tabel1[[#This Row],[hulpkolom]]),INDIRECT("'NLSfB - PPO'!D"&$T59),"n.v.t.")} -> LCHT010-A | V59: {=IF(ISNUMBER(Tabel1[[#This Row],[hulpkolom]]),INDIRECT("'NLSfB - PPO'!E"&$T59),"-")} -> 1 | X59: {=IF(ISNUMBER(Tabel1[[#This Row],[hulpkolom]]),INDIRECT("'NLSfB - PPO'!G"&$T59),"-")} -> - | Y59: {=IF(ISNUMBER(Tabel1[[#This Row],[hulpkolom]]),INDIRECT("'NLSfB - PPO'!H"&$T59),"-")} -> - | AA59: {=IF(ISNUMBER(Tabel1[[#This Row],[hulpkolom]]),INDIRECT("'NLSfB - PPO'!J"&$T59),"-")} -> - | AB59: {=IF(ISNUMBER(Tabel1[[#This Row],[hulpkolom]]),INDIRECT("'NLSfB - PPO'!K"&$T59),"-")} -> - | AD59: {=IF(ISNUMBER(Tabel1[[#This Row],[hulpkolom]]),INDIRECT("'NLSfB - PPO'!M"&$T59),"-")} -> - | AE59: {=IF(ISNUMBER(Tabel1[[#This Row],[hulpkolom]]),INDIRECT("'NLSfB - PPO'!L"&$T59),"-")} -> - | AG59: =IF(ISNUMBER(Tabel1[[#This Row],[Frequentie 1]]),Tabel1[[#This Row],[Frequentie 1]]*Tabel1[[#This Row],[Prijs 1]],0) -> 0 | AH59: =IF(ISNUMBER(Tabel1[[#This Row],[Frequentie 2]]),Tabel1[[#This Row],[Frequentie 2]]*Tabel1[[#This Row],[Prijs 2]],0) -> 0 | AI59: =IF(ISNUMBER(Tabel1[[#This Row],[Frequentie 3]]),Tabel1[[#This Row],[Frequentie 3]]*Tabel1[[#This Row],[Prijs 3]],0) -> 0 | AJ59: =IF(ISNUMBER(Tabel1[[#This Row],[Frequentie 4]]),Tabel1[[#This Row],[Frequentie 4]]*Tabel1[[#This Row],[Prijs 4]],0) -> 0 | AK59: =SUM(Tabel1[[#This Row],[Totaal 1]:[Totaal 4]]) -> 0
A60: Brandweer | B60: Verlengde parklaan 36 | C60: Hattem | D60: 788 m2 | E60: 90.63.10 | F60: terrein; elektrotechnisch, lichtvoorzieningen; armaturen | G60: =VLOOKUP(Tabel1[[#This Row],[NLSfB]],NLSfB!A:D,4,1) -> armaturen (terrein) | H60: elektra/verlichting | I60: 3 | J60: 0 | K60: Onbekend | L60: 0 | M60: overige lichtbronnen | N60: 3 armaturen | O60: < 100 W per eenheid | P60: 0 | Q60: 0 | R60: 0 | S60: 0 | T60: =_xlfn.XMATCH(E60,'NLSfb - PPO'!$B$2:$B$205,0)+1 -> 80 | U60: {=IF(ISNUMBER(Tabel1[[#This Row],[hulpkolom]]),INDIRECT("'NLSfB - PPO'!D"&$T60),"n.v.t.")} -> LCHT010-A | V60: {=IF(ISNUMBER(Tabel1[[#This Row],[hulpkolom]]),INDIRECT("'NLSfB - PPO'!E"&$T60),"-")} -> 1 | X60: {=IF(ISNUMBER(Tabel1[[#This Row],[hulpkolom]]),INDIRECT("'NLSfB - PPO'!G"&$T60),"-")} -> - | Y60: {=IF(ISNUMBER(Tabel1[[#This Row],[hulpkolom]]),INDIRECT("'NLSfB - PPO'!H"&$T60),"-")} -> - | AA60: {=IF(ISNUMBER(Tabel1[[#This Row],[hulpkolom]]),INDIRECT("'NLSfB - PPO'!J"&$T60),"-")} -> - | AB60: {=IF(ISNUMBER(Tabel1[[#This Row],[hulpkolom]]),INDIRECT("'NLSfB - PPO'!K"&$T60),"-")} -> - | AD60: {=IF(ISNUMBER(Tabel1[[#This Row],[hulpkolom]]),INDIRECT("'NLSfB - PPO'!M"&$T60),"-")} -> - | AE60: {=IF(ISNUMBER(Tabel1[[#This Row],[hulpkolom]]),INDIRECT("'NLSfB - PPO'!L"&$T60),"-")} -> - | AG60: =IF(ISNUMBER(Tabel1[[#This Row],[Frequentie 1]]),Tabel1[[#This Row],[Frequentie 1]]*Tabel1[[#This Row],[Prijs 1]],0) -> 0 | AH60: =IF(ISNUMBER(Tabel1[[#This Row],[Frequentie 2]]),Tabel1[[#This Row],[Frequentie 2]]*Tabel1[[#This Row],[Prijs 2]],0) -> 0 | AI60: =IF(ISNUMBER(Tabel1[[#This Row],[Frequentie 3]]),Tabel1[[#This Row],[Frequentie 3]]*Tabel1[[#This Row],[Prijs 3]],0) -> 0 | AJ60: =IF(ISNUMBER(Tabel1[[#This Row],[Frequentie 4]]),Tabel1[[#This Row],[Frequentie 4]]*Tabel1[[#This Row],[Prijs 4]],0) -> 0 | AK60: =SUM(Tabel1[[#This Row],[Totaal 1]:[Totaal 4]]) -> 0
A61: Brandweer | B61: Verlengde parklaan 36 | C61: Hattem | D61: 788 m2 | E61: 90.63.30 | F61: terrein elektrotechnisch, lichtvoorzieningen; verkeerslichten | G61: =VLOOKUP(Tabel1[[#This Row],[NLSfB]],NLSfB!A:D,4,1) -> verkeerslichten (terrein) | H61: elektra/verlichting | I61: 6 | J61: 0 | K61: 0 | L61: 0 | M61: 1 lichtbronnen per armatuur | N61: 0 | O61: 0 | P61: 0 | Q61: 0 | R61: 0 | S61: 0 | T61: =_xlfn.XMATCH(E61,'NLSfb - PPO'!$B$2:$B$205,0)+1 -> 115 | U61: {=IF(ISNUMBER(Tabel1[[#This Row],[hulpkolom]]),INDIRECT("'NLSfB - PPO'!D"&$T61),"n.v.t.")} -> SIG100-A | V61: {=IF(ISNUMBER(Tabel1[[#This Row],[hulpkolom]]),INDIRECT("'NLSfB - PPO'!E"&$T61),"-")} -> 2 | X61: {=IF(ISNUMBER(Tabel1[[#This Row],[hulpkolom]]),INDIRECT("'NLSfB - PPO'!G"&$T61),"-")} -> - | Y61: {=IF(ISNUMBER(Tabel1[[#This Row],[hulpkolom]]),INDIRECT("'NLSfB - PPO'!H"&$T61),"-")} -> - | AA61: {=IF(ISNUMBER(Tabel1[[#This Row],[hulpkolom]]),INDIRECT("'NLSfB - PPO'!J"&$T61),"-")} -> - | AB61: {=IF(ISNUMBER(Tabel1[[#This Row],[hulpkolom]]),INDIRECT("'NLSfB - PPO'!K"&$T61),"-")} -> - | AD61: {=IF(ISNUMBER(Tabel1[[#This Row],[hulpkolom]]),INDIRECT("'NLSfB - PPO'!M"&$T61),"-")} -> - | AE61: {=IF(ISNUMBER(Tabel1[[#This Row],[hulpkolom]]),INDIRECT("'NLSfB - PPO'!L"&$T61),"-")} -> - | AG61: =IF(ISNUMBER(Tabel1[[#This Row],[Frequentie 1]]),Tabel1[[#This Row],[Frequentie 1]]*Tabel1[[#This Row],[Prijs 1]],0) -> 0 | AH61: =IF(ISNUMBER(Tabel1[[#This Row],[Frequentie 2]]),Tabel1[[#This Row],[Frequentie 2]]*Tabel1[[#This Row],[Prijs 2]],0) -> 0 | AI61: =IF(ISNUMBER(Tabel1[[#This Row],[Frequentie 3]]),Tabel1[[#This Row],[Frequentie 3]]*Tabel1[[#This Row],[Prijs 3]],0) -> 0 | AJ61: =IF(ISNUMBER(Tabel1[[#This Row],[Frequentie 4]]),Tabel1[[#This Row],[Frequentie 4]]*Tabel1[[#This Row],[Prijs 4]],0) -> 0 | AK61: =SUM(Tabel1[[#This Row],[Totaal 1]:[Totaal 4]]) -> 0
A62: Gemeentewerf | B62: Kerkhofdijk 6 | C62: Hattem | D62: 1940 m2 | E62: 31.35.00 | F62: buitenwandopeningen; gevuld met deuren, overheaddeur (rol/sectionale) | G62: =VLOOKUP(Tabel1[[#This Row],[NLSfB]],NLSfB!A:D,4,1) -> overheaddeur (buiten) | H62: toegang | I62: 5 | J62: 2004 | K62: Hormann | L62: A445 | M62: elektrische bediening | N62: 4 m (h) | O62: 4 m (b) | P62: 1 afstandsbedieningen | Q62: 0 | R62: 0 | S62: 0 | T62: =_xlfn.XMATCH(E62,'NLSfb - PPO'!$B$2:$B$205,0)+1 -> 122 | U62: {=IF(ISNUMBER(Tabel1[[#This Row],[hulpkolom]]),INDIRECT("'NLSfB - PPO'!D"&$T62),"n.v.t.")} -> TG050-A | V62: {=IF(ISNUMBER(Tabel1[[#This Row],[hulpkolom]]),INDIRECT("'NLSfB - PPO'!E"&$T62),"-")} -> 1 | X62: {=IF(ISNUMBER(Tabel1[[#This Row],[hulpkolom]]),INDIRECT("'NLSfB - PPO'!G"&$T62),"-")} -> - | Y62: {=IF(ISNUMBER(Tabel1[[#This Row],[hulpkolom]]),INDIRECT("'NLSfB - PPO'!H"&$T62),"-")} -> - | AA62: {=IF(ISNUMBER(Tabel1[[#This Row],[hulpkolom]]),INDIRECT("'NLSfB - PPO'!J"&$T62),"-")} -> - | AB62: {=IF(ISNUMBER(Tabel1[[#This Row],[hulpkolom]]),INDIRECT("'NLSfB - PPO'!K"&$T62),"-")} -> - | AD62: {=IF(ISNUMBER(Tabel1[[#This Row],[hulpkolom]]),INDIRECT("'NLSfB - PPO'!M"&$T62),"-")} -> - | AE62: {=IF(ISNUMBER(Tabel1[[#This Row],[hulpkolom]]),INDIRECT("'NLSfB - PPO'!L"&$T62),"-")} -> - | AG62: =IF(ISNUMBER(Tabel1[[#This Row],[Frequentie 1]]),Tabel1[[#This Row],[Frequentie 1]]*Tabel1[[#This Row],[Prijs 1]],0) -> 0 | AH62: =IF(ISNUMBER(Tabel1[[#This Row],[Frequentie 2]]),Tabel1[[#This Row],[Frequentie 2]]*Tabel1[[#This Row],[Prijs 2]],0) -> 0 | AI62: =IF(ISNUMBER(Tabel1[[#This Row],[Frequentie 3]]),Tabel1[[#This Row],[Frequentie 3]]*Tabel1[[#This Row],[Prijs 3]],0) -> 0 | AJ62: =IF(ISNUMBER(Tabel1[[#This Row],[Frequentie 4]]),Tabel1[[#This Row],[Frequentie 4]]*Tabel1[[#This Row],[Prijs 4]],0) -> 0 | AK62: =SUM(Tabel1[[#This Row],[Totaal 1]:[Totaal 4]]) -> 0
A63: Gemeentewerf | B63: Kerkhofdijk 6 | C63: Hattem | D63: 1940 m2 | E63: 37.26.10 | F63: dakopeningen; gevuld, luik; rook-/ventilatieluik | G63: =VLOOKUP(Tabel1[[#This Row],[NLSfB]],NLSfB!A:D,4,1) -> dak rook-/ventilatieluik | H63: bouwdelen | I63: 2 | J63: 2004 | K63: 0 | L63: 0 | M63: elektrische bediening | N63: 0,5 m (h) | O63: 0,5 m (b) | P63: 0 | Q63: 0 | R63: 0 | S63: 0 | T63: =_xlfn.XMATCH(E63,'NLSfb - PPO'!$B$2:$B$205,0)+1 -> 60 | U63: {=IF(ISNUMBER(Tabel1[[#This Row],[hulpkolom]]),INDIRECT("'NLSfB - PPO'!D"&$T63),"n.v.t.")} -> KLMT170-A | V63: {=IF(ISNUMBER(Tabel1[[#This Row],[hulpkolom]]),INDIRECT("'NLSfB - PPO'!E"&$T63),"-")} -> 1 | X63: {=IF(ISNUMBER(Tabel1[[#This Row],[hulpkolom]]),INDIRECT("'NLSfB - PPO'!G"&$T63),"-")} -> - | Y63: {=IF(ISNUMBER(Tabel1[[#This Row],[hulpkolom]]),INDIRECT("'NLSfB - PPO'!H"&$T63),"-")} -> - | AA63: {=IF(ISNUMBER(Tabel1[[#This Row],[hulpkolom]]),INDIRECT("'NLSfB - PPO'!J"&$T63),"-")} -> - | AB63: {=IF(ISNUMBER(Tabel1[[#This Row],[hulpkolom]]),INDIRECT("'NLSfB - PPO'!K"&$T63),"-")} -> - | AD63: {=IF(ISNUMBER(Tabel1[[#This Row],[hulpkolom]]),INDIRECT("'NLSfB - PPO'!M"&$T63),"-")} -> - | AE63: {=IF(ISNUMBER(Tabel1[[#This Row],[hulpkolom]]),INDIRECT("'NLSfB - PPO'!L"&$T63),"-")} -> - | AG63: =IF(ISNUMBER(Tabel1[[#This Row],[Frequentie 1]]),Tabel1[[#This Row],[Frequentie 1]]*Tabel1[[#This Row],[Prijs 1]],0) -> 0 | AH63: =IF(ISNUMBER(Tabel1[[#This Row],[Frequentie 2]]),Tabel1[[#This Row],[Frequentie 2]]*Tabel1[[#This Row],[Prijs 2]],0) -> 0 | AI63: =IF(ISNUMBER(Tabel1[[#This Row],[Frequentie 3]]),Tabel1[[#This Row],[Frequentie 3]]*Tabel1[[#This Row],[Prijs 3]],0) -> 0 | AJ63: =IF(ISNUMBER(Tabel1[[#This Row],[Frequentie 4]]),Tabel1[[#This Row],[Frequentie 4]]*Tabel1[[#This Row],[Prijs 4]],0) -> 0 | AK63: =SUM(Tabel1[[#This Row],[Totaal 1]:[Totaal 4]]) -> 0
A64: Gemeentewerf | B64: Kerkhofdijk 6 | C64: Hattem | D64: 1940 m2 | E64: 52.21.10 | F64: afvoeren; fecaliën, standaardsysteem; leidingen afvoer | G64: =VLOOKUP(Tabel1[[#This Row],[NLSfB]],NLSfB!A:D,4,1) -> afvoerleidingen fecaliën | H64: water | I64: 1 | J64: 2004 | K64: 0 | L64: 0 | M64: kunststof | N64: 0 | O64: 0 | P64: 0 | Q64: 0 | R64: 0 | S64: 0 | T64: =_xlfn.XMATCH(E64,'NLSfb - PPO'!$B$2:$B$205,0)+1 -> 200 | U64: {=IF(ISNUMBER(Tabel1[[#This Row],[hulpkolom]]),INDIRECT("'NLSfB - PPO'!D"&$T64),"n.v.t.")} -> WTR190-A | V64: {=IF(ISNUMBER(Tabel1[[#This Row],[hulpkolom]]),INDIRECT("'NLSfB - PPO'!E"&$T64),"-")} -> 1 | X64: {=IF(ISNUMBER(Tabel1[[#This Row],[hulpkolom]]),INDIRECT("'NLSfB - PPO'!G"&$T64),"-")} -> - | Y64: {=IF(ISNUMBER(Tabel1[[#This Row],[hulpkolom]]),INDIRECT("'NLSfB - PPO'!H"&$T64),"-")} -> - | AA64: {=IF(ISNUMBER(Tabel1[[#This Row],[hulpkolom]]),INDIRECT("'NLSfB - PPO'!J"&$T64),"-")} -> - | AB64: {=IF(ISNUMBER(Tabel1[[#This Row],[hulpkolom]]),INDIRECT("'NLSfB - PPO'!K"&$T64),"-")} -> - | AD64: {=IF(ISNUMBER(Tabel1[[#This Row],[hulpkolom]]),INDIRECT("'NLSfB - PPO'!M"&$T64),"-")} -> - | AE64: {=IF(ISNUMBER(Tabel1[[#This Row],[hulpkolom]]),INDIRECT("'NLSfB - PPO'!L"&$T64),"-")} -> - | AG64: =IF(ISNUMBER(Tabel1[[#This Row],[Frequentie 1]]),Tabel1[[#This Row],[Frequentie 1]]*Tabel1[[#This Row],[Prijs 1]],0) -> 0 | AH64: =IF(ISNUMBER(Tabel1[[#This Row],[Frequentie 2]]),Tabel1[[#This Row],[Frequentie 2]]*Tabel1[[#This Row],[Prijs 2]],0) -> 0 | AI64: =IF(ISNUMBER(Tabel1[[#This Row],[Frequentie 3]]),Tabel1[[#This Row],[Frequentie 3]]*Tabel1[[#This Row],[Prijs 3]],0) -> 0 | AJ64: =IF(ISNUMBER(Tabel1[[#This Row],[Frequentie 4]]),Tabel1[[#This Row],[Frequentie 4]]*Tabel1[[#This Row],[Prijs 4]],0) -> 0 | AK64: =SUM(Tabel1[[#This Row],[Totaal 1]:[Totaal 4]]) -> 0
A65: Gemeentewerf | B65: Kerkhofdijk 6 | C65: Hattem | D65: 1940 m2 | E65: 53.20.20 | F65: water; verwarmd tapwater, algemeen; pompen | G65: =VLOOKUP(Tabel1[[#This Row],[NLSfB]],NLSfB!A:D,4,1) -> pomp verwarmd tapwater | H65: verwarming | I65: 1 | J65: 0 | K65: Wilo | L65: Star Z20/1 | M65: elektrische bediening | N65: m3/h | O65: 0 | P65: 0 | Q65: 0 | R65: 0 | S65: 0 | T65: =_xlfn.XMATCH(E65,'NLSfb - PPO'!$B$2:$B$205,0)+1 -> 186 | U65: {=IF(ISNUMBER(Tabel1[[#This Row],[hulpkolom]]),INDIRECT("'NLSfB - PPO'!D"&$T65),"n.v.t.")} -> WTR100-A | V65: {=IF(ISNUMBER(Tabel1[[#This Row],[hulpkolom]]),INDIRECT("'NLSfB - PPO'!E"&$T65),"-")} -> 1 | X65: {=IF(ISNUMBER(Tabel1[[#This Row],[hulpkolom]]),INDIRECT("'NLSfB - PPO'!G"&$T65),"-")} -> - | Y65: {=IF(ISNUMBER(Tabel1[[#This Row],[hulpkolom]]),INDIRECT("'NLSfB - PPO'!H"&$T65),"-")} -> - | AA65: {=IF(ISNUMBER(Tabel1[[#This Row],[hulpkolom]]),INDIRECT("'NLSfB - PPO'!J"&$T65),"-")} -> - | AB65: {=IF(ISNUMBER(Tabel1[[#This Row],[hulpkolom]]),INDIRECT("'NLSfB - PPO'!K"&$T65),"-")} -> - | AD65: {=IF(ISNUMBER(Tabel1[[#This Row],[hulpkolom]]),INDIRECT("'NLSfB - PPO'!M"&$T65),"-")} -> - | AE65: {=IF(ISNUMBER(Tabel1[[#This Row],[hulpkolom]]),INDIRECT("'NLSfB - PPO'!L"&$T65),"-")} -> - | AG65: =IF(ISNUMBER(Tabel1[[#This Row],[Frequentie 1]]),Tabel1[[#This Row],[Frequentie 1]]*Tabel1[[#This Row],[Prijs 1]],0) -> 0 | AH65: =IF(ISNUMBER(Tabel1[[#This Row],[Frequentie 2]]),Tabel1[[#This Row],[Frequentie 2]]*Tabel1[[#This Row],[Prijs 2]],0) -> 0 | AI65: =IF(ISNUMBER(Tabel1[[#This Row],[Frequentie 3]]),Tabel1[[#This Row],[Frequentie 3]]*Tabel1[[#This Row],[Prijs 3]],0) -> 0 | AJ65: =IF(ISNUMBER(Tabel1[[#This Row],[Frequentie 4]]),Tabel1[[#This Row],[Frequentie 4]]*Tabel1[[#This Row],[Prijs 4]],0) -> 0 | AK65: =SUM(Tabel1[[#This Row],[Totaal 1]:[Totaal 4]]) -> 0
A66: Gemeentewerf | B66: Kerkhofdijk 6 | C66: Hattem | D66: 1940 m2 | E66: 53.60.00 | F66: water; legionellapreventie, algemeen (verzamelniveau) | G66: =VLOOKUP(Tabel1[[#This Row],[NLSfB]],NLSfB!A:D,4,1) -> legionellapreventie | H66: water | I66: 1 | J66: 0 | K66: 0 | L66: 0 | M66: beheersplan aanwezig | N66: monsterpunten | O66: keerkleppen | P66: 0 | Q66: 0 | R66: 0 | S66: 0 | T66: =_xlfn.XMATCH(E66,'NLSfb - PPO'!$B$2:$B$205,0)+1 -> 177 | U66: {=IF(ISNUMBER(Tabel1[[#This Row],[hulpkolom]]),INDIRECT("'NLSfB - PPO'!D"&$T66),"n.v.t.")} -> WTR050-A1 | V66: {=IF(ISNUMBER(Tabel1[[#This Row],[hulpkolom]]),INDIRECT("'NLSfB - PPO'!E"&$T66),"-")} -> Conform beheersplan | X66: {=IF(ISNUMBER(Tabel1[[#This Row],[hulpkolom]]),INDIRECT("'NLSfB - PPO'!G"&$T66),"-")} -> WTR050-A2 | Y66: {=IF(ISNUMBER(Tabel1[[#This Row],[hulpkolom]]),INDIRECT("'NLSfB - PPO'!H"&$T66),"-")} -> 2 | AA66: {=IF(ISNUMBER(Tabel1[[#This Row],[hulpkolom]]),INDIRECT("'NLSfB - PPO'!J"&$T66),"-")} -> - | AB66: {=IF(ISNUMBER(Tabel1[[#This Row],[hulpkolom]]),INDIRECT("'NLSfB - PPO'!K"&$T66),"-")} -> - | AD66: {=IF(ISNUMBER(Tabel1[[#This Row],[hulpkolom]]),INDIRECT("'NLSfB - PPO'!M"&$T66),"-")} -> - | AE66: {=IF(ISNUMBER(Tabel1[[#This Row],[hulpkolom]]),INDIRECT("'NLSfB - PPO'!L"&$T66),"-")} -> - | AG66: =IF(ISNUMBER(Tabel1[[#This Row],[Frequentie 1]]),Tabel1[[#This Row],[Frequentie 1]]*Tabel1[[#This Row],[Prijs 1]],0) -> 0 | AH66: =IF(ISNUMBER(Tabel1[[#This Row],[Frequentie 2]]),Tabel1[[#This Row],[Frequentie 2]]*Tabel1[[#This Row],[Prijs 2]],0) -> 0 | AI66: =IF(ISNUMBER(Tabel1[[#This Row],[Frequentie 3]]),Tabel1[[#This Row],[Frequentie 3]]*Tabel1[[#This Row],[Prijs 3]],0) -> 0 | AJ66: =IF(ISNUMBER(Tabel1[[#This Row],[Frequentie 4]]),Tabel1[[#This Row],[Frequentie 4]]*Tabel1[[#This Row],[Prijs 4]],0) -> 0 | AK66: =SUM(Tabel1[[#This Row],[Totaal 1]:[Totaal 4]]) -> 0
A67: Gemeentewerf | B67: Kerkhofdijk 6 | C67: Hattem | D67: 1940 m2 | E67: 54.11.00 | F67: gassen; brandstof, aardgasvoorziening / menggasvoorziening | G67: =VLOOKUP(Tabel1[[#This Row],[NLSfB]],NLSfB!A:D,4,1) -> aardgas-/menggasvoorziening | H67: gas | I67: 1 | J67: 0 | K67: 0 | L67: 0 | M67: Gasmeter G4 | N67: 0 | O67: 0 | P67: 0 | Q67: 0 | R67: 0 | S67: 0 | T67: =_xlfn.XMATCH(E67,'NLSfb - PPO'!$B$2:$B$205,0)+1 -> 33 | U67: {=IF(ISNUMBER(Tabel1[[#This Row],[hulpkolom]]),INDIRECT("'NLSfB - PPO'!D"&$T67),"n.v.t.")} -> GAL010-A | V67: {=IF(ISNUMBER(Tabel1[[#This Row],[hulpkolom]]),INDIRECT("'NLSfB - PPO'!E"&$T67),"-")} -> 1 | X67: {=IF(ISNUMBER(Tabel1[[#This Row],[hulpkolom]]),INDIRECT("'NLSfB - PPO'!G"&$T67),"-")} -> GAL010-K | Y67: {=IF(ISNUMBER(Tabel1[[#This Row],[hulpkolom]]),INDIRECT("'NLSfB - PPO'!H"&$T67),"-")} -> 0.25 | AA67: {=IF(ISNUMBER(Tabel1[[#This Row],[hulpkolom]]),INDIRECT("'NLSfB - PPO'!J"&$T67),"-")} -> - | AB67: {=IF(ISNUMBER(Tabel1[[#This Row],[hulpkolom]]),INDIRECT("'NLSfB - PPO'!K"&$T67),"-")} -> - | AD67: {=IF(ISNUMBER(Tabel1[[#This Row],[hulpkolom]]),INDIRECT("'NLSfB - PPO'!M"&$T67),"-")} -> - | AE67: {=IF(ISNUMBER(Tabel1[[#This Row],[hulpkolom]]),INDIRECT("'NLSfB - PPO'!L"&$T67),"-")} -> - | AG67: =IF(ISNUMBER(Tabel1[[#This Row],[Frequentie 1]]),Tabel1[[#This Row],[Frequentie 1]]*Tabel1[[#This Row],[Prijs 1]],0) -> 0 | AH67: =IF(ISNUMBER(Tabel1[[#This Row],[Frequentie 2]]),Tabel1[[#This Row],[Frequentie 2]]*Tabel1[[#This Row],[Prijs 2]],0) -> 0 | AI67: =IF(ISNUMBER(Tabel1[[#This Row],[Frequentie 3]]),Tabel1[[#This Row],[Frequentie 3]]*Tabel1[[#This Row],[Prijs 3]],0) -> 0 | AJ67: =IF(ISNUMBER(Tabel1[[#This Row],[Frequentie 4]]),Tabel1[[#This Row],[Frequentie 4]]*Tabel1[[#This Row],[Prijs 4]],0) -> 0 | AK67: =SUM(Tabel1[[#This Row],[Totaal 1]:[Totaal 4]]) -> 0
A68: Gemeentewerf | B68: Kerkhofdijk 6 | C68: Hattem | D68: 1940 m2 | E68: 54.23.00 | F68: gassen; perslucht, compressor | G68: =VLOOKUP(Tabel1[[#This Row],[NLSfB]],NLSfB!A:D,4,1) -> compressor perslucht | H68: gas | I68: 1 | J68: 2004 | K68: Dari | L68: DEF 270/520 | M68: 3 kW | N68: 400 V | O68: L | P68: 520 l/min | Q68: bar | R68: 0 | S68: 0 | T68: =_xlfn.XMATCH(E68,'NLSfb - PPO'!$B$2:$B$205,0)+1 -> 98 | U68: {=IF(ISNUMBER(Tabel1[[#This Row],[hulpkolom]]),INDIRECT("'NLSfB - PPO'!D"&$T68),"n.v.t.")} -> PERS010-A | V68: {=IF(ISNUMBER(Tabel1[[#This Row],[hulpkolom]]),INDIRECT("'NLSfB - PPO'!E"&$T68),"-")} -> 1 | X68: {=IF(ISNUMBER(Tabel1[[#This Row],[hulpkolom]]),INDIRECT("'NLSfB - PPO'!G"&$T68),"-")} -> - | Y68: {=IF(ISNUMBER(Tabel1[[#This Row],[hulpkolom]]),INDIRECT("'NLSfB - PPO'!H"&$T68),"-")} -> - | AA68: {=IF(ISNUMBER(Tabel1[[#This Row],[hulpkolom]]),INDIRECT("'NLSfB - PPO'!J"&$T68),"-")} -> - | AB68: {=IF(ISNUMBER(Tabel1[[#This Row],[hulpkolom]]),INDIRECT("'NLSfB - PPO'!K"&$T68),"-")} -> - | AD68: {=IF(ISNUMBER(Tabel1[[#This Row],[hulpkolom]]),INDIRECT("'NLSfB - PPO'!M"&$T68),"-")} -> - | AE68: {=IF(ISNUMBER(Tabel1[[#This Row],[hulpkolom]]),INDIRECT("'NLSfB - PPO'!L"&$T68),"-")} -> - | AG68: =IF(ISNUMBER(Tabel1[[#This Row],[Frequentie 1]]),Tabel1[[#This Row],[Frequentie 1]]*Tabel1[[#This Row],[Prijs 1]],0) -> 0 | AH68: =IF(ISNUMBER(Tabel1[[#This Row],[Frequentie 2]]),Tabel1[[#This Row],[Frequentie 2]]*Tabel1[[#This Row],[Prijs 2]],0) -> 0 | AI68: =IF(ISNUMBER(Tabel1[[#This Row],[Frequentie 3]]),Tabel1[[#This Row],[Frequentie 3]]*Tabel1[[#This Row],[Prijs 3]],0) -> 0 | AJ68: =IF(ISNUMBER(Tabel1[[#This Row],[Frequentie 4]]),Tabel1[[#This Row],[Frequentie 4]]*Tabel1[[#This Row],[Prijs 4]],0) -> 0 | AK68: =SUM(Tabel1[[#This Row],[Totaal 1]:[Totaal 4]]) -> 0
A69: Gemeentewerf | B69: Kerkhofdijk 6 | C69: Hattem | D69: 1940 m2 | E69: 55.12.20 | F69: koeling; lokaal, splitsysteem; verwarmen/koelen 5-50 ton CO2 | G69: =VLOOKUP(Tabel1[[#This Row],[NLSfB]],NLSfB!A:D,4,1) -> splitsysteem verwarmen/koelen (5-50 ton CO2) | H69: koeling | I69: 1 | J69: 0 | K69: Nibe | L69: Split AMS 10A ACVM 270 | M69: 0 | N69: kW | O69: kW | P69: R 410A | Q69: 2,9 kg | R69: binnenunits | S69: 0 | T69: =_xlfn.XMATCH(E69,'NLSfb - PPO'!$B$2:$B$205,0)+1 -> 155 | U69: {=IF(ISNUMBER(Tabel1[[#This Row],[hulpkolom]]),INDIRECT("'NLSfB - PPO'!D"&$T69),"n.v.t.")} -> VW110-A1 | V69: {=IF(ISNUMBER(Tabel1[[#This Row],[hulpkolom]]),INDIRECT("'NLSfB - PPO'!E"&$T69),"-")} -> 1 | X69: {=IF(ISNUMBER(Tabel1[[#This Row],[hulpkolom]]),INDIRECT("'NLSfB - PPO'!G"&$T69),"-")} -> - | Y69: {=IF(ISNUMBER(Tabel1[[#This Row],[hulpkolom]]),INDIRECT("'NLSfB - PPO'!H"&$T69),"-")} -> - | AA69: {=IF(ISNUMBER(Tabel1[[#This Row],[hulpkolom]]),INDIRECT("'NLSfB - PPO'!J"&$T69),"-")} -> - | AB69: {=IF(ISNUMBER(Tabel1[[#This Row],[hulpkolom]]),INDIRECT("'NLSfB - PPO'!K"&$T69),"-")} -> - | AD69: {=IF(ISNUMBER(Tabel1[[#This Row],[hulpkolom]]),INDIRECT("'NLSfB - PPO'!M"&$T69),"-")} -> - | AE69: {=IF(ISNUMBER(Tabel1[[#This Row],[hulpkolom]]),INDIRECT("'NLSfB - PPO'!L"&$T69),"-")} -> - | AG69: =IF(ISNUMBER(Tabel1[[#This Row],[Frequentie 1]]),Tabel1[[#This Row],[Frequentie 1]]*Tabel1[[#This Row],[Prijs 1]],0) -> 0 | AH69: =IF(ISNUMBER(Tabel1[[#This Row],[Frequentie 2]]),Tabel1[[#This Row],[Frequentie 2]]*Tabel1[[#This Row],[Prijs 2]],0) -> 0 | AI69: =IF(ISNUMBER(Tabel1[[#This Row],[Frequentie 3]]),Tabel1[[#This Row],[Frequentie 3]]*Tabel1[[#This Row],[Prijs 3]],0) -> 0 | AJ69: =IF(ISNUMBER(Tabel1[[#This Row],[Frequentie 4]]),Tabel1[[#This Row],[Frequentie 4]]*Tabel1[[#This Row],[Prijs 4]],0) -> 0 | AK69: =SUM(Tabel1[[#This Row],[Totaal 1]:[Totaal 4]]) -> 0
A70: Gemeentewerf | B70: Kerkhofdijk 6 | C70: Hattem | D70: 1940 m2 | E70: 53.21.10 | F70: water; verwarmd tapwater, met voorraad; voorraadboiler direct verwarmd | G70: =VLOOKUP(Tabel1[[#This Row],[NLSfB]],NLSfB!A:D,4,1) -> voorraadboiler direct verwarmd | H70: verwarming | I70: 1 | J70: 2004 | K70: AO Smith | L70: NGT 115 N | M70: 110 L | N70: open toestel | O70: 0 | P70: 0 | Q70: 0 | R70: 0 | S70: 0 | T70: =_xlfn.XMATCH(E70,'NLSfb - PPO'!$B$2:$B$205,0)+1 -> 172 | U70: {=IF(ISNUMBER(Tabel1[[#This Row],[hulpkolom]]),INDIRECT("'NLSfB - PPO'!D"&$T70),"n.v.t.")} -> WTR010-A | V70: {=IF(ISNUMBER(Tabel1[[#This Row],[hulpkolom]]),INDIRECT("'NLSfB - PPO'!E"&$T70),"-")} -> 1 | X70: {=IF(ISNUMBER(Tabel1[[#This Row],[hulpkolom]]),INDIRECT("'NLSfB - PPO'!G"&$T70),"-")} -> WTR010-K | Y70: {=IF(ISNUMBER(Tabel1[[#This Row],[hulpkolom]]),INDIRECT("'NLSfB - PPO'!H"&$T70),"-")} -> 0.25 | AA70: {=IF(ISNUMBER(Tabel1[[#This Row],[hulpkolom]]),INDIRECT("'NLSfB - PPO'!J"&$T70),"-")} -> - | AB70: {=IF(ISNUMBER(Tabel1[[#This Row],[hulpkolom]]),INDIRECT("'NLSfB - PPO'!K"&$T70),"-")} -> - | AD70: {=IF(ISNUMBER(Tabel1[[#This Row],[hulpkolom]]),INDIRECT("'NLSfB - PPO'!M"&$T70),"-")} -> - | AE70: {=IF(ISNUMBER(Tabel1[[#This Row],[hulpkolom]]),INDIRECT("'NLSfB - PPO'!L"&$T70),"-")} -> - | AG70: =IF(ISNUMBER(Tabel1[[#This Row],[Frequentie 1]]),Tabel1[[#This Row],[Frequentie 1]]*Tabel1[[#This Row],[Prijs 1]],0) -> 0 | AH70: =IF(ISNUMBER(Tabel1[[#This Row],[Frequentie 2]]),Tabel1[[#This Row],[Frequentie 2]]*Tabel1[[#This Row],[Prijs 2]],0) -> 0 | AI70: =IF(ISNUMBER(Tabel1[[#This Row],[Frequentie 3]]),Tabel1[[#This Row],[Frequentie 3]]*Tabel1[[#This Row],[Prijs 3]],0) -> 0 | AJ70: =IF(ISNUMBER(Tabel1[[#This Row],[Frequentie 4]]),Tabel1[[#This Row],[Frequentie 4]]*Tabel1[[#This Row],[Prijs 4]],0) -> 0 | AK70: =SUM(Tabel1[[#This Row],[Totaal 1]:[Totaal 4]]) -> 0
A71: Gemeentewerf | B71: Kerkhofdijk 6 | C71: Hattem | D71: 1940 m2 | E71: 56.21.10 | F71: verwarming; opwekking centraal, verwarmingstoestellen; atmosferische gasketel | G71: =VLOOKUP(Tabel1[[#This Row],[NLSfB]],NLSfB!A:D,4,1) -> ketel (gas) | H71: verwarming | I71: 1 | J71: 2005 | K71: Remeha | L71: Quinta 30S | M71: 28 kW | N71: geen voorziening warmtapwater | O71: 0 | P71: 0 | Q71: 0 | R71: 0 | S71: 0 | T71: =_xlfn.XMATCH(E71,'NLSfb - PPO'!$B$2:$B$205,0)+1 -> 130 | U71: {=IF(ISNUMBER(Tabel1[[#This Row],[hulpkolom]]),INDIRECT("'NLSfB - PPO'!D"&$T71),"n.v.t.")} -> VW030-A | V71: {=IF(ISNUMBER(Tabel1[[#This Row],[hulpkolom]]),INDIRECT("'NLSfB - PPO'!E"&$T71),"-")} -> 1 | X71: {=IF(ISNUMBER(Tabel1[[#This Row],[hulpkolom]]),INDIRECT("'NLSfB - PPO'!G"&$T71),"-")} -> VW030-K | Y71: {=IF(ISNUMBER(Tabel1[[#This Row],[hulpkolom]]),INDIRECT("'NLSfB - PPO'!H"&$T71),"-")} -> 0.25 | AA71: {=IF(ISNUMBER(Tabel1[[#This Row],[hulpkolom]]),INDIRECT("'NLSfB - PPO'!J"&$T71),"-")} -> - | AB71: {=IF(ISNUMBER(Tabel1[[#This Row],[hulpkolom]]),INDIRECT("'NLSfB - PPO'!K"&$T71),"-")} -> - | AD71: {=IF(ISNUMBER(Tabel1[[#This Row],[hulpkolom]]),INDIRECT("'NLSfB - PPO'!M"&$T71),"-")} -> - | AE71: {=IF(ISNUMBER(Tabel1[[#This Row],[hulpkolom]]),INDIRECT("'NLSfB - PPO'!L"&$T71),"-")} -> - | AG71: =IF(ISNUMBER(Tabel1[[#This Row],[Frequentie 1]]),Tabel1[[#This Row],[Frequentie 1]]*Tabel1[[#This Row],[Prijs 1]],0) -> 0 | AH71: =IF(ISNUMBER(Tabel1[[#This Row],[Frequentie 2]]),Tabel1[[#This Row],[Frequentie 2]]*Tabel1[[#This Row],[Prijs 2]],0) -> 0 | AI71: =IF(ISNUMBER(Tabel1[[#This Row],[Frequentie 3]]),Tabel1[[#This Row],[Frequentie 3]]*Tabel1[[#This Row],[Prijs 3]],0) -> 0 | AJ71: =IF(ISNUMBER(Tabel1[[#This Row],[Frequentie 4]]),Tabel1[[#This Row],[Frequentie 4]]*Tabel1[[#This Row],[Prijs 4]],0) -> 0 | AK71: =SUM(Tabel1[[#This Row],[Totaal 1]:[Totaal 4]]) -> 0
A72: Gemeentewerf | B72: Kerkhofdijk 6 | C72: Hattem | D72: 1940 m2 | E72: 56.24.10 | F72: verwarming; opwekking centraal, rookgasafvoer; ketel gas | G72: =VLOOKUP(Tabel1[[#This Row],[NLSfB]],NLSfB!A:D,4,1) -> rookgasafvoer gasketel | H72: verwarming | I72: 3 | J72: 2004 | K72: Mugro | L72: Skyline | M72: 8 cm (Ø) | N72: 4 m (l) | O72: 0 | P72: 0 | Q72: 0 | R72: 0 | S72: 0 | T72: =_xlfn.XMATCH(E72,'NLSfb - PPO'!$B$2:$B$205,0)+1 -> 133 | U72: {=IF(ISNUMBER(Tabel1[[#This Row],[hulpkolom]]),INDIRECT("'NLSfB - PPO'!D"&$T72),"n.v.t.")} -> VW030-A | V72: {=IF(ISNUMBER(Tabel1[[#This Row],[hulpkolom]]),INDIRECT("'NLSfB - PPO'!E"&$T72),"-")} -> 1 | X72: {=IF(ISNUMBER(Tabel1[[#This Row],[hulpkolom]]),INDIRECT("'NLSfB - PPO'!G"&$T72),"-")} -> VW030-K | Y72: {=IF(ISNUMBER(Tabel1[[#This Row],[hulpkolom]]),INDIRECT("'NLSfB - PPO'!H"&$T72),"-")} -> 0.25 | AA72: {=IF(ISNUMBER(Tabel1[[#This Row],[hulpkolom]]),INDIRECT("'NLSfB - PPO'!J"&$T72),"-")} -> VW070-A | AB72: {=IF(ISNUMBER(Tabel1[[#This Row],[hulpkolom]]),INDIRECT("'NLSfB - PPO'!K"&$T72),"-")} -> 1 | AD72: {=IF(ISNUMBER(Tabel1[[#This Row],[hulpkolom]]),INDIRECT("'NLSfB - PPO'!M"&$T72),"-")} -> - | AE72: {=IF(ISNUMBER(Tabel1[[#This Row],[hulpkolom]]),INDIRECT("'NLSfB - PPO'!L"&$T72),"-")} -> - | AG72: =IF(ISNUMBER(Tabel1[[#This Row],[Frequentie 1]]),Tabel1[[#This Row],[Frequentie 1]]*Tabel1[[#This Row],[Prijs 1]],0) -> 0 | AH72: =IF(ISNUMBER(Tabel1[[#This Row],[Frequentie 2]]),Tabel1[[#This Row],[Frequentie 2]]*Tabel1[[#This Row],[Prijs 2]],0) -> 0 | AI72: =IF(ISNUMBER(Tabel1[[#This Row],[Frequentie 3]]),Tabel1[[#This Row],[Frequentie 3]]*Tabel1[[#This Row],[Prijs 3]],0) -> 0 | AJ72: =IF(ISNUMBER(Tabel1[[#This Row],[Frequentie 4]]),Tabel1[[#This Row],[Frequentie 4]]*Tabel1[[#This Row],[Prijs 4]],0) -> 0 | AK72: =SUM(Tabel1[[#This Row],[Totaal 1]:[Totaal 4]]) -> 0
A73: Gemeentewerf | B73: Kerkhofdijk 6 | C73: Hattem | D73: 1940 m2 | E73: 56.84.00 | F73: verwarming; afgifte, vloerverwarming/wandverwarming, algemeen (verzamelniveau) | G73: =VLOOKUP(Tabel1[[#This Row],[NLSfB]],NLSfB!A:D,4,1) -> vloer-/wandverwarming | H73: verwarming | I73: 1 | J73: 2004 | K73: SBK | L73: 0 | M73: CV-water | N73: 220 m2 | O73: 0 | P73: naregelingen | Q73: 0 | R73: 0 | S73: 0 | T73: =_xlfn.XMATCH(E73,'NLSfb - PPO'!$B$2:$B$205,0)+1 -> #N/A | U73: {=IF(ISNUMBER(Tabel1[[#This Row],[hulpkolom]]),INDIRECT("'NLSfB - PPO'!D"&$T73),"n.v.t.")} -> n.v.t. | V73: {=IF(ISNUMBER(Tabel1[[#This Row],[hulpkolom]]),INDIRECT("'NLSfB - PPO'!E"&$T73),"-")} -> - | X73: {=IF(ISNUMBER(Tabel1[[#This Row],[hulpkolom]]),INDIRECT("'NLSfB - PPO'!G"&$T73),"-")} -> - | Y73: {=IF(ISNUMBER(Tabel1[[#This Row],[hulpkolom]]),INDIRECT("'NLSfB - PPO'!H"&$T73),"-")} -> - | AA73: {=IF(ISNUMBER(Tabel1[[#This Row],[hulpkolom]]),INDIRECT("'NLSfB - PPO'!J"&$T73),"-")} -> - | AB73: {=IF(ISNUMBER(Tabel1[[#This Row],[hulpkolom]]),INDIRECT("'NLSfB - PPO'!K"&$T73),"-")} -> - | AD73: {=IF(ISNUMBER(Tabel1[[#This Row],[hulpkolom]]),INDIRECT("'NLSfB - PPO'!M"&$T73),"-")} -> - | AE73: {=IF(ISNUMBER(Tabel1[[#This Row],[hulpkolom]]),INDIRECT("'NLSfB - PPO'!L"&$T73),"-")} -> - | AG73: =IF(ISNUMBER(Tabel1[[#This Row],[Frequentie 1]]),Tabel1[[#This Row],[Frequentie 1]]*Tabel1[[#This Row],[Prijs 1]],0) -> 0 | AH73: =IF(ISNUMBER(Tabel1[[#This Row],[Frequentie 2]]),Tabel1[[#This Row],[Frequentie 2]]*Tabel1[[#This Row],[Prijs 2]],0) -> 0 | AI73: =IF(ISNUMBER(Tabel1[[#This Row],[Frequentie 3]]),Tabel1[[#This Row],[Frequentie 3]]*Tabel1[[#This Row],[Prijs 3]],0) -> 0 | AJ73: =IF(ISNUMBER(Tabel1[[#This Row],[Frequentie 4]]),Tabel1[[#This Row],[Frequentie 4]]*Tabel1[[#This Row],[Prijs 4]],0) -> 0 | AK73: =SUM(Tabel1[[#This Row],[Totaal 1]:[Totaal 4]]) -> 0
A74: Gemeentewerf | B74: Kerkhofdijk 6 | C74: Hattem | D74: 1940 m2 | E74: 56.84.10 | F74: verwarming; afgifte, vloerverwarming/wandverwarming; verdeler | G74: =VLOOKUP(Tabel1[[#This Row],[NLSfB]],NLSfB!A:D,4,1) -> verdeler vloer-/wandverwarming | H74: verwarming | I74: 1 | J74: 2004 | K74: SBK | L74: 0 | M74: 3 groepen | N74: 0 | O74: 0 | P74: 0 | Q74: 0 | R74: 0 | S74: 0 | T74: =_xlfn.XMATCH(E74,'NLSfb - PPO'!$B$2:$B$205,0)+1 -> 144 | U74: {=IF(ISNUMBER(Tabel1[[#This Row],[hulpkolom]]),INDIRECT("'NLSfB - PPO'!D"&$T74),"n.v.t.")} -> VW060-A | V74: {=IF(ISNUMBER(Tabel1[[#This Row],[hulpkolom]]),INDIRECT("'NLSfB - PPO'!E"&$T74),"-")} -> 1 | X74: {=IF(ISNUMBER(Tabel1[[#This Row],[hulpkolom]]),INDIRECT("'NLSfB - PPO'!G"&$T74),"-")} -> - | Y74: {=IF(ISNUMBER(Tabel1[[#This Row],[hulpkolom]]),INDIRECT("'NLSfB - PPO'!H"&$T74),"-")} -> - | AA74: {=IF(ISNUMBER(Tabel1[[#This Row],[hulpkolom]]),INDIRECT("'NLSfB - PPO'!J"&$T74),"-")} -> - | AB74: {=IF(ISNUMBER(Tabel1[[#This Row],[hulpkolom]]),INDIRECT("'NLSfB - PPO'!K"&$T74),"-")} -> - | AD74: {=IF(ISNUMBER(Tabel1[[#This Row],[hulpkolom]]),INDIRECT("'NLSfB - PPO'!M"&$T74),"-")} -> - | AE74: {=IF(ISNUMBER(Tabel1[[#This Row],[hulpkolom]]),INDIRECT("'NLSfB - PPO'!L"&$T74),"-")} -> - | AG74: =IF(ISNUMBER(Tabel1[[#This Row],[Frequentie 1]]),Tabel1[[#This Row],[Frequentie 1]]*Tabel1[[#This Row],[Prijs 1]],0) -> 0 | AH74: =IF(ISNUMBER(Tabel1[[#This Row],[Frequentie 2]]),Tabel1[[#This Row],[Frequentie 2]]*Tabel1[[#This Row],[Prijs 2]],0) -> 0 | AI74: =IF(ISNUMBER(Tabel1[[#This Row],[Frequentie 3]]),Tabel1[[#This Row],[Frequentie 3]]*Tabel1[[#This Row],[Prijs 3]],0) -> 0 | AJ74: =IF(ISNUMBER(Tabel1[[#This Row],[Frequentie 4]]),Tabel1[[#This Row],[Frequentie 4]]*Tabel1[[#This Row],[Prijs 4]],0) -> 0 | AK74: =SUM(Tabel1[[#This Row],[Totaal 1]:[Totaal 4]]) -> 0
A75: Gemeentewerf | B75: Kerkhofdijk 6 | C75: Hattem | D75: 1940 m2 | E75: 56.87.30 | F75: verwarming; afgifte, lucht; verwarmer aangesloten op gasleiding | G75: =VLOOKUP(Tabel1[[#This Row],[NLSfB]],NLSfB!A:D,4,1) -> luchtverwarmer, aangesloten op gasleiding | H75: luchtbehandeling | I75: 2 | J75: 2019 | K75: Winterwarm | L75: XR10 | M75: 2 bedieneenheden | N75: 12,8 kW | O75: 0 | P75: 0 | Q75: 0 | R75: 0 | S75: 0 | T75: =_xlfn.XMATCH(E75,'NLSfb - PPO'!$B$2:$B$205,0)+1 -> 75 | U75: {=IF(ISNUMBER(Tabel1[[#This Row],[hulpkolom]]),INDIRECT("'NLSfB - PPO'!D"&$T75),"n.v.t.")} -> LBH040-A | V75: {=IF(ISNUMBER(Tabel1[[#This Row],[hulpkolom]]),INDIRECT("'NLSfB - PPO'!E"&$T75),"-")} -> 1 | X75: {=IF(ISNUMBER(Tabel1[[#This Row],[hulpkolom]]),INDIRECT("'NLSfB - PPO'!G"&$T75),"-")} -> LBH040-K | Y75: {=IF(ISNUMBER(Tabel1[[#This Row],[hulpkolom]]),INDIRECT("'NLSfB - PPO'!H"&$T75),"-")} -> 0.25 | AA75: {=IF(ISNUMBER(Tabel1[[#This Row],[hulpkolom]]),INDIRECT("'NLSfB - PPO'!J"&$T75),"-")} -> - | AB75: {=IF(ISNUMBER(Tabel1[[#This Row],[hulpkolom]]),INDIRECT("'NLSfB - PPO'!K"&$T75),"-")} -> - | AD75: {=IF(ISNUMBER(Tabel1[[#This Row],[hulpkolom]]),INDIRECT("'NLSfB - PPO'!M"&$T75),"-")} -> - | AE75: {=IF(ISNUMBER(Tabel1[[#This Row],[hulpkolom]]),INDIRECT("'NLSfB - PPO'!L"&$T75),"-")} -> - | AG75: =IF(ISNUMBER(Tabel1[[#This Row],[Frequentie 1]]),Tabel1[[#This Row],[Frequentie 1]]*Tabel1[[#This Row],[Prijs 1]],0) -> 0 | AH75: =IF(ISNUMBER(Tabel1[[#This Row],[Frequentie 2]]),Tabel1[[#This Row],[Frequentie 2]]*Tabel1[[#This Row],[Prijs 2]],0) -> 0 | AI75: =IF(ISNUMBER(Tabel1[[#This Row],[Frequentie 3]]),Tabel1[[#This Row],[Frequentie 3]]*Tabel1[[#This Row],[Prijs 3]],0) -> 0 | AJ75: =IF(ISNUMBER(Tabel1[[#This Row],[Frequentie 4]]),Tabel1[[#This Row],[Frequentie 4]]*Tabel1[[#This Row],[Prijs 4]],0) -> 0 | AK75: =SUM(Tabel1[[#This Row],[Totaal 1]:[Totaal 4]]) -> 0
A76: Gemeentewerf | B76: Kerkhofdijk 6 | C76: Hattem | D76: 1940 m2 | E76: 57.41.40 | F76: luchtbehandeling; distributie, kanalen; centrale ventilatoren | G76: =VLOOKUP(Tabel1[[#This Row],[NLSfB]],NLSfB!A:D,4,1) -> centrale ventilatoren | H76: luchtbehandeling | I76: 1 | J76: 2004 | K76: Bergschenhoek | L76: RX 30-10 | M76: m3/h | N76: t.b.v. algemeen | O76: servo gestuurde luchtklep | P76: 0 | Q76: 0 | R76: 0 | S76: 0 | T76: =_xlfn.XMATCH(E76,'NLSfb - PPO'!$B$2:$B$205,0)+1 -> 72 | U76: {=IF(ISNUMBER(Tabel1[[#This Row],[hulpkolom]]),INDIRECT("'NLSfB - PPO'!D"&$T76),"n.v.t.")} -> LBH030-A2 | V76: {=IF(ISNUMBER(Tabel1[[#This Row],[hulpkolom]]),INDIRECT("'NLSfB - PPO'!E"&$T76),"-")} -> 1 | X76: {=IF(ISNUMBER(Tabel1[[#This Row],[hulpkolom]]),INDIRECT("'NLSfB - PPO'!G"&$T76),"-")} -> - | Y76: {=IF(ISNUMBER(Tabel1[[#This Row],[hulpkolom]]),INDIRECT("'NLSfB - PPO'!H"&$T76),"-")} -> - | AA76: {=IF(ISNUMBER(Tabel1[[#This Row],[hulpkolom]]),INDIRECT("'NLSfB - PPO'!J"&$T76),"-")} -> - | AB76: {=IF(ISNUMBER(Tabel1[[#This Row],[hulpkolom]]),INDIRECT("'NLSfB - PPO'!K"&$T76),"-")} -> - | AD76: {=IF(ISNUMBER(Tabel1[[#This Row],[hulpkolom]]),INDIRECT("'NLSfB - PPO'!M"&$T76),"-")} -> - | AE76: {=IF(ISNUMBER(Tabel1[[#This Row],[hulpkolom]]),INDIRECT("'NLSfB - PPO'!L"&$T76),"-")} -> - | AG76: =IF(ISNUMBER(Tabel1[[#This Row],[Frequentie 1]]),Tabel1[[#This Row],[Frequentie 1]]*Tabel1[[#This Row],[Prijs 1]],0) -> 0 | AH76: =IF(ISNUMBER(Tabel1[[#This Row],[Frequentie 2]]),Tabel1[[#This Row],[Frequentie 2]]*Tabel1[[#This Row],[Prijs 2]],0) -> 0 | AI76: =IF(ISNUMBER(Tabel1[[#This Row],[Frequentie 3]]),Tabel1[[#This Row],[Frequentie 3]]*Tabel1[[#This Row],[Prijs 3]],0) -> 0 | AJ76: =IF(ISNUMBER(Tabel1[[#This Row],[Frequentie 4]]),Tabel1[[#This Row],[Frequentie 4]]*Tabel1[[#This Row],[Prijs 4]],0) -> 0 | AK76: =SUM(Tabel1[[#This Row],[Totaal 1]:[Totaal 4]]) -> 0
A77: Gemeentewerf | B77: Kerkhofdijk 6 | C77: Hattem | D77: 1940 m2 | E77: 57.41.40 | F77: luchtbehandeling; distributie, kanalen; centrale ventilatoren | G77: =VLOOKUP(Tabel1[[#This Row],[NLSfB]],NLSfB!A:D,4,1) -> centrale ventilatoren | H77: luchtbehandeling | I77: 1 | J77: 2004 | K77: Bergschenhoek | L77: RX 10-10 | M77: m3/h | N77: t.b.v. algemeen | O77: servo gestuurde luchtklep | P77: 0 | Q77: 0 | R77: 0 | S77: 0 | T77: =_xlfn.XMATCH(E77,'NLSfb - PPO'!$B$2:$B$205,0)+1 -> 72 | U77: {=IF(ISNUMBER(Tabel1[[#This Row],[hulpkolom]]),INDIRECT("'NLSfB - PPO'!D"&$T77),"n.v.t.")} -> LBH030-A2 | V77: {=IF(ISNUMBER(Tabel1[[#This Row],[hulpkolom]]),INDIRECT("'NLSfB - PPO'!E"&$T77),"-")} -> 1 | X77: {=IF(ISNUMBER(Tabel1[[#This Row],[hulpkolom]]),INDIRECT("'NLSfB - PPO'!G"&$T77),"-")} -> - | Y77: {=IF(ISNUMBER(Tabel1[[#This Row],[hulpkolom]]),INDIRECT("'NLSfB - PPO'!H"&$T77),"-")} -> - | AA77: {=IF(ISNUMBER(Tabel1[[#This Row],[hulpkolom]]),INDIRECT("'NLSfB - PPO'!J"&$T77),"-")} -> - | AB77: {=IF(ISNUMBER(Tabel1[[#This Row],[hulpkolom]]),INDIRECT("'NLSfB - PPO'!K"&$T77),"-")} -> - | AD77: {=IF(ISNUMBER(Tabel1[[#This Row],[hulpkolom]]),INDIRECT("'NLSfB - PPO'!M"&$T77),"-")} -> - | AE77: {=IF(ISNUMBER(Tabel1[[#This Row],[hulpkolom]]),INDIRECT("'NLSfB - PPO'!L"&$T77),"-")} -> - | AG77: =IF(ISNUMBER(Tabel1[[#This Row],[Frequentie 1]]),Tabel1[[#This Row],[Frequentie 1]]*Tabel1[[#This Row],[Prijs 1]],0) -> 0 | AH77: =IF(ISNUMBER(Tabel1[[#This Row],[Frequentie 2]]),Tabel1[[#This Row],[Frequentie 2]]*Tabel1[[#This Row],[Prijs 2]],0) -> 0 | AI77: =IF(ISNUMBER(Tabel1[[#This Row],[Frequentie 3]]),Tabel1[[#This Row],[Frequentie 3]]*Tabel1[[#This Row],[Prijs 3]],0) -> 0 | AJ77: =IF(ISNUMBER(Tabel1[[#This Row],[Frequentie 4]]),Tabel1[[#This Row],[Frequentie 4]]*Tabel1[[#This Row],[Prijs 4]],0) -> 0 | AK77: =SUM(Tabel1[[#This Row],[Totaal 1]:[Totaal 4]]) -> 0
A78: Gemeentewerf | B78: Kerkhofdijk 6 | C78: Hattem | D78: 1940 m2 | E78: 57.41.40 | F78: luchtbehandeling; distributie, kanalen; centrale ventilatoren | G78: =VLOOKUP(Tabel1[[#This Row],[NLSfB]],NLSfB!A:D,4,1) -> centrale ventilatoren | H78: luchtbehandeling | I78: 2 | J78: 2004 | K78: Zehnder | L78: RPM | M78: 300 m3/h | N78: t.b.v. algemeen | O78: 0 | P78: 0 | Q78: 0 | R78: 0 | S78: 0 | T78: =_xlfn.XMATCH(E78,'NLSfb - PPO'!$B$2:$B$205,0)+1 -> 72 | U78: {=IF(ISNUMBER(Tabel1[[#This Row],[hulpkolom]]),INDIRECT("'NLSfB - PPO'!D"&$T78),"n.v.t.")} -> LBH030-A2 | V78: {=IF(ISNUMBER(Tabel1[[#This Row],[hulpkolom]]),INDIRECT("'NLSfB - PPO'!E"&$T78),"-")} -> 1 | X78: {=IF(ISNUMBER(Tabel1[[#This Row],[hulpkolom]]),INDIRECT("'NLSfB - PPO'!G"&$T78),"-")} -> - | Y78: {=IF(ISNUMBER(Tabel1[[#This Row],[hulpkolom]]),INDIRECT("'NLSfB - PPO'!H"&$T78),"-")} -> - | AA78: {=IF(ISNUMBER(Tabel1[[#This Row],[hulpkolom]]),INDIRECT("'NLSfB - PPO'!J"&$T78),"-")} -> - | AB78: {=IF(ISNUMBER(Tabel1[[#This Row],[hulpkolom]]),INDIRECT("'NLSfB - PPO'!K"&$T78),"-")} -> - | AD78: {=IF(ISNUMBER(Tabel1[[#This Row],[hulpkolom]]),INDIRECT("'NLSfB - PPO'!M"&$T78),"-")} -> - | AE78: {=IF(ISNUMBER(Tabel1[[#This Row],[hulpkolom]]),INDIRECT("'NLSfB - PPO'!L"&$T78),"-")} -> - | AG78: =IF(ISNUMBER(Tabel1[[#This Row],[Frequentie 1]]),Tabel1[[#This Row],[Frequentie 1]]*Tabel1[[#This Row],[Prijs 1]],0) -> 0 | AH78: =IF(ISNUMBER(Tabel1[[#This Row],[Frequentie 2]]),Tabel1[[#This Row],[Frequentie 2]]*Tabel1[[#This Row],[Prijs 2]],0) -> 0 | AI78: =IF(ISNUMBER(Tabel1[[#This Row],[Frequentie 3]]),Tabel1[[#This Row],[Frequentie 3]]*Tabel1[[#This Row],[Prijs 3]],0) -> 0 | AJ78: =IF(ISNUMBER(Tabel1[[#This Row],[Frequentie 4]]),Tabel1[[#This Row],[Frequentie 4]]*Tabel1[[#This Row],[Prijs 4]],0) -> 0 | AK78: =SUM(Tabel1[[#This Row],[Totaal 1]:[Totaal 4]]) -> 0
A79: Gemeentewerf | B79: Kerkhofdijk 6 | C79: Hattem | D79: 1940 m2 | E79: 57.41.40 | F79: luchtbehandeling; distributie, kanalen; centrale ventilatoren | G79: =VLOOKUP(Tabel1[[#This Row],[NLSfB]],NLSfB!A:D,4,1) -> centrale ventilatoren | H79: luchtbehandeling | I79: 1 | J79: 2004 | K79: Itho | L79: eco ret | M79: 300 m3/h | N79: t.b.v. algemeen | O79: draadloze bediening | P79: 0 | Q79: 0 | R79: 0 | S79: 0 | T79: =_xlfn.XMATCH(E79,'NLSfb - PPO'!$B$2:$B$205,0)+1 -> 72 | U79: {=IF(ISNUMBER(Tabel1[[#This Row],[hulpkolom]]),INDIRECT("'NLSfB - PPO'!D"&$T79),"n.v.t.")} -> LBH030-A2 | V79: {=IF(ISNUMBER(Tabel1[[#This Row],[hulpkolom]]),INDIRECT("'NLSfB - PPO'!E"&$T79),"-")} -> 1 | X79: {=IF(ISNUMBER(Tabel1[[#This Row],[hulpkolom]]),INDIRECT("'NLSfB - PPO'!G"&$T79),"-")} -> - | Y79: {=IF(ISNUMBER(Tabel1[[#This Row],[hulpkolom]]),INDIRECT("'NLSfB - PPO'!H"&$T79),"-")} -> - | AA79: {=IF(ISNUMBER(Tabel1[[#This Row],[hulpkolom]]),INDIRECT("'NLSfB - PPO'!J"&$T79),"-")} -> - | AB79: {=IF(ISNUMBER(Tabel1[[#This Row],[hulpkolom]]),INDIRECT("'NLSfB - PPO'!K"&$T79),"-")} -> - | AD79: {=IF(ISNUMBER(Tabel1[[#This Row],[hulpkolom]]),INDIRECT("'NLSfB - PPO'!M"&$T79),"-")} -> - | AE79: {=IF(ISNUMBER(Tabel1[[#This Row],[hulpkolom]]),INDIRECT("'NLSfB - PPO'!L"&$T79),"-")} -> - | AG79: =IF(ISNUMBER(Tabel1[[#This Row],[Frequentie 1]]),Tabel1[[#This Row],[Frequentie 1]]*Tabel1[[#This Row],[Prijs 1]],0) -> 0 | AH79: =IF(ISNUMBER(Tabel1[[#This Row],[Frequentie 2]]),Tabel1[[#This Row],[Frequentie 2]]*Tabel1[[#This Row],[Prijs 2]],0) -> 0 | AI79: =IF(ISNUMBER(Tabel1[[#This Row],[Frequentie 3]]),Tabel1[[#This Row],[Frequentie 3]]*Tabel1[[#This Row],[Prijs 3]],0) -> 0 | AJ79: =IF(ISNUMBER(Tabel1[[#This Row],[Frequentie 4]]),Tabel1[[#This Row],[Frequentie 4]]*Tabel1[[#This Row],[Prijs 4]],0) -> 0 | AK79: =SUM(Tabel1[[#This Row],[Totaal 1]:[Totaal 4]]) -> 0
A80: Gemeentewerf | B80: Kerkhofdijk 6 | C80: Hattem | D80: 1940 m2 | E80: 57.41.40 | F80: luchtbehandeling; distributie, kanalen; centrale ventilatoren | G80: =VLOOKUP(Tabel1[[#This Row],[NLSfB]],NLSfB!A:D,4,1) -> centrale ventilatoren | H80: luchtbehandeling | I80: 1 | J80: 2004 | K80: Stork | L80: CML | M80: 340 m3/h | N80: t.b.v. algemeen | O80: schakelaar bediening | P80: 0 | Q80: 0 | R80: 0 | S80: 0 | T80: =_xlfn.XMATCH(E80,'NLSfb - PPO'!$B$2:$B$205,0)+1 -> 72 | U80: {=IF(ISNUMBER(Tabel1[[#This Row],[hulpkolom]]),INDIRECT("'NLSfB - PPO'!D"&$T80),"n.v.t.")} -> LBH030-A2 | V80: {=IF(ISNUMBER(Tabel1[[#This Row],[hulpkolom]]),INDIRECT("'NLSfB - PPO'!E"&$T80),"-")} -> 1 | X80: {=IF(ISNUMBER(Tabel1[[#This Row],[hulpkolom]]),INDIRECT("'NLSfB - PPO'!G"&$T80),"-")} -> - | Y80: {=IF(ISNUMBER(Tabel1[[#This Row],[hulpkolom]]),INDIRECT("'NLSfB - PPO'!H"&$T80),"-")} -> - | AA80: {=IF(ISNUMBER(Tabel1[[#This Row],[hulpkolom]]),INDIRECT("'NLSfB - PPO'!J"&$T80),"-")} -> - | AB80: {=IF(ISNUMBER(Tabel1[[#This Row],[hulpkolom]]),INDIRECT("'NLSfB - PPO'!K"&$T80),"-")} -> - | AD80: {=IF(ISNUMBER(Tabel1[[#This Row],[hulpkolom]]),INDIRECT("'NLSfB - PPO'!M"&$T80),"-")} -> - | AE80: {=IF(ISNUMBER(Tabel1[[#This Row],[hulpkolom]]),INDIRECT("'NLSfB - PPO'!L"&$T80),"-")} -> - | AG80: =IF(ISNUMBER(Tabel1[[#This Row],[Frequentie 1]]),Tabel1[[#This Row],[Frequentie 1]]*Tabel1[[#This Row],[Prijs 1]],0) -> 0 | AH80: =IF(ISNUMBER(Tabel1[[#This Row],[Frequentie 2]]),Tabel1[[#This Row],[Frequentie 2]]*Tabel1[[#This Row],[Prijs 2]],0) -> 0 | AI80: =IF(ISNUMBER(Tabel1[[#This Row],[Frequentie 3]]),Tabel1[[#This Row],[Frequentie 3]]*Tabel1[[#This Row],[Prijs 3]],0) -> 0 | AJ80: =IF(ISNUMBER(Tabel1[[#This Row],[Frequentie 4]]),Tabel1[[#This Row],[Frequentie 4]]*Tabel1[[#This Row],[Prijs 4]],0) -> 0 | AK80: =SUM(Tabel1[[#This Row],[Totaal 1]:[Totaal 4]]) -> 0
A81: Gemeentewerf | B81: Kerkhofdijk 6 | C81: Hattem | D81: 1940 m2 | E81: 57.51.00 | F81: luchtbehandeling; luchtbehandelingskast, warmteterugwinning | G81: =VLOOKUP(Tabel1[[#This Row],[NLSfB]],NLSfB!A:D,4,1) -> luchtbehandelingskast met warmteterugwinning | H81: luchtbehandeling | I81: 1 | J81: 2004 | K81: Bergschenhoek | L81: WHR 90 LBH | M81: 200 m3/h | N81: niet voorzien van koeling | O81: niet voorzien van bevochtiging | P81: 0 | Q81: 0 | R81: 0 | S81: 0 | T81: =_xlfn.XMATCH(E81,'NLSfb - PPO'!$B$2:$B$205,0)+1 -> 66 | U81: {=IF(ISNUMBER(Tabel1[[#This Row],[hulpkolom]]),INDIRECT("'NLSfB - PPO'!D"&$T81),"n.v.t.")} -> LBH010-A | V81: {=IF(ISNUMBER(Tabel1[[#This Row],[hulpkolom]]),INDIRECT("'NLSfB - PPO'!E"&$T81),"-")} -> 1 | X81: {=IF(ISNUMBER(Tabel1[[#This Row],[hulpkolom]]),INDIRECT("'NLSfB - PPO'!G"&$T81),"-")} -> - | Y81: {=IF(ISNUMBER(Tabel1[[#This Row],[hulpkolom]]),INDIRECT("'NLSfB - PPO'!H"&$T81),"-")} -> - | AA81: {=IF(ISNUMBER(Tabel1[[#This Row],[hulpkolom]]),INDIRECT("'NLSfB - PPO'!J"&$T81),"-")} -> - | AB81: {=IF(ISNUMBER(Tabel1[[#This Row],[hulpkolom]]),INDIRECT("'NLSfB - PPO'!K"&$T81),"-")} -> - | AD81: {=IF(ISNUMBER(Tabel1[[#This Row],[hulpkolom]]),INDIRECT("'NLSfB - PPO'!M"&$T81),"-")} -> - | AE81: {=IF(ISNUMBER(Tabel1[[#This Row],[hulpkolom]]),INDIRECT("'NLSfB - PPO'!L"&$T81),"-")} -> - | AG81: =IF(ISNUMBER(Tabel1[[#This Row],[Frequentie 1]]),Tabel1[[#This Row],[Frequentie 1]]*Tabel1[[#This Row],[Prijs 1]],0) -> 0 | AH81: =IF(ISNUMBER(Tabel1[[#This Row],[Frequentie 2]]),Tabel1[[#This Row],[Frequentie 2]]*Tabel1[[#This Row],[Prijs 2]],0) -> 0 | AI81: =IF(ISNUMBER(Tabel1[[#This Row],[Frequentie 3]]),Tabel1[[#This Row],[Frequentie 3]]*Tabel1[[#This Row],[Prijs 3]],0) -> 0 | AJ81: =IF(ISNUMBER(Tabel1[[#This Row],[Frequentie 4]]),Tabel1[[#This Row],[Frequentie 4]]*Tabel1[[#This Row],[Prijs 4]],0) -> 0 | AK81: =SUM(Tabel1[[#This Row],[Totaal 1]:[Totaal 4]]) -> 0
A82: Gemeentewerf | B82: Kerkhofdijk 6 | C82: Hattem | D82: 1940 m2 | E82: 59.24.00 | F82: brandveiligheid; waterblusinstallatie, brandslanghaspels | G82: =VLOOKUP(Tabel1[[#This Row],[NLSfB]],NLSfB!A:D,4,1) -> brandslanghaspel | H82: brandveiligheid | I82: 1 | J82: 0 | K82: 0 | L82: 0 | M82: vrijhangend | N82: 25 m | O82: 0 | P82: 0 | Q82: 0 | R82: 0 | S82: 0 | T82: =_xlfn.XMATCH(E82,'NLSfb - PPO'!$B$2:$B$205,0)+1 -> 8 | U82: {=IF(ISNUMBER(Tabel1[[#This Row],[hulpkolom]]),INDIRECT("'NLSfB - PPO'!D"&$T82),"n.v.t.")} -> BRND010-A | V82: {=IF(ISNUMBER(Tabel1[[#This Row],[hulpkolom]]),INDIRECT("'NLSfB - PPO'!E"&$T82),"-")} -> 1 | X82: {=IF(ISNUMBER(Tabel1[[#This Row],[hulpkolom]]),INDIRECT("'NLSfB - PPO'!G"&$T82),"-")} -> BRND010-K | Y82: {=IF(ISNUMBER(Tabel1[[#This Row],[hulpkolom]]),INDIRECT("'NLSfB - PPO'!H"&$T82),"-")} -> 0.2 | AA82: {=IF(ISNUMBER(Tabel1[[#This Row],[hulpkolom]]),INDIRECT("'NLSfB - PPO'!J"&$T82),"-")} -> - | AB82: {=IF(ISNUMBER(Tabel1[[#This Row],[hulpkolom]]),INDIRECT("'NLSfB - PPO'!K"&$T82),"-")} -> - | AD82: {=IF(ISNUMBER(Tabel1[[#This Row],[hulpkolom]]),INDIRECT("'NLSfB - PPO'!M"&$T82),"-")} -> - | AE82: {=IF(ISNUMBER(Tabel1[[#This Row],[hulpkolom]]),INDIRECT("'NLSfB - PPO'!L"&$T82),"-")} -> - | AG82: =IF(ISNUMBER(Tabel1[[#This Row],[Frequentie 1]]),Tabel1[[#This Row],[Frequentie 1]]*Tabel1[[#This Row],[Prijs 1]],0) -> 0 | AH82: =IF(ISNUMBER(Tabel1[[#This Row],[Frequentie 2]]),Tabel1[[#This Row],[Frequentie 2]]*Tabel1[[#This Row],[Prijs 2]],0) -> 0 | AI82: =IF(ISNUMBER(Tabel1[[#This Row],[Frequentie 3]]),Tabel1[[#This Row],[Frequentie 3]]*Tabel1[[#This Row],[Prijs 3]],0) -> 0 | AJ82: =IF(ISNUMBER(Tabel1[[#This Row],[Frequentie 4]]),Tabel1[[#This Row],[Frequentie 4]]*Tabel1[[#This Row],[Prijs 4]],0) -> 0 | AK82: =SUM(Tabel1[[#This Row],[Totaal 1]:[Totaal 4]]) -> 0
A83: Gemeentewerf | B83: Kerkhofdijk 6 | C83: Hattem | D83: 1940 m2 | E83: 59.25.00 | F83: brandveiligheid; handblusmiddelen | G83: =VLOOKUP(Tabel1[[#This Row],[NLSfB]],NLSfB!A:D,4,1) -> handblusmiddel | H83: brandveiligheid | I83: 1 | J83: 0 | K83: Ansul | L83: 0 | M83: poeder | N83: 6 kg/L | O83: 0 | P83: 0 | Q83: 0 | R83: 0 | S83: 0 | T83: =_xlfn.XMATCH(E83,'NLSfb - PPO'!$B$2:$B$205,0)+1 -> 10 | U83: {=IF(ISNUMBER(Tabel1[[#This Row],[hulpkolom]]),INDIRECT("'NLSfB - PPO'!D"&$T83),"n.v.t.")} -> BRND030-K | V83: {=IF(ISNUMBER(Tabel1[[#This Row],[hulpkolom]]),INDIRECT("'NLSfB - PPO'!E"&$T83),"-")} -> 0.5 | X83: {=IF(ISNUMBER(Tabel1[[#This Row],[hulpkolom]]),INDIRECT("'NLSfB - PPO'!G"&$T83),"-")} -> - | Y83: {=IF(ISNUMBER(Tabel1[[#This Row],[hulpkolom]]),INDIRECT("'NLSfB - PPO'!H"&$T83),"-")} -> - | AA83: {=IF(ISNUMBER(Tabel1[[#This Row],[hulpkolom]]),INDIRECT("'NLSfB - PPO'!J"&$T83),"-")} -> - | AB83: {=IF(ISNUMBER(Tabel1[[#This Row],[hulpkolom]]),INDIRECT("'NLSfB - PPO'!K"&$T83),"-")} -> - | AD83: {=IF(ISNUMBER(Tabel1[[#This Row],[hulpkolom]]),INDIRECT("'NLSfB - PPO'!M"&$T83),"-")} -> - | AE83: {=IF(ISNUMBER(Tabel1[[#This Row],[hulpkolom]]),INDIRECT("'NLSfB - PPO'!L"&$T83),"-")} -> - | AG83: =IF(ISNUMBER(Tabel1[[#This Row],[Frequentie 1]]),Tabel1[[#This Row],[Frequentie 1]]*Tabel1[[#This Row],[Prijs 1]],0) -> 0 | AH83: =IF(ISNUMBER(Tabel1[[#This Row],[Frequentie 2]]),Tabel1[[#This Row],[Frequentie 2]]*Tabel1[[#This Row],[Prijs 2]],0) -> 0 | AI83: =IF(ISNUMBER(Tabel1[[#This Row],[Frequentie 3]]),Tabel1[[#This Row],[Frequentie 3]]*Tabel1[[#This Row],[Prijs 3]],0) -> 0 | AJ83: =IF(ISNUMBER(Tabel1[[#This Row],[Frequentie 4]]),Tabel1[[#This Row],[Frequentie 4]]*Tabel1[[#This Row],[Prijs 4]],0) -> 0 | AK83: =SUM(Tabel1[[#This Row],[Totaal 1]:[Totaal 4]]) -> 0
A84: Gemeentewerf | B84: Kerkhofdijk 6 | C84: Hattem | D84: 1940 m2 | E84: 59.25.00 | F84: brandveiligheid; handblusmiddelen | G84: =VLOOKUP(Tabel1[[#This Row],[NLSfB]],NLSfB!A:D,4,1) -> handblusmiddel | H84: brandveiligheid | I84: 7 | J84: 0 | K84: Saval | L84: 0 | M84: schuim | N84: 6 kg/L | O84: 0 | P84: 0 | Q84: 0 | R84: 0 | S84: 0 | T84: =_xlfn.XMATCH(E84,'NLSfb - PPO'!$B$2:$B$205,0)+1 -> 10 | U84: {=IF(ISNUMBER(Tabel1[[#This Row],[hulpkolom]]),INDIRECT("'NLSfB - PPO'!D"&$T84),"n.v.t.")} -> BRND030-K | V84: {=IF(ISNUMBER(Tabel1[[#This Row],[hulpkolom]]),INDIRECT("'NLSfB - PPO'!E"&$T84),"-")} -> 0.5 | X84: {=IF(ISNUMBER(Tabel1[[#This Row],[hulpkolom]]),INDIRECT("'NLSfB - PPO'!G"&$T84),"-")} -> - | Y84: {=IF(ISNUMBER(Tabel1[[#This Row],[hulpkolom]]),INDIRECT("'NLSfB - PPO'!H"&$T84),"-")} -> - | AA84: {=IF(ISNUMBER(Tabel1[[#This Row],[hulpkolom]]),INDIRECT("'NLSfB - PPO'!J"&$T84),"-")} -> - | AB84: {=IF(ISNUMBER(Tabel1[[#This Row],[hulpkolom]]),INDIRECT("'NLSfB - PPO'!K"&$T84),"-")} -> - | AD84: {=IF(ISNUMBER(Tabel1[[#This Row],[hulpkolom]]),INDIRECT("'NLSfB - PPO'!M"&$T84),"-")} -> - | AE84: {=IF(ISNUMBER(Tabel1[[#This Row],[hulpkolom]]),INDIRECT("'NLSfB - PPO'!L"&$T84),"-")} -> - | AG84: =IF(ISNUMBER(Tabel1[[#This Row],[Frequentie 1]]),Tabel1[[#This Row],[Frequentie 1]]*Tabel1[[#This Row],[Prijs 1]],0) -> 0 | AH84: =IF(ISNUMBER(Tabel1[[#This Row],[Frequentie 2]]),Tabel1[[#This Row],[Frequentie 2]]*Tabel1[[#This Row],[Prijs 2]],0) -> 0 | AI84: =IF(ISNUMBER(Tabel1[[#This Row],[Frequentie 3]]),Tabel1[[#This Row],[Frequentie 3]]*Tabel1[[#This Row],[Prijs 3]],0) -> 0 | AJ84: =IF(ISNUMBER(Tabel1[[#This Row],[Frequentie 4]]),Tabel1[[#This Row],[Frequentie 4]]*Tabel1[[#This Row],[Prijs 4]],0) -> 0 | AK84: =SUM(Tabel1[[#This Row],[Totaal 1]:[Totaal 4]]) -> 0
A85: Gemeentewerf | B85: Kerkhofdijk 6 | C85: Hattem | D85: 1940 m2 | E85: 61.15.10 | F85: centrale elektrotechnische voorzieningen; energie-opwekking, Photo Voltaic (PV) installatie; cellen | G85: =VLOOKUP(Tabel1[[#This Row],[NLSfB]],NLSfB!A:D,4,1) -> PV cellen | H85: elektra/verlichting | I85: ? | J85: 0 | K85: 0 | L85: 0 | M85: 0 | N85: 0 | O85: 0 | P85: 0 | Q85: 0 | R85: 0 | S85: 0 | T85: =_xlfn.XMATCH(E85,'NLSfb - PPO'!$B$2:$B$205,0)+1 -> 28 | U85: {=IF(ISNUMBER(Tabel1[[#This Row],[hulpkolom]]),INDIRECT("'NLSfB - PPO'!D"&$T85),"n.v.t.")} -> E180-A | V85: {=IF(ISNUMBER(Tabel1[[#This Row],[hulpkolom]]),INDIRECT("'NLSfB - PPO'!E"&$T85),"-")} -> 1 | X85: {=IF(ISNUMBER(Tabel1[[#This Row],[hulpkolom]]),INDIRECT("'NLSfB - PPO'!G"&$T85),"-")} -> - | Y85: {=IF(ISNUMBER(Tabel1[[#This Row],[hulpkolom]]),INDIRECT("'NLSfB - PPO'!H"&$T85),"-")} -> - | AA85: {=IF(ISNUMBER(Tabel1[[#This Row],[hulpkolom]]),INDIRECT("'NLSfB - PPO'!J"&$T85),"-")} -> - | AB85: {=IF(ISNUMBER(Tabel1[[#This Row],[hulpkolom]]),INDIRECT("'NLSfB - PPO'!K"&$T85),"-")} -> - | AD85: {=IF(ISNUMBER(Tabel1[[#This Row],[hulpkolom]]),INDIRECT("'NLSfB - PPO'!M"&$T85),"-")} -> - | AE85: {=IF(ISNUMBER(Tabel1[[#This Row],[hulpkolom]]),INDIRECT("'NLSfB - PPO'!L"&$T85),"-")} -> - | AG85: =IF(ISNUMBER(Tabel1[[#This Row],[Frequentie 1]]),Tabel1[[#This Row],[Frequentie 1]]*Tabel1[[#This Row],[Prijs 1]],0) -> 0 | AH85: =IF(ISNUMBER(Tabel1[[#This Row],[Frequentie 2]]),Tabel1[[#This Row],[Frequentie 2]]*Tabel1[[#This Row],[Prijs 2]],0) -> 0 | AI85: =IF(ISNUMBER(Tabel1[[#This Row],[Frequentie 3]]),Tabel1[[#This Row],[Frequentie 3]]*Tabel1[[#This Row],[Prijs 3]],0) -> 0 | AJ85: =IF(ISNUMBER(Tabel1[[#This Row],[Frequentie 4]]),Tabel1[[#This Row],[Frequentie 4]]*Tabel1[[#This Row],[Prijs 4]],0) -> 0 | AK85: =SUM(Tabel1[[#This Row],[Totaal 1]:[Totaal 4]]) -> 0
A86: Gemeentewerf | B86: Kerkhofdijk 6 | C86: Hattem | D86: 1940 m2 | E86: 61.15.20 | F86: centrale elektrotechnische voorzieningen; energie-opwekking, Photo Voltaic (PV) installatie; omvormer | G86: =VLOOKUP(Tabel1[[#This Row],[NLSfB]],NLSfB!A:D,4,1) -> PV omvormer | H86: elektra/verlichting | I86: 2 | J86: 0 | K86: Solaredge | L86: SE 25 K | M86: 0 | N86: 0 | O86: 0 | P86: 0 | Q86: 0 | R86: 0 | S86: 0 | T86: =_xlfn.XMATCH(E86,'NLSfb - PPO'!$B$2:$B$205,0)+1 -> 29 | U86: {=IF(ISNUMBER(Tabel1[[#This Row],[hulpkolom]]),INDIRECT("'NLSfB - PPO'!D"&$T86),"n.v.t.")} -> E180-A | V86: {=IF(ISNUMBER(Tabel1[[#This Row],[hulpkolom]]),INDIRECT("'NLSfB - PPO'!E"&$T86),"-")} -> 1 | X86: {=IF(ISNUMBER(Tabel1[[#This Row],[hulpkolom]]),INDIRECT("'NLSfB - PPO'!G"&$T86),"-")} -> - | Y86: {=IF(ISNUMBER(Tabel1[[#This Row],[hulpkolom]]),INDIRECT("'NLSfB - PPO'!H"&$T86),"-")} -> - | AA86: {=IF(ISNUMBER(Tabel1[[#This Row],[hulpkolom]]),INDIRECT("'NLSfB - PPO'!J"&$T86),"-")} -> - | AB86: {=IF(ISNUMBER(Tabel1[[#This Row],[hulpkolom]]),INDIRECT("'NLSfB - PPO'!K"&$T86),"-")} -> - | AD86: {=IF(ISNUMBER(Tabel1[[#This Row],[hulpkolom]]),INDIRECT("'NLSfB - PPO'!M"&$T86),"-")} -> - | AE86: {=IF(ISNUMBER(Tabel1[[#This Row],[hulpkolom]]),INDIRECT("'NLSfB - PPO'!L"&$T86),"-")} -> - | AG86: =IF(ISNUMBER(Tabel1[[#This Row],[Frequentie 1]]),Tabel1[[#This Row],[Frequentie 1]]*Tabel1[[#This Row],[Prijs 1]],0) -> 0 | AH86: =IF(ISNUMBER(Tabel1[[#This Row],[Frequentie 2]]),Tabel1[[#This Row],[Frequentie 2]]*Tabel1[[#This Row],[Prijs 2]],0) -> 0 | AI86: =IF(ISNUMBER(Tabel1[[#This Row],[Frequentie 3]]),Tabel1[[#This Row],[Frequentie 3]]*Tabel1[[#This Row],[Prijs 3]],0) -> 0 | AJ86: =IF(ISNUMBER(Tabel1[[#This Row],[Frequentie 4]]),Tabel1[[#This Row],[Frequentie 4]]*Tabel1[[#This Row],[Prijs 4]],0) -> 0 | AK86: =SUM(Tabel1[[#This Row],[Totaal 1]:[Totaal 4]]) -> 0
A87: Gemeentewerf | B87: Kerkhofdijk 6 | C87: Hattem | D87: 1940 m2 | E87: 61.21.10 | F87: centrale elektrotechnische voorzieningen; aarding, beveiliging; veiligheidsaarding | G87: =VLOOKUP(Tabel1[[#This Row],[NLSfB]],NLSfB!A:D,4,1) -> veiligheidsaarding | H87: elektra/verlichting | I87: 1 | J87: 0 | K87: 0 | L87: 0 | M87: 0 | N87: 13 verbindingen aan centraal aardpunt | O87: 0 | P87: 0 | Q87: 0 | R87: 0 | S87: 0 | T87: =_xlfn.XMATCH(E87,'NLSfb - PPO'!$B$2:$B$205,0)+1 -> 24 | U87: {=IF(ISNUMBER(Tabel1[[#This Row],[hulpkolom]]),INDIRECT("'NLSfB - PPO'!D"&$T87),"n.v.t.")} -> E030-A | V87: {=IF(ISNUMBER(Tabel1[[#This Row],[hulpkolom]]),INDIRECT("'NLSfB - PPO'!E"&$T87),"-")} -> 0.2 | X87: {=IF(ISNUMBER(Tabel1[[#This Row],[hulpkolom]]),INDIRECT("'NLSfB - PPO'!G"&$T87),"-")} -> E170-A | Y87: {=IF(ISNUMBER(Tabel1[[#This Row],[hulpkolom]]),INDIRECT("'NLSfB - PPO'!H"&$T87),"-")} -> 1 | AA87: {=IF(ISNUMBER(Tabel1[[#This Row],[hulpkolom]]),INDIRECT("'NLSfB - PPO'!J"&$T87),"-")} -> - | AB87: {=IF(ISNUMBER(Tabel1[[#This Row],[hulpkolom]]),INDIRECT("'NLSfB - PPO'!K"&$T87),"-")} -> - | AD87: {=IF(ISNUMBER(Tabel1[[#This Row],[hulpkolom]]),INDIRECT("'NLSfB - PPO'!M"&$T87),"-")} -> - | AE87: {=IF(ISNUMBER(Tabel1[[#This Row],[hulpkolom]]),INDIRECT("'NLSfB - PPO'!L"&$T87),"-")} -> - | AG87: =IF(ISNUMBER(Tabel1[[#This Row],[Frequentie 1]]),Tabel1[[#This Row],[Frequentie 1]]*Tabel1[[#This Row],[Prijs 1]],0) -> 0 | AH87: =IF(ISNUMBER(Tabel1[[#This Row],[Frequentie 2]]),Tabel1[[#This Row],[Frequentie 2]]*Tabel1[[#This Row],[Prijs 2]],0) -> 0 | AI87: =IF(ISNUMBER(Tabel1[[#This Row],[Frequentie 3]]),Tabel1[[#This Row],[Frequentie 3]]*Tabel1[[#This Row],[Prijs 3]],0) -> 0 | AJ87: =IF(ISNUMBER(Tabel1[[#This Row],[Frequentie 4]]),Tabel1[[#This Row],[Frequentie 4]]*Tabel1[[#This Row],[Prijs 4]],0) -> 0 | AK87: =SUM(Tabel1[[#This Row],[Totaal 1]:[Totaal 4]]) -> 0
A88: Gemeentewerf | B88: Kerkhofdijk 6 | C88: Hattem | D88: 1940 m2 | E88: 61.21.20 | F88: centrale elektrotechnische voorzieningen; aarding, beveiliging; overspanningsbeveiliging | G88: =VLOOKUP(Tabel1[[#This Row],[NLSfB]],NLSfB!A:D,4,1) -> overspanningsbeveiliging | H88: elektra/verlichting | I88: 1 | J88: 0 | K88: OBO | L88: Valvetrap 350 | M88: 0 | N88: 0 | O88: 0 | P88: 0 | Q88: 0 | R88: 0 | S88: 0 | T88: =_xlfn.XMATCH(E88,'NLSfb - PPO'!$B$2:$B$205,0)+1 -> 27 | U88: {=IF(ISNUMBER(Tabel1[[#This Row],[hulpkolom]]),INDIRECT("'NLSfB - PPO'!D"&$T88),"n.v.t.")} -> E140-A | V88: {=IF(ISNUMBER(Tabel1[[#This Row],[hulpkolom]]),INDIRECT("'NLSfB - PPO'!E"&$T88),"-")} -> 1 | X88: {=IF(ISNUMBER(Tabel1[[#This Row],[hulpkolom]]),INDIRECT("'NLSfB - PPO'!G"&$T88),"-")} -> - | Y88: {=IF(ISNUMBER(Tabel1[[#This Row],[hulpkolom]]),INDIRECT("'NLSfB - PPO'!H"&$T88),"-")} -> - | AA88: {=IF(ISNUMBER(Tabel1[[#This Row],[hulpkolom]]),INDIRECT("'NLSfB - PPO'!J"&$T88),"-")} -> - | AB88: {=IF(ISNUMBER(Tabel1[[#This Row],[hulpkolom]]),INDIRECT("'NLSfB - PPO'!K"&$T88),"-")} -> - | AD88: {=IF(ISNUMBER(Tabel1[[#This Row],[hulpkolom]]),INDIRECT("'NLSfB - PPO'!M"&$T88),"-")} -> - | AE88: {=IF(ISNUMBER(Tabel1[[#This Row],[hulpkolom]]),INDIRECT("'NLSfB - PPO'!L"&$T88),"-")} -> - | AG88: =IF(ISNUMBER(Tabel1[[#This Row],[Frequentie 1]]),Tabel1[[#This Row],[Frequentie 1]]*Tabel1[[#This Row],[Prijs 1]],0) -> 0 | AH88: =IF(ISNUMBER(Tabel1[[#This Row],[Frequentie 2]]),Tabel1[[#This Row],[Frequentie 2]]*Tabel1[[#This Row],[Prijs 2]],0) -> 0 | AI88: =IF(ISNUMBER(Tabel1[[#This Row],[Frequentie 3]]),Tabel1[[#This Row],[Frequentie 3]]*Tabel1[[#This Row],[Prijs 3]],0) -> 0 | AJ88: =IF(ISNUMBER(Tabel1[[#This Row],[Frequentie 4]]),Tabel1[[#This Row],[Frequentie 4]]*Tabel1[[#This Row],[Prijs 4]],0) -> 0 | AK88: =SUM(Tabel1[[#This Row],[Totaal 1]:[Totaal 4]]) -> 0
A89: Gemeentewerf | B89: Kerkhofdijk 6 | C89: Hattem | D89: 1940 m2 | E89: 61.52.00 | F89: centrale elektrotechnische voorzieningen; energiedistributie laagspanning ≤1kV, laagspanningshoofdverdeler | G89: =VLOOKUP(Tabel1[[#This Row],[NLSfB]],NLSfB!A:D,4,1) -> laagspanningshoofdverdeler | H89: elektra/verlichting | I89: 1 | J89: 0 | K89: Els | L89: 0 | M89: Inom 63-250A | N89: 0 groepen licht | O89: 2 groepen krachtstroom | P89: 0 groepen achter aardlekschakelaar | Q89: overspanningsbeveiliging aanwezig | R89: PV verdeler met eigen netaansluiting | S89: 0 | T89: =_xlfn.XMATCH(E89,'NLSfb - PPO'!$B$2:$B$205,0)+1 -> 25 | U89: {=IF(ISNUMBER(Tabel1[[#This Row],[hulpkolom]]),INDIRECT("'NLSfB - PPO'!D"&$T89),"n.v.t.")} -> E030-A | V89: {=IF(ISNUMBER(Tabel1[[#This Row],[hulpkolom]]),INDIRECT("'NLSfB - PPO'!E"&$T89),"-")} -> 0.2 | X89: {=IF(ISNUMBER(Tabel1[[#This Row],[hulpkolom]]),INDIRECT("'NLSfB - PPO'!G"&$T89),"-")} -> E160-A | Y89: {=IF(ISNUMBER(Tabel1[[#This Row],[hulpkolom]]),INDIRECT("'NLSfB - PPO'!H"&$T89),"-")} -> 1 | AA89: {=IF(ISNUMBER(Tabel1[[#This Row],[hulpkolom]]),INDIRECT("'NLSfB - PPO'!J"&$T89),"-")} -> E170-A | AB89: {=IF(ISNUMBER(Tabel1[[#This Row],[hulpkolom]]),INDIRECT("'NLSfB - PPO'!K"&$T89),"-")} -> 1 | AD89: {=IF(ISNUMBER(Tabel1[[#This Row],[hulpkolom]]),INDIRECT("'NLSfB - PPO'!M"&$T89),"-")} -> - | AE89: {=IF(ISNUMBER(Tabel1[[#This Row],[hulpkolom]]),INDIRECT("'NLSfB - PPO'!L"&$T89),"-")} -> - | AG89: =IF(ISNUMBER(Tabel1[[#This Row],[Frequentie 1]]),Tabel1[[#This Row],[Frequentie 1]]*Tabel1[[#This Row],[Prijs 1]],0) -> 0 | AH89: =IF(ISNUMBER(Tabel1[[#This Row],[Frequentie 2]]),Tabel1[[#This Row],[Frequentie 2]]*Tabel1[[#This Row],[Prijs 2]],0) -> 0 | AI89: =IF(ISNUMBER(Tabel1[[#This Row],[Frequentie 3]]),Tabel1[[#This Row],[Frequentie 3]]*Tabel1[[#This Row],[Prijs 3]],0) -> 0 | AJ89: =IF(ISNUMBER(Tabel1[[#This Row],[Frequentie 4]]),Tabel1[[#This Row],[Frequentie 4]]*Tabel1[[#This Row],[Prijs 4]],0) -> 0 | AK89: =SUM(Tabel1[[#This Row],[Totaal 1]:[Totaal 4]]) -> 0
A90: Gemeentewerf | B90: Kerkhofdijk 6 | C90: Hattem | D90: 1940 m2 | E90: 61.52.00 | F90: centrale elektrotechnische voorzieningen; energiedistributie laagspanning ≤1kV, laagspanningshoofdverdeler | G90: =VLOOKUP(Tabel1[[#This Row],[NLSfB]],NLSfB!A:D,4,1) -> laagspanningshoofdverdeler | H90: elektra/verlichting | I90: 1 | J90: 0 | K90: Eaton | L90: systeem 55 | M90: Inom < 63A | N90: 11 groepen licht | O90: 4 groepen krachtstroom | P90: 13 groepen achter aardlekschakelaar | Q90: overspanningsbeveiliging aanwezig | R90: 0 | S90: 0 | T90: =_xlfn.XMATCH(E90,'NLSfb - PPO'!$B$2:$B$205,0)+1 -> 25 | U90: {=IF(ISNUMBER(Tabel1[[#This Row],[hulpkolom]]),INDIRECT("'NLSfB - PPO'!D"&$T90),"n.v.t.")} -> E030-A | V90: {=IF(ISNUMBER(Tabel1[[#This Row],[hulpkolom]]),INDIRECT("'NLSfB - PPO'!E"&$T90),"-")} -> 0.2 | X90: {=IF(ISNUMBER(Tabel1[[#This Row],[hulpkolom]]),INDIRECT("'NLSfB - PPO'!G"&$T90),"-")} -> E160-A | Y90: {=IF(ISNUMBER(Tabel1[[#This Row],[hulpkolom]]),INDIRECT("'NLSfB - PPO'!H"&$T90),"-")} -> 1 | AA90: {=IF(ISNUMBER(Tabel1[[#This Row],[hulpkolom]]),INDIRECT("'NLSfB - PPO'!J"&$T90),"-")} -> E170-A | AB90: {=IF(ISNUMBER(Tabel1[[#This Row],[hulpkolom]]),INDIRECT("'NLSfB - PPO'!K"&$T90),"-")} -> 1 | AD90: {=IF(ISNUMBER(Tabel1[[#This Row],[hulpkolom]]),INDIRECT("'NLSfB - PPO'!M"&$T90),"-")} -> - | AE90: {=IF(ISNUMBER(Tabel1[[#This Row],[hulpkolom]]),INDIRECT("'NLSfB - PPO'!L"&$T90),"-")} -> - | AG90: =IF(ISNUMBER(Tabel1[[#This Row],[Frequentie 1]]),Tabel1[[#This Row],[Frequentie 1]]*Tabel1[[#This Row],[Prijs 1]],0) -> 0 | AH90: =IF(ISNUMBER(Tabel1[[#This Row],[Frequentie 2]]),Tabel1[[#This Row],[Frequentie 2]]*Tabel1[[#This Row],[Prijs 2]],0) -> 0 | AI90: =IF(ISNUMBER(Tabel1[[#This Row],[Frequentie 3]]),Tabel1[[#This Row],[Frequentie 3]]*Tabel1[[#This Row],[Prijs 3]],0) -> 0 | AJ90: =IF(ISNUMBER(Tabel1[[#This Row],[Frequentie 4]]),Tabel1[[#This Row],[Frequentie 4]]*Tabel1[[#This Row],[Prijs 4]],0) -> 0 | AK90: =SUM(Tabel1[[#This Row],[Totaal 1]:[Totaal 4]]) -> 0
A91: Gemeentewerf | B91: Kerkhofdijk 6 | C91: Hattem | D91: 1940 m2 | E91: 61.52.00 | F91: centrale elektrotechnische voorzieningen; energiedistributie laagspanning ≤1kV, laagspanningshoofdverdeler | G91: =VLOOKUP(Tabel1[[#This Row],[NLSfB]],NLSfB!A:D,4,1) -> laagspanningshoofdverdeler | H91: elektra/verlichting | I91: 1 | J91: 0 | K91: Hager | L91: 0 | M91: Inom < 63A | N91: 8 groepen licht | O91: 8 groepen krachtstroom | P91: 16 groepen achter aardlekschakelaar | Q91: geen overspanningsbeveiliging aanwezig | R91: 4 relais lichtsturing | S91: 0 | T91: =_xlfn.XMATCH(E91,'NLSfb - PPO'!$B$2:$B$205,0)+1 -> 25 | U91: {=IF(ISNUMBER(Tabel1[[#This Row],[hulpkolom]]),INDIRECT("'NLSfB - PPO'!D"&$T91),"n.v.t.")} -> E030-A | V91: {=IF(ISNUMBER(Tabel1[[#This Row],[hulpkolom]]),INDIRECT("'NLSfB - PPO'!E"&$T91),"-")} -> 0.2 | X91: {=IF(ISNUMBER(Tabel1[[#This Row],[hulpkolom]]),INDIRECT("'NLSfB - PPO'!G"&$T91),"-")} -> E160-A | Y91: {=IF(ISNUMBER(Tabel1[[#This Row],[hulpkolom]]),INDIRECT("'NLSfB - PPO'!H"&$T91),"-")} -> 1 | AA91: {=IF(ISNUMBER(Tabel1[[#This Row],[hulpkolom]]),INDIRECT("'NLSfB - PPO'!J"&$T91),"-")} -> E170-A | AB91: {=IF(ISNUMBER(Tabel1[[#This Row],[hulpkolom]]),INDIRECT("'NLSfB - PPO'!K"&$T91),"-")} -> 1 | AD91: {=IF(ISNUMBER(Tabel1[[#This Row],[hulpkolom]]),INDIRECT("'NLSfB - PPO'!M"&$T91),"-")} -> - | AE91: {=IF(ISNUMBER(Tabel1[[#This Row],[hulpkolom]]),INDIRECT("'NLSfB - PPO'!L"&$T91),"-")} -> - | AG91: =IF(ISNUMBER(Tabel1[[#This Row],[Frequentie 1]]),Tabel1[[#This Row],[Frequentie 1]]*Tabel1[[#This Row],[Prijs 1]],0) -> 0 | AH91: =IF(ISNUMBER(Tabel1[[#This Row],[Frequentie 2]]),Tabel1[[#This Row],[Frequentie 2]]*Tabel1[[#This Row],[Prijs 2]],0) -> 0 | AI91: =IF(ISNUMBER(Tabel1[[#This Row],[Frequentie 3]]),Tabel1[[#This Row],[Frequentie 3]]*Tabel1[[#This Row],[Prijs 3]],0) -> 0 | AJ91: =IF(ISNUMBER(Tabel1[[#This Row],[Frequentie 4]]),Tabel1[[#This Row],[Frequentie 4]]*Tabel1[[#This Row],[Prijs 4]],0) -> 0 | AK91: =SUM(Tabel1[[#This Row],[Totaal 1]:[Totaal 4]]) -> 0
A92: Gemeentewerf | B92: Kerkhofdijk 6 | C92: Hattem | D92: 1940 m2 | E92: 61.52.00 | F92: centrale elektrotechnische voorzieningen; energiedistributie laagspanning ≤1kV, laagspanningshoofdverdeler | G92: =VLOOKUP(Tabel1[[#This Row],[NLSfB]],NLSfB!A:D,4,1) -> laagspanningshoofdverdeler | H92: elektra/verlichting | I92: 1 | J92: 0 | K92: Els | L92: 0 | M92: Inom < 63A | N92: 4 groepen licht | O92: 0 groepen krachtstroom | P92: 3 groepen achter aardlekschakelaar | Q92: geen overspanningsbeveiliging aanwezig | R92: 0 relais lichtsturing | S92: 0 | T92: =_xlfn.XMATCH(E92,'NLSfb - PPO'!$B$2:$B$205,0)+1 -> 25 | U92: {=IF(ISNUMBER(Tabel1[[#This Row],[hulpkolom]]),INDIRECT("'NLSfB - PPO'!D"&$T92),"n.v.t.")} -> E030-A | V92: {=IF(ISNUMBER(Tabel1[[#This Row],[hulpkolom]]),INDIRECT("'NLSfB - PPO'!E"&$T92),"-")} -> 0.2 | X92: {=IF(ISNUMBER(Tabel1[[#This Row],[hulpkolom]]),INDIRECT("'NLSfB - PPO'!G"&$T92),"-")} -> E160-A | Y92: {=IF(ISNUMBER(Tabel1[[#This Row],[hulpkolom]]),INDIRECT("'NLSfB - PPO'!H"&$T92),"-")} -> 1 | AA92: {=IF(ISNUMBER(Tabel1[[#This Row],[hulpkolom]]),INDIRECT("'NLSfB - PPO'!J"&$T92),"-")} -> E170-A | AB92: {=IF(ISNUMBER(Tabel1[[#This Row],[hulpkolom]]),INDIRECT("'NLSfB - PPO'!K"&$T92),"-")} -> 1 | AD92: {=IF(ISNUMBER(Tabel1[[#This Row],[hulpkolom]]),INDIRECT("'NLSfB - PPO'!M"&$T92),"-")} -> - | AE92: {=IF(ISNUMBER(Tabel1[[#This Row],[hulpkolom]]),INDIRECT("'NLSfB - PPO'!L"&$T92),"-")} -> - | AG92: =IF(ISNUMBER(Tabel1[[#This Row],[Frequentie 1]]),Tabel1[[#This Row],[Frequentie 1]]*Tabel1[[#This Row],[Prijs 1]],0) -> 0 | AH92: =IF(ISNUMBER(Tabel1[[#This Row],[Frequentie 2]]),Tabel1[[#This Row],[Frequentie 2]]*Tabel1[[#This Row],[Prijs 2]],0) -> 0 | AI92: =IF(ISNUMBER(Tabel1[[#This Row],[Frequentie 3]]),Tabel1[[#This Row],[Frequentie 3]]*Tabel1[[#This Row],[Prijs 3]],0) -> 0 | AJ92: =IF(ISNUMBER(Tabel1[[#This Row],[Frequentie 4]]),Tabel1[[#This Row],[Frequentie 4]]*Tabel1[[#This Row],[Prijs 4]],0) -> 0 | AK92: =SUM(Tabel1[[#This Row],[Totaal 1]:[Totaal 4]]) -> 0
A93: Gemeentewerf | B93: Kerkhofdijk 6 | C93: Hattem | D93: 1940 m2 | E93: 61.52.00 | F93: centrale elektrotechnische voorzieningen; energiedistributie laagspanning ≤1kV, laagspanningshoofdverdeler | G93: =VLOOKUP(Tabel1[[#This Row],[NLSfB]],NLSfB!A:D,4,1) -> laagspanningshoofdverdeler | H93: elektra/verlichting | I93: 1 | J93: 0 | K93: Eaton | L93: systeem 55 | M93: Inom < 63A | N93: 6 groepen licht | O93: 3 groepen krachtstroom | P93: 8 groepen achter aardlekschakelaar | Q93: geen overspanningsbeveiliging aanwezig | R93: 0 relais lichtsturing | S93: 0 | T93: =_xlfn.XMATCH(E93,'NLSfb - PPO'!$B$2:$B$205,0)+1 -> 25 | U93: {=IF(ISNUMBER(Tabel1[[#This Row],[hulpkolom]]),INDIRECT("'NLSfB - PPO'!D"&$T93),"n.v.t.")} -> E030-A | V93: {=IF(ISNUMBER(Tabel1[[#This Row],[hulpkolom]]),INDIRECT("'NLSfB - PPO'!E"&$T93),"-")} -> 0.2 | X93: {=IF(ISNUMBER(Tabel1[[#This Row],[hulpkolom]]),INDIRECT("'NLSfB - PPO'!G"&$T93),"-")} -> E160-A | Y93: {=IF(ISNUMBER(Tabel1[[#This Row],[hulpkolom]]),INDIRECT("'NLSfB - PPO'!H"&$T93),"-")} -> 1 | AA93: {=IF(ISNUMBER(Tabel1[[#This Row],[hulpkolom]]),INDIRECT("'NLSfB - PPO'!J"&$T93),"-")} -> E170-A | AB93: {=IF(ISNUMBER(Tabel1[[#This Row],[hulpkolom]]),INDIRECT("'NLSfB - PPO'!K"&$T93),"-")} -> 1 | AD93: {=IF(ISNUMBER(Tabel1[[#This Row],[hulpkolom]]),INDIRECT("'NLSfB - PPO'!M"&$T93),"-")} -> - | AE93: {=IF(ISNUMBER(Tabel1[[#This Row],[hulpkolom]]),INDIRECT("'NLSfB - PPO'!L"&$T93),"-")} -> - | AG93: =IF(ISNUMBER(Tabel1[[#This Row],[Frequentie 1]]),Tabel1[[#This Row],[Frequentie 1]]*Tabel1[[#This Row],[Prijs 1]],0) -> 0 | AH93: =IF(ISNUMBER(Tabel1[[#This Row],[Frequentie 2]]),Tabel1[[#This Row],[Frequentie 2]]*Tabel1[[#This Row],[Prijs 2]],0) -> 0 | AI93: =IF(ISNUMBER(Tabel1[[#This Row],[Frequentie 3]]),Tabel1[[#This Row],[Frequentie 3]]*Tabel1[[#This Row],[Prijs 3]],0) -> 0 | AJ93: =IF(ISNUMBER(Tabel1[[#This Row],[Frequentie 4]]),Tabel1[[#This Row],[Frequentie 4]]*Tabel1[[#This Row],[Prijs 4]],0) -> 0 | AK93: =SUM(Tabel1[[#This Row],[Totaal 1]:[Totaal 4]]) -> 0
A94: Gemeentewerf | B94: Kerkhofdijk 6 | C94: Hattem | D94: 1940 m2 | E94: 63.21.00 | F94: verlichting; verlichting standaard armaturen, armaturen | G94: =VLOOKUP(Tabel1[[#This Row],[NLSfB]],NLSfB!A:D,4,1) -> verlichtingsarmaturen | H94: elektra/verlichting | I94: 12 | J94: 0 | K94: Philips | L94: 0 | M94: 2 lichtbronnen per armatuur | N94: 36 W | O94: trog armatuur | P94: 0 | Q94: 0 | R94: 0 | S94: 0 | T94: =_xlfn.XMATCH(E94,'NLSfb - PPO'!$B$2:$B$205,0)+1 -> 79 | U94: {=IF(ISNUMBER(Tabel1[[#This Row],[hulpkolom]]),INDIRECT("'NLSfB - PPO'!D"&$T94),"n.v.t.")} -> LCHT010-A | V94: {=IF(ISNUMBER(Tabel1[[#This Row],[hulpkolom]]),INDIRECT("'NLSfB - PPO'!E"&$T94),"-")} -> 1 | X94: {=IF(ISNUMBER(Tabel1[[#This Row],[hulpkolom]]),INDIRECT("'NLSfB - PPO'!G"&$T94),"-")} -> - | Y94: {=IF(ISNUMBER(Tabel1[[#This Row],[hulpkolom]]),INDIRECT("'NLSfB - PPO'!H"&$T94),"-")} -> - | AA94: {=IF(ISNUMBER(Tabel1[[#This Row],[hulpkolom]]),INDIRECT("'NLSfB - PPO'!J"&$T94),"-")} -> - | AB94: {=IF(ISNUMBER(Tabel1[[#This Row],[hulpkolom]]),INDIRECT("'NLSfB - PPO'!K"&$T94),"-")} -> - | AD94: {=IF(ISNUMBER(Tabel1[[#This Row],[hulpkolom]]),INDIRECT("'NLSfB - PPO'!M"&$T94),"-")} -> - | AE94: {=IF(ISNUMBER(Tabel1[[#This Row],[hulpkolom]]),INDIRECT("'NLSfB - PPO'!L"&$T94),"-")} -> - | AG94: =IF(ISNUMBER(Tabel1[[#This Row],[Frequentie 1]]),Tabel1[[#This Row],[Frequentie 1]]*Tabel1[[#This Row],[Prijs 1]],0) -> 0 | AH94: =IF(ISNUMBER(Tabel1[[#This Row],[Frequentie 2]]),Tabel1[[#This Row],[Frequentie 2]]*Tabel1[[#This Row],[Prijs 2]],0) -> 0 | AI94: =IF(ISNUMBER(Tabel1[[#This Row],[Frequentie 3]]),Tabel1[[#This Row],[Frequentie 3]]*Tabel1[[#This Row],[Prijs 3]],0) -> 0 | AJ94: =IF(ISNUMBER(Tabel1[[#This Row],[Frequentie 4]]),Tabel1[[#This Row],[Frequentie 4]]*Tabel1[[#This Row],[Prijs 4]],0) -> 0 | AK94: =SUM(Tabel1[[#This Row],[Totaal 1]:[Totaal 4]]) -> 0
A95: Gemeentewerf | B95: Kerkhofdijk 6 | C95: Hattem | D95: 1940 m2 | E95: 63.21.00 | F95: verlichting; verlichting standaard armaturen, armaturen | G95: =VLOOKUP(Tabel1[[#This Row],[NLSfB]],NLSfB!A:D,4,1) -> verlichtingsarmaturen | H95: elektra/verlichting | I95: 26 | J95: 0 | K95: Norton | L95: 0 | M95: 1 lichtbronnen per armatuur | N95: 58 W | O95: waterdicht armatuur | P95: 0 | Q95: 0 | R95: 0 | S95: 0 | T95: =_xlfn.XMATCH(E95,'NLSfb - PPO'!$B$2:$B$205,0)+1 -> 79 | U95: {=IF(ISNUMBER(Tabel1[[#This Row],[hulpkolom]]),INDIRECT("'NLSfB - PPO'!D"&$T95),"n.v.t.")} -> LCHT010-A | V95: {=IF(ISNUMBER(Tabel1[[#This Row],[hulpkolom]]),INDIRECT("'NLSfB - PPO'!E"&$T95),"-")} -> 1 | X95: {=IF(ISNUMBER(Tabel1[[#This Row],[hulpkolom]]),INDIRECT("'NLSfB - PPO'!G"&$T95),"-")} -> - | Y95: {=IF(ISNUMBER(Tabel1[[#This Row],[hulpkolom]]),INDIRECT("'NLSfB - PPO'!H"&$T95),"-")} -> - | AA95: {=IF(ISNUMBER(Tabel1[[#This Row],[hulpkolom]]),INDIRECT("'NLSfB - PPO'!J"&$T95),"-")} -> - | AB95: {=IF(ISNUMBER(Tabel1[[#This Row],[hulpkolom]]),INDIRECT("'NLSfB - PPO'!K"&$T95),"-")} -> - | AD95: {=IF(ISNUMBER(Tabel1[[#This Row],[hulpkolom]]),INDIRECT("'NLSfB - PPO'!M"&$T95),"-")} -> - | AE95: {=IF(ISNUMBER(Tabel1[[#This Row],[hulpkolom]]),INDIRECT("'NLSfB - PPO'!L"&$T95),"-")} -> - | AG95: =IF(ISNUMBER(Tabel1[[#This Row],[Frequentie 1]]),Tabel1[[#This Row],[Frequentie 1]]*Tabel1[[#This Row],[Prijs 1]],0) -> 0 | AH95: =IF(ISNUMBER(Tabel1[[#This Row],[Frequentie 2]]),Tabel1[[#This Row],[Frequentie 2]]*Tabel1[[#This Row],[Prijs 2]],0) -> 0 | AI95: =IF(ISNUMBER(Tabel1[[#This Row],[Frequentie 3]]),Tabel1[[#This Row],[Frequentie 3]]*Tabel1[[#This Row],[Prijs 3]],0) -> 0 | AJ95: =IF(ISNUMBER(Tabel1[[#This Row],[Frequentie 4]]),Tabel1[[#This Row],[Frequentie 4]]*Tabel1[[#This Row],[Prijs 4]],0) -> 0 | AK95: =SUM(Tabel1[[#This Row],[Totaal 1]:[Totaal 4]]) -> 0
A96: Gemeentewerf | B96: Kerkhofdijk 6 | C96: Hattem | D96: 1940 m2 | E96: 63.21.00 | F96: verlichting; verlichting standaard armaturen, armaturen | G96: =VLOOKUP(Tabel1[[#This Row],[NLSfB]],NLSfB!A:D,4,1) -> verlichtingsarmaturen | H96: elektra/verlichting | I96: 14 | J96: 0 | K96: Megmann | L96: 0 | M96: 1 lichtbronnen per armatuur | N96: W | O96: 0 | P96: 0 | Q96: 0 | R96: 0 | S96: 0 | T96: =_xlfn.XMATCH(E96,'NLSfb - PPO'!$B$2:$B$205,0)+1 -> 79 | U96: {=IF(ISNUMBER(Tabel1[[#This Row],[hulpkolom]]),INDIRECT("'NLSfB - PPO'!D"&$T96),"n.v.t.")} -> LCHT010-A | V96: {=IF(ISNUMBER(Tabel1[[#This Row],[hulpkolom]]),INDIRECT("'NLSfB - PPO'!E"&$T96),"-")} -> 1 | X96: {=IF(ISNUMBER(Tabel1[[#This Row],[hulpkolom]]),INDIRECT("'NLSfB - PPO'!G"&$T96),"-")} -> - | Y96: {=IF(ISNUMBER(Tabel1[[#This Row],[hulpkolom]]),INDIRECT("'NLSfB - PPO'!H"&$T96),"-")} -> - | AA96: {=IF(ISNUMBER(Tabel1[[#This Row],[hulpkolom]]),INDIRECT("'NLSfB - PPO'!J"&$T96),"-")} -> - | AB96: {=IF(ISNUMBER(Tabel1[[#This Row],[hulpkolom]]),INDIRECT("'NLSfB - PPO'!K"&$T96),"-")} -> - | AD96: {=IF(ISNUMBER(Tabel1[[#This Row],[hulpkolom]]),INDIRECT("'NLSfB - PPO'!M"&$T96),"-")} -> - | AE96: {=IF(ISNUMBER(Tabel1[[#This Row],[hulpkolom]]),INDIRECT("'NLSfB - PPO'!L"&$T96),"-")} -> - | AG96: =IF(ISNUMBER(Tabel1[[#This Row],[Frequentie 1]]),Tabel1[[#This Row],[Frequentie 1]]*Tabel1[[#This Row],[Prijs 1]],0) -> 0 | AH96: =IF(ISNUMBER(Tabel1[[#This Row],[Frequentie 2]]),Tabel1[[#This Row],[Frequentie 2]]*Tabel1[[#This Row],[Prijs 2]],0) -> 0 | AI96: =IF(ISNUMBER(Tabel1[[#This Row],[Frequentie 3]]),Tabel1[[#This Row],[Frequentie 3]]*Tabel1[[#This Row],[Prijs 3]],0) -> 0 | AJ96: =IF(ISNUMBER(Tabel1[[#This Row],[Frequentie 4]]),Tabel1[[#This Row],[Frequentie 4]]*Tabel1[[#This Row],[Prijs 4]],0) -> 0 | AK96: =SUM(Tabel1[[#This Row],[Totaal 1]:[Totaal 4]]) -> 0
A97: Gemeentewerf | B97: Kerkhofdijk 6 | C97: Hattem | D97: 1940 m2 | E97: 63.21.00 | F97: verlichting; verlichting standaard armaturen, armaturen | G97: =VLOOKUP(Tabel1[[#This Row],[NLSfB]],NLSfB!A:D,4,1) -> verlichtingsarmaturen | H97: elektra/verlichting | I97: 1 | J97: 0 | K97: 0 | L97: 0 | M97: halogeen | N97: 1 lichtbronnen per armatuur | O97: 500 W | P97: opbouw armatuur waterdicht | Q97: 0 | R97: 0 | S97: 0 | T97: =_xlfn.XMATCH(E97,'NLSfb - PPO'!$B$2:$B$205,0)+1 -> 79 | U97: {=IF(ISNUMBER(Tabel1[[#This Row],[hulpkolom]]),INDIRECT("'NLSfB - PPO'!D"&$T97),"n.v.t.")} -> LCHT010-A | V97: {=IF(ISNUMBER(Tabel1[[#This Row],[hulpkolom]]),INDIRECT("'NLSfB - PPO'!E"&$T97),"-")} -> 1 | X97: {=IF(ISNUMBER(Tabel1[[#This Row],[hulpkolom]]),INDIRECT("'NLSfB - PPO'!G"&$T97),"-")} -> - | Y97: {=IF(ISNUMBER(Tabel1[[#This Row],[hulpkolom]]),INDIRECT("'NLSfB - PPO'!H"&$T97),"-")} -> - | AA97: {=IF(ISNUMBER(Tabel1[[#This Row],[hulpkolom]]),INDIRECT("'NLSfB - PPO'!J"&$T97),"-")} -> - | AB97: {=IF(ISNUMBER(Tabel1[[#This Row],[hulpkolom]]),INDIRECT("'NLSfB - PPO'!K"&$T97),"-")} -> - | AD97: {=IF(ISNUMBER(Tabel1[[#This Row],[hulpkolom]]),INDIRECT("'NLSfB - PPO'!M"&$T97),"-")} -> - | AE97: {=IF(ISNUMBER(Tabel1[[#This Row],[hulpkolom]]),INDIRECT("'NLSfB - PPO'!L"&$T97),"-")} -> - | AG97: =IF(ISNUMBER(Tabel1[[#This Row],[Frequentie 1]]),Tabel1[[#This Row],[Frequentie 1]]*Tabel1[[#This Row],[Prijs 1]],0) -> 0 | AH97: =IF(ISNUMBER(Tabel1[[#This Row],[Frequentie 2]]),Tabel1[[#This Row],[Frequentie 2]]*Tabel1[[#This Row],[Prijs 2]],0) -> 0 | AI97: =IF(ISNUMBER(Tabel1[[#This Row],[Frequentie 3]]),Tabel1[[#This Row],[Frequentie 3]]*Tabel1[[#This Row],[Prijs 3]],0) -> 0 | AJ97: =IF(ISNUMBER(Tabel1[[#This Row],[Frequentie 4]]),Tabel1[[#This Row],[Frequentie 4]]*Tabel1[[#This Row],[Prijs 4]],0) -> 0 | AK97: =SUM(Tabel1[[#This Row],[Totaal 1]:[Totaal 4]]) -> 0
A98: Gemeentewerf | B98: Kerkhofdijk 6 | C98: Hattem | D98: 1940 m2 | E98: 63.21.00 | F98: verlichting; verlichting standaard armaturen, armaturen | G98: =VLOOKUP(Tabel1[[#This Row],[NLSfB]],NLSfB!A:D,4,1) -> verlichtingsarmaturen | H98: elektra/verlichting | I98: 6 | J98: 0 | K98: 0 | L98: 0 | M98: LED | N98: 1 lichtbronnen per armatuur | O98: W | P98: opbouw armatuur waterdicht | Q98: 0 | R98: 0 | S98: 0 | T98: =_xlfn.XMATCH(E98,'NLSfb - PPO'!$B$2:$B$205,0)+1 -> 79 | U98: {=IF(ISNUMBER(Tabel1[[#This Row],[hulpkolom]]),INDIRECT("'NLSfB - PPO'!D"&$T98),"n.v.t.")} -> LCHT010-A | V98: {=IF(ISNUMBER(Tabel1[[#This Row],[hulpkolom]]),INDIRECT("'NLSfB - PPO'!E"&$T98),"-")} -> 1 | X98: {=IF(ISNUMBER(Tabel1[[#This Row],[hulpkolom]]),INDIRECT("'NLSfB - PPO'!G"&$T98),"-")} -> - | Y98: {=IF(ISNUMBER(Tabel1[[#This Row],[hulpkolom]]),INDIRECT("'NLSfB - PPO'!H"&$T98),"-")} -> - | AA98: {=IF(ISNUMBER(Tabel1[[#This Row],[hulpkolom]]),INDIRECT("'NLSfB - PPO'!J"&$T98),"-")} -> - | AB98: {=IF(ISNUMBER(Tabel1[[#This Row],[hulpkolom]]),INDIRECT("'NLSfB - PPO'!K"&$T98),"-")} -> - | AD98: {=IF(ISNUMBER(Tabel1[[#This Row],[hulpkolom]]),INDIRECT("'NLSfB - PPO'!M"&$T98),"-")} -> - | AE98: {=IF(ISNUMBER(Tabel1[[#This Row],[hulpkolom]]),INDIRECT("'NLSfB - PPO'!L"&$T98),"-")} -> - | AG98: =IF(ISNUMBER(Tabel1[[#This Row],[Frequentie 1]]),Tabel1[[#This Row],[Frequentie 1]]*Tabel1[[#This Row],[Prijs 1]],0) -> 0 | AH98: =IF(ISNUMBER(Tabel1[[#This Row],[Frequentie 2]]),Tabel1[[#This Row],[Frequentie 2]]*Tabel1[[#This Row],[Prijs 2]],0) -> 0 | AI98: =IF(ISNUMBER(Tabel1[[#This Row],[Frequentie 3]]),Tabel1[[#This Row],[Frequentie 3]]*Tabel1[[#This Row],[Prijs 3]],0) -> 0 | AJ98: =IF(ISNUMBER(Tabel1[[#This Row],[Frequentie 4]]),Tabel1[[#This Row],[Frequentie 4]]*Tabel1[[#This Row],[Prijs 4]],0) -> 0 | AK98: =SUM(Tabel1[[#This Row],[Totaal 1]:[Totaal 4]]) -> 0
A99: Gemeentewerf | B99: Kerkhofdijk 6 | C99: Hattem | D99: 1940 m2 | E99: 63.21.00 | F99: verlichting; verlichting standaard armaturen, armaturen | G99: =VLOOKUP(Tabel1[[#This Row],[NLSfB]],NLSfB!A:D,4,1) -> verlichtingsarmaturen | H99: elektra/verlichting | I99: 3 | J99: 0 | K99: 0 | L99: 0 | M99: LED | N99: 1 lichtbronnen per armatuur | O99: 58 W | P99: opbouw armatuur waterdicht | Q99: 0 | R99: 0 | S99: 0 | T99: =_xlfn.XMATCH(E99,'NLSfb - PPO'!$B$2:$B$205,0)+1 -> 79 | U99: {=IF(ISNUMBER(Tabel1[[#This Row],[hulpkolom]]),INDIRECT("'NLSfB - PPO'!D"&$T99),"n.v.t.")} -> LCHT010-A | V99: {=IF(ISNUMBER(Tabel1[[#This Row],[hulpkolom]]),INDIRECT("'NLSfB - PPO'!E"&$T99),"-")} -> 1 | X99: {=IF(ISNUMBER(Tabel1[[#This Row],[hulpkolom]]),INDIRECT("'NLSfB - PPO'!G"&$T99),"-")} -> - | Y99: {=IF(ISNUMBER(Tabel1[[#This Row],[hulpkolom]]),INDIRECT("'NLSfB - PPO'!H"&$T99),"-")} -> - | AA99: {=IF(ISNUMBER(Tabel1[[#This Row],[hulpkolom]]),INDIRECT("'NLSfB - PPO'!J"&$T99),"-")} -> - | AB99: {=IF(ISNUMBER(Tabel1[[#This Row],[hulpkolom]]),INDIRECT("'NLSfB - PPO'!K"&$T99),"-")} -> - | AD99: {=IF(ISNUMBER(Tabel1[[#This Row],[hulpkolom]]),INDIRECT("'NLSfB - PPO'!M"&$T99),"-")} -> - | AE99: {=IF(ISNUMBER(Tabel1[[#This Row],[hulpkolom]]),INDIRECT("'NLSfB - PPO'!L"&$T99),"-")} -> - | AG99: =IF(ISNUMBER(Tabel1[[#This Row],[Frequentie 1]]),Tabel1[[#This Row],[Frequentie 1]]*Tabel1[[#This Row],[Prijs 1]],0) -> 0 | AH99: =IF(ISNUMBER(Tabel1[[#This Row],[Frequentie 2]]),Tabel1[[#This Row],[Frequentie 2]]*Tabel1[[#This Row],[Prijs 2]],0) -> 0 | AI99: =IF(ISNUMBER(Tabel1[[#This Row],[Frequentie 3]]),Tabel1[[#This Row],[Frequentie 3]]*Tabel1[[#This Row],[Prijs 3]],0) -> 0 | AJ99: =IF(ISNUMBER(Tabel1[[#This Row],[Frequentie 4]]),Tabel1[[#This Row],[Frequentie 4]]*Tabel1[[#This Row],[Prijs 4]],0) -> 0 | AK99: =SUM(Tabel1[[#This Row],[Totaal 1]:[Totaal 4]]) -> 0
A100: Gemeentewerf | B100: Kerkhofdijk 6 | C100: Hattem | D100: 1940 m2 | E100: 63.21.00 | F100: verlichting; verlichting standaard armaturen, armaturen | G100: =VLOOKUP(Tabel1[[#This Row],[NLSfB]],NLSfB!A:D,4,1) -> verlichtingsarmaturen | H100: elektra/verlichting | I100: 6 | J100: 0 | K100: 0 | L100: 0 | M100: LED | N100: lichtbronnen per armatuur | O100: W | P100: 0 | Q100: 0 | R100: 0 | S100: 0 | T100: =_xlfn.XMATCH(E100,'NLSfb - PPO'!$B$2:$B$205,0)+1 -> 79 | U100: {=IF(ISNUMBER(Tabel1[[#This Row],[hulpkolom]]),INDIRECT("'NLSfB - PPO'!D"&$T100),"n.v.t.")} -> LCHT010-A | V100: {=IF(ISNUMBER(Tabel1[[#This Row],[hulpkolom]]),INDIRECT("'NLSfB - PPO'!E"&$T100),"-")} -> 1 | X100: {=IF(ISNUMBER(Tabel1[[#This Row],[hulpkolom]]),INDIRECT("'NLSfB - PPO'!G"&$T100),"-")} -> - | Y100: {=IF(ISNUMBER(Tabel1[[#This Row],[hulpkolom]]),INDIRECT("'NLSfB - PPO'!H"&$T100),"-")} -> - | AA100: {=IF(ISNUMBER(Tabel1[[#This Row],[hulpkolom]]),INDIRECT("'NLSfB - PPO'!J"&$T100),"-")} -> - | AB100: {=IF(ISNUMBER(Tabel1[[#This Row],[hulpkolom]]),INDIRECT("'NLSfB - PPO'!K"&$T100),"-")} -> - | AD100: {=IF(ISNUMBER(Tabel1[[#This Row],[hulpkolom]]),INDIRECT("'NLSfB - PPO'!M"&$T100),"-")} -> - | AE100: {=IF(ISNUMBER(Tabel1[[#This Row],[hulpkolom]]),INDIRECT("'NLSfB - PPO'!L"&$T100),"-")} -> - | AG100: =IF(ISNUMBER(Tabel1[[#This Row],[Frequentie 1]]),Tabel1[[#This Row],[Frequentie 1]]*Tabel1[[#This Row],[Prijs 1]],0) -> 0 | AH100: =IF(ISNUMBER(Tabel1[[#This Row],[Frequentie 2]]),Tabel1[[#This Row],[Frequentie 2]]*Tabel1[[#This Row],[Prijs 2]],0) -> 0 | AI100: =IF(ISNUMBER(Tabel1[[#This Row],[Frequentie 3]]),Tabel1[[#This Row],[Frequentie 3]]*Tabel1[[#This Row],[Prijs 3]],0) -> 0 | AJ100: =IF(ISNUMBER(Tabel1[[#This Row],[Frequentie 4]]),Tabel1[[#This Row],[Frequentie 4]]*Tabel1[[#This Row],[Prijs 4]],0) -> 0 | AK100: =SUM(Tabel1[[#This Row],[Totaal 1]:[Totaal 4]]) -> 0
...

Sheet NLSfB
A1: BIM code (nieuw) | B1: BIM omschrijving (nieuw) | C1: TOPDesk Subcategorie | D1: TOPDesk Soort
A2: XX.aa.bb | B2: XX; a, a; b, b
A3: 0- | B3: PROJECT TOTAAL
A4: 0-.0 | B4: indirecte projectvoorzieningen
A5: 0-.1 | B5: werkterreininrichtingen
A6: 0-.10 | B6: indirecte projectvoorzieningen; werkterreininrichting, algemeen (verzamelniveau)
A7: 0-.11 | B7: indirecte projectvoorzieningen; werkterreininrichting, bijkomende werken algemeen
A8: 0-.12 | B8: indirecte projectvoorzieningen; werkterreininrichting, personen/materiaalvoorzieningen
A9: 0-.13 | B9: indirecte projectvoorzieningen; werkterreininrichting, energievoorzieningen
A10: 0-.14 | B10: indirecte projectvoorzieningen; werkterreininrichting, beveiligingsvoorzieningen
A11: 0-.15 | B11: indirecte projectvoorzieningen; werkterreininrichting, doorwerkvoorzieningen
A12: 0-.16 | B12: indirecte projectvoorzieningen; werkterreininrichting, voorzieningen belendende percelen
A13: 0-.17 | B13: indirecte projectvoorzieningen; werkterreininrichting, onderhoudsvoorzieningen
... A146: 24.13 | B146: trappen en hellingen; trappen, spiltrappen
A147: 24.14.00 | B147: trappen en hellingen; trappen, vlizotrap | C147: bouwdelen | D147: vlizotrap
A148: 24.15 | B148: trappen en hellingen; trappen, bordessen
A149: 24.2 | B149: trappen en hellingen; hellingen
A150: 24.20 | B150: trappen en hellingen; hellingen, algemeen (verzamelniveau)
A151: 24.21 | B151: trappen en hellingen; hellingen, beloopbare hellingen
A152: 24.22 | B152: trappen en hellingen; hellingen, berijdbare hellingen
A153: 24.25 | B153: trappen en hellingen; hellingen, bordessen
A154: 24.3 | B154: trappen en hellingen; ladders en klimijzers
A155: 24.30 | B155: trappen en hellingen; ladders en klimijzers, algemeen (verzamelniveau)
A156: 24.31 | B156: trappen en hellingen; ladders en klimijzers, ladders
A157: 24.32 | B157: trappen en hellingen; ladders en klimijzers, klimijzers
A158: 24.35 | B158: trappen en hellingen; ladders en klimijzers, bordessen
A159: 25 | B159: -gereserveerd-
... A191: 30 | B191: -gereserveerd-
A192: 31 | B192: Buitenwandopeningen | C192: bouwdelen
A193: 31.0 | B193: buitenwandopeningen; algemeen | C193: bouwdelen
A194: 31.1 | B194: buitenwandopeningen; niet gevuld | C194: bouwdelen
A195: 31.10 | B195: buitenwandopeningen; niet gevuld, algemeen (verzamelniveau) | C195: bouwdelen
A196: 31.11 | B196: buitenwandopeningen; niet gevuld, daglichtopeningen | C196: bouwdelen | D196: daglichtopening wand
A197: 31.12 | B197: buitenwandopeningen; niet gevuld, buitenluchtopeningen | C197: bouwdelen | D197: buitenluchtopening wand
A198: 31.2 | B198: buitenwandopeningen; gevuld met ramen | C198: bouwdelen
A199: 31.20 | B199: buitenwandopeningen; gevuld met ramen, algemeen (verzamelniveau) | C199: bouwdelen
A200: 31.21 | B200: buitenwandopeningen; gevuld met ramen, gesloten ramen | C200: bouwdelen | D200: gesloten raam (buiten)
A201: 31.22 | B201: buitenwandopeningen; gevuld met ramen, ramen draaiend aan één kant | C201: bouwdelen | D201: raam draaiend, 1 as (buiten)
A202: 31.23 | B202: buitenwandopeningen; gevuld met ramen, schuiframen | C202: bouwdelen | D202: schuifraam (buiten)
A203: 31.24.00 | B203: buitenwandopeningen; gevuld met ramen, ramen draaiend op verticale of horizontale as | C203: bouwdelen | D203: kiep- kantelraam (buiten)
A204: 31.25 | B204: buitenwandopeningen; gevuld met ramen, combinatieramen | C204: bouwdelen | D204: combinatieraam (buiten)
A205: 31.3 | B205: buitenwandopeningen; gevuld met deuren | C205: toegang
A206: 31.30 | B206: buitenwandopeningen; gevuld met deuren, algemeen (verzamelniveau) | C206: toegang
A207: 31.31 | B207: buitenwandopeningen; gevuld met deuren, draaideuren | C207: toegang | D207: draaideur (buiten)
A208: 31.31.10 | B208: buitenwandopeningen; gevuld met deuren, draaideuren; automatisch | C208: toegang | D208: automatische draaideur (buiten)
A209: 31.32 | B209: buitenwandopeningen; gevuld met deuren, schuifdeuren | C209: toegang | D209: schuifdeur (buiten)
A210: 31.32.10 | B210: buitenwandopeningen; gevuld met deuren, schuifdeuren; automatisch | C210: toegang | D210: automatische schuifdeur (buiten)
A211: 31.33 | B211: buitenwandopeningen; gevuld met deuren, tuimeldeuren | C211: toegang | D211: tuimeldeur (buiten)
A212: 31.34.00 | B212: buitenwandopeningen; gevuld met deuren, tourniquets | C212: toegang | D212: tourniquet (buiten)
A213: 31.35.00 | B213: buitenwandopeningen; gevuld met deuren, overheaddeur (rol/sectionale) | C213: toegang | D213: overheaddeur (buiten)
A214: 31.4 | B214: buitenwandopeningen; gevuld met puien | C214: toegang
A215: 31.40 | B215: buitenwandopeningen; gevuld met puien, algemeen (verzamelniveau) | C215: toegang
A216: 31.41 | B216: buitenwandopeningen; gevuld met puien, gesloten puien | C216: toegang | D216: gesloten pui (buiten)
A217: 31.42.00 | B217: buitenwandopeningen; gevuld met rolluik | C217: toegang | D217: rolluik (buiten)
A218: 32 | B218: Binnenwandopeningen | C218: bouwdelen
A219: 32.0 | B219: binnenwandopeningen; algemeen | C219: bouwdelen
A220: 32.1 | B220: binnenwandopeningen; niet gevuld | C220: bouwdelen
A221: 32.10 | B221: binnenwandopeningen; niet gevuld, algemeen (verzamelniveau) | C221: bouwdelen
A222: 32.11 | B222: binnenwandopeningen; niet gevuld, openingen als doorgang | C222: bouwdelen | D222: wanddoorgang (binnen)
A223: 32.12 | B223: binnenwandopeningen; niet gevuld, openingen als doorzicht | C223: bouwdelen | D223: wanddoorzicht (binnen)
A224: 32.2 | B224: binnenwandopeningen; gevuld met ramen | C224: bouwdelen
A225: 32.20 | B225: binnenwandopeningen; gevuld met ramen, algemeen (verzamelniveau) | C225: bouwdelen
A226: 32.21 | B226: binnenwandopeningen; gevuld met ramen, gesloten ramen | C226: bouwdelen | D226: gesloten raam (binnen)
A227: 32.22 | B227: binnenwandopeningen; gevuld met ramen, ramen draaiend aan één kant | C227: bouwdelen | D227: raam draaiend, 1 as (binnen)
A228: 32.23 | B228: binnenwandopeningen; gevuld met ramen, schuiframen | C228: bouwdelen | D228: schuifraam (binnen)
A229: 32.24.00 | B229: binnenwandopeningen; gevuld met ramen, ramen draaiend op verticale of horizontale as | C229: bouwdelen | D229: kiep- kantelraam (binnen)
A230: 32.25 | B230: binnenwandopeningen; gevuld met ramen, combinatieramen | C230: bouwdelen | D230: combinatieraam (binnen)
A231: 32.3 | B231: binnenwandopeningen; gevuld met deuren | C231: bouwdelen
A232: 32.30 | B232: binnenwandopeningen; gevuld met deuren, algemeen (verzamelniveau) | C232: bouwdelen
A233: 32.31 | B233: binnenwandopeningen; gevuld met deuren, draaideuren | C233: bouwdelen | D233: draaideur (binnen)
A234: 32.31.10 | B234: binnenwandopeningen; gevuld met deuren, draaideuren; automatisch | C234: bouwdelen | D234: automatische draaideur (binnen)
A235: 32.32.00 | B235: binnenwandopeningen; gevuld met deuren, schuifdeuren | C235: bouwdelen | D235: schuifdeur (binnen)
A236: 32.32.10 | B236: binnenwandopeningen; gevuld met deuren, schuifdeuren; automatisch | C236: bouwdelen | D236: automatische schuifdeur (binnen)
A237: 32.33 | B237: binnenwandopeningen; gevuld met deuren, tuimeldeuren | C237: bouwdelen | D237: tuimeldeur (binnen)
A238: 32.34 | B238: binnenwandopeningen; gevuld met deuren, tourniquets | C238: bouwdelen | D238: tourniquet (binnen)
A239: 32.4 | B239: binnenwandopeningen; gevuld met puien | C239: bouwdelen
A240: 32.40 | B240: binnenwandopeningen; gevuld met puien, algemeen (verzamelniveau) | C240: bouwdelen
A241: 32.41 | B241: binnenwandopeningen; gevuld met puien, gesloten puien | C241: bouwdelen | D241: gesloten pui (binnen)
A242: 32.42.00 | B242: binnenwandopeningen; gevuld met rolluik | C242: bouwdelen | D242: rolluik (binnen)
A243: 33 | B243: Vloeropeningen | C243: bouwdelen
A244: 33.0 | B244: vloeropeningen; algemeen | C244: bouwdelen
A245: 33.1 | B245: vloeropeningen; niet gevuld | C245: bouwdelen
A246: 33.10 | B246: vloeropeningen; niet gevuld, algemeen (verzamelniveau) | C246: bouwdelen
A247: 33.11 | B247: vloeropeningen; niet gevuld, openingen als doorgang | C247: bouwdelen | D247: vloerdoorgang
A248: 33.12 | B248: vloeropeningen; niet gevuld, openingen als doorzicht | C248: bouwdelen | D248: vloerdoorzicht
A249: 33.2 | B249: vloeropeningen; gevuld | C249: bouwdelen
A250: 33.20 | B250: vloeropeningen; gevuld, algemeen (verzamelniveau) | C250: bouwdelen
A251: 33.21 | B251: vloeropeningen; gevuld, beloopbare vullingen | C251: bouwdelen | D251: vloervulling beloopbaar
A252: 33.22 | B252: vloeropeningen; gevuld, niet-beloopbare vullingen | C252: bouwdelen | D252: vloervulling niet-beloopbaar
A253: 34 | B253: Balustrades en leuningen | C253: bouwdelen
A254: 34.0 | B254: balustrades en leuningen; algemeen | C254: bouwdelen
A255: 34.1 | B255: balustrades en leuningen; balustrades | C255: bouwdelen
A256: 34.10 | B256: balustrades en leuningen; balustrades, algemeen (verzamelniveau) | C256: bouwdelen
A257: 34.11 | B257: balustrades en leuningen; balustrades, binnenbalustrades | C257: bouwdelen | D257: binnenbalustrade
A258: 34.12 | B258: balustrades en leuningen; balustrades, buitenbalustrades | C258: bouwdelen | D258: buitenbalustrade
A259: 34.2 | B259: balustrades en leuningen; leuningen | C259: bouwdelen
A260: 34.20 | B260: balustrades en leuningen; leuningen, algemeen (verzamelniveau) | C260: bouwdelen
A261: 34.21 | B261: balustrades en leuningen; leuningen, binnenleuningen | C261: bouwdelen | D261: binnenleuning
A262: 34.22 | B262: balustrades en leuningen; leuningen, buitenleuningen | C262: bouwdelen | D262: buitenleuning
A263: 35 | B263: -gereserveerd- | C263: bouwdelen
...

Sheet Alg. Uitgangspunten
A1: Bijlage V Activiteitenoverzicht
A5: Algemene uitgangspunten

Sheet Inhoudsopgave
A1: Inhoudsopgave
A2: nr. | B2: PPO-code | C2: NL-SfB | D2: Omschrijving
A3: =IF(Activiteitenoverzicht!$K5>0,Activiteitenoverzicht!A5,"") | B3: =IF(Activiteitenoverzicht!$K5>0,Activiteitenoverzicht!B5,"") | C3: =IF(Activiteitenoverzicht!$K5>0,Activiteitenoverzicht!D5,"") | D3: =IF(Activiteitenoverzicht!$K5>0,Activiteitenoverzicht!F5,"")
A4: =IF(Activiteitenoverzicht!$K6>0,Activiteitenoverzicht!A6,"") | B4: =IF(Activiteitenoverzicht!$K6>0,Activiteitenoverzicht!B6,"") | C4: =IF(Activiteitenoverzicht!$K6>0,Activiteitenoverzicht!D6,"") | D4: =IF(Activiteitenoverzicht!$K6>0,Activiteitenoverzicht!F6,"")
A5: =IF(Activiteitenoverzicht!$K7>0,Activiteitenoverzicht!A7,"") | B5: =IF(Activiteitenoverzicht!$K7>0,Activiteitenoverzicht!B7,"") | C5: =IF(Activiteitenoverzicht!$K7>0,Activiteitenoverzicht!D7,"") | D5: =IF(Activiteitenoverzicht!$K7>0,Activiteitenoverzicht!F7,"")
A6: =IF(Activiteitenoverzicht!$K8>0,Activiteitenoverzicht!A8,"") | B6: =IF(Activiteitenoverzicht!$K8>0,Activiteitenoverzicht!B8,"") | C6: =IF(Activiteitenoverzicht!$K8>0,Activiteitenoverzicht!D8,"") | D6: =IF(Activiteitenoverzicht!$K8>0,Activiteitenoverzicht!F8,"")
A7: =IF(Activiteitenoverzicht!$K9>0,Activiteitenoverzicht!A9,"") | B7: =IF(Activiteitenoverzicht!$K9>0,Activiteitenoverzicht!B9,"") | C7: =IF(Activiteitenoverzicht!$K9>0,Activiteitenoverzicht!D9,"") | D7: =IF(Activiteitenoverzicht!$K9>0,Activiteitenoverzicht!F9,"")
A8: =IF(Activiteitenoverzicht!$K10>0,Activiteitenoverzicht!A10,"") | B8: =IF(Activiteitenoverzicht!$K10>0,Activiteitenoverzicht!B10,"") | C8: =IF(Activiteitenoverzicht!$K10>0,Activiteitenoverzicht!D10,"") | D8: =IF(Activiteitenoverzicht!$K10>0,Activiteitenoverzicht!F10,"")
A9: =IF(Activiteitenoverzicht!$K11>0,Activiteitenoverzicht!A11,"") | B9: =IF(Activiteitenoverzicht!$K11>0,Activiteitenoverzicht!B11,"") | C9: =IF(Activiteitenoverzicht!$K11>0,Activiteitenoverzicht!D11,"") | D9: =IF(Activiteitenoverzicht!$K11>0,Activiteitenoverzicht!F11,"")
A10: =IF(Activiteitenoverzicht!$K12>0,Activiteitenoverzicht!A12,"") | B10: =IF(Activiteitenoverzicht!$K12>0,Activiteitenoverzicht!B12,"") | C10: =IF(Activiteitenoverzicht!$K12>0,Activiteitenoverzicht!D12,"") | D10: =IF(Activiteitenoverzicht!$K12>0,Activiteitenoverzicht!F12,"")
A11: =IF(Activiteitenoverzicht!$K13>0,Activiteitenoverzicht!A13,"") | B11: =IF(Activiteitenoverzicht!$K13>0,Activiteitenoverzicht!B13,"") | C11: =IF(Activiteitenoverzicht!$K13>0,Activiteitenoverzicht!D13,"") | D11: =IF(Activiteitenoverzicht!$K13>0,Activiteitenoverzicht!F13,"")
A12: =IF(Activiteitenoverzicht!$K14>0,Activiteitenoverzicht!A14,"") | B12: =IF(Activiteitenoverzicht!$K14>0,Activiteitenoverzicht!B14,"") | C12: =IF(Activiteitenoverzicht!$K14>0,Activiteitenoverzicht!D14,"") | D12: =IF(Activiteitenoverzicht!$K14>0,Activiteitenoverzicht!F14,"")
A13: =IF(Activiteitenoverzicht!$K15>0,Activiteitenoverzicht!A15,"") | B13: =IF(Activiteitenoverzicht!$K15>0,Activiteitenoverzicht!B15,"") | C13: =IF(Activiteitenoverzicht!$K15>0,Activiteitenoverzicht!D15,"") | D13: =IF(Activiteitenoverzicht!$K15>0,Activiteitenoverzicht!F15,"")
A14: =IF(Activiteitenoverzicht!$K16>0,Activiteitenoverzicht!A16,"") | B14: =IF(Activiteitenoverzicht!$K16>0,Activiteitenoverzicht!B16,"") | C14: =IF(Activiteitenoverzicht!$K16>0,Activiteitenoverzicht!D16,"") | D14: =IF(Activiteitenoverzicht!$K16>0,Activiteitenoverzicht!F16,"")
... A2500: =IF(Activiteitenoverzicht!$K2502>0,Activiteitenoverzicht!A2502,"") | B2500: =IF(Activiteitenoverzicht!$K2502>0,Activiteitenoverzicht!B2502,"") | C2500: =IF(Activiteitenoverzicht!$K2502>0,Activiteitenoverzicht!D2502,"") | D2500: =IF(Activiteitenoverzicht!$K2502>0,Activiteitenoverzicht!F2502,"")

Sheet Activiteitenoverzicht
A1: Beschrijvingen activiteitencodes
A2: Let op : wijzigingen in de zin van toevoeging of verwijdering van rijen leidt tot foutieve weergave op andere bladen Dit goed te controleren
A3: regel-nr | B3: PO - code | C3: Nlsfb-code | D3: NL-SfB | E3: NL-SfB Omschrijving installatie | F3: Kolom1 | G3: Jaar- freq | I3: Omschrijving werkzaamheden | J3: Kolom3 | K3: Aanwezig op inventarislijst? | L3: Kolom4
A5: =-3+ROW() -> 2 | B5: BEV010-A | C5: 652210 | D5: =IFERROR(VLOOKUP($C5,'[1]Nieuwe bron'!$A:$C,3,0),"") -> 65.22.10 | E5: =IFERROR(VLOOKUP($D5,'[1]Nieuwe bron'!$C:$D,2,0),"") -> beveiliging; braak-en toegangsbeheer, toegangsbeheer; toegangscontroleinstallatie | F5: =IFERROR(VLOOKUP($D5,NLSfB!A:D,4,0),"") -> toegangscontrole installatie | G5: 1 | I5: Toegangscontrole; Toegangscontrole paneel | K5: =COUNTIF(Tabel1[[PPO code 1]:[Frequentie 4]],Activiteitenoverzicht!B5) -> 0 | L5: =$K$5 -> 0
A6: =-3+ROW() -> 3 | B6: =IF($C6=""," ",$B$5) -> BEV010-A | C6: 652240 | D6: =IFERROR(VLOOKUP($C6,'[1]Nieuwe bron'!$A:$C,3,0),"") -> 65.22.20 | E6: =IFERROR(VLOOKUP($D6,'[1]Nieuwe bron'!$C:$D,2,0),"") -> beveiliging; braak-en toegangsbeheer, toegangsbeheer; geïntegreerde toegangscentrale beveiling | F6: =IFERROR(VLOOKUP($D6,NLSfB!A:D,4,0),"") -> geïntegreerde toegangscentrale beveiliging | G6: 1 | H6: o | I6: Controleren of Programma van Eisen, tekeningen, opleverrapport, aanwezig zijn en voldoen aan de huidige situatie | K6: =COUNTIF(Tabel1[[PPO code 1]:[Frequentie 4]],Activiteitenoverzicht!B6) -> 0 | L6: =$K$5 -> 0
A7: =-3+ROW() -> 4 | B7: =IF($C7=""," ",$B$5) | D7: =IFERROR(VLOOKUP($C7,'[1]Nieuwe bron'!$A:$C,3,0),"") | E7: =IFERROR(VLOOKUP($D7,'[1]Nieuwe bron'!$C:$D,2,0),"") | F7: =IFERROR(VLOOKUP($D7,NLSfB!A:D,4,0),"") | G7: 1 | H7: o | I7: Controleren meldingen (Logboek, IBC) | K7: =COUNTIF(Tabel1[[PPO code 1]:[Frequentie 4]],Activiteitenoverzicht!B7) -> 0 | L7: =$K$5 -> 0
A8: =-3+ROW() -> 5 | B8: =IF($C8=""," ",$B$5) | D8: =IFERROR(VLOOKUP($C8,'[1]Nieuwe bron'!$A:$C,3,0),"") | E8: =IFERROR(VLOOKUP($D8,'[1]Nieuwe bron'!$C:$D,2,0),"") | F8: =IFERROR(VLOOKUP($D8,NLSfB!A:D,4,0),"") | G8: 1 | H8: o | I8: Visueel controleren en functineel testen en afstellen van bedieningsapparatuur: | K8: =COUNTIF(Tabel1[[PPO code 1]:[Frequentie 4]],Activiteitenoverzicht!B8) -> 0 | L8: =$K$5 -> 0
A9: =-3+ROW() -> 6 | B9: =IF($C9=""," ",$B$5) | D9: =IFERROR(VLOOKUP($C9,'[1]Nieuwe bron'!$A:$C,3,0),"") | E9: =IFERROR(VLOOKUP($D9,'[1]Nieuwe bron'!$C:$D,2,0),"") | F9: =IFERROR(VLOOKUP($D9,NLSfB!A:D,4,0),"") | G9: 1 | I9: - deurterminals, kaartlezers; | K9: =COUNTIF(Tabel1[[PPO code 1]:[Frequentie 4]],Activiteitenoverzicht!B9) -> 0 | L9: =$K$5 -> 0
A10: =-3+ROW() -> 7 | B10: =IF($C10=""," ",$B$5) | D10: =IFERROR(VLOOKUP($C10,'[1]Nieuwe bron'!$A:$C,3,0),"") | E10: =IFERROR(VLOOKUP($D10,'[1]Nieuwe bron'!$C:$D,2,0),"") | F10: =IFERROR(VLOOKUP($D10,NLSfB!A:D,4,0),"") | G10: 1 | I10: - codeslot en codeslotcentrale; | K10: =COUNTIF(Tabel1[[PPO code 1]:[Frequentie 4]],Activiteitenoverzicht!B10) -> 0 | L10: =$K$5 -> 0
A11: =-3+ROW() -> 8 | B11: =IF($C11=""," ",$B$5) | D11: =IFERROR(VLOOKUP($C11,'[1]Nieuwe bron'!$A:$C,3,0),"") | E11: =IFERROR(VLOOKUP($D11,'[1]Nieuwe bron'!$C:$D,2,0),"") | F11: =IFERROR(VLOOKUP($D11,NLSfB!A:D,4,0),"") | G11: 1 | I11: - paddenstoel drukknop; | K11: =COUNTIF(Tabel1[[PPO code 1]:[Frequentie 4]],Activiteitenoverzicht!B11) -> 0 | L11: =$K$5 -> 0
A12: =-3+ROW() -> 9 | B12: =IF($C12=""," ",$B$5) | D12: =IFERROR(VLOOKUP($C12,'[1]Nieuwe bron'!$A:$C,3,0),"") | E12: =IFERROR(VLOOKUP($D12,'[1]Nieuwe bron'!$C:$D,2,0),"") | F12: =IFERROR(VLOOKUP($D12,NLSfB!A:D,4,0),"") | G12: 1 | I12: - visueel controleren van vergrendelingen; | K12: =COUNTIF(Tabel1[[PPO code 1]:[Frequentie 4]],Activiteitenoverzicht!B12) -> 0 | L12: =$K$5 -> 0
A13: =-3+ROW() -> 10 | B13: =IF($C13=""," ",$B$5) | D13: =IFERROR(VLOOKUP($C13,'[1]Nieuwe bron'!$A:$C,3,0),"") | E13: =IFERROR(VLOOKUP($D13,'[1]Nieuwe bron'!$C:$D,2,0),"") | F13: =IFERROR(VLOOKUP($D13,NLSfB!A:D,4,0),"") | G13: 1 | I13: - deurgrendels, schootvangers; | K13: =COUNTIF(Tabel1[[PPO code 1]:[Frequentie 4]],Activiteitenoverzicht!B13) -> 0 | L13: =$K$5 -> 0
A14: =-3+ROW() -> 11 | B14: =IF($C14=""," ",$B$5) | D14: =IFERROR(VLOOKUP($C14,'[1]Nieuwe bron'!$A:$C,3,0),"") | E14: =IFERROR(VLOOKUP($D14,'[1]Nieuwe bron'!$C:$D,2,0),"") | F14: =IFERROR(VLOOKUP($D14,NLSfB!A:D,4,0),"") | G14: 1 | I14: - elektrische sluitplaat; | K14: =COUNTIF(Tabel1[[PPO code 1]:[Frequentie 4]],Activiteitenoverzicht!B14) -> 0 | L14: =$K$5 -> 0
A15: =-3+ROW() -> 12 | B15: =IF($C15=""," ",$B$5) | D15: =IFERROR(VLOOKUP($C15,'[1]Nieuwe bron'!$A:$C,3,0),"") | E15: =IFERROR(VLOOKUP($D15,'[1]Nieuwe bron'!$C:$D,2,0),"") | F15: =IFERROR(VLOOKUP($D15,NLSfB!A:D,4,0),"") | G15: 1 | I15: - voedingsunit | K15: =COUNTIF(Tabel1[[PPO code 1]:[Frequentie 4]],Activiteitenoverzicht!B15) -> 0 | L15: =$K$5 -> 0
A16: =-3+ROW() -> 13 | B16: =IF($C16=""," ",$B$5) | D16: =IFERROR(VLOOKUP($C16,'[1]Nieuwe bron'!$A:$C,3,0),"") | E16: =IFERROR(VLOOKUP($D16,'[1]Nieuwe bron'!$C:$D,2,0),"") | F16: =IFERROR(VLOOKUP($D16,NLSfB!A:D,4,0),"") | G16: 1 | H16: o | I16: Smeren mechanische delen van de vergrendeling | K16: =COUNTIF(Tabel1[[PPO code 1]:[Frequentie 4]],Activiteitenoverzicht!B16) -> 0 | L16: =$K$5 -> 0
A17: =-3+ROW() -> 14 | B17: =IF($C17=""," ",$B$5) | D17: =IFERROR(VLOOKUP($C17,'[1]Nieuwe bron'!$A:$C,3,0),"") | E17: =IFERROR(VLOOKUP($D17,'[1]Nieuwe bron'!$C:$D,2,0),"") | F17: =IFERROR(VLOOKUP($D17,NLSfB!A:D,4,0),"") | G17: 1 | H17: o | I17: Reinigen van de lezer en codepanelen | K17: =COUNTIF(Tabel1[[PPO code 1]:[Frequentie 4]],Activiteitenoverzicht!B17) -> 0 | L17: =$K$5 -> 0
A18: =-3+ROW() -> 15 | B18: =IF($C18=""," ",$B$5) | D18: =IFERROR(VLOOKUP($C18,'[1]Nieuwe bron'!$A:$C,3,0),"") | E18: =IFERROR(VLOOKUP($D18,'[1]Nieuwe bron'!$C:$D,2,0),"") | F18: =IFERROR(VLOOKUP($D18,NLSfB!A:D,4,0),"") | G18: 1 | H18: o | I18: Controle op beschadigingen | K18: =COUNTIF(Tabel1[[PPO code 1]:[Frequentie 4]],Activiteitenoverzicht!B18) -> 0 | L18: =$K$5 -> 0
A19: =-3+ROW() -> 16 | B19: =IF($C19=""," ",$B$5) | D19: =IFERROR(VLOOKUP($C19,'[1]Nieuwe bron'!$A:$C,3,0),"") | E19: =IFERROR(VLOOKUP($D19,'[1]Nieuwe bron'!$C:$D,2,0),"") | F19: =IFERROR(VLOOKUP($D19,NLSfB!A:D,4,0),"") | G19: 1 | H19: o | I19: Controle van de bevestiging; indien nodig vastzetten | K19: =COUNTIF(Tabel1[[PPO code 1]:[Frequentie 4]],Activiteitenoverzicht!B19) -> 0 | L19: =$K$5 -> 0
A20: =-3+ROW() -> 17 | B20: =IF($C20=""," ",$B$5) | D20: =IFERROR(VLOOKUP($C20,'[1]Nieuwe bron'!$A:$C,3,0),"") | E20: =IFERROR(VLOOKUP($D20,'[1]Nieuwe bron'!$C:$D,2,0),"") | F20: =IFERROR(VLOOKUP($D20,NLSfB!A:D,4,0),"") | G20: 1 | H20: o | I20: Controleren van de doormeldfunctie van de alarmmelding naar de inbraakcentrale | K20: =COUNTIF(Tabel1[[PPO code 1]:[Frequentie 4]],Activiteitenoverzicht!B20) -> 0 | L20: =$K$5 -> 0
