Workbook

Sheet Totaal
A1: ='sub A'!A1 -> Bijlage F bij de Europese Aanbesteding brandverzekering van de Provincie Zeeland. Specificatie van de verzekerde locaties
A2: ='sub A'!A2 -> TenderNed-Kenmerk: 329107 / Referentienummer: 96373
A5: sub nr | B5: Omschrijving | D5: Verzekerde bedragen
A7: A | B7: Gebouwen, bedrijfsuitrusting/inventaris, etc. | D7: ='sub A'!H54 -> 287449738
A9: B | B9: ICT apparatuur | D9: =' sub B'!D27 -> 4106250
A11: C | B11: Kunstvoorwerpen | D11: ='Sub C'!B11 -> 3071580
A13: D | B13: Technische installaties bruggen | D13: 1440000
A15: E | B15: 6 reserve (kleine) sluisdeuren steunpunt Veere | D15: 555000
B17: Totaal | D17: =SUM(D7:D15) -> 296622568

Sheet sub A
A1: Bijlage F bij de Europese Aanbesteding brandverzekering van de Provincie Zeeland. Specificatie van de verzekerde locaties
A2: TenderNed-Kenmerk: 329107 / Referentienummer: 96373
A3: Algemene gegevens | F3: Verzekerde bedrgen | I3: Risico informatie
A4: Risicoadres | B4: Postcode | C4: Plaats | D4: Omschrijving object | E4: Getaxeerd | F4: Gebouwen | G4: Inventaris | H4: Totaal | I4: Zonnepanelen ja/nee + aantal panelen | J4: Zonne-panelen jaar aanleg | K4: Zonnepanelen dak/iso dakopbouw | L4: Sprinkler installatie ja/nee | M4: Brandmeld installatie met doormelding PAC | N4: Inbraakmeld installatie met doormelding PAC | O4: Met hekwerk omsloten ja/nee/deels | P4: Asbest aanwezig ja/nee/nb | Q4: Opmerkingen
A5: Stelledijk 2 | B5: 4458 RB | C5: s Heer Arendskerke | D5: Wegensteunpunt (opslag en kantoor in loods) | E5: ja | F5: 449689 | H5: =SUM(F5+G5) -> 449689 | I5: Nee | L5: Nee | M5: Ja | N5: Ja | O5: Ja | P5: Nee
A6: A. Plesmanweg 7 | B6: 4462 GC | C6: Goes | D6: Wegensteunpunt (opslag en kantoor in loods) | E6: ja | F6: 893219 | H6: =SUM(F6+G6) -> 893219 | I6: Nee | L6: Nee | M6: Ja | N6: Ja | O6: Ja | P6: Nee
A7: Oude Rijksweg 65 | B7: 4411 NK | C7: Rilland | D7: Wegensteunpunt (opslag en kantoor in loods) | E7: ja | F7: 616013 | H7: =SUM(F7+G7) -> 616013 | I7: Ja / aantal 9 | J7: 2017 | K7: staal- EPS - Derbigum | L7: Nee | M7: Ja | N7: Ja | O7: Ja | P7: Nee
A8: Industrieweg 6 | B8: 4675 RA | C8: St. Philipsland | D8: Wegensteunpunt (opslag en kantoor in loods) | E8: ja | F8: 708415 | H8: =SUM(F8+G8) -> 708415 | I8: Ja / aantal 21 | J8: 2017 | K8: kantoor hout/ loods staal -EPS - Derbigum | L8: Nee | M8: Ja | N8: Ja | O8: Ja | P8: Nee
A9: Spuiwekken 7 | B9: 4318 AP | C9: Brouwershaven | D9: Wegensteunpunt (opslag en kantoor in loods) | E9: ja | F9: 533468 | H9: =SUM(F9+G9) -> 533468 | I9: Nee | L9: Nee | M9: Ja | N9: Ja | O9: Ja | P9: Nee
A10: 1e Deltaweg 15 | B10: 4486 PA | C10: Colijnsplaat | D10: Wegensteunpunt (opslag en kantoor in loods) | E10: ja | F10: 574125 | H10: =SUM(F10+G10) -> 574125 | I10: Ja / aantal 13 | J10: 2017 | K10: kantoor hout - PIR - Derbigum en loods staal - EPS - Wedeflex | L10: Nee | M10: Ja | N10: Ja | O10: Ja | P10: Nee
A11: Noordlangeweg 42B | B11: 4486 PR | C11: Colijnsplaat | D11: Wegensteunpunt (opslag en kantoor in loods) | E11: ja | F11: 601229 | H11: =SUM(F11+G11) -> 601229 | I11: Ja / aantal 25 | J11: 2017 | K11: kantoor hout - PIR - Derbigum en loods staal - EPS - Wedeflex | L11: Nee | M11: Ja | N11: Ja | O11: Ja | P11: Nee
A12: Zeelandbrug | C12: Zeeland | D12: Verkeersbrug met brugwachtershuisje | E12: ja | F12: 1755638 | H12: =SUM(F12+G12) -> 1755638 | I12: Nee | L12: Nee | M12: Ja | N12: Ja | O12: Nee | P12: Nee
A13: Stelleweg 6 | B13: 4451 RL | C13: Heinkenszand | D13: Boerderij | E13: ja | F13: 917859 | H13: =SUM(F13+G13) -> 917859 | I13: Nee | L13: Nee | M13: Geen | N13: Geen | O13: Nee | P13: Nee | Q13: Deze woning wordt dit jaar nog verkocht/notariaal geleverd!
A14: Perkpolderhaven 4 | B14: 4588 RB | C14: Walsoorden | D14: Woning | E14: ja | F14: 471866 | H14: =SUM(F14+G14) -> 471866 | I14: Nee | L14: Nee | M14: Geen | N14: Geen | O14: Nee | P14: Nb. | Q14: Deze woning wordt dit jaar nog verkocht/notariaal geleverd!
A15: Eendrachtweg 20 | B15: 4543 PL | C15: Zaamslag | D15: woonhuis + loods | E15: ja | F15: 733056 | H15: =SUM(F15+G15) -> 733056 | I15: Nee | L15: Nee | M15: Nee | N15: Nee | O15: Deels | P15: Ja
A16: Lange Blikstraat 2 | B16: 4541 HX | C16: Sluiskil | D16: Woning, Schuur en wagenhuis (leegstaand) | E16: ja | F16: 831617 | H16: =SUM(F16+G16) -> 831617 | I16: Nee | L16: Nee | M16: Nee | N16: Nee | O16: Deels | P16: Ja | Q16: Woning wordt waarschijnlijk in 2021 nog gesloopt
A17: Stationsplein 19 | B17: 4382 NN | C17: Vlissingen | D17: Bedieningsgebouw voor de sluis | E17: ja | F17: 4589299 | H17: =SUM(F17+G17) -> 4589299 | I17: Nee | L17: Ja | M17: Ja | N17: Ja | O17: Nee | P17: Nee
A18: Piet Heinkade 93, Grote | B18: 4381 NH | C18: Vlissingen | D18: Deurenloods | E18: ja | F18: 73922 | H18: =SUM(F18+G18) -> 73922 | I18: Nee | L18: Nee | M18: Nee | N18: Nee | O18: Ja | P18: Nee
A19: Westerhavenweg 2a en 2b | B19: 4382 NM | C19: Vlissingen | D19: Terminal voor veerboot | E19: ja | F19: 5975327 | H19: =SUM(F19+G19) -> 5975327 | I19: Nee | L19: Ja | M19: Ja | N19: Ja | O19: Nee | P19: Nee
A20: Piet Heinkade 95 | B20: 4381 NH | C20: Vlissingen | D20: 2 Keersluizen + Loods | E20: ja | F20: 222997 | H20: =SUM(F20+G20) -> 222997 | I20: Nee | L20: Nee | M20: Nee | N20: Nee | O20: Ja | P20: Nee
A21: Prins Hendrikweg 2a of 2b | B21: 4382 NS | C21: Vlissingen | D21: deurenloods | E21: ja | F21: 172484 | H21: =SUM(F21+G21) -> 172484 | I21: Nee | L21: Nee | M21: Nee | N21: Nee | O21: Ja | P21: Nee
A22: Paul Krugerstraat 500 | B22: 4381 WX | C22: Vlissingen | D22: bedieningsgebouw Keersluisbrug | E22: ja | F22: 1102663 | H22: =SUM(F22+G22) -> 1102663 | I22: Nee | L22: Nee | M22: Nee | N22: Nee | O22: Nee | P22: Nee
A23: Draaibrugpad 1 | B23: 4388 BV | C23: Oost-Souburg | D23: bedieningsgebouw brug souburg | E23: ja | F23: 726896 | H23: =SUM(F23+G23) -> 726896 | I23: Nee | L23: Nee | M23: Nee | N23: Nee | O23: Nee | P23: Nee
A24: Het Groene Woud 60 | B24: 4331 NB | C24: Middelburg | D24: bedieningsgebouw Schroebrug | E24: ja | F24: 1490753 | H24: =SUM(F24+G24) -> 1490753 | I24: Nee | L24: Nee | M24: Nee | N24: Nee | O24: Nee | P24: Nee
A25: Stationsstraat 54 | B25: 4331 JB | C25: Middelburg | D25: Bedieningsgebouw | E25: ja | F25: 832849 | H25: =SUM(F25+G25) -> 832849 | I25: Nee | L25: Nee | M25: Nee | N25: Nee | O25: Nee | P25: Nee
A26: Kanaalweg oz ong. | B26: 4351 RG | C26: Veere | D26: nieuwe loods oostzijde kanaal bij Veer | E26: ja | F26: 264885 | H26: =SUM(F26+G26) -> 264885 | I26: Nee | L26: Nee | M26: Nee | N26: Nee | O26: Ja | P26: Nee
A27: Kanaalweg wz 16, 18,20 en 22 | B27: 4351 RE | C27: Veere | D27: Timmerwerkplaats, kantoor, loods, schuren, radartoren | E27: ja | F27: 2895261 | H27: =SUM(F27+G27) -> 2895261 | I27: Nee | L27: Nee | M27: Ja | N27: Ja | O27: Nee | P27: Nee
A28: Draaibrug 46 | B28: 4527 PD | C28: Aardenburg | D28: Werkplaats | E28: ja | F28: 163859 | H28: =SUM(F28+G28) -> 163859 | I28: Nee | L28: Nee | M28: Ja | N28: Ja | O28: Ja | P28: Nee
A29: Nieuweweg 3 | B29: 4503 GL | C29: Groede | D29: Bergplaats | E29: ja | F29: 683774 | H29: =SUM(F29+G29) -> 683774 | I29: Ja / aantal 24 | J29: 2017 | K29: golfplaten (asbestvrij) - EPS | L29: Nee | M29: Ja | N29: Ja | O29: Ja | P29: Nee
A30: Veerhaven 2 | B30: 4511 RA | C30: Breskens | D30: Terminal voor op/afstappen pond | E30: ja | F30: 5359314 | H30: =SUM(F30+G30) -> 5359314 | I30: Nee | L30: Nee | M30: Ja | N30: Ja | O30: Nee | P30: Nee
A31: Mauritsfort 1 | B31: 4542 LA | C31: Hoek | D31: wegensteunpunt met kantoor, magazijn, werkplaats, zoutloods en halfopenloods | E31: ja | F31: 2094444 | H31: =SUM(F31+G31) -> 2094444 | I31: Ja / aantal 67 | J31: 2017 | K31: kantoor hout/loods staal - PIR - APP | L31: Nee | M31: Ja | N31: Ja | O31: Ja | P31: Nee
A32: Buitenhavenweg | C32: Terneuzen | D32: Bustation Terneuzen | E32: ja | F32: 1207385 | H32: =SUM(F32+G32) -> 1207385 | I32: Nee | L32: Nee | M32: Nee | N32: Nee | O32: Nee | P32: Nee
A33: Drieschouwen Zuid 36 | B33: 4571 RW | C33: Axel | D33: Werkplaats | E33: ja | F33: 936340 | H33: =SUM(F33+G33) -> 936340 | I33: Ja / aantal 40 | J33: 2017 | K33: golfplaten (asbestvrij) - EPS | L33: Nee | M33: Ja | N33: Ja | O33: Ja | P33: Nee
A34: Woestijnestraat 1A | B34: 4567 PG | C34: Clinge | D34: Bergplaats | E34: ja | F34: 110883 | H34: =SUM(F34+G34) -> 110883 | I34: Nee | L34: Nee | M34: Nee | N34: Nee | O34: Ja | P34: Nee
A35: Hulsterweg 75 B | B35: 4587 LG | C35: Kloosterzande | D35: Bergplaats | E35: ja | F35: 110883 | H35: =SUM(F35+G35) -> 110883 | I35: Nee | L35: Nee | M35: Nee | N35: Nee | O35: Ja | P35: Nee
A36: Ritthemsestraat 135 | B36: 4388 JP | C36: Oost-Souburg | D36: Kantoor met Loods | E36: ja | F36: 893219 | H36: =SUM(F36+G36) -> 893219 | I36: Nee | L36: Nee | M36: Ja | N36: Ja | O36: Ja | P36: Nee
A37: Gapingseweg 2B | B37: 4353 JA | C37: Serooskerke | D37: Werkplaats, steunpunt | E37: ja | F37: 1022582 | H37: =SUM(F37+G37) -> 1022582 | I37: Ja / aantal 55 | J37: 2017 | K37: kantoor hout/loods staal - PIR - APP | L37: Nee | M37: Ja | N37: Ja | O37: Ja | P37: Nee
A38: Havendijk 9 | B38: 4583 RW | C38: Terhole | D38: Woning (anti-kraak bewoond) | F38: 215604 | H38: =SUM(F38+G38) -> 215604 | I38: Nee | L38: Nee | M38: Nee | N38: Nee | O38: Nee | P38: Nb.
A39: Zevenaardijk 4 | B39: 4542RN | C39: Hoek | D39: woning en 2 schuren | F39: 250000 | H39: =SUM(F39+G39) -> 250000 | I39: Nee | L39: Nee | M39: Nee | N39: Nee | O39: Nee | P39: Ja
A40: St. Jorisstraat 2a | B40: 4331 EH | C40: Middelburg | D40: 3 garages | E40: ja | F40: 61601 | H40: =SUM(F40+G40) -> 61601 | I40: Nee | L40: Nee | M40: Nee | N40: Nee | O40: Nee | P40: Nee
A41: Looierssingel 2 | B41: 4331 NK | C41: Middelburg | D41: Kantoor met Loods | E41: ja | F41: 6837745 | H41: =SUM(F41+G41) -> 6837745 | I41: Ja / aantal 80 | J41: 2017 | K41: beton-EPS-EPDM-grind | L41: Nee | M41: Ja | N41: Ja | O41: Nee | P41: Nee
A43: Onze Lieve Vrouwe Abdij(Abdijcomplex):
A44: Abdij 6/St.Pieterstraat 42/Giststraat 3 | B44: 4331 BK | C44: Middelburg | D44: Heerenlogement / Sipiersgebouw / kaatsbaan | E44: ja | F44: 53593138 | H44: =SUM(F44+G44) -> 53593138 | I44: Nee | L44: Nee | M44: Ja | N44: Ja | O44: Nee | P44: Ja
A45: Abdij 4 / St. Pieterstraat 38 | B45: 4331 BK | C45: Middelburg | D45: Zeeuw museum | E45: ja | F45: 67145425 | H45: =SUM(F45+G45) -> 67145425 | I45: Nee | L45: Nee | M45: Ja | N45: Ja | O45: Nee | P45: Ja
A46: Abdij 5 | B46: 4331 BK | C46: Middelburg | D46: Schaliehuis (restaurant) | E46: ja | F46: 7022549 | H46: =SUM(F46+G46) -> 7022549 | I46: Nee | L46: Nee | M46: Ja | N46: Ja | O46: Nee | P46: Nee
A47: Korte Giststraat 1 + Koorkerkhof 20 | B47: 4331 BC | C47: Middelburg | D47: Statendrukkerij (kantoor) | E47: ja | F47: 1028742 | H47: =SUM(F47+G47) -> 1028742 | I47: Nee | L47: Nee | M47: Ja | N47: Ja | O47: Nee | P47: Ja
A48: Damplein 1A t/m C | B48: 4331 GC | C48: Middelburg | D48: Gistpoortgebouw (kantoor) | E48: ja | F48: 1071862 | H48: =SUM(F48+G48) -> 1071862 | I48: Nee | L48: Nee | M48: Ja | N48: Ja | O48: Nee | P48: Nee
A49: Koorkerkhof 18 | B49: 4331 BB | C49: Middelburg | D49: Brouwerij (kantoor) | E49: ja | F49: 6714543 | H49: =SUM(F49+G49) -> 6714543 | I49: Nee | L49: Nee | M49: Ja | N49: Ja | O49: Nee | P49: Ja
A50: Sint Pieterstraat 45-47 | B50: 4331 EV | C50: Middelburg | D50: Onderhoudswerkplaats | E50: ja | F50: 622173 | H50: =SUM(F50+G50) -> 622173 | I50: Nee | L50: Nee | M50: Nee | N50: Nee | O50: Nee | P50: Nee
A51: Abdijplein Diverse objecten | C51: Middelburg | D51: Abdij van Middelburg | E51: ja | F51: 101395753 | H51: =SUM(F51+G51) -> 101395753 | I51: Nee | L51: Nee | M51: Ja | N51: Ja | O51: Nee | P51: Nb.
A52: Abdijcomplex en steunpunten | F52: 0 | G52: 1474390 | H52: =SUM(F52+G52) -> 1474390
A54: Totaal | F54: =SUM(F5:F52) -> 285975348 | G54: =SUM(G5:G52) -> 1474390 | H54: =SUM(H5:H52) -> 287449738
A56: NB:
A57: Het Abdij complex wordt dit jaar (2021) voorzien van een waterlekdetectiesysteem.
A59: SCIOS SCOPE 12:
A60: De zonnepanelen die op daken van gebouwen liggen zullen worden gekeurd conform de SCIOS SCOPE 12. De eventuele gebreken die naar aanleiding van deze keuring naar voren komen zal binnen een redelijke termijn worden verholpen/opgelost.

Sheet  sub B
A1: Overzicht nieuwwaarde ICT apparatuur
A3: Omschrijving | B3: Aantal | C3: Gem. nieuwwaarde | D3: Totaal | E3: Opmerkingen
A4: Laptops | B4: 730 | C4: 1210 | D4: =B4*C4 -> 883300 | E4: inclusief Staten (40 laptops) en inclusief voorraad (58)
A5: Dockings | B5: 415 | C5: 180 | D5: =B5*C5 -> 74700
A6: Desktop PC standaard | B6: 100 | C6: 850 | D6: =B6*C6 -> 85000 | E6: inclusief voorraad (22)
A7: Desktop PC special | B7: 15 | C7: 2500 | D7: =B7*C7 -> 37500
A8: Ipads | B8: 120 | C8: 400 | D8: =B8*C8 -> 48000 | E8: inclusief Staten en voorraad (27)
A9: Ipad Pro's | B9: 80 | C9: 1200 | D9: =B9*C9 -> 96000
A10: Smartphones | B10: 700 | C10: 160 | D10: =B10*C10 -> 112000
A11: Monitoren | B11: 950 | C11: 375 | D11: =B11*C11 -> 356250
A12: Computerservers Abdij | B12: 40 | C12: 20000 | D12: =B12*C12 -> 800000
A13: Computerservers Waterschap | B13: 15 | C13: 15000 | D13: =B13*C13 -> 225000
A14: Centrale storage Dell Abdij | B14: 1 | C14: 200000 | D14: =B14*C14 -> 200000
A15: Centrale storage Dell Waterschap | B15: 1 | C15: 200000 | D15: =B15*C15 -> 200000
A16: Decentrale UPS-en SER's en MER Abdij | B16: 15 | C16: 1500 | D16: =B16*C16 -> 22500
A17: Centrale UPS Abdij | D17: 50000
A18: Centrale UPS Waterschap | B18: 1 | C18: 35000 | D18: =B18*C18 -> 35000
A19: Detwerkapparatuur (cores, switches, firewall, juniper, etc.) Abdij | D19: 350000
A20: WIFI apparatuur | D20: 250000
A21: Plotters | B21: 2 | C21: 15000 | D21: =B21*C21 -> 30000
A22: IP telefoons in gebruik Abdij | B22: 400 | C22: 250 | D22: =B22*C22 -> 100000
A23: Telefooncentrales incl bedienposten (centrale HGW verhuist naar Abdij) | B23: 3 | D23: 100000
A24: 19 inch kasten MER's en SER's Abdij | B24: 30 | C24: 1500 | D24: =B24*C24 -> 45000
A25: 19 inch kasten MER waterschap | B25: 4 | C25: 1500 | D25: =B25*C25 -> 6000
A27: Totaal | D27: =SUM(D4:D25) -> 4106250

Sheet Sub C
A1: Overzicht Kunstvoorwerpen
A3: Omschrijving | B3: Verzekerde waarde
A4: Kunst conform taxatierapport 16T09121A van inboedeltaxaties.nl | B4: 1276105
A5: Kunst conform taxatierapport 16T09121B van inboedeltaxaties.nl | B5: 447300
A6: Kunst conform taxatierapport 16T09121C van inboedeltaxaties.nl | B6: 1045000
A7: Kunst conform taxatierapport 16T09121D van inboedeltaxaties.nl | B7: 269750
A8: Aluminium beeld Koning Willem Alexander, kunstenaar Marjolein Rothman | B8: 23425
A9: Buste beeld van Franklin D. Roosevelt | B9: 5000
A10: Buste beeld van Eleanor Roosevelt | B10: 5000
A11: Totaal | B11: =SUM(B4:B10) -> 3071580
