Workbook

Sheet Groep 1
A1: Bijlage 6 Prijzenblad Groep 1 Raamovereenkomst uitzendkrachten
A3: NB! U dient de lichtblauwe cellen in te vullen
A5: GROEP 1 -
G8: Schaal 1-9 met uitzendbeding | H8: Werkelijk % | I8: Opbouw kostprijs | J8: Schaal 10-13 met uitzendbeding | K8: Werkelijk % | L8: Opbouw kostprijs
G9: Bruto uurloon | I9: 1 | J9: Bruto uurloon | L9: 1
G11: Wachtdagencompensatie | I11: =(1+H11)*I9 -> 1 | J11: Wachtdagencompensatie | L11: =(1+K11)*L9 -> 1
G13: Reserveringen | J13: Reserveringen
G14: Vakantiedagen | J14: Vakantiedagen
G15: Feestdagen | J15: Feestdagen
G16: Kortverzuim/bijz. verlof | J16: Kortverzuim/bijz. verlof
G17: SUBTOTAAL LOON + RESERVERINGEN | H17: =SUM(H14:H16) -> 0 | I17: =(1+H17)*I11 -> 1 | J17: SUBTOTAAL LOON + RESERVERINGEN | K17: =SUM(K14:K16) -> 0 | L17: =(1+K17)*L11 -> 1
G19: Vakantietoeslag | H19: 0.0833 | I19: =(1+H19)*I17 -> 1.0833 | J19: Vakantietoeslag | K19: 0.0833 | L19: =(1+K19)*L17 -> 1.0833
G21: Werkgeverslasten | J21: Werkgeverslasten
G22: ZW aanvullend | J22: ZW aanvullend
G23: Pensioen | J23: Pensioen
G24: Scholing | J24: Scholing
G25: Sociaal Fonds | J25: Sociaal Fonds
G26: WW/Awf | J26: WW/Awf
G27: WAO/WIA Landelijke basispremie (Aof) | J27: WAO/WIA Landelijke basispremie (Aof)
G28: Werkgeversbijdrage kinderopvang | J28: Werkgeversbijdrage kinderopvang
G29: ZW Gedifferentieerde premie (onderdeel Werkhervattingskas) | J29: ZW Gedifferentieerde premie (onderdeel Werkhervattingskas)
G30: WGA Gedifferentieerde premie (onderdeel Werkhervattingskas) | J30: WGA Gedifferentieerde premie (onderdeel Werkhervattingskas)
G31: Zvw | J31: Zvw
G32: Transitievergoeding incl. soc. lasten | J32: Transitievergoeding incl. soc. lasten
G33: Overige directe kosten | J33: Overige directe kosten
G37: Subtotaal werkgeverslasten | H37: =SUM(H22:H33) -> 0 | I37: =(1+H37)*I19 -> 1.0833 | J37: Subtotaal werkgeverslasten | K37: =SUM(K22:K33) -> 0 | L37: =(1+K37)*L19 -> 1.0833
G39: Overig | J39: Overig
G40: leegloop | J40: leegloop
G41: ZW (WULBZ) | J41: ZW (WULBZ)
G44: Subtotaal overig | H44: =SUM(H40:H41) -> 0 | I44: =(1+H44)*I37 -> 1.0833 | J44: Subtotaal overig | K44: =SUM(K40:K41) -> 0 | L44: =(1+K44)*L37 -> 1.0833
G47: Kostprijs (%) | I47: =I44 -> 1.0833 | J47: Kostprijs (%) | L47: =L44 -> 1.0833
G48: Kostprijsfactor | I48: =I47 -> 1.0833 | J48: Kostprijsfactor | L48: =L47 -> 1.0833
G50: Nominale bureaumarge (€) | H50: 0 | J50: Nominale bureaumarge (€) | K50: 0
A53: Volledige naam en rechtsvorm inschrijver:
A54: Naam (rechtsgeldig ondertekenaar):
A55: Functie (rechtsgeldig ondertekenaar):
A56: Plaats en datum:
A57: Handtekening:

Sheet Groep 2 
A1: Bijlage 6 Prijzenblad Groep 2 Raamovereenkomst uitzendkrachten
A3: NB! U dient de lichtblauwe cellen in te vullen
A5: GROEP 2 -
G8: Schaal 1-9 met uitzendbeding | H8: Werkelijk % | I8: Opbouw kostprijs | J8: Schaal 10-13 met uitzendbeding | K8: Werkelijk % | L8: Opbouw kostprijs
G9: Bruto uurloon | I9: 1 | J9: Bruto uurloon | L9: 1
G11: Wachtdagencompensatie | I11: =(1+H11)*I9 -> 1 | J11: Wachtdagencompensatie | L11: =(1+K11)*L9 -> 1
G13: Reserveringen | J13: Reserveringen
G14: Vakantiedagen | J14: Vakantiedagen
G15: Feestdagen | J15: Feestdagen
G16: Kortverzuim/bijz. verlof | J16: Kortverzuim/bijz. verlof
G17: SUBTOTAAL LOON + RESERVERINGEN | H17: =SUM(H14:H16) -> 0 | I17: =SUM(1+H17)*I11 -> 1 | J17: SUBTOTAAL LOON + RESERVERINGEN | K17: =SUM(K14:K16) -> 0 | L17: =(1+K17)*L11 -> 1
G19: Vakantietoeslag | H19: 0.0833 | I19: =(1+H19)*I17 -> 1.0833 | J19: Vakantietoeslag | K19: 0.0833 | L19: =(1+K19)*L17 -> 1.0833
G21: Werkgeverslasten | J21: Werkgeverslasten
G22: ZW aanvullend | J22: ZW aanvullend
G23: Pensioen | J23: Pensioen
G24: Scholing | J24: Scholing
G25: Sociaal Fonds | J25: Sociaal Fonds
G26: WW/Awf | J26: WW/Awf
G27: WAO/WIA Landelijke basispremie (Aof) | J27: WAO/WIA Landelijke basispremie (Aof)
G28: Werkgeversbijdrage kinderopvang | J28: Werkgeversbijdrage kinderopvang
G29: ZW Gedifferentieerde premie (onderdeel Werkhervattingskas) | J29: ZW Gedifferentieerde premie (onderdeel Werkhervattingskas)
G30: WGA Gedifferentieerde premie (onderdeel Werkhervattingskas) | J30: WGA Gedifferentieerde premie (onderdeel Werkhervattingskas)
G31: Zvw | J31: Zvw
G32: Transitievergoeding incl. soc. lasten | J32: Transitievergoeding incl. soc. lasten
G33: Overige directe kosten | J33: Overige directe kosten
G37: subtotaal werkgeverslasten | H37: =SUM(H22:H33) -> 0 | I37: =(1+H37)*I19 -> 1.0833 | J37: subtotaal werkgeverslasten | K37: =SUM(K22:K33) -> 0 | L37: =(1+K37)*L19 -> 1.0833
G39: Overig | J39: Overig
G40: leegloop | J40: leegloop
G41: ZW (WULBZ) | J41: ZW (WULBZ)
G43: subtotaal overig | H43: =SUM(H40:H41) -> 0 | I43: =(1+H43)*I37 -> 1.0833 | J43: subtotaal overig | K43: =SUM(K40:K41) -> 0 | L43: =(1+K43)*L37 -> 1.0833
G47: Kostprijs (%) | I47: =I43 -> 1.0833 | J47: Kostprijs (%) | L47: =L43 -> 1.0833
G48: Kostprijsfactor | I48: =I47 -> 1.0833 | J48: Kostprijsfactor | L48: =L47 -> 1.0833
G50: Nominale bureaumarge (€) | H50: 0 | J50: Nominale bureaumarge (€) | K50: 0
A53: Volledige naam en rechtsvorm inschrijver:
A54: Naam (rechtsgeldig ondertekenaar):
A55: Functie (rechtsgeldig ondertekenaar):
A56: Plaats en datum:
A57: Handtekening:

Sheet Inschrijfprijs
A1: Bijlage 6 Prijzenblad Inschrijfprijs Raamovereenkomst uitzendkrachten
A4: NB! Tabblad 'Inschrijfprijs' wordt automatisch gegenereerd vanuit de andere tabbladen
A5: NB! Onderstaand wordt uw inschrijfprijs berekend (groene cel)
A7: Uurtarief per salarisschalencluster is: (bruto uurloon € x kostprijsfactor) + nominale bureaumarge €
A8: Subtotaal per salarisschalencluster is: uurtarief x aantal uren
A9: Subtotaal per jaar is: schaal 1-9 € + schaal 10-13 €
A10: Totaal per jaar is: subtotaal per jaar G1 met uitzendbeding + subtotaal per jaar G2 met uitzendbeding
A11: Totaal per jaar (=inschrijfprijs)
A12: Voor het bruto uurloon binnen de schalen 1-9 is het bruto uurloon van schaal 6, trede 9 gebruikt
A13: Voor het bruto uurloon binnen de schalen 10-13 is het bruto uurloon van schaal 10, trede 5 gebruikt
A15: Voorbeeld:
A16: Bruto uurloon | B16: 13
A17: Kostprijsfactor | B17: 1.3548
A18: Nominale Bureaumarge | B18: 0.68
A19: Aantal uren | B19: 2000
A20: Uurtarief is ((13,00 x 1,3548) + 0,68) x 2000 = € 36.584,80
A25: Groep 1 Met uitzendbeding | B25: Bruto uurloon € | C25: Kostprijsfactor | D25: Nominale Bureaumarge € | E25: Uurtarief | F25: Aantal uren | G25: €
A26: Schaal 1-9 | B26: 17.13 | C26: ='Groep 1'!I47 -> 1.0833 | D26: ='Groep 1'!H50 -> 0 | E26: =(B26*C26)+D26 -> 18.556929 | F26: 1500 | G26: =E26*F26 -> 27835.393
A27: Schaal 10-13 | B27: 23.03 | C27: ='Groep 1'!L48 -> 1.0833 | D27: ='Groep 1'!K50 -> 0 | E27: =(B27*C27)+D27 -> 24.948399 | F27: 500 | G27: =E27*F27 -> 12474.199
C29: Subtotaal per jaar | F29: =SUM(F26:F27) -> 2000 | G29: =SUM(G26:G27) -> 40309.593
A33: Groep 2 Met uitzendbeding | B33: Bruto uurloon € | C33: Kostprijsfactor | D33: Nominale Bureaumarge € | E33: Uurtarief | F33: Aantal uren | G33: €
A34: Schaal 1-9 | B34: 17.13 | C34: ='Groep 2 '!I48 -> 1.0833 | D34: ='Groep 2 '!H50 -> 0 | E34: =(B34*C34)+D34 -> 18.556929 | F34: 750 | G34: =E34*F34 -> 13917.697
A35: Schaal 10-13 | B35: 23.03 | C35: ='Groep 2 '!L48 -> 1.0833 | D35: ='Groep 2 '!K50 -> 0 | E35: =(B35*C35)+D35 -> 24.948399 | F35: 250 | G35: =E35*F35 -> 6237.0997
C37: Subtotaal per jaar | F37: =SUM(F34:F35) -> 1000 | G37: =SUM(G34:G35) -> 20154.796
C41: Totaal per jaar ( = inschrijfprijs) | F41: =SUM(F29,F37) -> 3000 | G41: =SUM(G29,G37) -> 60464.389
A45: Volledige naam en rechtsvorm inschrijver:
A46: Naam (rechtsgeldig ondertekenaar):
A47: Functie (rechtsgeldig ondertekenaar):
A48: Plaats en datum:
A49: Handtekening:
