Workbook
Name aanbevelingen: #REF!
Name aanbevelingen1: [1]Blad1!$A$2:$C$107

Sheet 0 Toelichting

Sheet 1 Totaal generaal
B2: Totaal generaal blad
B3: Geel gemarkeerde velden in te vullen door inschrijver
B4: Naam van de inschrijver:
B6: Datum:
B9: Inschrijving | C9: prijs
B10: Maatregelen RI&E Dakveiligheid | C10: ='5 Totaal dakveiligheid'!D23 -> 0
B11: Jaarlijkse dakveiligheid keuring | C11: ='4 Jaarlijkse keuringdakveilighd'!C29 -> 0
B12: Daken Onderhoud | C12: ='3 DakOnderhoud'!I61 -> 40492.87
B13: Vegetatie daken onderhoud | C13: ='2 Vegetatie daken'!E18 -> 5202.51
B14: Totaal: | C14: =SUM(C10:C13) -> 45695.38 | D14: Excl BTW
B15: Inschrijving: | C15: =C14*1.21 -> 55291.409 | D15: Incl BTW

Sheet 2 Vegetatie daken
A1: Calculatie schema Onderhoud Vegetatie daken
A3: Tarieven excl. BTW
A5: Geel gemarkeerde velden in te vullen door inschrijver
A7: Naam van de inschrijver:
A10: Uitvoeren van het Vegetatie Onderhoudsprogramma met bijbehorende specificatie en frequentie volgens het PVE Hoofdstuk 6.4.6 | C10: Gemiddeld Tarief per M2 | D10: Indicatieve hoeveelheden in M2 | E10: Rekenwaarde bedrag
A11: Betreft de gebouwen Museumpark, Academieplein, Kralingse Zoom en Wijnhaven 107 | C11: 3 | D11: 1700 | E11: =C11*D11 -> 5100
C13: % | D13: bedrag
A14: Algemene BedrijfsKosten (AK) | C14: 0.01 | D14: =C14*E11 -> 51 | E14: =D14+E11 -> 5151
A16: Winst & risico | C16: 0.01 | D16: =C16*E14 -> 51.51 | E16: =E14+D16 -> 5202.51
D18: totaal | E18: =E16 -> 5202.51 | F18: naar totaalblad
C28: 0 | D28: 0.03 | E28: 0
C29: 0.01 | D29: 0.0325 | E29: 0.0025
C30: 0.02 | D30: 0.035 | E30: 0.005
C31: 0.03 | D31: 0.0375 | E31: 0.0075
C32: 0.04 | D32: 0.04 | E32: 0.01
C33: 0.04 | D33: 0.04 | E33: 0.01
C34: 0.05 | D34: 0.0425 | E34: 0.0125
C35: 0.06 | D35: 0.045 | E35: 0.015
C36: 0.07 | D36: 0.0475 | E36: 0.0175
C37: 0.08 | D37: 0.05 | E37: 0.02
C38: 0.09 | D38: 0.0525 | E38: 0.0225
C39: 0.1 | D39: 0.055 | E39: 0.025
... C77: 0.48 | D77: 0.15 | E77: 0.12
C78: 0.49 | E78: 0.1225
C79: 0.5 | E79: 0.125
C80: 0.51 | E80: 0.1275
C81: 0.52 | E81: 0.13
C82: 0.53 | E82: 0.1325
C83: 0.54 | E83: 0.135
C84: 0.55 | E84: 0.1375
C85: 0.56 | E85: 0.14
C86: 0.57 | E86: 0.1425
C87: 0.58 | E87: 0.145
C88: 0.59 | E88: 0.1475
C89: 0.6 | E89: 0.15
C90: 0.61
C91: 0.62
C92: 0.63
C93: 0.64
C94: 0.65
C95: 0.66
C96: 0.67
C97: 0.68
C98: 0.69
C99: 0.7
C100: 0.71
C101: 0.72
... C129: 1

Sheet 3 DakOnderhoud
A1: Calculatie schema Dak Onderhoud
A3: Tarieven excl. BTW
A5: Geel gemarkeerde velden in te vullen door inschrijver
A7: Naam van de inschrijver:
E10: Bedragen | G10: Indicatieve hoeveelheden | I10: Fictieve rekenwaarde
A12: 1. | B12: Uurtarieven Onderhoud | E12: A | G12: B | I12: C = A x B
B13: 1.1 | C13: Loon (maandag t/m vrijdag tussen 7.00 en 18.00 uur; all-in uurtarief)
C14: Allround service medewerker vlakke daken (dakdekker) | E14: 40 | G14: 80 | I14: =E14*G14 -> 3200
C15: allround servicemedewerker schuine daken | E15: 40 | G15: 80 | I15: =E15*G15 -> 3200
C16: allround service medewerker gootafwerking | E16: 40 | G16: 80 | I16: =E16*G16 -> 3200
C17: allround service medewerker dakveiligheid | E17: 40 | G17: 80 | I17: =E17*G17 -> 3200
C18: allround service medewerker groene daken | E18: 35 | G18: 160 | I18: =E18*G18 -> 5600
C19: Inspecteur rapporteur daken | E19: 40 | G19: 40 | I19: =E19*G19 -> 1600
C20: Werkvoorbereider | E20: 40 | G20: 20 | I20: =E20*G20 -> 800
C21: Projectleider | E21: 40 | G21: 20 | I21: =E21*G21 -> 800
C22: Uitvoerder | E22: 40 | G22: 20 | I22: =E22*G22 -> 800
B24: 1.2 | C24: Loon (zon- en feestdagen) | D24: toeslag | E24: 0.2
C25: =C14 -> Allround service medewerker vlakke daken (dakdekker) | E25: =(E$24+100%)*E14 -> 48 | G25: 40 | I25: =E25*G25 -> 1920
C26: allround dakdekker schuine daken | E26: =(E$24+100%)*E15 -> 48 | G26: 40 | I26: =E26*G26 -> 1920
C27: allround service medewerker gootafwerking | E27: =(E$24+100%)*E16 -> 48 | G27: 40 | I27: =E27*G27 -> 1920
C28: allround service medewerker dakveiligheid | E28: =(E$24+100%)*E17 -> 48 | G28: 40 | I28: =E28*G28 -> 1920
C29: allround service medewerker groene daken | E29: =(E$24+100%)*E18 -> 42 | G29: 40 | I29: =E29*G29 -> 1680
C30: =C21 -> Projectleider | E30: =(E$24+100%)*E21 -> 48 | G30: 20 | I30: =E30*G30 -> 960
C31: =C22 -> Uitvoerder | E31: =(E$24+100%)*E22 -> 48 | G31: 20 | I31: =E31*G31 -> 960
B33: 1.3 | C33: Loon (overige uren) | D33: toeslag | E33: 0.3
C34: =C25 -> Allround service medewerker vlakke daken (dakdekker) | E34: =(E$33+100%)*E14 -> 52 | G34: 20 | I34: =E34*G34 -> 1040
C35: allround dakdekker schuine daken | E35: =(E$33+100%)*E15 -> 52 | G35: 20 | I35: =E35*G35 -> 1040
C36: allround service medewerker gootafwerking | E36: =(E$33+100%)*E16 -> 52 | G36: 20 | I36: =E36*G36 -> 1040
C37: allround service medewerker dakveiligheid | E37: =(E$33+100%)*E17 -> 52 | G37: 20 | I37: =E37*G37 -> 1040
C38: allround service medewerker groene daken | E38: =(E$33+100%)*E18 -> 45.5 | G38: 10 | I38: =E38*G38 -> 455
C39: =C30 -> Projectleider | E39: =(E$33+100%)*E21 -> 52 | G39: 10 | I39: =E39*G39 -> 520
C40: =C31 -> Uitvoerder | E40: =(E$33+100%)*E22 -> 52 | G40: 10 | I40: =E40*G40 -> 520
I41: =SUM(I14:I40) -> 39335
A43: 2. | B43: Materiaal en werkderden toeslag
B45: 2.1 | C45: Calculatieschema
C46: Netto materiaal, < €5.000 | D46: toeslag | E46: 0.02 | G46: 4500 | I46: =E46*G46 -> 90
C47: Netto materiaal, ≥ € 5.000 | D47: toeslag | E47: 0.02 | G47: 5500 | I47: =E47*G47 -> 110
C48: Werk derden (oa onderaannemers) | D48: toeslag | E48: 0.02 | G48: 4000 | I48: =E48*G48 -> 80
C49: Werk door leveranciers die reeds onder contract bij Hogeschool Rotterdam staan: de toeslag betreft de Coordinatie vergoeding: de Volledige project organisatie wordt verzorgd door de inschrijver Dak en Dakveiligheid, De opdracht en de betaling aan deze contract leveranciers wordt rechtsreeks verzorgd door Hogeschool Rotterdam. | D49: toeslag | E49: 0.02 | G49: 4000 | I49: =E49*G49 -> 80
G50: =SUM(G46:G49) -> 18000 | I50: =SUM(I46:I49) -> 360
C52: Totaal loon, materiaal en derden | I52: =I50+I41 -> 39695
A54: 3. | B54: Toeslag
B57: 3.1 | C57: Algemene BedrijfsKosten (AK) in % | E57: 0.01 | G57: =E57*I52 -> 396.95 | I57: =G57+I52 -> 40091.95
B59: 3.2 | C59: Winst & risico in % | E59: 0.01 | G59: =E59*I57 -> 400.9195 | I59: =G59+I57 -> 40492.87
G61: totaal | I61: =I59 -> 40492.87 | J61: naar totaalblad
E71: 0 | G71: 0.03 | I71: 0
E72: 0.01 | G72: 0.0325 | I72: 0.0025
E73: 0.02 | G73: 0.035 | I73: 0.005
E74: 0.03 | G74: 0.0375 | I74: 0.0075
E75: 0.04 | G75: 0.04 | I75: 0.01
E76: 0.04 | G76: 0.04 | I76: 0.01
E77: 0.05 | G77: 0.0425 | I77: 0.0125
E78: 0.06 | G78: 0.045 | I78: 0.015
E79: 0.07 | G79: 0.0475 | I79: 0.0175
E80: 0.08 | G80: 0.05 | I80: 0.02
E81: 0.09 | G81: 0.0525 | I81: 0.0225
E82: 0.1 | G82: 0.055 | I82: 0.025
... E120: 0.48 | G120: 0.15 | I120: 0.12
E121: 0.49 | I121: 0.1225
E122: 0.5 | I122: 0.125
E123: 0.51 | I123: 0.1275
E124: 0.52 | I124: 0.13
E125: 0.53 | I125: 0.1325
E126: 0.54 | I126: 0.135
E127: 0.55 | I127: 0.1375
E128: 0.56 | I128: 0.14
E129: 0.57 | I129: 0.1425
E130: 0.58 | I130: 0.145
E131: 0.59 | I131: 0.1475
E132: 0.6 | I132: 0.15
E133: 0.61
E134: 0.62
E135: 0.63
E136: 0.64
E137: 0.65
E138: 0.66
E139: 0.67
E140: 0.68
E141: 0.69
E142: 0.7
E143: 0.71
E144: 0.72
... E172: 1
L195: 0 | M195: 0.03 | N195: 0
L196: 0.01 | M196: 0.0325 | N196: 0.0025
L197: 0.02 | M197: 0.035 | N197: 0.005
L198: 0.03 | M198: 0.0375 | N198: 0.0075
L199: 0.04 | M199: 0.04 | N199: 0.01
L200: 0.04 | M200: 0.04 | N200: 0.01
L201: 0.05 | M201: 0.0425 | N201: 0.0125
L202: 0.06 | M202: 0.045 | N202: 0.015
L203: 0.07 | M203: 0.0475 | N203: 0.0175
L204: 0.08 | M204: 0.05 | N204: 0.02
L205: 0.09 | M205: 0.0525 | N205: 0.0225
L206: 0.1 | M206: 0.055 | N206: 0.025
... L244: 0.48 | M244: 0.15 | N244: 0.12
L245: 0.49 | N245: 0.1225
L246: 0.5 | N246: 0.125
L247: 0.51 | N247: 0.1275
L248: 0.52 | N248: 0.13
...

Sheet 4 Jaarlijkse keuringdakveilighd
A1: Calculatieblad | B1: Jaarlijkse inspectie en keuring dakveiligheid
A3: Totaal Tarieven excl BTW
A5: Geel gemarkeerde velden in te vullen door de inschrijver
A7: Naam van de inschrijver:
A10: Locatie gebouw | C10: Eenheidsprijs
A11: Academieplein | C11: 0
A12: Blaak | C12: 0
A13: Kralingse Zoom | C13: 0
A14: Museumpark | C14: 0
A15: Pieter de Hoochweg | C15: 0
A16: Wijnhaven 61 | C16: 0
A17: Wijnhaven 99 | C17: 0
A18: Wijnhaven 103 | C18: 0
A19: Wijnhaven 107 | C19: 0
A20: RDM Innovation Dock | C20: 0
B22: totaal | C22: =SUM(C11:C21) -> 0
A24: Algemene BedrijfsKosten (AK) in % | B24: 0.01 | C24: =B24*C22 -> 0
C25: =C24+C22 -> 0
A27: Winst & risico in % | B27: 0.01 | C27: =B27*C25 -> 0
C29: =C25+C27 -> 0 | D29: naar totaalblad
E32: 0 | F32: 0.03 | G32: 0
E33: 0.01 | F33: 0.0325 | G33: 0.0025
E34: 0.02 | F34: 0.035 | G34: 0.005
E35: 0.03 | F35: 0.0375 | G35: 0.0075
E36: 0.04 | F36: 0.04 | G36: 0.01
E37: 0.04 | F37: 0.04 | G37: 0.01
E38: 0.05 | F38: 0.0425 | G38: 0.0125
E39: 0.06 | F39: 0.045 | G39: 0.015
E40: 0.07 | F40: 0.0475 | G40: 0.0175
E41: 0.08 | F41: 0.05 | G41: 0.02
E42: 0.09 | F42: 0.0525 | G42: 0.0225
E43: 0.1 | F43: 0.055 | G43: 0.025
... E81: 0.48 | F81: 0.15 | G81: 0.12
E82: 0.49 | G82: 0.1225
E83: 0.5 | G83: 0.125
E84: 0.51 | G84: 0.1275
E85: 0.52 | G85: 0.13
E86: 0.53 | G86: 0.1325
E87: 0.54 | G87: 0.135
E88: 0.55 | G88: 0.1375
E89: 0.56 | G89: 0.14
E90: 0.57 | G90: 0.1425
E91: 0.58 | G91: 0.145
E92: 0.59 | G92: 0.1475
E93: 0.6 | G93: 0.15
E94: 0.61
E95: 0.62
E96: 0.63
E97: 0.64
E98: 0.65
E99: 0.66
E100: 0.67
E101: 0.68
E102: 0.69
E103: 0.7
E104: 0.71
E105: 0.72
... E133: 1

Sheet 5 Totaal dakveiligheid
A1: Calculatieblad | B1: Maatregelen dakveiligheid volgens RI&E
A3: Totaal Tarieven excl BTW
A5: Geel gemarkeerde velden in te vullen door de inschrijver
A7: Naam van de inschrijver:
A10: Locatie gebouw | D10: Bedragen excl BTW
A11: Kralingse Zoom 91 | D11: ='6 KZ dakveiligheid'!H1 -> 0
A12: Museumpark Hoogbouw | D12: ='7 MP hoog dakveiligheid'!H1 -> 0
A13: Museumpark Laagbouw | D13: ='8 MP Laag dakveiligheid'!H1 -> 0
A14: Pieter de Hoochweg 129 | D14: ='9 PDH dakveiligheid'!H1 -> 0
D15: =SUM(D11:D14) -> 0
A18: Algemene BedrijfsKosten (AK) in % | C18: 0.01 | D18: =C18*D15 -> 0
D19: =D18+D15 -> 0
A21: Winst en Risico in % | C21: 0.01 | D21: =C21*D19 -> 0
A23: Totaal | D23: =D19+D21 -> 0 | E23: naar totaalblad
G25: 0 | H25: 0.03 | I25: 0
G26: 0.01 | H26: 0.0325 | I26: 0.0025
G27: 0.02 | H27: 0.035 | I27: 0.005
G28: 0.03 | H28: 0.0375 | I28: 0.0075
G29: 0.04 | H29: 0.04 | I29: 0.01
G30: 0.04 | H30: 0.04 | I30: 0.01
G31: 0.05 | H31: 0.0425 | I31: 0.0125
G32: 0.06 | H32: 0.045 | I32: 0.015
G33: 0.07 | H33: 0.0475 | I33: 0.0175
G34: 0.08 | H34: 0.05 | I34: 0.02
G35: 0.09 | H35: 0.0525 | I35: 0.0225
G36: 0.1 | H36: 0.055 | I36: 0.025
... G74: 0.48 | H74: 0.15 | I74: 0.12
G75: 0.49 | I75: 0.1225
G76: 0.5 | I76: 0.125
G77: 0.51 | I77: 0.1275
G78: 0.52 | I78: 0.13
G79: 0.53 | I79: 0.1325
G80: 0.54 | I80: 0.135
G81: 0.55 | I81: 0.1375
G82: 0.56 | I82: 0.14
G83: 0.57 | I83: 0.1425
G84: 0.58 | I84: 0.145
G85: 0.59 | I85: 0.1475
G86: 0.6 | I86: 0.15
G87: 0.61
G88: 0.62
G89: 0.63
G90: 0.64
G91: 0.65
G92: 0.66
G93: 0.67
G94: 0.68
G95: 0.69
G96: 0.7
G97: 0.71
G98: 0.72
... G126: 1

Sheet 6 KZ dakveiligheid
A1: Maatregelen Dakveiligheid volgens RI&E | G1: Gebouw totaal | H1: =H93 -> 0
A3: Tarieven excl. BTW
C5: Geel gemarkeerde velden in te vullen door de inschrijver
A6: Kralingse Zoom 91 | C6: Naam van de inschrijver:
A7: Rotterdam
A10: Dakvlak | B10: Nummering | C10: Aanbeveling | D10: Omschrijving | E10: Aantal | F10: Eenheid | G10: Eenheidsprijs | H10: Totaalprijs
A11: 1 | B11: 1 | C11: Plaatsen extra leuningen | D11: Plaats extra leuningen conform NEN-ISO-EN 14122-3 en monteer trappen deugdelijk aan de ondergrond. | E11: 1 | F11: ST | G11: 0 | H11: =E11*G11 -> 0
A12: 1 | B12: 2 | C12: Antislipvoorziening | D12: Plaats een antislipvoorziening op het raamkozijn. | E12: 1 | F12: ST | G12: 0 | H12: =G12*E12 -> 0
A13: 1 | B13: 3 | C13: Plaatsen markering veilige arbeidszone | D13: Plaats markering veilige arbeidszone van tegels in het grind, en van stroken dakbedekking op de dak(del)en zonder ballast. | E13: 11 | F13: M1 | G13: 0 | H13: =G13*E13 -> 0
A14: 1 | B14: 4 | C14: Plaats ankeringspunt | D14: Plaats een ankeringspunt conform EN 795. | E14: 1 | F14: ST | G14: 0 | H14: =G14*E14 -> 0
A15: 1 | B15: 3 | C15: Plaatsen markering veilige arbeidszone | D15: Plaats markering veilige arbeidszone van tegels in het grind, en van stroken dakbedekking op de dak(del)en zonder ballast. | E15: 21 | F15: M1 | G15: 0 | H15: =G15*E15 -> 0
A16: 1 | B16: 5 | C16: Staalkabelsysteem | D16: Plaats een staalkabelsysteem conform EN 795. | E16: 11 | F16: M1 | G16: 0 | H16: =G16*E16 -> 0
A17: 2 | B17: 3 | C17: Plaatsen markering veilige arbeidszone | D17: Plaats markering veilige arbeidszone van tegels in het grind, en van stroken dakbedekking op de dak(del)en zonder ballast. | E17: 6 | F17: M1 | G17: 0 | H17: =G17*E17 -> 0
A18: 2 | B18: 4 | C18: Plaats ankeringspunt | D18: Plaats een ankeringspunt conform EN 795. | E18: 1 | F18: ST | G18: 0 | H18: =G18*E18 -> 0
A19: 2 | B19: 5 | C19: Staalkabelsysteem | D19: Plaats een staalkabelsysteem conform EN 795. | E19: 7 | F19: M1 | G19: 0 | H19: =G19*E19 -> 0
A20: 2 | B20: 6 | C20: Lichtstraten | D20: Plaats een hekwerk conform Arbocatalogus Platte Daken aan de lage zijden (<1,0m hoog) van de lichtstraten. | E20: 2 | F20: ST | G20: 0 | H20: =G20*E20 -> 0
A21: 2 | B21: 41 | C21: Permanente ladder | D21: Plaats een permanente ladder conform NEN-ISO-EN 14122-4. | E21: 1 | F21: ST | G21: 0 | H21: =G21*E21 -> 0
A22: 2 | B22: 41 | C22: Ankeringspunt | D22: Plaats een ankeringspunt conform EN 795. | E22: 1 | F22: ST | G22: 0 | H22: =G22*E22 -> 0
A23: 2 | B23: 41 | C23: Looproute | D23: Creëer een looproute met rubberen, gekoppelde tegels die links en rechts voorzien zijn van gele markering, conform NEN 3702, EN 13501-1. | E23: 3 | F23: M1 | G23: 0 | H23: =G23*E23 -> 0
... A83: 11 | B83: 26 | C83: Creëer looproute | D83: Creëer een looproute met rubberen, gekoppelde tegels die links en rechts voorzien zijn van gele markering, conform NEN 3702, EN 13501-1. | E83: 1 | F83: ST | G83: 0 | H83: =G83*E83 -> 0
C85: Totaal maatregelen dakveiligheid | H85: =SUM(H11:H84) -> 0
A87: algemeen | C87: Klimtoeslag | E87: 1 | F87: PST | G87: 0 | H87: =E87*G87 -> 0
A88: algemeen | C88: Verticaal transport | E88: 1 | F88: PST | G88: 0 | H88: =E88*G88 -> 0
A89: algemeen | C89: Opstellen dakveiligheidsplattegronden en aanleveren digitaal PDF/DWG | E89: 1 | F89: PST | G89: 0 | H89: =E89*G89 -> 0
C91: Totaal indirecte kosten | H91: =SUM(H87:H90) -> 0
C93: Totaalprijs gebouw | H93: =H91+H85 -> 0
C95: LET OP: Algemene Kosten AK en Winst en Risico voor dit onderdeel toevoegen in het tabblad: "Totaal dakveiligheid"

Sheet 7 MP hoog dakveiligheid
A1: Maatregelen Dakveiligheid volgens RI&E | G1: Gebouw totaal | H1: =H75 -> 0
A3: Tarieven excl. BTW
C5: Geel gemarkeerde velden in te vullen door de inschrijver
A6: Museumpark Hoogbouw | C6: Naam van de inschrijver:
A7: Rotterdam
A10: Dakvlak | B10: Nummering | C10: Aanbeveling | D10: Omschrijving | E10: Aantal | F10: Eenheid | G10: Eenheidsprijs | H10: Totaalprijs
A11: 1 | B11: 1 | C11: Bordes | D11: Plaats een bordes over de gladde dakrand en de doorvoer, conform NEN-ISO-EN 14122-1 t/m 4. | E11: 1 | F11: stuk(s) | G11: 0 | H11: =G11*E11 -> 0
A12: 1 | B12: 1 | C12: Zelfsluitend deurtje | D12: Plaats een zelfsluitend deurtje. | E12: 1 | F12: stuk(s) | G12: 0 | H12: =G12*E12 -> 0
A13: 2 | B13: 5 | C13: Hekwerk | D13: Plaats een hekwerken/leuningen conform NEN-ISO-EN 14122-1 t/m 4 bij de trap/opstap en het bordes. | E13: 0.4 | F13: m1 | G13: 0 | H13: =G13*E13 -> 0
A14: 2 | B14: 5 | C14: Hekwerk | D14: Plaats een hekwerken/leuningen conform NEN-ISO-EN 14122-1 t/m 4 bij de trap/opstap en het bordes. | E14: 0.4 | F14: m1 | G14: 0 | H14: =G14*E14 -> 0
A15: 2 | B15: 5 | C15: Hekwerk | D15: Plaats een hekwerken/leuningen conform NEN-ISO-EN 14122-1 t/m 4 bij de trap/opstap en het bordes. | E15: 2.7 | F15: m1 | G15: 0 | H15: =G15*E15 -> 0
A16: 2 | B16: 5 | C16: Hekwerk | D16: Plaats een hekwerken/leuningen conform NEN-ISO-EN 14122-1 t/m 4 bij de trap/opstap en het bordes. | E16: 0.5 | F16: m1 | G16: 0 | H16: =G16*E16 -> 0
A17: 2 | B17: 5 | C17: Hekwerk | D17: Plaats een hekwerken/leuningen conform NEN-ISO-EN 14122-1 t/m 4 bij de trap/opstap en het bordes. | E17: 13.7 | F17: m1 | G17: 0 | H17: =G17*E17 -> 0
A18: 2 | B18: 5 | C18: Hekwerk | D18: Plaats een hekwerken/leuningen conform NEN-ISO-EN 14122-1 t/m 4 bij de trap/opstap en het bordes. | E18: 7.4 | F18: m1 | G18: 0 | H18: =G18*E18 -> 0
A19: 2 | B19: 6 | C19: Trapje (vervang) | D19: Vervang trapje/opstapje of pas deze aan conform NEN-ISO-EN 14122-4. | E19: 5 | F19: stuk(s) | G19: 0 | H19: =G19*E19 -> 0
A20: 2 | B20: 7 | C20: Snijdgevaar | D20: Plaats geel-zwarte signalering stootgevaar, in de vorm van zachte, schuimrubberen en UV bestendige profielen over de scherpe delen van de ventilatiekanalen om snijdgevaar te voorkomen. | E20: 1 | F20: stuk(s) | G20: 0 | H20: =G20*E20 -> 0
A21: 2 | B21: 8 | C21: Trapje (vervang) | D21: Plaats een trapje/opstapje conform NEN-ISO-EN 14122-1 t/m 4. | E21: 2 | F21: stuk(s) | G21: 0 | H21: =G21*E21 -> 0
A22: 2 | B22: 9 | C22: Sparingen, dicht af | D22: Dicht alle sparingen, welke groter zijn dan 20mm, rondom de bordessen af conform NEN-EN-ISO 14122-1 t/m 4, door het aanbrengen, modificeren of vervangen van de bestaande gegalvaniseerde roostervloerdelen (gelijkend formaat). Bevestig de aanpassingen op correcte wijze aan de onderconstructie(s). | E22: 3 | F22: stuk(s) | G22: 0 | H22: =G22*E22 -> 0
... A24: 2 | B24: 11 | C24: Instructie | D24: Plaats een instructie bij de toetreding welk aangeeft dat men niet op de stalen constructie-elementen op het dakvlak mag staan. Plaats eventueel signaleringen "niet beloopbaar". De rood gearceerde zone tussen de rails van de gevelinstallatie mag niet betreden worden. | E24: 1 | F24: stuk(s) | G24: 0 | H24: =G24*E24 -> 0
A25: 2 | B25: 17a | C25: Zonemarkering | D25: Plaats een zonemarkering. Gebruik afwijkend gekleurde tegels tussen het grind/groen, en zorg dat er geen struikelgevaar ontstaat. | E25: 1 | F25: stuk(s) | G25: 0 | H25: =G25*E25 -> 0
A26: 2 | B26: 24 | C26: Hekwerk | D26: Plaats hekwerk conform Arbocatalogus Platte Daken. | E26: 1.5 | F26: m1 | G26: 0 | H26: =G26*E26 -> 0
A27: 2 | B27: 24 | C27: Hekwerk | D27: Plaats hekwerk conform Arbocatalogus Platte Daken. | E27: 8.6 | F27: m1 | G27: 0 | H27: =G27*E27 -> 0
A28: 2 | B28: 3 | C28: Hekwerk | D28: Plaats hekwerk conform NEN-EN-ISO 14122-1 t/m 4 | E28: 3.7 | F28: m1 | G28: 0 | H28: =G28*E28 -> 0
A29: 2 | B29: 3 | C29: Hekwerk | D29: Plaats hekwerk conform NEN-EN-ISO 14122-1 t/m 4 | E29: 5.2 | F29: m1 | G29: 0 | H29: =G29*E29 -> 0
A30: 2 | B30: 29 | C30: Creëer een doorgang door het scherm. | D30: Creëer een doorgang door het scherm, identiek aan tegenover gelegen bestaande (en afsluitbare) doorgang. | E30: 1 | F30: stuk(s) | G30: 0 | H30: =G30*E30 -> 0
A31: 4 | B31: 10 | C31: Antislipvoorziening | D31: Plaats een antislipvoorziening op de gladde dakrand en/of de constructie- elementen. | E31: 1 | F31: stuk(s) | G31: 0 | H31: =G31*E31 -> 0
A32: 4 | B32: 14 | C32: Hekwerk | D32: Plaats een hekwerk in getekende opstelling conform NEN-EN-ISO 14122-1 t/m 4 | E32: 3.6 | F32: m1 | G32: 0 | H32: =G32*E32 -> 0
A33: 4 | B33: 15 | C33: Veilige zonemarkering | D33: Plaats markering veilige arbeidszone op 4m vanaf het valgevaar: Gebruik afwijkend gekleurde tegels tussen het grind/groen, en zorg dat er geen struikelgevaar ontstaat. | E33: 50 | F33: m1 | G33: 0 | H33: =G33*E33 -> 0
A34: 4 | B34: 17a | C34: Zonemarkering | D34: Plaats een zonemarkering. Gebruik afwijkend gekleurde tegels tussen het grind/groen, en zorg dat er geen struikelgevaar ontstaat. | E34: 1 | F34: stuk(s) | G34: 0 | H34: =G34*E34 -> 0
A35: 4 | B35: 18 | C35: Signalering verboden te betreden | D35: Plaats een signaleringsbordje "verboden te betreden". | E35: 2 | F35: stuk(s) | G35: 0 | H35: =G35*E35 -> 0
A36: 4 | B36: 19 | C36: Opstelplaats | D36: Creëer een ladderopstelplaats op het dakvlak, d.m.v. het plaatsen van tegels identiek aan de al aanwezige tegels van het looppad. | E36: 1 | F36: stuk(s) | G36: 0 | H36: =G36*E36 -> 0
A37: 4 | B37: 32 | C37: Staalkabelsysteem | D37: Plaats permanent staalkabelsysteem, conform EN 795. | E37: 11.3 | F37: m1 | G37: 0 | H37: =G37*E37 -> 0
A38: 5 | B38: 10 | C38: Antislipvoorziening | D38: Plaats een antislipvoorziening op de gladde dakrand en/of de constructie- elementen. | E38: 1 | F38: stuk(s) | G38: 0 | H38: =G38*E38 -> 0
A39: 5 | B39: 15 | C39: Veilige zonemarkering | D39: Plaats markering veilige arbeidszone op 4m vanaf het valgevaar: Gebruik afwijkend gekleurde tegels tussen het grind/groen, en zorg dat er geen struikelgevaar ontstaat. | E39: 30.2 | F39: m1 | G39: 0 | H39: =G39*E39 -> 0
A40: 5 | B40: 17a | C40: Zonemarkering | D40: Plaats een zonemarkering. Gebruik afwijkend gekleurde tegels tussen het grind/groen, en zorg dat er geen struikelgevaar ontstaat. | E40: 2 | F40: stuk(s) | G40: 0 | H40: =G40*E40 -> 0
A41: 5 | B41: 20 | C41: Looproute | D41: Creëer een looproute van minimaal 60cm breed, d.m.v. het plaatsen van tegels identiek aan de al aanwezige tegels op het dakvlak. | E41: 3.5 | F41: m1 | G41: 0 | H41: =G41*E41 -> 0
A42: 5 | B42: 22 | C42: Staalkabelsysteem (pas aan) | D42: Verwijder/vervang (een deel van) de aanwezige ankeringspunten en plaats een staalkabelsysteem. | E42: 2 | F42: stuk(s) | G42: 0 | H42: =G42*E42 -> 0
A43: 6 | B43: 15 | C43: Veilige zonemarkering (Bitumen) | D43: Plaats markering veilige arbeidszone op 4m vanaf het valgevaar: Gebruik afwijkend gekleurde strook dakbedekking. | E43: 20.5 | F43: m1 | G43: 0 | H43: =G43*E43 -> 0
A44: 6 | B44: 16 | C44: Ankeringspunt | D44: Plaats permanent(e) ankeringspunt(en) (EN 795) incl. waterdicht afwerken | E44: 3 | F44: stuk(s) | G44: 0 | H44: =G44*E44 -> 0
A45: 6 | B45: 17b | C45: Zonemarkering | D45: Plaats een zonemarkering. Gebruik afwijkend gekleurde strook dakbedekking. | E45: 2 | F45: stuk(s) | G45: 0 | H45: =G45*E45 -> 0
A46: 6 | B46: 2 | C46: Looproute | D46: Creëer looproute d.m.v. het plaatsen van een afwijken gekleurde strook dakbedekking met een breedte van minimaal 60cm. | E46: 3.7 | F46: m1 | G46: 0 | H46: =G46*E46 -> 0
A47: 6 | B47: 21 | C47: Ladderborging | D47: Vervang de ladderborging door een ladderborging waarmee men zonder de ladder te beklimmen de ladder kan borgen tegen het zijwaarts en neerwaarts wegglijden van de ladder, of creëer een ladderopstelplaats waarop de ladder kan worden opgesteld zonder dat deze aan de onderzijde kan wegglijden. | E47: 1 | F47: stuk(s) | G47: 0 | H47: =G47*E47 -> 0
A48: 6 | B48: 30 | C48: Ladderbordes | D48: Plaats een ladderbordes over de borstwering. Plaats antislip op de gladde borstwering als dit als loopvlak wordt gebruikt. | E48: 1 | F48: stuk(s) | G48: 0 | H48: =G48*E48 -> 0
A49: 6 | B49: 30 | C49: Antislipvoorziening | D49: Plaats antislip op de gladde borstwering als dit als loopvlak wordt gebruikt. | E49: 1 | F49: stuk(s) | G49: 0 | H49: =G49*E49 -> 0
A50: 7 | B50: 10 | C50: Antislipvoorziening | D50: Plaats een antislipvoorziening op de gladde dakrand en/of de constructie- elementen. | E50: 1 | F50: stuk(s) | G50: 0 | H50: =G50*E50 -> 0
A51: 7 | B51: 2 | C51: Looproute | D51: Creëer looproute d.m.v. het plaatsen van een afwijken gekleurde strook dakbedekking met een breedte van minimaal 60cm. | E51: 1.8 | F51: m1 | G51: 0 | H51: =G51*E51 -> 0
A52: 7 | B52: 22 | C52: Staalkabelsysteem (pas aan) | D52: Verwijder/vervang (een deel van) de aanwezige ankeringspunten en plaats een staalkabelsysteem. | E52: 1 | F52: stuk(s) | G52: 0 | H52: =G52*E52 -> 0
A53: 8 | B53: 10 | C53: Antislipvoorziening | D53: Plaats een antislipvoorziening op de gladde dakrand en/of de constructie- elementen. | E53: 1 | F53: stuk(s) | G53: 0 | H53: =G53*E53 -> 0
A54: 8 | B54: 26 | C54: Sparingen, dicht af | D54: Verklein de sparingen tussen de hekwerken onderling, en tussen hekwerken en de gevel(s), tot minimaal 5cm en maximaal 12cm. | E54: 1 | F54: stuk(s) | G54: 0 | H54: =G54*E54 -> 0
A55: 8 | B55: 26 | C55: Roestvorming | D55: Vervang roestvormende onderdelen. | E55: 1 | F55: stuk(s) | G55: 0 | H55: =G55*E55 -> 0
A56: 9 | B56: 10 | C56: Antislipvoorziening | D56: Plaats een antislipvoorziening op de gladde dakrand en/of de constructie- elementen. | E56: 2 | F56: stuk(s) | G56: 0 | H56: =G56*E56 -> 0
A57: 9 | B57: 14 | C57: Hekwerk | D57: Plaats een hekwerk in getekende opstelling conform NEN-EN-ISO 14122-1 t/m 4 | E57: 3.1 | F57: m1 | G57: 0 | H57: =G57*E57 -> 0
... A65: 9 | B65: 24 | C65: Hekwerk | D65: Plaats hekwerk conform Arbocatalogus Platte Daken. | E65: 4 | F65: m1 | G65: 0 | H65: =G65*E65 -> 0
C67: Totaal maatregelen dakveiligheid | H67: =SUM(H11:H66) -> 0
A69: algemeen | C69: Klimtoeslag | E69: 1 | F69: st | G69: 0 | H69: =E69*G69 -> 0
A70: algemeen | C70: Verticaal transport | E70: 1 | F70: st | G70: 0 | H70: =E70*G70 -> 0
A71: algemeen | C71: Opstellen dakveiligheidsplattegronden en aanleveren digitaal PDF/DWG | E71: 1 | F71: st | G71: 0 | H71: =E71*G71 -> 0
C73: Totaal indirecte kosten | H73: =SUM(H69:H72) -> 0
C75: Totaalprijs gebouw | H75: =H73+H67 -> 0
C77: LET OP: Algemene Kosten AK en Winst en Risico voor dit onderdeel toevoegen in het tabblad: "Totaal dakveiligheid"

Sheet 8 MP Laag dakveiligheid
A1: Maatregelen Dakveiligheid volgens RI&E | G1: Gebouw totaal | H1: =H89 -> 0
A3: Tarieven excl. BTW
C5: Geel gemarkeerde velden in te vullen door de inschrijver
A6: Museumpark Laagbouw | C6: Naam van de inschrijver:
A7: Rotterdam
A10: Dakvlak | B10: Nummering | C10: Aanbeveling | D10: Omschrijving | E10: Aantal | F10: Eenheid | G10: Eenheidsprijs | H10: Totaalprijs
A11: 10 | B11: 1 | C11: Plaats ladderborging | D11: Plaats een ladderborging conform Arbocatalogus Platte Daken. | E11: 1 | F11: Stuk(s) | G11: 0 | H11: =G11*E11 -> 0
A12: 10 | B12: 2 | C12: Looproute | D12: Creëer een looproute met rubberen, gekoppelde tegels die links en rechts voorzien zijn van gele markering (Conform NEN 3702, EN 13501-1. | E12: 1 | F12: Stuk(s) | G12: 0 | H12: =G12*E12 -> 0
A13: 10 | B13: 3 | C13: Plaatsen signalering | D13: Plaats zwart-gele signalering struikelgevaar. | E13: 1 | F13: Stuk(s) | G13: 0 | H13: =G13*E13 -> 0
A14: 10 | B14: 4 | C14: Plaats markering veilige arbeidszone | D14: Plaats markering veilige arbeidszone: - Bitumineus: Plaats stroken gekleurde dakbedekking. - Groen dak: Leg afwijkend gekleurde tegels 10cm x 20cm op maximaal 1,0m h.o.h. in het groendak zonder struikelgevaar te veroorzaken. | E14: 7.5 | F14: m1 | G14: 0 | H14: =G14*E14 -> 0
A15: 10 | B15: 5 | C15: Plaats ankeringspunt | D15: Plaats ankeringspunt conform EN 795. | E15: 2 | F15: Stuk(s) | G15: 0 | H15: =G15*E15 -> 0
A16: 10 | B16: 6 | C16: Doorvalbestendig maken lichtkoepel | D16: Plaats een doorvalbestendig rooster over de lichtkoepel, waarvan de krachten middels een (vrij opgelegde) dragende constructie afgedragen worden aan het dakvlak. Het geheel dient uitgevoerd te worden in gegalvaniseerd staal. | E16: 1 | F16: Stuk(s) | G16: 0 | H16: =G16*E16 -> 0
A17: 10 | B17: 7 | C17: Plaats permanente ladder met bordes. | D17: Plaats een permanente ladder conform NEN-ISO-EN 14122-4, met bordes over de dakrand. | E17: 1 | F17: m1 | G17: 0 | H17: =G17*E17 -> 0
A18: 11 | B18: 8 | C18: Lijn instellen | D18: Lijn instellen op maximaal 1,8m. Plaats hiervoor een instructie bij de toetreding. Voor dakdelen die hierdoor niet bereikbaar zijn: Maak bij werkzaamheden gebruik van tijdelijke voorzieningen conform Arbobesluit 3.16. | E18: 1 | F18: stuk(s) | G18: 0 | H18: =G18*E18 -> 0
A19: 14 | B19: 4 | C19: Plaats markering veilige arbeidszone | D19: Plaats markering veilige arbeidszone: - Bitumineus: Plaats stroken gekleurde dakbedekking. - Groen dak: Leg afwijkend gekleurde tegels 10cm x 20cm op maximaal 1,0m h.o.h. in het groendak zonder struikelgevaar te veroorzaken. | E19: 3 | F19: m1 | G19: 0 | H19: =G19*E19 -> 0
A20: 14 | B20: 5 | C20: Plaats ankeringspunt | D20: Plaats ankeringspunt conform EN 795. | E20: 1 | F20: Stuk(s) | G20: 0 | H20: =G20*E20 -> 0
A21: 14 | B21: 7 | C21: Plaats permanente ladder met bordes. | D21: Plaats een permanente ladder conform NEN-ISO-EN 14122-4, met bordes over de dakrand. | E21: 1 | F21: Stuk(s) | G21: 0 | H21: =G21*E21 -> 0
A22: 14 | B22: 11 | C22: Verwijder paaltjes en draad | D22: Verwijder paaltjes en draad. | E22: 1 | F22: Stuk(s) | G22: 0 | H22: =G22*E22 -> 0
A23: 14 | B23: 38 | C23: Verwijder hekwerken | D23: Verwijder de hekwerken en vervang deze door hekwerken conform Arbocatalogus Platte Daken en Bouwbesluit. | E23: 1 | F23: Stuk(s) | H23: =G23*E23 -> 0
A24: 14 | B24: 12 | C24: Plaats antislipvoorziening | D24: Plaats antislipvoorziening. | E24: 1 | F24: Stuk(s) | G24: 0 | H24: =G24*E24 -> 0
A25: 15 | B25: 4 | C25: Plaats markering veilige arbeidszone | D25: Plaats markering veilige arbeidszone: - Bitumineus: Plaats stroken gekleurde dakbedekking. - Groen dak: Leg afwijkend gekleurde tegels 10cm x 20cm op maximaal 1,0m h.o.h. in het groendak zonder struikelgevaar te veroorzaken. | E25: 5 | F25: m1 | G25: 0 | H25: =G25*E25 -> 0
A26: 15 | B26: 4 | C26: Plaats markering veilige arbeidszone | D26: Plaats markering veilige arbeidszone: - Bitumineus: Plaats stroken gekleurde dakbedekking. - Groen dak: Leg afwijkend gekleurde tegels 10cm x 20cm op maximaal 1,0m h.o.h. in het groendak zonder struikelgevaar te veroorzaken. | E26: 5.5 | F26: m1 | G26: 0 | H26: =G26*E26 -> 0
A27: 15 | B27: 4 | C27: Plaats markering veilige arbeidszone | D27: Plaats markering veilige arbeidszone: - Bitumineus: Plaats stroken gekleurde dakbedekking. - Groen dak: Leg afwijkend gekleurde tegels 10cm x 20cm op maximaal 1,0m h.o.h. in het groendak zonder struikelgevaar te veroorzaken. | E27: 0.6 | F27: m1 | G27: 0 | H27: =G27*E27 -> 0
A28: 15 | B28: 4 | C28: Plaats markering veilige arbeidszone | D28: Plaats markering veilige arbeidszone: - Bitumineus: Plaats stroken gekleurde dakbedekking. - Groen dak: Leg afwijkend gekleurde tegels 10cm x 20cm op maximaal 1,0m h.o.h. in het groendak zonder struikelgevaar te veroorzaken. | E28: 0.6 | F28: m1 | G28: 0 | H28: =G28*E28 -> 0
A29: 15 | B29: 4 | C29: Plaats markering veilige arbeidszone | D29: Plaats markering veilige arbeidszone: - Bitumineus: Plaats stroken gekleurde dakbedekking. - Groen dak: Leg afwijkend gekleurde tegels 10cm x 20cm op maximaal 1,0m h.o.h. in het groendak zonder struikelgevaar te veroorzaken. | E29: 6.5 | F29: m1 | G29: 0 | H29: =G29*E29 -> 0
A30: 15 | B30: 4 | C30: Plaats markering veilige arbeidszone | D30: Plaats markering veilige arbeidszone: - Bitumineus: Plaats stroken gekleurde dakbedekking. - Groen dak: Leg afwijkend gekleurde tegels 10cm x 20cm op maximaal 1,0m h.o.h. in het groendak zonder struikelgevaar te veroorzaken. | E30: 3.5 | F30: m1 | G30: 0 | H30: =G30*E30 -> 0
A31: 15 | B31: 4 | C31: Plaats markering veilige arbeidszone | D31: Plaats markering veilige arbeidszone: - Bitumineus: Plaats stroken gekleurde dakbedekking. - Groen dak: Leg afwijkend gekleurde tegels 10cm x 20cm op maximaal 1,0m h.o.h. in het groendak zonder struikelgevaar te veroorzaken. | E31: 7 | F31: m1 | G31: 0 | H31: =G31*E31 -> 0
A32: 15 | B32: 4 | C32: Plaats markering veilige arbeidszone | D32: Plaats markering veilige arbeidszone: - Bitumineus: Plaats stroken gekleurde dakbedekking. - Groen dak: Leg afwijkend gekleurde tegels 10cm x 20cm op maximaal 1,0m h.o.h. in het groendak zonder struikelgevaar te veroorzaken. | E32: 8 | F32: m1 | G32: 0 | H32: =G32*E32 -> 0
A33: 15 | B33: 4 | C33: Plaats markering veilige arbeidszone | D33: Plaats markering veilige arbeidszone: - Bitumineus: Plaats stroken gekleurde dakbedekking. - Groen dak: Leg afwijkend gekleurde tegels 10cm x 20cm op maximaal 1,0m h.o.h. in het groendak zonder struikelgevaar te veroorzaken. | E33: 2 | F33: m1 | G33: 0 | H33: =G33*E33 -> 0
A34: 15 | B34: 4 | C34: Plaats markering veilige arbeidszone | D34: Plaats markering veilige arbeidszone: - Bitumineus: Plaats stroken gekleurde dakbedekking. - Groen dak: Leg afwijkend gekleurde tegels 10cm x 20cm op maximaal 1,0m h.o.h. in het groendak zonder struikelgevaar te veroorzaken. | E34: 2 | F34: m1 | G34: 0 | H34: =G34*E34 -> 0
A35: 15 | B35: 4 | C35: Plaats markering veilige arbeidszone | D35: Plaats markering veilige arbeidszone: - Bitumineus: Plaats stroken gekleurde dakbedekking. - Groen dak: Leg afwijkend gekleurde tegels 10cm x 20cm op maximaal 1,0m h.o.h. in het groendak zonder struikelgevaar te veroorzaken. | E35: 12 | F35: m1 | G35: 0 | H35: =G35*E35 -> 0
... A79: 23 | B79: 31 | C79: Verleng het kabelsysteem | D79: Verleng het kabelsysteem tot aan de veilige zone. Verhoog indien nodig de ankeringspunten om te voorkomen dat de kabel kan schuren tegen de bestaande installaties en leidingen. | E79: 1 | F79: stuk(s) | G79: 0 | H79: =G79*E79 -> 0
C81: Totaal maatregelen dakveiligheid | H81: =SUM(H11:H80) -> 0
A83: algemeen | C83: Klimtoeslag | E83: 1 | F83: stuk(s) | G83: 0 | H83: =G83*E83 -> 0
A84: algemeen | C84: Verticaal transport | E84: 1 | F84: stuk(s) | G84: 0 | H84: =G84*E84 -> 0
A85: algemeen | C85: Opstellen dakveiligheidsplattegronden en aanleveren digitaal PDF/DWG | E85: 1 | F85: stuk(s) | G85: 0 | H85: =G85*E85 -> 0
C87: Totaal indirecte kosten | H87: =SUM(H83:H86) -> 0
C89: Totaalprijs gebouw | H89: =H87+H81 -> 0
C91: LET OP: Algemene Kosten AK en Winst en Risico voor dit onderdeel toevoegen in het tabblad: "Totaal dakveiligheid"

Sheet 9 PDH dakveiligheid
A1: Maatregelen Dakveiligheid volgens RI&E | G1: Gebouw totaal | H1: =H53 -> 0
A3: Tarieven excl. BTW
C5: Geel gemarkeerde velden in te vullen door de inschrijver
A6: Pieter de Hoochweg 129 | C6: Naam van de inschrijver:
A7: Rotterdam
E9: Berekening kosten
A10: Dakvlak | B10: Nummering | C10: Aanbeveling | D10: Omschrijving | E10: Aantal | F10: Eenheid | G10: Eenheidsprijs | H10: Totaalprijs
A11: 1 | B11: 1 | C11: Kooiladder (bouten vewijderen) | D11: Verwijder roestige bouten van afsluitrooster. | E11: 1 | F11: Totaalprijs | G11: 0 | H11: =G11*E11 -> 0
A12: 1 | B12: 1 | C12: Kooiladder (afsluitrooster bouten) | D12: Plaats nieuwe RVS bouten inclusief Teflon ring. | E12: 1 | F12: Totaalprijs | G12: 0 | H12: =G12*E12 -> 0
A13: 1 | B13: 1 | C13: Kooiladder (afsluitrooster reinigen) | D13: Reinig het afsluitrooster. | E13: 1 | F13: Totaalprijs | G13: 0 | H13: =G13*E13 -> 0
A14: 1 | B14: 2 | C14: Kooiladder (deurtje) | D14: Plaats zelfsluitend deurtje op aankomstniveau, conform NEN-ISO-EN 14122-1 t/m 4. | E14: 1 | F14: stuk(s) | G14: 0 | H14: =G14*E14 -> 0
A15: 1 | B15: 3 | C15: Hekwerk (verplaatsen) | D15: Verplaats het hekwerk (NEN-ISO-EN 14122-1 t/m 4) | E15: 2 | F15: m1 | G15: 0 | H15: =G15*E15 -> 0
A16: 1 | B16: 3 | C16: Hekwerk (verplaatsen) | D16: Verplaats het hekwerk (NEN-ISO-EN 14122-1 t/m 4) | E16: 2 | F16: m1 | G16: 0 | H16: =G16*E16 -> 0
A17: 1 | B17: 3 | C17: Hekwerk | D17: Plaats extra hekwerk tot aan de veilige zone (Arbocatalogus platte daken) | E17: 1.78 | F17: m1 | G17: 0 | H17: =G17*E17 -> 0
A18: 1 | B18: 3 | C18: Hekwerk | D18: Plaats extra hekwerk tot aan de veilige zone (Arbocatalogus platte daken) | E18: 10.414 | F18: m1 | G18: 0 | H18: =G18*E18 -> 0
A19: 1 | B19: 4 | C19: Zonemarkering | D19: Plaats zonemarkering (stroken dakbedekking) bij de pendule ankeringspunten | E19: 3 | F19: stuk(s) | G19: 0 | H19: =G19*E19 -> 0
A20: 1 | B20: 5 | C20: Looproute | D20: Plaats een looproute van tegels | E20: 1 | F20: stuk(s) | G20: 0 | H20: =G20*E20 -> 0
A21: 1 | B21: 6 | C21: Veilige zonemarkering | D21: Plaats markering veilige arbeidszone (stroken dakbedekking) op het dakvlak. | E21: 10.3 | F21: m1 | G21: 0 | H21: =G21*E21 -> 0
A22: 1 | B22: 7 | C22: Ankeringspunt (verwijderen) | D22: Verwijder ankeringspunt en werk waterdicht af. | E22: 1 | F22: stuk(s) | G22: 0 | H22: =G22*E22 -> 0
... A44: 4 | B44: 21 | C44: Klimvoorzieningen | D44: Plaats permanente klimvoorzieningen aan buitenzijde van het raam, conform NEN-ISO-EN 14122-1 t/m 4. | E44: 1 | F44: stuk(s) | G44: 0 | H44: =G44*E44 -> 0
C45: Totaal maatregelen dakveiligheid | H45: =SUM(H11:H44) -> 0
A47: algemeen | C47: Klimtoeslag | E47: 1 | F47: st | G47: 0 | H47: =G47*E47 -> 0
A48: algemeen | C48: Verticaal transport | E48: 1 | F48: st | G48: 0 | H48: =G48*E48 -> 0
A49: algemeen | C49: Opstellen dakveiligheidsplattegronden en aanleveren digitaal PDF/DWG | E49: 1 | F49: st | G49: 0 | H49: =G49*E49 -> 0
C51: Totaal indirecte kosten | H51: =SUM(H47:H50) -> 0
C53: Totaalprijs gebouw | H53: =H51+H45 -> 0
C55: LET OP: Algemene Kosten AK en Winst en Risico voor dit onderdeel toevoegen in het tabblad: "Totaal dakveiligheid"
