Workbook

Sheet Staat van Verrekenprijzen
B3: Staat van verrekenprijzen
C5: Betreft: | D5: Buitencontractuele werkzaamheden
C6: Project: | D6: Onderhoudsprestatiebestek
C7: Prijspeil: | D7: 44562
C8: Datum: | D8: 44342
B10: =IF((COUNTBLANK(F23:F26)+COUNTBLANK(F13))>0," U dient alle onderstaande gele cellen in te vullen!","") -> U dient alle onderstaande gele cellen in te vullen!
B12: All-in tarief onderhoud (alle bedragen zijn exclusief BTW)
C13: Service monteur Elektrotechnisch (storingsonderhoud):
C14: Onderhoudsmonteur Elektrotechnisch (preventief)
C15: Service monteur Werktuigkundig (storingsonderhoud):
C16: Onderhoudsmonteur Werktuigkundig (preventief)
C17: Tekenaar:
C18: Calculator:
C19: Projectleider:
C20: Monteur elektrotechnische revisie/klussen/projecten
B22: Opslagpercentages voor werkzaamheden buiten reguliere werktijden | F22: Percentages invullen als: 100%+ opslagpercentage
C23: Voor uren op werkdagen (avond) van 17.00 tot 19.00 uur:
C24: Voor uren op werkdagen (nacht) van 19.00 tot 08.00 uur:
C25: Voor uren op zaterdagen:
C26: Voor uren op zon- en feestdagen:
B28: Opslagpercentages overig | F28: Percentages invullen als: % opslag
C29: Toeslag groot- en kleinmateriaal
C30: Toeslag onderaanneming
C31: Winst en risico
C32: Projectkorting

Sheet Projectberekening
C3: Projectberekening
C5: Betreft: | D5: ='Staat van Verrekenprijzen'!D5 -> Buitencontractuele werkzaamheden
C6: Project: | D6: ='Staat van Verrekenprijzen'!D6 -> Onderhoudsprestatiebestek
C7: Prijspeil: | D7: ='Staat van Verrekenprijzen'!D7 -> 44562
C8: Datum: | D8: ='Staat van Verrekenprijzen'!D8 -> 44342
C10: Invoer
C13: Punten D,E, H(gedeeltelijk), K en O wordt automatisch ingevuld. Overige punten zijn opdrachtafhankelijk.
C15: A | D15: Materiaal, exclusief toeslag | E15: 9000 | H15: =E15 -> 9000
C16: B | D16: Onderaanneming door derden, exclusief toeslag | E16: 2400 | H16: =E16 -> 2400
C17: C | D17: Subtotaal (A+B) | I17: =H15+H16 -> 11400
C18: D | D18: Toeslag materiaal van A | E18: ='Staat van Verrekenprijzen'!F29 -> 0 | H18: =H15*E18 -> 0 | N18: =IF(E18="",1,0) -> 0
C19: E | D19: Toeslag onderaanneming door derden van B | E19: ='Staat van Verrekenprijzen'!F30 -> 0 | H19: =H16*E19 -> 0 | N19: =IF(E19="",1,0) -> 0
C20: F | D20: Subtotaal toeslagen (D+E) | I20: =H18+H19 -> 0
C21: G | D21: Subtotaal (C + F) | J21: =+I17+I20 -> 11400
C22: H | D22: Uurloon | E22: Uurloon | F22: montage uren | G22: Som | N22: =IF(E23="",1,0) -> 0
D23: ='Staat van Verrekenprijzen'!C13 -> Service monteur Elektrotechnisch (storingsonderhoud): | E23: ='Staat van Verrekenprijzen'!F13*(1+'Staat van Verrekenprijzen'!F23) -> 0 | F23: 2 | G23: =E23*F23 -> 0 | H23: 17:00-19:00
D24: ='Staat van Verrekenprijzen'!C13 -> Service monteur Elektrotechnisch (storingsonderhoud): | E24: ='Staat van Verrekenprijzen'!F13*(1+'Staat van Verrekenprijzen'!F24) -> 0 | F24: 4 | G24: =E24*F24 -> 0 | H24: 19:00-8:00
D25: ='Staat van Verrekenprijzen'!C13 -> Service monteur Elektrotechnisch (storingsonderhoud): | E25: ='Staat van Verrekenprijzen'!F14*(1+'Staat van Verrekenprijzen'!F25) -> 0 | F25: 2 | G25: =E25*F25 -> 0 | H25: Zaterdag
D26: ='Staat van Verrekenprijzen'!C15 -> Service monteur Werktuigkundig (storingsonderhoud): | E26: ='Staat van Verrekenprijzen'!F15*(1+'Staat van Verrekenprijzen'!F23) -> 0 | F26: 2 | H26: 17:00-19:00
D27: ='Staat van Verrekenprijzen'!C15 -> Service monteur Werktuigkundig (storingsonderhoud): | E27: ='Staat van Verrekenprijzen'!F15*(1+'Staat van Verrekenprijzen'!F24) -> 0 | F27: 4 | H27: 19:00-8:00
D28: ='Staat van Verrekenprijzen'!C15 -> Service monteur Werktuigkundig (storingsonderhoud): | E28: ='Staat van Verrekenprijzen'!F15*(1+'Staat van Verrekenprijzen'!F25) -> 0 | F28: 2 | H28: Zaterdag
D29: ='Staat van Verrekenprijzen'!C14 -> Onderhoudsmonteur Elektrotechnisch (preventief) | E29: ='Staat van Verrekenprijzen'!F14 -> 0 | F29: 20 | G29: =E29*F29 -> 0 | H29: ma - vrij / 08:00 - 17:00
D30: ='Staat van Verrekenprijzen'!C20 -> Monteur elektrotechnische revisie/klussen/projecten | E30: ='Staat van Verrekenprijzen'!F20 -> 0 | F30: 20 | G30: =E30*F30 -> 0 | H30: ma - vrij / 08:00 - 17:00
D31: Tekenaar: | E31: ='Staat van Verrekenprijzen'!F17 -> 0 | F31: 4 | G31: =E31*F31 -> 0
D32: ='Staat van Verrekenprijzen'!C18 -> Calculator: | E32: ='Staat van Verrekenprijzen'!F18 -> 0 | F32: 4 | G32: =E32*F32 -> 0
D33: ='Staat van Verrekenprijzen'!C19 -> Projectleider: | E33: ='Staat van Verrekenprijzen'!F19 -> 0 | F33: 4 | G33: =E33*F33 -> 0
G34: =SUM(G23:G33) -> 0
C35: I | D35: Loonkosten (montage-uren x uurloon)+voorrijdkosten en reiskosten | J35: =(E23*F23)+(E24*F24)+(E25*F25)+(E29*F29)+(E30*F30)+(E31*F31)+(E32*F32)+(E33*F33) -> 0
C36: J | D36: Subtotaal (G + J) | K36: =+J21+J35 -> 11400
C37: K | D37: Winst en risico …% van K | E37: ='Staat van Verrekenprijzen'!F31 -> 0 | K37: =+K36*E37 -> 0 | N37: =IF(E37="",1,0) -> 0
C38: L | D38: Subtotaal (K + L) | L38: =+K36+K37 -> 11400
C39: M | D39: Projectkorting …% van M | E39: ='Staat van Verrekenprijzen'!F32 -> 0 | L39: =+L38*E39 -> 0
C40: N | D40: Aannemingssom (M - N) | M40: =L38-L39 -> 11400
D42: Alle genoemde bedragen zijn exclusief BTW
