Workbook
Name vandaag: #REF!

Sheet VG (Sjabloon)
A2: Project Registratie Milieukosten - MKI berekening
A3: Projectnaam | C3: [invullen]
A4: Project voortgangsfase | C4: [invullen]
A5: Datum van invullen | C5: [invullen]
A6: Gunning MKI waarde | C6: [invullen]
A7: =AP24 -> Totaal MKI (€) | C7: =AP25 -> 14113.525
A8: Prijs | C8: =X25 -> 136800
A9: Massabalans (ton) | C9: =M25 -> 1368
A10: Gunningsdatum project | C10: [invullen]
A11: Opleverdatum project | C11: [invullen]
A12: Duur realisatie | C12: =(C11-C10)/365 -> #VALUE!
A13: Levensduur Project | C13: 1
A14: DuboCalc Versie | C14: [invullen]
A15: Bibliotheek versie DC | C15: [invullen]
BK16: d
M17: Tech man | Z17: DuboCalc spec | AU17: LCA Spec
B18: Contract
B24: =B28 -> Obj.Code | C24: =C28 -> Obj.Element | E24: =E28 -> hoev(eenh) | F24: =F28 -> eenh | G24: =G28 -> hoev(m1) | H24: =H28 -> m1 | I24: =I28 -> hoev(m2) | J24: =J28 -> m2 | K24: =K28 -> hoev(m3) | L24: =L28 -> m3 | ... N24: =N28 -> ton | O24: … | P24: =P28 -> Calc.Item | Q24: =Q28 -> Calc.Proces | R24: =R28 -> [hoofdcode] | S24: =S28 -> [subcode] | T24: =T28 -> [ssk] | U24: =U28 -> Calc.Elem | V24: =V28 -> Calc.ElemSub | W24: =W28 -> Calc.EhPrijs (€/eh) | X24: =X28 -> Calc.Prijs (€) | Y24: … | Z24: =Z28 -> DC.Materiaal | AA24: =AA28 -> DC.Hoev | AB24: =AB28 -> DC.eh | AC24: =AC28 -> DC.MKI (€/eh/LD) | AD24: =AD28 -> DC.Levensduur (j) | AE24: =AE28 -> DC.Afstand (km) | AF24: =AF28 -> DC.MKI Bruto | AH24: =AH28 -> LCA.Materiaal | AI24: =AI28 -> LCA.Hoev | AJ24: =AJ28 -> LCA.eh | AK24: =AK28 -> LCA.MKI (€/eh) | AL24: =AL28 -> LCA.MKI (€) | AM24: … | AN24: =AN28 -> Delta (€) | AO24: … | AP24: =AP28 -> Totaal MKI (€) | AQ24: … | AR24: =AR28 -> LCA.Levensduur (j) | AS24: =AS28 -> LCA.Installatie&Vervanging | AT24: … | AU24: =AU28 -> LCA.MKI (€/eh/LD) | AV24: =AV28 -> A1 | AW24: =AW28 -> A2 | AX24: =AX28 -> A3 | AY24: =AY28 -> A4 | AZ24: =AZ28 -> A5 | BA24: =BA28 -> B1 | BB24: =BB28 -> B2 | ... BN24: =BN28 -> Bron
E25: =SUBTOTAL(9,'VG (Sjabloon)'!E$29:E$1010) -> 0 | F25: =F24 -> eenh | G25: =SUBTOTAL(9,'VG (Sjabloon)'!G$29:G$1010) -> 0 | H25: =H24 -> m1 | I25: =SUBTOTAL(9,'VG (Sjabloon)'!I$29:I$1010) -> 0 | J25: m2 | K25: =SUBTOTAL(9,'VG (Sjabloon)'!K$29:K$1010) -> 684 | L25: m3 | M25: =SUBTOTAL(9,'VG (Sjabloon)'!M$29:M$1010) -> 1368 | N25: ton | W25: =SUBTOTAL(9,'VG (Sjabloon)'!W$29:W$1010) -> 300 | X25: =SUBTOTAL(9,'VG (Sjabloon)'!X$29:X$1010) -> 136800 | Z25: =SUBTOTAL(9,'VG (Sjabloon)'!Z$29:Z$1010) -> 0 | AA25: =SUBTOTAL(9,'VG (Sjabloon)'!AA$29:AA$1010) -> 1368 | AC25: =SUBTOTAL(9,'VG (Sjabloon)'!AC$29:AC$1010) -> 125.468 | AD25: =SUBTOTAL(9,'VG (Sjabloon)'!AD$29:AD$1010) -> 38 | AE25: =SUBTOTAL(9,'VG (Sjabloon)'!AE$29:AE$1010) -> 90 | AF25: =SUBTOTAL(9,'VG (Sjabloon)'!AF$29:AF$1010) -> 55281.009 | AI25: =SUBTOTAL(9,'VG (Sjabloon)'!AI$29:AI$1010) -> 1368 | AK25: =SUBTOTAL(9,'VG (Sjabloon)'!AK$29:AK$1010) -> 30.950712 | AL25: =SUBTOTAL(9,'VG (Sjabloon)'!AL$29:AL$1010) -> 14113.525 | AN25: =SUBTOTAL(9,'VG (Sjabloon)'!AN$29:AN$1010) -> -41167.484 | AP25: =SUBTOTAL(9,'VG (Sjabloon)'!AP$29:AP$1010) -> 14113.525 | AR25: =IFERROR(SUBTOTAL(101,'VG (Sjabloon)'!AR$29:AR$1010),0) -> 12.666667 | AS25: =IFERROR(SUBTOTAL(101,'VG (Sjabloon)'!AS$29:AS$1010),0) -> 1 | AU25: =SUBTOTAL(9,AU$36:AU$1017) -> 0 | AV25: =SUBTOTAL(9,AV$36:AV$1017) -> 0 | AW25: =SUBTOTAL(9,AW$36:AW$1017) -> 0 | AX25: =SUBTOTAL(9,AX$36:AX$1017) -> 0 | AY25: =SUBTOTAL(9,AY$36:AY$1017) -> 0 | AZ25: =SUBTOTAL(9,AZ$36:AZ$1017) -> 0 | BA25: =SUBTOTAL(9,BA$36:BA$1017) -> 0 | BB25: =SUBTOTAL(9,BB$36:BB$1017) -> 0 | ... BM25: =SUBTOTAL(9,BM$36:BM$1017) -> 0
B27: Objectenboom (volgens contract) | E27: Hoeveelhedenstaat | M27: Hoeveelheden (volgens ontwerp) | P27: Calculatie | X27: Kosten | Z27: DuboCalc | AC27: Bruto | AF27: DuboCalc (Brutowaarde) | AL27: MKI van LCA's | AN27: Verschil (LCA-DC) | AP27: Netto Totaal MKI (DC of LCA's) | AU27: MKI van LCA (indien mogelijk A1 t/m D invullen)
B28: Obj.Code | C28: Obj.Element | E28: hoev(eenh) | F28: eenh | G28: hoev(m1) | H28: m1 | I28: hoev(m2) | J28: m2 | K28: hoev(m3) | L28: m3 | M28: hoev(ton) | N28: ton | O28: … | P28: Calc.Item | Q28: Calc.Proces | R28: [hoofdcode] | S28: [subcode] | T28: [ssk] | U28: Calc.Elem | V28: Calc.ElemSub | W28: Calc.EhPrijs (€/eh) | X28: Calc.Prijs (€) | Y28: … | Z28: DC.Materiaal | AA28: DC.Hoev | AB28: DC.eh | AC28: DC.MKI (€/eh/LD) | AD28: DC.Levensduur (j) | AE28: DC.Afstand (km) | AF28: DC.MKI Bruto | AH28: LCA.Materiaal | AI28: LCA.Hoev | AJ28: LCA.eh | AK28: LCA.MKI (€/eh) | AL28: LCA.MKI (€) | AN28: Delta (€) | AO28: … | AP28: Totaal MKI (€) | AQ28: … | AR28: LCA.Levensduur (j) | AS28: LCA.Installatie&Vervanging | AU28: LCA.MKI (€/eh/LD) | AV28: A1 | AW28: A2 | AX28: A3 | AY28: A4 | AZ28: A5 | BA28: B1 | BB28: B2 | BC28: B3 | BD28: B4 | BE28: B5 | BF28: B6 | BG28: B7 | BH28: C1 | BI28: C2 | BJ28: C3 | BK28: C4 | BL28: D.1 | BM28: D.2 | BN28: Bron
A29: VOORBEELD => | B29: 1.1 | C29: Wegvak | H29: m1 | J29: m2 | K29: =M29/2 -> 61.5 | L29: m3 | M29: 123 | N29: ton | P29: mengselcode xxxx1 | Q29: Inkoop, transport, aanbrengen | W29: 100 | X29: =W29*M29 -> 12300 | Z29: Asfalt (ZOAB) | AA29: 123 | AB29: ton | AC29: =62.51*0.7 -> 43.757 | AD29: 12 | AE29: 30 | AF29: =AA29*AC29 -> 5382.111 | AH29: ZOAB mengselcode xxxx1 | AI29: 123 | AJ29: ton | AK29: =AU29 -> 10.316904 | AL29: =AK29*AI29 -> 1268.9792 | AN29: =IF(OR(AF29=0,AL29=0),0,AL29-AF29) -> -4113.1318 | AP29: =IF(AL29<>0,AL29,AF29) -> 1268.9792 | AR29: 12 | AS29: =IF(ISBLANK(AR29),0,MAX(1,$C$13/AR29)) -> 1 | AU29: =SUM(AV29:BM29) -> 10.316904 | AV29: 1.8576 | AW29: 2.064 | AX29: 4.128 | AY29: 0.516 | AZ29: 0.2064 | BA29: 0.01032 | BB29: 0.01032 | BC29: 0.01032 | BD29: 0.01032 | BE29: 0.01032 | BF29: 0.01032 | BG29: 0.01032 | BH29: 0.3096 | BI29: 0.516 | BJ29: 0.069144 | BK29: 0.06192 | BL29: 0.258 | BM29: 0.258 | BN29: http://www.asfaltblij.nl/media/2584/lca-brancherepresentatieve-asfaltmengsels-versie-21.pdf | BO29: <= VOORBEELD
A30: VOORBEELD => | B30: 1.2 | C30: Wegvak | H30: m1 | J30: m2 | K30: =M30/2 -> 228 | L30: m3 | M30: 456 | N30: ton | P30: mengselcode xxxx2 | Q30: Inkoop, transport, aanbrengen | W30: 100 | X30: =W30*M30 -> 45600 | Z30: Asfalt (ZOAB) | AA30: 456 | AB30: ton | AC30: =62.51*0.7 -> 43.757 | AD30: 12 | AE30: 30 | AF30: =AA30*AC30 -> 19953.192 | AH30: ZOAB mengselcode xxxx2 | AI30: 456 | AJ30: ton | AK30: =AU30 -> 10.316904 | AL30: =AK30*AI30 -> 4704.5082 | AN30: =IF(OR(AF30=0,AL30=0),0,AL30-AF30) -> -15248.684 | AP30: =IF(AL30<>0,AL30,AF30) -> 4704.5082 | AR30: 12 | AS30: =IF(ISBLANK(AR30),0,MAX(1,$C$13/AR30)) -> 1 | AU30: =SUM(AV30:BM30) -> 10.316904 | AV30: 1.8576 | AW30: 2.064 | AX30: 4.128 | AY30: 0.516 | AZ30: 0.2064 | BA30: 0.01032 | BB30: 0.01032 | BC30: 0.01032 | BD30: 0.01032 | BE30: 0.01032 | BF30: 0.01032 | BG30: 0.01032 | BH30: 0.3096 | BI30: 0.516 | BJ30: 0.069144 | BK30: 0.06192 | BL30: 0.258 | BM30: 0.258 | BN30: http://www.asfaltblij.nl/media/2584/lca-brancherepresentatieve-asfaltmengsels-versie-21.pdf | BO30: <= VOORBEELD
A31: VOORBEELD => | B31: 2 | C31: Perceel | H31: m1 | J31: m2 | K31: =M31/2 -> 394.5 | L31: m3 | M31: 789 | N31: ton | P31: mengselcode xxxx3 | Q31: Inkoop, transport, aanbrengen | W31: 100 | X31: =W31*M31 -> 78900 | Z31: Asfalt (ZOAB+ ) | AA31: 789 | AB31: ton | AC31: =54.22*0.7 -> 37.954 | AD31: 14 | AE31: 30 | AF31: =AA31*AC31 -> 29945.706 | AH31: ZOAB mengselcode xxxx3 | AI31: 789 | AJ31: ton | AK31: =AU31 -> 10.316904 | AL31: =AK31*AI31 -> 8140.0373 | AN31: =IF(OR(AF31=0,AL31=0),0,AL31-AF31) -> -21805.669 | AP31: =IF(AL31<>0,AL31,AF31) -> 8140.0373 | AR31: 14 | AS31: =IF(ISBLANK(AR31),0,MAX(1,$C$13/AR31)) -> 1 | AU31: =SUM(AV31:BM31) -> 10.316904 | AV31: 1.8576 | AW31: 2.064 | AX31: 4.128 | AY31: 0.516 | AZ31: 0.2064 | BA31: 0.01032 | BB31: 0.01032 | BC31: 0.01032 | BD31: 0.01032 | BE31: 0.01032 | BF31: 0.01032 | BG31: 0.01032 | BH31: 0.3096 | BI31: 0.516 | BJ31: 0.069144 | BK31: 0.06192 | BL31: 0.258 | BM31: 0.258 | BN31: http://www.asfaltblij.nl/media/2584/lca-brancherepresentatieve-asfaltmengsels-versie-21.pdf | BO31: <= VOORBEELD
H32: m1 | J32: m2 | L32: m3 | N32: ton | X32: =W32*E32 -> 0 | AF32: =AA32*AC32 -> 0 | AK32: =AS32*AU32 -> 0 | AL32: =AK32*AI32 -> 0 | AN32: =IF(OR(AF32=0,AL32=0),0,AL32-AF32) -> 0 | AP32: =IF(AL32<>0,AL32,AF32) -> 0 | AU32: =SUM(AV32:BM32) -> 0
H33: m1 | J33: m2 | L33: m3 | N33: ton | X33: =W33*E33 -> 0 | AF33: =AA33*AC33 -> 0 | AK33: =AS33*AU33 -> 0 | AL33: =AK33*AI33 -> 0 | AN33: =IF(OR(AF33=0,AL33=0),0,AL33-AF33) -> 0 | AP33: =IF(AL33<>0,AL33,AF33) -> 0 | AU33: =SUM(AV33:BM33) -> 0
H34: m1 | J34: m2 | L34: m3 | N34: ton | X34: =W34*E34 -> 0 | AF34: =AA34*AC34 -> 0 | AK34: =AS34*AU34 -> 0 | AL34: =AK34*AI34 -> 0 | AN34: =IF(OR(AF34=0,AL34=0),0,AL34-AF34) -> 0 | AP34: =IF(AL34<>0,AL34,AF34) -> 0 | AU34: =SUM(AV34:BM34) -> 0
H35: m1 | J35: m2 | L35: m3 | N35: ton | X35: =W35*E35 -> 0 | AF35: =AA35*AC35 -> 0 | AK35: =AS35*AU35 -> 0 | AL35: =AK35*AI35 -> 0 | AN35: =IF(OR(AF35=0,AL35=0),0,AL35-AF35) -> 0 | AP35: =IF(AL35<>0,AL35,AF35) -> 0 | AU35: =SUM(AV35:BM35) -> 0
H36: m1 | J36: m2 | L36: m3 | N36: ton | X36: =W36*E36 -> 0 | AF36: =AA36*AC36 -> 0 | AK36: =AS36*AU36 -> 0 | AL36: =AK36*AI36 -> 0 | AN36: =IF(OR(AF36=0,AL36=0),0,AL36-AF36) -> 0 | AP36: =IF(AL36<>0,AL36,AF36) -> 0 | AU36: =SUM(AV36:BM36) -> 0
H37: m1 | J37: m2 | L37: m3 | N37: ton | X37: =W37*E37 -> 0 | AF37: =AA37*AC37 -> 0 | AK37: =AS37*AU37 -> 0 | AL37: =AK37*AI37 -> 0 | AN37: =IF(OR(AF37=0,AL37=0),0,AL37-AF37) -> 0 | AP37: =IF(AL37<>0,AL37,AF37) -> 0 | AU37: =SUM(AV37:BM37) -> 0
H38: m1 | J38: m2 | L38: m3 | N38: ton | X38: =W38*E38 -> 0 | AF38: =AA38*AC38 -> 0 | AK38: =AS38*AU38 -> 0 | AL38: =AK38*AI38 -> 0 | AN38: =IF(OR(AF38=0,AL38=0),0,AL38-AF38) -> 0 | AP38: =IF(AL38<>0,AL38,AF38) -> 0 | AU38: =SUM(AV38:BM38) -> 0
H39: m1 | J39: m2 | L39: m3 | N39: ton | X39: =W39*E39 -> 0 | AF39: =AA39*AC39 -> 0 | AK39: =AS39*AU39 -> 0 | AL39: =AK39*AI39 -> 0 | AN39: =IF(OR(AF39=0,AL39=0),0,AL39-AF39) -> 0 | AP39: =IF(AL39<>0,AL39,AF39) -> 0 | AU39: =SUM(AV39:BM39) -> 0
H40: m1 | J40: m2 | L40: m3 | N40: ton | X40: =W40*E40 -> 0 | AF40: =AA40*AC40 -> 0 | AK40: =AS40*AU40 -> 0 | AL40: =AK40*AI40 -> 0 | AN40: =IF(OR(AF40=0,AL40=0),0,AL40-AF40) -> 0 | AP40: =IF(AL40<>0,AL40,AF40) -> 0 | AU40: =SUM(AV40:BM40) -> 0
H41: m1 | J41: m2 | L41: m3 | N41: ton | X41: =W41*E41 -> 0 | AF41: =AA41*AC41 -> 0 | AK41: =AS41*AU41 -> 0 | AL41: =AK41*AI41 -> 0 | AN41: =IF(OR(AF41=0,AL41=0),0,AL41-AF41) -> 0 | AP41: =IF(AL41<>0,AL41,AF41) -> 0 | AU41: =SUM(AV41:BM41) -> 0
H42: m1 | J42: m2 | L42: m3 | N42: ton | X42: =W42*E42 -> 0 | AF42: =AA42*AC42 -> 0 | AK42: =AS42*AU42 -> 0 | AL42: =AK42*AI42 -> 0 | AN42: =IF(OR(AF42=0,AL42=0),0,AL42-AF42) -> 0 | AP42: =IF(AL42<>0,AL42,AF42) -> 0 | AU42: =SUM(AV42:BM42) -> 0
H43: m1 | J43: m2 | L43: m3 | N43: ton | X43: =W43*E43 -> 0 | AF43: =AA43*AC43 -> 0 | AK43: =AS43*AU43 -> 0 | AL43: =AK43*AI43 -> 0 | AN43: =IF(OR(AF43=0,AL43=0),0,AL43-AF43) -> 0 | AP43: =IF(AL43<>0,AL43,AF43) -> 0 | AU43: =SUM(AV43:BM43) -> 0
... H60: m1 | J60: m2 | L60: m3 | N60: ton | X60: =W60*E60 -> 0 | AF60: =AA60*AC60 -> 0 | AK60: =AS60*AU60 -> 0 | AL60: =AK60*AI60 -> 0 | AN60: =IF(OR(AF60=0,AL60=0),0,AL60-AF60) -> 0 | AP60: =IF(AL60<>0,AL60,AF60) -> 0 | AU60: =SUM(AV60:BM60) -> 0
