Workbook
Name Invulglas1: Glasbewassing!$A$9:$I$23
Name Invulvloer1: Vloeronderhoud!$A$9:$I$16

Sheet Opleverstaat dagelijks
A1: Opleverstaat schoonmaak
A2: Element | B2: Onderdeel | C2: Reinheidsniveau | D2: Acceptabel
D3: (dagelijks toegestane afwijking)
A4: Inventaris :
A5: Algemeen | C5: Alle inventarisonderdelen dienen vrij te zijn van: stickers, lijmresten en kauwgom.
A6: Aanrechtblad | B6: Geheel buitenzijde | C6: Stof-, vlek-, aanslag en streepvrij | D6: Lichte stofvorming, enkele vingertasten en zichtbare vlekken max. 1 tot 3 st.
A7: Audiovisuele middelen | B7: Geheel buitenzijde | C7: Stof-, vlek-, aanslag en streepvrij | D7: Lichte stofvorming bovenzijde
A8: Afvalbak/prullenbak | B8: Inhoud, plastic zak | C8: Inhoud geleegd, schone plastic zak aanwezig. Afwezigheid van fruitvliegjes | D8: Lichte stofvorming, enkele vinger tasten of kleine zichtbare vlekken max 3 tot 7 st.
A9: Afvalbak/prullenbak | B9: Geheel | C9: Stof-, vlek-, aanslag en streepvrij. Afwezigheid van fruitvliegjes. | D9: Lichte stofvorming, enkele vinger tasten of kleine zichtbare vlekken max 3 tot 7 st.
A10: Afval | B10: Geheel | C10: Afgevoerd naar containers
A11: Balie | B11: Geheel buitenzijde | C11: Stof-, vlek-, aanslag en streepvrij | D11: Enkele vinger tasten of kleine zichtbare vlekken max 1 tot 3 st.
A12: Brandblusapparatuur | B12: Geheel buitenzijde | C12: Stof-, vlek-, aanslag en streepvrij | D12: Lichte stofvorming
A13: Bureau/Tafel/Incl. onderlegger | B13: Geheel buitenzijde | C13: Stof-, vlek-, aanslag en streepvrij | D13: Enkele vinger tasten of kleine zichtbare vlekken, max. 3 tot 7 st.
A14: Bureaulamp | B14: Geheel buitenzijde | C14: Stof-, vlek-, aanslag en streepvrij | D14: Enkele vinger tasten of kleine zichtbare vlekken, max. 3 tot 7 st., lichte stofvorming op voetlamp
A15: Kapstok/Garderoberek | B15: Geheel | C15: Stof-, vlek-, aanslag en streepvrij | D15: Lichte stofvorming, enkele vinger tasten en zichtbare vlekken max. 1 tot 3 st.
A16: Kast hoog | B16: Geheel buitenzijde | C16: Stof-, vlek-, aanslag en streepvrij | D16: Lichte stofvorming bovenzijde, enkele vinger tasten of kleine zichtbare vlekken max 3 tot 7 st.
A17: Kast laag/Ladenblok | B17: Geheel buitenzijde | C17: Stof-, vlek-, aanslag en streepvrij | D17: Enkele vinger tasten of kleine zichtbare vlekken, max. 3 tot 7 st
A18: Lampen | B18: Geheel | C18: Stof-, vlek-, aanslag en streepvrij | D18: Enkele vinger tasten of kleine zichtbare vlekken, max. 3 tot 7 st., lichte stofvorming op voetlamp
A19: Locker | B19: Geheel buitenzijde | C19: Stof-, vlek-, aanslag en streepvrij | D19: Enkele vinger tasten of kleine zichtbare vlekken, max. 3 tot 7 st
A20: Papierbak | B20: Inhoud | C20: Inhoud geleegd, stof en vlekvrij
A21: Papierbak | B21: Geheel | C21: Stof-, vlek-, aanslag en streepvrij | D21: Lichte stofvorming bovenzijde, enkele vinger tasten of kleine zichtbare vlekken max 3 tot 7 st.
A22: PC, incl. toebehoren | B22: Geheel buitenzijde | C22: Stof-, vlek-, aanslag en streepvrij | D22: Lichte stofvorming bovenzijde, enkele vinger tasten en kleine zichtbare vlekken max. 1 tot 3 st.
A23: Plantenbak | B23: Geheel buitenzijde | C23: Stof-, vlek-, aanslag en streepvrij | D23: Enkele vinger tasten of kleine zichtbare vlekken max. 3 tot 7 st., enkele schopstrepen max. 3 tot 7 st.
A24: Plinten/kabelgoten | B24: Geheel buitenzijde | C24: Stof-, vlek-, aanslag en streepvrij | D24: Lichte stofvorming bovenzijde, enkele vinger tasten of zichtbare vlekken max 7 tot 10 st., enkele schopstrepen max. 3 tot 7 st
A25: Printer/copier | B25: Geheel buitenzijde | C25: Stof-, vlek-, aanslag en streepvrij | D25: Lichte stofvorming bovenzijde, enkele vinger tasten en kleine zichtbare vlekken max. 1 tot 3 st.
A26: Stoel/bank/kruk | B26: Geheel | C26: Stof-, vlek-, aanslag en streepvrij | D26: Licht stofvorming in naden, enkele vinger tasten of kleine zichtbare vlekken max. 3 tot 7 st. op achterzijde leuning
A27: Telefoon | B27: Geheel | C27: Stof-, vlek-, aanslag en streepvrij | D27: Lichte stofvorming bovenzijde, enkele vinger tasten of kleine zichtbare vlekken max 3 tot 7 st.
A28: Vitrinekast | B28: Geheel buitenzijde | C28: Stof-, vlek-, aanslag en streepvrij | D28: Lichte stofvorming bovenzijde, enkele vinger tasten of kleine zichtbare vlekken max 3 tot 7 st.
A29: Whiteboard/Schoolbord/Krijtrichel | B29: Geheel | C29: Stof-, vlek-, aanslag en streepvrij | D29: Lichte stofvorming bovenzijde, enkele vinger tasten of kleine zichtbare vlekken max 3 tot 7 st.
A30: Element | B30: Onderdeel | C30: Reinheidsniveau | D30: Acceptabel
D31: (dagelijks toegestane afwijking)
A32: Bouwdelen :
A33: Algemeen | C33: Alle bouwdelen dienen vrij te zijn van: stickers, lijmresten en kauwgom.
A34: Deur/deurglas | B34: Geheel | C34: Stof-, vlek-, aanslag en streepvrij | D34: Enkele vinger tasten of kleine zichtbare vlekken max. 7 tot 10 stuks, enkele schopstrepen max. 1 tot 3 st.
A35: Separatieglas | B35: Geheel | C35: Stof-, vlek-, aanslag en streepvrij | D35: Enkele vinger tasten of kleine zichtbare vlekken max. 3 tot 7 st.
A36: Kabelgoot | B36: Geheel buitenzijde | C36: Stof-, vlek-, aanslag en streepvrij | D36: Lichte stofvorming bovenzijde, enkele vinger tasten of zichtbare vlekken max 7 tot 10 st., enkele schopstrepen max. 3 tot 7 st.
A37: Kapstok/Garderoberek | B37: Geheel | C37: Stof-, vlek-, aanslag en streepvrij | D37: Lichte stofvorming, enkele vinger tasten en zichtbare vlekken max. 1 tot 3 st.
A38: Lift | B38: Geheel | C38: Stof-, vlek-, aanslag en streepvrij | D38: Enkele vinger tasten of kleine zichtbare vlekken max. 7 tot 10 stuks, enkele schopstrepen max. 1 tot 3 st.
A39: Lichtknop/contact/ | B39: Geheel | C39: Stof-, vlek-, aanslag en streepvrij | D39: Lichte stofvorming bovenzijde, enkele vinger tasten of kleine zichtbare vlekken max 1 tot 3 st.
A40: Plafond | B40: Geheel | C40: Stof-, vlek-, aanslag en streepvrij | D40: Geen zichtbare spinrag, lichte stofvorming en kleine zichtbare vlekken max. 3 stuks
...

Sheet Werkprogramma periodiek
A1: Opleverstaat schoonmaak periodiek (tijdens vakanties uitvoeren) 2 x per jaar
A2: Element | B2: Onderdeel | C2: Handeling
A3: Inventaris :
A4: Aanrechtblad | B4: Geheel buitenzijde | C4: vochtig afnemen
A5: Afvalbak/prullenbak | B5: Geheel buitenzijde | C5: vochtig afnemen
A6: Balie | B6: Geheel buitenzijde | C6: vochtig afnemen
A7: Brandblusapparatuur | B7: Geheel buitenzijde | C7: vochtig afnemen
A8: Bureau/Tafel/Incl. onderlegger | B8: Geheel buitenzijde | C8: vochtig afnemen
A9: Bureaulamp | B9: Geheel buitenzijde | C9: vochtig afnemen
A10: Kapstok/Garderoberek | B10: Geheel | C10: vochtig afnemen
A11: Kast hoog | B11: Geheel buitenzijde | C11: vochtig afnemen
A12: Kast laag/Ladenblok | B12: Geheel buitenzijde | C12: vochtig afnemen
A13: Lampen | B13: Geheel | C13: vochtig afnemen
A14: Locker | B14: Geheel buitenzijde | C14: vochtig afnemen
A15: Papierbak | B15: Geheel buitenzijde | C15: vochtig afnemen
... A28: Verlichtingsarmatuur en buizen > 2.00 m | B28: Geheel buitenzijde | C28: vochtig afnemen
A29: Sanitaire elementen:
A30: Doorspoelinstallatie | B30: Geheel | C30: vochtig afnemen
A31: Handgreep/steun | B31: Geheel | C31: vochtig afnemen
A32: Schaam-tussenschot | B32: Geheel | C32: vochtig afnemen
A33: Spiegel | B33: Geheel | C33: vochtig afnemen
A34: Toiletpot-bril/Urinoir/Doorspoelinst. | B34: Geheel | C34: vochtig afnemen
A35: Toiletrolhouder | B35: Geheel | C35: vochtig afnemen
A36: Toiletborstel/-houder | B36: Geheel | C36: vochtig afnemen
A37: Wand sanitair/Planchet | B37: Geheel | C37: vochtig afnemen
A38: Wastafel | B38: Geheel | C38: vochtig afnemen
A39: Sanitaire ruimte | B39: Geheel | C39: Diepreiniging volgens programma
A40: Vloer :
A41: Harde vloeren (steen / pvc) | B41: Geheel | C41: periodiek vloeronderhoud conform afspraak
A42: Linoleum | B42: Geheel | C42: periodiek vloeronderhoud conform afspraak
A43: Tapijt | B43: Geheel | C43: periodiek vloeronderhoud conform afspraak

Sheet Werkprogramma diepreinigen
A2: Handelingen dieptereiniging 2 x per jaar
A4: Verwijderen van vervuiling in spoelranden, afvoersluitingen en restant van de binnenzijde van het toilet
A5: De drukspoeler controleren op goede werking en ontdoen van aanslag op de buitenzijde
A6: De spoelpijp ontdoen van aanslag
A7: Het verwijderen van vervuiling van schaamschotten
A8: Volledig (diep)reinigen van de deur (beide zijden), (tegel-)wanden, vloeren en putjes (in- en uitwendig), randen en richels
A9: Het reinigen van het toilet/urinoir aan de buitenzijde
A10: De toiletbril ontdoen van aanslag, demonteren van een bril met brugstuk (teneinde het vuil eronder te verwijderen) en weer monteren
A11: De buitenzijde van de stortbak ontdoen van aanslag en vuil (gietijzer alleen buitenzijde)
A12: Het verwijderen van organische en anorganische vervuiling op de binnen- en buitenzijde van de wastafel
A13: Alle spiegels reinigen
A14: De gehele vloer en alle wanden reinigen met fantomat
A15: Reinigen ramen/kozijnen

Sheet Tariefsopbouw
A1: Tariefsopbouw
A2: Alle groen gearceerde velden dienen ingevuld te worden, overige cellen mogen niet gewijzigd worden | G2: Indexatie
H3: 2023 | J3: 2024 | L3: 2025 | N3: 2026 | P3: 2027
A4: Loon: | C4: Gemiddeld brutoloon | D4: % van de prod. uren | E4: € | G4: Soort indexatie | H4: Percentage | I4: Tarief excl btw | J4: Percentage | K4: Tarief excl btw | L4: Percentage | M4: Tarief excl btw | N4: Percentage | O4: Tarief excl btw | P4: Percentage | Q4: Tarief excl btw
A5: Over te nemen personeel | C5: 0 | D5: 0 | E5: =C5*D5 -> 0
A6: Schoonmaakmedewerker | C6: 0 | D6: 0 | E6: =C6*D6 -> 0
C7: 0 | D7: 0 | E7: =C7*D7 -> 0
A8: Meewerkend leidinggevende | C8: 0 | D8: 0 | E8: =C8*D8 -> 0
A9: Totale berekende productieve ureninzet (contractjaar 1) | D9: =SUM(D5:D8) -> 0 | E9: =IF(SUM($D$5:$D$8)=100%,SUM(E5:E8)," GEEN 100%") -> GEEN 100%
A10: Totaal geindexeerd uurloon | E10: =SUM(E9:E9) -> 0 | G10: CAO | I10: =(E10*H10)+E10 -> 0 | J10: 0 | K10: =(I10*J10)+I10 -> 0 | L10: 0 | M10: =(K10*L10)+K10 -> 0 | N10: 0 | O10: =(M10*N10)+M10 -> 0 | P10: 0 | Q10: =(O10*P10)+O10 -> 0
A12: Loonkosten: | D12: % v.h. loon | E12: €
A13: Vakantiedagen, -toeslag, feestdagen | D13: 0 | E13: =SUM($E$10*D13) -> 0 | G13: CBS index | I13: =(E13*H13)+E13 -> 0 | K13: =(I13*J13)+I13 -> 0 | M13: =(K13*L13)+K13 -> 0 | O13: =(M13*N13)+M13 -> 0 | Q13: =(O13*P13)+O13 -> 0
A14: Eindejaarsuitkering | D14: 0 | E14: =SUM($E$10*D14) -> 0 | G14: CBS index | I14: =(E14*H14)+E14 -> 0 | K14: =(I14*J14)+I14 -> 0 | M14: =(K14*L14)+K14 -> 0 | O14: =(M14*N14)+M14 -> 0 | Q14: =(O14*P14)+O14 -> 0
A15: Suppletie ziekengeld | D15: 0 | E15: =SUM($E$10*D15) -> 0 | G15: CBS index | I15: =(E15*H15)+E15 -> 0 | K15: =(I15*J15)+I15 -> 0 | M15: =(K15*L15)+K15 -> 0 | O15: =(M15*N15)+M15 -> 0 | Q15: =(O15*P15)+O15 -> 0
A16: Sociale lasten | D16: 0 | E16: =SUM($E$10*D16) -> 0 | G16: CBS index | I16: =(E16*H16)+E16 -> 0 | K16: =(I16*J16)+I16 -> 0 | M16: =(K16*L16)+K16 -> 0 | O16: =(M16*N16)+M16 -> 0 | Q16: =(O16*P16)+O16 -> 0
A17: Overige loonkosten | D17: 0 | E17: =SUM($E$10*D17) -> 0 | G17: CBS index | I17: =(E17*H17)+E17 -> 0 | K17: =(I17*J17)+I17 -> 0 | M17: =(K17*L17)+K17 -> 0 | O17: =(M17*N17)+M17 -> 0 | Q17: =(O17*P17)+O17 -> 0
A18: Subtotaal Loonkosten | E18: =SUM(E13:E17) -> 0 | I18: =SUM(I13:I17) -> 0 | K18: =SUM(K13:K17) -> 0 | M18: =SUM(M13:M17) -> 0 | O18: =SUM(O13:O17) -> 0 | Q18: =SUM(Q13:Q17) -> 0
A20: Directe kosten: | D20: % v.h. loon incl. loonkosten | E20: €
A21: Materialen | D21: =E21/$E$35 -> #DIV/0! | E21: 0 | G21: CBS index | I21: =(E21*H21)+E21 -> 0 | K21: =(I21*J21)+I21 -> 0 | M21: =(K21*L21)+K21 -> 0 | O21: =(M21*N21)+M21 -> 0 | Q21: =(O21*P21)+O21 -> 0
A22: Middelen | D22: =E22/$E$35 -> #DIV/0! | E22: 0 | G22: CBS index | I22: =(E22*H22)+E22 -> 0 | K22: =(I22*J22)+I22 -> 0 | M22: =(K22*L22)+K22 -> 0 | O22: =(M22*N22)+M22 -> 0 | Q22: =(O22*P22)+O22 -> 0
A23: Afschrijving machines | D23: =E23/$E$35 -> #DIV/0! | E23: 0 | G23: CBS index | I23: =(E23*H23)+E23 -> 0 | K23: =(I23*J23)+I23 -> 0 | M23: =(K23*L23)+K23 -> 0 | O23: =(M23*N23)+M23 -> 0 | Q23: =(O23*P23)+O23 -> 0
A24: Directe leiding | D24: 0 | E24: =D24*$E$10 -> 0 | G24: CAO | I24: =(E24*H24)+E24 -> 0 | K24: =(I24*J24)+I24 -> 0 | M24: =(K24*L24)+K24 -> 0 | O24: =(M24*N24)+M24 -> 0 | Q24: =(O24*P24)+O24 -> 0
A25: Overige directe kosten | D25: =E25/$E$35 -> #DIV/0! | E25: 0 | G25: CBS index | I25: =(E25*H25)+E25 -> 0 | K25: =(I25*J25)+I25 -> 0 | M25: =(K25*L25)+K25 -> 0 | O25: =(M25*N25)+M25 -> 0 | Q25: =(O25*P25)+O25 -> 0
A26: Subtotaal Directe kosten | E26: =SUM(E21:E25) -> 0 | I26: =SUM(I21:I25) -> 0 | K26: =SUM(K21:K25) -> 0 | M26: =SUM(M21:M25) -> 0 | O26: =SUM(O21:O25) -> 0 | Q26: =SUM(Q21:Q25) -> 0
A28: Indirecte kosten: | D28: % v.h. loon incl. loonkosten | E28: €
A29: Indirecte leiding | D29: 0 | E29: =D29*($E$18+$E$10) -> 0 | G29: CBS index | I29: =(E29*H29)+E29 -> 0 | K29: =(I29*J29)+I29 -> 0 | M29: =(K29*L29)+K29 -> 0 | O29: =(M29*N29)+M29 -> 0 | Q29: =(O29*P29)+O29 -> 0
A30: Overheadkosten | D30: =E30/$E$35 -> #DIV/0! | E30: 0 | G30: CBS index | I30: =(E30*H30)+E30 -> 0 | K30: =(I30*J30)+I30 -> 0 | M30: =(K30*L30)+K30 -> 0 | O30: =(M30*N30)+M30 -> 0 | Q30: =(O30*P30)+O30 -> 0
A31: Overige indirecte kosten | D31: =E31/$E$35 -> #DIV/0! | E31: 0 | G31: CBS index | I31: =(E31*H31)+E31 -> 0 | K31: =(I31*J31)+I31 -> 0 | M31: =(K31*L31)+K31 -> 0 | O31: =(M31*N31)+M31 -> 0 | Q31: =(O31*P31)+O31 -> 0
A32: Winst en risico | D32: =E32/$E$35 -> #DIV/0! | E32: 0 | I32: =(E32*H32)+E32 -> 0 | K32: =(I32*J32)+I32 -> 0 | M32: =(K32*L32)+K32 -> 0 | O32: =(M32*N32)+M32 -> 0 | Q32: =(O32*P32)+O32 -> 0
A33: Subtotaal Indirecte kosten | E33: =SUM(E29:E32) -> 0 | I33: =SUM(I29:I32) -> 0 | K33: =SUM(K29:K32) -> 0 | M33: =SUM(M29:M32) -> 0 | O33: =SUM(O29:O32) -> 0 | Q33: =SUM(Q29:Q32) -> 0
A35: Tarief | E35: =E33+E26+E18+E10 -> 0 | I35: =I33+I26+I18+I10 -> 0 | K35: =K33+K26+K18+K10 -> 0 | M35: =M33+M26+M18+M10 -> 0 | O35: =O33+O26+O18+O10 -> 0 | Q35: =Q33+Q26+Q18+Q10 -> 0
A37: Rekentarieven | C37: % opslag op loonkosten | D37: Tarief excl. 21% BTW | E37: Tarief incl. 21% BTW | H37: Gemiddelde indexering | I37: =(I35/E35)-100% -> #DIV/0! | K37: =(K35/I35)-100% -> #DIV/0! | M37: =(M35/K35)-100% -> #DIV/0! | O37: =(O35/M35)-100% -> #DIV/0! | Q37: =(Q35/O35)-100% -> #DIV/0!
A38: Standaard | B38: ma. t/m vr. 6:00 - 21:30 uur | C38: 0 | D38: =+E35 -> 0 | E38: =D38*121% -> 0 | I38: =(D38*$I$37)+D38 -> #DIV/0! | K38: =(I38*$K$37)+I38 -> #DIV/0! | M38: =(K38*$M$37)+K38 -> #DIV/0! | O38: =(M38*$O$37)+M38 -> #DIV/0! | Q38: =(O38*$Q$37)+O38 -> #DIV/0!
A39: Ochtend/avond | B39: ma. t/m vr. 21:30 - 6:00 uur | C39: 0.3 | D39: =SUM($E$10,$E$18,$E$26,$E$33)+(C39*($E$18+$E$10)) -> 0 | E39: =D39*121% -> 0 | I39: =(D39*$I$37)+D39 -> #DIV/0! | K39: =(I39*$K$37)+I39 -> #DIV/0! | M39: =(K39*$M$37)+K39 -> #DIV/0! | O39: =(M39*$O$37)+M39 -> #DIV/0! | Q39: =(O39*$Q$37)+O39 -> #DIV/0!
A40: Weekend | B40: vr. 21:30 t/m ma. 6:00 uur | C40: 0.5 | D40: =SUM($E$10,$E$18,$E$26,$E$33)+(C40*($E$18+$E$10)) -> 0 | E40: =D40*121% -> 0 | I40: =(D40*$I$37)+D40 -> #DIV/0! | K40: =(I40*$K$37)+I40 -> #DIV/0! | M40: =(K40*$M$37)+K40 -> #DIV/0! | O40: =(M40*$O$37)+M40 -> #DIV/0! | Q40: =(O40*$Q$37)+O40 -> #DIV/0!
A41: Feestdag | B41: Erkende feestdagen | C41: 1.5 | D41: =SUM($E$10,$E$18,$E$26,$E$33)+(C41*($E$18+$E$10)) -> 0 | E41: =D41*121% -> 0 | I41: =(D41*$I$37)+D41 -> #DIV/0! | K41: =(I41*$K$37)+I41 -> #DIV/0! | M41: =(K41*$M$37)+K41 -> #DIV/0! | O41: =(M41*$O$37)+M41 -> #DIV/0! | Q41: =(O41*$Q$37)+O41 -> #DIV/0!

Sheet Overnamegegevens
B1: Geboorte- datum | C1: Datum in dienst | D1: Branche datum | E1: Soort contract | F1: Aantal uur op object per week | G1: > 1,5 jaar op object? | H1: Functie | I1: Functiecode | J1: Loongroep | K1: Basis-uurloon | L1: OT Dienstjaren | M1: VET toeslag | N1: Pers. Toeslag | O1: Reiskosten op basis van CAO | P1: Reiskosten boven CAO voor 31-12-2007 afgesproken | Q1: In het bezit van basisvak-diploma? Ja/Nee | R1: Locatie
A2: 1 | B2: 23379 | C2: 43150 | D2: 43150 | E2: Onbepaalde tijd | F2: 15 | G2: Ja | H2: Schoonmaakmedew. | I2: 651 | J2: SL1/dienstjaar 3 | K2: 12,47 bruto | L2: Dienstjaar 3 | M2: - | N2: - | O2: - | P2: - | Q2: In opleiding | R2: Sterrenschool Zevenaar
A3: 2 | B3: 28862 | C3: 43531 | D3: 43531 | E3: Onbepaalde tijd | F3: 12 | G3: Ja | H3: Schoonmaakmedew. | I3: 651 | J3: SL1/Tdienstjaar 1 | K3: 11,67 bruto | L3: Dienstjaar 1 | M3: - | N3: - | O3: - | P3: - | Q3: In opleiding | R3: Basisschool De Wissel
A4: 3 | B4: 29676 | C4: 42628 | D4: 40639 | E4: Onbepaalde tijd | F4: 15 | G4: Ja | H4: Schoonmaakmedew. | I4: 651 | J4: SL1/Tdienstjaar 4 | K4: 12,86 bruto | L4: Dienstjaar 4 | M4: - | N4: - | O4: - | P4: - | Q4: Ja | R4: OBS Het Klokhuis Duiven
A5: 4 | B5: 25302 | C5: 39926 | D5: 39926 | E5: Onbepaalde tijd | F5: 17.5 | G5: Ja | H5: Schoonmaakmedew. | I5: 651 | J5: SL1/Tdienstjaar 4 | K5: 12,86 bruto | L5: Dienstjaar 4 | M5: - | N5: - | O5: - | P5: - | Q5: Ja | R5: IKC De Tamboerijn
A6: 5 | B6: 31531 | C6: 39183 | D6: 39183 | E6: onbep tijd | F6: 10.4 | G6: Ja | H6: Interieurverzorgster | J6: 1 | K6: 12.86 | L6: 4 | M6: - | N6: - | O6: - | P6: - | Q6: Ja | R6: IKC de Expeditie
A7: 6 | B7: 27894 | C7: 43059 | D7: 42968 | E7: onbep tijd | F7: 10.4 | G7: Ja | H7: Interieurverzorgster | J7: 1 | K7: 12.47 | L7: 3 | M7: - | N7: - | O7: - | P7: - | Q7: Ja | R7: IKC de Expeditie
A8: 7 | B8: 24109 | C8: 43831 | D8: 42005 | E8: onbep tijd | F8: 10 | G8: Ja | H8: Interieurverzorgster | J8: 1 | K8: 12.86 | L8: 4 | M8: - | N8: - | O8: - | P8: - | Q8: Ja | R8: Kindcentrum De Trompetter
A9: 8 | B9: 20874 | C9: 43922 | D9: 40179 | E9: onbep tijd | F9: 7.5 | G9: Ja | H9: Interieurverzorgster | J9: 1 | K9: 12.86 | L9: 4 | M9: - | N9: - | O9: - | P9: - | Q9: Nee | R9: Kindcentrum De Trompetter
A10: 9 | B10: 20732 | C10: 34561 | D10: 34561 | E10: onbep tijd | F10: 14 | G10: Ja | H10: Interieurverzorgster | J10: 1 | K10: 12.86 | L10: 4 | M10: - | N10: - | O10: - | P10: - | Q10: Nee | R10: P.C. Basisschool De Wiekslag
A11: 10 | B11: 22333 | C11: 35065 | D11: 35065 | E11: onbep tijd | F11: 22.25 | G11: Ja | H11: Interieurverzorgster | J11: 1 | K11: 12.86 | L11: 4 | M11: - | N11: - | O11: - | P11: - | Q11: Nee | R11: P.C. school Het Veer
A12: 11 | B12: 28916 | C12: 44112 | D12: 44112 | E12: bep tijd | F12: 6.25 | G12: Nee | H12: Interieurverzorgster | J12: 1 | K12: 11.27 | L12: 0 | M12: - | N12: - | O12: - | P12: - | Q12: Nee | R12: Basisschool Sprankel
A13: 12 | B13: 21496 | C13: 42702 | D13: 42702 | E13: onbep tijd | F13: 16.25 | G13: Ja | H13: Interieurverzorgster | J13: 1 | K13: 12.86 | L13: 4 | M13: - | N13: - | O13: - | P13: - | Q13: Ja | R13: St. Martinusschool
R15: Geen onvername verplichtingen
R16: IKC Het Ravelijn
R17: Daltonschool de Bem

Sheet Prestatiefactoren
A1: Prestatie
A2: Alle groen gearceerde velden dienen ingevuld te worden, overige cellen mogen niet gewijzigd worden
A3: Aanpassing standaardnorm schoonmaakonderhoud o.b.v. locatie
A4: Code | B4: Locatie | C4: Aanpassing norm | D4: Adres | E4: Postcode | F4: Plaats
A5: 1 | B5: Het Kofschip & Lindenhage | C5: 1 | D5: Platanenlaan 1 | E5: 6903 DK | F5: Zevenaar
A6: 2 | B6: Basisschool ’t Scathe | C6: 1 | D6: Schoolstraat 1 | E6: 6911 AX | F6: Pannerden
A7: 3 | B7: IKC De Wissel | C7: 1 | D7: Westeinde 101 | E7: 6904 AC | F7: Zevenaar
A8: 4 | B8: IKC De Tamboerijn | C8: 1 | D8: Paganinistraat 17 | E8: 6904 EG | F8: Zevenaar
A9: 5 | B9: IKC De Carrousel Kard. de Jongstraat | C9: 1 | D9: Kardinaal de Jongstraat 2 | E9: 6904 BE | F9: Zevenaar
A10: 6 | B10: IKC De Carrousel Bizetstraat | C10: 1 | D10: Bizestraat 1 | E10: 6904 KL | F10: Zevenaar
A11: 7 | B11: Brede School St. Martinus | C11: 1 | D11: Martinusweg 6 | E11: 6905 AR | F11: Zevenaar
A12: 8 | B12: Daltonschool de Bem | C12: 1 | D12: Bemlaan 5 | E12: 6905 BL | F12: Zevenaar
A13: 9 | B13: Sterrenschool Zevenaar | C13: 1 | D13: Guido Gezellestraat 42 | E13: 6905 VH | F13: Zevenaar
A14: 10 | B14: Basisschool Sprankel | C14: 1 | D14: Carvium 1 | E14: 6914 AP | F14: Herwen
A15: 11 | B15: De Tragellijn | C15: 1 | D15: Graaf Ottoweg 91 | E15: 6915 VT | F15: Lobith
A16: 12 | B16: Basisschool de Wereldwijzer | C16: 1 | D16: Goudenregenstraat 1 | E16: 6921 EG | F16: Duiven
... A27: 23 | B27: De Trompetter | C27: 1 | D27: Margrietlaan 8 | E27: 6986 AT | F27: Angerlo
A29: Standaardnorm schoonmaakonderhoud per ruimtegroep / werkprogramma
A30: Code | B30: Ruimte omschrijving | C30: Norm (5w) | D30: Inspectiecategorie
A31: 1 | B31: Magazijnen/bergingen | C31: 0 | D31: V (Verkeersruimte)
A32: 2 | B32: Kantoren | C32: 0 | D32: B (Bureauruimte)
A33: 3 | B33: Reproruimte | C33: 0 | D33: V (Verkeersruimte)
A34: 4 | B34: Vergader/spreekkamers | C34: 0 | D34: B (Bureauruimte)
A35: 5 | B35: Sanitair | C35: 0 | D35: S (Sanitair)
A36: 6 | B36: Gangen/hallen | C36: 0 | D36: V (Verkeersruimte)
A37: 7 | B37: Entree | C37: 0 | D37: V (Verkeersruimte)
A38: 8 | B38: slaapkamer | C38: 0 | D38: L (Lesruimte)
A39: 9 | B39: Garderobe | C39: 0 | D39: V (Verkeersruimte)
A40: 10 | B40: Trappenhuizen/lift | C40: 0 | D40: V (Verkeersruimte)
A41: 11 | B41: speellokaal | C41: 0 | D41: L (Lesruimte)
A42: 12 | B42: kantine/multifunctionel ruimte | C42: 0 | D42: V (Verkeersruimte)
... A50: 20 | B50: technische ruimte | C50: 0 | D50: V (Verkeersruimte)
A51: 21 | B51: Niet in onderhoud | D51: Niet in onderhoud
A53: Aanpassing standaardnorm schoonmaakonderhoud o.b.v. vloersoort
A54: Code | B54: Naam | C54: Aanpassing norm | D54: Vloersoort omschrijving | E54: Kolom2 | F54: Kolom1
A55: L | B55: Lino | C55: 1 | D55: Vloerafwerkingen met beschermlaag, zoals linoleum, marmoleum e.d.
A56: T | B56: Tapijt | C56: 1 | D56: Textiele vloerafwerking, zoals tapijt, schoonloopmat, flotex e.d.
A57: S | B57: Steen | C57: 1 | D57: Harde vloeren zonder extra behandeling, zoals steen, beton e.d.
A58: P | B58: PVC | C58: 1 | D58: Vloeren zonder beschermlaag, die wel behandeling nodig hebben, zoals pvc e.d.
A59: H | B59: Hout | C59: 1 | D59: Vloeren zonder beschermlaag, die wel behandeling nodig hebben
...

Sheet Ruimtestaat
A1: Ruimtestaat
S3: Werkdagen
A4: Code | B4: Locatie | C4: Adres | D4: Postcode | E4: Plaats | F4: Gebouw gedeelte | G4: Etage | H4: Ruimte- nummer | I4: Ruimte omschrijving | J4: Ruimte code | K4: Ruimtesoort | L4: Vloer code | M4: Vloer afwerking | N4: Oppervlak (netto) | O4: Oppervlakte n.i.o. | P4: Eigen dienst | Q4: Inspectie categorie | R4: Aantal weken/jr | S4: Frequentie werkdagen | T4: Uitvoeringen werkdagen | U4: Norm (m2/uur) werkdagen | V4: Prest. (m2 /jaar) werkdagen | W4: uren / jaar werkdagen | X4: kosten / jaar werkdagen | Y4: Uitvoeringen eigen dienst | Z4: Norm (m2/uur) eigen dienst | AA4: Prest. (m2 /jaar) eigen dienst | AB4: uren / jaar eigen dienst | AC4: kosten / jaar eigen dienst
A5: 1 | B5: =VLOOKUP(Ruimtestaat[[#This Row],[Code]],Locaties[#All],2,FALSE) -> Het Kofschip & Lindenhage | C5: =VLOOKUP(Ruimtestaat[[#This Row],[Code]],Locaties[#All],4,FALSE) -> Platanenlaan 1 | D5: =VLOOKUP(Ruimtestaat[[#This Row],[Code]],Locaties[#All],5,FALSE) -> 6903 DK | E5: =VLOOKUP(Ruimtestaat[[#This Row],[Code]],Locaties[#All],6,FALSE) -> Zevenaar | F5: Lindenhage | G5: bg | H5: 1.34 | I5: entree L3 | J5: 7 | K5: =VLOOKUP(Ruimtestaat[[#This Row],[Ruimte code]],Ruimtegroepen[[#All],[Code]:[Ruimte omschrijving]],2,FALSE) -> Entree | L5: T | M5: schoonloopmat | P5: 35.92 | Q5: =VLOOKUP(Ruimtestaat[[#This Row],[Ruimte code]],Ruimtegroepen[],4,FALSE) -> V (Verkeersruimte) | R5: 40 | S5: 5w | T5: =IF(R5>0,IF(RIGHT(Ruimtestaat[[#This Row],[Frequentie werkdagen]],1)="w",VALUE(LEFT(Ruimtestaat[[#This Row],[Frequentie werkdagen]],(LEN(Ruimtestaat[[#This Row],[Frequentie werkdagen]])-1))*Ruimtestaat[[#This Row],[Aantal weken/jr]]),IF(RIGHT(Ruimtestaat[[#This Row],[Frequentie werkdagen]],1)="m",VALUE(LEFT(Ruimtestaat[[#This Row],[Frequentie werkdagen]],LEN(Ruimtestaat[[#This Row],[Frequentie werkdagen]])-1)*12),VALUE(LEFT(Ruimtestaat[[#This Row],[Frequentie werkdagen]],(LEN(Ruimtestaat[[#This Row],[Frequentie werkdagen]])-1))))),0) -> 200 | U5: =IF(T5>0,VLOOKUP($J5,Ruimtegroepen[],3,FALSE)*VLOOKUP($L5,Vloersoorten[],3,FALSE)*VLOOKUP($S5,Frequenties[],3,FALSE)*VLOOKUP($A5,Locaties[],3,FALSE),0) -> 0 | V5: =Ruimtestaat[[#This Row],[Uitvoeringen werkdagen]]*Ruimtestaat[[#This Row],[Oppervlak (netto)]] -> 0 | W5: =IF(U5>0,Ruimtestaat[[#This Row],[Prest. (m2 /jaar) werkdagen]]/Ruimtestaat[[#This Row],[Norm (m2/uur) werkdagen]],0) -> 0 | X5: =Ruimtestaat[[#This Row],[uren / jaar werkdagen]]*Tariefsopbouw!$D$38 -> 0 | Y5: =IF(Ruimtestaat[[#This Row],[Frequentie werkdagen]]>0,VALUE(LEFT(S5,1))*R5,0) -> 200 | Z5: =IF($Y5>0,VLOOKUP($J5,Ruimtegroepen[],3,FALSE)*VLOOKUP($L5,Vloersoorten[],3,FALSE)*VLOOKUP($S5,Frequenties[],3,FALSE)*VLOOKUP($A5,Locaties[],3,FALSE),0) -> 0 | AA5: =Ruimtestaat[[#This Row],[Uitvoeringen eigen dienst]]*Ruimtestaat[[#This Row],[Eigen dienst]] -> 7184 | AB5: =IF(Z5>0,Ruimtestaat[[#This Row],[Prest. (m2 /jaar) eigen dienst]]/Ruimtestaat[[#This Row],[Norm (m2/uur) werkdagen]],0) -> 0 | AC5: =Ruimtestaat[[#This Row],[uren / jaar eigen dienst]]*Tariefsopbouw!$D$38 -> 0
A6: 1 | B6: =VLOOKUP(Ruimtestaat[[#This Row],[Code]],Locaties[#All],2,FALSE) -> Het Kofschip & Lindenhage | C6: =VLOOKUP(Ruimtestaat[[#This Row],[Code]],Locaties[#All],4,FALSE) -> Platanenlaan 1 | D6: =VLOOKUP(Ruimtestaat[[#This Row],[Code]],Locaties[#All],5,FALSE) -> 6903 DK | E6: =VLOOKUP(Ruimtestaat[[#This Row],[Code]],Locaties[#All],6,FALSE) -> Zevenaar | F6: Lindenhage | G6: bg | H6: 1.44 | I6: pers toilet L | J6: 5 | K6: =VLOOKUP(Ruimtestaat[[#This Row],[Ruimte code]],Ruimtegroepen[[#All],[Code]:[Ruimte omschrijving]],2,FALSE) -> Sanitair | L6: S | M6: sure step | P6: 2.58 | Q6: =VLOOKUP(Ruimtestaat[[#This Row],[Ruimte code]],Ruimtegroepen[],4,FALSE) -> S (Sanitair) | R6: 40 | S6: 5w | T6: =IF(R6>0,IF(RIGHT(Ruimtestaat[[#This Row],[Frequentie werkdagen]],1)="w",VALUE(LEFT(Ruimtestaat[[#This Row],[Frequentie werkdagen]],(LEN(Ruimtestaat[[#This Row],[Frequentie werkdagen]])-1))*Ruimtestaat[[#This Row],[Aantal weken/jr]]),IF(RIGHT(Ruimtestaat[[#This Row],[Frequentie werkdagen]],1)="m",VALUE(LEFT(Ruimtestaat[[#This Row],[Frequentie werkdagen]],LEN(Ruimtestaat[[#This Row],[Frequentie werkdagen]])-1)*12),VALUE(LEFT(Ruimtestaat[[#This Row],[Frequentie werkdagen]],(LEN(Ruimtestaat[[#This Row],[Frequentie werkdagen]])-1))))),0) -> 200 | U6: =IF(T6>0,VLOOKUP($J6,Ruimtegroepen[],3,FALSE)*VLOOKUP($L6,Vloersoorten[],3,FALSE)*VLOOKUP($S6,Frequenties[],3,FALSE)*VLOOKUP($A6,Locaties[],3,FALSE),0) -> 0 | V6: =Ruimtestaat[[#This Row],[Uitvoeringen werkdagen]]*Ruimtestaat[[#This Row],[Oppervlak (netto)]] -> 0 | W6: =IF(U6>0,Ruimtestaat[[#This Row],[Prest. (m2 /jaar) werkdagen]]/Ruimtestaat[[#This Row],[Norm (m2/uur) werkdagen]],0) -> 0 | X6: =Ruimtestaat[[#This Row],[uren / jaar werkdagen]]*Tariefsopbouw!$D$38 -> 0 | Y6: =IF(Ruimtestaat[[#This Row],[Frequentie werkdagen]]>0,VALUE(LEFT(S6,1))*R6,0) -> 200 | Z6: =IF($Y6>0,VLOOKUP($J6,Ruimtegroepen[],3,FALSE)*VLOOKUP($L6,Vloersoorten[],3,FALSE)*VLOOKUP($S6,Frequenties[],3,FALSE)*VLOOKUP($A6,Locaties[],3,FALSE),0) -> 0 | AA6: =Ruimtestaat[[#This Row],[Uitvoeringen eigen dienst]]*Ruimtestaat[[#This Row],[Eigen dienst]] -> 516 | AB6: =IF(Z6>0,Ruimtestaat[[#This Row],[Prest. (m2 /jaar) eigen dienst]]/Ruimtestaat[[#This Row],[Norm (m2/uur) werkdagen]],0) -> 0 | AC6: =Ruimtestaat[[#This Row],[uren / jaar eigen dienst]]*Tariefsopbouw!$D$38 -> 0
A7: 1 | B7: =VLOOKUP(Ruimtestaat[[#This Row],[Code]],Locaties[#All],2,FALSE) -> Het Kofschip & Lindenhage | C7: =VLOOKUP(Ruimtestaat[[#This Row],[Code]],Locaties[#All],4,FALSE) -> Platanenlaan 1 | D7: =VLOOKUP(Ruimtestaat[[#This Row],[Code]],Locaties[#All],5,FALSE) -> 6903 DK | E7: =VLOOKUP(Ruimtestaat[[#This Row],[Code]],Locaties[#All],6,FALSE) -> Zevenaar | F7: Lindenhage | G7: bg | H7: 1.19 | I7: spreekkr L4 | J7: 4 | K7: =VLOOKUP(Ruimtestaat[[#This Row],[Ruimte code]],Ruimtegroepen[[#All],[Code]:[Ruimte omschrijving]],2,FALSE) -> Vergader/spreekkamers | L7: T | M7: flotex | P7: 8.5 | Q7: =VLOOKUP(Ruimtestaat[[#This Row],[Ruimte code]],Ruimtegroepen[],4,FALSE) -> B (Bureauruimte) | R7: 40 | S7: 3w | T7: =IF(R7>0,IF(RIGHT(Ruimtestaat[[#This Row],[Frequentie werkdagen]],1)="w",VALUE(LEFT(Ruimtestaat[[#This Row],[Frequentie werkdagen]],(LEN(Ruimtestaat[[#This Row],[Frequentie werkdagen]])-1))*Ruimtestaat[[#This Row],[Aantal weken/jr]]),IF(RIGHT(Ruimtestaat[[#This Row],[Frequentie werkdagen]],1)="m",VALUE(LEFT(Ruimtestaat[[#This Row],[Frequentie werkdagen]],LEN(Ruimtestaat[[#This Row],[Frequentie werkdagen]])-1)*12),VALUE(LEFT(Ruimtestaat[[#This Row],[Frequentie werkdagen]],(LEN(Ruimtestaat[[#This Row],[Frequentie werkdagen]])-1))))),0) -> 120 | U7: =IF(T7>0,VLOOKUP($J7,Ruimtegroepen[],3,FALSE)*VLOOKUP($L7,Vloersoorten[],3,FALSE)*VLOOKUP($S7,Frequenties[],3,FALSE)*VLOOKUP($A7,Locaties[],3,FALSE),0) -> 0 | V7: =Ruimtestaat[[#This Row],[Uitvoeringen werkdagen]]*Ruimtestaat[[#This Row],[Oppervlak (netto)]] -> 0 | W7: =IF(U7>0,Ruimtestaat[[#This Row],[Prest. (m2 /jaar) werkdagen]]/Ruimtestaat[[#This Row],[Norm (m2/uur) werkdagen]],0) -> 0 | X7: =Ruimtestaat[[#This Row],[uren / jaar werkdagen]]*Tariefsopbouw!$D$38 -> 0 | Y7: =IF(Ruimtestaat[[#This Row],[Frequentie werkdagen]]>0,VALUE(LEFT(S7,1))*R7,0) -> 120 | Z7: =IF($Y7>0,VLOOKUP($J7,Ruimtegroepen[],3,FALSE)*VLOOKUP($L7,Vloersoorten[],3,FALSE)*VLOOKUP($S7,Frequenties[],3,FALSE)*VLOOKUP($A7,Locaties[],3,FALSE),0) -> 0 | AA7: =Ruimtestaat[[#This Row],[Uitvoeringen eigen dienst]]*Ruimtestaat[[#This Row],[Eigen dienst]] -> 1020 | AB7: =IF(Z7>0,Ruimtestaat[[#This Row],[Prest. (m2 /jaar) eigen dienst]]/Ruimtestaat[[#This Row],[Norm (m2/uur) werkdagen]],0) -> 0 | AC7: =Ruimtestaat[[#This Row],[uren / jaar eigen dienst]]*Tariefsopbouw!$D$38 -> 0
A8: 1 | B8: =VLOOKUP(Ruimtestaat[[#This Row],[Code]],Locaties[#All],2,FALSE) -> Het Kofschip & Lindenhage | C8: =VLOOKUP(Ruimtestaat[[#This Row],[Code]],Locaties[#All],4,FALSE) -> Platanenlaan 1 | D8: =VLOOKUP(Ruimtestaat[[#This Row],[Code]],Locaties[#All],5,FALSE) -> 6903 DK | E8: =VLOOKUP(Ruimtestaat[[#This Row],[Code]],Locaties[#All],6,FALSE) -> Zevenaar | F8: Lindenhage | G8: bg | H8: 1.18 | I8: spreekkr L3 | J8: 4 | K8: =VLOOKUP(Ruimtestaat[[#This Row],[Ruimte code]],Ruimtegroepen[[#All],[Code]:[Ruimte omschrijving]],2,FALSE) -> Vergader/spreekkamers | L8: T | M8: flotex | P8: 16.4 | Q8: =VLOOKUP(Ruimtestaat[[#This Row],[Ruimte code]],Ruimtegroepen[],4,FALSE) -> B (Bureauruimte) | R8: 40 | S8: 3w | T8: =IF(R8>0,IF(RIGHT(Ruimtestaat[[#This Row],[Frequentie werkdagen]],1)="w",VALUE(LEFT(Ruimtestaat[[#This Row],[Frequentie werkdagen]],(LEN(Ruimtestaat[[#This Row],[Frequentie werkdagen]])-1))*Ruimtestaat[[#This Row],[Aantal weken/jr]]),IF(RIGHT(Ruimtestaat[[#This Row],[Frequentie werkdagen]],1)="m",VALUE(LEFT(Ruimtestaat[[#This Row],[Frequentie werkdagen]],LEN(Ruimtestaat[[#This Row],[Frequentie werkdagen]])-1)*12),VALUE(LEFT(Ruimtestaat[[#This Row],[Frequentie werkdagen]],(LEN(Ruimtestaat[[#This Row],[Frequentie werkdagen]])-1))))),0) -> 120 | U8: =IF(T8>0,VLOOKUP($J8,Ruimtegroepen[],3,FALSE)*VLOOKUP($L8,Vloersoorten[],3,FALSE)*VLOOKUP($S8,Frequenties[],3,FALSE)*VLOOKUP($A8,Locaties[],3,FALSE),0) -> 0 | V8: =Ruimtestaat[[#This Row],[Uitvoeringen werkdagen]]*Ruimtestaat[[#This Row],[Oppervlak (netto)]] -> 0 | W8: =IF(U8>0,Ruimtestaat[[#This Row],[Prest. (m2 /jaar) werkdagen]]/Ruimtestaat[[#This Row],[Norm (m2/uur) werkdagen]],0) -> 0 | X8: =Ruimtestaat[[#This Row],[uren / jaar werkdagen]]*Tariefsopbouw!$D$38 -> 0 | Y8: =IF(Ruimtestaat[[#This Row],[Frequentie werkdagen]]>0,VALUE(LEFT(S8,1))*R8,0) -> 120 | Z8: =IF($Y8>0,VLOOKUP($J8,Ruimtegroepen[],3,FALSE)*VLOOKUP($L8,Vloersoorten[],3,FALSE)*VLOOKUP($S8,Frequenties[],3,FALSE)*VLOOKUP($A8,Locaties[],3,FALSE),0) -> 0 | AA8: =Ruimtestaat[[#This Row],[Uitvoeringen eigen dienst]]*Ruimtestaat[[#This Row],[Eigen dienst]] -> 1968 | AB8: =IF(Z8>0,Ruimtestaat[[#This Row],[Prest. (m2 /jaar) eigen dienst]]/Ruimtestaat[[#This Row],[Norm (m2/uur) werkdagen]],0) -> 0 | AC8: =Ruimtestaat[[#This Row],[uren / jaar eigen dienst]]*Tariefsopbouw!$D$38 -> 0
A9: 1 | B9: =VLOOKUP(Ruimtestaat[[#This Row],[Code]],Locaties[#All],2,FALSE) -> Het Kofschip & Lindenhage | C9: =VLOOKUP(Ruimtestaat[[#This Row],[Code]],Locaties[#All],4,FALSE) -> Platanenlaan 1 | D9: =VLOOKUP(Ruimtestaat[[#This Row],[Code]],Locaties[#All],5,FALSE) -> 6903 DK | E9: =VLOOKUP(Ruimtestaat[[#This Row],[Code]],Locaties[#All],6,FALSE) -> Zevenaar | F9: Lindenhage | G9: bg | H9: 1.17 | I9: spreekkr L2 | J9: 4 | K9: =VLOOKUP(Ruimtestaat[[#This Row],[Ruimte code]],Ruimtegroepen[[#All],[Code]:[Ruimte omschrijving]],2,FALSE) -> Vergader/spreekkamers | L9: T | M9: flotex | P9: 6.79 | Q9: =VLOOKUP(Ruimtestaat[[#This Row],[Ruimte code]],Ruimtegroepen[],4,FALSE) -> B (Bureauruimte) | R9: 40 | S9: 3w | T9: =IF(R9>0,IF(RIGHT(Ruimtestaat[[#This Row],[Frequentie werkdagen]],1)="w",VALUE(LEFT(Ruimtestaat[[#This Row],[Frequentie werkdagen]],(LEN(Ruimtestaat[[#This Row],[Frequentie werkdagen]])-1))*Ruimtestaat[[#This Row],[Aantal weken/jr]]),IF(RIGHT(Ruimtestaat[[#This Row],[Frequentie werkdagen]],1)="m",VALUE(LEFT(Ruimtestaat[[#This Row],[Frequentie werkdagen]],LEN(Ruimtestaat[[#This Row],[Frequentie werkdagen]])-1)*12),VALUE(LEFT(Ruimtestaat[[#This Row],[Frequentie werkdagen]],(LEN(Ruimtestaat[[#This Row],[Frequentie werkdagen]])-1))))),0) -> 120 | U9: =IF(T9>0,VLOOKUP($J9,Ruimtegroepen[],3,FALSE)*VLOOKUP($L9,Vloersoorten[],3,FALSE)*VLOOKUP($S9,Frequenties[],3,FALSE)*VLOOKUP($A9,Locaties[],3,FALSE),0) -> 0 | V9: =Ruimtestaat[[#This Row],[Uitvoeringen werkdagen]]*Ruimtestaat[[#This Row],[Oppervlak (netto)]] -> 0 | W9: =IF(U9>0,Ruimtestaat[[#This Row],[Prest. (m2 /jaar) werkdagen]]/Ruimtestaat[[#This Row],[Norm (m2/uur) werkdagen]],0) -> 0 | X9: =Ruimtestaat[[#This Row],[uren / jaar werkdagen]]*Tariefsopbouw!$D$38 -> 0 | Y9: =IF(Ruimtestaat[[#This Row],[Frequentie werkdagen]]>0,VALUE(LEFT(S9,1))*R9,0) -> 120 | Z9: =IF($Y9>0,VLOOKUP($J9,Ruimtegroepen[],3,FALSE)*VLOOKUP($L9,Vloersoorten[],3,FALSE)*VLOOKUP($S9,Frequenties[],3,FALSE)*VLOOKUP($A9,Locaties[],3,FALSE),0) -> 0 | AA9: =Ruimtestaat[[#This Row],[Uitvoeringen eigen dienst]]*Ruimtestaat[[#This Row],[Eigen dienst]] -> 814.8 | AB9: =IF(Z9>0,Ruimtestaat[[#This Row],[Prest. (m2 /jaar) eigen dienst]]/Ruimtestaat[[#This Row],[Norm (m2/uur) werkdagen]],0) -> 0 | AC9: =Ruimtestaat[[#This Row],[uren / jaar eigen dienst]]*Tariefsopbouw!$D$38 -> 0
A10: 1 | B10: =VLOOKUP(Ruimtestaat[[#This Row],[Code]],Locaties[#All],2,FALSE) -> Het Kofschip & Lindenhage | C10: =VLOOKUP(Ruimtestaat[[#This Row],[Code]],Locaties[#All],4,FALSE) -> Platanenlaan 1 | D10: =VLOOKUP(Ruimtestaat[[#This Row],[Code]],Locaties[#All],5,FALSE) -> 6903 DK | E10: =VLOOKUP(Ruimtestaat[[#This Row],[Code]],Locaties[#All],6,FALSE) -> Zevenaar | F10: Lindenhage | G10: bg | H10: 1.50 | I10: kast L | J10: 21 | K10: =VLOOKUP(Ruimtestaat[[#This Row],[Ruimte code]],Ruimtegroepen[[#All],[Code]:[Ruimte omschrijving]],2,FALSE) -> Niet in onderhoud | L10: S | M10: beton | O10: 2.48 | Q10: =VLOOKUP(Ruimtestaat[[#This Row],[Ruimte code]],Ruimtegroepen[],4,FALSE) -> Niet in onderhoud | T10: =IF(R10>0,IF(RIGHT(Ruimtestaat[[#This Row],[Frequentie werkdagen]],1)="w",VALUE(LEFT(Ruimtestaat[[#This Row],[Frequentie werkdagen]],(LEN(Ruimtestaat[[#This Row],[Frequentie werkdagen]])-1))*Ruimtestaat[[#This Row],[Aantal weken/jr]]),IF(RIGHT(Ruimtestaat[[#This Row],[Frequentie werkdagen]],1)="m",VALUE(LEFT(Ruimtestaat[[#This Row],[Frequentie werkdagen]],LEN(Ruimtestaat[[#This Row],[Frequentie werkdagen]])-1)*12),VALUE(LEFT(Ruimtestaat[[#This Row],[Frequentie werkdagen]],(LEN(Ruimtestaat[[#This Row],[Frequentie werkdagen]])-1))))),0) -> 0 | U10: =IF(T10>0,VLOOKUP($J10,Ruimtegroepen[],3,FALSE)*VLOOKUP($L10,Vloersoorten[],3,FALSE)*VLOOKUP($S10,Frequenties[],3,FALSE)*VLOOKUP($A10,Locaties[],3,FALSE),0) -> 0 | V10: =Ruimtestaat[[#This Row],[Uitvoeringen werkdagen]]*Ruimtestaat[[#This Row],[Oppervlak (netto)]] -> 0 | W10: =IF(U10>0,Ruimtestaat[[#This Row],[Prest. (m2 /jaar) werkdagen]]/Ruimtestaat[[#This Row],[Norm (m2/uur) werkdagen]],0) -> 0 | X10: =Ruimtestaat[[#This Row],[uren / jaar werkdagen]]*Tariefsopbouw!$D$38 -> 0 | Y10: =IF(Ruimtestaat[[#This Row],[Frequentie werkdagen]]>0,VALUE(LEFT(S10,1))*R10,0) -> 0 | Z10: =IF($Y10>0,VLOOKUP($J10,Ruimtegroepen[],3,FALSE)*VLOOKUP($L10,Vloersoorten[],3,FALSE)*VLOOKUP($S10,Frequenties[],3,FALSE)*VLOOKUP($A10,Locaties[],3,FALSE),0) -> 0 | AA10: =Ruimtestaat[[#This Row],[Uitvoeringen eigen dienst]]*Ruimtestaat[[#This Row],[Eigen dienst]] -> 0 | AB10: =IF(Z10>0,Ruimtestaat[[#This Row],[Prest. (m2 /jaar) eigen dienst]]/Ruimtestaat[[#This Row],[Norm (m2/uur) werkdagen]],0) -> 0 | AC10: =Ruimtestaat[[#This Row],[uren / jaar eigen dienst]]*Tariefsopbouw!$D$38 -> 0
A11: 1 | B11: =VLOOKUP(Ruimtestaat[[#This Row],[Code]],Locaties[#All],2,FALSE) -> Het Kofschip & Lindenhage | C11: =VLOOKUP(Ruimtestaat[[#This Row],[Code]],Locaties[#All],4,FALSE) -> Platanenlaan 1 | D11: =VLOOKUP(Ruimtestaat[[#This Row],[Code]],Locaties[#All],5,FALSE) -> 6903 DK | E11: =VLOOKUP(Ruimtestaat[[#This Row],[Code]],Locaties[#All],6,FALSE) -> Zevenaar | F11: Lindenhage | G11: bg | H11: 1.10 | I11: groepsruimte L10 | J11: 16 | K11: =VLOOKUP(Ruimtestaat[[#This Row],[Ruimte code]],Ruimtegroepen[[#All],[Code]:[Ruimte omschrijving]],2,FALSE) -> Lokaal | L11: L | M11: marmoleum | P11: 55.05 | Q11: =VLOOKUP(Ruimtestaat[[#This Row],[Ruimte code]],Ruimtegroepen[],4,FALSE) -> L (Lesruimte) | R11: 40 | S11: 5w | T11: =IF(R11>0,IF(RIGHT(Ruimtestaat[[#This Row],[Frequentie werkdagen]],1)="w",VALUE(LEFT(Ruimtestaat[[#This Row],[Frequentie werkdagen]],(LEN(Ruimtestaat[[#This Row],[Frequentie werkdagen]])-1))*Ruimtestaat[[#This Row],[Aantal weken/jr]]),IF(RIGHT(Ruimtestaat[[#This Row],[Frequentie werkdagen]],1)="m",VALUE(LEFT(Ruimtestaat[[#This Row],[Frequentie werkdagen]],LEN(Ruimtestaat[[#This Row],[Frequentie werkdagen]])-1)*12),VALUE(LEFT(Ruimtestaat[[#This Row],[Frequentie werkdagen]],(LEN(Ruimtestaat[[#This Row],[Frequentie werkdagen]])-1))))),0) -> 200 | U11: =IF(T11>0,VLOOKUP($J11,Ruimtegroepen[],3,FALSE)*VLOOKUP($L11,Vloersoorten[],3,FALSE)*VLOOKUP($S11,Frequenties[],3,FALSE)*VLOOKUP($A11,Locaties[],3,FALSE),0) -> 0 | V11: =Ruimtestaat[[#This Row],[Uitvoeringen werkdagen]]*Ruimtestaat[[#This Row],[Oppervlak (netto)]] -> 0 | W11: =IF(U11>0,Ruimtestaat[[#This Row],[Prest. (m2 /jaar) werkdagen]]/Ruimtestaat[[#This Row],[Norm (m2/uur) werkdagen]],0) -> 0 | X11: =Ruimtestaat[[#This Row],[uren / jaar werkdagen]]*Tariefsopbouw!$D$38 -> 0 | Y11: =IF(Ruimtestaat[[#This Row],[Frequentie werkdagen]]>0,VALUE(LEFT(S11,1))*R11,0) -> 200 | Z11: =IF($Y11>0,VLOOKUP($J11,Ruimtegroepen[],3,FALSE)*VLOOKUP($L11,Vloersoorten[],3,FALSE)*VLOOKUP($S11,Frequenties[],3,FALSE)*VLOOKUP($A11,Locaties[],3,FALSE),0) -> 0 | AA11: =Ruimtestaat[[#This Row],[Uitvoeringen eigen dienst]]*Ruimtestaat[[#This Row],[Eigen dienst]] -> 11010 | AB11: =IF(Z11>0,Ruimtestaat[[#This Row],[Prest. (m2 /jaar) eigen dienst]]/Ruimtestaat[[#This Row],[Norm (m2/uur) werkdagen]],0) -> 0 | AC11: =Ruimtestaat[[#This Row],[uren / jaar eigen dienst]]*Tariefsopbouw!$D$38 -> 0
A12: 1 | B12: =VLOOKUP(Ruimtestaat[[#This Row],[Code]],Locaties[#All],2,FALSE) -> Het Kofschip & Lindenhage | C12: =VLOOKUP(Ruimtestaat[[#This Row],[Code]],Locaties[#All],4,FALSE) -> Platanenlaan 1 | D12: =VLOOKUP(Ruimtestaat[[#This Row],[Code]],Locaties[#All],5,FALSE) -> 6903 DK | E12: =VLOOKUP(Ruimtestaat[[#This Row],[Code]],Locaties[#All],6,FALSE) -> Zevenaar | F12: Lindenhage | G12: bg | H12: 1.11 | I12: groepsruimte L11 | J12: 16 | K12: =VLOOKUP(Ruimtestaat[[#This Row],[Ruimte code]],Ruimtegroepen[[#All],[Code]:[Ruimte omschrijving]],2,FALSE) -> Lokaal | L12: L | M12: marmoleum | P12: 55.01 | Q12: =VLOOKUP(Ruimtestaat[[#This Row],[Ruimte code]],Ruimtegroepen[],4,FALSE) -> L (Lesruimte) | R12: 40 | S12: 5w | T12: =IF(R12>0,IF(RIGHT(Ruimtestaat[[#This Row],[Frequentie werkdagen]],1)="w",VALUE(LEFT(Ruimtestaat[[#This Row],[Frequentie werkdagen]],(LEN(Ruimtestaat[[#This Row],[Frequentie werkdagen]])-1))*Ruimtestaat[[#This Row],[Aantal weken/jr]]),IF(RIGHT(Ruimtestaat[[#This Row],[Frequentie werkdagen]],1)="m",VALUE(LEFT(Ruimtestaat[[#This Row],[Frequentie werkdagen]],LEN(Ruimtestaat[[#This Row],[Frequentie werkdagen]])-1)*12),VALUE(LEFT(Ruimtestaat[[#This Row],[Frequentie werkdagen]],(LEN(Ruimtestaat[[#This Row],[Frequentie werkdagen]])-1))))),0) -> 200 | U12: =IF(T12>0,VLOOKUP($J12,Ruimtegroepen[],3,FALSE)*VLOOKUP($L12,Vloersoorten[],3,FALSE)*VLOOKUP($S12,Frequenties[],3,FALSE)*VLOOKUP($A12,Locaties[],3,FALSE),0) -> 0 | V12: =Ruimtestaat[[#This Row],[Uitvoeringen werkdagen]]*Ruimtestaat[[#This Row],[Oppervlak (netto)]] -> 0 | W12: =IF(U12>0,Ruimtestaat[[#This Row],[Prest. (m2 /jaar) werkdagen]]/Ruimtestaat[[#This Row],[Norm (m2/uur) werkdagen]],0) -> 0 | X12: =Ruimtestaat[[#This Row],[uren / jaar werkdagen]]*Tariefsopbouw!$D$38 -> 0 | Y12: =IF(Ruimtestaat[[#This Row],[Frequentie werkdagen]]>0,VALUE(LEFT(S12,1))*R12,0) -> 200 | Z12: =IF($Y12>0,VLOOKUP($J12,Ruimtegroepen[],3,FALSE)*VLOOKUP($L12,Vloersoorten[],3,FALSE)*VLOOKUP($S12,Frequenties[],3,FALSE)*VLOOKUP($A12,Locaties[],3,FALSE),0) -> 0 | AA12: =Ruimtestaat[[#This Row],[Uitvoeringen eigen dienst]]*Ruimtestaat[[#This Row],[Eigen dienst]] -> 11002 | AB12: =IF(Z12>0,Ruimtestaat[[#This Row],[Prest. (m2 /jaar) eigen dienst]]/Ruimtestaat[[#This Row],[Norm (m2/uur) werkdagen]],0) -> 0 | AC12: =Ruimtestaat[[#This Row],[uren / jaar eigen dienst]]*Tariefsopbouw!$D$38 -> 0
A13: 1 | B13: =VLOOKUP(Ruimtestaat[[#This Row],[Code]],Locaties[#All],2,FALSE) -> Het Kofschip & Lindenhage | C13: =VLOOKUP(Ruimtestaat[[#This Row],[Code]],Locaties[#All],4,FALSE) -> Platanenlaan 1 | D13: =VLOOKUP(Ruimtestaat[[#This Row],[Code]],Locaties[#All],5,FALSE) -> 6903 DK | E13: =VLOOKUP(Ruimtestaat[[#This Row],[Code]],Locaties[#All],6,FALSE) -> Zevenaar | F13: Lindenhage | G13: bg | H13: 1.12 | I13: groepsruimte L12 | J13: 16 | K13: =VLOOKUP(Ruimtestaat[[#This Row],[Ruimte code]],Ruimtegroepen[[#All],[Code]:[Ruimte omschrijving]],2,FALSE) -> Lokaal | L13: L | M13: marmoleum | P13: 55.11 | Q13: =VLOOKUP(Ruimtestaat[[#This Row],[Ruimte code]],Ruimtegroepen[],4,FALSE) -> L (Lesruimte) | R13: 40 | S13: 5w | T13: =IF(R13>0,IF(RIGHT(Ruimtestaat[[#This Row],[Frequentie werkdagen]],1)="w",VALUE(LEFT(Ruimtestaat[[#This Row],[Frequentie werkdagen]],(LEN(Ruimtestaat[[#This Row],[Frequentie werkdagen]])-1))*Ruimtestaat[[#This Row],[Aantal weken/jr]]),IF(RIGHT(Ruimtestaat[[#This Row],[Frequentie werkdagen]],1)="m",VALUE(LEFT(Ruimtestaat[[#This Row],[Frequentie werkdagen]],LEN(Ruimtestaat[[#This Row],[Frequentie werkdagen]])-1)*12),VALUE(LEFT(Ruimtestaat[[#This Row],[Frequentie werkdagen]],(LEN(Ruimtestaat[[#This Row],[Frequentie werkdagen]])-1))))),0) -> 200 | U13: =IF(T13>0,VLOOKUP($J13,Ruimtegroepen[],3,FALSE)*VLOOKUP($L13,Vloersoorten[],3,FALSE)*VLOOKUP($S13,Frequenties[],3,FALSE)*VLOOKUP($A13,Locaties[],3,FALSE),0) -> 0 | V13: =Ruimtestaat[[#This Row],[Uitvoeringen werkdagen]]*Ruimtestaat[[#This Row],[Oppervlak (netto)]] -> 0 | W13: =IF(U13>0,Ruimtestaat[[#This Row],[Prest. (m2 /jaar) werkdagen]]/Ruimtestaat[[#This Row],[Norm (m2/uur) werkdagen]],0) -> 0 | X13: =Ruimtestaat[[#This Row],[uren / jaar werkdagen]]*Tariefsopbouw!$D$38 -> 0 | Y13: =IF(Ruimtestaat[[#This Row],[Frequentie werkdagen]]>0,VALUE(LEFT(S13,1))*R13,0) -> 200 | Z13: =IF($Y13>0,VLOOKUP($J13,Ruimtegroepen[],3,FALSE)*VLOOKUP($L13,Vloersoorten[],3,FALSE)*VLOOKUP($S13,Frequenties[],3,FALSE)*VLOOKUP($A13,Locaties[],3,FALSE),0) -> 0 | AA13: =Ruimtestaat[[#This Row],[Uitvoeringen eigen dienst]]*Ruimtestaat[[#This Row],[Eigen dienst]] -> 11022 | AB13: =IF(Z13>0,Ruimtestaat[[#This Row],[Prest. (m2 /jaar) eigen dienst]]/Ruimtestaat[[#This Row],[Norm (m2/uur) werkdagen]],0) -> 0 | AC13: =Ruimtestaat[[#This Row],[uren / jaar eigen dienst]]*Tariefsopbouw!$D$38 -> 0
A14: 1 | B14: =VLOOKUP(Ruimtestaat[[#This Row],[Code]],Locaties[#All],2,FALSE) -> Het Kofschip & Lindenhage | C14: =VLOOKUP(Ruimtestaat[[#This Row],[Code]],Locaties[#All],4,FALSE) -> Platanenlaan 1 | D14: =VLOOKUP(Ruimtestaat[[#This Row],[Code]],Locaties[#All],5,FALSE) -> 6903 DK | E14: =VLOOKUP(Ruimtestaat[[#This Row],[Code]],Locaties[#All],6,FALSE) -> Zevenaar | F14: Lindenhage | G14: bg | H14: 1.13 | I14: groepsruimte L13 | J14: 16 | K14: =VLOOKUP(Ruimtestaat[[#This Row],[Ruimte code]],Ruimtegroepen[[#All],[Code]:[Ruimte omschrijving]],2,FALSE) -> Lokaal | L14: L | M14: marmoleum | P14: 52.36 | Q14: =VLOOKUP(Ruimtestaat[[#This Row],[Ruimte code]],Ruimtegroepen[],4,FALSE) -> L (Lesruimte) | R14: 40 | S14: 5w | T14: =IF(R14>0,IF(RIGHT(Ruimtestaat[[#This Row],[Frequentie werkdagen]],1)="w",VALUE(LEFT(Ruimtestaat[[#This Row],[Frequentie werkdagen]],(LEN(Ruimtestaat[[#This Row],[Frequentie werkdagen]])-1))*Ruimtestaat[[#This Row],[Aantal weken/jr]]),IF(RIGHT(Ruimtestaat[[#This Row],[Frequentie werkdagen]],1)="m",VALUE(LEFT(Ruimtestaat[[#This Row],[Frequentie werkdagen]],LEN(Ruimtestaat[[#This Row],[Frequentie werkdagen]])-1)*12),VALUE(LEFT(Ruimtestaat[[#This Row],[Frequentie werkdagen]],(LEN(Ruimtestaat[[#This Row],[Frequentie werkdagen]])-1))))),0) -> 200 | U14: =IF(T14>0,VLOOKUP($J14,Ruimtegroepen[],3,FALSE)*VLOOKUP($L14,Vloersoorten[],3,FALSE)*VLOOKUP($S14,Frequenties[],3,FALSE)*VLOOKUP($A14,Locaties[],3,FALSE),0) -> 0 | V14: =Ruimtestaat[[#This Row],[Uitvoeringen werkdagen]]*Ruimtestaat[[#This Row],[Oppervlak (netto)]] -> 0 | W14: =IF(U14>0,Ruimtestaat[[#This Row],[Prest. (m2 /jaar) werkdagen]]/Ruimtestaat[[#This Row],[Norm (m2/uur) werkdagen]],0) -> 0 | X14: =Ruimtestaat[[#This Row],[uren / jaar werkdagen]]*Tariefsopbouw!$D$38 -> 0 | Y14: =IF(Ruimtestaat[[#This Row],[Frequentie werkdagen]]>0,VALUE(LEFT(S14,1))*R14,0) -> 200 | Z14: =IF($Y14>0,VLOOKUP($J14,Ruimtegroepen[],3,FALSE)*VLOOKUP($L14,Vloersoorten[],3,FALSE)*VLOOKUP($S14,Frequenties[],3,FALSE)*VLOOKUP($A14,Locaties[],3,FALSE),0) -> 0 | AA14: =Ruimtestaat[[#This Row],[Uitvoeringen eigen dienst]]*Ruimtestaat[[#This Row],[Eigen dienst]] -> 10472 | AB14: =IF(Z14>0,Ruimtestaat[[#This Row],[Prest. (m2 /jaar) eigen dienst]]/Ruimtestaat[[#This Row],[Norm (m2/uur) werkdagen]],0) -> 0 | AC14: =Ruimtestaat[[#This Row],[uren / jaar eigen dienst]]*Tariefsopbouw!$D$38 -> 0
A15: 1 | B15: =VLOOKUP(Ruimtestaat[[#This Row],[Code]],Locaties[#All],2,FALSE) -> Het Kofschip & Lindenhage | C15: =VLOOKUP(Ruimtestaat[[#This Row],[Code]],Locaties[#All],4,FALSE) -> Platanenlaan 1 | D15: =VLOOKUP(Ruimtestaat[[#This Row],[Code]],Locaties[#All],5,FALSE) -> 6903 DK | E15: =VLOOKUP(Ruimtestaat[[#This Row],[Code]],Locaties[#All],6,FALSE) -> Zevenaar | F15: Lindenhage | G15: bg | H15: 1.20 | I15: spreekkr L5 | J15: 4 | K15: =VLOOKUP(Ruimtestaat[[#This Row],[Ruimte code]],Ruimtegroepen[[#All],[Code]:[Ruimte omschrijving]],2,FALSE) -> Vergader/spreekkamers | L15: T | M15: flotex | P15: 13.37 | Q15: =VLOOKUP(Ruimtestaat[[#This Row],[Ruimte code]],Ruimtegroepen[],4,FALSE) -> B (Bureauruimte) | R15: 40 | S15: 3w | T15: =IF(R15>0,IF(RIGHT(Ruimtestaat[[#This Row],[Frequentie werkdagen]],1)="w",VALUE(LEFT(Ruimtestaat[[#This Row],[Frequentie werkdagen]],(LEN(Ruimtestaat[[#This Row],[Frequentie werkdagen]])-1))*Ruimtestaat[[#This Row],[Aantal weken/jr]]),IF(RIGHT(Ruimtestaat[[#This Row],[Frequentie werkdagen]],1)="m",VALUE(LEFT(Ruimtestaat[[#This Row],[Frequentie werkdagen]],LEN(Ruimtestaat[[#This Row],[Frequentie werkdagen]])-1)*12),VALUE(LEFT(Ruimtestaat[[#This Row],[Frequentie werkdagen]],(LEN(Ruimtestaat[[#This Row],[Frequentie werkdagen]])-1))))),0) -> 120 | U15: =IF(T15>0,VLOOKUP($J15,Ruimtegroepen[],3,FALSE)*VLOOKUP($L15,Vloersoorten[],3,FALSE)*VLOOKUP($S15,Frequenties[],3,FALSE)*VLOOKUP($A15,Locaties[],3,FALSE),0) -> 0 | V15: =Ruimtestaat[[#This Row],[Uitvoeringen werkdagen]]*Ruimtestaat[[#This Row],[Oppervlak (netto)]] -> 0 | W15: =IF(U15>0,Ruimtestaat[[#This Row],[Prest. (m2 /jaar) werkdagen]]/Ruimtestaat[[#This Row],[Norm (m2/uur) werkdagen]],0) -> 0 | X15: =Ruimtestaat[[#This Row],[uren / jaar werkdagen]]*Tariefsopbouw!$D$38 -> 0 | Y15: =IF(Ruimtestaat[[#This Row],[Frequentie werkdagen]]>0,VALUE(LEFT(S15,1))*R15,0) -> 120 | Z15: =IF($Y15>0,VLOOKUP($J15,Ruimtegroepen[],3,FALSE)*VLOOKUP($L15,Vloersoorten[],3,FALSE)*VLOOKUP($S15,Frequenties[],3,FALSE)*VLOOKUP($A15,Locaties[],3,FALSE),0) -> 0 | AA15: =Ruimtestaat[[#This Row],[Uitvoeringen eigen dienst]]*Ruimtestaat[[#This Row],[Eigen dienst]] -> 1604.4 | AB15: =IF(Z15>0,Ruimtestaat[[#This Row],[Prest. (m2 /jaar) eigen dienst]]/Ruimtestaat[[#This Row],[Norm (m2/uur) werkdagen]],0) -> 0 | AC15: =Ruimtestaat[[#This Row],[uren / jaar eigen dienst]]*Tariefsopbouw!$D$38 -> 0
A16: 1 | B16: =VLOOKUP(Ruimtestaat[[#This Row],[Code]],Locaties[#All],2,FALSE) -> Het Kofschip & Lindenhage | C16: =VLOOKUP(Ruimtestaat[[#This Row],[Code]],Locaties[#All],4,FALSE) -> Platanenlaan 1 | D16: =VLOOKUP(Ruimtestaat[[#This Row],[Code]],Locaties[#All],5,FALSE) -> 6903 DK | E16: =VLOOKUP(Ruimtestaat[[#This Row],[Code]],Locaties[#All],6,FALSE) -> Zevenaar | F16: Lindenhage | G16: bg | H16: 1.46 | I16: berging L1 | J16: 1 | K16: =VLOOKUP(Ruimtestaat[[#This Row],[Ruimte code]],Ruimtegroepen[[#All],[Code]:[Ruimte omschrijving]],2,FALSE) -> Magazijnen/bergingen | L16: L | M16: marmoleum | P16: 10.85 | Q16: =VLOOKUP(Ruimtestaat[[#This Row],[Ruimte code]],Ruimtegroepen[],4,FALSE) -> V (Verkeersruimte) | R16: 40 | S16: 1m | T16: =IF(R16>0,IF(RIGHT(Ruimtestaat[[#This Row],[Frequentie werkdagen]],1)="w",VALUE(LEFT(Ruimtestaat[[#This Row],[Frequentie werkdagen]],(LEN(Ruimtestaat[[#This Row],[Frequentie werkdagen]])-1))*Ruimtestaat[[#This Row],[Aantal weken/jr]]),IF(RIGHT(Ruimtestaat[[#This Row],[Frequentie werkdagen]],1)="m",VALUE(LEFT(Ruimtestaat[[#This Row],[Frequentie werkdagen]],LEN(Ruimtestaat[[#This Row],[Frequentie werkdagen]])-1)*12),VALUE(LEFT(Ruimtestaat[[#This Row],[Frequentie werkdagen]],(LEN(Ruimtestaat[[#This Row],[Frequentie werkdagen]])-1))))),0) -> 12 | U16: =IF(T16>0,VLOOKUP($J16,Ruimtegroepen[],3,FALSE)*VLOOKUP($L16,Vloersoorten[],3,FALSE)*VLOOKUP($S16,Frequenties[],3,FALSE)*VLOOKUP($A16,Locaties[],3,FALSE),0) -> 0 | V16: =Ruimtestaat[[#This Row],[Uitvoeringen werkdagen]]*Ruimtestaat[[#This Row],[Oppervlak (netto)]] -> 0 | W16: =IF(U16>0,Ruimtestaat[[#This Row],[Prest. (m2 /jaar) werkdagen]]/Ruimtestaat[[#This Row],[Norm (m2/uur) werkdagen]],0) -> 0 | X16: =Ruimtestaat[[#This Row],[uren / jaar werkdagen]]*Tariefsopbouw!$D$38 -> 0 | Y16: =IF(Ruimtestaat[[#This Row],[Frequentie werkdagen]]>0,VALUE(LEFT(S16,1))*R16,0) -> 40 | Z16: =IF($Y16>0,VLOOKUP($J16,Ruimtegroepen[],3,FALSE)*VLOOKUP($L16,Vloersoorten[],3,FALSE)*VLOOKUP($S16,Frequenties[],3,FALSE)*VLOOKUP($A16,Locaties[],3,FALSE),0) -> 0 | AA16: =Ruimtestaat[[#This Row],[Uitvoeringen eigen dienst]]*Ruimtestaat[[#This Row],[Eigen dienst]] -> 434 | AB16: =IF(Z16>0,Ruimtestaat[[#This Row],[Prest. (m2 /jaar) eigen dienst]]/Ruimtestaat[[#This Row],[Norm (m2/uur) werkdagen]],0) -> 0 | AC16: =Ruimtestaat[[#This Row],[uren / jaar eigen dienst]]*Tariefsopbouw!$D$38 -> 0
A17: 1 | B17: =VLOOKUP(Ruimtestaat[[#This Row],[Code]],Locaties[#All],2,FALSE) -> Het Kofschip & Lindenhage | C17: =VLOOKUP(Ruimtestaat[[#This Row],[Code]],Locaties[#All],4,FALSE) -> Platanenlaan 1 | D17: =VLOOKUP(Ruimtestaat[[#This Row],[Code]],Locaties[#All],5,FALSE) -> 6903 DK | E17: =VLOOKUP(Ruimtestaat[[#This Row],[Code]],Locaties[#All],6,FALSE) -> Zevenaar | F17: Lindenhage | G17: bg | H17: 1.38 | I17: toilet L1 | J17: 5 | K17: =VLOOKUP(Ruimtestaat[[#This Row],[Ruimte code]],Ruimtegroepen[[#All],[Code]:[Ruimte omschrijving]],2,FALSE) -> Sanitair | L17: S | M17: sure step | P17: 7.65 | Q17: =VLOOKUP(Ruimtestaat[[#This Row],[Ruimte code]],Ruimtegroepen[],4,FALSE) -> S (Sanitair) | R17: 40 | S17: 5w | T17: =IF(R17>0,IF(RIGHT(Ruimtestaat[[#This Row],[Frequentie werkdagen]],1)="w",VALUE(LEFT(Ruimtestaat[[#This Row],[Frequentie werkdagen]],(LEN(Ruimtestaat[[#This Row],[Frequentie werkdagen]])-1))*Ruimtestaat[[#This Row],[Aantal weken/jr]]),IF(RIGHT(Ruimtestaat[[#This Row],[Frequentie werkdagen]],1)="m",VALUE(LEFT(Ruimtestaat[[#This Row],[Frequentie werkdagen]],LEN(Ruimtestaat[[#This Row],[Frequentie werkdagen]])-1)*12),VALUE(LEFT(Ruimtestaat[[#This Row],[Frequentie werkdagen]],(LEN(Ruimtestaat[[#This Row],[Frequentie werkdagen]])-1))))),0) -> 200 | U17: =IF(T17>0,VLOOKUP($J17,Ruimtegroepen[],3,FALSE)*VLOOKUP($L17,Vloersoorten[],3,FALSE)*VLOOKUP($S17,Frequenties[],3,FALSE)*VLOOKUP($A17,Locaties[],3,FALSE),0) -> 0 | V17: =Ruimtestaat[[#This Row],[Uitvoeringen werkdagen]]*Ruimtestaat[[#This Row],[Oppervlak (netto)]] -> 0 | W17: =IF(U17>0,Ruimtestaat[[#This Row],[Prest. (m2 /jaar) werkdagen]]/Ruimtestaat[[#This Row],[Norm (m2/uur) werkdagen]],0) -> 0 | X17: =Ruimtestaat[[#This Row],[uren / jaar werkdagen]]*Tariefsopbouw!$D$38 -> 0 | Y17: =IF(Ruimtestaat[[#This Row],[Frequentie werkdagen]]>0,VALUE(LEFT(S17,1))*R17,0) -> 200 | Z17: =IF($Y17>0,VLOOKUP($J17,Ruimtegroepen[],3,FALSE)*VLOOKUP($L17,Vloersoorten[],3,FALSE)*VLOOKUP($S17,Frequenties[],3,FALSE)*VLOOKUP($A17,Locaties[],3,FALSE),0) -> 0 | AA17: =Ruimtestaat[[#This Row],[Uitvoeringen eigen dienst]]*Ruimtestaat[[#This Row],[Eigen dienst]] -> 1530 | AB17: =IF(Z17>0,Ruimtestaat[[#This Row],[Prest. (m2 /jaar) eigen dienst]]/Ruimtestaat[[#This Row],[Norm (m2/uur) werkdagen]],0) -> 0 | AC17: =Ruimtestaat[[#This Row],[uren / jaar eigen dienst]]*Tariefsopbouw!$D$38 -> 0
A18: 1 | B18: =VLOOKUP(Ruimtestaat[[#This Row],[Code]],Locaties[#All],2,FALSE) -> Het Kofschip & Lindenhage | C18: =VLOOKUP(Ruimtestaat[[#This Row],[Code]],Locaties[#All],4,FALSE) -> Platanenlaan 1 | D18: =VLOOKUP(Ruimtestaat[[#This Row],[Code]],Locaties[#All],5,FALSE) -> 6903 DK | E18: =VLOOKUP(Ruimtestaat[[#This Row],[Code]],Locaties[#All],6,FALSE) -> Zevenaar | F18: Lindenhage | G18: bg | H18: 1.39 | I18: toilet L2 | J18: 5 | K18: =VLOOKUP(Ruimtestaat[[#This Row],[Ruimte code]],Ruimtegroepen[[#All],[Code]:[Ruimte omschrijving]],2,FALSE) -> Sanitair | L18: S | M18: sure step | P18: 7.65 | Q18: =VLOOKUP(Ruimtestaat[[#This Row],[Ruimte code]],Ruimtegroepen[],4,FALSE) -> S (Sanitair) | R18: 40 | S18: 5w | T18: =IF(R18>0,IF(RIGHT(Ruimtestaat[[#This Row],[Frequentie werkdagen]],1)="w",VALUE(LEFT(Ruimtestaat[[#This Row],[Frequentie werkdagen]],(LEN(Ruimtestaat[[#This Row],[Frequentie werkdagen]])-1))*Ruimtestaat[[#This Row],[Aantal weken/jr]]),IF(RIGHT(Ruimtestaat[[#This Row],[Frequentie werkdagen]],1)="m",VALUE(LEFT(Ruimtestaat[[#This Row],[Frequentie werkdagen]],LEN(Ruimtestaat[[#This Row],[Frequentie werkdagen]])-1)*12),VALUE(LEFT(Ruimtestaat[[#This Row],[Frequentie werkdagen]],(LEN(Ruimtestaat[[#This Row],[Frequentie werkdagen]])-1))))),0) -> 200 | U18: =IF(T18>0,VLOOKUP($J18,Ruimtegroepen[],3,FALSE)*VLOOKUP($L18,Vloersoorten[],3,FALSE)*VLOOKUP($S18,Frequenties[],3,FALSE)*VLOOKUP($A18,Locaties[],3,FALSE),0) -> 0 | V18: =Ruimtestaat[[#This Row],[Uitvoeringen werkdagen]]*Ruimtestaat[[#This Row],[Oppervlak (netto)]] -> 0 | W18: =IF(U18>0,Ruimtestaat[[#This Row],[Prest. (m2 /jaar) werkdagen]]/Ruimtestaat[[#This Row],[Norm (m2/uur) werkdagen]],0) -> 0 | X18: =Ruimtestaat[[#This Row],[uren / jaar werkdagen]]*Tariefsopbouw!$D$38 -> 0 | Y18: =IF(Ruimtestaat[[#This Row],[Frequentie werkdagen]]>0,VALUE(LEFT(S18,1))*R18,0) -> 200 | Z18: =IF($Y18>0,VLOOKUP($J18,Ruimtegroepen[],3,FALSE)*VLOOKUP($L18,Vloersoorten[],3,FALSE)*VLOOKUP($S18,Frequenties[],3,FALSE)*VLOOKUP($A18,Locaties[],3,FALSE),0) -> 0 | AA18: =Ruimtestaat[[#This Row],[Uitvoeringen eigen dienst]]*Ruimtestaat[[#This Row],[Eigen dienst]] -> 1530 | AB18: =IF(Z18>0,Ruimtestaat[[#This Row],[Prest. (m2 /jaar) eigen dienst]]/Ruimtestaat[[#This Row],[Norm (m2/uur) werkdagen]],0) -> 0 | AC18: =Ruimtestaat[[#This Row],[uren / jaar eigen dienst]]*Tariefsopbouw!$D$38 -> 0
A19: 1 | B19: =VLOOKUP(Ruimtestaat[[#This Row],[Code]],Locaties[#All],2,FALSE) -> Het Kofschip & Lindenhage | C19: =VLOOKUP(Ruimtestaat[[#This Row],[Code]],Locaties[#All],4,FALSE) -> Platanenlaan 1 | D19: =VLOOKUP(Ruimtestaat[[#This Row],[Code]],Locaties[#All],5,FALSE) -> 6903 DK | E19: =VLOOKUP(Ruimtestaat[[#This Row],[Code]],Locaties[#All],6,FALSE) -> Zevenaar | F19: Lindenhage | G19: bg | H19: 1.9 | I19: groepsruimte L9 | J19: 16 | K19: =VLOOKUP(Ruimtestaat[[#This Row],[Ruimte code]],Ruimtegroepen[[#All],[Code]:[Ruimte omschrijving]],2,FALSE) -> Lokaal | L19: L | M19: marmoleum | P19: 55.05 | Q19: =VLOOKUP(Ruimtestaat[[#This Row],[Ruimte code]],Ruimtegroepen[],4,FALSE) -> L (Lesruimte) | R19: 40 | S19: 5w | T19: =IF(R19>0,IF(RIGHT(Ruimtestaat[[#This Row],[Frequentie werkdagen]],1)="w",VALUE(LEFT(Ruimtestaat[[#This Row],[Frequentie werkdagen]],(LEN(Ruimtestaat[[#This Row],[Frequentie werkdagen]])-1))*Ruimtestaat[[#This Row],[Aantal weken/jr]]),IF(RIGHT(Ruimtestaat[[#This Row],[Frequentie werkdagen]],1)="m",VALUE(LEFT(Ruimtestaat[[#This Row],[Frequentie werkdagen]],LEN(Ruimtestaat[[#This Row],[Frequentie werkdagen]])-1)*12),VALUE(LEFT(Ruimtestaat[[#This Row],[Frequentie werkdagen]],(LEN(Ruimtestaat[[#This Row],[Frequentie werkdagen]])-1))))),0) -> 200 | U19: =IF(T19>0,VLOOKUP($J19,Ruimtegroepen[],3,FALSE)*VLOOKUP($L19,Vloersoorten[],3,FALSE)*VLOOKUP($S19,Frequenties[],3,FALSE)*VLOOKUP($A19,Locaties[],3,FALSE),0) -> 0 | V19: =Ruimtestaat[[#This Row],[Uitvoeringen werkdagen]]*Ruimtestaat[[#This Row],[Oppervlak (netto)]] -> 0 | W19: =IF(U19>0,Ruimtestaat[[#This Row],[Prest. (m2 /jaar) werkdagen]]/Ruimtestaat[[#This Row],[Norm (m2/uur) werkdagen]],0) -> 0 | X19: =Ruimtestaat[[#This Row],[uren / jaar werkdagen]]*Tariefsopbouw!$D$38 -> 0 | Y19: =IF(Ruimtestaat[[#This Row],[Frequentie werkdagen]]>0,VALUE(LEFT(S19,1))*R19,0) -> 200 | Z19: =IF($Y19>0,VLOOKUP($J19,Ruimtegroepen[],3,FALSE)*VLOOKUP($L19,Vloersoorten[],3,FALSE)*VLOOKUP($S19,Frequenties[],3,FALSE)*VLOOKUP($A19,Locaties[],3,FALSE),0) -> 0 | AA19: =Ruimtestaat[[#This Row],[Uitvoeringen eigen dienst]]*Ruimtestaat[[#This Row],[Eigen dienst]] -> 11010 | AB19: =IF(Z19>0,Ruimtestaat[[#This Row],[Prest. (m2 /jaar) eigen dienst]]/Ruimtestaat[[#This Row],[Norm (m2/uur) werkdagen]],0) -> 0 | AC19: =Ruimtestaat[[#This Row],[uren / jaar eigen dienst]]*Tariefsopbouw!$D$38 -> 0
