Workbook
Name Invulglas1: Glasbewassing!$A$9:$I$23
Name Invulvloer1: Vloeronderhoud!$A$9:$I$16

Sheet Opleverstaat dagelijks
A1: Opleverstaat schoonmaak
A2: Element | B2: Onderdeel | C2: Reinheidsniveau | D2: Acceptabel
D3: (dagelijks toegestane afwijking)
A4: Inventaris :
A5: Algemeen | C5: Alle inventarisonderdelen dienen vrij te zijn van: stickers, lijmresten en kauwgom.
A6: Aanrechtblad | B6: Geheel buitenzijde | C6: Stof-, vlek-, aanslag en streepvrij | D6: Lichte stofvorming, enkele vingertasten en zichtbare vlekken max. 1 tot 3 st.
A7: Audiovisuele middelen | B7: Geheel buitenzijde | C7: Stof-, vlek-, aanslag en streepvrij | D7: Lichte stofvorming bovenzijde
A8: Afvalbak/prullenbak | B8: Inhoud, plastic zak | C8: Inhoud geleegd, schone plastic zak aanwezig. Afwezigheid van fruitvliegjes | D8: Lichte stofvorming, enkele vinger tasten of kleine zichtbare vlekken max 3 tot 7 st.
A9: Afvalbak/prullenbak | B9: Geheel | C9: Stof-, vlek-, aanslag en streepvrij. Afwezigheid van fruitvliegjes. | D9: Lichte stofvorming, enkele vinger tasten of kleine zichtbare vlekken max 3 tot 7 st.
A10: Afval | B10: Geheel | C10: Afgevoerd naar containers
A11: Balie | B11: Geheel buitenzijde | C11: Stof-, vlek-, aanslag en streepvrij | D11: Enkele vinger tasten of kleine zichtbare vlekken max 1 tot 3 st.
A12: Brandblusapparatuur | B12: Geheel buitenzijde | C12: Stof-, vlek-, aanslag en streepvrij | D12: Lichte stofvorming
A13: Bureau/Tafel/Incl. onderlegger | B13: Geheel buitenzijde | C13: Stof-, vlek-, aanslag en streepvrij | D13: Enkele vinger tasten of kleine zichtbare vlekken, max. 3 tot 7 st.
A14: Bureaulamp | B14: Geheel buitenzijde | C14: Stof-, vlek-, aanslag en streepvrij | D14: Enkele vinger tasten of kleine zichtbare vlekken, max. 3 tot 7 st., lichte stofvorming op voetlamp
A15: Kapstok/Garderoberek | B15: Geheel | C15: Stof-, vlek-, aanslag en streepvrij | D15: Lichte stofvorming, enkele vinger tasten en zichtbare vlekken max. 1 tot 3 st.
A16: Kast hoog | B16: Geheel buitenzijde | C16: Stof-, vlek-, aanslag en streepvrij | D16: Lichte stofvorming bovenzijde, enkele vinger tasten of kleine zichtbare vlekken max 3 tot 7 st.
A17: Kast laag/Ladenblok | B17: Geheel buitenzijde | C17: Stof-, vlek-, aanslag en streepvrij | D17: Enkele vinger tasten of kleine zichtbare vlekken, max. 3 tot 7 st
A18: Lampen | B18: Geheel | C18: Stof-, vlek-, aanslag en streepvrij | D18: Enkele vinger tasten of kleine zichtbare vlekken, max. 3 tot 7 st., lichte stofvorming op voetlamp
A19: Locker | B19: Geheel buitenzijde | C19: Stof-, vlek-, aanslag en streepvrij | D19: Enkele vinger tasten of kleine zichtbare vlekken, max. 3 tot 7 st
A20: Papierbak | B20: Inhoud | C20: Inhoud geleegd, stof en vlekvrij
A21: Papierbak | B21: Geheel | C21: Stof-, vlek-, aanslag en streepvrij | D21: Lichte stofvorming bovenzijde, enkele vinger tasten of kleine zichtbare vlekken max 3 tot 7 st.
A22: PC, incl. toebehoren | B22: Geheel buitenzijde | C22: Stof-, vlek-, aanslag en streepvrij | D22: Lichte stofvorming bovenzijde, enkele vinger tasten en kleine zichtbare vlekken max. 1 tot 3 st.
A23: Plantenbak | B23: Geheel buitenzijde | C23: Stof-, vlek-, aanslag en streepvrij | D23: Enkele vinger tasten of kleine zichtbare vlekken max. 3 tot 7 st., enkele schopstrepen max. 3 tot 7 st.
A24: Plinten/kabelgoten | B24: Geheel buitenzijde | C24: Stof-, vlek-, aanslag en streepvrij | D24: Lichte stofvorming bovenzijde, enkele vinger tasten of zichtbare vlekken max 7 tot 10 st., enkele schopstrepen max. 3 tot 7 st
A25: Printer/copier | B25: Geheel buitenzijde | C25: Stof-, vlek-, aanslag en streepvrij | D25: Lichte stofvorming bovenzijde, enkele vinger tasten en kleine zichtbare vlekken max. 1 tot 3 st.
A26: Stoel/bank/kruk | B26: Geheel | C26: Stof-, vlek-, aanslag en streepvrij | D26: Licht stofvorming in naden, enkele vinger tasten of kleine zichtbare vlekken max. 3 tot 7 st. op achterzijde leuning
A27: Telefoon | B27: Geheel | C27: Stof-, vlek-, aanslag en streepvrij | D27: Lichte stofvorming bovenzijde, enkele vinger tasten of kleine zichtbare vlekken max 3 tot 7 st.
A28: Vitrinekast | B28: Geheel buitenzijde | C28: Stof-, vlek-, aanslag en streepvrij | D28: Lichte stofvorming bovenzijde, enkele vinger tasten of kleine zichtbare vlekken max 3 tot 7 st.
A29: Whiteboard/Schoolbord/Krijtrichel | B29: Geheel | C29: Stof-, vlek-, aanslag en streepvrij | D29: Lichte stofvorming bovenzijde, enkele vinger tasten of kleine zichtbare vlekken max 3 tot 7 st.
A30: Element | B30: Onderdeel | C30: Reinheidsniveau | D30: Acceptabel
D31: (dagelijks toegestane afwijking)
A32: Bouwdelen :
A33: Algemeen | C33: Alle bouwdelen dienen vrij te zijn van: stickers, lijmresten en kauwgom.
A34: Deur/deurglas | B34: Geheel | C34: Stof-, vlek-, aanslag en streepvrij | D34: Enkele vinger tasten of kleine zichtbare vlekken max. 7 tot 10 stuks, enkele schopstrepen max. 1 tot 3 st.
A35: Separatieglas | B35: Geheel | C35: Stof-, vlek-, aanslag en streepvrij | D35: Enkele vinger tasten of kleine zichtbare vlekken max. 3 tot 7 st.
A36: Kabelgoot | B36: Geheel buitenzijde | C36: Stof-, vlek-, aanslag en streepvrij | D36: Lichte stofvorming bovenzijde, enkele vinger tasten of zichtbare vlekken max 7 tot 10 st., enkele schopstrepen max. 3 tot 7 st.
A37: Kapstok/Garderoberek | B37: Geheel | C37: Stof-, vlek-, aanslag en streepvrij | D37: Lichte stofvorming, enkele vinger tasten en zichtbare vlekken max. 1 tot 3 st.
A38: Lift | B38: Geheel | C38: Stof-, vlek-, aanslag en streepvrij | D38: Enkele vinger tasten of kleine zichtbare vlekken max. 7 tot 10 stuks, enkele schopstrepen max. 1 tot 3 st.
A39: Lichtknop/contact/ | B39: Geheel | C39: Stof-, vlek-, aanslag en streepvrij | D39: Lichte stofvorming bovenzijde, enkele vinger tasten of kleine zichtbare vlekken max 1 tot 3 st.
A40: Plafond | B40: Geheel | C40: Stof-, vlek-, aanslag en streepvrij | D40: Geen zichtbare spinrag, lichte stofvorming en kleine zichtbare vlekken max. 3 stuks
A41: Plafond rooster | B41: Geheel buitenzijde | C41: Stof-, vlek-, aanslag en streepvrij | D41: Lichte stofvorming
A42: Radiator/convectorkast/paneel | B42: Geheel buitenzijde | C42: Stof-, vlek-, aanslag en streepvrij | D42: Lichte stofvorming bovenzijde, enkele vinger tasten of kleine zichtbare vlekken max 3 tot 7 st.
A43: Randen | B43: Geheel | C43: Stof-, vlek-, aanslag en streepvrij | D43: Enkele vinger tasten of kleine zichtbare vlekken max. 1 tot 3 st., enkele schopstrepen max. 1 tot 3 st
A44: Richels | B44: Geheel | C44: Stof-, vlek-, aanslag en streepvrij | D44: Lichte stofvorming, enkele vinger tasten of kleine zichtbare vlekken max. 3 tot 7 st., enkele schopstrepen max. 3 tot 7 st.
A45: Trapleuning / balustrade | B45: Geheel | C45: Stof-, vlek-, aanslag en streepvrij | D45: Lichte stofvorming bovenzijde, enkele vinger tasten of kleine zichtbare vlekken max 1 tot 3 st
... A51: Element | B51: Onderdeel | C51: Reinheidsniveau | D51: Acceptabel
D52: (dagelijks toegestane afwijking)
A53: Sanitaire elementen:
A54: Algemeen | C54: Alle sanitaire elementen dienen vrij te zijn van: stickers, lijmresten, kauwgom, zeepresten en huidvetten.
A55: Aut. handdoek/zeep/lucht | B55: Geheel | C55: Stof-, vlek-, aanslag en streepvrij en bijgevuld | D55: Lichte stofvorming bovenzijde, enkele vinger tasten of zichtbare vlekken max. 3 tot 7 st.
A56: Borstel- en borstelhouder | B56: Geheel | C56: Stof-, vlek-, aanslag en streepvrij | D56: Lichte stofvorming bovenzijde, enkele vinger tasten of zichtbare vlekken max. 7 tot 10 st
A57: Doorspoelinstallatie | B57: Geheel | C57: Stof-, vlek-, aanslag en streepvrij | D57: Enkele vinger tasten of zichtbare vlekken max. 1 tot 3 st.
A58: Doorspoelinstallatie | B58: Geheel | C58: Kalkvrij
A59: Handgreep/steun | B59: Geheel | C59: Stof-, vlek-, aanslag en streepvrij | D59: Enkele vinger tasten of zichtbare vlekken max. 1 tot 3 st.
A60: Hygienebox | B60: Geheel | C60: Stof-, vlek-, aanslag en streepvrij | D60: Lichte stofvorming bovenzijde, enkele vinger tasten of kleine zichtbare vlekken max 3 tot 7 st.
A61: Schaam-tussenschot | B61: Geheel | C61: Stof-, vlek-, aanslag en streepvrij | D61: Enkele vinger tasten of zichtbare vlekken max. 1 tot 3 st.
A62: Schaam-tussenschot | B62: Geheel | C62: Kalkvrij
A63: Spiegel | B63: Geheel | C63: Stof-, vlek-, aanslag en streepvrij | D63: Enkele vinger tasten of kleine zichtbare vlekken, max. 1 tot 3 st. Enkele waterdruppels toegestaan.
A64: Spiegel | B64: Geheel | C64: Kalkvrij
A65: Toiletpot-bril/Urinoir/Doorspoelinst. | B65: Geheel | C65: Stof-, vlek-, aanslag en streepvrij | D65: Enkele zichtbare vlekken max. 3 tot 7 st.
A66: Toiletpot-bril/Urinoir/Doorspoelinst. | B66: Geheel | C66: Kalkvrij
A67: Toiletrolhouder | B67: Geheel | C67: Stof-, vlek-, aanslag en streepvrij | D67: Lichte stofvorming bovenzijde, enkele vinger tasten of zichtbare vlekken max. 7 tot 10 st.
A68: Wand sanitair/Planchet | B68: Geheel | C68: Stof-, vlek-, aanslag en streepvrij | D68: Enkele vinger tasten of kleine zichtbare vlekken max. 3 tot 7 st., enkele schopstrepen max. 3 tot 7 st.
A69: Wand sanitair/Planchet | B69: Geheel | C69: Kalkvrij
A70: Wastafel | B70: Geheel | C70: Stof-, vlek-, aanslag en streepvrij. Geen zeepresten | D70: Enkele vinger tasten of kleine zichtbare vlekken max. 3 tot 7 st.
A71: Wastafel | B71: Geheel | C71: Kalkvrij
A72: Element | B72: Onderdeel | C72: Reinheidsniveau | D72: Acceptabel
D73: (dagelijks toegestane afwijking)
A74: Vloer :
A75: Algemeen | C75: Alle vloeren dienen vrij te zijn van stickers, lijmresten en kauwgom
A76: Harde vloeren (steen / pvc)
A77: Bureaukamers | B77: Geheel | C77: Grofvuil-, stof-, vlek-, aanslag en streepvrij. Geen schopstrepen | D77: Geen losliggend en/of zichtbaar vuil en enkele zichtbare vlekken max 8 st
A78: Leslokalen | B78: Geheel | C78: Grofvuil-, stof-, vlek-, aanslag en streepvrij. Geen schopstrepen | D78: Geen losliggend en/of zichtbaar vuil en enkele zichtbare vlekken max 8 st
A79: Verkeersruimte | B79: Geheel | C79: Grofvuil-, stof-, vlek-, aanslag en streepvrij. Geen schopstrepen | D79: Geen losliggend en/of zichtbaar vuil en enkele zichtbare vlekken max 10 st.
A80: Sanitaire ruimten | B80: Geheel | C80: Grofvuil-, stof-, vlek-, aanslag en streepvrij. Geen schopstrepen | D80: Geen losliggend en/of zichtbaar vuil en enkele zichtbare vlekken max 1 st.
A81: Sport ruimten | B81: Geheel | C81: Grofvuil-, stof-, vlek-, aanslag en streepvrij. Geen schopstrepen | D81: Geen losliggend en/of zichtbaar vuil en enkele zichtbare vlekken max 1 st.
A82: Linoleum
A83: Bureaukamers | B83: Geheel | C83: Grofvuil-, stof-, vlek-, aanslag en streepvrij. Geen schopstrepen | D83: Geen losliggend en/of zichtbaar vuil en enkele zichtbare vlekken max 8 st
A84: Leslokalen | B84: Geheel | C84: Grofvuil-, stof-, vlek-, aanslag en streepvrij. Geen schopstrepen | D84: Geen losliggend en/of zichtbaar vuil en enkele zichtbare vlekken max 8 st
A85: Verkeersruimte | B85: Geheel | C85: Grofvuil-, stof-, vlek-, aanslag en streepvrij. Geen schopstrepen | D85: Geen losliggend en/of zichtbaar vuil en enkele zichtbare vlekken max 10 st.
A86: Sanitaire ruimten | B86: Geheel | C86: Grofvuil-, stof-, vlek-, aanslag en streepvrij. Geen schopstrepen | D86: Geen losliggend en/of zichtbaar vuil en enkele zichtbare vlekken max 1 st.
A87: Sport ruimten | B87: Geheel | C87: Grofvuil-, stof-, vlek-, aanslag en streepvrij. Geen schopstrepen | D87: Geen losliggend en/of zichtbaar vuil en enkele zichtbare vlekken max 1 st.
A88: Tapijt
A89: Bureaukamers | B89: Geheel | C89: Grofvuil-, stof-, vlekvrij | D89: Geen losliggend en/of zichtbaar vuil en enkele zichtbare vlekken max 8 st
A90: Leslokalen | B90: Geheel | C90: Grofvuil-, stof-, vlekvrij | D90: Geen losliggend en/of zichtbaar vuil en enkele zichtbare vlekken max 8 st
A91: Verkeersruimte | B91: Geheel | C91: Grofvuil-, stof-, vlekvrij | D91: Geen losliggend en/of zichtbaar vuil en enkele zichtbare vlekken max 10 st.

Sheet Werkprogramma periodiek
A1: Opleverstaat schoonmaak periodiek (tijdens vakanties uitvoeren) 2 x per jaar
A2: Element | B2: Onderdeel | C2: Handeling
A3: Inventaris :
A4: Aanrechtblad | B4: Geheel buitenzijde | C4: vochtig afnemen
A5: Afvalbak/prullenbak | B5: Geheel buitenzijde | C5: vochtig afnemen
A6: Balie | B6: Geheel buitenzijde | C6: vochtig afnemen
A7: Brandblusapparatuur | B7: Geheel buitenzijde | C7: vochtig afnemen
A8: Bureau/Tafel/Incl. onderlegger | B8: Geheel buitenzijde | C8: vochtig afnemen
A9: Bureaulamp | B9: Geheel buitenzijde | C9: vochtig afnemen
A10: Kapstok/Garderoberek | B10: Geheel | C10: vochtig afnemen
A11: Kast hoog | B11: Geheel buitenzijde | C11: vochtig afnemen
A12: Kast laag/Ladenblok | B12: Geheel buitenzijde | C12: vochtig afnemen
A13: Lampen | B13: Geheel | C13: vochtig afnemen
A14: Locker | B14: Geheel buitenzijde | C14: vochtig afnemen
A15: Papierbak | B15: Geheel buitenzijde | C15: vochtig afnemen
... A28: Verlichtingsarmatuur en buizen > 2.00 m | B28: Geheel buitenzijde | C28: vochtig afnemen
A29: Sanitaire elementen:
A30: Doorspoelinstallatie | B30: Geheel | C30: vochtig afnemen
A31: Handgreep/steun | B31: Geheel | C31: vochtig afnemen
A32: Schaam-tussenschot | B32: Geheel | C32: vochtig afnemen
A33: Spiegel | B33: Geheel | C33: vochtig afnemen
A34: Toiletpot-bril/Urinoir/Doorspoelinst. | B34: Geheel | C34: vochtig afnemen
A35: Toiletrolhouder | B35: Geheel | C35: vochtig afnemen
A36: Toiletborstel/-houder | B36: Geheel | C36: vochtig afnemen
A37: Wand sanitair/Planchet | B37: Geheel | C37: vochtig afnemen
A38: Wastafel | B38: Geheel | C38: vochtig afnemen
A39: Sanitaire ruimte | B39: Geheel | C39: Diepreiniging volgens programma
A40: Vloer :
A41: Harde vloeren (steen / pvc) | B41: Geheel | C41: periodiek vloeronderhoud conform afspraak
A42: Linoleum | B42: Geheel | C42: periodiek vloeronderhoud conform afspraak
A43: Tapijt | B43: Geheel | C43: periodiek vloeronderhoud conform afspraak

Sheet Werkprogramma diepreinigen
A2: Handelingen dieptereiniging 2 x per jaar
A4: Verwijderen van vervuiling in spoelranden, afvoersluitingen en restant van de binnenzijde van het toilet
A5: De drukspoeler controleren op goede werking en ontdoen van aanslag op de buitenzijde
A6: De spoelpijp ontdoen van aanslag
A7: Het verwijderen van vervuiling van schaamschotten
A8: Volledig (diep)reinigen van de deur (beide zijden), (tegel-)wanden, vloeren en putjes (in- en uitwendig), randen en richels
A9: Het reinigen van het toilet/urinoir aan de buitenzijde
A10: De toiletbril ontdoen van aanslag, demonteren van een bril met brugstuk (teneinde het vuil eronder te verwijderen) en weer monteren
A11: De buitenzijde van de stortbak ontdoen van aanslag en vuil (gietijzer alleen buitenzijde)
A12: Het verwijderen van organische en anorganische vervuiling op de binnen- en buitenzijde van de wastafel
A13: Alle spiegels reinigen
A14: De gehele vloer en alle wanden reinigen met fantomat
A15: Reinigen ramen/kozijnen

Sheet Tariefsopbouw
A1: Tariefsopbouw
A2: Alle groen gearceerde velden dienen ingevuld te worden, overige cellen mogen niet gewijzigd worden | G2: Indexatie
H3: 2023 | J3: 2024 | L3: 2025 | N3: 2026 | P3: 2027
A4: Loon: | C4: Gemiddeld brutoloon | D4: % van de prod. uren | E4: € | G4: Soort indexatie | H4: Percentage | I4: Tarief excl btw | J4: Percentage | K4: Tarief excl btw | L4: Percentage | M4: Tarief excl btw | N4: Percentage | O4: Tarief excl btw | P4: Percentage | Q4: Tarief excl btw
A5: Over te nemen personeel | C5: 0 | D5: 0 | E5: =C5*D5 -> 0
A6: Schoonmaakmedewerker | C6: 0 | D6: 0 | E6: =C6*D6 -> 0
C7: 0 | D7: 0 | E7: =C7*D7 -> 0
A8: Meewerkend leidinggevende | C8: 0 | D8: 0 | E8: =C8*D8 -> 0
A9: Totale berekende productieve ureninzet (contractjaar 1) | D9: =SUM(D5:D8) -> 0 | E9: =IF(SUM($D$5:$D$8)=100%,SUM(E5:E8)," GEEN 100%") -> GEEN 100%
A10: Totaal geindexeerd uurloon | E10: =SUM(E9:E9) -> 0 | G10: CAO | I10: =(E10*H10)+E10 -> 0 | J10: 0 | K10: =(I10*J10)+I10 -> 0 | L10: 0 | M10: =(K10*L10)+K10 -> 0 | N10: 0 | O10: =(M10*N10)+M10 -> 0 | P10: 0 | Q10: =(O10*P10)+O10 -> 0
A12: Loonkosten: | D12: % v.h. loon | E12: €
A13: Vakantiedagen, -toeslag, feestdagen | D13: 0 | E13: =SUM($E$10*D13) -> 0 | G13: CBS index | I13: =(E13*H13)+E13 -> 0 | K13: =(I13*J13)+I13 -> 0 | M13: =(K13*L13)+K13 -> 0 | O13: =(M13*N13)+M13 -> 0 | Q13: =(O13*P13)+O13 -> 0
A14: Eindejaarsuitkering | D14: 0 | E14: =SUM($E$10*D14) -> 0 | G14: CBS index | I14: =(E14*H14)+E14 -> 0 | K14: =(I14*J14)+I14 -> 0 | M14: =(K14*L14)+K14 -> 0 | O14: =(M14*N14)+M14 -> 0 | Q14: =(O14*P14)+O14 -> 0
A15: Suppletie ziekengeld | D15: 0 | E15: =SUM($E$10*D15) -> 0 | G15: CBS index | I15: =(E15*H15)+E15 -> 0 | K15: =(I15*J15)+I15 -> 0 | M15: =(K15*L15)+K15 -> 0 | O15: =(M15*N15)+M15 -> 0 | Q15: =(O15*P15)+O15 -> 0
A16: Sociale lasten | D16: 0 | E16: =SUM($E$10*D16) -> 0 | G16: CBS index | I16: =(E16*H16)+E16 -> 0 | K16: =(I16*J16)+I16 -> 0 | M16: =(K16*L16)+K16 -> 0 | O16: =(M16*N16)+M16 -> 0 | Q16: =(O16*P16)+O16 -> 0
A17: Overige loonkosten | D17: 0 | E17: =SUM($E$10*D17) -> 0 | G17: CBS index | I17: =(E17*H17)+E17 -> 0 | K17: =(I17*J17)+I17 -> 0 | M17: =(K17*L17)+K17 -> 0 | O17: =(M17*N17)+M17 -> 0 | Q17: =(O17*P17)+O17 -> 0
A18: Subtotaal Loonkosten | E18: =SUM(E13:E17) -> 0 | I18: =SUM(I13:I17) -> 0 | K18: =SUM(K13:K17) -> 0 | M18: =SUM(M13:M17) -> 0 | O18: =SUM(O13:O17) -> 0 | Q18: =SUM(Q13:Q17) -> 0
A20: Directe kosten: | D20: % v.h. loon incl. loonkosten | E20: €
A21: Materialen | D21: =E21/$E$35 -> #DIV/0! | E21: 0 | G21: CBS index | I21: =(E21*H21)+E21 -> 0 | K21: =(I21*J21)+I21 -> 0 | M21: =(K21*L21)+K21 -> 0 | O21: =(M21*N21)+M21 -> 0 | Q21: =(O21*P21)+O21 -> 0
A22: Middelen | D22: =E22/$E$35 -> #DIV/0! | E22: 0 | G22: CBS index | I22: =(E22*H22)+E22 -> 0 | K22: =(I22*J22)+I22 -> 0 | M22: =(K22*L22)+K22 -> 0 | O22: =(M22*N22)+M22 -> 0 | Q22: =(O22*P22)+O22 -> 0
A23: Afschrijving machines | D23: =E23/$E$35 -> #DIV/0! | E23: 0 | G23: CBS index | I23: =(E23*H23)+E23 -> 0 | K23: =(I23*J23)+I23 -> 0 | M23: =(K23*L23)+K23 -> 0 | O23: =(M23*N23)+M23 -> 0 | Q23: =(O23*P23)+O23 -> 0
A24: Directe leiding | D24: 0 | E24: =D24*$E$10 -> 0 | G24: CAO | I24: =(E24*H24)+E24 -> 0 | K24: =(I24*J24)+I24 -> 0 | M24: =(K24*L24)+K24 -> 0 | O24: =(M24*N24)+M24 -> 0 | Q24: =(O24*P24)+O24 -> 0
A25: Overige directe kosten | D25: =E25/$E$35 -> #DIV/0! | E25: 0 | G25: CBS index | I25: =(E25*H25)+E25 -> 0 | K25: =(I25*J25)+I25 -> 0 | M25: =(K25*L25)+K25 -> 0 | O25: =(M25*N25)+M25 -> 0 | Q25: =(O25*P25)+O25 -> 0
A26: Subtotaal Directe kosten | E26: =SUM(E21:E25) -> 0 | I26: =SUM(I21:I25) -> 0 | K26: =SUM(K21:K25) -> 0 | M26: =SUM(M21:M25) -> 0 | O26: =SUM(O21:O25) -> 0 | Q26: =SUM(Q21:Q25) -> 0
A28: Indirecte kosten: | D28: % v.h. loon incl. loonkosten | E28: €
A29: Indirecte leiding | D29: 0 | E29: =D29*($E$18+$E$10) -> 0 | G29: CBS index | I29: =(E29*H29)+E29 -> 0 | K29: =(I29*J29)+I29 -> 0 | M29: =(K29*L29)+K29 -> 0 | O29: =(M29*N29)+M29 -> 0 | Q29: =(O29*P29)+O29 -> 0
A30: Overheadkosten | D30: =E30/$E$35 -> #DIV/0! | E30: 0 | G30: CBS index | I30: =(E30*H30)+E30 -> 0 | K30: =(I30*J30)+I30 -> 0 | M30: =(K30*L30)+K30 -> 0 | O30: =(M30*N30)+M30 -> 0 | Q30: =(O30*P30)+O30 -> 0
A31: Overige indirecte kosten | D31: =E31/$E$35 -> #DIV/0! | E31: 0 | G31: CBS index | I31: =(E31*H31)+E31 -> 0 | K31: =(I31*J31)+I31 -> 0 | M31: =(K31*L31)+K31 -> 0 | O31: =(M31*N31)+M31 -> 0 | Q31: =(O31*P31)+O31 -> 0
A32: Winst en risico | D32: =E32/$E$35 -> #DIV/0! | E32: 0 | I32: =(E32*H32)+E32 -> 0 | K32: =(I32*J32)+I32 -> 0 | M32: =(K32*L32)+K32 -> 0 | O32: =(M32*N32)+M32 -> 0 | Q32: =(O32*P32)+O32 -> 0
A33: Subtotaal Indirecte kosten | E33: =SUM(E29:E32) -> 0 | I33: =SUM(I29:I32) -> 0 | K33: =SUM(K29:K32) -> 0 | M33: =SUM(M29:M32) -> 0 | O33: =SUM(O29:O32) -> 0 | Q33: =SUM(Q29:Q32) -> 0
A35: Tarief | E35: =E33+E26+E18+E10 -> 0 | I35: =I33+I26+I18+I10 -> 0 | K35: =K33+K26+K18+K10 -> 0 | M35: =M33+M26+M18+M10 -> 0 | O35: =O33+O26+O18+O10 -> 0 | Q35: =Q33+Q26+Q18+Q10 -> 0
A37: Rekentarieven | C37: % opslag op loonkosten | D37: Tarief excl. 21% BTW | E37: Tarief incl. 21% BTW | H37: Gemiddelde indexering | I37: =(I35/E35)-100% -> #DIV/0! | K37: =(K35/I35)-100% -> #DIV/0! | M37: =(M35/K35)-100% -> #DIV/0! | O37: =(O35/M35)-100% -> #DIV/0! | Q37: =(Q35/O35)-100% -> #DIV/0!
A38: Standaard | B38: ma. t/m vr. 6:00 - 21:30 uur | C38: 0 | D38: =+E35 -> 0 | E38: =D38*121% -> 0 | I38: =(D38*$I$37)+D38 -> #DIV/0! | K38: =(I38*$K$37)+I38 -> #DIV/0! | M38: =(K38*$M$37)+K38 -> #DIV/0! | O38: =(M38*$O$37)+M38 -> #DIV/0! | Q38: =(O38*$Q$37)+O38 -> #DIV/0!
A39: Ochtend/avond | B39: ma. t/m vr. 21:30 - 6:00 uur | C39: 0.3 | D39: =SUM($E$10,$E$18,$E$26,$E$33)+(C39*($E$18+$E$10)) -> 0 | E39: =D39*121% -> 0 | I39: =(D39*$I$37)+D39 -> #DIV/0! | K39: =(I39*$K$37)+I39 -> #DIV/0! | M39: =(K39*$M$37)+K39 -> #DIV/0! | O39: =(M39*$O$37)+M39 -> #DIV/0! | Q39: =(O39*$Q$37)+O39 -> #DIV/0!
A40: Weekend | B40: vr. 21:30 t/m ma. 6:00 uur | C40: 0.5 | D40: =SUM($E$10,$E$18,$E$26,$E$33)+(C40*($E$18+$E$10)) -> 0 | E40: =D40*121% -> 0 | I40: =(D40*$I$37)+D40 -> #DIV/0! | K40: =(I40*$K$37)+I40 -> #DIV/0! | M40: =(K40*$M$37)+K40 -> #DIV/0! | O40: =(M40*$O$37)+M40 -> #DIV/0! | Q40: =(O40*$Q$37)+O40 -> #DIV/0!
A41: Feestdag | B41: Erkende feestdagen | C41: 1.5 | D41: =SUM($E$10,$E$18,$E$26,$E$33)+(C41*($E$18+$E$10)) -> 0 | E41: =D41*121% -> 0 | I41: =(D41*$I$37)+D41 -> #DIV/0! | K41: =(I41*$K$37)+I41 -> #DIV/0! | M41: =(K41*$M$37)+K41 -> #DIV/0! | O41: =(M41*$O$37)+M41 -> #DIV/0! | Q41: =(O41*$Q$37)+O41 -> #DIV/0!

Sheet Overnamegegevens
B1: Geboorte- datum | C1: Datum in dienst | D1: Branche datum | E1: Soort contract | F1: Aantal uur op object per week | G1: > 1,5 jaar op object? | H1: Functie | I1: Functiecode | J1: Loongroep | K1: Basis-uurloon | L1: OT Dienstjaren | M1: VET toeslag | N1: Pers. Toeslag | O1: Reiskosten op basis van CAO | P1: Reiskosten boven CAO voor 31-12-2007 afgesproken | Q1: In het bezit van basisvak-diploma? Ja/Nee | R1: Locatie
A2: 1 | B2: 23379 | C2: 43150 | D2: 43150 | E2: Onbepaalde tijd | F2: 15 | G2: Ja | H2: Schoonmaakmedew. | I2: 651 | J2: SL1/dienstjaar 3 | K2: 12,47 bruto | L2: Dienstjaar 3 | M2: - | N2: - | O2: - | P2: - | Q2: In opleiding | R2: Sterrenschool Zevenaar
A3: 2 | B3: 28862 | C3: 43531 | D3: 43531 | E3: Onbepaalde tijd | F3: 12 | G3: Ja | H3: Schoonmaakmedew. | I3: 651 | J3: SL1/Tdienstjaar 1 | K3: 11,67 bruto | L3: Dienstjaar 1 | M3: - | N3: - | O3: - | P3: - | Q3: In opleiding | R3: Basisschool De Wissel
A4: 3 | B4: 29676 | C4: 42628 | D4: 40639 | E4: Onbepaalde tijd | F4: 15 | G4: Ja | H4: Schoonmaakmedew. | I4: 651 | J4: SL1/Tdienstjaar 4 | K4: 12,86 bruto | L4: Dienstjaar 4 | M4: - | N4: - | O4: - | P4: - | Q4: Ja | R4: OBS Het Klokhuis Duiven
A5: 4 | B5: 25302 | C5: 39926 | D5: 39926 | E5: Onbepaalde tijd | F5: 17.5 | G5: Ja | H5: Schoonmaakmedew. | I5: 651 | J5: SL1/Tdienstjaar 4 | K5: 12,86 bruto | L5: Dienstjaar 4 | M5: - | N5: - | O5: - | P5: - | Q5: Ja | R5: IKC De Tamboerijn
A6: 5 | B6: 31531 | C6: 39183 | D6: 39183 | E6: onbep tijd | F6: 10.4 | G6: Ja | H6: Interieurverzorgster | J6: 1 | K6: 12.86 | L6: 4 | M6: - | N6: - | O6: - | P6: - | Q6: Ja | R6: IKC de Expeditie
A7: 6 | B7: 27894 | C7: 43059 | D7: 42968 | E7: onbep tijd | F7: 10.4 | G7: Ja | H7: Interieurverzorgster | J7: 1 | K7: 12.47 | L7: 3 | M7: - | N7: - | O7: - | P7: - | Q7: Ja | R7: IKC de Expeditie
A8: 7 | B8: 24109 | C8: 43831 | D8: 42005 | E8: onbep tijd | F8: 10 | G8: Ja | H8: Interieurverzorgster | J8: 1 | K8: 12.86 | L8: 4 | M8: - | N8: - | O8: - | P8: - | Q8: Ja | R8: Kindcentrum De Trompetter
A9: 8 | B9: 20874 | C9: 43922 | D9: 40179 | E9: onbep tijd | F9: 7.5 | G9: Ja | H9: Interieurverzorgster | J9: 1 | K9: 12.86 | L9: 4 | M9: - | N9: - | O9: - | P9: - | Q9: Nee | R9: Kindcentrum De Trompetter
A10: 9 | B10: 20732 | C10: 34561 | D10: 34561 | E10: onbep tijd | F10: 14 | G10: Ja | H10: Interieurverzorgster | J10: 1 | K10: 12.86 | L10: 4 | M10: - | N10: - | O10: - | P10: - | Q10: Nee | R10: P.C. Basisschool De Wiekslag
A11: 10 | B11: 22333 | C11: 35065 | D11: 35065 | E11: onbep tijd | F11: 22.25 | G11: Ja | H11: Interieurverzorgster | J11: 1 | K11: 12.86 | L11: 4 | M11: - | N11: - | O11: - | P11: - | Q11: Nee | R11: P.C. school Het Veer
A12: 11 | B12: 28916 | C12: 44112 | D12: 44112 | E12: bep tijd | F12: 6.25 | G12: Nee | H12: Interieurverzorgster | J12: 1 | K12: 11.27 | L12: 0 | M12: - | N12: - | O12: - | P12: - | Q12: Nee | R12: Basisschool Sprankel
A13: 12 | B13: 21496 | C13: 42702 | D13: 42702 | E13: onbep tijd | F13: 16.25 | G13: Ja | H13: Interieurverzorgster | J13: 1 | K13: 12.86 | L13: 4 | M13: - | N13: - | O13: - | P13: - | Q13: Ja | R13: St. Martinusschool
R15: Geen onvername verplichtingen
R16: IKC Het Ravelijn
R17: Daltonschool de Bem

Sheet Prestatiefactoren
A1: Prestatie
A2: Alle groen gearceerde velden dienen ingevuld te worden, overige cellen mogen niet gewijzigd worden
A3: Aanpassing standaardnorm schoonmaakonderhoud o.b.v. locatie
A4: Code | B4: Locatie | C4: Aanpassing norm | D4: Adres | E4: Postcode | F4: Plaats
A5: 1 | B5: Het Kofschip & Lindenhage | C5: 1 | D5: Platanenlaan 1 | E5: 6903 DK | F5: Zevenaar
A6: 2 | B6: Basisschool ’t Scathe | C6: 1 | D6: Schoolstraat 1 | E6: 6911 AX | F6: Pannerden
A7: 3 | B7: IKC De Wissel | C7: 1 | D7: Westeinde 101 | E7: 6904 AC | F7: Zevenaar
A8: 4 | B8: IKC De Tamboerijn | C8: 1 | D8: Paganinistraat 17 | E8: 6904 EG | F8: Zevenaar
A9: 5 | B9: IKC De Carrousel Kard. de Jongstraat | C9: 1 | D9: Kardinaal de Jongstraat 2 | E9: 6904 BE | F9: Zevenaar
A10: 6 | B10: IKC De Carrousel Bizetstraat | C10: 1 | D10: Bizestraat 1 | E10: 6904 KL | F10: Zevenaar
A11: 7 | B11: Brede School St. Martinus | C11: 1 | D11: Martinusweg 6 | E11: 6905 AR | F11: Zevenaar
A12: 8 | B12: Daltonschool de Bem | C12: 1 | D12: Bemlaan 5 | E12: 6905 BL | F12: Zevenaar
A13: 9 | B13: Sterrenschool Zevenaar | C13: 1 | D13: Guido Gezellestraat 42 | E13: 6905 VH | F13: Zevenaar
A14: 10 | B14: Basisschool Sprankel | C14: 1 | D14: Carvium 1 | E14: 6914 AP | F14: Herwen
A15: 11 | B15: De Tragellijn | C15: 1 | D15: Graaf Ottoweg 91 | E15: 6915 VT | F15: Lobith
A16: 12 | B16: Basisschool de Wereldwijzer | C16: 1 | D16: Goudenregenstraat 1 | E16: 6921 EG | F16: Duiven
... A27: 23 | B27: De Trompetter | C27: 1 | D27: Margrietlaan 8 | E27: 6986 AT | F27: Angerlo
A29: Standaardnorm schoonmaakonderhoud per ruimtegroep / werkprogramma
A30: Code | B30: Ruimte omschrijving | C30: Norm (5w) | D30: Inspectiecategorie
A31: 1 | B31: Magazijnen/bergingen | C31: 0 | D31: V (Verkeersruimte)
A32: 2 | B32: Kantoren | C32: 0 | D32: B (Bureauruimte)
A33: 3 | B33: Reproruimte | C33: 0 | D33: V (Verkeersruimte)
A34: 4 | B34: Vergader/spreekkamers | C34: 0 | D34: B (Bureauruimte)
A35: 5 | B35: Sanitair | C35: 0 | D35: S (Sanitair)
A36: 6 | B36: Gangen/hallen | C36: 0 | D36: V (Verkeersruimte)
A37: 7 | B37: Entree | C37: 0 | D37: V (Verkeersruimte)
A38: 8 | B38: slaapkamer | C38: 0 | D38: L (Lesruimte)
A39: 9 | B39: Garderobe | C39: 0 | D39: V (Verkeersruimte)
A40: 10 | B40: Trappenhuizen/lift | C40: 0 | D40: V (Verkeersruimte)
A41: 11 | B41: speellokaal | C41: 0 | D41: L (Lesruimte)
A42: 12 | B42: kantine/multifunctionel ruimte | C42: 0 | D42: V (Verkeersruimte)
... A50: 20 | B50: technische ruimte | C50: 0 | D50: V (Verkeersruimte)
A51: 21 | B51: Niet in onderhoud | D51: Niet in onderhoud
A53: Aanpassing standaardnorm schoonmaakonderhoud o.b.v. vloersoort
A54: Code | B54: Naam | C54: Aanpassing norm | D54: Vloersoort omschrijving | E54: Kolom2 | F54: Kolom1
A55: L | B55: Lino | C55: 1 | D55: Vloerafwerkingen met beschermlaag, zoals linoleum, marmoleum e.d.
A56: T | B56: Tapijt | C56: 1 | D56: Textiele vloerafwerking, zoals tapijt, schoonloopmat, flotex e.d.
A57: S | B57: Steen | C57: 1 | D57: Harde vloeren zonder extra behandeling, zoals steen, beton e.d.
A58: P | B58: PVC | C58: 1 | D58: Vloeren zonder beschermlaag, die wel behandeling nodig hebben, zoals pvc e.d.
A59: H | B59: Hout | C59: 1 | D59: Vloeren zonder beschermlaag, die wel behandeling nodig hebben
A61: Aanpassing standaardnorm o.b.v. frequentie
A62: Code | B62: Frequentie omschrijving | C62: Aanpassing norm
A63: 10w | B63: 5 x per week met naloop | C63: 1
A64: 5w | B64: 5 x per week | C64: 1
A65: 4w | B65: 4 x per week | C65: 1
A66: 3w | B66: 3 x per week | C66: 1
A67: 2,5w | B67: 2,5 x per week (om-de-dag) | C67: 1
A68: 2w | B68: 2 x per week | C68: 1
A69: 1w | B69: 1 x per week | C69: 1
A70: 2ww | B70: 2 x per weekend | C70: 1
A71: 1ww | B71: 1 x per weekend | C71: 1
A72: 1m | B72: 1 x per maand | C72: 1

Sheet Ruimtestaat
A1: Ruimtestaat
S3: Werkdagen
A4: Code | B4: Locatie | C4: Adres | D4: Postcode | E4: Plaats | F4: Gebouw gedeelte | G4: Etage | H4: Ruimte- nummer | I4: Ruimte omschrijving | J4: Ruimte code | K4: Ruimtesoort | L4: Vloer code | M4: Vloer afwerking | N4: Oppervlak (netto) | O4: Oppervlakte n.i.o. | P4: Eigen dienst | Q4: Inspectie categorie | R4: Aantal weken/jr | S4: Frequentie werkdagen | T4: Uitvoeringen werkdagen | U4: Norm (m2/uur) werkdagen | V4: Prest. (m2 /jaar) werkdagen | W4: uren / jaar werkdagen | X4: kosten / jaar werkdagen | Y4: Uitvoeringen eigen dienst | Z4: Norm (m2/uur) eigen dienst | AA4: Prest. (m2 /jaar) eigen dienst | AB4: uren / jaar eigen dienst | AC4: kosten / jaar eigen dienst
A5: 1 | B5: =VLOOKUP(Ruimtestaat[[#This Row],[Code]],Locaties[#All],2,FALSE) -> Het Kofschip & Lindenhage | C5: =VLOOKUP(Ruimtestaat[[#This Row],[Code]],Locaties[#All],4,FALSE) -> Platanenlaan 1 | D5: =VLOOKUP(Ruimtestaat[[#This Row],[Code]],Locaties[#All],5,FALSE) -> 6903 DK | E5: =VLOOKUP(Ruimtestaat[[#This Row],[Code]],Locaties[#All],6,FALSE) -> Zevenaar | F5: Lindenhage | G5: bg | H5: 1.34 | I5: entree L3 | J5: 7 | K5: =VLOOKUP(Ruimtestaat[[#This Row],[Ruimte code]],Ruimtegroepen[[#All],[Code]:[Ruimte omschrijving]],2,FALSE) -> Entree | L5: T | M5: schoonloopmat | P5: 35.92 | Q5: =VLOOKUP(Ruimtestaat[[#This Row],[Ruimte code]],Ruimtegroepen[],4,FALSE) -> V (Verkeersruimte) | R5: 40 | S5: 5w | T5: =IF(R5>0,IF(RIGHT(Ruimtestaat[[#This Row],[Frequentie werkdagen]],1)="w",VALUE(LEFT(Ruimtestaat[[#This Row],[Frequentie werkdagen]],(LEN(Ruimtestaat[[#This Row],[Frequentie werkdagen]])-1))*Ruimtestaat[[#This Row],[Aantal weken/jr]]),IF(RIGHT(Ruimtestaat[[#This Row],[Frequentie werkdagen]],1)="m",VALUE(LEFT(Ruimtestaat[[#This Row],[Frequentie werkdagen]],LEN(Ruimtestaat[[#This Row],[Frequentie werkdagen]])-1)*12),VALUE(LEFT(Ruimtestaat[[#This Row],[Frequentie werkdagen]],(LEN(Ruimtestaat[[#This Row],[Frequentie werkdagen]])-1))))),0) -> 200 | U5: =IF(T5>0,VLOOKUP($J5,Ruimtegroepen[],3,FALSE)*VLOOKUP($L5,Vloersoorten[],3,FALSE)*VLOOKUP($S5,Frequenties[],3,FALSE)*VLOOKUP($A5,Locaties[],3,FALSE),0) -> 0 | V5: =Ruimtestaat[[#This Row],[Uitvoeringen werkdagen]]*Ruimtestaat[[#This Row],[Oppervlak (netto)]] -> 0 | W5: =IF(U5>0,Ruimtestaat[[#This Row],[Prest. (m2 /jaar) werkdagen]]/Ruimtestaat[[#This Row],[Norm (m2/uur) werkdagen]],0) -> 0 | X5: =Ruimtestaat[[#This Row],[uren / jaar werkdagen]]*Tariefsopbouw!$D$38 -> 0 | Y5: =IF(Ruimtestaat[[#This Row],[Frequentie werkdagen]]>0,VALUE(LEFT(S5,1))*R5,0) -> 200 | Z5: =IF($Y5>0,VLOOKUP($J5,Ruimtegroepen[],3,FALSE)*VLOOKUP($L5,Vloersoorten[],3,FALSE)*VLOOKUP($S5,Frequenties[],3,FALSE)*VLOOKUP($A5,Locaties[],3,FALSE),0) -> 0 | AA5: =Ruimtestaat[[#This Row],[Uitvoeringen eigen dienst]]*Ruimtestaat[[#This Row],[Eigen dienst]] -> 7184 | AB5: =IF(Z5>0,Ruimtestaat[[#This Row],[Prest. (m2 /jaar) eigen dienst]]/Ruimtestaat[[#This Row],[Norm (m2/uur) werkdagen]],0) -> 0 | AC5: =Ruimtestaat[[#This Row],[uren / jaar eigen dienst]]*Tariefsopbouw!$D$38 -> 0
A6: 1 | B6: =VLOOKUP(Ruimtestaat[[#This Row],[Code]],Locaties[#All],2,FALSE) -> Het Kofschip & Lindenhage | C6: =VLOOKUP(Ruimtestaat[[#This Row],[Code]],Locaties[#All],4,FALSE) -> Platanenlaan 1 | D6: =VLOOKUP(Ruimtestaat[[#This Row],[Code]],Locaties[#All],5,FALSE) -> 6903 DK | E6: =VLOOKUP(Ruimtestaat[[#This Row],[Code]],Locaties[#All],6,FALSE) -> Zevenaar | F6: Lindenhage | G6: bg | H6: 1.44 | I6: pers toilet L | J6: 5 | K6: =VLOOKUP(Ruimtestaat[[#This Row],[Ruimte code]],Ruimtegroepen[[#All],[Code]:[Ruimte omschrijving]],2,FALSE) -> Sanitair | L6: S | M6: sure step | P6: 2.58 | Q6: =VLOOKUP(Ruimtestaat[[#This Row],[Ruimte code]],Ruimtegroepen[],4,FALSE) -> S (Sanitair) | R6: 40 | S6: 5w | T6: =IF(R6>0,IF(RIGHT(Ruimtestaat[[#This Row],[Frequentie werkdagen]],1)="w",VALUE(LEFT(Ruimtestaat[[#This Row],[Frequentie werkdagen]],(LEN(Ruimtestaat[[#This Row],[Frequentie werkdagen]])-1))*Ruimtestaat[[#This Row],[Aantal weken/jr]]),IF(RIGHT(Ruimtestaat[[#This Row],[Frequentie werkdagen]],1)="m",VALUE(LEFT(Ruimtestaat[[#This Row],[Frequentie werkdagen]],LEN(Ruimtestaat[[#This Row],[Frequentie werkdagen]])-1)*12),VALUE(LEFT(Ruimtestaat[[#This Row],[Frequentie werkdagen]],(LEN(Ruimtestaat[[#This Row],[Frequentie werkdagen]])-1))))),0) -> 200 | U6: =IF(T6>0,VLOOKUP($J6,Ruimtegroepen[],3,FALSE)*VLOOKUP($L6,Vloersoorten[],3,FALSE)*VLOOKUP($S6,Frequenties[],3,FALSE)*VLOOKUP($A6,Locaties[],3,FALSE),0) -> 0 | V6: =Ruimtestaat[[#This Row],[Uitvoeringen werkdagen]]*Ruimtestaat[[#This Row],[Oppervlak (netto)]] -> 0 | W6: =IF(U6>0,Ruimtestaat[[#This Row],[Prest. (m2 /jaar) werkdagen]]/Ruimtestaat[[#This Row],[Norm (m2/uur) werkdagen]],0) -> 0 | X6: =Ruimtestaat[[#This Row],[uren / jaar werkdagen]]*Tariefsopbouw!$D$38 -> 0 | Y6: =IF(Ruimtestaat[[#This Row],[Frequentie werkdagen]]>0,VALUE(LEFT(S6,1))*R6,0) -> 200 | Z6: =IF($Y6>0,VLOOKUP($J6,Ruimtegroepen[],3,FALSE)*VLOOKUP($L6,Vloersoorten[],3,FALSE)*VLOOKUP($S6,Frequenties[],3,FALSE)*VLOOKUP($A6,Locaties[],3,FALSE),0) -> 0 | AA6: =Ruimtestaat[[#This Row],[Uitvoeringen eigen dienst]]*Ruimtestaat[[#This Row],[Eigen dienst]] -> 516 | AB6: =IF(Z6>0,Ruimtestaat[[#This Row],[Prest. (m2 /jaar) eigen dienst]]/Ruimtestaat[[#This Row],[Norm (m2/uur) werkdagen]],0) -> 0 | AC6: =Ruimtestaat[[#This Row],[uren / jaar eigen dienst]]*Tariefsopbouw!$D$38 -> 0
A7: 1 | B7: =VLOOKUP(Ruimtestaat[[#This Row],[Code]],Locaties[#All],2,FALSE) -> Het Kofschip & Lindenhage | C7: =VLOOKUP(Ruimtestaat[[#This Row],[Code]],Locaties[#All],4,FALSE) -> Platanenlaan 1 | D7: =VLOOKUP(Ruimtestaat[[#This Row],[Code]],Locaties[#All],5,FALSE) -> 6903 DK | E7: =VLOOKUP(Ruimtestaat[[#This Row],[Code]],Locaties[#All],6,FALSE) -> Zevenaar | F7: Lindenhage | G7: bg | H7: 1.19 | I7: spreekkr L4 | J7: 4 | K7: =VLOOKUP(Ruimtestaat[[#This Row],[Ruimte code]],Ruimtegroepen[[#All],[Code]:[Ruimte omschrijving]],2,FALSE) -> Vergader/spreekkamers | L7: T | M7: flotex | P7: 8.5 | Q7: =VLOOKUP(Ruimtestaat[[#This Row],[Ruimte code]],Ruimtegroepen[],4,FALSE) -> B (Bureauruimte) | R7: 40 | S7: 3w | T7: =IF(R7>0,IF(RIGHT(Ruimtestaat[[#This Row],[Frequentie werkdagen]],1)="w",VALUE(LEFT(Ruimtestaat[[#This Row],[Frequentie werkdagen]],(LEN(Ruimtestaat[[#This Row],[Frequentie werkdagen]])-1))*Ruimtestaat[[#This Row],[Aantal weken/jr]]),IF(RIGHT(Ruimtestaat[[#This Row],[Frequentie werkdagen]],1)="m",VALUE(LEFT(Ruimtestaat[[#This Row],[Frequentie werkdagen]],LEN(Ruimtestaat[[#This Row],[Frequentie werkdagen]])-1)*12),VALUE(LEFT(Ruimtestaat[[#This Row],[Frequentie werkdagen]],(LEN(Ruimtestaat[[#This Row],[Frequentie werkdagen]])-1))))),0) -> 120 | U7: =IF(T7>0,VLOOKUP($J7,Ruimtegroepen[],3,FALSE)*VLOOKUP($L7,Vloersoorten[],3,FALSE)*VLOOKUP($S7,Frequenties[],3,FALSE)*VLOOKUP($A7,Locaties[],3,FALSE),0) -> 0 | V7: =Ruimtestaat[[#This Row],[Uitvoeringen werkdagen]]*Ruimtestaat[[#This Row],[Oppervlak (netto)]] -> 0 | W7: =IF(U7>0,Ruimtestaat[[#This Row],[Prest. (m2 /jaar) werkdagen]]/Ruimtestaat[[#This Row],[Norm (m2/uur) werkdagen]],0) -> 0 | X7: =Ruimtestaat[[#This Row],[uren / jaar werkdagen]]*Tariefsopbouw!$D$38 -> 0 | Y7: =IF(Ruimtestaat[[#This Row],[Frequentie werkdagen]]>0,VALUE(LEFT(S7,1))*R7,0) -> 120 | Z7: =IF($Y7>0,VLOOKUP($J7,Ruimtegroepen[],3,FALSE)*VLOOKUP($L7,Vloersoorten[],3,FALSE)*VLOOKUP($S7,Frequenties[],3,FALSE)*VLOOKUP($A7,Locaties[],3,FALSE),0) -> 0 | AA7: =Ruimtestaat[[#This Row],[Uitvoeringen eigen dienst]]*Ruimtestaat[[#This Row],[Eigen dienst]] -> 1020 | AB7: =IF(Z7>0,Ruimtestaat[[#This Row],[Prest. (m2 /jaar) eigen dienst]]/Ruimtestaat[[#This Row],[Norm (m2/uur) werkdagen]],0) -> 0 | AC7: =Ruimtestaat[[#This Row],[uren / jaar eigen dienst]]*Tariefsopbouw!$D$38 -> 0
A8: 1 | B8: =VLOOKUP(Ruimtestaat[[#This Row],[Code]],Locaties[#All],2,FALSE) -> Het Kofschip & Lindenhage | C8: =VLOOKUP(Ruimtestaat[[#This Row],[Code]],Locaties[#All],4,FALSE) -> Platanenlaan 1 | D8: =VLOOKUP(Ruimtestaat[[#This Row],[Code]],Locaties[#All],5,FALSE) -> 6903 DK | E8: =VLOOKUP(Ruimtestaat[[#This Row],[Code]],Locaties[#All],6,FALSE) -> Zevenaar | F8: Lindenhage | G8: bg | H8: 1.18 | I8: spreekkr L3 | J8: 4 | K8: =VLOOKUP(Ruimtestaat[[#This Row],[Ruimte code]],Ruimtegroepen[[#All],[Code]:[Ruimte omschrijving]],2,FALSE) -> Vergader/spreekkamers | L8: T | M8: flotex | P8: 16.4 | Q8: =VLOOKUP(Ruimtestaat[[#This Row],[Ruimte code]],Ruimtegroepen[],4,FALSE) -> B (Bureauruimte) | R8: 40 | S8: 3w | T8: =IF(R8>0,IF(RIGHT(Ruimtestaat[[#This Row],[Frequentie werkdagen]],1)="w",VALUE(LEFT(Ruimtestaat[[#This Row],[Frequentie werkdagen]],(LEN(Ruimtestaat[[#This Row],[Frequentie werkdagen]])-1))*Ruimtestaat[[#This Row],[Aantal weken/jr]]),IF(RIGHT(Ruimtestaat[[#This Row],[Frequentie werkdagen]],1)="m",VALUE(LEFT(Ruimtestaat[[#This Row],[Frequentie werkdagen]],LEN(Ruimtestaat[[#This Row],[Frequentie werkdagen]])-1)*12),VALUE(LEFT(Ruimtestaat[[#This Row],[Frequentie werkdagen]],(LEN(Ruimtestaat[[#This Row],[Frequentie werkdagen]])-1))))),0) -> 120 | U8: =IF(T8>0,VLOOKUP($J8,Ruimtegroepen[],3,FALSE)*VLOOKUP($L8,Vloersoorten[],3,FALSE)*VLOOKUP($S8,Frequenties[],3,FALSE)*VLOOKUP($A8,Locaties[],3,FALSE),0) -> 0 | V8: =Ruimtestaat[[#This Row],[Uitvoeringen werkdagen]]*Ruimtestaat[[#This Row],[Oppervlak (netto)]] -> 0 | W8: =IF(U8>0,Ruimtestaat[[#This Row],[Prest. (m2 /jaar) werkdagen]]/Ruimtestaat[[#This Row],[Norm (m2/uur) werkdagen]],0) -> 0 | X8: =Ruimtestaat[[#This Row],[uren / jaar werkdagen]]*Tariefsopbouw!$D$38 -> 0 | Y8: =IF(Ruimtestaat[[#This Row],[Frequentie werkdagen]]>0,VALUE(LEFT(S8,1))*R8,0) -> 120 | Z8: =IF($Y8>0,VLOOKUP($J8,Ruimtegroepen[],3,FALSE)*VLOOKUP($L8,Vloersoorten[],3,FALSE)*VLOOKUP($S8,Frequenties[],3,FALSE)*VLOOKUP($A8,Locaties[],3,FALSE),0) -> 0 | AA8: =Ruimtestaat[[#This Row],[Uitvoeringen eigen dienst]]*Ruimtestaat[[#This Row],[Eigen dienst]] -> 1968 | AB8: =IF(Z8>0,Ruimtestaat[[#This Row],[Prest. (m2 /jaar) eigen dienst]]/Ruimtestaat[[#This Row],[Norm (m2/uur) werkdagen]],0) -> 0 | AC8: =Ruimtestaat[[#This Row],[uren / jaar eigen dienst]]*Tariefsopbouw!$D$38 -> 0
A9: 1 | B9: =VLOOKUP(Ruimtestaat[[#This Row],[Code]],Locaties[#All],2,FALSE) -> Het Kofschip & Lindenhage | C9: =VLOOKUP(Ruimtestaat[[#This Row],[Code]],Locaties[#All],4,FALSE) -> Platanenlaan 1 | D9: =VLOOKUP(Ruimtestaat[[#This Row],[Code]],Locaties[#All],5,FALSE) -> 6903 DK | E9: =VLOOKUP(Ruimtestaat[[#This Row],[Code]],Locaties[#All],6,FALSE) -> Zevenaar | F9: Lindenhage | G9: bg | H9: 1.17 | I9: spreekkr L2 | J9: 4 | K9: =VLOOKUP(Ruimtestaat[[#This Row],[Ruimte code]],Ruimtegroepen[[#All],[Code]:[Ruimte omschrijving]],2,FALSE) -> Vergader/spreekkamers | L9: T | M9: flotex | P9: 6.79 | Q9: =VLOOKUP(Ruimtestaat[[#This Row],[Ruimte code]],Ruimtegroepen[],4,FALSE) -> B (Bureauruimte) | R9: 40 | S9: 3w | T9: =IF(R9>0,IF(RIGHT(Ruimtestaat[[#This Row],[Frequentie werkdagen]],1)="w",VALUE(LEFT(Ruimtestaat[[#This Row],[Frequentie werkdagen]],(LEN(Ruimtestaat[[#This Row],[Frequentie werkdagen]])-1))*Ruimtestaat[[#This Row],[Aantal weken/jr]]),IF(RIGHT(Ruimtestaat[[#This Row],[Frequentie werkdagen]],1)="m",VALUE(LEFT(Ruimtestaat[[#This Row],[Frequentie werkdagen]],LEN(Ruimtestaat[[#This Row],[Frequentie werkdagen]])-1)*12),VALUE(LEFT(Ruimtestaat[[#This Row],[Frequentie werkdagen]],(LEN(Ruimtestaat[[#This Row],[Frequentie werkdagen]])-1))))),0) -> 120 | U9: =IF(T9>0,VLOOKUP($J9,Ruimtegroepen[],3,FALSE)*VLOOKUP($L9,Vloersoorten[],3,FALSE)*VLOOKUP($S9,Frequenties[],3,FALSE)*VLOOKUP($A9,Locaties[],3,FALSE),0) -> 0 | V9: =Ruimtestaat[[#This Row],[Uitvoeringen werkdagen]]*Ruimtestaat[[#This Row],[Oppervlak (netto)]] -> 0 | W9: =IF(U9>0,Ruimtestaat[[#This Row],[Prest. (m2 /jaar) werkdagen]]/Ruimtestaat[[#This Row],[Norm (m2/uur) werkdagen]],0) -> 0 | X9: =Ruimtestaat[[#This Row],[uren / jaar werkdagen]]*Tariefsopbouw!$D$38 -> 0 | Y9: =IF(Ruimtestaat[[#This Row],[Frequentie werkdagen]]>0,VALUE(LEFT(S9,1))*R9,0) -> 120 | Z9: =IF($Y9>0,VLOOKUP($J9,Ruimtegroepen[],3,FALSE)*VLOOKUP($L9,Vloersoorten[],3,FALSE)*VLOOKUP($S9,Frequenties[],3,FALSE)*VLOOKUP($A9,Locaties[],3,FALSE),0) -> 0 | AA9: =Ruimtestaat[[#This Row],[Uitvoeringen eigen dienst]]*Ruimtestaat[[#This Row],[Eigen dienst]] -> 814.8 | AB9: =IF(Z9>0,Ruimtestaat[[#This Row],[Prest. (m2 /jaar) eigen dienst]]/Ruimtestaat[[#This Row],[Norm (m2/uur) werkdagen]],0) -> 0 | AC9: =Ruimtestaat[[#This Row],[uren / jaar eigen dienst]]*Tariefsopbouw!$D$38 -> 0
A10: 1 | B10: =VLOOKUP(Ruimtestaat[[#This Row],[Code]],Locaties[#All],2,FALSE) -> Het Kofschip & Lindenhage | C10: =VLOOKUP(Ruimtestaat[[#This Row],[Code]],Locaties[#All],4,FALSE) -> Platanenlaan 1 | D10: =VLOOKUP(Ruimtestaat[[#This Row],[Code]],Locaties[#All],5,FALSE) -> 6903 DK | E10: =VLOOKUP(Ruimtestaat[[#This Row],[Code]],Locaties[#All],6,FALSE) -> Zevenaar | F10: Lindenhage | G10: bg | H10: 1.50 | I10: kast L | J10: 21 | K10: =VLOOKUP(Ruimtestaat[[#This Row],[Ruimte code]],Ruimtegroepen[[#All],[Code]:[Ruimte omschrijving]],2,FALSE) -> Niet in onderhoud | L10: S | M10: beton | O10: 2.48 | Q10: =VLOOKUP(Ruimtestaat[[#This Row],[Ruimte code]],Ruimtegroepen[],4,FALSE) -> Niet in onderhoud | T10: =IF(R10>0,IF(RIGHT(Ruimtestaat[[#This Row],[Frequentie werkdagen]],1)="w",VALUE(LEFT(Ruimtestaat[[#This Row],[Frequentie werkdagen]],(LEN(Ruimtestaat[[#This Row],[Frequentie werkdagen]])-1))*Ruimtestaat[[#This Row],[Aantal weken/jr]]),IF(RIGHT(Ruimtestaat[[#This Row],[Frequentie werkdagen]],1)="m",VALUE(LEFT(Ruimtestaat[[#This Row],[Frequentie werkdagen]],LEN(Ruimtestaat[[#This Row],[Frequentie werkdagen]])-1)*12),VALUE(LEFT(Ruimtestaat[[#This Row],[Frequentie werkdagen]],(LEN(Ruimtestaat[[#This Row],[Frequentie werkdagen]])-1))))),0) -> 0 | U10: =IF(T10>0,VLOOKUP($J10,Ruimtegroepen[],3,FALSE)*VLOOKUP($L10,Vloersoorten[],3,FALSE)*VLOOKUP($S10,Frequenties[],3,FALSE)*VLOOKUP($A10,Locaties[],3,FALSE),0) -> 0 | V10: =Ruimtestaat[[#This Row],[Uitvoeringen werkdagen]]*Ruimtestaat[[#This Row],[Oppervlak (netto)]] -> 0 | W10: =IF(U10>0,Ruimtestaat[[#This Row],[Prest. (m2 /jaar) werkdagen]]/Ruimtestaat[[#This Row],[Norm (m2/uur) werkdagen]],0) -> 0 | X10: =Ruimtestaat[[#This Row],[uren / jaar werkdagen]]*Tariefsopbouw!$D$38 -> 0 | Y10: =IF(Ruimtestaat[[#This Row],[Frequentie werkdagen]]>0,VALUE(LEFT(S10,1))*R10,0) -> 0 | Z10: =IF($Y10>0,VLOOKUP($J10,Ruimtegroepen[],3,FALSE)*VLOOKUP($L10,Vloersoorten[],3,FALSE)*VLOOKUP($S10,Frequenties[],3,FALSE)*VLOOKUP($A10,Locaties[],3,FALSE),0) -> 0 | AA10: =Ruimtestaat[[#This Row],[Uitvoeringen eigen dienst]]*Ruimtestaat[[#This Row],[Eigen dienst]] -> 0 | AB10: =IF(Z10>0,Ruimtestaat[[#This Row],[Prest. (m2 /jaar) eigen dienst]]/Ruimtestaat[[#This Row],[Norm (m2/uur) werkdagen]],0) -> 0 | AC10: =Ruimtestaat[[#This Row],[uren / jaar eigen dienst]]*Tariefsopbouw!$D$38 -> 0
A11: 1 | B11: =VLOOKUP(Ruimtestaat[[#This Row],[Code]],Locaties[#All],2,FALSE) -> Het Kofschip & Lindenhage | C11: =VLOOKUP(Ruimtestaat[[#This Row],[Code]],Locaties[#All],4,FALSE) -> Platanenlaan 1 | D11: =VLOOKUP(Ruimtestaat[[#This Row],[Code]],Locaties[#All],5,FALSE) -> 6903 DK | E11: =VLOOKUP(Ruimtestaat[[#This Row],[Code]],Locaties[#All],6,FALSE) -> Zevenaar | F11: Lindenhage | G11: bg | H11: 1.10 | I11: groepsruimte L10 | J11: 16 | K11: =VLOOKUP(Ruimtestaat[[#This Row],[Ruimte code]],Ruimtegroepen[[#All],[Code]:[Ruimte omschrijving]],2,FALSE) -> Lokaal | L11: L | M11: marmoleum | P11: 55.05 | Q11: =VLOOKUP(Ruimtestaat[[#This Row],[Ruimte code]],Ruimtegroepen[],4,FALSE) -> L (Lesruimte) | R11: 40 | S11: 5w | T11: =IF(R11>0,IF(RIGHT(Ruimtestaat[[#This Row],[Frequentie werkdagen]],1)="w",VALUE(LEFT(Ruimtestaat[[#This Row],[Frequentie werkdagen]],(LEN(Ruimtestaat[[#This Row],[Frequentie werkdagen]])-1))*Ruimtestaat[[#This Row],[Aantal weken/jr]]),IF(RIGHT(Ruimtestaat[[#This Row],[Frequentie werkdagen]],1)="m",VALUE(LEFT(Ruimtestaat[[#This Row],[Frequentie werkdagen]],LEN(Ruimtestaat[[#This Row],[Frequentie werkdagen]])-1)*12),VALUE(LEFT(Ruimtestaat[[#This Row],[Frequentie werkdagen]],(LEN(Ruimtestaat[[#This Row],[Frequentie werkdagen]])-1))))),0) -> 200 | U11: =IF(T11>0,VLOOKUP($J11,Ruimtegroepen[],3,FALSE)*VLOOKUP($L11,Vloersoorten[],3,FALSE)*VLOOKUP($S11,Frequenties[],3,FALSE)*VLOOKUP($A11,Locaties[],3,FALSE),0) -> 0 | V11: =Ruimtestaat[[#This Row],[Uitvoeringen werkdagen]]*Ruimtestaat[[#This Row],[Oppervlak (netto)]] -> 0 | W11: =IF(U11>0,Ruimtestaat[[#This Row],[Prest. (m2 /jaar) werkdagen]]/Ruimtestaat[[#This Row],[Norm (m2/uur) werkdagen]],0) -> 0 | X11: =Ruimtestaat[[#This Row],[uren / jaar werkdagen]]*Tariefsopbouw!$D$38 -> 0 | Y11: =IF(Ruimtestaat[[#This Row],[Frequentie werkdagen]]>0,VALUE(LEFT(S11,1))*R11,0) -> 200 | Z11: =IF($Y11>0,VLOOKUP($J11,Ruimtegroepen[],3,FALSE)*VLOOKUP($L11,Vloersoorten[],3,FALSE)*VLOOKUP($S11,Frequenties[],3,FALSE)*VLOOKUP($A11,Locaties[],3,FALSE),0) -> 0 | AA11: =Ruimtestaat[[#This Row],[Uitvoeringen eigen dienst]]*Ruimtestaat[[#This Row],[Eigen dienst]] -> 11010 | AB11: =IF(Z11>0,Ruimtestaat[[#This Row],[Prest. (m2 /jaar) eigen dienst]]/Ruimtestaat[[#This Row],[Norm (m2/uur) werkdagen]],0) -> 0 | AC11: =Ruimtestaat[[#This Row],[uren / jaar eigen dienst]]*Tariefsopbouw!$D$38 -> 0
A12: 1 | B12: =VLOOKUP(Ruimtestaat[[#This Row],[Code]],Locaties[#All],2,FALSE) -> Het Kofschip & Lindenhage | C12: =VLOOKUP(Ruimtestaat[[#This Row],[Code]],Locaties[#All],4,FALSE) -> Platanenlaan 1 | D12: =VLOOKUP(Ruimtestaat[[#This Row],[Code]],Locaties[#All],5,FALSE) -> 6903 DK | E12: =VLOOKUP(Ruimtestaat[[#This Row],[Code]],Locaties[#All],6,FALSE) -> Zevenaar | F12: Lindenhage | G12: bg | H12: 1.11 | I12: groepsruimte L11 | J12: 16 | K12: =VLOOKUP(Ruimtestaat[[#This Row],[Ruimte code]],Ruimtegroepen[[#All],[Code]:[Ruimte omschrijving]],2,FALSE) -> Lokaal | L12: L | M12: marmoleum | P12: 55.01 | Q12: =VLOOKUP(Ruimtestaat[[#This Row],[Ruimte code]],Ruimtegroepen[],4,FALSE) -> L (Lesruimte) | R12: 40 | S12: 5w | T12: =IF(R12>0,IF(RIGHT(Ruimtestaat[[#This Row],[Frequentie werkdagen]],1)="w",VALUE(LEFT(Ruimtestaat[[#This Row],[Frequentie werkdagen]],(LEN(Ruimtestaat[[#This Row],[Frequentie werkdagen]])-1))*Ruimtestaat[[#This Row],[Aantal weken/jr]]),IF(RIGHT(Ruimtestaat[[#This Row],[Frequentie werkdagen]],1)="m",VALUE(LEFT(Ruimtestaat[[#This Row],[Frequentie werkdagen]],LEN(Ruimtestaat[[#This Row],[Frequentie werkdagen]])-1)*12),VALUE(LEFT(Ruimtestaat[[#This Row],[Frequentie werkdagen]],(LEN(Ruimtestaat[[#This Row],[Frequentie werkdagen]])-1))))),0) -> 200 | U12: =IF(T12>0,VLOOKUP($J12,Ruimtegroepen[],3,FALSE)*VLOOKUP($L12,Vloersoorten[],3,FALSE)*VLOOKUP($S12,Frequenties[],3,FALSE)*VLOOKUP($A12,Locaties[],3,FALSE),0) -> 0 | V12: =Ruimtestaat[[#This Row],[Uitvoeringen werkdagen]]*Ruimtestaat[[#This Row],[Oppervlak (netto)]] -> 0 | W12: =IF(U12>0,Ruimtestaat[[#This Row],[Prest. (m2 /jaar) werkdagen]]/Ruimtestaat[[#This Row],[Norm (m2/uur) werkdagen]],0) -> 0 | X12: =Ruimtestaat[[#This Row],[uren / jaar werkdagen]]*Tariefsopbouw!$D$38 -> 0 | Y12: =IF(Ruimtestaat[[#This Row],[Frequentie werkdagen]]>0,VALUE(LEFT(S12,1))*R12,0) -> 200 | Z12: =IF($Y12>0,VLOOKUP($J12,Ruimtegroepen[],3,FALSE)*VLOOKUP($L12,Vloersoorten[],3,FALSE)*VLOOKUP($S12,Frequenties[],3,FALSE)*VLOOKUP($A12,Locaties[],3,FALSE),0) -> 0 | AA12: =Ruimtestaat[[#This Row],[Uitvoeringen eigen dienst]]*Ruimtestaat[[#This Row],[Eigen dienst]] -> 11002 | AB12: =IF(Z12>0,Ruimtestaat[[#This Row],[Prest. (m2 /jaar) eigen dienst]]/Ruimtestaat[[#This Row],[Norm (m2/uur) werkdagen]],0) -> 0 | AC12: =Ruimtestaat[[#This Row],[uren / jaar eigen dienst]]*Tariefsopbouw!$D$38 -> 0
A13: 1 | B13: =VLOOKUP(Ruimtestaat[[#This Row],[Code]],Locaties[#All],2,FALSE) -> Het Kofschip & Lindenhage | C13: =VLOOKUP(Ruimtestaat[[#This Row],[Code]],Locaties[#All],4,FALSE) -> Platanenlaan 1 | D13: =VLOOKUP(Ruimtestaat[[#This Row],[Code]],Locaties[#All],5,FALSE) -> 6903 DK | E13: =VLOOKUP(Ruimtestaat[[#This Row],[Code]],Locaties[#All],6,FALSE) -> Zevenaar | F13: Lindenhage | G13: bg | H13: 1.12 | I13: groepsruimte L12 | J13: 16 | K13: =VLOOKUP(Ruimtestaat[[#This Row],[Ruimte code]],Ruimtegroepen[[#All],[Code]:[Ruimte omschrijving]],2,FALSE) -> Lokaal | L13: L | M13: marmoleum | P13: 55.11 | Q13: =VLOOKUP(Ruimtestaat[[#This Row],[Ruimte code]],Ruimtegroepen[],4,FALSE) -> L (Lesruimte) | R13: 40 | S13: 5w | T13: =IF(R13>0,IF(RIGHT(Ruimtestaat[[#This Row],[Frequentie werkdagen]],1)="w",VALUE(LEFT(Ruimtestaat[[#This Row],[Frequentie werkdagen]],(LEN(Ruimtestaat[[#This Row],[Frequentie werkdagen]])-1))*Ruimtestaat[[#This Row],[Aantal weken/jr]]),IF(RIGHT(Ruimtestaat[[#This Row],[Frequentie werkdagen]],1)="m",VALUE(LEFT(Ruimtestaat[[#This Row],[Frequentie werkdagen]],LEN(Ruimtestaat[[#This Row],[Frequentie werkdagen]])-1)*12),VALUE(LEFT(Ruimtestaat[[#This Row],[Frequentie werkdagen]],(LEN(Ruimtestaat[[#This Row],[Frequentie werkdagen]])-1))))),0) -> 200 | U13: =IF(T13>0,VLOOKUP($J13,Ruimtegroepen[],3,FALSE)*VLOOKUP($L13,Vloersoorten[],3,FALSE)*VLOOKUP($S13,Frequenties[],3,FALSE)*VLOOKUP($A13,Locaties[],3,FALSE),0) -> 0 | V13: =Ruimtestaat[[#This Row],[Uitvoeringen werkdagen]]*Ruimtestaat[[#This Row],[Oppervlak (netto)]] -> 0 | W13: =IF(U13>0,Ruimtestaat[[#This Row],[Prest. (m2 /jaar) werkdagen]]/Ruimtestaat[[#This Row],[Norm (m2/uur) werkdagen]],0) -> 0 | X13: =Ruimtestaat[[#This Row],[uren / jaar werkdagen]]*Tariefsopbouw!$D$38 -> 0 | Y13: =IF(Ruimtestaat[[#This Row],[Frequentie werkdagen]]>0,VALUE(LEFT(S13,1))*R13,0) -> 200 | Z13: =IF($Y13>0,VLOOKUP($J13,Ruimtegroepen[],3,FALSE)*VLOOKUP($L13,Vloersoorten[],3,FALSE)*VLOOKUP($S13,Frequenties[],3,FALSE)*VLOOKUP($A13,Locaties[],3,FALSE),0) -> 0 | AA13: =Ruimtestaat[[#This Row],[Uitvoeringen eigen dienst]]*Ruimtestaat[[#This Row],[Eigen dienst]] -> 11022 | AB13: =IF(Z13>0,Ruimtestaat[[#This Row],[Prest. (m2 /jaar) eigen dienst]]/Ruimtestaat[[#This Row],[Norm (m2/uur) werkdagen]],0) -> 0 | AC13: =Ruimtestaat[[#This Row],[uren / jaar eigen dienst]]*Tariefsopbouw!$D$38 -> 0
A14: 1 | B14: =VLOOKUP(Ruimtestaat[[#This Row],[Code]],Locaties[#All],2,FALSE) -> Het Kofschip & Lindenhage | C14: =VLOOKUP(Ruimtestaat[[#This Row],[Code]],Locaties[#All],4,FALSE) -> Platanenlaan 1 | D14: =VLOOKUP(Ruimtestaat[[#This Row],[Code]],Locaties[#All],5,FALSE) -> 6903 DK | E14: =VLOOKUP(Ruimtestaat[[#This Row],[Code]],Locaties[#All],6,FALSE) -> Zevenaar | F14: Lindenhage | G14: bg | H14: 1.13 | I14: groepsruimte L13 | J14: 16 | K14: =VLOOKUP(Ruimtestaat[[#This Row],[Ruimte code]],Ruimtegroepen[[#All],[Code]:[Ruimte omschrijving]],2,FALSE) -> Lokaal | L14: L | M14: marmoleum | P14: 52.36 | Q14: =VLOOKUP(Ruimtestaat[[#This Row],[Ruimte code]],Ruimtegroepen[],4,FALSE) -> L (Lesruimte) | R14: 40 | S14: 5w | T14: =IF(R14>0,IF(RIGHT(Ruimtestaat[[#This Row],[Frequentie werkdagen]],1)="w",VALUE(LEFT(Ruimtestaat[[#This Row],[Frequentie werkdagen]],(LEN(Ruimtestaat[[#This Row],[Frequentie werkdagen]])-1))*Ruimtestaat[[#This Row],[Aantal weken/jr]]),IF(RIGHT(Ruimtestaat[[#This Row],[Frequentie werkdagen]],1)="m",VALUE(LEFT(Ruimtestaat[[#This Row],[Frequentie werkdagen]],LEN(Ruimtestaat[[#This Row],[Frequentie werkdagen]])-1)*12),VALUE(LEFT(Ruimtestaat[[#This Row],[Frequentie werkdagen]],(LEN(Ruimtestaat[[#This Row],[Frequentie werkdagen]])-1))))),0) -> 200 | U14: =IF(T14>0,VLOOKUP($J14,Ruimtegroepen[],3,FALSE)*VLOOKUP($L14,Vloersoorten[],3,FALSE)*VLOOKUP($S14,Frequenties[],3,FALSE)*VLOOKUP($A14,Locaties[],3,FALSE),0) -> 0 | V14: =Ruimtestaat[[#This Row],[Uitvoeringen werkdagen]]*Ruimtestaat[[#This Row],[Oppervlak (netto)]] -> 0 | W14: =IF(U14>0,Ruimtestaat[[#This Row],[Prest. (m2 /jaar) werkdagen]]/Ruimtestaat[[#This Row],[Norm (m2/uur) werkdagen]],0) -> 0 | X14: =Ruimtestaat[[#This Row],[uren / jaar werkdagen]]*Tariefsopbouw!$D$38 -> 0 | Y14: =IF(Ruimtestaat[[#This Row],[Frequentie werkdagen]]>0,VALUE(LEFT(S14,1))*R14,0) -> 200 | Z14: =IF($Y14>0,VLOOKUP($J14,Ruimtegroepen[],3,FALSE)*VLOOKUP($L14,Vloersoorten[],3,FALSE)*VLOOKUP($S14,Frequenties[],3,FALSE)*VLOOKUP($A14,Locaties[],3,FALSE),0) -> 0 | AA14: =Ruimtestaat[[#This Row],[Uitvoeringen eigen dienst]]*Ruimtestaat[[#This Row],[Eigen dienst]] -> 10472 | AB14: =IF(Z14>0,Ruimtestaat[[#This Row],[Prest. (m2 /jaar) eigen dienst]]/Ruimtestaat[[#This Row],[Norm (m2/uur) werkdagen]],0) -> 0 | AC14: =Ruimtestaat[[#This Row],[uren / jaar eigen dienst]]*Tariefsopbouw!$D$38 -> 0
A15: 1 | B15: =VLOOKUP(Ruimtestaat[[#This Row],[Code]],Locaties[#All],2,FALSE) -> Het Kofschip & Lindenhage | C15: =VLOOKUP(Ruimtestaat[[#This Row],[Code]],Locaties[#All],4,FALSE) -> Platanenlaan 1 | D15: =VLOOKUP(Ruimtestaat[[#This Row],[Code]],Locaties[#All],5,FALSE) -> 6903 DK | E15: =VLOOKUP(Ruimtestaat[[#This Row],[Code]],Locaties[#All],6,FALSE) -> Zevenaar | F15: Lindenhage | G15: bg | H15: 1.20 | I15: spreekkr L5 | J15: 4 | K15: =VLOOKUP(Ruimtestaat[[#This Row],[Ruimte code]],Ruimtegroepen[[#All],[Code]:[Ruimte omschrijving]],2,FALSE) -> Vergader/spreekkamers | L15: T | M15: flotex | P15: 13.37 | Q15: =VLOOKUP(Ruimtestaat[[#This Row],[Ruimte code]],Ruimtegroepen[],4,FALSE) -> B (Bureauruimte) | R15: 40 | S15: 3w | T15: =IF(R15>0,IF(RIGHT(Ruimtestaat[[#This Row],[Frequentie werkdagen]],1)="w",VALUE(LEFT(Ruimtestaat[[#This Row],[Frequentie werkdagen]],(LEN(Ruimtestaat[[#This Row],[Frequentie werkdagen]])-1))*Ruimtestaat[[#This Row],[Aantal weken/jr]]),IF(RIGHT(Ruimtestaat[[#This Row],[Frequentie werkdagen]],1)="m",VALUE(LEFT(Ruimtestaat[[#This Row],[Frequentie werkdagen]],LEN(Ruimtestaat[[#This Row],[Frequentie werkdagen]])-1)*12),VALUE(LEFT(Ruimtestaat[[#This Row],[Frequentie werkdagen]],(LEN(Ruimtestaat[[#This Row],[Frequentie werkdagen]])-1))))),0) -> 120 | U15: =IF(T15>0,VLOOKUP($J15,Ruimtegroepen[],3,FALSE)*VLOOKUP($L15,Vloersoorten[],3,FALSE)*VLOOKUP($S15,Frequenties[],3,FALSE)*VLOOKUP($A15,Locaties[],3,FALSE),0) -> 0 | V15: =Ruimtestaat[[#This Row],[Uitvoeringen werkdagen]]*Ruimtestaat[[#This Row],[Oppervlak (netto)]] -> 0 | W15: =IF(U15>0,Ruimtestaat[[#This Row],[Prest. (m2 /jaar) werkdagen]]/Ruimtestaat[[#This Row],[Norm (m2/uur) werkdagen]],0) -> 0 | X15: =Ruimtestaat[[#This Row],[uren / jaar werkdagen]]*Tariefsopbouw!$D$38 -> 0 | Y15: =IF(Ruimtestaat[[#This Row],[Frequentie werkdagen]]>0,VALUE(LEFT(S15,1))*R15,0) -> 120 | Z15: =IF($Y15>0,VLOOKUP($J15,Ruimtegroepen[],3,FALSE)*VLOOKUP($L15,Vloersoorten[],3,FALSE)*VLOOKUP($S15,Frequenties[],3,FALSE)*VLOOKUP($A15,Locaties[],3,FALSE),0) -> 0 | AA15: =Ruimtestaat[[#This Row],[Uitvoeringen eigen dienst]]*Ruimtestaat[[#This Row],[Eigen dienst]] -> 1604.4 | AB15: =IF(Z15>0,Ruimtestaat[[#This Row],[Prest. (m2 /jaar) eigen dienst]]/Ruimtestaat[[#This Row],[Norm (m2/uur) werkdagen]],0) -> 0 | AC15: =Ruimtestaat[[#This Row],[uren / jaar eigen dienst]]*Tariefsopbouw!$D$38 -> 0
A16: 1 | B16: =VLOOKUP(Ruimtestaat[[#This Row],[Code]],Locaties[#All],2,FALSE) -> Het Kofschip & Lindenhage | C16: =VLOOKUP(Ruimtestaat[[#This Row],[Code]],Locaties[#All],4,FALSE) -> Platanenlaan 1 | D16: =VLOOKUP(Ruimtestaat[[#This Row],[Code]],Locaties[#All],5,FALSE) -> 6903 DK | E16: =VLOOKUP(Ruimtestaat[[#This Row],[Code]],Locaties[#All],6,FALSE) -> Zevenaar | F16: Lindenhage | G16: bg | H16: 1.46 | I16: berging L1 | J16: 1 | K16: =VLOOKUP(Ruimtestaat[[#This Row],[Ruimte code]],Ruimtegroepen[[#All],[Code]:[Ruimte omschrijving]],2,FALSE) -> Magazijnen/bergingen | L16: L | M16: marmoleum | P16: 10.85 | Q16: =VLOOKUP(Ruimtestaat[[#This Row],[Ruimte code]],Ruimtegroepen[],4,FALSE) -> V (Verkeersruimte) | R16: 40 | S16: 1m | T16: =IF(R16>0,IF(RIGHT(Ruimtestaat[[#This Row],[Frequentie werkdagen]],1)="w",VALUE(LEFT(Ruimtestaat[[#This Row],[Frequentie werkdagen]],(LEN(Ruimtestaat[[#This Row],[Frequentie werkdagen]])-1))*Ruimtestaat[[#This Row],[Aantal weken/jr]]),IF(RIGHT(Ruimtestaat[[#This Row],[Frequentie werkdagen]],1)="m",VALUE(LEFT(Ruimtestaat[[#This Row],[Frequentie werkdagen]],LEN(Ruimtestaat[[#This Row],[Frequentie werkdagen]])-1)*12),VALUE(LEFT(Ruimtestaat[[#This Row],[Frequentie werkdagen]],(LEN(Ruimtestaat[[#This Row],[Frequentie werkdagen]])-1))))),0) -> 12 | U16: =IF(T16>0,VLOOKUP($J16,Ruimtegroepen[],3,FALSE)*VLOOKUP($L16,Vloersoorten[],3,FALSE)*VLOOKUP($S16,Frequenties[],3,FALSE)*VLOOKUP($A16,Locaties[],3,FALSE),0) -> 0 | V16: =Ruimtestaat[[#This Row],[Uitvoeringen werkdagen]]*Ruimtestaat[[#This Row],[Oppervlak (netto)]] -> 0 | W16: =IF(U16>0,Ruimtestaat[[#This Row],[Prest. (m2 /jaar) werkdagen]]/Ruimtestaat[[#This Row],[Norm (m2/uur) werkdagen]],0) -> 0 | X16: =Ruimtestaat[[#This Row],[uren / jaar werkdagen]]*Tariefsopbouw!$D$38 -> 0 | Y16: =IF(Ruimtestaat[[#This Row],[Frequentie werkdagen]]>0,VALUE(LEFT(S16,1))*R16,0) -> 40 | Z16: =IF($Y16>0,VLOOKUP($J16,Ruimtegroepen[],3,FALSE)*VLOOKUP($L16,Vloersoorten[],3,FALSE)*VLOOKUP($S16,Frequenties[],3,FALSE)*VLOOKUP($A16,Locaties[],3,FALSE),0) -> 0 | AA16: =Ruimtestaat[[#This Row],[Uitvoeringen eigen dienst]]*Ruimtestaat[[#This Row],[Eigen dienst]] -> 434 | AB16: =IF(Z16>0,Ruimtestaat[[#This Row],[Prest. (m2 /jaar) eigen dienst]]/Ruimtestaat[[#This Row],[Norm (m2/uur) werkdagen]],0) -> 0 | AC16: =Ruimtestaat[[#This Row],[uren / jaar eigen dienst]]*Tariefsopbouw!$D$38 -> 0
A17: 1 | B17: =VLOOKUP(Ruimtestaat[[#This Row],[Code]],Locaties[#All],2,FALSE) -> Het Kofschip & Lindenhage | C17: =VLOOKUP(Ruimtestaat[[#This Row],[Code]],Locaties[#All],4,FALSE) -> Platanenlaan 1 | D17: =VLOOKUP(Ruimtestaat[[#This Row],[Code]],Locaties[#All],5,FALSE) -> 6903 DK | E17: =VLOOKUP(Ruimtestaat[[#This Row],[Code]],Locaties[#All],6,FALSE) -> Zevenaar | F17: Lindenhage | G17: bg | H17: 1.38 | I17: toilet L1 | J17: 5 | K17: =VLOOKUP(Ruimtestaat[[#This Row],[Ruimte code]],Ruimtegroepen[[#All],[Code]:[Ruimte omschrijving]],2,FALSE) -> Sanitair | L17: S | M17: sure step | P17: 7.65 | Q17: =VLOOKUP(Ruimtestaat[[#This Row],[Ruimte code]],Ruimtegroepen[],4,FALSE) -> S (Sanitair) | R17: 40 | S17: 5w | T17: =IF(R17>0,IF(RIGHT(Ruimtestaat[[#This Row],[Frequentie werkdagen]],1)="w",VALUE(LEFT(Ruimtestaat[[#This Row],[Frequentie werkdagen]],(LEN(Ruimtestaat[[#This Row],[Frequentie werkdagen]])-1))*Ruimtestaat[[#This Row],[Aantal weken/jr]]),IF(RIGHT(Ruimtestaat[[#This Row],[Frequentie werkdagen]],1)="m",VALUE(LEFT(Ruimtestaat[[#This Row],[Frequentie werkdagen]],LEN(Ruimtestaat[[#This Row],[Frequentie werkdagen]])-1)*12),VALUE(LEFT(Ruimtestaat[[#This Row],[Frequentie werkdagen]],(LEN(Ruimtestaat[[#This Row],[Frequentie werkdagen]])-1))))),0) -> 200 | U17: =IF(T17>0,VLOOKUP($J17,Ruimtegroepen[],3,FALSE)*VLOOKUP($L17,Vloersoorten[],3,FALSE)*VLOOKUP($S17,Frequenties[],3,FALSE)*VLOOKUP($A17,Locaties[],3,FALSE),0) -> 0 | V17: =Ruimtestaat[[#This Row],[Uitvoeringen werkdagen]]*Ruimtestaat[[#This Row],[Oppervlak (netto)]] -> 0 | W17: =IF(U17>0,Ruimtestaat[[#This Row],[Prest. (m2 /jaar) werkdagen]]/Ruimtestaat[[#This Row],[Norm (m2/uur) werkdagen]],0) -> 0 | X17: =Ruimtestaat[[#This Row],[uren / jaar werkdagen]]*Tariefsopbouw!$D$38 -> 0 | Y17: =IF(Ruimtestaat[[#This Row],[Frequentie werkdagen]]>0,VALUE(LEFT(S17,1))*R17,0) -> 200 | Z17: =IF($Y17>0,VLOOKUP($J17,Ruimtegroepen[],3,FALSE)*VLOOKUP($L17,Vloersoorten[],3,FALSE)*VLOOKUP($S17,Frequenties[],3,FALSE)*VLOOKUP($A17,Locaties[],3,FALSE),0) -> 0 | AA17: =Ruimtestaat[[#This Row],[Uitvoeringen eigen dienst]]*Ruimtestaat[[#This Row],[Eigen dienst]] -> 1530 | AB17: =IF(Z17>0,Ruimtestaat[[#This Row],[Prest. (m2 /jaar) eigen dienst]]/Ruimtestaat[[#This Row],[Norm (m2/uur) werkdagen]],0) -> 0 | AC17: =Ruimtestaat[[#This Row],[uren / jaar eigen dienst]]*Tariefsopbouw!$D$38 -> 0
A18: 1 | B18: =VLOOKUP(Ruimtestaat[[#This Row],[Code]],Locaties[#All],2,FALSE) -> Het Kofschip & Lindenhage | C18: =VLOOKUP(Ruimtestaat[[#This Row],[Code]],Locaties[#All],4,FALSE) -> Platanenlaan 1 | D18: =VLOOKUP(Ruimtestaat[[#This Row],[Code]],Locaties[#All],5,FALSE) -> 6903 DK | E18: =VLOOKUP(Ruimtestaat[[#This Row],[Code]],Locaties[#All],6,FALSE) -> Zevenaar | F18: Lindenhage | G18: bg | H18: 1.39 | I18: toilet L2 | J18: 5 | K18: =VLOOKUP(Ruimtestaat[[#This Row],[Ruimte code]],Ruimtegroepen[[#All],[Code]:[Ruimte omschrijving]],2,FALSE) -> Sanitair | L18: S | M18: sure step | P18: 7.65 | Q18: =VLOOKUP(Ruimtestaat[[#This Row],[Ruimte code]],Ruimtegroepen[],4,FALSE) -> S (Sanitair) | R18: 40 | S18: 5w | T18: =IF(R18>0,IF(RIGHT(Ruimtestaat[[#This Row],[Frequentie werkdagen]],1)="w",VALUE(LEFT(Ruimtestaat[[#This Row],[Frequentie werkdagen]],(LEN(Ruimtestaat[[#This Row],[Frequentie werkdagen]])-1))*Ruimtestaat[[#This Row],[Aantal weken/jr]]),IF(RIGHT(Ruimtestaat[[#This Row],[Frequentie werkdagen]],1)="m",VALUE(LEFT(Ruimtestaat[[#This Row],[Frequentie werkdagen]],LEN(Ruimtestaat[[#This Row],[Frequentie werkdagen]])-1)*12),VALUE(LEFT(Ruimtestaat[[#This Row],[Frequentie werkdagen]],(LEN(Ruimtestaat[[#This Row],[Frequentie werkdagen]])-1))))),0) -> 200 | U18: =IF(T18>0,VLOOKUP($J18,Ruimtegroepen[],3,FALSE)*VLOOKUP($L18,Vloersoorten[],3,FALSE)*VLOOKUP($S18,Frequenties[],3,FALSE)*VLOOKUP($A18,Locaties[],3,FALSE),0) -> 0 | V18: =Ruimtestaat[[#This Row],[Uitvoeringen werkdagen]]*Ruimtestaat[[#This Row],[Oppervlak (netto)]] -> 0 | W18: =IF(U18>0,Ruimtestaat[[#This Row],[Prest. (m2 /jaar) werkdagen]]/Ruimtestaat[[#This Row],[Norm (m2/uur) werkdagen]],0) -> 0 | X18: =Ruimtestaat[[#This Row],[uren / jaar werkdagen]]*Tariefsopbouw!$D$38 -> 0 | Y18: =IF(Ruimtestaat[[#This Row],[Frequentie werkdagen]]>0,VALUE(LEFT(S18,1))*R18,0) -> 200 | Z18: =IF($Y18>0,VLOOKUP($J18,Ruimtegroepen[],3,FALSE)*VLOOKUP($L18,Vloersoorten[],3,FALSE)*VLOOKUP($S18,Frequenties[],3,FALSE)*VLOOKUP($A18,Locaties[],3,FALSE),0) -> 0 | AA18: =Ruimtestaat[[#This Row],[Uitvoeringen eigen dienst]]*Ruimtestaat[[#This Row],[Eigen dienst]] -> 1530 | AB18: =IF(Z18>0,Ruimtestaat[[#This Row],[Prest. (m2 /jaar) eigen dienst]]/Ruimtestaat[[#This Row],[Norm (m2/uur) werkdagen]],0) -> 0 | AC18: =Ruimtestaat[[#This Row],[uren / jaar eigen dienst]]*Tariefsopbouw!$D$38 -> 0
A19: 1 | B19: =VLOOKUP(Ruimtestaat[[#This Row],[Code]],Locaties[#All],2,FALSE) -> Het Kofschip & Lindenhage | C19: =VLOOKUP(Ruimtestaat[[#This Row],[Code]],Locaties[#All],4,FALSE) -> Platanenlaan 1 | D19: =VLOOKUP(Ruimtestaat[[#This Row],[Code]],Locaties[#All],5,FALSE) -> 6903 DK | E19: =VLOOKUP(Ruimtestaat[[#This Row],[Code]],Locaties[#All],6,FALSE) -> Zevenaar | F19: Lindenhage | G19: bg | H19: 1.9 | I19: groepsruimte L9 | J19: 16 | K19: =VLOOKUP(Ruimtestaat[[#This Row],[Ruimte code]],Ruimtegroepen[[#All],[Code]:[Ruimte omschrijving]],2,FALSE) -> Lokaal | L19: L | M19: marmoleum | P19: 55.05 | Q19: =VLOOKUP(Ruimtestaat[[#This Row],[Ruimte code]],Ruimtegroepen[],4,FALSE) -> L (Lesruimte) | R19: 40 | S19: 5w | T19: =IF(R19>0,IF(RIGHT(Ruimtestaat[[#This Row],[Frequentie werkdagen]],1)="w",VALUE(LEFT(Ruimtestaat[[#This Row],[Frequentie werkdagen]],(LEN(Ruimtestaat[[#This Row],[Frequentie werkdagen]])-1))*Ruimtestaat[[#This Row],[Aantal weken/jr]]),IF(RIGHT(Ruimtestaat[[#This Row],[Frequentie werkdagen]],1)="m",VALUE(LEFT(Ruimtestaat[[#This Row],[Frequentie werkdagen]],LEN(Ruimtestaat[[#This Row],[Frequentie werkdagen]])-1)*12),VALUE(LEFT(Ruimtestaat[[#This Row],[Frequentie werkdagen]],(LEN(Ruimtestaat[[#This Row],[Frequentie werkdagen]])-1))))),0) -> 200 | U19: =IF(T19>0,VLOOKUP($J19,Ruimtegroepen[],3,FALSE)*VLOOKUP($L19,Vloersoorten[],3,FALSE)*VLOOKUP($S19,Frequenties[],3,FALSE)*VLOOKUP($A19,Locaties[],3,FALSE),0) -> 0 | V19: =Ruimtestaat[[#This Row],[Uitvoeringen werkdagen]]*Ruimtestaat[[#This Row],[Oppervlak (netto)]] -> 0 | W19: =IF(U19>0,Ruimtestaat[[#This Row],[Prest. (m2 /jaar) werkdagen]]/Ruimtestaat[[#This Row],[Norm (m2/uur) werkdagen]],0) -> 0 | X19: =Ruimtestaat[[#This Row],[uren / jaar werkdagen]]*Tariefsopbouw!$D$38 -> 0 | Y19: =IF(Ruimtestaat[[#This Row],[Frequentie werkdagen]]>0,VALUE(LEFT(S19,1))*R19,0) -> 200 | Z19: =IF($Y19>0,VLOOKUP($J19,Ruimtegroepen[],3,FALSE)*VLOOKUP($L19,Vloersoorten[],3,FALSE)*VLOOKUP($S19,Frequenties[],3,FALSE)*VLOOKUP($A19,Locaties[],3,FALSE),0) -> 0 | AA19: =Ruimtestaat[[#This Row],[Uitvoeringen eigen dienst]]*Ruimtestaat[[#This Row],[Eigen dienst]] -> 11010 | AB19: =IF(Z19>0,Ruimtestaat[[#This Row],[Prest. (m2 /jaar) eigen dienst]]/Ruimtestaat[[#This Row],[Norm (m2/uur) werkdagen]],0) -> 0 | AC19: =Ruimtestaat[[#This Row],[uren / jaar eigen dienst]]*Tariefsopbouw!$D$38 -> 0
A20: 1 | B20: =VLOOKUP(Ruimtestaat[[#This Row],[Code]],Locaties[#All],2,FALSE) -> Het Kofschip & Lindenhage | C20: =VLOOKUP(Ruimtestaat[[#This Row],[Code]],Locaties[#All],4,FALSE) -> Platanenlaan 1 | D20: =VLOOKUP(Ruimtestaat[[#This Row],[Code]],Locaties[#All],5,FALSE) -> 6903 DK | E20: =VLOOKUP(Ruimtestaat[[#This Row],[Code]],Locaties[#All],6,FALSE) -> Zevenaar | F20: Lindenhage | G20: bg | H20: 1.8 | I20: groepsruimte L8 | J20: 16 | K20: =VLOOKUP(Ruimtestaat[[#This Row],[Ruimte code]],Ruimtegroepen[[#All],[Code]:[Ruimte omschrijving]],2,FALSE) -> Lokaal | L20: L | M20: marmoleum | P20: 55.01 | Q20: =VLOOKUP(Ruimtestaat[[#This Row],[Ruimte code]],Ruimtegroepen[],4,FALSE) -> L (Lesruimte) | R20: 40 | S20: 5w | T20: =IF(R20>0,IF(RIGHT(Ruimtestaat[[#This Row],[Frequentie werkdagen]],1)="w",VALUE(LEFT(Ruimtestaat[[#This Row],[Frequentie werkdagen]],(LEN(Ruimtestaat[[#This Row],[Frequentie werkdagen]])-1))*Ruimtestaat[[#This Row],[Aantal weken/jr]]),IF(RIGHT(Ruimtestaat[[#This Row],[Frequentie werkdagen]],1)="m",VALUE(LEFT(Ruimtestaat[[#This Row],[Frequentie werkdagen]],LEN(Ruimtestaat[[#This Row],[Frequentie werkdagen]])-1)*12),VALUE(LEFT(Ruimtestaat[[#This Row],[Frequentie werkdagen]],(LEN(Ruimtestaat[[#This Row],[Frequentie werkdagen]])-1))))),0) -> 200 | U20: =IF(T20>0,VLOOKUP($J20,Ruimtegroepen[],3,FALSE)*VLOOKUP($L20,Vloersoorten[],3,FALSE)*VLOOKUP($S20,Frequenties[],3,FALSE)*VLOOKUP($A20,Locaties[],3,FALSE),0) -> 0 | V20: =Ruimtestaat[[#This Row],[Uitvoeringen werkdagen]]*Ruimtestaat[[#This Row],[Oppervlak (netto)]] -> 0 | W20: =IF(U20>0,Ruimtestaat[[#This Row],[Prest. (m2 /jaar) werkdagen]]/Ruimtestaat[[#This Row],[Norm (m2/uur) werkdagen]],0) -> 0 | X20: =Ruimtestaat[[#This Row],[uren / jaar werkdagen]]*Tariefsopbouw!$D$38 -> 0 | Y20: =IF(Ruimtestaat[[#This Row],[Frequentie werkdagen]]>0,VALUE(LEFT(S20,1))*R20,0) -> 200 | Z20: =IF($Y20>0,VLOOKUP($J20,Ruimtegroepen[],3,FALSE)*VLOOKUP($L20,Vloersoorten[],3,FALSE)*VLOOKUP($S20,Frequenties[],3,FALSE)*VLOOKUP($A20,Locaties[],3,FALSE),0) -> 0 | AA20: =Ruimtestaat[[#This Row],[Uitvoeringen eigen dienst]]*Ruimtestaat[[#This Row],[Eigen dienst]] -> 11002 | AB20: =IF(Z20>0,Ruimtestaat[[#This Row],[Prest. (m2 /jaar) eigen dienst]]/Ruimtestaat[[#This Row],[Norm (m2/uur) werkdagen]],0) -> 0 | AC20: =Ruimtestaat[[#This Row],[uren / jaar eigen dienst]]*Tariefsopbouw!$D$38 -> 0
A21: 1 | B21: =VLOOKUP(Ruimtestaat[[#This Row],[Code]],Locaties[#All],2,FALSE) -> Het Kofschip & Lindenhage | C21: =VLOOKUP(Ruimtestaat[[#This Row],[Code]],Locaties[#All],4,FALSE) -> Platanenlaan 1 | D21: =VLOOKUP(Ruimtestaat[[#This Row],[Code]],Locaties[#All],5,FALSE) -> 6903 DK | E21: =VLOOKUP(Ruimtestaat[[#This Row],[Code]],Locaties[#All],6,FALSE) -> Zevenaar | F21: Lindenhage | G21: bg | H21: 1.7 | I21: groepsruimte L7 | J21: 16 | K21: =VLOOKUP(Ruimtestaat[[#This Row],[Ruimte code]],Ruimtegroepen[[#All],[Code]:[Ruimte omschrijving]],2,FALSE) -> Lokaal | L21: L | M21: marmoleum | P21: 55.01 | Q21: =VLOOKUP(Ruimtestaat[[#This Row],[Ruimte code]],Ruimtegroepen[],4,FALSE) -> L (Lesruimte) | R21: 40 | S21: 5w | T21: =IF(R21>0,IF(RIGHT(Ruimtestaat[[#This Row],[Frequentie werkdagen]],1)="w",VALUE(LEFT(Ruimtestaat[[#This Row],[Frequentie werkdagen]],(LEN(Ruimtestaat[[#This Row],[Frequentie werkdagen]])-1))*Ruimtestaat[[#This Row],[Aantal weken/jr]]),IF(RIGHT(Ruimtestaat[[#This Row],[Frequentie werkdagen]],1)="m",VALUE(LEFT(Ruimtestaat[[#This Row],[Frequentie werkdagen]],LEN(Ruimtestaat[[#This Row],[Frequentie werkdagen]])-1)*12),VALUE(LEFT(Ruimtestaat[[#This Row],[Frequentie werkdagen]],(LEN(Ruimtestaat[[#This Row],[Frequentie werkdagen]])-1))))),0) -> 200 | U21: =IF(T21>0,VLOOKUP($J21,Ruimtegroepen[],3,FALSE)*VLOOKUP($L21,Vloersoorten[],3,FALSE)*VLOOKUP($S21,Frequenties[],3,FALSE)*VLOOKUP($A21,Locaties[],3,FALSE),0) -> 0 | V21: =Ruimtestaat[[#This Row],[Uitvoeringen werkdagen]]*Ruimtestaat[[#This Row],[Oppervlak (netto)]] -> 0 | W21: =IF(U21>0,Ruimtestaat[[#This Row],[Prest. (m2 /jaar) werkdagen]]/Ruimtestaat[[#This Row],[Norm (m2/uur) werkdagen]],0) -> 0 | X21: =Ruimtestaat[[#This Row],[uren / jaar werkdagen]]*Tariefsopbouw!$D$38 -> 0 | Y21: =IF(Ruimtestaat[[#This Row],[Frequentie werkdagen]]>0,VALUE(LEFT(S21,1))*R21,0) -> 200 | Z21: =IF($Y21>0,VLOOKUP($J21,Ruimtegroepen[],3,FALSE)*VLOOKUP($L21,Vloersoorten[],3,FALSE)*VLOOKUP($S21,Frequenties[],3,FALSE)*VLOOKUP($A21,Locaties[],3,FALSE),0) -> 0 | AA21: =Ruimtestaat[[#This Row],[Uitvoeringen eigen dienst]]*Ruimtestaat[[#This Row],[Eigen dienst]] -> 11002 | AB21: =IF(Z21>0,Ruimtestaat[[#This Row],[Prest. (m2 /jaar) eigen dienst]]/Ruimtestaat[[#This Row],[Norm (m2/uur) werkdagen]],0) -> 0 | AC21: =Ruimtestaat[[#This Row],[uren / jaar eigen dienst]]*Tariefsopbouw!$D$38 -> 0
A22: 1 | B22: =VLOOKUP(Ruimtestaat[[#This Row],[Code]],Locaties[#All],2,FALSE) -> Het Kofschip & Lindenhage | C22: =VLOOKUP(Ruimtestaat[[#This Row],[Code]],Locaties[#All],4,FALSE) -> Platanenlaan 1 | D22: =VLOOKUP(Ruimtestaat[[#This Row],[Code]],Locaties[#All],5,FALSE) -> 6903 DK | E22: =VLOOKUP(Ruimtestaat[[#This Row],[Code]],Locaties[#All],6,FALSE) -> Zevenaar | F22: Lindenhage | G22: bg | H22: 1.30 | I22: hal L2 | J22: 6 | K22: =VLOOKUP(Ruimtestaat[[#This Row],[Ruimte code]],Ruimtegroepen[[#All],[Code]:[Ruimte omschrijving]],2,FALSE) -> Gangen/hallen | L22: L | M22: marmoleum | P22: 291.84 | Q22: =VLOOKUP(Ruimtestaat[[#This Row],[Ruimte code]],Ruimtegroepen[],4,FALSE) -> V (Verkeersruimte) | R22: 40 | S22: 5w | T22: =IF(R22>0,IF(RIGHT(Ruimtestaat[[#This Row],[Frequentie werkdagen]],1)="w",VALUE(LEFT(Ruimtestaat[[#This Row],[Frequentie werkdagen]],(LEN(Ruimtestaat[[#This Row],[Frequentie werkdagen]])-1))*Ruimtestaat[[#This Row],[Aantal weken/jr]]),IF(RIGHT(Ruimtestaat[[#This Row],[Frequentie werkdagen]],1)="m",VALUE(LEFT(Ruimtestaat[[#This Row],[Frequentie werkdagen]],LEN(Ruimtestaat[[#This Row],[Frequentie werkdagen]])-1)*12),VALUE(LEFT(Ruimtestaat[[#This Row],[Frequentie werkdagen]],(LEN(Ruimtestaat[[#This Row],[Frequentie werkdagen]])-1))))),0) -> 200 | U22: =IF(T22>0,VLOOKUP($J22,Ruimtegroepen[],3,FALSE)*VLOOKUP($L22,Vloersoorten[],3,FALSE)*VLOOKUP($S22,Frequenties[],3,FALSE)*VLOOKUP($A22,Locaties[],3,FALSE),0) -> 0 | V22: =Ruimtestaat[[#This Row],[Uitvoeringen werkdagen]]*Ruimtestaat[[#This Row],[Oppervlak (netto)]] -> 0 | W22: =IF(U22>0,Ruimtestaat[[#This Row],[Prest. (m2 /jaar) werkdagen]]/Ruimtestaat[[#This Row],[Norm (m2/uur) werkdagen]],0) -> 0 | X22: =Ruimtestaat[[#This Row],[uren / jaar werkdagen]]*Tariefsopbouw!$D$38 -> 0 | Y22: =IF(Ruimtestaat[[#This Row],[Frequentie werkdagen]]>0,VALUE(LEFT(S22,1))*R22,0) -> 200 | Z22: =IF($Y22>0,VLOOKUP($J22,Ruimtegroepen[],3,FALSE)*VLOOKUP($L22,Vloersoorten[],3,FALSE)*VLOOKUP($S22,Frequenties[],3,FALSE)*VLOOKUP($A22,Locaties[],3,FALSE),0) -> 0 | AA22: =Ruimtestaat[[#This Row],[Uitvoeringen eigen dienst]]*Ruimtestaat[[#This Row],[Eigen dienst]] -> 58368 | AB22: =IF(Z22>0,Ruimtestaat[[#This Row],[Prest. (m2 /jaar) eigen dienst]]/Ruimtestaat[[#This Row],[Norm (m2/uur) werkdagen]],0) -> 0 | AC22: =Ruimtestaat[[#This Row],[uren / jaar eigen dienst]]*Tariefsopbouw!$D$38 -> 0
... A31: 1 | B31: =VLOOKUP(Ruimtestaat[[#This Row],[Code]],Locaties[#All],2,FALSE) -> Het Kofschip & Lindenhage | C31: =VLOOKUP(Ruimtestaat[[#This Row],[Code]],Locaties[#All],4,FALSE) -> Platanenlaan 1 | D31: =VLOOKUP(Ruimtestaat[[#This Row],[Code]],Locaties[#All],5,FALSE) -> 6903 DK | E31: =VLOOKUP(Ruimtestaat[[#This Row],[Code]],Locaties[#All],6,FALSE) -> Zevenaar | F31: Lindenhage | G31: bg | H31: 1.37 | I31: lift L-K | J31: 10 | K31: =VLOOKUP(Ruimtestaat[[#This Row],[Ruimte code]],Ruimtegroepen[[#All],[Code]:[Ruimte omschrijving]],2,FALSE) -> Trappenhuizen/lift | L31: L | M31: marmoleum | P31: 6.83 | Q31: =VLOOKUP(Ruimtestaat[[#This Row],[Ruimte code]],Ruimtegroepen[],4,FALSE) -> V (Verkeersruimte) | R31: 40 | S31: 5w | T31: =IF(R31>0,IF(RIGHT(Ruimtestaat[[#This Row],[Frequentie werkdagen]],1)="w",VALUE(LEFT(Ruimtestaat[[#This Row],[Frequentie werkdagen]],(LEN(Ruimtestaat[[#This Row],[Frequentie werkdagen]])-1))*Ruimtestaat[[#This Row],[Aantal weken/jr]]),IF(RIGHT(Ruimtestaat[[#This Row],[Frequentie werkdagen]],1)="m",VALUE(LEFT(Ruimtestaat[[#This Row],[Frequentie werkdagen]],LEN(Ruimtestaat[[#This Row],[Frequentie werkdagen]])-1)*12),VALUE(LEFT(Ruimtestaat[[#This Row],[Frequentie werkdagen]],(LEN(Ruimtestaat[[#This Row],[Frequentie werkdagen]])-1))))),0) -> 200 | U31: =IF(T31>0,VLOOKUP($J31,Ruimtegroepen[],3,FALSE)*VLOOKUP($L31,Vloersoorten[],3,FALSE)*VLOOKUP($S31,Frequenties[],3,FALSE)*VLOOKUP($A31,Locaties[],3,FALSE),0) -> 0 | V31: =Ruimtestaat[[#This Row],[Uitvoeringen werkdagen]]*Ruimtestaat[[#This Row],[Oppervlak (netto)]] -> 0 | W31: =IF(U31>0,Ruimtestaat[[#This Row],[Prest. (m2 /jaar) werkdagen]]/Ruimtestaat[[#This Row],[Norm (m2/uur) werkdagen]],0) -> 0 | X31: =Ruimtestaat[[#This Row],[uren / jaar werkdagen]]*Tariefsopbouw!$D$38 -> 0 | Y31: =IF(Ruimtestaat[[#This Row],[Frequentie werkdagen]]>0,VALUE(LEFT(S31,1))*R31,0) -> 200 | Z31: =IF($Y31>0,VLOOKUP($J31,Ruimtegroepen[],3,FALSE)*VLOOKUP($L31,Vloersoorten[],3,FALSE)*VLOOKUP($S31,Frequenties[],3,FALSE)*VLOOKUP($A31,Locaties[],3,FALSE),0) -> 0 | AA31: =Ruimtestaat[[#This Row],[Uitvoeringen eigen dienst]]*Ruimtestaat[[#This Row],[Eigen dienst]] -> 1366 | AB31: =IF(Z31>0,Ruimtestaat[[#This Row],[Prest. (m2 /jaar) eigen dienst]]/Ruimtestaat[[#This Row],[Norm (m2/uur) werkdagen]],0) -> 0 | AC31: =Ruimtestaat[[#This Row],[uren / jaar eigen dienst]]*Tariefsopbouw!$D$38 -> 0
A32: 1 | B32: =VLOOKUP(Ruimtestaat[[#This Row],[Code]],Locaties[#All],2,FALSE) -> Het Kofschip & Lindenhage | C32: =VLOOKUP(Ruimtestaat[[#This Row],[Code]],Locaties[#All],4,FALSE) -> Platanenlaan 1 | D32: =VLOOKUP(Ruimtestaat[[#This Row],[Code]],Locaties[#All],5,FALSE) -> 6903 DK | E32: =VLOOKUP(Ruimtestaat[[#This Row],[Code]],Locaties[#All],6,FALSE) -> Zevenaar | F32: Lindenhage | G32: bg | H32: 1.51 | I32: werkkast L | J32: 21 | K32: =VLOOKUP(Ruimtestaat[[#This Row],[Ruimte code]],Ruimtegroepen[[#All],[Code]:[Ruimte omschrijving]],2,FALSE) -> Niet in onderhoud | L32: L | M32: marmoleum | O32: 5.46 | Q32: =VLOOKUP(Ruimtestaat[[#This Row],[Ruimte code]],Ruimtegroepen[],4,FALSE) -> Niet in onderhoud | T32: =IF(R32>0,IF(RIGHT(Ruimtestaat[[#This Row],[Frequentie werkdagen]],1)="w",VALUE(LEFT(Ruimtestaat[[#This Row],[Frequentie werkdagen]],(LEN(Ruimtestaat[[#This Row],[Frequentie werkdagen]])-1))*Ruimtestaat[[#This Row],[Aantal weken/jr]]),IF(RIGHT(Ruimtestaat[[#This Row],[Frequentie werkdagen]],1)="m",VALUE(LEFT(Ruimtestaat[[#This Row],[Frequentie werkdagen]],LEN(Ruimtestaat[[#This Row],[Frequentie werkdagen]])-1)*12),VALUE(LEFT(Ruimtestaat[[#This Row],[Frequentie werkdagen]],(LEN(Ruimtestaat[[#This Row],[Frequentie werkdagen]])-1))))),0) -> 0 | U32: =IF(T32>0,VLOOKUP($J32,Ruimtegroepen[],3,FALSE)*VLOOKUP($L32,Vloersoorten[],3,FALSE)*VLOOKUP($S32,Frequenties[],3,FALSE)*VLOOKUP($A32,Locaties[],3,FALSE),0) -> 0 | V32: =Ruimtestaat[[#This Row],[Uitvoeringen werkdagen]]*Ruimtestaat[[#This Row],[Oppervlak (netto)]] -> 0 | W32: =IF(U32>0,Ruimtestaat[[#This Row],[Prest. (m2 /jaar) werkdagen]]/Ruimtestaat[[#This Row],[Norm (m2/uur) werkdagen]],0) -> 0 | X32: =Ruimtestaat[[#This Row],[uren / jaar werkdagen]]*Tariefsopbouw!$D$38 -> 0 | Y32: =IF(Ruimtestaat[[#This Row],[Frequentie werkdagen]]>0,VALUE(LEFT(S32,1))*R32,0) -> 0 | Z32: =IF($Y32>0,VLOOKUP($J32,Ruimtegroepen[],3,FALSE)*VLOOKUP($L32,Vloersoorten[],3,FALSE)*VLOOKUP($S32,Frequenties[],3,FALSE)*VLOOKUP($A32,Locaties[],3,FALSE),0) -> 0 | AA32: =Ruimtestaat[[#This Row],[Uitvoeringen eigen dienst]]*Ruimtestaat[[#This Row],[Eigen dienst]] -> 0 | AB32: =IF(Z32>0,Ruimtestaat[[#This Row],[Prest. (m2 /jaar) eigen dienst]]/Ruimtestaat[[#This Row],[Norm (m2/uur) werkdagen]],0) -> 0 | AC32: =Ruimtestaat[[#This Row],[uren / jaar eigen dienst]]*Tariefsopbouw!$D$38 -> 0
A33: 1 | B33: =VLOOKUP(Ruimtestaat[[#This Row],[Code]],Locaties[#All],2,FALSE) -> Het Kofschip & Lindenhage | C33: =VLOOKUP(Ruimtestaat[[#This Row],[Code]],Locaties[#All],4,FALSE) -> Platanenlaan 1 | D33: =VLOOKUP(Ruimtestaat[[#This Row],[Code]],Locaties[#All],5,FALSE) -> 6903 DK | E33: =VLOOKUP(Ruimtestaat[[#This Row],[Code]],Locaties[#All],6,FALSE) -> Zevenaar | F33: Lindenhage | G33: bg | H33: 1.48 | I33: berg / ICT L | J33: 1 | K33: =VLOOKUP(Ruimtestaat[[#This Row],[Ruimte code]],Ruimtegroepen[[#All],[Code]:[Ruimte omschrijving]],2,FALSE) -> Magazijnen/bergingen | L33: L | M33: marmoleum | P33: 4.04 | Q33: =VLOOKUP(Ruimtestaat[[#This Row],[Ruimte code]],Ruimtegroepen[],4,FALSE) -> V (Verkeersruimte) | R33: 40 | S33: 1m | T33: =IF(R33>0,IF(RIGHT(Ruimtestaat[[#This Row],[Frequentie werkdagen]],1)="w",VALUE(LEFT(Ruimtestaat[[#This Row],[Frequentie werkdagen]],(LEN(Ruimtestaat[[#This Row],[Frequentie werkdagen]])-1))*Ruimtestaat[[#This Row],[Aantal weken/jr]]),IF(RIGHT(Ruimtestaat[[#This Row],[Frequentie werkdagen]],1)="m",VALUE(LEFT(Ruimtestaat[[#This Row],[Frequentie werkdagen]],LEN(Ruimtestaat[[#This Row],[Frequentie werkdagen]])-1)*12),VALUE(LEFT(Ruimtestaat[[#This Row],[Frequentie werkdagen]],(LEN(Ruimtestaat[[#This Row],[Frequentie werkdagen]])-1))))),0) -> 12 | U33: =IF(T33>0,VLOOKUP($J33,Ruimtegroepen[],3,FALSE)*VLOOKUP($L33,Vloersoorten[],3,FALSE)*VLOOKUP($S33,Frequenties[],3,FALSE)*VLOOKUP($A33,Locaties[],3,FALSE),0) -> 0 | V33: =Ruimtestaat[[#This Row],[Uitvoeringen werkdagen]]*Ruimtestaat[[#This Row],[Oppervlak (netto)]] -> 0 | W33: =IF(U33>0,Ruimtestaat[[#This Row],[Prest. (m2 /jaar) werkdagen]]/Ruimtestaat[[#This Row],[Norm (m2/uur) werkdagen]],0) -> 0 | X33: =Ruimtestaat[[#This Row],[uren / jaar werkdagen]]*Tariefsopbouw!$D$38 -> 0 | Y33: =IF(Ruimtestaat[[#This Row],[Frequentie werkdagen]]>0,VALUE(LEFT(S33,1))*R33,0) -> 40 | Z33: =IF($Y33>0,VLOOKUP($J33,Ruimtegroepen[],3,FALSE)*VLOOKUP($L33,Vloersoorten[],3,FALSE)*VLOOKUP($S33,Frequenties[],3,FALSE)*VLOOKUP($A33,Locaties[],3,FALSE),0) -> 0 | AA33: =Ruimtestaat[[#This Row],[Uitvoeringen eigen dienst]]*Ruimtestaat[[#This Row],[Eigen dienst]] -> 161.6 | AB33: =IF(Z33>0,Ruimtestaat[[#This Row],[Prest. (m2 /jaar) eigen dienst]]/Ruimtestaat[[#This Row],[Norm (m2/uur) werkdagen]],0) -> 0 | AC33: =Ruimtestaat[[#This Row],[uren / jaar eigen dienst]]*Tariefsopbouw!$D$38 -> 0
A34: 1 | B34: =VLOOKUP(Ruimtestaat[[#This Row],[Code]],Locaties[#All],2,FALSE) -> Het Kofschip & Lindenhage | C34: =VLOOKUP(Ruimtestaat[[#This Row],[Code]],Locaties[#All],4,FALSE) -> Platanenlaan 1 | D34: =VLOOKUP(Ruimtestaat[[#This Row],[Code]],Locaties[#All],5,FALSE) -> 6903 DK | E34: =VLOOKUP(Ruimtestaat[[#This Row],[Code]],Locaties[#All],6,FALSE) -> Zevenaar | F34: Lindenhage | G34: bg | H34: t1 | I34: trap L | J34: 10 | K34: =VLOOKUP(Ruimtestaat[[#This Row],[Ruimte code]],Ruimtegroepen[[#All],[Code]:[Ruimte omschrijving]],2,FALSE) -> Trappenhuizen/lift | L34: L | M34: marmoleum | P34: 8 | Q34: =VLOOKUP(Ruimtestaat[[#This Row],[Ruimte code]],Ruimtegroepen[],4,FALSE) -> V (Verkeersruimte) | R34: 40 | S34: 5w | T34: =IF(R34>0,IF(RIGHT(Ruimtestaat[[#This Row],[Frequentie werkdagen]],1)="w",VALUE(LEFT(Ruimtestaat[[#This Row],[Frequentie werkdagen]],(LEN(Ruimtestaat[[#This Row],[Frequentie werkdagen]])-1))*Ruimtestaat[[#This Row],[Aantal weken/jr]]),IF(RIGHT(Ruimtestaat[[#This Row],[Frequentie werkdagen]],1)="m",VALUE(LEFT(Ruimtestaat[[#This Row],[Frequentie werkdagen]],LEN(Ruimtestaat[[#This Row],[Frequentie werkdagen]])-1)*12),VALUE(LEFT(Ruimtestaat[[#This Row],[Frequentie werkdagen]],(LEN(Ruimtestaat[[#This Row],[Frequentie werkdagen]])-1))))),0) -> 200 | U34: =IF(T34>0,VLOOKUP($J34,Ruimtegroepen[],3,FALSE)*VLOOKUP($L34,Vloersoorten[],3,FALSE)*VLOOKUP($S34,Frequenties[],3,FALSE)*VLOOKUP($A34,Locaties[],3,FALSE),0) -> 0 | V34: =Ruimtestaat[[#This Row],[Uitvoeringen werkdagen]]*Ruimtestaat[[#This Row],[Oppervlak (netto)]] -> 0 | W34: =IF(U34>0,Ruimtestaat[[#This Row],[Prest. (m2 /jaar) werkdagen]]/Ruimtestaat[[#This Row],[Norm (m2/uur) werkdagen]],0) -> 0 | X34: =Ruimtestaat[[#This Row],[uren / jaar werkdagen]]*Tariefsopbouw!$D$38 -> 0 | Y34: =IF(Ruimtestaat[[#This Row],[Frequentie werkdagen]]>0,VALUE(LEFT(S34,1))*R34,0) -> 200 | Z34: =IF($Y34>0,VLOOKUP($J34,Ruimtegroepen[],3,FALSE)*VLOOKUP($L34,Vloersoorten[],3,FALSE)*VLOOKUP($S34,Frequenties[],3,FALSE)*VLOOKUP($A34,Locaties[],3,FALSE),0) -> 0 | AA34: =Ruimtestaat[[#This Row],[Uitvoeringen eigen dienst]]*Ruimtestaat[[#This Row],[Eigen dienst]] -> 1600 | AB34: =IF(Z34>0,Ruimtestaat[[#This Row],[Prest. (m2 /jaar) eigen dienst]]/Ruimtestaat[[#This Row],[Norm (m2/uur) werkdagen]],0) -> 0 | AC34: =Ruimtestaat[[#This Row],[uren / jaar eigen dienst]]*Tariefsopbouw!$D$38 -> 0
A35: 1 | B35: =VLOOKUP(Ruimtestaat[[#This Row],[Code]],Locaties[#All],2,FALSE) -> Het Kofschip & Lindenhage | C35: =VLOOKUP(Ruimtestaat[[#This Row],[Code]],Locaties[#All],4,FALSE) -> Platanenlaan 1 | D35: =VLOOKUP(Ruimtestaat[[#This Row],[Code]],Locaties[#All],5,FALSE) -> 6903 DK | E35: =VLOOKUP(Ruimtestaat[[#This Row],[Code]],Locaties[#All],6,FALSE) -> Zevenaar | F35: Lindenhage | G35: bg | H35: 1.6 | I35: groepsruimte L6 | J35: 16 | K35: =VLOOKUP(Ruimtestaat[[#This Row],[Ruimte code]],Ruimtegroepen[[#All],[Code]:[Ruimte omschrijving]],2,FALSE) -> Lokaal | L35: L | M35: marmoleum | P35: 55.01 | Q35: =VLOOKUP(Ruimtestaat[[#This Row],[Ruimte code]],Ruimtegroepen[],4,FALSE) -> L (Lesruimte) | R35: 40 | S35: 5w | T35: =IF(R35>0,IF(RIGHT(Ruimtestaat[[#This Row],[Frequentie werkdagen]],1)="w",VALUE(LEFT(Ruimtestaat[[#This Row],[Frequentie werkdagen]],(LEN(Ruimtestaat[[#This Row],[Frequentie werkdagen]])-1))*Ruimtestaat[[#This Row],[Aantal weken/jr]]),IF(RIGHT(Ruimtestaat[[#This Row],[Frequentie werkdagen]],1)="m",VALUE(LEFT(Ruimtestaat[[#This Row],[Frequentie werkdagen]],LEN(Ruimtestaat[[#This Row],[Frequentie werkdagen]])-1)*12),VALUE(LEFT(Ruimtestaat[[#This Row],[Frequentie werkdagen]],(LEN(Ruimtestaat[[#This Row],[Frequentie werkdagen]])-1))))),0) -> 200 | U35: =IF(T35>0,VLOOKUP($J35,Ruimtegroepen[],3,FALSE)*VLOOKUP($L35,Vloersoorten[],3,FALSE)*VLOOKUP($S35,Frequenties[],3,FALSE)*VLOOKUP($A35,Locaties[],3,FALSE),0) -> 0 | V35: =Ruimtestaat[[#This Row],[Uitvoeringen werkdagen]]*Ruimtestaat[[#This Row],[Oppervlak (netto)]] -> 0 | W35: =IF(U35>0,Ruimtestaat[[#This Row],[Prest. (m2 /jaar) werkdagen]]/Ruimtestaat[[#This Row],[Norm (m2/uur) werkdagen]],0) -> 0 | X35: =Ruimtestaat[[#This Row],[uren / jaar werkdagen]]*Tariefsopbouw!$D$38 -> 0 | Y35: =IF(Ruimtestaat[[#This Row],[Frequentie werkdagen]]>0,VALUE(LEFT(S35,1))*R35,0) -> 200 | Z35: =IF($Y35>0,VLOOKUP($J35,Ruimtegroepen[],3,FALSE)*VLOOKUP($L35,Vloersoorten[],3,FALSE)*VLOOKUP($S35,Frequenties[],3,FALSE)*VLOOKUP($A35,Locaties[],3,FALSE),0) -> 0 | AA35: =Ruimtestaat[[#This Row],[Uitvoeringen eigen dienst]]*Ruimtestaat[[#This Row],[Eigen dienst]] -> 11002 | AB35: =IF(Z35>0,Ruimtestaat[[#This Row],[Prest. (m2 /jaar) eigen dienst]]/Ruimtestaat[[#This Row],[Norm (m2/uur) werkdagen]],0) -> 0 | AC35: =Ruimtestaat[[#This Row],[uren / jaar eigen dienst]]*Tariefsopbouw!$D$38 -> 0
A36: 1 | B36: =VLOOKUP(Ruimtestaat[[#This Row],[Code]],Locaties[#All],2,FALSE) -> Het Kofschip & Lindenhage | C36: =VLOOKUP(Ruimtestaat[[#This Row],[Code]],Locaties[#All],4,FALSE) -> Platanenlaan 1 | D36: =VLOOKUP(Ruimtestaat[[#This Row],[Code]],Locaties[#All],5,FALSE) -> 6903 DK | E36: =VLOOKUP(Ruimtestaat[[#This Row],[Code]],Locaties[#All],6,FALSE) -> Zevenaar | F36: Lindenhage | G36: bg | H36: 1.42 | I36: toilet L5 | J36: 5 | K36: =VLOOKUP(Ruimtestaat[[#This Row],[Ruimte code]],Ruimtegroepen[[#All],[Code]:[Ruimte omschrijving]],2,FALSE) -> Sanitair | L36: S | M36: sure step | P36: 4.89 | Q36: =VLOOKUP(Ruimtestaat[[#This Row],[Ruimte code]],Ruimtegroepen[],4,FALSE) -> S (Sanitair) | R36: 40 | S36: 5w | T36: =IF(R36>0,IF(RIGHT(Ruimtestaat[[#This Row],[Frequentie werkdagen]],1)="w",VALUE(LEFT(Ruimtestaat[[#This Row],[Frequentie werkdagen]],(LEN(Ruimtestaat[[#This Row],[Frequentie werkdagen]])-1))*Ruimtestaat[[#This Row],[Aantal weken/jr]]),IF(RIGHT(Ruimtestaat[[#This Row],[Frequentie werkdagen]],1)="m",VALUE(LEFT(Ruimtestaat[[#This Row],[Frequentie werkdagen]],LEN(Ruimtestaat[[#This Row],[Frequentie werkdagen]])-1)*12),VALUE(LEFT(Ruimtestaat[[#This Row],[Frequentie werkdagen]],(LEN(Ruimtestaat[[#This Row],[Frequentie werkdagen]])-1))))),0) -> 200 | U36: =IF(T36>0,VLOOKUP($J36,Ruimtegroepen[],3,FALSE)*VLOOKUP($L36,Vloersoorten[],3,FALSE)*VLOOKUP($S36,Frequenties[],3,FALSE)*VLOOKUP($A36,Locaties[],3,FALSE),0) -> 0 | V36: =Ruimtestaat[[#This Row],[Uitvoeringen werkdagen]]*Ruimtestaat[[#This Row],[Oppervlak (netto)]] -> 0 | W36: =IF(U36>0,Ruimtestaat[[#This Row],[Prest. (m2 /jaar) werkdagen]]/Ruimtestaat[[#This Row],[Norm (m2/uur) werkdagen]],0) -> 0 | X36: =Ruimtestaat[[#This Row],[uren / jaar werkdagen]]*Tariefsopbouw!$D$38 -> 0 | Y36: =IF(Ruimtestaat[[#This Row],[Frequentie werkdagen]]>0,VALUE(LEFT(S36,1))*R36,0) -> 200 | Z36: =IF($Y36>0,VLOOKUP($J36,Ruimtegroepen[],3,FALSE)*VLOOKUP($L36,Vloersoorten[],3,FALSE)*VLOOKUP($S36,Frequenties[],3,FALSE)*VLOOKUP($A36,Locaties[],3,FALSE),0) -> 0 | AA36: =Ruimtestaat[[#This Row],[Uitvoeringen eigen dienst]]*Ruimtestaat[[#This Row],[Eigen dienst]] -> 978 | AB36: =IF(Z36>0,Ruimtestaat[[#This Row],[Prest. (m2 /jaar) eigen dienst]]/Ruimtestaat[[#This Row],[Norm (m2/uur) werkdagen]],0) -> 0 | AC36: =Ruimtestaat[[#This Row],[uren / jaar eigen dienst]]*Tariefsopbouw!$D$38 -> 0
A37: 1 | B37: =VLOOKUP(Ruimtestaat[[#This Row],[Code]],Locaties[#All],2,FALSE) -> Het Kofschip & Lindenhage | C37: =VLOOKUP(Ruimtestaat[[#This Row],[Code]],Locaties[#All],4,FALSE) -> Platanenlaan 1 | D37: =VLOOKUP(Ruimtestaat[[#This Row],[Code]],Locaties[#All],5,FALSE) -> 6903 DK | E37: =VLOOKUP(Ruimtestaat[[#This Row],[Code]],Locaties[#All],6,FALSE) -> Zevenaar | F37: Lindenhage | G37: bg | H37: 1.42 | I37: toilet L5 | J37: 5 | K37: =VLOOKUP(Ruimtestaat[[#This Row],[Ruimte code]],Ruimtegroepen[[#All],[Code]:[Ruimte omschrijving]],2,FALSE) -> Sanitair | L37: S | M37: sure step | P37: 4.82 | Q37: =VLOOKUP(Ruimtestaat[[#This Row],[Ruimte code]],Ruimtegroepen[],4,FALSE) -> S (Sanitair) | R37: 40 | S37: 5w | T37: =IF(R37>0,IF(RIGHT(Ruimtestaat[[#This Row],[Frequentie werkdagen]],1)="w",VALUE(LEFT(Ruimtestaat[[#This Row],[Frequentie werkdagen]],(LEN(Ruimtestaat[[#This Row],[Frequentie werkdagen]])-1))*Ruimtestaat[[#This Row],[Aantal weken/jr]]),IF(RIGHT(Ruimtestaat[[#This Row],[Frequentie werkdagen]],1)="m",VALUE(LEFT(Ruimtestaat[[#This Row],[Frequentie werkdagen]],LEN(Ruimtestaat[[#This Row],[Frequentie werkdagen]])-1)*12),VALUE(LEFT(Ruimtestaat[[#This Row],[Frequentie werkdagen]],(LEN(Ruimtestaat[[#This Row],[Frequentie werkdagen]])-1))))),0) -> 200 | U37: =IF(T37>0,VLOOKUP($J37,Ruimtegroepen[],3,FALSE)*VLOOKUP($L37,Vloersoorten[],3,FALSE)*VLOOKUP($S37,Frequenties[],3,FALSE)*VLOOKUP($A37,Locaties[],3,FALSE),0) -> 0 | V37: =Ruimtestaat[[#This Row],[Uitvoeringen werkdagen]]*Ruimtestaat[[#This Row],[Oppervlak (netto)]] -> 0 | W37: =IF(U37>0,Ruimtestaat[[#This Row],[Prest. (m2 /jaar) werkdagen]]/Ruimtestaat[[#This Row],[Norm (m2/uur) werkdagen]],0) -> 0 | X37: =Ruimtestaat[[#This Row],[uren / jaar werkdagen]]*Tariefsopbouw!$D$38 -> 0 | Y37: =IF(Ruimtestaat[[#This Row],[Frequentie werkdagen]]>0,VALUE(LEFT(S37,1))*R37,0) -> 200 | Z37: =IF($Y37>0,VLOOKUP($J37,Ruimtegroepen[],3,FALSE)*VLOOKUP($L37,Vloersoorten[],3,FALSE)*VLOOKUP($S37,Frequenties[],3,FALSE)*VLOOKUP($A37,Locaties[],3,FALSE),0) -> 0 | AA37: =Ruimtestaat[[#This Row],[Uitvoeringen eigen dienst]]*Ruimtestaat[[#This Row],[Eigen dienst]] -> 964 | AB37: =IF(Z37>0,Ruimtestaat[[#This Row],[Prest. (m2 /jaar) eigen dienst]]/Ruimtestaat[[#This Row],[Norm (m2/uur) werkdagen]],0) -> 0 | AC37: =Ruimtestaat[[#This Row],[uren / jaar eigen dienst]]*Tariefsopbouw!$D$38 -> 0
A38: 1 | B38: =VLOOKUP(Ruimtestaat[[#This Row],[Code]],Locaties[#All],2,FALSE) -> Het Kofschip & Lindenhage | C38: =VLOOKUP(Ruimtestaat[[#This Row],[Code]],Locaties[#All],4,FALSE) -> Platanenlaan 1 | D38: =VLOOKUP(Ruimtestaat[[#This Row],[Code]],Locaties[#All],5,FALSE) -> 6903 DK | E38: =VLOOKUP(Ruimtestaat[[#This Row],[Code]],Locaties[#All],6,FALSE) -> Zevenaar | F38: Lindenhage | G38: bg | H38: 1.5 | I38: groepsruimte L5 | J38: 16 | K38: =VLOOKUP(Ruimtestaat[[#This Row],[Ruimte code]],Ruimtegroepen[[#All],[Code]:[Ruimte omschrijving]],2,FALSE) -> Lokaal | L38: L | M38: marmoleum | P38: 55.01 | Q38: =VLOOKUP(Ruimtestaat[[#This Row],[Ruimte code]],Ruimtegroepen[],4,FALSE) -> L (Lesruimte) | R38: 40 | S38: 5w | T38: =IF(R38>0,IF(RIGHT(Ruimtestaat[[#This Row],[Frequentie werkdagen]],1)="w",VALUE(LEFT(Ruimtestaat[[#This Row],[Frequentie werkdagen]],(LEN(Ruimtestaat[[#This Row],[Frequentie werkdagen]])-1))*Ruimtestaat[[#This Row],[Aantal weken/jr]]),IF(RIGHT(Ruimtestaat[[#This Row],[Frequentie werkdagen]],1)="m",VALUE(LEFT(Ruimtestaat[[#This Row],[Frequentie werkdagen]],LEN(Ruimtestaat[[#This Row],[Frequentie werkdagen]])-1)*12),VALUE(LEFT(Ruimtestaat[[#This Row],[Frequentie werkdagen]],(LEN(Ruimtestaat[[#This Row],[Frequentie werkdagen]])-1))))),0) -> 200 | U38: =IF(T38>0,VLOOKUP($J38,Ruimtegroepen[],3,FALSE)*VLOOKUP($L38,Vloersoorten[],3,FALSE)*VLOOKUP($S38,Frequenties[],3,FALSE)*VLOOKUP($A38,Locaties[],3,FALSE),0) -> 0 | V38: =Ruimtestaat[[#This Row],[Uitvoeringen werkdagen]]*Ruimtestaat[[#This Row],[Oppervlak (netto)]] -> 0 | W38: =IF(U38>0,Ruimtestaat[[#This Row],[Prest. (m2 /jaar) werkdagen]]/Ruimtestaat[[#This Row],[Norm (m2/uur) werkdagen]],0) -> 0 | X38: =Ruimtestaat[[#This Row],[uren / jaar werkdagen]]*Tariefsopbouw!$D$38 -> 0 | Y38: =IF(Ruimtestaat[[#This Row],[Frequentie werkdagen]]>0,VALUE(LEFT(S38,1))*R38,0) -> 200 | Z38: =IF($Y38>0,VLOOKUP($J38,Ruimtegroepen[],3,FALSE)*VLOOKUP($L38,Vloersoorten[],3,FALSE)*VLOOKUP($S38,Frequenties[],3,FALSE)*VLOOKUP($A38,Locaties[],3,FALSE),0) -> 0 | AA38: =Ruimtestaat[[#This Row],[Uitvoeringen eigen dienst]]*Ruimtestaat[[#This Row],[Eigen dienst]] -> 11002 | AB38: =IF(Z38>0,Ruimtestaat[[#This Row],[Prest. (m2 /jaar) eigen dienst]]/Ruimtestaat[[#This Row],[Norm (m2/uur) werkdagen]],0) -> 0 | AC38: =Ruimtestaat[[#This Row],[uren / jaar eigen dienst]]*Tariefsopbouw!$D$38 -> 0
A39: 1 | B39: =VLOOKUP(Ruimtestaat[[#This Row],[Code]],Locaties[#All],2,FALSE) -> Het Kofschip & Lindenhage | C39: =VLOOKUP(Ruimtestaat[[#This Row],[Code]],Locaties[#All],4,FALSE) -> Platanenlaan 1 | D39: =VLOOKUP(Ruimtestaat[[#This Row],[Code]],Locaties[#All],5,FALSE) -> 6903 DK | E39: =VLOOKUP(Ruimtestaat[[#This Row],[Code]],Locaties[#All],6,FALSE) -> Zevenaar | F39: Lindenhage | G39: bg | H39: 1.31 | I39: hoofdentree | J39: 7 | K39: =VLOOKUP(Ruimtestaat[[#This Row],[Ruimte code]],Ruimtegroepen[[#All],[Code]:[Ruimte omschrijving]],2,FALSE) -> Entree | L39: T | M39: schoonloopmat | P39: 23.75 | Q39: =VLOOKUP(Ruimtestaat[[#This Row],[Ruimte code]],Ruimtegroepen[],4,FALSE) -> V (Verkeersruimte) | R39: 40 | S39: 5w | T39: =IF(R39>0,IF(RIGHT(Ruimtestaat[[#This Row],[Frequentie werkdagen]],1)="w",VALUE(LEFT(Ruimtestaat[[#This Row],[Frequentie werkdagen]],(LEN(Ruimtestaat[[#This Row],[Frequentie werkdagen]])-1))*Ruimtestaat[[#This Row],[Aantal weken/jr]]),IF(RIGHT(Ruimtestaat[[#This Row],[Frequentie werkdagen]],1)="m",VALUE(LEFT(Ruimtestaat[[#This Row],[Frequentie werkdagen]],LEN(Ruimtestaat[[#This Row],[Frequentie werkdagen]])-1)*12),VALUE(LEFT(Ruimtestaat[[#This Row],[Frequentie werkdagen]],(LEN(Ruimtestaat[[#This Row],[Frequentie werkdagen]])-1))))),0) -> 200 | U39: =IF(T39>0,VLOOKUP($J39,Ruimtegroepen[],3,FALSE)*VLOOKUP($L39,Vloersoorten[],3,FALSE)*VLOOKUP($S39,Frequenties[],3,FALSE)*VLOOKUP($A39,Locaties[],3,FALSE),0) -> 0 | V39: =Ruimtestaat[[#This Row],[Uitvoeringen werkdagen]]*Ruimtestaat[[#This Row],[Oppervlak (netto)]] -> 0 | W39: =IF(U39>0,Ruimtestaat[[#This Row],[Prest. (m2 /jaar) werkdagen]]/Ruimtestaat[[#This Row],[Norm (m2/uur) werkdagen]],0) -> 0 | X39: =Ruimtestaat[[#This Row],[uren / jaar werkdagen]]*Tariefsopbouw!$D$38 -> 0 | Y39: =IF(Ruimtestaat[[#This Row],[Frequentie werkdagen]]>0,VALUE(LEFT(S39,1))*R39,0) -> 200 | Z39: =IF($Y39>0,VLOOKUP($J39,Ruimtegroepen[],3,FALSE)*VLOOKUP($L39,Vloersoorten[],3,FALSE)*VLOOKUP($S39,Frequenties[],3,FALSE)*VLOOKUP($A39,Locaties[],3,FALSE),0) -> 0 | AA39: =Ruimtestaat[[#This Row],[Uitvoeringen eigen dienst]]*Ruimtestaat[[#This Row],[Eigen dienst]] -> 4750 | AB39: =IF(Z39>0,Ruimtestaat[[#This Row],[Prest. (m2 /jaar) eigen dienst]]/Ruimtestaat[[#This Row],[Norm (m2/uur) werkdagen]],0) -> 0 | AC39: =Ruimtestaat[[#This Row],[uren / jaar eigen dienst]]*Tariefsopbouw!$D$38 -> 0
A40: 1 | B40: =VLOOKUP(Ruimtestaat[[#This Row],[Code]],Locaties[#All],2,FALSE) -> Het Kofschip & Lindenhage | C40: =VLOOKUP(Ruimtestaat[[#This Row],[Code]],Locaties[#All],4,FALSE) -> Platanenlaan 1 | D40: =VLOOKUP(Ruimtestaat[[#This Row],[Code]],Locaties[#All],5,FALSE) -> 6903 DK | E40: =VLOOKUP(Ruimtestaat[[#This Row],[Code]],Locaties[#All],6,FALSE) -> Zevenaar | F40: Lindenhage | G40: bg | H40: 1.43 | I40: MIVA L | J40: 5 | K40: =VLOOKUP(Ruimtestaat[[#This Row],[Ruimte code]],Ruimtegroepen[[#All],[Code]:[Ruimte omschrijving]],2,FALSE) -> Sanitair | L40: S | M40: sure step | P40: 3.98 | Q40: =VLOOKUP(Ruimtestaat[[#This Row],[Ruimte code]],Ruimtegroepen[],4,FALSE) -> S (Sanitair) | R40: 40 | S40: 5w | T40: =IF(R40>0,IF(RIGHT(Ruimtestaat[[#This Row],[Frequentie werkdagen]],1)="w",VALUE(LEFT(Ruimtestaat[[#This Row],[Frequentie werkdagen]],(LEN(Ruimtestaat[[#This Row],[Frequentie werkdagen]])-1))*Ruimtestaat[[#This Row],[Aantal weken/jr]]),IF(RIGHT(Ruimtestaat[[#This Row],[Frequentie werkdagen]],1)="m",VALUE(LEFT(Ruimtestaat[[#This Row],[Frequentie werkdagen]],LEN(Ruimtestaat[[#This Row],[Frequentie werkdagen]])-1)*12),VALUE(LEFT(Ruimtestaat[[#This Row],[Frequentie werkdagen]],(LEN(Ruimtestaat[[#This Row],[Frequentie werkdagen]])-1))))),0) -> 200 | U40: =IF(T40>0,VLOOKUP($J40,Ruimtegroepen[],3,FALSE)*VLOOKUP($L40,Vloersoorten[],3,FALSE)*VLOOKUP($S40,Frequenties[],3,FALSE)*VLOOKUP($A40,Locaties[],3,FALSE),0) -> 0 | V40: =Ruimtestaat[[#This Row],[Uitvoeringen werkdagen]]*Ruimtestaat[[#This Row],[Oppervlak (netto)]] -> 0 | W40: =IF(U40>0,Ruimtestaat[[#This Row],[Prest. (m2 /jaar) werkdagen]]/Ruimtestaat[[#This Row],[Norm (m2/uur) werkdagen]],0) -> 0 | X40: =Ruimtestaat[[#This Row],[uren / jaar werkdagen]]*Tariefsopbouw!$D$38 -> 0 | Y40: =IF(Ruimtestaat[[#This Row],[Frequentie werkdagen]]>0,VALUE(LEFT(S40,1))*R40,0) -> 200 | Z40: =IF($Y40>0,VLOOKUP($J40,Ruimtegroepen[],3,FALSE)*VLOOKUP($L40,Vloersoorten[],3,FALSE)*VLOOKUP($S40,Frequenties[],3,FALSE)*VLOOKUP($A40,Locaties[],3,FALSE),0) -> 0 | AA40: =Ruimtestaat[[#This Row],[Uitvoeringen eigen dienst]]*Ruimtestaat[[#This Row],[Eigen dienst]] -> 796 | AB40: =IF(Z40>0,Ruimtestaat[[#This Row],[Prest. (m2 /jaar) eigen dienst]]/Ruimtestaat[[#This Row],[Norm (m2/uur) werkdagen]],0) -> 0 | AC40: =Ruimtestaat[[#This Row],[uren / jaar eigen dienst]]*Tariefsopbouw!$D$38 -> 0
A41: 1 | B41: =VLOOKUP(Ruimtestaat[[#This Row],[Code]],Locaties[#All],2,FALSE) -> Het Kofschip & Lindenhage | C41: =VLOOKUP(Ruimtestaat[[#This Row],[Code]],Locaties[#All],4,FALSE) -> Platanenlaan 1 | D41: =VLOOKUP(Ruimtestaat[[#This Row],[Code]],Locaties[#All],5,FALSE) -> 6903 DK | E41: =VLOOKUP(Ruimtestaat[[#This Row],[Code]],Locaties[#All],6,FALSE) -> Zevenaar | F41: Lindenhage | G41: bg | H41: 1.16 | I41: spreekkr L1 | J41: 4 | K41: =VLOOKUP(Ruimtestaat[[#This Row],[Ruimte code]],Ruimtegroepen[[#All],[Code]:[Ruimte omschrijving]],2,FALSE) -> Vergader/spreekkamers | L41: T | M41: flotex | P41: 11.82 | Q41: =VLOOKUP(Ruimtestaat[[#This Row],[Ruimte code]],Ruimtegroepen[],4,FALSE) -> B (Bureauruimte) | R41: 40 | S41: 3w | T41: =IF(R41>0,IF(RIGHT(Ruimtestaat[[#This Row],[Frequentie werkdagen]],1)="w",VALUE(LEFT(Ruimtestaat[[#This Row],[Frequentie werkdagen]],(LEN(Ruimtestaat[[#This Row],[Frequentie werkdagen]])-1))*Ruimtestaat[[#This Row],[Aantal weken/jr]]),IF(RIGHT(Ruimtestaat[[#This Row],[Frequentie werkdagen]],1)="m",VALUE(LEFT(Ruimtestaat[[#This Row],[Frequentie werkdagen]],LEN(Ruimtestaat[[#This Row],[Frequentie werkdagen]])-1)*12),VALUE(LEFT(Ruimtestaat[[#This Row],[Frequentie werkdagen]],(LEN(Ruimtestaat[[#This Row],[Frequentie werkdagen]])-1))))),0) -> 120 | U41: =IF(T41>0,VLOOKUP($J41,Ruimtegroepen[],3,FALSE)*VLOOKUP($L41,Vloersoorten[],3,FALSE)*VLOOKUP($S41,Frequenties[],3,FALSE)*VLOOKUP($A41,Locaties[],3,FALSE),0) -> 0 | V41: =Ruimtestaat[[#This Row],[Uitvoeringen werkdagen]]*Ruimtestaat[[#This Row],[Oppervlak (netto)]] -> 0 | W41: =IF(U41>0,Ruimtestaat[[#This Row],[Prest. (m2 /jaar) werkdagen]]/Ruimtestaat[[#This Row],[Norm (m2/uur) werkdagen]],0) -> 0 | X41: =Ruimtestaat[[#This Row],[uren / jaar werkdagen]]*Tariefsopbouw!$D$38 -> 0 | Y41: =IF(Ruimtestaat[[#This Row],[Frequentie werkdagen]]>0,VALUE(LEFT(S41,1))*R41,0) -> 120 | Z41: =IF($Y41>0,VLOOKUP($J41,Ruimtegroepen[],3,FALSE)*VLOOKUP($L41,Vloersoorten[],3,FALSE)*VLOOKUP($S41,Frequenties[],3,FALSE)*VLOOKUP($A41,Locaties[],3,FALSE),0) -> 0 | AA41: =Ruimtestaat[[#This Row],[Uitvoeringen eigen dienst]]*Ruimtestaat[[#This Row],[Eigen dienst]] -> 1418.4 | AB41: =IF(Z41>0,Ruimtestaat[[#This Row],[Prest. (m2 /jaar) eigen dienst]]/Ruimtestaat[[#This Row],[Norm (m2/uur) werkdagen]],0) -> 0 | AC41: =Ruimtestaat[[#This Row],[uren / jaar eigen dienst]]*Tariefsopbouw!$D$38 -> 0
A42: 1 | B42: =VLOOKUP(Ruimtestaat[[#This Row],[Code]],Locaties[#All],2,FALSE) -> Het Kofschip & Lindenhage | C42: =VLOOKUP(Ruimtestaat[[#This Row],[Code]],Locaties[#All],4,FALSE) -> Platanenlaan 1 | D42: =VLOOKUP(Ruimtestaat[[#This Row],[Code]],Locaties[#All],5,FALSE) -> 6903 DK | E42: =VLOOKUP(Ruimtestaat[[#This Row],[Code]],Locaties[#All],6,FALSE) -> Zevenaar | F42: Lindenhage | G42: bg | H42: 1.25 | I42: administratie L | J42: 2 | K42: =VLOOKUP(Ruimtestaat[[#This Row],[Ruimte code]],Ruimtegroepen[[#All],[Code]:[Ruimte omschrijving]],2,FALSE) -> Kantoren | L42: T | M42: flotex | P42: 11.84 | Q42: =VLOOKUP(Ruimtestaat[[#This Row],[Ruimte code]],Ruimtegroepen[],4,FALSE) -> B (Bureauruimte) | R42: 40 | S42: 2w | T42: =IF(R42>0,IF(RIGHT(Ruimtestaat[[#This Row],[Frequentie werkdagen]],1)="w",VALUE(LEFT(Ruimtestaat[[#This Row],[Frequentie werkdagen]],(LEN(Ruimtestaat[[#This Row],[Frequentie werkdagen]])-1))*Ruimtestaat[[#This Row],[Aantal weken/jr]]),IF(RIGHT(Ruimtestaat[[#This Row],[Frequentie werkdagen]],1)="m",VALUE(LEFT(Ruimtestaat[[#This Row],[Frequentie werkdagen]],LEN(Ruimtestaat[[#This Row],[Frequentie werkdagen]])-1)*12),VALUE(LEFT(Ruimtestaat[[#This Row],[Frequentie werkdagen]],(LEN(Ruimtestaat[[#This Row],[Frequentie werkdagen]])-1))))),0) -> 80 | U42: =IF(T42>0,VLOOKUP($J42,Ruimtegroepen[],3,FALSE)*VLOOKUP($L42,Vloersoorten[],3,FALSE)*VLOOKUP($S42,Frequenties[],3,FALSE)*VLOOKUP($A42,Locaties[],3,FALSE),0) -> 0 | V42: =Ruimtestaat[[#This Row],[Uitvoeringen werkdagen]]*Ruimtestaat[[#This Row],[Oppervlak (netto)]] -> 0 | W42: =IF(U42>0,Ruimtestaat[[#This Row],[Prest. (m2 /jaar) werkdagen]]/Ruimtestaat[[#This Row],[Norm (m2/uur) werkdagen]],0) -> 0 | X42: =Ruimtestaat[[#This Row],[uren / jaar werkdagen]]*Tariefsopbouw!$D$38 -> 0 | Y42: =IF(Ruimtestaat[[#This Row],[Frequentie werkdagen]]>0,VALUE(LEFT(S42,1))*R42,0) -> 80 | Z42: =IF($Y42>0,VLOOKUP($J42,Ruimtegroepen[],3,FALSE)*VLOOKUP($L42,Vloersoorten[],3,FALSE)*VLOOKUP($S42,Frequenties[],3,FALSE)*VLOOKUP($A42,Locaties[],3,FALSE),0) -> 0 | AA42: =Ruimtestaat[[#This Row],[Uitvoeringen eigen dienst]]*Ruimtestaat[[#This Row],[Eigen dienst]] -> 947.2 | AB42: =IF(Z42>0,Ruimtestaat[[#This Row],[Prest. (m2 /jaar) eigen dienst]]/Ruimtestaat[[#This Row],[Norm (m2/uur) werkdagen]],0) -> 0 | AC42: =Ruimtestaat[[#This Row],[uren / jaar eigen dienst]]*Tariefsopbouw!$D$38 -> 0
A43: 1 | B43: =VLOOKUP(Ruimtestaat[[#This Row],[Code]],Locaties[#All],2,FALSE) -> Het Kofschip & Lindenhage | C43: =VLOOKUP(Ruimtestaat[[#This Row],[Code]],Locaties[#All],4,FALSE) -> Platanenlaan 1 | D43: =VLOOKUP(Ruimtestaat[[#This Row],[Code]],Locaties[#All],5,FALSE) -> 6903 DK | E43: =VLOOKUP(Ruimtestaat[[#This Row],[Code]],Locaties[#All],6,FALSE) -> Zevenaar | F43: Lindenhage | G43: bg | H43: 1.23 | I43: directie L | J43: 2 | K43: =VLOOKUP(Ruimtestaat[[#This Row],[Ruimte code]],Ruimtegroepen[[#All],[Code]:[Ruimte omschrijving]],2,FALSE) -> Kantoren | L43: T | M43: flotex | P43: 7.81 | Q43: =VLOOKUP(Ruimtestaat[[#This Row],[Ruimte code]],Ruimtegroepen[],4,FALSE) -> B (Bureauruimte) | R43: 40 | S43: 2w | T43: =IF(R43>0,IF(RIGHT(Ruimtestaat[[#This Row],[Frequentie werkdagen]],1)="w",VALUE(LEFT(Ruimtestaat[[#This Row],[Frequentie werkdagen]],(LEN(Ruimtestaat[[#This Row],[Frequentie werkdagen]])-1))*Ruimtestaat[[#This Row],[Aantal weken/jr]]),IF(RIGHT(Ruimtestaat[[#This Row],[Frequentie werkdagen]],1)="m",VALUE(LEFT(Ruimtestaat[[#This Row],[Frequentie werkdagen]],LEN(Ruimtestaat[[#This Row],[Frequentie werkdagen]])-1)*12),VALUE(LEFT(Ruimtestaat[[#This Row],[Frequentie werkdagen]],(LEN(Ruimtestaat[[#This Row],[Frequentie werkdagen]])-1))))),0) -> 80 | U43: =IF(T43>0,VLOOKUP($J43,Ruimtegroepen[],3,FALSE)*VLOOKUP($L43,Vloersoorten[],3,FALSE)*VLOOKUP($S43,Frequenties[],3,FALSE)*VLOOKUP($A43,Locaties[],3,FALSE),0) -> 0 | V43: =Ruimtestaat[[#This Row],[Uitvoeringen werkdagen]]*Ruimtestaat[[#This Row],[Oppervlak (netto)]] -> 0 | W43: =IF(U43>0,Ruimtestaat[[#This Row],[Prest. (m2 /jaar) werkdagen]]/Ruimtestaat[[#This Row],[Norm (m2/uur) werkdagen]],0) -> 0 | X43: =Ruimtestaat[[#This Row],[uren / jaar werkdagen]]*Tariefsopbouw!$D$38 -> 0 | Y43: =IF(Ruimtestaat[[#This Row],[Frequentie werkdagen]]>0,VALUE(LEFT(S43,1))*R43,0) -> 80 | Z43: =IF($Y43>0,VLOOKUP($J43,Ruimtegroepen[],3,FALSE)*VLOOKUP($L43,Vloersoorten[],3,FALSE)*VLOOKUP($S43,Frequenties[],3,FALSE)*VLOOKUP($A43,Locaties[],3,FALSE),0) -> 0 | AA43: =Ruimtestaat[[#This Row],[Uitvoeringen eigen dienst]]*Ruimtestaat[[#This Row],[Eigen dienst]] -> 624.8 | AB43: =IF(Z43>0,Ruimtestaat[[#This Row],[Prest. (m2 /jaar) eigen dienst]]/Ruimtestaat[[#This Row],[Norm (m2/uur) werkdagen]],0) -> 0 | AC43: =Ruimtestaat[[#This Row],[uren / jaar eigen dienst]]*Tariefsopbouw!$D$38 -> 0
A44: 1 | B44: =VLOOKUP(Ruimtestaat[[#This Row],[Code]],Locaties[#All],2,FALSE) -> Het Kofschip & Lindenhage | C44: =VLOOKUP(Ruimtestaat[[#This Row],[Code]],Locaties[#All],4,FALSE) -> Platanenlaan 1 | D44: =VLOOKUP(Ruimtestaat[[#This Row],[Code]],Locaties[#All],5,FALSE) -> 6903 DK | E44: =VLOOKUP(Ruimtestaat[[#This Row],[Code]],Locaties[#All],6,FALSE) -> Zevenaar | F44: Lindenhage | G44: bg | H44: 1.52 | I44: meterkast L | J44: 21 | K44: =VLOOKUP(Ruimtestaat[[#This Row],[Ruimte code]],Ruimtegroepen[[#All],[Code]:[Ruimte omschrijving]],2,FALSE) -> Niet in onderhoud | L44: S | M44: beton | P44: 1.08 | Q44: =VLOOKUP(Ruimtestaat[[#This Row],[Ruimte code]],Ruimtegroepen[],4,FALSE) -> Niet in onderhoud | T44: =IF(R44>0,IF(RIGHT(Ruimtestaat[[#This Row],[Frequentie werkdagen]],1)="w",VALUE(LEFT(Ruimtestaat[[#This Row],[Frequentie werkdagen]],(LEN(Ruimtestaat[[#This Row],[Frequentie werkdagen]])-1))*Ruimtestaat[[#This Row],[Aantal weken/jr]]),IF(RIGHT(Ruimtestaat[[#This Row],[Frequentie werkdagen]],1)="m",VALUE(LEFT(Ruimtestaat[[#This Row],[Frequentie werkdagen]],LEN(Ruimtestaat[[#This Row],[Frequentie werkdagen]])-1)*12),VALUE(LEFT(Ruimtestaat[[#This Row],[Frequentie werkdagen]],(LEN(Ruimtestaat[[#This Row],[Frequentie werkdagen]])-1))))),0) -> 0 | U44: =IF(T44>0,VLOOKUP($J44,Ruimtegroepen[],3,FALSE)*VLOOKUP($L44,Vloersoorten[],3,FALSE)*VLOOKUP($S44,Frequenties[],3,FALSE)*VLOOKUP($A44,Locaties[],3,FALSE),0) -> 0 | V44: =Ruimtestaat[[#This Row],[Uitvoeringen werkdagen]]*Ruimtestaat[[#This Row],[Oppervlak (netto)]] -> 0 | W44: =IF(U44>0,Ruimtestaat[[#This Row],[Prest. (m2 /jaar) werkdagen]]/Ruimtestaat[[#This Row],[Norm (m2/uur) werkdagen]],0) -> 0 | X44: =Ruimtestaat[[#This Row],[uren / jaar werkdagen]]*Tariefsopbouw!$D$38 -> 0 | Y44: =IF(Ruimtestaat[[#This Row],[Frequentie werkdagen]]>0,VALUE(LEFT(S44,1))*R44,0) -> 0 | Z44: =IF($Y44>0,VLOOKUP($J44,Ruimtegroepen[],3,FALSE)*VLOOKUP($L44,Vloersoorten[],3,FALSE)*VLOOKUP($S44,Frequenties[],3,FALSE)*VLOOKUP($A44,Locaties[],3,FALSE),0) -> 0 | AA44: =Ruimtestaat[[#This Row],[Uitvoeringen eigen dienst]]*Ruimtestaat[[#This Row],[Eigen dienst]] -> 0 | AB44: =IF(Z44>0,Ruimtestaat[[#This Row],[Prest. (m2 /jaar) eigen dienst]]/Ruimtestaat[[#This Row],[Norm (m2/uur) werkdagen]],0) -> 0 | AC44: =Ruimtestaat[[#This Row],[uren / jaar eigen dienst]]*Tariefsopbouw!$D$38 -> 0
A45: 1 | B45: =VLOOKUP(Ruimtestaat[[#This Row],[Code]],Locaties[#All],2,FALSE) -> Het Kofschip & Lindenhage | C45: =VLOOKUP(Ruimtestaat[[#This Row],[Code]],Locaties[#All],4,FALSE) -> Platanenlaan 1 | D45: =VLOOKUP(Ruimtestaat[[#This Row],[Code]],Locaties[#All],5,FALSE) -> 6903 DK | E45: =VLOOKUP(Ruimtestaat[[#This Row],[Code]],Locaties[#All],6,FALSE) -> Zevenaar | F45: Lindenhage | G45: bg | H45: 1.4 | I45: groepsruimte L4 | J45: 16 | K45: =VLOOKUP(Ruimtestaat[[#This Row],[Ruimte code]],Ruimtegroepen[[#All],[Code]:[Ruimte omschrijving]],2,FALSE) -> Lokaal | L45: L | M45: marmoleum | P45: 55.02 | Q45: =VLOOKUP(Ruimtestaat[[#This Row],[Ruimte code]],Ruimtegroepen[],4,FALSE) -> L (Lesruimte) | R45: 40 | S45: 5w | T45: =IF(R45>0,IF(RIGHT(Ruimtestaat[[#This Row],[Frequentie werkdagen]],1)="w",VALUE(LEFT(Ruimtestaat[[#This Row],[Frequentie werkdagen]],(LEN(Ruimtestaat[[#This Row],[Frequentie werkdagen]])-1))*Ruimtestaat[[#This Row],[Aantal weken/jr]]),IF(RIGHT(Ruimtestaat[[#This Row],[Frequentie werkdagen]],1)="m",VALUE(LEFT(Ruimtestaat[[#This Row],[Frequentie werkdagen]],LEN(Ruimtestaat[[#This Row],[Frequentie werkdagen]])-1)*12),VALUE(LEFT(Ruimtestaat[[#This Row],[Frequentie werkdagen]],(LEN(Ruimtestaat[[#This Row],[Frequentie werkdagen]])-1))))),0) -> 200 | U45: =IF(T45>0,VLOOKUP($J45,Ruimtegroepen[],3,FALSE)*VLOOKUP($L45,Vloersoorten[],3,FALSE)*VLOOKUP($S45,Frequenties[],3,FALSE)*VLOOKUP($A45,Locaties[],3,FALSE),0) -> 0 | V45: =Ruimtestaat[[#This Row],[Uitvoeringen werkdagen]]*Ruimtestaat[[#This Row],[Oppervlak (netto)]] -> 0 | W45: =IF(U45>0,Ruimtestaat[[#This Row],[Prest. (m2 /jaar) werkdagen]]/Ruimtestaat[[#This Row],[Norm (m2/uur) werkdagen]],0) -> 0 | X45: =Ruimtestaat[[#This Row],[uren / jaar werkdagen]]*Tariefsopbouw!$D$38 -> 0 | Y45: =IF(Ruimtestaat[[#This Row],[Frequentie werkdagen]]>0,VALUE(LEFT(S45,1))*R45,0) -> 200 | Z45: =IF($Y45>0,VLOOKUP($J45,Ruimtegroepen[],3,FALSE)*VLOOKUP($L45,Vloersoorten[],3,FALSE)*VLOOKUP($S45,Frequenties[],3,FALSE)*VLOOKUP($A45,Locaties[],3,FALSE),0) -> 0 | AA45: =Ruimtestaat[[#This Row],[Uitvoeringen eigen dienst]]*Ruimtestaat[[#This Row],[Eigen dienst]] -> 11004 | AB45: =IF(Z45>0,Ruimtestaat[[#This Row],[Prest. (m2 /jaar) eigen dienst]]/Ruimtestaat[[#This Row],[Norm (m2/uur) werkdagen]],0) -> 0 | AC45: =Ruimtestaat[[#This Row],[uren / jaar eigen dienst]]*Tariefsopbouw!$D$38 -> 0
A46: 1 | B46: =VLOOKUP(Ruimtestaat[[#This Row],[Code]],Locaties[#All],2,FALSE) -> Het Kofschip & Lindenhage | C46: =VLOOKUP(Ruimtestaat[[#This Row],[Code]],Locaties[#All],4,FALSE) -> Platanenlaan 1 | D46: =VLOOKUP(Ruimtestaat[[#This Row],[Code]],Locaties[#All],5,FALSE) -> 6903 DK | E46: =VLOOKUP(Ruimtestaat[[#This Row],[Code]],Locaties[#All],6,FALSE) -> Zevenaar | F46: Lindenhage | G46: bg | H46: 1.29 | I46: hal L1 | J46: 6 | K46: =VLOOKUP(Ruimtestaat[[#This Row],[Ruimte code]],Ruimtegroepen[[#All],[Code]:[Ruimte omschrijving]],2,FALSE) -> Gangen/hallen | L46: L | M46: marmoleum | P46: 182.5 | Q46: =VLOOKUP(Ruimtestaat[[#This Row],[Ruimte code]],Ruimtegroepen[],4,FALSE) -> V (Verkeersruimte) | R46: 40 | S46: 5w | T46: =IF(R46>0,IF(RIGHT(Ruimtestaat[[#This Row],[Frequentie werkdagen]],1)="w",VALUE(LEFT(Ruimtestaat[[#This Row],[Frequentie werkdagen]],(LEN(Ruimtestaat[[#This Row],[Frequentie werkdagen]])-1))*Ruimtestaat[[#This Row],[Aantal weken/jr]]),IF(RIGHT(Ruimtestaat[[#This Row],[Frequentie werkdagen]],1)="m",VALUE(LEFT(Ruimtestaat[[#This Row],[Frequentie werkdagen]],LEN(Ruimtestaat[[#This Row],[Frequentie werkdagen]])-1)*12),VALUE(LEFT(Ruimtestaat[[#This Row],[Frequentie werkdagen]],(LEN(Ruimtestaat[[#This Row],[Frequentie werkdagen]])-1))))),0) -> 200 | U46: =IF(T46>0,VLOOKUP($J46,Ruimtegroepen[],3,FALSE)*VLOOKUP($L46,Vloersoorten[],3,FALSE)*VLOOKUP($S46,Frequenties[],3,FALSE)*VLOOKUP($A46,Locaties[],3,FALSE),0) -> 0 | V46: =Ruimtestaat[[#This Row],[Uitvoeringen werkdagen]]*Ruimtestaat[[#This Row],[Oppervlak (netto)]] -> 0 | W46: =IF(U46>0,Ruimtestaat[[#This Row],[Prest. (m2 /jaar) werkdagen]]/Ruimtestaat[[#This Row],[Norm (m2/uur) werkdagen]],0) -> 0 | X46: =Ruimtestaat[[#This Row],[uren / jaar werkdagen]]*Tariefsopbouw!$D$38 -> 0 | Y46: =IF(Ruimtestaat[[#This Row],[Frequentie werkdagen]]>0,VALUE(LEFT(S46,1))*R46,0) -> 200 | Z46: =IF($Y46>0,VLOOKUP($J46,Ruimtegroepen[],3,FALSE)*VLOOKUP($L46,Vloersoorten[],3,FALSE)*VLOOKUP($S46,Frequenties[],3,FALSE)*VLOOKUP($A46,Locaties[],3,FALSE),0) -> 0 | AA46: =Ruimtestaat[[#This Row],[Uitvoeringen eigen dienst]]*Ruimtestaat[[#This Row],[Eigen dienst]] -> 36500 | AB46: =IF(Z46>0,Ruimtestaat[[#This Row],[Prest. (m2 /jaar) eigen dienst]]/Ruimtestaat[[#This Row],[Norm (m2/uur) werkdagen]],0) -> 0 | AC46: =Ruimtestaat[[#This Row],[uren / jaar eigen dienst]]*Tariefsopbouw!$D$38 -> 0
A47: 1 | B47: =VLOOKUP(Ruimtestaat[[#This Row],[Code]],Locaties[#All],2,FALSE) -> Het Kofschip & Lindenhage | C47: =VLOOKUP(Ruimtestaat[[#This Row],[Code]],Locaties[#All],4,FALSE) -> Platanenlaan 1 | D47: =VLOOKUP(Ruimtestaat[[#This Row],[Code]],Locaties[#All],5,FALSE) -> 6903 DK | E47: =VLOOKUP(Ruimtestaat[[#This Row],[Code]],Locaties[#All],6,FALSE) -> Zevenaar | F47: Lindenhage | G47: bg | H47: 1.26 | I47: adm / concierge L | J47: 2 | K47: =VLOOKUP(Ruimtestaat[[#This Row],[Ruimte code]],Ruimtegroepen[[#All],[Code]:[Ruimte omschrijving]],2,FALSE) -> Kantoren | L47: L | M47: marmoleum | P47: 23.43 | Q47: =VLOOKUP(Ruimtestaat[[#This Row],[Ruimte code]],Ruimtegroepen[],4,FALSE) -> B (Bureauruimte) | R47: 40 | S47: 2w | T47: =IF(R47>0,IF(RIGHT(Ruimtestaat[[#This Row],[Frequentie werkdagen]],1)="w",VALUE(LEFT(Ruimtestaat[[#This Row],[Frequentie werkdagen]],(LEN(Ruimtestaat[[#This Row],[Frequentie werkdagen]])-1))*Ruimtestaat[[#This Row],[Aantal weken/jr]]),IF(RIGHT(Ruimtestaat[[#This Row],[Frequentie werkdagen]],1)="m",VALUE(LEFT(Ruimtestaat[[#This Row],[Frequentie werkdagen]],LEN(Ruimtestaat[[#This Row],[Frequentie werkdagen]])-1)*12),VALUE(LEFT(Ruimtestaat[[#This Row],[Frequentie werkdagen]],(LEN(Ruimtestaat[[#This Row],[Frequentie werkdagen]])-1))))),0) -> 80 | U47: =IF(T47>0,VLOOKUP($J47,Ruimtegroepen[],3,FALSE)*VLOOKUP($L47,Vloersoorten[],3,FALSE)*VLOOKUP($S47,Frequenties[],3,FALSE)*VLOOKUP($A47,Locaties[],3,FALSE),0) -> 0 | V47: =Ruimtestaat[[#This Row],[Uitvoeringen werkdagen]]*Ruimtestaat[[#This Row],[Oppervlak (netto)]] -> 0 | W47: =IF(U47>0,Ruimtestaat[[#This Row],[Prest. (m2 /jaar) werkdagen]]/Ruimtestaat[[#This Row],[Norm (m2/uur) werkdagen]],0) -> 0 | X47: =Ruimtestaat[[#This Row],[uren / jaar werkdagen]]*Tariefsopbouw!$D$38 -> 0 | Y47: =IF(Ruimtestaat[[#This Row],[Frequentie werkdagen]]>0,VALUE(LEFT(S47,1))*R47,0) -> 80 | Z47: =IF($Y47>0,VLOOKUP($J47,Ruimtegroepen[],3,FALSE)*VLOOKUP($L47,Vloersoorten[],3,FALSE)*VLOOKUP($S47,Frequenties[],3,FALSE)*VLOOKUP($A47,Locaties[],3,FALSE),0) -> 0 | AA47: =Ruimtestaat[[#This Row],[Uitvoeringen eigen dienst]]*Ruimtestaat[[#This Row],[Eigen dienst]] -> 1874.4 | AB47: =IF(Z47>0,Ruimtestaat[[#This Row],[Prest. (m2 /jaar) eigen dienst]]/Ruimtestaat[[#This Row],[Norm (m2/uur) werkdagen]],0) -> 0 | AC47: =Ruimtestaat[[#This Row],[uren / jaar eigen dienst]]*Tariefsopbouw!$D$38 -> 0
A48: 1 | B48: =VLOOKUP(Ruimtestaat[[#This Row],[Code]],Locaties[#All],2,FALSE) -> Het Kofschip & Lindenhage | C48: =VLOOKUP(Ruimtestaat[[#This Row],[Code]],Locaties[#All],4,FALSE) -> Platanenlaan 1 | D48: =VLOOKUP(Ruimtestaat[[#This Row],[Code]],Locaties[#All],5,FALSE) -> 6903 DK | E48: =VLOOKUP(Ruimtestaat[[#This Row],[Code]],Locaties[#All],6,FALSE) -> Zevenaar | F48: Lindenhage | G48: bg | H48: 1.21 | I48: teamkr L / keuken L | J48: 14 | K48: =VLOOKUP(Ruimtestaat[[#This Row],[Ruimte code]],Ruimtegroepen[[#All],[Code]:[Ruimte omschrijving]],2,FALSE) -> Personeelsruimte | L48: T | M48: flotex + marmoleum | P48: 44.64 | Q48: =VLOOKUP(Ruimtestaat[[#This Row],[Ruimte code]],Ruimtegroepen[],4,FALSE) -> V (Verkeersruimte) | R48: 40 | S48: 5w | T48: =IF(R48>0,IF(RIGHT(Ruimtestaat[[#This Row],[Frequentie werkdagen]],1)="w",VALUE(LEFT(Ruimtestaat[[#This Row],[Frequentie werkdagen]],(LEN(Ruimtestaat[[#This Row],[Frequentie werkdagen]])-1))*Ruimtestaat[[#This Row],[Aantal weken/jr]]),IF(RIGHT(Ruimtestaat[[#This Row],[Frequentie werkdagen]],1)="m",VALUE(LEFT(Ruimtestaat[[#This Row],[Frequentie werkdagen]],LEN(Ruimtestaat[[#This Row],[Frequentie werkdagen]])-1)*12),VALUE(LEFT(Ruimtestaat[[#This Row],[Frequentie werkdagen]],(LEN(Ruimtestaat[[#This Row],[Frequentie werkdagen]])-1))))),0) -> 200 | U48: =IF(T48>0,VLOOKUP($J48,Ruimtegroepen[],3,FALSE)*VLOOKUP($L48,Vloersoorten[],3,FALSE)*VLOOKUP($S48,Frequenties[],3,FALSE)*VLOOKUP($A48,Locaties[],3,FALSE),0) -> 0 | V48: =Ruimtestaat[[#This Row],[Uitvoeringen werkdagen]]*Ruimtestaat[[#This Row],[Oppervlak (netto)]] -> 0 | W48: =IF(U48>0,Ruimtestaat[[#This Row],[Prest. (m2 /jaar) werkdagen]]/Ruimtestaat[[#This Row],[Norm (m2/uur) werkdagen]],0) -> 0 | X48: =Ruimtestaat[[#This Row],[uren / jaar werkdagen]]*Tariefsopbouw!$D$38 -> 0 | Y48: =IF(Ruimtestaat[[#This Row],[Frequentie werkdagen]]>0,VALUE(LEFT(S48,1))*R48,0) -> 200 | Z48: =IF($Y48>0,VLOOKUP($J48,Ruimtegroepen[],3,FALSE)*VLOOKUP($L48,Vloersoorten[],3,FALSE)*VLOOKUP($S48,Frequenties[],3,FALSE)*VLOOKUP($A48,Locaties[],3,FALSE),0) -> 0 | AA48: =Ruimtestaat[[#This Row],[Uitvoeringen eigen dienst]]*Ruimtestaat[[#This Row],[Eigen dienst]] -> 8928 | AB48: =IF(Z48>0,Ruimtestaat[[#This Row],[Prest. (m2 /jaar) eigen dienst]]/Ruimtestaat[[#This Row],[Norm (m2/uur) werkdagen]],0) -> 0 | AC48: =Ruimtestaat[[#This Row],[uren / jaar eigen dienst]]*Tariefsopbouw!$D$38 -> 0
A49: 1 | B49: =VLOOKUP(Ruimtestaat[[#This Row],[Code]],Locaties[#All],2,FALSE) -> Het Kofschip & Lindenhage | C49: =VLOOKUP(Ruimtestaat[[#This Row],[Code]],Locaties[#All],4,FALSE) -> Platanenlaan 1 | D49: =VLOOKUP(Ruimtestaat[[#This Row],[Code]],Locaties[#All],5,FALSE) -> 6903 DK | E49: =VLOOKUP(Ruimtestaat[[#This Row],[Code]],Locaties[#All],6,FALSE) -> Zevenaar | F49: Lindenhage | G49: bg | H49: 1.3 | I49: groepsruimte L3 | J49: 16 | K49: =VLOOKUP(Ruimtestaat[[#This Row],[Ruimte code]],Ruimtegroepen[[#All],[Code]:[Ruimte omschrijving]],2,FALSE) -> Lokaal | L49: L | M49: marmoleum | P49: 59 | Q49: =VLOOKUP(Ruimtestaat[[#This Row],[Ruimte code]],Ruimtegroepen[],4,FALSE) -> L (Lesruimte) | R49: 40 | S49: 5w | T49: =IF(R49>0,IF(RIGHT(Ruimtestaat[[#This Row],[Frequentie werkdagen]],1)="w",VALUE(LEFT(Ruimtestaat[[#This Row],[Frequentie werkdagen]],(LEN(Ruimtestaat[[#This Row],[Frequentie werkdagen]])-1))*Ruimtestaat[[#This Row],[Aantal weken/jr]]),IF(RIGHT(Ruimtestaat[[#This Row],[Frequentie werkdagen]],1)="m",VALUE(LEFT(Ruimtestaat[[#This Row],[Frequentie werkdagen]],LEN(Ruimtestaat[[#This Row],[Frequentie werkdagen]])-1)*12),VALUE(LEFT(Ruimtestaat[[#This Row],[Frequentie werkdagen]],(LEN(Ruimtestaat[[#This Row],[Frequentie werkdagen]])-1))))),0) -> 200 | U49: =IF(T49>0,VLOOKUP($J49,Ruimtegroepen[],3,FALSE)*VLOOKUP($L49,Vloersoorten[],3,FALSE)*VLOOKUP($S49,Frequenties[],3,FALSE)*VLOOKUP($A49,Locaties[],3,FALSE),0) -> 0 | V49: =Ruimtestaat[[#This Row],[Uitvoeringen werkdagen]]*Ruimtestaat[[#This Row],[Oppervlak (netto)]] -> 0 | W49: =IF(U49>0,Ruimtestaat[[#This Row],[Prest. (m2 /jaar) werkdagen]]/Ruimtestaat[[#This Row],[Norm (m2/uur) werkdagen]],0) -> 0 | X49: =Ruimtestaat[[#This Row],[uren / jaar werkdagen]]*Tariefsopbouw!$D$38 -> 0 | Y49: =IF(Ruimtestaat[[#This Row],[Frequentie werkdagen]]>0,VALUE(LEFT(S49,1))*R49,0) -> 200 | Z49: =IF($Y49>0,VLOOKUP($J49,Ruimtegroepen[],3,FALSE)*VLOOKUP($L49,Vloersoorten[],3,FALSE)*VLOOKUP($S49,Frequenties[],3,FALSE)*VLOOKUP($A49,Locaties[],3,FALSE),0) -> 0 | AA49: =Ruimtestaat[[#This Row],[Uitvoeringen eigen dienst]]*Ruimtestaat[[#This Row],[Eigen dienst]] -> 11800 | AB49: =IF(Z49>0,Ruimtestaat[[#This Row],[Prest. (m2 /jaar) eigen dienst]]/Ruimtestaat[[#This Row],[Norm (m2/uur) werkdagen]],0) -> 0 | AC49: =Ruimtestaat[[#This Row],[uren / jaar eigen dienst]]*Tariefsopbouw!$D$38 -> 0
A50: 1 | B50: =VLOOKUP(Ruimtestaat[[#This Row],[Code]],Locaties[#All],2,FALSE) -> Het Kofschip & Lindenhage | C50: =VLOOKUP(Ruimtestaat[[#This Row],[Code]],Locaties[#All],4,FALSE) -> Platanenlaan 1 | D50: =VLOOKUP(Ruimtestaat[[#This Row],[Code]],Locaties[#All],5,FALSE) -> 6903 DK | E50: =VLOOKUP(Ruimtestaat[[#This Row],[Code]],Locaties[#All],6,FALSE) -> Zevenaar | F50: Lindenhage | G50: bg | H50: 1.2 | I50: groepsruimte L2 | J50: 16 | K50: =VLOOKUP(Ruimtestaat[[#This Row],[Ruimte code]],Ruimtegroepen[[#All],[Code]:[Ruimte omschrijving]],2,FALSE) -> Lokaal | L50: L | M50: marmoleum | P50: 59.09 | Q50: =VLOOKUP(Ruimtestaat[[#This Row],[Ruimte code]],Ruimtegroepen[],4,FALSE) -> L (Lesruimte) | R50: 40 | S50: 5w | T50: =IF(R50>0,IF(RIGHT(Ruimtestaat[[#This Row],[Frequentie werkdagen]],1)="w",VALUE(LEFT(Ruimtestaat[[#This Row],[Frequentie werkdagen]],(LEN(Ruimtestaat[[#This Row],[Frequentie werkdagen]])-1))*Ruimtestaat[[#This Row],[Aantal weken/jr]]),IF(RIGHT(Ruimtestaat[[#This Row],[Frequentie werkdagen]],1)="m",VALUE(LEFT(Ruimtestaat[[#This Row],[Frequentie werkdagen]],LEN(Ruimtestaat[[#This Row],[Frequentie werkdagen]])-1)*12),VALUE(LEFT(Ruimtestaat[[#This Row],[Frequentie werkdagen]],(LEN(Ruimtestaat[[#This Row],[Frequentie werkdagen]])-1))))),0) -> 200 | U50: =IF(T50>0,VLOOKUP($J50,Ruimtegroepen[],3,FALSE)*VLOOKUP($L50,Vloersoorten[],3,FALSE)*VLOOKUP($S50,Frequenties[],3,FALSE)*VLOOKUP($A50,Locaties[],3,FALSE),0) -> 0 | V50: =Ruimtestaat[[#This Row],[Uitvoeringen werkdagen]]*Ruimtestaat[[#This Row],[Oppervlak (netto)]] -> 0 | W50: =IF(U50>0,Ruimtestaat[[#This Row],[Prest. (m2 /jaar) werkdagen]]/Ruimtestaat[[#This Row],[Norm (m2/uur) werkdagen]],0) -> 0 | X50: =Ruimtestaat[[#This Row],[uren / jaar werkdagen]]*Tariefsopbouw!$D$38 -> 0 | Y50: =IF(Ruimtestaat[[#This Row],[Frequentie werkdagen]]>0,VALUE(LEFT(S50,1))*R50,0) -> 200 | Z50: =IF($Y50>0,VLOOKUP($J50,Ruimtegroepen[],3,FALSE)*VLOOKUP($L50,Vloersoorten[],3,FALSE)*VLOOKUP($S50,Frequenties[],3,FALSE)*VLOOKUP($A50,Locaties[],3,FALSE),0) -> 0 | AA50: =Ruimtestaat[[#This Row],[Uitvoeringen eigen dienst]]*Ruimtestaat[[#This Row],[Eigen dienst]] -> 11818 | AB50: =IF(Z50>0,Ruimtestaat[[#This Row],[Prest. (m2 /jaar) eigen dienst]]/Ruimtestaat[[#This Row],[Norm (m2/uur) werkdagen]],0) -> 0 | AC50: =Ruimtestaat[[#This Row],[uren / jaar eigen dienst]]*Tariefsopbouw!$D$38 -> 0
A51: 1 | B51: =VLOOKUP(Ruimtestaat[[#This Row],[Code]],Locaties[#All],2,FALSE) -> Het Kofschip & Lindenhage | C51: =VLOOKUP(Ruimtestaat[[#This Row],[Code]],Locaties[#All],4,FALSE) -> Platanenlaan 1 | D51: =VLOOKUP(Ruimtestaat[[#This Row],[Code]],Locaties[#All],5,FALSE) -> 6903 DK | E51: =VLOOKUP(Ruimtestaat[[#This Row],[Code]],Locaties[#All],6,FALSE) -> Zevenaar | F51: Lindenhage | G51: bg | H51: 1.40 | I51: toilet L3 | J51: 5 | K51: =VLOOKUP(Ruimtestaat[[#This Row],[Ruimte code]],Ruimtegroepen[[#All],[Code]:[Ruimte omschrijving]],2,FALSE) -> Sanitair | L51: S | M51: sure step | P51: 9.79 | Q51: =VLOOKUP(Ruimtestaat[[#This Row],[Ruimte code]],Ruimtegroepen[],4,FALSE) -> S (Sanitair) | R51: 40 | S51: 5w | T51: =IF(R51>0,IF(RIGHT(Ruimtestaat[[#This Row],[Frequentie werkdagen]],1)="w",VALUE(LEFT(Ruimtestaat[[#This Row],[Frequentie werkdagen]],(LEN(Ruimtestaat[[#This Row],[Frequentie werkdagen]])-1))*Ruimtestaat[[#This Row],[Aantal weken/jr]]),IF(RIGHT(Ruimtestaat[[#This Row],[Frequentie werkdagen]],1)="m",VALUE(LEFT(Ruimtestaat[[#This Row],[Frequentie werkdagen]],LEN(Ruimtestaat[[#This Row],[Frequentie werkdagen]])-1)*12),VALUE(LEFT(Ruimtestaat[[#This Row],[Frequentie werkdagen]],(LEN(Ruimtestaat[[#This Row],[Frequentie werkdagen]])-1))))),0) -> 200 | U51: =IF(T51>0,VLOOKUP($J51,Ruimtegroepen[],3,FALSE)*VLOOKUP($L51,Vloersoorten[],3,FALSE)*VLOOKUP($S51,Frequenties[],3,FALSE)*VLOOKUP($A51,Locaties[],3,FALSE),0) -> 0 | V51: =Ruimtestaat[[#This Row],[Uitvoeringen werkdagen]]*Ruimtestaat[[#This Row],[Oppervlak (netto)]] -> 0 | W51: =IF(U51>0,Ruimtestaat[[#This Row],[Prest. (m2 /jaar) werkdagen]]/Ruimtestaat[[#This Row],[Norm (m2/uur) werkdagen]],0) -> 0 | X51: =Ruimtestaat[[#This Row],[uren / jaar werkdagen]]*Tariefsopbouw!$D$38 -> 0 | Y51: =IF(Ruimtestaat[[#This Row],[Frequentie werkdagen]]>0,VALUE(LEFT(S51,1))*R51,0) -> 200 | Z51: =IF($Y51>0,VLOOKUP($J51,Ruimtegroepen[],3,FALSE)*VLOOKUP($L51,Vloersoorten[],3,FALSE)*VLOOKUP($S51,Frequenties[],3,FALSE)*VLOOKUP($A51,Locaties[],3,FALSE),0) -> 0 | AA51: =Ruimtestaat[[#This Row],[Uitvoeringen eigen dienst]]*Ruimtestaat[[#This Row],[Eigen dienst]] -> 1958 | AB51: =IF(Z51>0,Ruimtestaat[[#This Row],[Prest. (m2 /jaar) eigen dienst]]/Ruimtestaat[[#This Row],[Norm (m2/uur) werkdagen]],0) -> 0 | AC51: =Ruimtestaat[[#This Row],[uren / jaar eigen dienst]]*Tariefsopbouw!$D$38 -> 0
A52: 1 | B52: =VLOOKUP(Ruimtestaat[[#This Row],[Code]],Locaties[#All],2,FALSE) -> Het Kofschip & Lindenhage | C52: =VLOOKUP(Ruimtestaat[[#This Row],[Code]],Locaties[#All],4,FALSE) -> Platanenlaan 1 | D52: =VLOOKUP(Ruimtestaat[[#This Row],[Code]],Locaties[#All],5,FALSE) -> 6903 DK | E52: =VLOOKUP(Ruimtestaat[[#This Row],[Code]],Locaties[#All],6,FALSE) -> Zevenaar | F52: Lindenhage | G52: bg | H52: 1.41 | I52: toilet L4 | J52: 5 | K52: =VLOOKUP(Ruimtestaat[[#This Row],[Ruimte code]],Ruimtegroepen[[#All],[Code]:[Ruimte omschrijving]],2,FALSE) -> Sanitair | L52: S | M52: sure step | P52: 9.79 | Q52: =VLOOKUP(Ruimtestaat[[#This Row],[Ruimte code]],Ruimtegroepen[],4,FALSE) -> S (Sanitair) | R52: 40 | S52: 5w | T52: =IF(R52>0,IF(RIGHT(Ruimtestaat[[#This Row],[Frequentie werkdagen]],1)="w",VALUE(LEFT(Ruimtestaat[[#This Row],[Frequentie werkdagen]],(LEN(Ruimtestaat[[#This Row],[Frequentie werkdagen]])-1))*Ruimtestaat[[#This Row],[Aantal weken/jr]]),IF(RIGHT(Ruimtestaat[[#This Row],[Frequentie werkdagen]],1)="m",VALUE(LEFT(Ruimtestaat[[#This Row],[Frequentie werkdagen]],LEN(Ruimtestaat[[#This Row],[Frequentie werkdagen]])-1)*12),VALUE(LEFT(Ruimtestaat[[#This Row],[Frequentie werkdagen]],(LEN(Ruimtestaat[[#This Row],[Frequentie werkdagen]])-1))))),0) -> 200 | U52: =IF(T52>0,VLOOKUP($J52,Ruimtegroepen[],3,FALSE)*VLOOKUP($L52,Vloersoorten[],3,FALSE)*VLOOKUP($S52,Frequenties[],3,FALSE)*VLOOKUP($A52,Locaties[],3,FALSE),0) -> 0 | V52: =Ruimtestaat[[#This Row],[Uitvoeringen werkdagen]]*Ruimtestaat[[#This Row],[Oppervlak (netto)]] -> 0 | W52: =IF(U52>0,Ruimtestaat[[#This Row],[Prest. (m2 /jaar) werkdagen]]/Ruimtestaat[[#This Row],[Norm (m2/uur) werkdagen]],0) -> 0 | X52: =Ruimtestaat[[#This Row],[uren / jaar werkdagen]]*Tariefsopbouw!$D$38 -> 0 | Y52: =IF(Ruimtestaat[[#This Row],[Frequentie werkdagen]]>0,VALUE(LEFT(S52,1))*R52,0) -> 200 | Z52: =IF($Y52>0,VLOOKUP($J52,Ruimtegroepen[],3,FALSE)*VLOOKUP($L52,Vloersoorten[],3,FALSE)*VLOOKUP($S52,Frequenties[],3,FALSE)*VLOOKUP($A52,Locaties[],3,FALSE),0) -> 0 | AA52: =Ruimtestaat[[#This Row],[Uitvoeringen eigen dienst]]*Ruimtestaat[[#This Row],[Eigen dienst]] -> 1958 | AB52: =IF(Z52>0,Ruimtestaat[[#This Row],[Prest. (m2 /jaar) eigen dienst]]/Ruimtestaat[[#This Row],[Norm (m2/uur) werkdagen]],0) -> 0 | AC52: =Ruimtestaat[[#This Row],[uren / jaar eigen dienst]]*Tariefsopbouw!$D$38 -> 0
A53: 1 | B53: =VLOOKUP(Ruimtestaat[[#This Row],[Code]],Locaties[#All],2,FALSE) -> Het Kofschip & Lindenhage | C53: =VLOOKUP(Ruimtestaat[[#This Row],[Code]],Locaties[#All],4,FALSE) -> Platanenlaan 1 | D53: =VLOOKUP(Ruimtestaat[[#This Row],[Code]],Locaties[#All],5,FALSE) -> 6903 DK | E53: =VLOOKUP(Ruimtestaat[[#This Row],[Code]],Locaties[#All],6,FALSE) -> Zevenaar | F53: Lindenhage | G53: bg | H53: 1.32 | I53: entree L1 | J53: 7 | K53: =VLOOKUP(Ruimtestaat[[#This Row],[Ruimte code]],Ruimtegroepen[[#All],[Code]:[Ruimte omschrijving]],2,FALSE) -> Entree | L53: T | M53: schoonloopmat | P53: 12.66 | Q53: =VLOOKUP(Ruimtestaat[[#This Row],[Ruimte code]],Ruimtegroepen[],4,FALSE) -> V (Verkeersruimte) | R53: 40 | S53: 5w | T53: =IF(R53>0,IF(RIGHT(Ruimtestaat[[#This Row],[Frequentie werkdagen]],1)="w",VALUE(LEFT(Ruimtestaat[[#This Row],[Frequentie werkdagen]],(LEN(Ruimtestaat[[#This Row],[Frequentie werkdagen]])-1))*Ruimtestaat[[#This Row],[Aantal weken/jr]]),IF(RIGHT(Ruimtestaat[[#This Row],[Frequentie werkdagen]],1)="m",VALUE(LEFT(Ruimtestaat[[#This Row],[Frequentie werkdagen]],LEN(Ruimtestaat[[#This Row],[Frequentie werkdagen]])-1)*12),VALUE(LEFT(Ruimtestaat[[#This Row],[Frequentie werkdagen]],(LEN(Ruimtestaat[[#This Row],[Frequentie werkdagen]])-1))))),0) -> 200 | U53: =IF(T53>0,VLOOKUP($J53,Ruimtegroepen[],3,FALSE)*VLOOKUP($L53,Vloersoorten[],3,FALSE)*VLOOKUP($S53,Frequenties[],3,FALSE)*VLOOKUP($A53,Locaties[],3,FALSE),0) -> 0 | V53: =Ruimtestaat[[#This Row],[Uitvoeringen werkdagen]]*Ruimtestaat[[#This Row],[Oppervlak (netto)]] -> 0 | W53: =IF(U53>0,Ruimtestaat[[#This Row],[Prest. (m2 /jaar) werkdagen]]/Ruimtestaat[[#This Row],[Norm (m2/uur) werkdagen]],0) -> 0 | X53: =Ruimtestaat[[#This Row],[uren / jaar werkdagen]]*Tariefsopbouw!$D$38 -> 0 | Y53: =IF(Ruimtestaat[[#This Row],[Frequentie werkdagen]]>0,VALUE(LEFT(S53,1))*R53,0) -> 200 | Z53: =IF($Y53>0,VLOOKUP($J53,Ruimtegroepen[],3,FALSE)*VLOOKUP($L53,Vloersoorten[],3,FALSE)*VLOOKUP($S53,Frequenties[],3,FALSE)*VLOOKUP($A53,Locaties[],3,FALSE),0) -> 0 | AA53: =Ruimtestaat[[#This Row],[Uitvoeringen eigen dienst]]*Ruimtestaat[[#This Row],[Eigen dienst]] -> 2532 | AB53: =IF(Z53>0,Ruimtestaat[[#This Row],[Prest. (m2 /jaar) eigen dienst]]/Ruimtestaat[[#This Row],[Norm (m2/uur) werkdagen]],0) -> 0 | AC53: =Ruimtestaat[[#This Row],[uren / jaar eigen dienst]]*Tariefsopbouw!$D$38 -> 0
A54: 1 | B54: =VLOOKUP(Ruimtestaat[[#This Row],[Code]],Locaties[#All],2,FALSE) -> Het Kofschip & Lindenhage | C54: =VLOOKUP(Ruimtestaat[[#This Row],[Code]],Locaties[#All],4,FALSE) -> Platanenlaan 1 | D54: =VLOOKUP(Ruimtestaat[[#This Row],[Code]],Locaties[#All],5,FALSE) -> 6903 DK | E54: =VLOOKUP(Ruimtestaat[[#This Row],[Code]],Locaties[#All],6,FALSE) -> Zevenaar | F54: Lindenhage | G54: bg | H54: 1.36 | I54: gang L | J54: 6 | K54: =VLOOKUP(Ruimtestaat[[#This Row],[Ruimte code]],Ruimtegroepen[[#All],[Code]:[Ruimte omschrijving]],2,FALSE) -> Gangen/hallen | L54: L | M54: marmoleum | P54: 11.57 | Q54: =VLOOKUP(Ruimtestaat[[#This Row],[Ruimte code]],Ruimtegroepen[],4,FALSE) -> V (Verkeersruimte) | R54: 40 | S54: 5w | T54: =IF(R54>0,IF(RIGHT(Ruimtestaat[[#This Row],[Frequentie werkdagen]],1)="w",VALUE(LEFT(Ruimtestaat[[#This Row],[Frequentie werkdagen]],(LEN(Ruimtestaat[[#This Row],[Frequentie werkdagen]])-1))*Ruimtestaat[[#This Row],[Aantal weken/jr]]),IF(RIGHT(Ruimtestaat[[#This Row],[Frequentie werkdagen]],1)="m",VALUE(LEFT(Ruimtestaat[[#This Row],[Frequentie werkdagen]],LEN(Ruimtestaat[[#This Row],[Frequentie werkdagen]])-1)*12),VALUE(LEFT(Ruimtestaat[[#This Row],[Frequentie werkdagen]],(LEN(Ruimtestaat[[#This Row],[Frequentie werkdagen]])-1))))),0) -> 200 | U54: =IF(T54>0,VLOOKUP($J54,Ruimtegroepen[],3,FALSE)*VLOOKUP($L54,Vloersoorten[],3,FALSE)*VLOOKUP($S54,Frequenties[],3,FALSE)*VLOOKUP($A54,Locaties[],3,FALSE),0) -> 0 | V54: =Ruimtestaat[[#This Row],[Uitvoeringen werkdagen]]*Ruimtestaat[[#This Row],[Oppervlak (netto)]] -> 0 | W54: =IF(U54>0,Ruimtestaat[[#This Row],[Prest. (m2 /jaar) werkdagen]]/Ruimtestaat[[#This Row],[Norm (m2/uur) werkdagen]],0) -> 0 | X54: =Ruimtestaat[[#This Row],[uren / jaar werkdagen]]*Tariefsopbouw!$D$38 -> 0 | Y54: =IF(Ruimtestaat[[#This Row],[Frequentie werkdagen]]>0,VALUE(LEFT(S54,1))*R54,0) -> 200 | Z54: =IF($Y54>0,VLOOKUP($J54,Ruimtegroepen[],3,FALSE)*VLOOKUP($L54,Vloersoorten[],3,FALSE)*VLOOKUP($S54,Frequenties[],3,FALSE)*VLOOKUP($A54,Locaties[],3,FALSE),0) -> 0 | AA54: =Ruimtestaat[[#This Row],[Uitvoeringen eigen dienst]]*Ruimtestaat[[#This Row],[Eigen dienst]] -> 2314 | AB54: =IF(Z54>0,Ruimtestaat[[#This Row],[Prest. (m2 /jaar) eigen dienst]]/Ruimtestaat[[#This Row],[Norm (m2/uur) werkdagen]],0) -> 0 | AC54: =Ruimtestaat[[#This Row],[uren / jaar eigen dienst]]*Tariefsopbouw!$D$38 -> 0
A55: 1 | B55: =VLOOKUP(Ruimtestaat[[#This Row],[Code]],Locaties[#All],2,FALSE) -> Het Kofschip & Lindenhage | C55: =VLOOKUP(Ruimtestaat[[#This Row],[Code]],Locaties[#All],4,FALSE) -> Platanenlaan 1 | D55: =VLOOKUP(Ruimtestaat[[#This Row],[Code]],Locaties[#All],5,FALSE) -> 6903 DK | E55: =VLOOKUP(Ruimtestaat[[#This Row],[Code]],Locaties[#All],6,FALSE) -> Zevenaar | F55: Lindenhage | G55: bg | H55: 1.49 | I55: magazijn L | J55: 1 | K55: =VLOOKUP(Ruimtestaat[[#This Row],[Ruimte code]],Ruimtegroepen[[#All],[Code]:[Ruimte omschrijving]],2,FALSE) -> Magazijnen/bergingen | L55: L | M55: marmoleum | P55: 17.8 | Q55: =VLOOKUP(Ruimtestaat[[#This Row],[Ruimte code]],Ruimtegroepen[],4,FALSE) -> V (Verkeersruimte) | R55: 40 | S55: 1m | T55: =IF(R55>0,IF(RIGHT(Ruimtestaat[[#This Row],[Frequentie werkdagen]],1)="w",VALUE(LEFT(Ruimtestaat[[#This Row],[Frequentie werkdagen]],(LEN(Ruimtestaat[[#This Row],[Frequentie werkdagen]])-1))*Ruimtestaat[[#This Row],[Aantal weken/jr]]),IF(RIGHT(Ruimtestaat[[#This Row],[Frequentie werkdagen]],1)="m",VALUE(LEFT(Ruimtestaat[[#This Row],[Frequentie werkdagen]],LEN(Ruimtestaat[[#This Row],[Frequentie werkdagen]])-1)*12),VALUE(LEFT(Ruimtestaat[[#This Row],[Frequentie werkdagen]],(LEN(Ruimtestaat[[#This Row],[Frequentie werkdagen]])-1))))),0) -> 12 | U55: =IF(T55>0,VLOOKUP($J55,Ruimtegroepen[],3,FALSE)*VLOOKUP($L55,Vloersoorten[],3,FALSE)*VLOOKUP($S55,Frequenties[],3,FALSE)*VLOOKUP($A55,Locaties[],3,FALSE),0) -> 0 | V55: =Ruimtestaat[[#This Row],[Uitvoeringen werkdagen]]*Ruimtestaat[[#This Row],[Oppervlak (netto)]] -> 0 | W55: =IF(U55>0,Ruimtestaat[[#This Row],[Prest. (m2 /jaar) werkdagen]]/Ruimtestaat[[#This Row],[Norm (m2/uur) werkdagen]],0) -> 0 | X55: =Ruimtestaat[[#This Row],[uren / jaar werkdagen]]*Tariefsopbouw!$D$38 -> 0 | Y55: =IF(Ruimtestaat[[#This Row],[Frequentie werkdagen]]>0,VALUE(LEFT(S55,1))*R55,0) -> 40 | Z55: =IF($Y55>0,VLOOKUP($J55,Ruimtegroepen[],3,FALSE)*VLOOKUP($L55,Vloersoorten[],3,FALSE)*VLOOKUP($S55,Frequenties[],3,FALSE)*VLOOKUP($A55,Locaties[],3,FALSE),0) -> 0 | AA55: =Ruimtestaat[[#This Row],[Uitvoeringen eigen dienst]]*Ruimtestaat[[#This Row],[Eigen dienst]] -> 712 | AB55: =IF(Z55>0,Ruimtestaat[[#This Row],[Prest. (m2 /jaar) eigen dienst]]/Ruimtestaat[[#This Row],[Norm (m2/uur) werkdagen]],0) -> 0 | AC55: =Ruimtestaat[[#This Row],[uren / jaar eigen dienst]]*Tariefsopbouw!$D$38 -> 0
A56: 1 | B56: =VLOOKUP(Ruimtestaat[[#This Row],[Code]],Locaties[#All],2,FALSE) -> Het Kofschip & Lindenhage | C56: =VLOOKUP(Ruimtestaat[[#This Row],[Code]],Locaties[#All],4,FALSE) -> Platanenlaan 1 | D56: =VLOOKUP(Ruimtestaat[[#This Row],[Code]],Locaties[#All],5,FALSE) -> 6903 DK | E56: =VLOOKUP(Ruimtestaat[[#This Row],[Code]],Locaties[#All],6,FALSE) -> Zevenaar | F56: Lindenhage | G56: bg | H56: 1.14 | I56: groepsruimte L14 | J56: 16 | K56: =VLOOKUP(Ruimtestaat[[#This Row],[Ruimte code]],Ruimtegroepen[[#All],[Code]:[Ruimte omschrijving]],2,FALSE) -> Lokaal | L56: L | M56: marmoleum | P56: 58.75 | Q56: =VLOOKUP(Ruimtestaat[[#This Row],[Ruimte code]],Ruimtegroepen[],4,FALSE) -> L (Lesruimte) | R56: 40 | S56: 5w | T56: =IF(R56>0,IF(RIGHT(Ruimtestaat[[#This Row],[Frequentie werkdagen]],1)="w",VALUE(LEFT(Ruimtestaat[[#This Row],[Frequentie werkdagen]],(LEN(Ruimtestaat[[#This Row],[Frequentie werkdagen]])-1))*Ruimtestaat[[#This Row],[Aantal weken/jr]]),IF(RIGHT(Ruimtestaat[[#This Row],[Frequentie werkdagen]],1)="m",VALUE(LEFT(Ruimtestaat[[#This Row],[Frequentie werkdagen]],LEN(Ruimtestaat[[#This Row],[Frequentie werkdagen]])-1)*12),VALUE(LEFT(Ruimtestaat[[#This Row],[Frequentie werkdagen]],(LEN(Ruimtestaat[[#This Row],[Frequentie werkdagen]])-1))))),0) -> 200 | U56: =IF(T56>0,VLOOKUP($J56,Ruimtegroepen[],3,FALSE)*VLOOKUP($L56,Vloersoorten[],3,FALSE)*VLOOKUP($S56,Frequenties[],3,FALSE)*VLOOKUP($A56,Locaties[],3,FALSE),0) -> 0 | V56: =Ruimtestaat[[#This Row],[Uitvoeringen werkdagen]]*Ruimtestaat[[#This Row],[Oppervlak (netto)]] -> 0 | W56: =IF(U56>0,Ruimtestaat[[#This Row],[Prest. (m2 /jaar) werkdagen]]/Ruimtestaat[[#This Row],[Norm (m2/uur) werkdagen]],0) -> 0 | X56: =Ruimtestaat[[#This Row],[uren / jaar werkdagen]]*Tariefsopbouw!$D$38 -> 0 | Y56: =IF(Ruimtestaat[[#This Row],[Frequentie werkdagen]]>0,VALUE(LEFT(S56,1))*R56,0) -> 200 | Z56: =IF($Y56>0,VLOOKUP($J56,Ruimtegroepen[],3,FALSE)*VLOOKUP($L56,Vloersoorten[],3,FALSE)*VLOOKUP($S56,Frequenties[],3,FALSE)*VLOOKUP($A56,Locaties[],3,FALSE),0) -> 0 | AA56: =Ruimtestaat[[#This Row],[Uitvoeringen eigen dienst]]*Ruimtestaat[[#This Row],[Eigen dienst]] -> 11750 | AB56: =IF(Z56>0,Ruimtestaat[[#This Row],[Prest. (m2 /jaar) eigen dienst]]/Ruimtestaat[[#This Row],[Norm (m2/uur) werkdagen]],0) -> 0 | AC56: =Ruimtestaat[[#This Row],[uren / jaar eigen dienst]]*Tariefsopbouw!$D$38 -> 0
... A58: 1 | B58: =VLOOKUP(Ruimtestaat[[#This Row],[Code]],Locaties[#All],2,FALSE) -> Het Kofschip & Lindenhage | C58: =VLOOKUP(Ruimtestaat[[#This Row],[Code]],Locaties[#All],4,FALSE) -> Platanenlaan 1 | D58: =VLOOKUP(Ruimtestaat[[#This Row],[Code]],Locaties[#All],5,FALSE) -> 6903 DK | E58: =VLOOKUP(Ruimtestaat[[#This Row],[Code]],Locaties[#All],6,FALSE) -> Zevenaar | F58: Lindenhage | G58: bg | H58: 1.15 | I58: groepsruimte L15 | J58: 16 | K58: =VLOOKUP(Ruimtestaat[[#This Row],[Ruimte code]],Ruimtegroepen[[#All],[Code]:[Ruimte omschrijving]],2,FALSE) -> Lokaal | L58: L | M58: marmoleum | P58: 58.75 | Q58: =VLOOKUP(Ruimtestaat[[#This Row],[Ruimte code]],Ruimtegroepen[],4,FALSE) -> L (Lesruimte) | R58: 40 | S58: 5w | T58: =IF(R58>0,IF(RIGHT(Ruimtestaat[[#This Row],[Frequentie werkdagen]],1)="w",VALUE(LEFT(Ruimtestaat[[#This Row],[Frequentie werkdagen]],(LEN(Ruimtestaat[[#This Row],[Frequentie werkdagen]])-1))*Ruimtestaat[[#This Row],[Aantal weken/jr]]),IF(RIGHT(Ruimtestaat[[#This Row],[Frequentie werkdagen]],1)="m",VALUE(LEFT(Ruimtestaat[[#This Row],[Frequentie werkdagen]],LEN(Ruimtestaat[[#This Row],[Frequentie werkdagen]])-1)*12),VALUE(LEFT(Ruimtestaat[[#This Row],[Frequentie werkdagen]],(LEN(Ruimtestaat[[#This Row],[Frequentie werkdagen]])-1))))),0) -> 200 | U58: =IF(T58>0,VLOOKUP($J58,Ruimtegroepen[],3,FALSE)*VLOOKUP($L58,Vloersoorten[],3,FALSE)*VLOOKUP($S58,Frequenties[],3,FALSE)*VLOOKUP($A58,Locaties[],3,FALSE),0) -> 0 | V58: =Ruimtestaat[[#This Row],[Uitvoeringen werkdagen]]*Ruimtestaat[[#This Row],[Oppervlak (netto)]] -> 0 | W58: =IF(U58>0,Ruimtestaat[[#This Row],[Prest. (m2 /jaar) werkdagen]]/Ruimtestaat[[#This Row],[Norm (m2/uur) werkdagen]],0) -> 0 | X58: =Ruimtestaat[[#This Row],[uren / jaar werkdagen]]*Tariefsopbouw!$D$38 -> 0 | Y58: =IF(Ruimtestaat[[#This Row],[Frequentie werkdagen]]>0,VALUE(LEFT(S58,1))*R58,0) -> 200 | Z58: =IF($Y58>0,VLOOKUP($J58,Ruimtegroepen[],3,FALSE)*VLOOKUP($L58,Vloersoorten[],3,FALSE)*VLOOKUP($S58,Frequenties[],3,FALSE)*VLOOKUP($A58,Locaties[],3,FALSE),0) -> 0 | AA58: =Ruimtestaat[[#This Row],[Uitvoeringen eigen dienst]]*Ruimtestaat[[#This Row],[Eigen dienst]] -> 11750 | AB58: =IF(Z58>0,Ruimtestaat[[#This Row],[Prest. (m2 /jaar) eigen dienst]]/Ruimtestaat[[#This Row],[Norm (m2/uur) werkdagen]],0) -> 0 | AC58: =Ruimtestaat[[#This Row],[uren / jaar eigen dienst]]*Tariefsopbouw!$D$38 -> 0
A59: 1 | B59: =VLOOKUP(Ruimtestaat[[#This Row],[Code]],Locaties[#All],2,FALSE) -> Het Kofschip & Lindenhage | C59: =VLOOKUP(Ruimtestaat[[#This Row],[Code]],Locaties[#All],4,FALSE) -> Platanenlaan 1 | D59: =VLOOKUP(Ruimtestaat[[#This Row],[Code]],Locaties[#All],5,FALSE) -> 6903 DK | E59: =VLOOKUP(Ruimtestaat[[#This Row],[Code]],Locaties[#All],6,FALSE) -> Zevenaar | F59: Peuterspeelzaal | G59: bg | H59: 1.93 | I59: centrale hal P | J59: 12 | K59: =VLOOKUP(Ruimtestaat[[#This Row],[Ruimte code]],Ruimtegroepen[[#All],[Code]:[Ruimte omschrijving]],2,FALSE) -> kantine/multifunctionel ruimte | L59: L | M59: marmoleum | N59: 244.19 | Q59: =VLOOKUP(Ruimtestaat[[#This Row],[Ruimte code]],Ruimtegroepen[],4,FALSE) -> V (Verkeersruimte) | R59: 40 | S59: 5w | T59: =IF(R59>0,IF(RIGHT(Ruimtestaat[[#This Row],[Frequentie werkdagen]],1)="w",VALUE(LEFT(Ruimtestaat[[#This Row],[Frequentie werkdagen]],(LEN(Ruimtestaat[[#This Row],[Frequentie werkdagen]])-1))*Ruimtestaat[[#This Row],[Aantal weken/jr]]),IF(RIGHT(Ruimtestaat[[#This Row],[Frequentie werkdagen]],1)="m",VALUE(LEFT(Ruimtestaat[[#This Row],[Frequentie werkdagen]],LEN(Ruimtestaat[[#This Row],[Frequentie werkdagen]])-1)*12),VALUE(LEFT(Ruimtestaat[[#This Row],[Frequentie werkdagen]],(LEN(Ruimtestaat[[#This Row],[Frequentie werkdagen]])-1))))),0) -> 200 | U59: =IF(T59>0,VLOOKUP($J59,Ruimtegroepen[],3,FALSE)*VLOOKUP($L59,Vloersoorten[],3,FALSE)*VLOOKUP($S59,Frequenties[],3,FALSE)*VLOOKUP($A59,Locaties[],3,FALSE),0) -> 0 | V59: =Ruimtestaat[[#This Row],[Uitvoeringen werkdagen]]*Ruimtestaat[[#This Row],[Oppervlak (netto)]] -> 48838 | W59: =IF(U59>0,Ruimtestaat[[#This Row],[Prest. (m2 /jaar) werkdagen]]/Ruimtestaat[[#This Row],[Norm (m2/uur) werkdagen]],0) -> 0 | X59: =Ruimtestaat[[#This Row],[uren / jaar werkdagen]]*Tariefsopbouw!$D$38 -> 0 | Y59: =IF(Ruimtestaat[[#This Row],[Frequentie werkdagen]]>0,VALUE(LEFT(S59,1))*R59,0) -> 200 | Z59: =IF($Y59>0,VLOOKUP($J59,Ruimtegroepen[],3,FALSE)*VLOOKUP($L59,Vloersoorten[],3,FALSE)*VLOOKUP($S59,Frequenties[],3,FALSE)*VLOOKUP($A59,Locaties[],3,FALSE),0) -> 0 | AA59: =Ruimtestaat[[#This Row],[Uitvoeringen eigen dienst]]*Ruimtestaat[[#This Row],[Eigen dienst]] -> 0 | AB59: =IF(Z59>0,Ruimtestaat[[#This Row],[Prest. (m2 /jaar) eigen dienst]]/Ruimtestaat[[#This Row],[Norm (m2/uur) werkdagen]],0) -> 0 | AC59: =Ruimtestaat[[#This Row],[uren / jaar eigen dienst]]*Tariefsopbouw!$D$38 -> 0
A60: 1 | B60: =VLOOKUP(Ruimtestaat[[#This Row],[Code]],Locaties[#All],2,FALSE) -> Het Kofschip & Lindenhage | C60: =VLOOKUP(Ruimtestaat[[#This Row],[Code]],Locaties[#All],4,FALSE) -> Platanenlaan 1 | D60: =VLOOKUP(Ruimtestaat[[#This Row],[Code]],Locaties[#All],5,FALSE) -> 6903 DK | E60: =VLOOKUP(Ruimtestaat[[#This Row],[Code]],Locaties[#All],6,FALSE) -> Zevenaar | F60: Peuterspeelzaal | G60: bg | H60: 1.82 | I60: peuterspeelzaal P1 | J60: 11 | K60: =VLOOKUP(Ruimtestaat[[#This Row],[Ruimte code]],Ruimtegroepen[[#All],[Code]:[Ruimte omschrijving]],2,FALSE) -> speellokaal | L60: L | M60: marmoleum | N60: 66.76 | Q60: =VLOOKUP(Ruimtestaat[[#This Row],[Ruimte code]],Ruimtegroepen[],4,FALSE) -> L (Lesruimte) | R60: 40 | S60: 5w | T60: =IF(R60>0,IF(RIGHT(Ruimtestaat[[#This Row],[Frequentie werkdagen]],1)="w",VALUE(LEFT(Ruimtestaat[[#This Row],[Frequentie werkdagen]],(LEN(Ruimtestaat[[#This Row],[Frequentie werkdagen]])-1))*Ruimtestaat[[#This Row],[Aantal weken/jr]]),IF(RIGHT(Ruimtestaat[[#This Row],[Frequentie werkdagen]],1)="m",VALUE(LEFT(Ruimtestaat[[#This Row],[Frequentie werkdagen]],LEN(Ruimtestaat[[#This Row],[Frequentie werkdagen]])-1)*12),VALUE(LEFT(Ruimtestaat[[#This Row],[Frequentie werkdagen]],(LEN(Ruimtestaat[[#This Row],[Frequentie werkdagen]])-1))))),0) -> 200 | U60: =IF(T60>0,VLOOKUP($J60,Ruimtegroepen[],3,FALSE)*VLOOKUP($L60,Vloersoorten[],3,FALSE)*VLOOKUP($S60,Frequenties[],3,FALSE)*VLOOKUP($A60,Locaties[],3,FALSE),0) -> 0 | V60: =Ruimtestaat[[#This Row],[Uitvoeringen werkdagen]]*Ruimtestaat[[#This Row],[Oppervlak (netto)]] -> 13352 | W60: =IF(U60>0,Ruimtestaat[[#This Row],[Prest. (m2 /jaar) werkdagen]]/Ruimtestaat[[#This Row],[Norm (m2/uur) werkdagen]],0) -> 0 | X60: =Ruimtestaat[[#This Row],[uren / jaar werkdagen]]*Tariefsopbouw!$D$38 -> 0 | Y60: =IF(Ruimtestaat[[#This Row],[Frequentie werkdagen]]>0,VALUE(LEFT(S60,1))*R60,0) -> 200 | Z60: =IF($Y60>0,VLOOKUP($J60,Ruimtegroepen[],3,FALSE)*VLOOKUP($L60,Vloersoorten[],3,FALSE)*VLOOKUP($S60,Frequenties[],3,FALSE)*VLOOKUP($A60,Locaties[],3,FALSE),0) -> 0 | AA60: =Ruimtestaat[[#This Row],[Uitvoeringen eigen dienst]]*Ruimtestaat[[#This Row],[Eigen dienst]] -> 0 | AB60: =IF(Z60>0,Ruimtestaat[[#This Row],[Prest. (m2 /jaar) eigen dienst]]/Ruimtestaat[[#This Row],[Norm (m2/uur) werkdagen]],0) -> 0 | AC60: =Ruimtestaat[[#This Row],[uren / jaar eigen dienst]]*Tariefsopbouw!$D$38 -> 0
A61: 1 | B61: =VLOOKUP(Ruimtestaat[[#This Row],[Code]],Locaties[#All],2,FALSE) -> Het Kofschip & Lindenhage | C61: =VLOOKUP(Ruimtestaat[[#This Row],[Code]],Locaties[#All],4,FALSE) -> Platanenlaan 1 | D61: =VLOOKUP(Ruimtestaat[[#This Row],[Code]],Locaties[#All],5,FALSE) -> 6903 DK | E61: =VLOOKUP(Ruimtestaat[[#This Row],[Code]],Locaties[#All],6,FALSE) -> Zevenaar | F61: Peuterspeelzaal | G61: bg | H61: 1.91 | I61: tochtportaal P1 | J61: 7 | K61: =VLOOKUP(Ruimtestaat[[#This Row],[Ruimte code]],Ruimtegroepen[[#All],[Code]:[Ruimte omschrijving]],2,FALSE) -> Entree | L61: T | M61: schoonloopmat | N61: 6.31 | Q61: =VLOOKUP(Ruimtestaat[[#This Row],[Ruimte code]],Ruimtegroepen[],4,FALSE) -> V (Verkeersruimte) | R61: 40 | S61: 5w | T61: =IF(R61>0,IF(RIGHT(Ruimtestaat[[#This Row],[Frequentie werkdagen]],1)="w",VALUE(LEFT(Ruimtestaat[[#This Row],[Frequentie werkdagen]],(LEN(Ruimtestaat[[#This Row],[Frequentie werkdagen]])-1))*Ruimtestaat[[#This Row],[Aantal weken/jr]]),IF(RIGHT(Ruimtestaat[[#This Row],[Frequentie werkdagen]],1)="m",VALUE(LEFT(Ruimtestaat[[#This Row],[Frequentie werkdagen]],LEN(Ruimtestaat[[#This Row],[Frequentie werkdagen]])-1)*12),VALUE(LEFT(Ruimtestaat[[#This Row],[Frequentie werkdagen]],(LEN(Ruimtestaat[[#This Row],[Frequentie werkdagen]])-1))))),0) -> 200 | U61: =IF(T61>0,VLOOKUP($J61,Ruimtegroepen[],3,FALSE)*VLOOKUP($L61,Vloersoorten[],3,FALSE)*VLOOKUP($S61,Frequenties[],3,FALSE)*VLOOKUP($A61,Locaties[],3,FALSE),0) -> 0 | V61: =Ruimtestaat[[#This Row],[Uitvoeringen werkdagen]]*Ruimtestaat[[#This Row],[Oppervlak (netto)]] -> 1262 | W61: =IF(U61>0,Ruimtestaat[[#This Row],[Prest. (m2 /jaar) werkdagen]]/Ruimtestaat[[#This Row],[Norm (m2/uur) werkdagen]],0) -> 0 | X61: =Ruimtestaat[[#This Row],[uren / jaar werkdagen]]*Tariefsopbouw!$D$38 -> 0 | Y61: =IF(Ruimtestaat[[#This Row],[Frequentie werkdagen]]>0,VALUE(LEFT(S61,1))*R61,0) -> 200 | Z61: =IF($Y61>0,VLOOKUP($J61,Ruimtegroepen[],3,FALSE)*VLOOKUP($L61,Vloersoorten[],3,FALSE)*VLOOKUP($S61,Frequenties[],3,FALSE)*VLOOKUP($A61,Locaties[],3,FALSE),0) -> 0 | AA61: =Ruimtestaat[[#This Row],[Uitvoeringen eigen dienst]]*Ruimtestaat[[#This Row],[Eigen dienst]] -> 0 | AB61: =IF(Z61>0,Ruimtestaat[[#This Row],[Prest. (m2 /jaar) eigen dienst]]/Ruimtestaat[[#This Row],[Norm (m2/uur) werkdagen]],0) -> 0 | AC61: =Ruimtestaat[[#This Row],[uren / jaar eigen dienst]]*Tariefsopbouw!$D$38 -> 0
A62: 1 | B62: =VLOOKUP(Ruimtestaat[[#This Row],[Code]],Locaties[#All],2,FALSE) -> Het Kofschip & Lindenhage | C62: =VLOOKUP(Ruimtestaat[[#This Row],[Code]],Locaties[#All],4,FALSE) -> Platanenlaan 1 | D62: =VLOOKUP(Ruimtestaat[[#This Row],[Code]],Locaties[#All],5,FALSE) -> 6903 DK | E62: =VLOOKUP(Ruimtestaat[[#This Row],[Code]],Locaties[#All],6,FALSE) -> Zevenaar | F62: Peuterspeelzaal | G62: bg | H62: 1.84 | I62: slaapkr P1 | J62: 8 | K62: =VLOOKUP(Ruimtestaat[[#This Row],[Ruimte code]],Ruimtegroepen[[#All],[Code]:[Ruimte omschrijving]],2,FALSE) -> slaapkamer | L62: L | M62: marmoleum | N62: 11.69 | Q62: =VLOOKUP(Ruimtestaat[[#This Row],[Ruimte code]],Ruimtegroepen[],4,FALSE) -> L (Lesruimte) | R62: 40 | S62: 5w | T62: =IF(R62>0,IF(RIGHT(Ruimtestaat[[#This Row],[Frequentie werkdagen]],1)="w",VALUE(LEFT(Ruimtestaat[[#This Row],[Frequentie werkdagen]],(LEN(Ruimtestaat[[#This Row],[Frequentie werkdagen]])-1))*Ruimtestaat[[#This Row],[Aantal weken/jr]]),IF(RIGHT(Ruimtestaat[[#This Row],[Frequentie werkdagen]],1)="m",VALUE(LEFT(Ruimtestaat[[#This Row],[Frequentie werkdagen]],LEN(Ruimtestaat[[#This Row],[Frequentie werkdagen]])-1)*12),VALUE(LEFT(Ruimtestaat[[#This Row],[Frequentie werkdagen]],(LEN(Ruimtestaat[[#This Row],[Frequentie werkdagen]])-1))))),0) -> 200 | U62: =IF(T62>0,VLOOKUP($J62,Ruimtegroepen[],3,FALSE)*VLOOKUP($L62,Vloersoorten[],3,FALSE)*VLOOKUP($S62,Frequenties[],3,FALSE)*VLOOKUP($A62,Locaties[],3,FALSE),0) -> 0 | V62: =Ruimtestaat[[#This Row],[Uitvoeringen werkdagen]]*Ruimtestaat[[#This Row],[Oppervlak (netto)]] -> 2338 | W62: =IF(U62>0,Ruimtestaat[[#This Row],[Prest. (m2 /jaar) werkdagen]]/Ruimtestaat[[#This Row],[Norm (m2/uur) werkdagen]],0) -> 0 | X62: =Ruimtestaat[[#This Row],[uren / jaar werkdagen]]*Tariefsopbouw!$D$38 -> 0 | Y62: =IF(Ruimtestaat[[#This Row],[Frequentie werkdagen]]>0,VALUE(LEFT(S62,1))*R62,0) -> 200 | Z62: =IF($Y62>0,VLOOKUP($J62,Ruimtegroepen[],3,FALSE)*VLOOKUP($L62,Vloersoorten[],3,FALSE)*VLOOKUP($S62,Frequenties[],3,FALSE)*VLOOKUP($A62,Locaties[],3,FALSE),0) -> 0 | AA62: =Ruimtestaat[[#This Row],[Uitvoeringen eigen dienst]]*Ruimtestaat[[#This Row],[Eigen dienst]] -> 0 | AB62: =IF(Z62>0,Ruimtestaat[[#This Row],[Prest. (m2 /jaar) eigen dienst]]/Ruimtestaat[[#This Row],[Norm (m2/uur) werkdagen]],0) -> 0 | AC62: =Ruimtestaat[[#This Row],[uren / jaar eigen dienst]]*Tariefsopbouw!$D$38 -> 0
A63: 1 | B63: =VLOOKUP(Ruimtestaat[[#This Row],[Code]],Locaties[#All],2,FALSE) -> Het Kofschip & Lindenhage | C63: =VLOOKUP(Ruimtestaat[[#This Row],[Code]],Locaties[#All],4,FALSE) -> Platanenlaan 1 | D63: =VLOOKUP(Ruimtestaat[[#This Row],[Code]],Locaties[#All],5,FALSE) -> 6903 DK | E63: =VLOOKUP(Ruimtestaat[[#This Row],[Code]],Locaties[#All],6,FALSE) -> Zevenaar | F63: Peuterspeelzaal | G63: bg | H63: 1.86 | I63: berging P1 | J63: 1 | K63: =VLOOKUP(Ruimtestaat[[#This Row],[Ruimte code]],Ruimtegroepen[[#All],[Code]:[Ruimte omschrijving]],2,FALSE) -> Magazijnen/bergingen | L63: L | M63: marmoleum | N63: 6.59 | Q63: =VLOOKUP(Ruimtestaat[[#This Row],[Ruimte code]],Ruimtegroepen[],4,FALSE) -> V (Verkeersruimte) | R63: 40 | S63: 1m | T63: =IF(R63>0,IF(RIGHT(Ruimtestaat[[#This Row],[Frequentie werkdagen]],1)="w",VALUE(LEFT(Ruimtestaat[[#This Row],[Frequentie werkdagen]],(LEN(Ruimtestaat[[#This Row],[Frequentie werkdagen]])-1))*Ruimtestaat[[#This Row],[Aantal weken/jr]]),IF(RIGHT(Ruimtestaat[[#This Row],[Frequentie werkdagen]],1)="m",VALUE(LEFT(Ruimtestaat[[#This Row],[Frequentie werkdagen]],LEN(Ruimtestaat[[#This Row],[Frequentie werkdagen]])-1)*12),VALUE(LEFT(Ruimtestaat[[#This Row],[Frequentie werkdagen]],(LEN(Ruimtestaat[[#This Row],[Frequentie werkdagen]])-1))))),0) -> 12 | U63: =IF(T63>0,VLOOKUP($J63,Ruimtegroepen[],3,FALSE)*VLOOKUP($L63,Vloersoorten[],3,FALSE)*VLOOKUP($S63,Frequenties[],3,FALSE)*VLOOKUP($A63,Locaties[],3,FALSE),0) -> 0 | V63: =Ruimtestaat[[#This Row],[Uitvoeringen werkdagen]]*Ruimtestaat[[#This Row],[Oppervlak (netto)]] -> 79.08 | W63: =IF(U63>0,Ruimtestaat[[#This Row],[Prest. (m2 /jaar) werkdagen]]/Ruimtestaat[[#This Row],[Norm (m2/uur) werkdagen]],0) -> 0 | X63: =Ruimtestaat[[#This Row],[uren / jaar werkdagen]]*Tariefsopbouw!$D$38 -> 0 | Y63: =IF(Ruimtestaat[[#This Row],[Frequentie werkdagen]]>0,VALUE(LEFT(S63,1))*R63,0) -> 40 | Z63: =IF($Y63>0,VLOOKUP($J63,Ruimtegroepen[],3,FALSE)*VLOOKUP($L63,Vloersoorten[],3,FALSE)*VLOOKUP($S63,Frequenties[],3,FALSE)*VLOOKUP($A63,Locaties[],3,FALSE),0) -> 0 | AA63: =Ruimtestaat[[#This Row],[Uitvoeringen eigen dienst]]*Ruimtestaat[[#This Row],[Eigen dienst]] -> 0 | AB63: =IF(Z63>0,Ruimtestaat[[#This Row],[Prest. (m2 /jaar) eigen dienst]]/Ruimtestaat[[#This Row],[Norm (m2/uur) werkdagen]],0) -> 0 | AC63: =Ruimtestaat[[#This Row],[uren / jaar eigen dienst]]*Tariefsopbouw!$D$38 -> 0
A64: 1 | B64: =VLOOKUP(Ruimtestaat[[#This Row],[Code]],Locaties[#All],2,FALSE) -> Het Kofschip & Lindenhage | C64: =VLOOKUP(Ruimtestaat[[#This Row],[Code]],Locaties[#All],4,FALSE) -> Platanenlaan 1 | D64: =VLOOKUP(Ruimtestaat[[#This Row],[Code]],Locaties[#All],5,FALSE) -> 6903 DK | E64: =VLOOKUP(Ruimtestaat[[#This Row],[Code]],Locaties[#All],6,FALSE) -> Zevenaar | F64: Peuterspeelzaal | G64: bg | H64: 1.88 | I64: verschoon P1 | J64: 5 | K64: =VLOOKUP(Ruimtestaat[[#This Row],[Ruimte code]],Ruimtegroepen[[#All],[Code]:[Ruimte omschrijving]],2,FALSE) -> Sanitair | L64: S | M64: sure step | N64: 8.66 | Q64: =VLOOKUP(Ruimtestaat[[#This Row],[Ruimte code]],Ruimtegroepen[],4,FALSE) -> S (Sanitair) | R64: 40 | S64: 5w | T64: =IF(R64>0,IF(RIGHT(Ruimtestaat[[#This Row],[Frequentie werkdagen]],1)="w",VALUE(LEFT(Ruimtestaat[[#This Row],[Frequentie werkdagen]],(LEN(Ruimtestaat[[#This Row],[Frequentie werkdagen]])-1))*Ruimtestaat[[#This Row],[Aantal weken/jr]]),IF(RIGHT(Ruimtestaat[[#This Row],[Frequentie werkdagen]],1)="m",VALUE(LEFT(Ruimtestaat[[#This Row],[Frequentie werkdagen]],LEN(Ruimtestaat[[#This Row],[Frequentie werkdagen]])-1)*12),VALUE(LEFT(Ruimtestaat[[#This Row],[Frequentie werkdagen]],(LEN(Ruimtestaat[[#This Row],[Frequentie werkdagen]])-1))))),0) -> 200 | U64: =IF(T64>0,VLOOKUP($J64,Ruimtegroepen[],3,FALSE)*VLOOKUP($L64,Vloersoorten[],3,FALSE)*VLOOKUP($S64,Frequenties[],3,FALSE)*VLOOKUP($A64,Locaties[],3,FALSE),0) -> 0 | V64: =Ruimtestaat[[#This Row],[Uitvoeringen werkdagen]]*Ruimtestaat[[#This Row],[Oppervlak (netto)]] -> 1732 | W64: =IF(U64>0,Ruimtestaat[[#This Row],[Prest. (m2 /jaar) werkdagen]]/Ruimtestaat[[#This Row],[Norm (m2/uur) werkdagen]],0) -> 0 | X64: =Ruimtestaat[[#This Row],[uren / jaar werkdagen]]*Tariefsopbouw!$D$38 -> 0 | Y64: =IF(Ruimtestaat[[#This Row],[Frequentie werkdagen]]>0,VALUE(LEFT(S64,1))*R64,0) -> 200 | Z64: =IF($Y64>0,VLOOKUP($J64,Ruimtegroepen[],3,FALSE)*VLOOKUP($L64,Vloersoorten[],3,FALSE)*VLOOKUP($S64,Frequenties[],3,FALSE)*VLOOKUP($A64,Locaties[],3,FALSE),0) -> 0 | AA64: =Ruimtestaat[[#This Row],[Uitvoeringen eigen dienst]]*Ruimtestaat[[#This Row],[Eigen dienst]] -> 0 | AB64: =IF(Z64>0,Ruimtestaat[[#This Row],[Prest. (m2 /jaar) eigen dienst]]/Ruimtestaat[[#This Row],[Norm (m2/uur) werkdagen]],0) -> 0 | AC64: =Ruimtestaat[[#This Row],[uren / jaar eigen dienst]]*Tariefsopbouw!$D$38 -> 0
A65: 1 | B65: =VLOOKUP(Ruimtestaat[[#This Row],[Code]],Locaties[#All],2,FALSE) -> Het Kofschip & Lindenhage | C65: =VLOOKUP(Ruimtestaat[[#This Row],[Code]],Locaties[#All],4,FALSE) -> Platanenlaan 1 | D65: =VLOOKUP(Ruimtestaat[[#This Row],[Code]],Locaties[#All],5,FALSE) -> 6903 DK | E65: =VLOOKUP(Ruimtestaat[[#This Row],[Code]],Locaties[#All],6,FALSE) -> Zevenaar | F65: Peuterspeelzaal | G65: bg | H65: 1.88 | I65: verschoon P1 | J65: 5 | K65: =VLOOKUP(Ruimtestaat[[#This Row],[Ruimte code]],Ruimtegroepen[[#All],[Code]:[Ruimte omschrijving]],2,FALSE) -> Sanitair | L65: S | M65: sure step | N65: 8.67 | Q65: =VLOOKUP(Ruimtestaat[[#This Row],[Ruimte code]],Ruimtegroepen[],4,FALSE) -> S (Sanitair) | R65: 40 | S65: 5w | T65: =IF(R65>0,IF(RIGHT(Ruimtestaat[[#This Row],[Frequentie werkdagen]],1)="w",VALUE(LEFT(Ruimtestaat[[#This Row],[Frequentie werkdagen]],(LEN(Ruimtestaat[[#This Row],[Frequentie werkdagen]])-1))*Ruimtestaat[[#This Row],[Aantal weken/jr]]),IF(RIGHT(Ruimtestaat[[#This Row],[Frequentie werkdagen]],1)="m",VALUE(LEFT(Ruimtestaat[[#This Row],[Frequentie werkdagen]],LEN(Ruimtestaat[[#This Row],[Frequentie werkdagen]])-1)*12),VALUE(LEFT(Ruimtestaat[[#This Row],[Frequentie werkdagen]],(LEN(Ruimtestaat[[#This Row],[Frequentie werkdagen]])-1))))),0) -> 200 | U65: =IF(T65>0,VLOOKUP($J65,Ruimtegroepen[],3,FALSE)*VLOOKUP($L65,Vloersoorten[],3,FALSE)*VLOOKUP($S65,Frequenties[],3,FALSE)*VLOOKUP($A65,Locaties[],3,FALSE),0) -> 0 | V65: =Ruimtestaat[[#This Row],[Uitvoeringen werkdagen]]*Ruimtestaat[[#This Row],[Oppervlak (netto)]] -> 1734 | W65: =IF(U65>0,Ruimtestaat[[#This Row],[Prest. (m2 /jaar) werkdagen]]/Ruimtestaat[[#This Row],[Norm (m2/uur) werkdagen]],0) -> 0 | X65: =Ruimtestaat[[#This Row],[uren / jaar werkdagen]]*Tariefsopbouw!$D$38 -> 0 | Y65: =IF(Ruimtestaat[[#This Row],[Frequentie werkdagen]]>0,VALUE(LEFT(S65,1))*R65,0) -> 200 | Z65: =IF($Y65>0,VLOOKUP($J65,Ruimtegroepen[],3,FALSE)*VLOOKUP($L65,Vloersoorten[],3,FALSE)*VLOOKUP($S65,Frequenties[],3,FALSE)*VLOOKUP($A65,Locaties[],3,FALSE),0) -> 0 | AA65: =Ruimtestaat[[#This Row],[Uitvoeringen eigen dienst]]*Ruimtestaat[[#This Row],[Eigen dienst]] -> 0 | AB65: =IF(Z65>0,Ruimtestaat[[#This Row],[Prest. (m2 /jaar) eigen dienst]]/Ruimtestaat[[#This Row],[Norm (m2/uur) werkdagen]],0) -> 0 | AC65: =Ruimtestaat[[#This Row],[uren / jaar eigen dienst]]*Tariefsopbouw!$D$38 -> 0
A66: 1 | B66: =VLOOKUP(Ruimtestaat[[#This Row],[Code]],Locaties[#All],2,FALSE) -> Het Kofschip & Lindenhage | C66: =VLOOKUP(Ruimtestaat[[#This Row],[Code]],Locaties[#All],4,FALSE) -> Platanenlaan 1 | D66: =VLOOKUP(Ruimtestaat[[#This Row],[Code]],Locaties[#All],5,FALSE) -> 6903 DK | E66: =VLOOKUP(Ruimtestaat[[#This Row],[Code]],Locaties[#All],6,FALSE) -> Zevenaar | F66: Peuterspeelzaal | G66: bg | H66: 1.87 | I66: berging P2 | J66: 1 | K66: =VLOOKUP(Ruimtestaat[[#This Row],[Ruimte code]],Ruimtegroepen[[#All],[Code]:[Ruimte omschrijving]],2,FALSE) -> Magazijnen/bergingen | L66: L | M66: marmoleum | N66: 6.59 | Q66: =VLOOKUP(Ruimtestaat[[#This Row],[Ruimte code]],Ruimtegroepen[],4,FALSE) -> V (Verkeersruimte) | R66: 40 | S66: 1m | T66: =IF(R66>0,IF(RIGHT(Ruimtestaat[[#This Row],[Frequentie werkdagen]],1)="w",VALUE(LEFT(Ruimtestaat[[#This Row],[Frequentie werkdagen]],(LEN(Ruimtestaat[[#This Row],[Frequentie werkdagen]])-1))*Ruimtestaat[[#This Row],[Aantal weken/jr]]),IF(RIGHT(Ruimtestaat[[#This Row],[Frequentie werkdagen]],1)="m",VALUE(LEFT(Ruimtestaat[[#This Row],[Frequentie werkdagen]],LEN(Ruimtestaat[[#This Row],[Frequentie werkdagen]])-1)*12),VALUE(LEFT(Ruimtestaat[[#This Row],[Frequentie werkdagen]],(LEN(Ruimtestaat[[#This Row],[Frequentie werkdagen]])-1))))),0) -> 12 | U66: =IF(T66>0,VLOOKUP($J66,Ruimtegroepen[],3,FALSE)*VLOOKUP($L66,Vloersoorten[],3,FALSE)*VLOOKUP($S66,Frequenties[],3,FALSE)*VLOOKUP($A66,Locaties[],3,FALSE),0) -> 0 | V66: =Ruimtestaat[[#This Row],[Uitvoeringen werkdagen]]*Ruimtestaat[[#This Row],[Oppervlak (netto)]] -> 79.08 | W66: =IF(U66>0,Ruimtestaat[[#This Row],[Prest. (m2 /jaar) werkdagen]]/Ruimtestaat[[#This Row],[Norm (m2/uur) werkdagen]],0) -> 0 | X66: =Ruimtestaat[[#This Row],[uren / jaar werkdagen]]*Tariefsopbouw!$D$38 -> 0 | Y66: =IF(Ruimtestaat[[#This Row],[Frequentie werkdagen]]>0,VALUE(LEFT(S66,1))*R66,0) -> 40 | Z66: =IF($Y66>0,VLOOKUP($J66,Ruimtegroepen[],3,FALSE)*VLOOKUP($L66,Vloersoorten[],3,FALSE)*VLOOKUP($S66,Frequenties[],3,FALSE)*VLOOKUP($A66,Locaties[],3,FALSE),0) -> 0 | AA66: =Ruimtestaat[[#This Row],[Uitvoeringen eigen dienst]]*Ruimtestaat[[#This Row],[Eigen dienst]] -> 0 | AB66: =IF(Z66>0,Ruimtestaat[[#This Row],[Prest. (m2 /jaar) eigen dienst]]/Ruimtestaat[[#This Row],[Norm (m2/uur) werkdagen]],0) -> 0 | AC66: =Ruimtestaat[[#This Row],[uren / jaar eigen dienst]]*Tariefsopbouw!$D$38 -> 0
A67: 1 | B67: =VLOOKUP(Ruimtestaat[[#This Row],[Code]],Locaties[#All],2,FALSE) -> Het Kofschip & Lindenhage | C67: =VLOOKUP(Ruimtestaat[[#This Row],[Code]],Locaties[#All],4,FALSE) -> Platanenlaan 1 | D67: =VLOOKUP(Ruimtestaat[[#This Row],[Code]],Locaties[#All],5,FALSE) -> 6903 DK | E67: =VLOOKUP(Ruimtestaat[[#This Row],[Code]],Locaties[#All],6,FALSE) -> Zevenaar | F67: Peuterspeelzaal | G67: bg | H67: 1.83 | I67: peuterspeelzaal P2 | J67: 11 | K67: =VLOOKUP(Ruimtestaat[[#This Row],[Ruimte code]],Ruimtegroepen[[#All],[Code]:[Ruimte omschrijving]],2,FALSE) -> speellokaal | L67: L | M67: marmoleum | N67: 60.88 | Q67: =VLOOKUP(Ruimtestaat[[#This Row],[Ruimte code]],Ruimtegroepen[],4,FALSE) -> L (Lesruimte) | R67: 40 | S67: 5w | T67: =IF(R67>0,IF(RIGHT(Ruimtestaat[[#This Row],[Frequentie werkdagen]],1)="w",VALUE(LEFT(Ruimtestaat[[#This Row],[Frequentie werkdagen]],(LEN(Ruimtestaat[[#This Row],[Frequentie werkdagen]])-1))*Ruimtestaat[[#This Row],[Aantal weken/jr]]),IF(RIGHT(Ruimtestaat[[#This Row],[Frequentie werkdagen]],1)="m",VALUE(LEFT(Ruimtestaat[[#This Row],[Frequentie werkdagen]],LEN(Ruimtestaat[[#This Row],[Frequentie werkdagen]])-1)*12),VALUE(LEFT(Ruimtestaat[[#This Row],[Frequentie werkdagen]],(LEN(Ruimtestaat[[#This Row],[Frequentie werkdagen]])-1))))),0) -> 200 | U67: =IF(T67>0,VLOOKUP($J67,Ruimtegroepen[],3,FALSE)*VLOOKUP($L67,Vloersoorten[],3,FALSE)*VLOOKUP($S67,Frequenties[],3,FALSE)*VLOOKUP($A67,Locaties[],3,FALSE),0) -> 0 | V67: =Ruimtestaat[[#This Row],[Uitvoeringen werkdagen]]*Ruimtestaat[[#This Row],[Oppervlak (netto)]] -> 12176 | W67: =IF(U67>0,Ruimtestaat[[#This Row],[Prest. (m2 /jaar) werkdagen]]/Ruimtestaat[[#This Row],[Norm (m2/uur) werkdagen]],0) -> 0 | X67: =Ruimtestaat[[#This Row],[uren / jaar werkdagen]]*Tariefsopbouw!$D$38 -> 0 | Y67: =IF(Ruimtestaat[[#This Row],[Frequentie werkdagen]]>0,VALUE(LEFT(S67,1))*R67,0) -> 200 | Z67: =IF($Y67>0,VLOOKUP($J67,Ruimtegroepen[],3,FALSE)*VLOOKUP($L67,Vloersoorten[],3,FALSE)*VLOOKUP($S67,Frequenties[],3,FALSE)*VLOOKUP($A67,Locaties[],3,FALSE),0) -> 0 | AA67: =Ruimtestaat[[#This Row],[Uitvoeringen eigen dienst]]*Ruimtestaat[[#This Row],[Eigen dienst]] -> 0 | AB67: =IF(Z67>0,Ruimtestaat[[#This Row],[Prest. (m2 /jaar) eigen dienst]]/Ruimtestaat[[#This Row],[Norm (m2/uur) werkdagen]],0) -> 0 | AC67: =Ruimtestaat[[#This Row],[uren / jaar eigen dienst]]*Tariefsopbouw!$D$38 -> 0
A68: 1 | B68: =VLOOKUP(Ruimtestaat[[#This Row],[Code]],Locaties[#All],2,FALSE) -> Het Kofschip & Lindenhage | C68: =VLOOKUP(Ruimtestaat[[#This Row],[Code]],Locaties[#All],4,FALSE) -> Platanenlaan 1 | D68: =VLOOKUP(Ruimtestaat[[#This Row],[Code]],Locaties[#All],5,FALSE) -> 6903 DK | E68: =VLOOKUP(Ruimtestaat[[#This Row],[Code]],Locaties[#All],6,FALSE) -> Zevenaar | F68: Peuterspeelzaal | G68: bg | H68: 1.92 | I68: tochtportaal P2 | J68: 7 | K68: =VLOOKUP(Ruimtestaat[[#This Row],[Ruimte code]],Ruimtegroepen[[#All],[Code]:[Ruimte omschrijving]],2,FALSE) -> Entree | L68: T | M68: schoonloopmat | N68: 5.18 | Q68: =VLOOKUP(Ruimtestaat[[#This Row],[Ruimte code]],Ruimtegroepen[],4,FALSE) -> V (Verkeersruimte) | R68: 40 | S68: 5w | T68: =IF(R68>0,IF(RIGHT(Ruimtestaat[[#This Row],[Frequentie werkdagen]],1)="w",VALUE(LEFT(Ruimtestaat[[#This Row],[Frequentie werkdagen]],(LEN(Ruimtestaat[[#This Row],[Frequentie werkdagen]])-1))*Ruimtestaat[[#This Row],[Aantal weken/jr]]),IF(RIGHT(Ruimtestaat[[#This Row],[Frequentie werkdagen]],1)="m",VALUE(LEFT(Ruimtestaat[[#This Row],[Frequentie werkdagen]],LEN(Ruimtestaat[[#This Row],[Frequentie werkdagen]])-1)*12),VALUE(LEFT(Ruimtestaat[[#This Row],[Frequentie werkdagen]],(LEN(Ruimtestaat[[#This Row],[Frequentie werkdagen]])-1))))),0) -> 200 | U68: =IF(T68>0,VLOOKUP($J68,Ruimtegroepen[],3,FALSE)*VLOOKUP($L68,Vloersoorten[],3,FALSE)*VLOOKUP($S68,Frequenties[],3,FALSE)*VLOOKUP($A68,Locaties[],3,FALSE),0) -> 0 | V68: =Ruimtestaat[[#This Row],[Uitvoeringen werkdagen]]*Ruimtestaat[[#This Row],[Oppervlak (netto)]] -> 1036 | W68: =IF(U68>0,Ruimtestaat[[#This Row],[Prest. (m2 /jaar) werkdagen]]/Ruimtestaat[[#This Row],[Norm (m2/uur) werkdagen]],0) -> 0 | X68: =Ruimtestaat[[#This Row],[uren / jaar werkdagen]]*Tariefsopbouw!$D$38 -> 0 | Y68: =IF(Ruimtestaat[[#This Row],[Frequentie werkdagen]]>0,VALUE(LEFT(S68,1))*R68,0) -> 200 | Z68: =IF($Y68>0,VLOOKUP($J68,Ruimtegroepen[],3,FALSE)*VLOOKUP($L68,Vloersoorten[],3,FALSE)*VLOOKUP($S68,Frequenties[],3,FALSE)*VLOOKUP($A68,Locaties[],3,FALSE),0) -> 0 | AA68: =Ruimtestaat[[#This Row],[Uitvoeringen eigen dienst]]*Ruimtestaat[[#This Row],[Eigen dienst]] -> 0 | AB68: =IF(Z68>0,Ruimtestaat[[#This Row],[Prest. (m2 /jaar) eigen dienst]]/Ruimtestaat[[#This Row],[Norm (m2/uur) werkdagen]],0) -> 0 | AC68: =Ruimtestaat[[#This Row],[uren / jaar eigen dienst]]*Tariefsopbouw!$D$38 -> 0
A69: 1 | B69: =VLOOKUP(Ruimtestaat[[#This Row],[Code]],Locaties[#All],2,FALSE) -> Het Kofschip & Lindenhage | C69: =VLOOKUP(Ruimtestaat[[#This Row],[Code]],Locaties[#All],4,FALSE) -> Platanenlaan 1 | D69: =VLOOKUP(Ruimtestaat[[#This Row],[Code]],Locaties[#All],5,FALSE) -> 6903 DK | E69: =VLOOKUP(Ruimtestaat[[#This Row],[Code]],Locaties[#All],6,FALSE) -> Zevenaar | F69: Peuterspeelzaal | G69: bg | H69: 1.84 | I69: slaapkr P1 | J69: 8 | K69: =VLOOKUP(Ruimtestaat[[#This Row],[Ruimte code]],Ruimtegroepen[[#All],[Code]:[Ruimte omschrijving]],2,FALSE) -> slaapkamer | L69: T | M69: schoonloopmat | N69: 11.69 | Q69: =VLOOKUP(Ruimtestaat[[#This Row],[Ruimte code]],Ruimtegroepen[],4,FALSE) -> L (Lesruimte) | R69: 40 | S69: 5w | T69: =IF(R69>0,IF(RIGHT(Ruimtestaat[[#This Row],[Frequentie werkdagen]],1)="w",VALUE(LEFT(Ruimtestaat[[#This Row],[Frequentie werkdagen]],(LEN(Ruimtestaat[[#This Row],[Frequentie werkdagen]])-1))*Ruimtestaat[[#This Row],[Aantal weken/jr]]),IF(RIGHT(Ruimtestaat[[#This Row],[Frequentie werkdagen]],1)="m",VALUE(LEFT(Ruimtestaat[[#This Row],[Frequentie werkdagen]],LEN(Ruimtestaat[[#This Row],[Frequentie werkdagen]])-1)*12),VALUE(LEFT(Ruimtestaat[[#This Row],[Frequentie werkdagen]],(LEN(Ruimtestaat[[#This Row],[Frequentie werkdagen]])-1))))),0) -> 200 | U69: =IF(T69>0,VLOOKUP($J69,Ruimtegroepen[],3,FALSE)*VLOOKUP($L69,Vloersoorten[],3,FALSE)*VLOOKUP($S69,Frequenties[],3,FALSE)*VLOOKUP($A69,Locaties[],3,FALSE),0) -> 0 | V69: =Ruimtestaat[[#This Row],[Uitvoeringen werkdagen]]*Ruimtestaat[[#This Row],[Oppervlak (netto)]] -> 2338 | W69: =IF(U69>0,Ruimtestaat[[#This Row],[Prest. (m2 /jaar) werkdagen]]/Ruimtestaat[[#This Row],[Norm (m2/uur) werkdagen]],0) -> 0 | X69: =Ruimtestaat[[#This Row],[uren / jaar werkdagen]]*Tariefsopbouw!$D$38 -> 0 | Y69: =IF(Ruimtestaat[[#This Row],[Frequentie werkdagen]]>0,VALUE(LEFT(S69,1))*R69,0) -> 200 | Z69: =IF($Y69>0,VLOOKUP($J69,Ruimtegroepen[],3,FALSE)*VLOOKUP($L69,Vloersoorten[],3,FALSE)*VLOOKUP($S69,Frequenties[],3,FALSE)*VLOOKUP($A69,Locaties[],3,FALSE),0) -> 0 | AA69: =Ruimtestaat[[#This Row],[Uitvoeringen eigen dienst]]*Ruimtestaat[[#This Row],[Eigen dienst]] -> 0 | AB69: =IF(Z69>0,Ruimtestaat[[#This Row],[Prest. (m2 /jaar) eigen dienst]]/Ruimtestaat[[#This Row],[Norm (m2/uur) werkdagen]],0) -> 0 | AC69: =Ruimtestaat[[#This Row],[uren / jaar eigen dienst]]*Tariefsopbouw!$D$38 -> 0
A70: 1 | B70: =VLOOKUP(Ruimtestaat[[#This Row],[Code]],Locaties[#All],2,FALSE) -> Het Kofschip & Lindenhage | C70: =VLOOKUP(Ruimtestaat[[#This Row],[Code]],Locaties[#All],4,FALSE) -> Platanenlaan 1 | D70: =VLOOKUP(Ruimtestaat[[#This Row],[Code]],Locaties[#All],5,FALSE) -> 6903 DK | E70: =VLOOKUP(Ruimtestaat[[#This Row],[Code]],Locaties[#All],6,FALSE) -> Zevenaar | F70: Het Kofschip | G70: bg | H70: 1.53 | I70: groepsruimte K1 | J70: 16 | K70: =VLOOKUP(Ruimtestaat[[#This Row],[Ruimte code]],Ruimtegroepen[[#All],[Code]:[Ruimte omschrijving]],2,FALSE) -> Lokaal | L70: T | M70: flotex + marmoleum | N70: 58.7 | Q70: =VLOOKUP(Ruimtestaat[[#This Row],[Ruimte code]],Ruimtegroepen[],4,FALSE) -> L (Lesruimte) | R70: 40 | S70: 5w | T70: =IF(R70>0,IF(RIGHT(Ruimtestaat[[#This Row],[Frequentie werkdagen]],1)="w",VALUE(LEFT(Ruimtestaat[[#This Row],[Frequentie werkdagen]],(LEN(Ruimtestaat[[#This Row],[Frequentie werkdagen]])-1))*Ruimtestaat[[#This Row],[Aantal weken/jr]]),IF(RIGHT(Ruimtestaat[[#This Row],[Frequentie werkdagen]],1)="m",VALUE(LEFT(Ruimtestaat[[#This Row],[Frequentie werkdagen]],LEN(Ruimtestaat[[#This Row],[Frequentie werkdagen]])-1)*12),VALUE(LEFT(Ruimtestaat[[#This Row],[Frequentie werkdagen]],(LEN(Ruimtestaat[[#This Row],[Frequentie werkdagen]])-1))))),0) -> 200 | U70: =IF(T70>0,VLOOKUP($J70,Ruimtegroepen[],3,FALSE)*VLOOKUP($L70,Vloersoorten[],3,FALSE)*VLOOKUP($S70,Frequenties[],3,FALSE)*VLOOKUP($A70,Locaties[],3,FALSE),0) -> 0 | V70: =Ruimtestaat[[#This Row],[Uitvoeringen werkdagen]]*Ruimtestaat[[#This Row],[Oppervlak (netto)]] -> 11740 | W70: =IF(U70>0,Ruimtestaat[[#This Row],[Prest. (m2 /jaar) werkdagen]]/Ruimtestaat[[#This Row],[Norm (m2/uur) werkdagen]],0) -> 0 | X70: =Ruimtestaat[[#This Row],[uren / jaar werkdagen]]*Tariefsopbouw!$D$38 -> 0 | Y70: =IF(Ruimtestaat[[#This Row],[Frequentie werkdagen]]>0,VALUE(LEFT(S70,1))*R70,0) -> 200 | Z70: =IF($Y70>0,VLOOKUP($J70,Ruimtegroepen[],3,FALSE)*VLOOKUP($L70,Vloersoorten[],3,FALSE)*VLOOKUP($S70,Frequenties[],3,FALSE)*VLOOKUP($A70,Locaties[],3,FALSE),0) -> 0 | AA70: =Ruimtestaat[[#This Row],[Uitvoeringen eigen dienst]]*Ruimtestaat[[#This Row],[Eigen dienst]] -> 0 | AB70: =IF(Z70>0,Ruimtestaat[[#This Row],[Prest. (m2 /jaar) eigen dienst]]/Ruimtestaat[[#This Row],[Norm (m2/uur) werkdagen]],0) -> 0 | AC70: =Ruimtestaat[[#This Row],[uren / jaar eigen dienst]]*Tariefsopbouw!$D$38 -> 0
... A75: 1 | B75: =VLOOKUP(Ruimtestaat[[#This Row],[Code]],Locaties[#All],2,FALSE) -> Het Kofschip & Lindenhage | C75: =VLOOKUP(Ruimtestaat[[#This Row],[Code]],Locaties[#All],4,FALSE) -> Platanenlaan 1 | D75: =VLOOKUP(Ruimtestaat[[#This Row],[Code]],Locaties[#All],5,FALSE) -> 6903 DK | E75: =VLOOKUP(Ruimtestaat[[#This Row],[Code]],Locaties[#All],6,FALSE) -> Zevenaar | F75: Het Kofschip | G75: bg | H75: 1.56 | I75: groepsruimte K4 | J75: 16 | K75: =VLOOKUP(Ruimtestaat[[#This Row],[Ruimte code]],Ruimtegroepen[[#All],[Code]:[Ruimte omschrijving]],2,FALSE) -> Lokaal | L75: T | M75: flotex + marmoleum | N75: 59 | Q75: =VLOOKUP(Ruimtestaat[[#This Row],[Ruimte code]],Ruimtegroepen[],4,FALSE) -> L (Lesruimte) | R75: 40 | S75: 5w | T75: =IF(R75>0,IF(RIGHT(Ruimtestaat[[#This Row],[Frequentie werkdagen]],1)="w",VALUE(LEFT(Ruimtestaat[[#This Row],[Frequentie werkdagen]],(LEN(Ruimtestaat[[#This Row],[Frequentie werkdagen]])-1))*Ruimtestaat[[#This Row],[Aantal weken/jr]]),IF(RIGHT(Ruimtestaat[[#This Row],[Frequentie werkdagen]],1)="m",VALUE(LEFT(Ruimtestaat[[#This Row],[Frequentie werkdagen]],LEN(Ruimtestaat[[#This Row],[Frequentie werkdagen]])-1)*12),VALUE(LEFT(Ruimtestaat[[#This Row],[Frequentie werkdagen]],(LEN(Ruimtestaat[[#This Row],[Frequentie werkdagen]])-1))))),0) -> 200 | U75: =IF(T75>0,VLOOKUP($J75,Ruimtegroepen[],3,FALSE)*VLOOKUP($L75,Vloersoorten[],3,FALSE)*VLOOKUP($S75,Frequenties[],3,FALSE)*VLOOKUP($A75,Locaties[],3,FALSE),0) -> 0 | V75: =Ruimtestaat[[#This Row],[Uitvoeringen werkdagen]]*Ruimtestaat[[#This Row],[Oppervlak (netto)]] -> 11800 | W75: =IF(U75>0,Ruimtestaat[[#This Row],[Prest. (m2 /jaar) werkdagen]]/Ruimtestaat[[#This Row],[Norm (m2/uur) werkdagen]],0) -> 0 | X75: =Ruimtestaat[[#This Row],[uren / jaar werkdagen]]*Tariefsopbouw!$D$38 -> 0 | Y75: =IF(Ruimtestaat[[#This Row],[Frequentie werkdagen]]>0,VALUE(LEFT(S75,1))*R75,0) -> 200 | Z75: =IF($Y75>0,VLOOKUP($J75,Ruimtegroepen[],3,FALSE)*VLOOKUP($L75,Vloersoorten[],3,FALSE)*VLOOKUP($S75,Frequenties[],3,FALSE)*VLOOKUP($A75,Locaties[],3,FALSE),0) -> 0 | AA75: =Ruimtestaat[[#This Row],[Uitvoeringen eigen dienst]]*Ruimtestaat[[#This Row],[Eigen dienst]] -> 0 | AB75: =IF(Z75>0,Ruimtestaat[[#This Row],[Prest. (m2 /jaar) eigen dienst]]/Ruimtestaat[[#This Row],[Norm (m2/uur) werkdagen]],0) -> 0 | AC75: =Ruimtestaat[[#This Row],[uren / jaar eigen dienst]]*Tariefsopbouw!$D$38 -> 0
A76: 1 | B76: =VLOOKUP(Ruimtestaat[[#This Row],[Code]],Locaties[#All],2,FALSE) -> Het Kofschip & Lindenhage | C76: =VLOOKUP(Ruimtestaat[[#This Row],[Code]],Locaties[#All],4,FALSE) -> Platanenlaan 1 | D76: =VLOOKUP(Ruimtestaat[[#This Row],[Code]],Locaties[#All],5,FALSE) -> 6903 DK | E76: =VLOOKUP(Ruimtestaat[[#This Row],[Code]],Locaties[#All],6,FALSE) -> Zevenaar | F76: Het Kofschip | G76: bg | H76: 1.81 | I76: werkkast K | J76: 21 | K76: =VLOOKUP(Ruimtestaat[[#This Row],[Ruimte code]],Ruimtegroepen[[#All],[Code]:[Ruimte omschrijving]],2,FALSE) -> Niet in onderhoud | L76: L | M76: marmoleum | O76: 8.73 | Q76: =VLOOKUP(Ruimtestaat[[#This Row],[Ruimte code]],Ruimtegroepen[],4,FALSE) -> Niet in onderhoud | T76: =IF(R76>0,IF(RIGHT(Ruimtestaat[[#This Row],[Frequentie werkdagen]],1)="w",VALUE(LEFT(Ruimtestaat[[#This Row],[Frequentie werkdagen]],(LEN(Ruimtestaat[[#This Row],[Frequentie werkdagen]])-1))*Ruimtestaat[[#This Row],[Aantal weken/jr]]),IF(RIGHT(Ruimtestaat[[#This Row],[Frequentie werkdagen]],1)="m",VALUE(LEFT(Ruimtestaat[[#This Row],[Frequentie werkdagen]],LEN(Ruimtestaat[[#This Row],[Frequentie werkdagen]])-1)*12),VALUE(LEFT(Ruimtestaat[[#This Row],[Frequentie werkdagen]],(LEN(Ruimtestaat[[#This Row],[Frequentie werkdagen]])-1))))),0) -> 0 | U76: =IF(T76>0,VLOOKUP($J76,Ruimtegroepen[],3,FALSE)*VLOOKUP($L76,Vloersoorten[],3,FALSE)*VLOOKUP($S76,Frequenties[],3,FALSE)*VLOOKUP($A76,Locaties[],3,FALSE),0) -> 0 | V76: =Ruimtestaat[[#This Row],[Uitvoeringen werkdagen]]*Ruimtestaat[[#This Row],[Oppervlak (netto)]] -> 0 | W76: =IF(U76>0,Ruimtestaat[[#This Row],[Prest. (m2 /jaar) werkdagen]]/Ruimtestaat[[#This Row],[Norm (m2/uur) werkdagen]],0) -> 0 | X76: =Ruimtestaat[[#This Row],[uren / jaar werkdagen]]*Tariefsopbouw!$D$38 -> 0 | Y76: =IF(Ruimtestaat[[#This Row],[Frequentie werkdagen]]>0,VALUE(LEFT(S76,1))*R76,0) -> 0 | Z76: =IF($Y76>0,VLOOKUP($J76,Ruimtegroepen[],3,FALSE)*VLOOKUP($L76,Vloersoorten[],3,FALSE)*VLOOKUP($S76,Frequenties[],3,FALSE)*VLOOKUP($A76,Locaties[],3,FALSE),0) -> 0 | AA76: =Ruimtestaat[[#This Row],[Uitvoeringen eigen dienst]]*Ruimtestaat[[#This Row],[Eigen dienst]] -> 0 | AB76: =IF(Z76>0,Ruimtestaat[[#This Row],[Prest. (m2 /jaar) eigen dienst]]/Ruimtestaat[[#This Row],[Norm (m2/uur) werkdagen]],0) -> 0 | AC76: =Ruimtestaat[[#This Row],[uren / jaar eigen dienst]]*Tariefsopbouw!$D$38 -> 0
A77: 1 | B77: =VLOOKUP(Ruimtestaat[[#This Row],[Code]],Locaties[#All],2,FALSE) -> Het Kofschip & Lindenhage | C77: =VLOOKUP(Ruimtestaat[[#This Row],[Code]],Locaties[#All],4,FALSE) -> Platanenlaan 1 | D77: =VLOOKUP(Ruimtestaat[[#This Row],[Code]],Locaties[#All],5,FALSE) -> 6903 DK | E77: =VLOOKUP(Ruimtestaat[[#This Row],[Code]],Locaties[#All],6,FALSE) -> Zevenaar | F77: Het Kofschip | G77: bg | H77: 1.80 | I77: verdiept magazijn | J77: 1 | K77: =VLOOKUP(Ruimtestaat[[#This Row],[Ruimte code]],Ruimtegroepen[[#All],[Code]:[Ruimte omschrijving]],2,FALSE) -> Magazijnen/bergingen | L77: L | M77: marmoleum | N77: 23.76 | Q77: =VLOOKUP(Ruimtestaat[[#This Row],[Ruimte code]],Ruimtegroepen[],4,FALSE) -> V (Verkeersruimte) | R77: 40 | S77: 1m | T77: =IF(R77>0,IF(RIGHT(Ruimtestaat[[#This Row],[Frequentie werkdagen]],1)="w",VALUE(LEFT(Ruimtestaat[[#This Row],[Frequentie werkdagen]],(LEN(Ruimtestaat[[#This Row],[Frequentie werkdagen]])-1))*Ruimtestaat[[#This Row],[Aantal weken/jr]]),IF(RIGHT(Ruimtestaat[[#This Row],[Frequentie werkdagen]],1)="m",VALUE(LEFT(Ruimtestaat[[#This Row],[Frequentie werkdagen]],LEN(Ruimtestaat[[#This Row],[Frequentie werkdagen]])-1)*12),VALUE(LEFT(Ruimtestaat[[#This Row],[Frequentie werkdagen]],(LEN(Ruimtestaat[[#This Row],[Frequentie werkdagen]])-1))))),0) -> 12 | U77: =IF(T77>0,VLOOKUP($J77,Ruimtegroepen[],3,FALSE)*VLOOKUP($L77,Vloersoorten[],3,FALSE)*VLOOKUP($S77,Frequenties[],3,FALSE)*VLOOKUP($A77,Locaties[],3,FALSE),0) -> 0 | V77: =Ruimtestaat[[#This Row],[Uitvoeringen werkdagen]]*Ruimtestaat[[#This Row],[Oppervlak (netto)]] -> 285.12 | W77: =IF(U77>0,Ruimtestaat[[#This Row],[Prest. (m2 /jaar) werkdagen]]/Ruimtestaat[[#This Row],[Norm (m2/uur) werkdagen]],0) -> 0 | X77: =Ruimtestaat[[#This Row],[uren / jaar werkdagen]]*Tariefsopbouw!$D$38 -> 0 | Y77: =IF(Ruimtestaat[[#This Row],[Frequentie werkdagen]]>0,VALUE(LEFT(S77,1))*R77,0) -> 40 | Z77: =IF($Y77>0,VLOOKUP($J77,Ruimtegroepen[],3,FALSE)*VLOOKUP($L77,Vloersoorten[],3,FALSE)*VLOOKUP($S77,Frequenties[],3,FALSE)*VLOOKUP($A77,Locaties[],3,FALSE),0) -> 0 | AA77: =Ruimtestaat[[#This Row],[Uitvoeringen eigen dienst]]*Ruimtestaat[[#This Row],[Eigen dienst]] -> 0 | AB77: =IF(Z77>0,Ruimtestaat[[#This Row],[Prest. (m2 /jaar) eigen dienst]]/Ruimtestaat[[#This Row],[Norm (m2/uur) werkdagen]],0) -> 0 | AC77: =Ruimtestaat[[#This Row],[uren / jaar eigen dienst]]*Tariefsopbouw!$D$38 -> 0
A78: 1 | B78: =VLOOKUP(Ruimtestaat[[#This Row],[Code]],Locaties[#All],2,FALSE) -> Het Kofschip & Lindenhage | C78: =VLOOKUP(Ruimtestaat[[#This Row],[Code]],Locaties[#All],4,FALSE) -> Platanenlaan 1 | D78: =VLOOKUP(Ruimtestaat[[#This Row],[Code]],Locaties[#All],5,FALSE) -> 6903 DK | E78: =VLOOKUP(Ruimtestaat[[#This Row],[Code]],Locaties[#All],6,FALSE) -> Zevenaar | F78: Het Kofschip | G78: bg | H78: 1.67 | I78: keuken K | J78: 5 | K78: =VLOOKUP(Ruimtestaat[[#This Row],[Ruimte code]],Ruimtegroepen[[#All],[Code]:[Ruimte omschrijving]],2,FALSE) -> Sanitair | L78: L | M78: marmoleum | N78: 22.47 | Q78: =VLOOKUP(Ruimtestaat[[#This Row],[Ruimte code]],Ruimtegroepen[],4,FALSE) -> S (Sanitair) | R78: 40 | S78: 5w | T78: =IF(R78>0,IF(RIGHT(Ruimtestaat[[#This Row],[Frequentie werkdagen]],1)="w",VALUE(LEFT(Ruimtestaat[[#This Row],[Frequentie werkdagen]],(LEN(Ruimtestaat[[#This Row],[Frequentie werkdagen]])-1))*Ruimtestaat[[#This Row],[Aantal weken/jr]]),IF(RIGHT(Ruimtestaat[[#This Row],[Frequentie werkdagen]],1)="m",VALUE(LEFT(Ruimtestaat[[#This Row],[Frequentie werkdagen]],LEN(Ruimtestaat[[#This Row],[Frequentie werkdagen]])-1)*12),VALUE(LEFT(Ruimtestaat[[#This Row],[Frequentie werkdagen]],(LEN(Ruimtestaat[[#This Row],[Frequentie werkdagen]])-1))))),0) -> 200 | U78: =IF(T78>0,VLOOKUP($J78,Ruimtegroepen[],3,FALSE)*VLOOKUP($L78,Vloersoorten[],3,FALSE)*VLOOKUP($S78,Frequenties[],3,FALSE)*VLOOKUP($A78,Locaties[],3,FALSE),0) -> 0 | V78: =Ruimtestaat[[#This Row],[Uitvoeringen werkdagen]]*Ruimtestaat[[#This Row],[Oppervlak (netto)]] -> 4494 | W78: =IF(U78>0,Ruimtestaat[[#This Row],[Prest. (m2 /jaar) werkdagen]]/Ruimtestaat[[#This Row],[Norm (m2/uur) werkdagen]],0) -> 0 | X78: =Ruimtestaat[[#This Row],[uren / jaar werkdagen]]*Tariefsopbouw!$D$38 -> 0 | Y78: =IF(Ruimtestaat[[#This Row],[Frequentie werkdagen]]>0,VALUE(LEFT(S78,1))*R78,0) -> 200 | Z78: =IF($Y78>0,VLOOKUP($J78,Ruimtegroepen[],3,FALSE)*VLOOKUP($L78,Vloersoorten[],3,FALSE)*VLOOKUP($S78,Frequenties[],3,FALSE)*VLOOKUP($A78,Locaties[],3,FALSE),0) -> 0 | AA78: =Ruimtestaat[[#This Row],[Uitvoeringen eigen dienst]]*Ruimtestaat[[#This Row],[Eigen dienst]] -> 0 | AB78: =IF(Z78>0,Ruimtestaat[[#This Row],[Prest. (m2 /jaar) eigen dienst]]/Ruimtestaat[[#This Row],[Norm (m2/uur) werkdagen]],0) -> 0 | AC78: =Ruimtestaat[[#This Row],[uren / jaar eigen dienst]]*Tariefsopbouw!$D$38 -> 0
A79: 1 | B79: =VLOOKUP(Ruimtestaat[[#This Row],[Code]],Locaties[#All],2,FALSE) -> Het Kofschip & Lindenhage | C79: =VLOOKUP(Ruimtestaat[[#This Row],[Code]],Locaties[#All],4,FALSE) -> Platanenlaan 1 | D79: =VLOOKUP(Ruimtestaat[[#This Row],[Code]],Locaties[#All],5,FALSE) -> 6903 DK | E79: =VLOOKUP(Ruimtestaat[[#This Row],[Code]],Locaties[#All],6,FALSE) -> Zevenaar | F79: Het Kofschip | G79: bg | H79: 1.57 | I79: groepsruimte K5 | J79: 16 | K79: =VLOOKUP(Ruimtestaat[[#This Row],[Ruimte code]],Ruimtegroepen[[#All],[Code]:[Ruimte omschrijving]],2,FALSE) -> Lokaal | L79: T | M79: flotex + marmoleum | N79: 55.1 | Q79: =VLOOKUP(Ruimtestaat[[#This Row],[Ruimte code]],Ruimtegroepen[],4,FALSE) -> L (Lesruimte) | R79: 40 | S79: 5w | T79: =IF(R79>0,IF(RIGHT(Ruimtestaat[[#This Row],[Frequentie werkdagen]],1)="w",VALUE(LEFT(Ruimtestaat[[#This Row],[Frequentie werkdagen]],(LEN(Ruimtestaat[[#This Row],[Frequentie werkdagen]])-1))*Ruimtestaat[[#This Row],[Aantal weken/jr]]),IF(RIGHT(Ruimtestaat[[#This Row],[Frequentie werkdagen]],1)="m",VALUE(LEFT(Ruimtestaat[[#This Row],[Frequentie werkdagen]],LEN(Ruimtestaat[[#This Row],[Frequentie werkdagen]])-1)*12),VALUE(LEFT(Ruimtestaat[[#This Row],[Frequentie werkdagen]],(LEN(Ruimtestaat[[#This Row],[Frequentie werkdagen]])-1))))),0) -> 200 | U79: =IF(T79>0,VLOOKUP($J79,Ruimtegroepen[],3,FALSE)*VLOOKUP($L79,Vloersoorten[],3,FALSE)*VLOOKUP($S79,Frequenties[],3,FALSE)*VLOOKUP($A79,Locaties[],3,FALSE),0) -> 0 | V79: =Ruimtestaat[[#This Row],[Uitvoeringen werkdagen]]*Ruimtestaat[[#This Row],[Oppervlak (netto)]] -> 11020 | W79: =IF(U79>0,Ruimtestaat[[#This Row],[Prest. (m2 /jaar) werkdagen]]/Ruimtestaat[[#This Row],[Norm (m2/uur) werkdagen]],0) -> 0 | X79: =Ruimtestaat[[#This Row],[uren / jaar werkdagen]]*Tariefsopbouw!$D$38 -> 0 | Y79: =IF(Ruimtestaat[[#This Row],[Frequentie werkdagen]]>0,VALUE(LEFT(S79,1))*R79,0) -> 200 | Z79: =IF($Y79>0,VLOOKUP($J79,Ruimtegroepen[],3,FALSE)*VLOOKUP($L79,Vloersoorten[],3,FALSE)*VLOOKUP($S79,Frequenties[],3,FALSE)*VLOOKUP($A79,Locaties[],3,FALSE),0) -> 0 | AA79: =Ruimtestaat[[#This Row],[Uitvoeringen eigen dienst]]*Ruimtestaat[[#This Row],[Eigen dienst]] -> 0 | AB79: =IF(Z79>0,Ruimtestaat[[#This Row],[Prest. (m2 /jaar) eigen dienst]]/Ruimtestaat[[#This Row],[Norm (m2/uur) werkdagen]],0) -> 0 | AC79: =Ruimtestaat[[#This Row],[uren / jaar eigen dienst]]*Tariefsopbouw!$D$38 -> 0
A80: 1 | B80: =VLOOKUP(Ruimtestaat[[#This Row],[Code]],Locaties[#All],2,FALSE) -> Het Kofschip & Lindenhage | C80: =VLOOKUP(Ruimtestaat[[#This Row],[Code]],Locaties[#All],4,FALSE) -> Platanenlaan 1 | D80: =VLOOKUP(Ruimtestaat[[#This Row],[Code]],Locaties[#All],5,FALSE) -> 6903 DK | E80: =VLOOKUP(Ruimtestaat[[#This Row],[Code]],Locaties[#All],6,FALSE) -> Zevenaar | F80: Het Kofschip | G80: bg | H80: 1.64 | I80: administratie K | J80: 2 | K80: =VLOOKUP(Ruimtestaat[[#This Row],[Ruimte code]],Ruimtegroepen[[#All],[Code]:[Ruimte omschrijving]],2,FALSE) -> Kantoren | L80: T | M80: flotex | N80: 14.77 | Q80: =VLOOKUP(Ruimtestaat[[#This Row],[Ruimte code]],Ruimtegroepen[],4,FALSE) -> B (Bureauruimte) | R80: 40 | S80: 2w | T80: =IF(R80>0,IF(RIGHT(Ruimtestaat[[#This Row],[Frequentie werkdagen]],1)="w",VALUE(LEFT(Ruimtestaat[[#This Row],[Frequentie werkdagen]],(LEN(Ruimtestaat[[#This Row],[Frequentie werkdagen]])-1))*Ruimtestaat[[#This Row],[Aantal weken/jr]]),IF(RIGHT(Ruimtestaat[[#This Row],[Frequentie werkdagen]],1)="m",VALUE(LEFT(Ruimtestaat[[#This Row],[Frequentie werkdagen]],LEN(Ruimtestaat[[#This Row],[Frequentie werkdagen]])-1)*12),VALUE(LEFT(Ruimtestaat[[#This Row],[Frequentie werkdagen]],(LEN(Ruimtestaat[[#This Row],[Frequentie werkdagen]])-1))))),0) -> 80 | U80: =IF(T80>0,VLOOKUP($J80,Ruimtegroepen[],3,FALSE)*VLOOKUP($L80,Vloersoorten[],3,FALSE)*VLOOKUP($S80,Frequenties[],3,FALSE)*VLOOKUP($A80,Locaties[],3,FALSE),0) -> 0 | V80: =Ruimtestaat[[#This Row],[Uitvoeringen werkdagen]]*Ruimtestaat[[#This Row],[Oppervlak (netto)]] -> 1181.6 | W80: =IF(U80>0,Ruimtestaat[[#This Row],[Prest. (m2 /jaar) werkdagen]]/Ruimtestaat[[#This Row],[Norm (m2/uur) werkdagen]],0) -> 0 | X80: =Ruimtestaat[[#This Row],[uren / jaar werkdagen]]*Tariefsopbouw!$D$38 -> 0 | Y80: =IF(Ruimtestaat[[#This Row],[Frequentie werkdagen]]>0,VALUE(LEFT(S80,1))*R80,0) -> 80 | Z80: =IF($Y80>0,VLOOKUP($J80,Ruimtegroepen[],3,FALSE)*VLOOKUP($L80,Vloersoorten[],3,FALSE)*VLOOKUP($S80,Frequenties[],3,FALSE)*VLOOKUP($A80,Locaties[],3,FALSE),0) -> 0 | AA80: =Ruimtestaat[[#This Row],[Uitvoeringen eigen dienst]]*Ruimtestaat[[#This Row],[Eigen dienst]] -> 0 | AB80: =IF(Z80>0,Ruimtestaat[[#This Row],[Prest. (m2 /jaar) eigen dienst]]/Ruimtestaat[[#This Row],[Norm (m2/uur) werkdagen]],0) -> 0 | AC80: =Ruimtestaat[[#This Row],[uren / jaar eigen dienst]]*Tariefsopbouw!$D$38 -> 0
A81: 1 | B81: =VLOOKUP(Ruimtestaat[[#This Row],[Code]],Locaties[#All],2,FALSE) -> Het Kofschip & Lindenhage | C81: =VLOOKUP(Ruimtestaat[[#This Row],[Code]],Locaties[#All],4,FALSE) -> Platanenlaan 1 | D81: =VLOOKUP(Ruimtestaat[[#This Row],[Code]],Locaties[#All],5,FALSE) -> 6903 DK | E81: =VLOOKUP(Ruimtestaat[[#This Row],[Code]],Locaties[#All],6,FALSE) -> Zevenaar | F81: Het Kofschip | G81: bg | H81: 1.78 | I81: meterkast K | J81: 21 | K81: =VLOOKUP(Ruimtestaat[[#This Row],[Ruimte code]],Ruimtegroepen[[#All],[Code]:[Ruimte omschrijving]],2,FALSE) -> Niet in onderhoud | L81: S | M81: beton | O81: 1.08 | Q81: =VLOOKUP(Ruimtestaat[[#This Row],[Ruimte code]],Ruimtegroepen[],4,FALSE) -> Niet in onderhoud | T81: =IF(R81>0,IF(RIGHT(Ruimtestaat[[#This Row],[Frequentie werkdagen]],1)="w",VALUE(LEFT(Ruimtestaat[[#This Row],[Frequentie werkdagen]],(LEN(Ruimtestaat[[#This Row],[Frequentie werkdagen]])-1))*Ruimtestaat[[#This Row],[Aantal weken/jr]]),IF(RIGHT(Ruimtestaat[[#This Row],[Frequentie werkdagen]],1)="m",VALUE(LEFT(Ruimtestaat[[#This Row],[Frequentie werkdagen]],LEN(Ruimtestaat[[#This Row],[Frequentie werkdagen]])-1)*12),VALUE(LEFT(Ruimtestaat[[#This Row],[Frequentie werkdagen]],(LEN(Ruimtestaat[[#This Row],[Frequentie werkdagen]])-1))))),0) -> 0 | U81: =IF(T81>0,VLOOKUP($J81,Ruimtegroepen[],3,FALSE)*VLOOKUP($L81,Vloersoorten[],3,FALSE)*VLOOKUP($S81,Frequenties[],3,FALSE)*VLOOKUP($A81,Locaties[],3,FALSE),0) -> 0 | V81: =Ruimtestaat[[#This Row],[Uitvoeringen werkdagen]]*Ruimtestaat[[#This Row],[Oppervlak (netto)]] -> 0 | W81: =IF(U81>0,Ruimtestaat[[#This Row],[Prest. (m2 /jaar) werkdagen]]/Ruimtestaat[[#This Row],[Norm (m2/uur) werkdagen]],0) -> 0 | X81: =Ruimtestaat[[#This Row],[uren / jaar werkdagen]]*Tariefsopbouw!$D$38 -> 0 | Y81: =IF(Ruimtestaat[[#This Row],[Frequentie werkdagen]]>0,VALUE(LEFT(S81,1))*R81,0) -> 0 | Z81: =IF($Y81>0,VLOOKUP($J81,Ruimtegroepen[],3,FALSE)*VLOOKUP($L81,Vloersoorten[],3,FALSE)*VLOOKUP($S81,Frequenties[],3,FALSE)*VLOOKUP($A81,Locaties[],3,FALSE),0) -> 0 | AA81: =Ruimtestaat[[#This Row],[Uitvoeringen eigen dienst]]*Ruimtestaat[[#This Row],[Eigen dienst]] -> 0 | AB81: =IF(Z81>0,Ruimtestaat[[#This Row],[Prest. (m2 /jaar) eigen dienst]]/Ruimtestaat[[#This Row],[Norm (m2/uur) werkdagen]],0) -> 0 | AC81: =Ruimtestaat[[#This Row],[uren / jaar eigen dienst]]*Tariefsopbouw!$D$38 -> 0
A82: 1 | B82: =VLOOKUP(Ruimtestaat[[#This Row],[Code]],Locaties[#All],2,FALSE) -> Het Kofschip & Lindenhage | C82: =VLOOKUP(Ruimtestaat[[#This Row],[Code]],Locaties[#All],4,FALSE) -> Platanenlaan 1 | D82: =VLOOKUP(Ruimtestaat[[#This Row],[Code]],Locaties[#All],5,FALSE) -> 6903 DK | E82: =VLOOKUP(Ruimtestaat[[#This Row],[Code]],Locaties[#All],6,FALSE) -> Zevenaar | F82: Het Kofschip | G82: bg | H82: 1.63 | I82: directie K | J82: 2 | K82: =VLOOKUP(Ruimtestaat[[#This Row],[Ruimte code]],Ruimtegroepen[[#All],[Code]:[Ruimte omschrijving]],2,FALSE) -> Kantoren | L82: T | M82: flotex | N82: 23.67 | Q82: =VLOOKUP(Ruimtestaat[[#This Row],[Ruimte code]],Ruimtegroepen[],4,FALSE) -> B (Bureauruimte) | R82: 40 | S82: 2w | T82: =IF(R82>0,IF(RIGHT(Ruimtestaat[[#This Row],[Frequentie werkdagen]],1)="w",VALUE(LEFT(Ruimtestaat[[#This Row],[Frequentie werkdagen]],(LEN(Ruimtestaat[[#This Row],[Frequentie werkdagen]])-1))*Ruimtestaat[[#This Row],[Aantal weken/jr]]),IF(RIGHT(Ruimtestaat[[#This Row],[Frequentie werkdagen]],1)="m",VALUE(LEFT(Ruimtestaat[[#This Row],[Frequentie werkdagen]],LEN(Ruimtestaat[[#This Row],[Frequentie werkdagen]])-1)*12),VALUE(LEFT(Ruimtestaat[[#This Row],[Frequentie werkdagen]],(LEN(Ruimtestaat[[#This Row],[Frequentie werkdagen]])-1))))),0) -> 80 | U82: =IF(T82>0,VLOOKUP($J82,Ruimtegroepen[],3,FALSE)*VLOOKUP($L82,Vloersoorten[],3,FALSE)*VLOOKUP($S82,Frequenties[],3,FALSE)*VLOOKUP($A82,Locaties[],3,FALSE),0) -> 0 | V82: =Ruimtestaat[[#This Row],[Uitvoeringen werkdagen]]*Ruimtestaat[[#This Row],[Oppervlak (netto)]] -> 1893.6 | W82: =IF(U82>0,Ruimtestaat[[#This Row],[Prest. (m2 /jaar) werkdagen]]/Ruimtestaat[[#This Row],[Norm (m2/uur) werkdagen]],0) -> 0 | X82: =Ruimtestaat[[#This Row],[uren / jaar werkdagen]]*Tariefsopbouw!$D$38 -> 0 | Y82: =IF(Ruimtestaat[[#This Row],[Frequentie werkdagen]]>0,VALUE(LEFT(S82,1))*R82,0) -> 80 | Z82: =IF($Y82>0,VLOOKUP($J82,Ruimtegroepen[],3,FALSE)*VLOOKUP($L82,Vloersoorten[],3,FALSE)*VLOOKUP($S82,Frequenties[],3,FALSE)*VLOOKUP($A82,Locaties[],3,FALSE),0) -> 0 | AA82: =Ruimtestaat[[#This Row],[Uitvoeringen eigen dienst]]*Ruimtestaat[[#This Row],[Eigen dienst]] -> 0 | AB82: =IF(Z82>0,Ruimtestaat[[#This Row],[Prest. (m2 /jaar) eigen dienst]]/Ruimtestaat[[#This Row],[Norm (m2/uur) werkdagen]],0) -> 0 | AC82: =Ruimtestaat[[#This Row],[uren / jaar eigen dienst]]*Tariefsopbouw!$D$38 -> 0
A83: 1 | B83: =VLOOKUP(Ruimtestaat[[#This Row],[Code]],Locaties[#All],2,FALSE) -> Het Kofschip & Lindenhage | C83: =VLOOKUP(Ruimtestaat[[#This Row],[Code]],Locaties[#All],4,FALSE) -> Platanenlaan 1 | D83: =VLOOKUP(Ruimtestaat[[#This Row],[Code]],Locaties[#All],5,FALSE) -> 6903 DK | E83: =VLOOKUP(Ruimtestaat[[#This Row],[Code]],Locaties[#All],6,FALSE) -> Zevenaar | F83: Het Kofschip | G83: bg | H83: 1.69 | I83: hoofdentree K | J83: 7 | K83: =VLOOKUP(Ruimtestaat[[#This Row],[Ruimte code]],Ruimtegroepen[[#All],[Code]:[Ruimte omschrijving]],2,FALSE) -> Entree | L83: S | M83: schoonloopmat | N83: 18.46 | Q83: =VLOOKUP(Ruimtestaat[[#This Row],[Ruimte code]],Ruimtegroepen[],4,FALSE) -> V (Verkeersruimte) | R83: 40 | S83: 5w | T83: =IF(R83>0,IF(RIGHT(Ruimtestaat[[#This Row],[Frequentie werkdagen]],1)="w",VALUE(LEFT(Ruimtestaat[[#This Row],[Frequentie werkdagen]],(LEN(Ruimtestaat[[#This Row],[Frequentie werkdagen]])-1))*Ruimtestaat[[#This Row],[Aantal weken/jr]]),IF(RIGHT(Ruimtestaat[[#This Row],[Frequentie werkdagen]],1)="m",VALUE(LEFT(Ruimtestaat[[#This Row],[Frequentie werkdagen]],LEN(Ruimtestaat[[#This Row],[Frequentie werkdagen]])-1)*12),VALUE(LEFT(Ruimtestaat[[#This Row],[Frequentie werkdagen]],(LEN(Ruimtestaat[[#This Row],[Frequentie werkdagen]])-1))))),0) -> 200 | U83: =IF(T83>0,VLOOKUP($J83,Ruimtegroepen[],3,FALSE)*VLOOKUP($L83,Vloersoorten[],3,FALSE)*VLOOKUP($S83,Frequenties[],3,FALSE)*VLOOKUP($A83,Locaties[],3,FALSE),0) -> 0 | V83: =Ruimtestaat[[#This Row],[Uitvoeringen werkdagen]]*Ruimtestaat[[#This Row],[Oppervlak (netto)]] -> 3692 | W83: =IF(U83>0,Ruimtestaat[[#This Row],[Prest. (m2 /jaar) werkdagen]]/Ruimtestaat[[#This Row],[Norm (m2/uur) werkdagen]],0) -> 0 | X83: =Ruimtestaat[[#This Row],[uren / jaar werkdagen]]*Tariefsopbouw!$D$38 -> 0 | Y83: =IF(Ruimtestaat[[#This Row],[Frequentie werkdagen]]>0,VALUE(LEFT(S83,1))*R83,0) -> 200 | Z83: =IF($Y83>0,VLOOKUP($J83,Ruimtegroepen[],3,FALSE)*VLOOKUP($L83,Vloersoorten[],3,FALSE)*VLOOKUP($S83,Frequenties[],3,FALSE)*VLOOKUP($A83,Locaties[],3,FALSE),0) -> 0 | AA83: =Ruimtestaat[[#This Row],[Uitvoeringen eigen dienst]]*Ruimtestaat[[#This Row],[Eigen dienst]] -> 0 | AB83: =IF(Z83>0,Ruimtestaat[[#This Row],[Prest. (m2 /jaar) eigen dienst]]/Ruimtestaat[[#This Row],[Norm (m2/uur) werkdagen]],0) -> 0 | AC83: =Ruimtestaat[[#This Row],[uren / jaar eigen dienst]]*Tariefsopbouw!$D$38 -> 0
A84: 1 | B84: =VLOOKUP(Ruimtestaat[[#This Row],[Code]],Locaties[#All],2,FALSE) -> Het Kofschip & Lindenhage | C84: =VLOOKUP(Ruimtestaat[[#This Row],[Code]],Locaties[#All],4,FALSE) -> Platanenlaan 1 | D84: =VLOOKUP(Ruimtestaat[[#This Row],[Code]],Locaties[#All],5,FALSE) -> 6903 DK | E84: =VLOOKUP(Ruimtestaat[[#This Row],[Code]],Locaties[#All],6,FALSE) -> Zevenaar | F84: Het Kofschip | G84: bg | H84: 1.76 | I84: MIVA K | J84: 5 | K84: =VLOOKUP(Ruimtestaat[[#This Row],[Ruimte code]],Ruimtegroepen[[#All],[Code]:[Ruimte omschrijving]],2,FALSE) -> Sanitair | L84: L | M84: sure step | N84: 3.98 | Q84: =VLOOKUP(Ruimtestaat[[#This Row],[Ruimte code]],Ruimtegroepen[],4,FALSE) -> S (Sanitair) | R84: 40 | S84: 5w | T84: =IF(R84>0,IF(RIGHT(Ruimtestaat[[#This Row],[Frequentie werkdagen]],1)="w",VALUE(LEFT(Ruimtestaat[[#This Row],[Frequentie werkdagen]],(LEN(Ruimtestaat[[#This Row],[Frequentie werkdagen]])-1))*Ruimtestaat[[#This Row],[Aantal weken/jr]]),IF(RIGHT(Ruimtestaat[[#This Row],[Frequentie werkdagen]],1)="m",VALUE(LEFT(Ruimtestaat[[#This Row],[Frequentie werkdagen]],LEN(Ruimtestaat[[#This Row],[Frequentie werkdagen]])-1)*12),VALUE(LEFT(Ruimtestaat[[#This Row],[Frequentie werkdagen]],(LEN(Ruimtestaat[[#This Row],[Frequentie werkdagen]])-1))))),0) -> 200 | U84: =IF(T84>0,VLOOKUP($J84,Ruimtegroepen[],3,FALSE)*VLOOKUP($L84,Vloersoorten[],3,FALSE)*VLOOKUP($S84,Frequenties[],3,FALSE)*VLOOKUP($A84,Locaties[],3,FALSE),0) -> 0 | V84: =Ruimtestaat[[#This Row],[Uitvoeringen werkdagen]]*Ruimtestaat[[#This Row],[Oppervlak (netto)]] -> 796 | W84: =IF(U84>0,Ruimtestaat[[#This Row],[Prest. (m2 /jaar) werkdagen]]/Ruimtestaat[[#This Row],[Norm (m2/uur) werkdagen]],0) -> 0 | X84: =Ruimtestaat[[#This Row],[uren / jaar werkdagen]]*Tariefsopbouw!$D$38 -> 0 | Y84: =IF(Ruimtestaat[[#This Row],[Frequentie werkdagen]]>0,VALUE(LEFT(S84,1))*R84,0) -> 200 | Z84: =IF($Y84>0,VLOOKUP($J84,Ruimtegroepen[],3,FALSE)*VLOOKUP($L84,Vloersoorten[],3,FALSE)*VLOOKUP($S84,Frequenties[],3,FALSE)*VLOOKUP($A84,Locaties[],3,FALSE),0) -> 0 | AA84: =Ruimtestaat[[#This Row],[Uitvoeringen eigen dienst]]*Ruimtestaat[[#This Row],[Eigen dienst]] -> 0 | AB84: =IF(Z84>0,Ruimtestaat[[#This Row],[Prest. (m2 /jaar) eigen dienst]]/Ruimtestaat[[#This Row],[Norm (m2/uur) werkdagen]],0) -> 0 | AC84: =Ruimtestaat[[#This Row],[uren / jaar eigen dienst]]*Tariefsopbouw!$D$38 -> 0
A85: 1 | B85: =VLOOKUP(Ruimtestaat[[#This Row],[Code]],Locaties[#All],2,FALSE) -> Het Kofschip & Lindenhage | C85: =VLOOKUP(Ruimtestaat[[#This Row],[Code]],Locaties[#All],4,FALSE) -> Platanenlaan 1 | D85: =VLOOKUP(Ruimtestaat[[#This Row],[Code]],Locaties[#All],5,FALSE) -> 6903 DK | E85: =VLOOKUP(Ruimtestaat[[#This Row],[Code]],Locaties[#All],6,FALSE) -> Zevenaar | F85: Het Kofschip | G85: bg | H85: 1.74 | I85: gang | J85: 6 | K85: =VLOOKUP(Ruimtestaat[[#This Row],[Ruimte code]],Ruimtegroepen[[#All],[Code]:[Ruimte omschrijving]],2,FALSE) -> Gangen/hallen | L85: T | M85: flotex | N85: 6.86 | Q85: =VLOOKUP(Ruimtestaat[[#This Row],[Ruimte code]],Ruimtegroepen[],4,FALSE) -> V (Verkeersruimte) | R85: 40 | S85: 5w | T85: =IF(R85>0,IF(RIGHT(Ruimtestaat[[#This Row],[Frequentie werkdagen]],1)="w",VALUE(LEFT(Ruimtestaat[[#This Row],[Frequentie werkdagen]],(LEN(Ruimtestaat[[#This Row],[Frequentie werkdagen]])-1))*Ruimtestaat[[#This Row],[Aantal weken/jr]]),IF(RIGHT(Ruimtestaat[[#This Row],[Frequentie werkdagen]],1)="m",VALUE(LEFT(Ruimtestaat[[#This Row],[Frequentie werkdagen]],LEN(Ruimtestaat[[#This Row],[Frequentie werkdagen]])-1)*12),VALUE(LEFT(Ruimtestaat[[#This Row],[Frequentie werkdagen]],(LEN(Ruimtestaat[[#This Row],[Frequentie werkdagen]])-1))))),0) -> 200 | U85: =IF(T85>0,VLOOKUP($J85,Ruimtegroepen[],3,FALSE)*VLOOKUP($L85,Vloersoorten[],3,FALSE)*VLOOKUP($S85,Frequenties[],3,FALSE)*VLOOKUP($A85,Locaties[],3,FALSE),0) -> 0 | V85: =Ruimtestaat[[#This Row],[Uitvoeringen werkdagen]]*Ruimtestaat[[#This Row],[Oppervlak (netto)]] -> 1372 | W85: =IF(U85>0,Ruimtestaat[[#This Row],[Prest. (m2 /jaar) werkdagen]]/Ruimtestaat[[#This Row],[Norm (m2/uur) werkdagen]],0) -> 0 | X85: =Ruimtestaat[[#This Row],[uren / jaar werkdagen]]*Tariefsopbouw!$D$38 -> 0 | Y85: =IF(Ruimtestaat[[#This Row],[Frequentie werkdagen]]>0,VALUE(LEFT(S85,1))*R85,0) -> 200 | Z85: =IF($Y85>0,VLOOKUP($J85,Ruimtegroepen[],3,FALSE)*VLOOKUP($L85,Vloersoorten[],3,FALSE)*VLOOKUP($S85,Frequenties[],3,FALSE)*VLOOKUP($A85,Locaties[],3,FALSE),0) -> 0 | AA85: =Ruimtestaat[[#This Row],[Uitvoeringen eigen dienst]]*Ruimtestaat[[#This Row],[Eigen dienst]] -> 0 | AB85: =IF(Z85>0,Ruimtestaat[[#This Row],[Prest. (m2 /jaar) eigen dienst]]/Ruimtestaat[[#This Row],[Norm (m2/uur) werkdagen]],0) -> 0 | AC85: =Ruimtestaat[[#This Row],[uren / jaar eigen dienst]]*Tariefsopbouw!$D$38 -> 0
A86: 1 | B86: =VLOOKUP(Ruimtestaat[[#This Row],[Code]],Locaties[#All],2,FALSE) -> Het Kofschip & Lindenhage | C86: =VLOOKUP(Ruimtestaat[[#This Row],[Code]],Locaties[#All],4,FALSE) -> Platanenlaan 1 | D86: =VLOOKUP(Ruimtestaat[[#This Row],[Code]],Locaties[#All],5,FALSE) -> 6903 DK | E86: =VLOOKUP(Ruimtestaat[[#This Row],[Code]],Locaties[#All],6,FALSE) -> Zevenaar | F86: Het Kofschip | G86: bg | H86: 1.60 | I86: spreekkr | J86: 4 | K86: =VLOOKUP(Ruimtestaat[[#This Row],[Ruimte code]],Ruimtegroepen[[#All],[Code]:[Ruimte omschrijving]],2,FALSE) -> Vergader/spreekkamers | L86: L | M86: marmoleum | N86: 30.04 | Q86: =VLOOKUP(Ruimtestaat[[#This Row],[Ruimte code]],Ruimtegroepen[],4,FALSE) -> B (Bureauruimte) | R86: 40 | S86: 3w | T86: =IF(R86>0,IF(RIGHT(Ruimtestaat[[#This Row],[Frequentie werkdagen]],1)="w",VALUE(LEFT(Ruimtestaat[[#This Row],[Frequentie werkdagen]],(LEN(Ruimtestaat[[#This Row],[Frequentie werkdagen]])-1))*Ruimtestaat[[#This Row],[Aantal weken/jr]]),IF(RIGHT(Ruimtestaat[[#This Row],[Frequentie werkdagen]],1)="m",VALUE(LEFT(Ruimtestaat[[#This Row],[Frequentie werkdagen]],LEN(Ruimtestaat[[#This Row],[Frequentie werkdagen]])-1)*12),VALUE(LEFT(Ruimtestaat[[#This Row],[Frequentie werkdagen]],(LEN(Ruimtestaat[[#This Row],[Frequentie werkdagen]])-1))))),0) -> 120 | U86: =IF(T86>0,VLOOKUP($J86,Ruimtegroepen[],3,FALSE)*VLOOKUP($L86,Vloersoorten[],3,FALSE)*VLOOKUP($S86,Frequenties[],3,FALSE)*VLOOKUP($A86,Locaties[],3,FALSE),0) -> 0 | V86: =Ruimtestaat[[#This Row],[Uitvoeringen werkdagen]]*Ruimtestaat[[#This Row],[Oppervlak (netto)]] -> 3604.8 | W86: =IF(U86>0,Ruimtestaat[[#This Row],[Prest. (m2 /jaar) werkdagen]]/Ruimtestaat[[#This Row],[Norm (m2/uur) werkdagen]],0) -> 0 | X86: =Ruimtestaat[[#This Row],[uren / jaar werkdagen]]*Tariefsopbouw!$D$38 -> 0 | Y86: =IF(Ruimtestaat[[#This Row],[Frequentie werkdagen]]>0,VALUE(LEFT(S86,1))*R86,0) -> 120 | Z86: =IF($Y86>0,VLOOKUP($J86,Ruimtegroepen[],3,FALSE)*VLOOKUP($L86,Vloersoorten[],3,FALSE)*VLOOKUP($S86,Frequenties[],3,FALSE)*VLOOKUP($A86,Locaties[],3,FALSE),0) -> 0 | AA86: =Ruimtestaat[[#This Row],[Uitvoeringen eigen dienst]]*Ruimtestaat[[#This Row],[Eigen dienst]] -> 0 | AB86: =IF(Z86>0,Ruimtestaat[[#This Row],[Prest. (m2 /jaar) eigen dienst]]/Ruimtestaat[[#This Row],[Norm (m2/uur) werkdagen]],0) -> 0 | AC86: =Ruimtestaat[[#This Row],[uren / jaar eigen dienst]]*Tariefsopbouw!$D$38 -> 0
A87: 1 | B87: =VLOOKUP(Ruimtestaat[[#This Row],[Code]],Locaties[#All],2,FALSE) -> Het Kofschip & Lindenhage | C87: =VLOOKUP(Ruimtestaat[[#This Row],[Code]],Locaties[#All],4,FALSE) -> Platanenlaan 1 | D87: =VLOOKUP(Ruimtestaat[[#This Row],[Code]],Locaties[#All],5,FALSE) -> 6903 DK | E87: =VLOOKUP(Ruimtestaat[[#This Row],[Code]],Locaties[#All],6,FALSE) -> Zevenaar | F87: Het Kofschip | G87: bg | H87: 1.75 | I87: toilet K3 | J87: 5 | K87: =VLOOKUP(Ruimtestaat[[#This Row],[Ruimte code]],Ruimtegroepen[[#All],[Code]:[Ruimte omschrijving]],2,FALSE) -> Sanitair | L87: S | M87: sure step | N87: 8.17 | Q87: =VLOOKUP(Ruimtestaat[[#This Row],[Ruimte code]],Ruimtegroepen[],4,FALSE) -> S (Sanitair) | R87: 40 | S87: 5w | T87: =IF(R87>0,IF(RIGHT(Ruimtestaat[[#This Row],[Frequentie werkdagen]],1)="w",VALUE(LEFT(Ruimtestaat[[#This Row],[Frequentie werkdagen]],(LEN(Ruimtestaat[[#This Row],[Frequentie werkdagen]])-1))*Ruimtestaat[[#This Row],[Aantal weken/jr]]),IF(RIGHT(Ruimtestaat[[#This Row],[Frequentie werkdagen]],1)="m",VALUE(LEFT(Ruimtestaat[[#This Row],[Frequentie werkdagen]],LEN(Ruimtestaat[[#This Row],[Frequentie werkdagen]])-1)*12),VALUE(LEFT(Ruimtestaat[[#This Row],[Frequentie werkdagen]],(LEN(Ruimtestaat[[#This Row],[Frequentie werkdagen]])-1))))),0) -> 200 | U87: =IF(T87>0,VLOOKUP($J87,Ruimtegroepen[],3,FALSE)*VLOOKUP($L87,Vloersoorten[],3,FALSE)*VLOOKUP($S87,Frequenties[],3,FALSE)*VLOOKUP($A87,Locaties[],3,FALSE),0) -> 0 | V87: =Ruimtestaat[[#This Row],[Uitvoeringen werkdagen]]*Ruimtestaat[[#This Row],[Oppervlak (netto)]] -> 1634 | W87: =IF(U87>0,Ruimtestaat[[#This Row],[Prest. (m2 /jaar) werkdagen]]/Ruimtestaat[[#This Row],[Norm (m2/uur) werkdagen]],0) -> 0 | X87: =Ruimtestaat[[#This Row],[uren / jaar werkdagen]]*Tariefsopbouw!$D$38 -> 0 | Y87: =IF(Ruimtestaat[[#This Row],[Frequentie werkdagen]]>0,VALUE(LEFT(S87,1))*R87,0) -> 200 | Z87: =IF($Y87>0,VLOOKUP($J87,Ruimtegroepen[],3,FALSE)*VLOOKUP($L87,Vloersoorten[],3,FALSE)*VLOOKUP($S87,Frequenties[],3,FALSE)*VLOOKUP($A87,Locaties[],3,FALSE),0) -> 0 | AA87: =Ruimtestaat[[#This Row],[Uitvoeringen eigen dienst]]*Ruimtestaat[[#This Row],[Eigen dienst]] -> 0 | AB87: =IF(Z87>0,Ruimtestaat[[#This Row],[Prest. (m2 /jaar) eigen dienst]]/Ruimtestaat[[#This Row],[Norm (m2/uur) werkdagen]],0) -> 0 | AC87: =Ruimtestaat[[#This Row],[uren / jaar eigen dienst]]*Tariefsopbouw!$D$38 -> 0
A88: 1 | B88: =VLOOKUP(Ruimtestaat[[#This Row],[Code]],Locaties[#All],2,FALSE) -> Het Kofschip & Lindenhage | C88: =VLOOKUP(Ruimtestaat[[#This Row],[Code]],Locaties[#All],4,FALSE) -> Platanenlaan 1 | D88: =VLOOKUP(Ruimtestaat[[#This Row],[Code]],Locaties[#All],5,FALSE) -> 6903 DK | E88: =VLOOKUP(Ruimtestaat[[#This Row],[Code]],Locaties[#All],6,FALSE) -> Zevenaar | F88: Het Kofschip | G88: bg | H88: 1.77 | I88: pers toilet K | J88: 5 | K88: =VLOOKUP(Ruimtestaat[[#This Row],[Ruimte code]],Ruimtegroepen[[#All],[Code]:[Ruimte omschrijving]],2,FALSE) -> Sanitair | L88: S | M88: sure step | N88: 8.17 | Q88: =VLOOKUP(Ruimtestaat[[#This Row],[Ruimte code]],Ruimtegroepen[],4,FALSE) -> S (Sanitair) | R88: 40 | S88: 5w | T88: =IF(R88>0,IF(RIGHT(Ruimtestaat[[#This Row],[Frequentie werkdagen]],1)="w",VALUE(LEFT(Ruimtestaat[[#This Row],[Frequentie werkdagen]],(LEN(Ruimtestaat[[#This Row],[Frequentie werkdagen]])-1))*Ruimtestaat[[#This Row],[Aantal weken/jr]]),IF(RIGHT(Ruimtestaat[[#This Row],[Frequentie werkdagen]],1)="m",VALUE(LEFT(Ruimtestaat[[#This Row],[Frequentie werkdagen]],LEN(Ruimtestaat[[#This Row],[Frequentie werkdagen]])-1)*12),VALUE(LEFT(Ruimtestaat[[#This Row],[Frequentie werkdagen]],(LEN(Ruimtestaat[[#This Row],[Frequentie werkdagen]])-1))))),0) -> 200 | U88: =IF(T88>0,VLOOKUP($J88,Ruimtegroepen[],3,FALSE)*VLOOKUP($L88,Vloersoorten[],3,FALSE)*VLOOKUP($S88,Frequenties[],3,FALSE)*VLOOKUP($A88,Locaties[],3,FALSE),0) -> 0 | V88: =Ruimtestaat[[#This Row],[Uitvoeringen werkdagen]]*Ruimtestaat[[#This Row],[Oppervlak (netto)]] -> 1634 | W88: =IF(U88>0,Ruimtestaat[[#This Row],[Prest. (m2 /jaar) werkdagen]]/Ruimtestaat[[#This Row],[Norm (m2/uur) werkdagen]],0) -> 0 | X88: =Ruimtestaat[[#This Row],[uren / jaar werkdagen]]*Tariefsopbouw!$D$38 -> 0 | Y88: =IF(Ruimtestaat[[#This Row],[Frequentie werkdagen]]>0,VALUE(LEFT(S88,1))*R88,0) -> 200 | Z88: =IF($Y88>0,VLOOKUP($J88,Ruimtegroepen[],3,FALSE)*VLOOKUP($L88,Vloersoorten[],3,FALSE)*VLOOKUP($S88,Frequenties[],3,FALSE)*VLOOKUP($A88,Locaties[],3,FALSE),0) -> 0 | AA88: =Ruimtestaat[[#This Row],[Uitvoeringen eigen dienst]]*Ruimtestaat[[#This Row],[Eigen dienst]] -> 0 | AB88: =IF(Z88>0,Ruimtestaat[[#This Row],[Prest. (m2 /jaar) eigen dienst]]/Ruimtestaat[[#This Row],[Norm (m2/uur) werkdagen]],0) -> 0 | AC88: =Ruimtestaat[[#This Row],[uren / jaar eigen dienst]]*Tariefsopbouw!$D$38 -> 0
A89: 1 | B89: =VLOOKUP(Ruimtestaat[[#This Row],[Code]],Locaties[#All],2,FALSE) -> Het Kofschip & Lindenhage | C89: =VLOOKUP(Ruimtestaat[[#This Row],[Code]],Locaties[#All],4,FALSE) -> Platanenlaan 1 | D89: =VLOOKUP(Ruimtestaat[[#This Row],[Code]],Locaties[#All],5,FALSE) -> 6903 DK | E89: =VLOOKUP(Ruimtestaat[[#This Row],[Code]],Locaties[#All],6,FALSE) -> Zevenaar | F89: Het Kofschip | G89: bg | H89: 1.58 | I89: groepsruimte K6 | J89: 16 | K89: =VLOOKUP(Ruimtestaat[[#This Row],[Ruimte code]],Ruimtegroepen[[#All],[Code]:[Ruimte omschrijving]],2,FALSE) -> Lokaal | L89: T | M89: flotex + marmoleum | N89: 55.01 | Q89: =VLOOKUP(Ruimtestaat[[#This Row],[Ruimte code]],Ruimtegroepen[],4,FALSE) -> L (Lesruimte) | R89: 40 | S89: 5w | T89: =IF(R89>0,IF(RIGHT(Ruimtestaat[[#This Row],[Frequentie werkdagen]],1)="w",VALUE(LEFT(Ruimtestaat[[#This Row],[Frequentie werkdagen]],(LEN(Ruimtestaat[[#This Row],[Frequentie werkdagen]])-1))*Ruimtestaat[[#This Row],[Aantal weken/jr]]),IF(RIGHT(Ruimtestaat[[#This Row],[Frequentie werkdagen]],1)="m",VALUE(LEFT(Ruimtestaat[[#This Row],[Frequentie werkdagen]],LEN(Ruimtestaat[[#This Row],[Frequentie werkdagen]])-1)*12),VALUE(LEFT(Ruimtestaat[[#This Row],[Frequentie werkdagen]],(LEN(Ruimtestaat[[#This Row],[Frequentie werkdagen]])-1))))),0) -> 200 | U89: =IF(T89>0,VLOOKUP($J89,Ruimtegroepen[],3,FALSE)*VLOOKUP($L89,Vloersoorten[],3,FALSE)*VLOOKUP($S89,Frequenties[],3,FALSE)*VLOOKUP($A89,Locaties[],3,FALSE),0) -> 0 | V89: =Ruimtestaat[[#This Row],[Uitvoeringen werkdagen]]*Ruimtestaat[[#This Row],[Oppervlak (netto)]] -> 11002 | W89: =IF(U89>0,Ruimtestaat[[#This Row],[Prest. (m2 /jaar) werkdagen]]/Ruimtestaat[[#This Row],[Norm (m2/uur) werkdagen]],0) -> 0 | X89: =Ruimtestaat[[#This Row],[uren / jaar werkdagen]]*Tariefsopbouw!$D$38 -> 0 | Y89: =IF(Ruimtestaat[[#This Row],[Frequentie werkdagen]]>0,VALUE(LEFT(S89,1))*R89,0) -> 200 | Z89: =IF($Y89>0,VLOOKUP($J89,Ruimtegroepen[],3,FALSE)*VLOOKUP($L89,Vloersoorten[],3,FALSE)*VLOOKUP($S89,Frequenties[],3,FALSE)*VLOOKUP($A89,Locaties[],3,FALSE),0) -> 0 | AA89: =Ruimtestaat[[#This Row],[Uitvoeringen eigen dienst]]*Ruimtestaat[[#This Row],[Eigen dienst]] -> 0 | AB89: =IF(Z89>0,Ruimtestaat[[#This Row],[Prest. (m2 /jaar) eigen dienst]]/Ruimtestaat[[#This Row],[Norm (m2/uur) werkdagen]],0) -> 0 | AC89: =Ruimtestaat[[#This Row],[uren / jaar eigen dienst]]*Tariefsopbouw!$D$38 -> 0
