Workbook

Sheet Scoreblad
A1: Bijlage 5 Scoreblad
A2: Naam Inschrijver:
A3: Personenvoertuigen | B3: Merk | C3: Type | D3: Weging | E3: Leaseprijs
B4: =Personenvoertuigen!B3 -> Volkswagen | C4: =Personenvoertuigen!B4 -> Up | D4: 40 | E4: =Personenvoertuigen!B31 -> 0
B5: =Personenvoertuigen!C3 -> Smart | C5: =Personenvoertuigen!C4 -> Forfour | E5: =Personenvoertuigen!C31 -> 0
B6: =Personenvoertuigen!D3 -> Renault | C6: =Personenvoertuigen!D4 -> Zoe | E6: =Personenvoertuigen!D31 -> 0
A7: Bestelvoertuigen | B7: =Bestelvoertuigen!B3 -> Renault | C7: =Bestelvoertuigen!B4 -> Kangoo | D7: 40 | E7: =Bestelvoertuigen!B33 -> 0
B8: =Bestelvoertuigen!C3 -> Iveco | C8: =Bestelvoertuigen!C4 -> Daily 35S | E8: =Bestelvoertuigen!C33 -> 0
B9: =Bestelvoertuigen!D3 -> Toyota | C9: =Bestelvoertuigen!D4 -> ProAce EV | E9: =Bestelvoertuigen!D33 -> 0
B10: =Bestelvoertuigen!E3 -> Mercedes Benz | C10: =Bestelvoertuigen!E4 -> eVito | E10: =Bestelvoertuigen!E33 -> 0
B11: =Bestelvoertuigen!F3 -> Nissan | C11: =Bestelvoertuigen!F4 -> ENV2000 | E11: =Bestelvoertuigen!F33 -> 0
A12: Scooters | B12: =Scooters!B3 -> Yadea * | C12: =Scooters!B4 -> G5 | D12: 10 | E12: =Scooters!B22 -> 0
A13: Huur | B13: Alle voertuigen | D13: 10 | E13: =Huurvoertuigen!C14 -> 0
A14: Weging 1 = | B14: Gemiddelde | E14: =AVERAGE(E4,E5,E6,E7,E8,E9,E10,E11,E12,E13) -> 0
A15: Weging 2 = | B15: Gewogen gemiddelde | E15: =((D4/3*E4)+(D4/3*E5)+(D4/3*E6)+(D7/5*E7)+(D7/5*E8)+(D7/5*E9)+(D7/5*E10)+(D7/5*E11)+(D12*E12)+(D13*E13))/(D4+D7+D12+D13) -> 0
A16: Beoordelingsprijs = | B16: Gemiddelde van E14+E15 | E16: =AVERAGE(E14:E15) -> 0

Sheet Personenvoertuigen
A1: Bijlage 5 (tabblad personenvoertuigen)
A2: Soort | B2: Profiel 1 | C2: Profiel 2 | D2: Profiel 3
A3: Merk | B3: Volkswagen | C3: Smart | D3: Renault
A4: Model | B4: Up | C4: Forfour | D4: Zoe
A5: Uitvoering
A6: Transmissie
A7: Kleur | B7: wit | C7: wit | D7: wit
A8: Brandstofsoort | B8: elektrisch | C8: elektrisch | D8: elektrisch
A9: Cataloguswaarde incl. BTW / BPM | B9: 27790 | C9: 26995 | D9: 35390
A10: Afleverkosten | B10: 0 | C10: 0 | D10: 0
A11: Cataloguswaarde + Afleverkosten | B11: =SUM(B9:B10) -> 27790 | C11: =SUM(C9:C10) -> 26995 | D11: =SUM(D9:D10) -> 35390
A12: Looptijd in maanden | B12: 60 | C12: 60 | D12: 60
A13: Uitgangspunt voor calculatiematrix | B13: 10000 | C13: 10000 | D13: 10000
A14: Houderschapsbelasting | B14: 0 | C14: 0 | D14: 0
A15: Korting bij centrale inkoop in % | B15: 0 | C15: 0 | D15: 0
A16: Restwaarde incl. BTW & BPM | B16: 0 | C16: 0 | D16: 0
A17: Rentebasis (%) IRS 5 jaars | B17: 0 | C17: 0 | D17: 0
A18: Renteopslag (%) | B18: 0 | C18: 0 | D18: 0
A19: Rente % totaal (basis + opslag) | B19: 0 | C19: 0 | D19: 0
A20: Rentedatum
A21: Afschrijving | B21: 0 | C21: 0 | D21: 0
A22: Rente (€) | B22: 0 | C22: 0 | D22: 0
A23: Reparatie, onderhoud en banden (ROB) | B23: 0 | C23: 0 | D23: 0
A24: Pechhulpverlening | B24: 0 | C24: 0 | D24: 0
A25: Direct vervangend vervoer | B25: 0 | C25: 0 | D25: 0
A26: Haal-/breng service | B26: 0 | C26: 0 | D26: 0
A27: Brandstofpas en administratie | B27: 0 | C27: 0 | D27: 0
A28: All weather banden | B28: 0 | C28: 0 | D28: 0
A29: Beheerkosten | B29: 0 | C29: 0 | D29: 0
A30: Administratiekosten | B30: 0 | C30: 0 | D30: 0
A31: Totale leaseprijs excl. Brandstof | B31: =SUM(B21:B30) -> 0 | C31: =SUM(C21:C30) -> 0 | D31: =SUM(D21:D30) -> 0
A32: Brandstofvoorschot | B32: 0 | C32: 0 | D32: 0
A33: Tarief meer/minder kilometers | B33: 0 | C33: 0 | D33: 0

Sheet Bestelvoertuigen
A1: Bijlage 5 (tabblad Bestelvoertuigen)
A2: Soort | B2: profiel 4 | C2: Profiel 5 | D2: profiel 6 | E2: Profiel 7 | F2: Profiel 8
A3: Merk | B3: Renault | C3: Iveco | D3: Toyota | E3: Mercedes Benz | F3: Nissan
A4: Model | B4: Kangoo | C4: Daily 35S | D4: ProAce EV | E4: eVito | F4: ENV2000
A5: Uitvoering | B5: ZE33 | F5: Business
A6: Transmissie
A7: Kleur | B7: wit | C7: wit | D7: wit | E7: wit | F7: wit
A8: Carrosserie | F8: standaard
A9: Brandstofsoort | B9: elektrisch | C9: CNG | D9: elektrisch | E9: elektrisch | F9: elektrisch
A10: grijs kenteken
A11: Cataloguswaarde incl. BTW / BPM | B11: 35413 | C11: 44055 | D11: 45795 | E11: 72007 | F11: 45173
A12: Afleverkosten | B12: 0 | C12: 0 | D12: 0 | E12: 0 | F12: 0
A13: Cataloguswaarde + Afleverkosten | B13: =SUM(B11:B12) -> 35413 | C13: =SUM(C11:C12) -> 44055 | D13: =SUM(D11:D12) -> 45795 | E13: =SUM(E11:E12) -> 72007 | F13: =SUM(F11:F12) -> 45173
A14: Looptijd in maanden | B14: 60 | C14: 60 | D14: 60 | E14: 60 | F14: 60
A15: Uitgangspunt voor calculatiematrix | B15: 10000 | C15: 10000 | D15: 10000 | E15: 10000 | F15: 10000
A16: Houderschapsbelasting | B16: 0 | C16: 0 | D16: 0 | E16: 0 | F16: 0
A17: Korting bij centrale inkoop in % | B17: 0 | C17: 0 | D17: 0 | E17: 0 | F17: 0
A18: Restwaarde incl. BTW & BPM | B18: 0 | C18: 0 | D18: 0 | E18: 0 | F18: 0
A19: Rentebasis (%) IRS 5 jaars | B19: 0 | C19: 0 | D19: 0 | E19: 0 | F19: 0
A20: Renteopslag (%) | B20: 0 | C20: 0 | D20: 0 | E20: 0 | F20: 0
A21: Rente % totaal (basis + opslag) | B21: 0 | C21: 0 | D21: 0 | E21: 0 | F21: 0
A22: Rentedatum
A23: Afschrijving | B23: 0 | C23: 0 | D23: 0 | E23: 0 | F23: 0
A24: Rente (€) | B24: 0 | C24: 0 | D24: 0 | E24: 0 | F24: 0
A25: Reparatie, onderhoud en banden (ROB) | B25: 0 | C25: 0 | D25: 0 | E25: 0 | F25: 0
A26: Pechhulpverlening | B26: 0 | C26: 0 | D26: 0 | E26: 0 | F26: 0
A27: Direct vervangend vervoer | B27: 0 | C27: 0 | D27: 0 | E27: 0 | F27: 0
A28: Haal-/breng service | B28: 0 | C28: 0 | D28: 0 | E28: 0 | F28: 0
A29: Brandstofpas en administratie | B29: 0 | C29: 0 | D29: 0 | E29: 0 | F29: 0
A30: All weather banden | B30: 0 | C30: 0 | D30: 0 | E30: 0 | F30: 0
A31: Beheerkosten | B31: 0 | C31: 0 | D31: 0 | E31: 0 | F31: 0
A32: Administratiekosten | B32: 0 | C32: 0 | D32: 0 | E32: 0 | F32: 0
A33: Totale leaseprijs excl. Brandstof | B33: =SUM(B23:B32) -> 0 | C33: =SUM(C23:C32) -> 0 | D33: =SUM(D23:D32) -> 0 | E33: =SUM(E23:E32) -> 0 | F33: =SUM(F23:F32) -> 0
A34: Brandstofvoorschot | B34: 0 | C34: 0 | D34: 0 | E34: 0 | F34: 0
A35: Tarief meer/minder kilometers | B35: 0 | C35: 0 | D35: 0 | E35: 0 | F35: 0

Sheet Scooters
A1: Bijlage 5 (tabblad scooters)
A2: Soort | B2: Profiel 9
A3: Merk | B3: Yadea *
A4: Model | B4: G5
A5: Uitvoering
A6: Kleur | B6: wit
A7: Brandstofsoort | B7: elektrisch
A8: Cataloguswaarde incl. BTW / BPM grijs exl. | B8: 2724
A9: Afleverkosten | B9: 0
A10: Cataloguswaarde + afleverkosten | B10: =SUM(B8:B9) -> 2724
A11: Looptijd in maanden | B11: 60
A12: Uitgangspunt voor calculatiematrix | B12: 2000
A13: Korting bij centrale inkoop in % | B13: 0
A14: Rentebasis (%) IRS 5 jaars | B14: 0
A15: Renteopslag (%) | B15: 0
A16: Rente % totaal (basis + opslag) | B16: 0
A17: Rentedatum
A18: Afschrijving | B18: 0
A19: Rente (€) | B19: 0
A20: Beheerkosten | B20: 0
A21: Administratiekosten | B21: 0
A22: Totale leaseprijs | B22: =SUM(B18:B21) -> 0
A23: * of vergelijkbaar

Sheet Huurvoertuigen
A1: Huurvoertuigen
A2: Prijzen per dag
A3: Merk* | B3: Type* | C3: 1-3 dag | D3: 4-7 dagen | E3: 8-14 dagen | F3: 15-30 dagen | G3: 31-90 dagen | H3: >90 dagen
A4: Volkswagen | B4: Up | C4: 0 | D4: 0 | E4: 0 | F4: 0 | G4: 0 | H4: 0
A5: Smart | B5: Forfour | C5: 0 | D5: 0 | E5: 0 | F5: 0 | G5: 0 | H5: 0
A6: Renault | B6: Zoe | C6: 0 | D6: 0 | E6: 0 | F6: 0 | G6: 0 | H6: 0
A7: Renault | B7: Kangoo | C7: 0 | D7: 0 | E7: 0 | F7: 0 | G7: 0 | H7: 0
A8: Iveco | B8: Daily 35S | C8: 0 | D8: 0 | E8: 0 | F8: 0 | G8: 0 | H8: 0
A9: Toyota | B9: ProAce EV | C9: 0 | D9: 0 | E9: 0 | F9: 0 | G9: 0 | H9: 0
A10: Mercedes Benz | B10: eVito | C10: 0 | D10: 0 | E10: 0 | F10: 0 | G10: 0 | H10: 0
A11: Nissan | B11: ENV2000 | C11: 0 | D11: 0 | E11: 0 | F11: 0 | G11: 0 | H11: 0
A12: * Of gelijkwaardig
A14: Prijs naar scoreblad | C14: =AVERAGE(C4:H11) -> 0
