Workbook
Name cad: specificatie!#REF!
Name ign: #REF!
Name igo: #REF!
Name iin: #REF!
Name iio: #REF!
Name index: specificatie!#REF!
Name premieGMB: #REF!
Name premieOWS: #REF!

Sheet Polisblad
A1: =specificatie!A1 -> Specificatie behorende bij de Eigendommenverzekering Overheden van de gemeente West Betuwe
A2: =specificatie!A2 -> Polisnummer : B0100117921
A3: =specificatie!#REF! -> #REF!
A6: Sub: | B6: Omschrijving: | C6: Gemeente Geldermalsen | D6: Gemeente Neerijnen | E6: Gemeente Lingewaal | F6: Totaal gemeente West Betuwe
A8: 1 | B8: Gemeentelijk Bezit: | C8: =specificatie!H74 -> 69436000 | D8: =specificatie!H150 -> 20041000 | E8: =specificatie!H212 -> 33903000 | F8: =SUM(C8:E8) -> 123380000
A9: 2 | B9: Onderwijs: | C9: =specificatie!H113 -> 92090000 | D9: =specificatie!H169 -> 30471000 | E9: =specificatie!K231 -> 16114000 | F9: =SUM(C9:E9) -> 138675000
B10: Totaal: | C10: =SUM(C8:C9) -> 161526000 | D10: =SUM(D8:D9) -> 50512000 | E10: =SUM(E8:E9) -> 50017000 | F10: =SUM(F8:F9) -> 262055000

Sheet specificatie
A1: Specificatie behorende bij de Eigendommenverzekering Overheden van de gemeente West Betuwe
A2: Polisnummer : B0100117921
G3: Stand per 1 januari 2021 (na indexering): | L3: Stand per 1 januari 2020:
A4: Sub: | B4: Omschrijving: | C4: Taxatie (indien getaxeerd dan datum van taxatie vermelden) | D4: Gebouwen: | E4: Gebouwen: | F4: Inventaris: | G4: Inventaris: | H4: Totaal verzekerde waarde: | I4: Gebouwen: | J4: Inventaris: | K4: Totaal verzekerde waarde:
A6: Voormalig gemeente Geldermalsen
A8: Gemeentelijk Bezit:
B9: gemeentehuis | C9: Bureau 2G Taxaties d.d. 10 feb 2020 | D9: 0 | E9: =ROUNDUP(D9*108/105,-3) -> 0 | F9: 2525000 | G9: =ROUNDUP(F9*103.5/101.6,-3) -> 2573000 | H9: =SUM(E9+G9) -> 2573000 | I9: 9790789 | J9: 1552906 | K9: =SUM(I9:J9) -> 11343695
B10: gemeentehuis | D10: 49000 | E10: =ROUNDUP(D10*108/105,-3) -> 51000 | G10: =ROUNDUP(F10*103.5/101.6,-3) -> 0 | H10: =SUM(E10+G10) -> 51000 | I10: 3575145 | J10: 370688 | K10: =SUM(I10:J10) -> 3945833
D11: 0 | E11: =ROUNDUP(D11*108/105,-3) -> 0 | F11: 0 | G11: =ROUNDUP(F11*103.5/101.6,-3) -> 0 | H11: =SUM(E11+G11) -> 0 | K11: =SUM(I11:J11) -> 0
B12: Werkplaats, zoutloods en fietsenstalling | C12: Bureau 2G Taxaties d.d. 10 feb 2020 | D12: 0 | E12: =ROUNDUP(D12*108/105,-3) -> 0 | F12: 1080000 | G12: =ROUNDUP(F12*103.5/101.6,-3) -> 1101000 | H12: =SUM(E12+G12) -> 1101000 | I12: 822283 | J12: 304117 | K12: =SUM(I12:J12) -> 1126400
B13: opslagloods | D13: 49000 | E13: =ROUNDUP(D13*108/105,-3) -> 51000 | F13: 0 | G13: =ROUNDUP(F13*103.5/101.6,-3) -> 0 | H13: =SUM(E13+G13) -> 51000 | I13: 76610 | K13: =SUM(I13:J13) -> 76610
A14: Ambulancepost/brandweerkazerne | D14: 0 | E14: =ROUNDUP(D14*108/105,-3) -> 0 | F14: 0 | G14: =ROUNDUP(F14*103.5/101.6,-3) -> 0 | H14: =SUM(E14+G14) -> 0 | K14: =SUM(I14:J14) -> 0
D15: 1105000 | E15: =ROUNDUP(D15*108/105,-3) -> 1137000 | F15: 0 | G15: =ROUNDUP(F15*103.5/101.6,-3) -> 0 | H15: =SUM(E15+G15) -> 1137000 | I15: 934645 | K15: =SUM(I15:J15) -> 934645
D16: 375000 | E16: =ROUNDUP(D16*108/105,-3) -> 386000 | F16: 0 | G16: =ROUNDUP(F16*103.5/101.6,-3) -> 0 | H16: =SUM(E16+G16) -> 386000 | I16: 316656 | K16: =SUM(I16:J16) -> 316656
D17: 0 | E17: =ROUNDUP(D17*108/105,-3) -> 0 | F17: 0 | G17: =ROUNDUP(F17*103.5/101.6,-3) -> 0 | H17: =SUM(E17+G17) -> 0 | K17: =SUM(I17:J17) -> 0
A18: Monumenten | D18: 0 | E18: =ROUNDUP(D18*108/105,-3) -> 0 | F18: 0 | G18: =ROUNDUP(F18*103.5/101.6,-3) -> 0 | H18: =SUM(E18+G18) -> 0 | K18: =SUM(I18:J18) -> 0
B19: Toren NH-Kerk | D19: 1750000 | E19: =ROUNDUP(D19*108/105,-3) -> 1800000 | F19: 0 | G19: =ROUNDUP(F19*103.5/101.6,-3) -> 0 | H19: =SUM(E19+G19) -> 1800000 | I19: 1481131 | K19: =SUM(I19:J19) -> 1481131
B20: Toren NH-Kerk | D20: 1201000 | E20: =ROUNDUP(D20*108/105,-3) -> 1236000 | F20: 0 | G20: =ROUNDUP(F20*103.5/101.6,-3) -> 0 | H20: =SUM(E20+G20) -> 1236000 | I20: 1016363 | K20: =SUM(I20:J20) -> 1016363
B21: Toren NH-Kerk | D21: 3289000 | E21: =ROUNDUP(D21*108/105,-3) -> 3383000 | F21: 0 | G21: =ROUNDUP(F21*103.5/101.6,-3) -> 0 | H21: =SUM(E21+G21) -> 3383000 | I21: 2783505 | K21: =SUM(I21:J21) -> 2783505
B22: Toren NH-Kerk | D22: 2535000 | E22: =ROUNDUP(D22*108/105,-3) -> 2608000 | F22: 0 | G22: =ROUNDUP(F22*103.5/101.6,-3) -> 0 | H22: =SUM(E22+G22) -> 2608000 | I22: 2145087 | K22: =SUM(I22:J22) -> 2145087
B23: Toren NH-Kerk | D23: 7059000 | E23: =ROUNDUP(D23*108/105,-3) -> 7261000 | F23: 0 | G23: =ROUNDUP(F23*103.5/101.6,-3) -> 0 | H23: =SUM(E23+G23) -> 7261000 | I23: 5975599 | K23: =SUM(I23:J23) -> 5975599
B24: Toren NH-Kerk | D24: 2776000 | E24: =ROUNDUP(D24*108/105,-3) -> 2856000 | F24: 0 | G24: =ROUNDUP(F24*103.5/101.6,-3) -> 0 | H24: =SUM(E24+G24) -> 2856000 | I24: 2349381 | K24: =SUM(I24:J24) -> 2349381
B25: Toren NH-Kerk | D25: 1570000 | E25: =ROUNDUP(D25*108/105,-3) -> 1615000 | F25: 0 | G25: =ROUNDUP(F25*103.5/101.6,-3) -> 0 | H25: =SUM(E25+G25) -> 1615000 | I25: 1327911 | K25: =SUM(I25:J25) -> 1327911
B26: Toren NH-Kerk | D26: 2341000 | E26: =ROUNDUP(D26*108/105,-3) -> 2408000 | F26: 0 | G26: =ROUNDUP(F26*103.5/101.6,-3) -> 0 | H26: =SUM(E26+G26) -> 2408000 | I26: 1981652 | K26: =SUM(I26:J26) -> 1981652
B27: Toren NH-Kerk | D27: 1630000 | E27: =ROUNDUP(D27*108/105,-3) -> 1677000 | F27: 0 | G27: =ROUNDUP(F27*103.5/101.6,-3) -> 0 | H27: =SUM(E27+G27) -> 1677000 | I27: 1378984 | K27: =SUM(I27:J27) -> 1378984
B28: Toren NH-Kerk | D28: 1329000 | E28: =ROUNDUP(D28*108/105,-3) -> 1367000 | F28: 0 | G28: =ROUNDUP(F28*103.5/101.6,-3) -> 0 | H28: =SUM(E28+G28) -> 1367000 | I28: 1123617 | K28: =SUM(I28:J28) -> 1123617
B29: Toren NH-Kerk | D29: 2221000 | E29: =ROUNDUP(D29*108/105,-3) -> 2285000 | F29: 0 | G29: =ROUNDUP(F29*103.5/101.6,-3) -> 0 | H29: =SUM(E29+G29) -> 2285000 | I29: 1879505 | K29: =SUM(I29:J29) -> 1879505
B30: Toren NH-Kerk | D30: 2716000 | E30: =ROUNDUP(D30*108/105,-3) -> 2794000 | F30: 0 | G30: =ROUNDUP(F30*103.5/101.6,-3) -> 0 | H30: =SUM(E30+G30) -> 2794000 | I30: 2298307 | K30: =SUM(I30:J30) -> 2298307
B31: Hoefstal | D31: 25000 | E31: =ROUNDUP(D31*108/105,-3) -> 26000 | F31: 0 | G31: =ROUNDUP(F31*103.5/101.6,-3) -> 0 | H31: =SUM(E31+G31) -> 26000 | I31: 20429 | K31: =SUM(I31:J31) -> 20429
B32: Pomp | D32: 0 | E32: =ROUNDUP(D32*108/105,-3) -> 0 | F32: 0 | G32: =ROUNDUP(F32*103.5/101.6,-3) -> 0 | H32: =SUM(E32+G32) -> 0 | K32: =SUM(I32:J32) -> 0
D33: 0 | E33: =ROUNDUP(D33*108/105,-3) -> 0 | F33: 0 | G33: =ROUNDUP(F33*103.5/101.6,-3) -> 0 | H33: =SUM(E33+G33) -> 0 | K33: =SUM(I33:J33) -> 0
A34: Klokken/uurwerken | B34: 11 uurwerken en 14 luidklokken | D34: 1087000 | E34: =ROUNDUP(D34*108/105,-3) -> 1119000 | F34: 0 | G34: =ROUNDUP(F34*103.5/101.6,-3) -> 0 | H34: =SUM(E34+G34) -> 1119000 | I34: 919323 | K34: =SUM(I34:J34) -> 919323
B35: 1 uurwerk | D35: 19000 | E35: =ROUNDUP(D35*108/105,-3) -> 20000 | F35: 0 | G35: =ROUNDUP(F35*103.5/101.6,-3) -> 0 | H35: =SUM(E35+G35) -> 20000 | I35: 15322 | K35: =SUM(I35:J35) -> 15322
B36: 1 uurwerk | D36: 19000 | E36: =ROUNDUP(D36*108/105,-3) -> 20000 | F36: 0 | G36: =ROUNDUP(F36*103.5/101.6,-3) -> 0 | H36: =SUM(E36+G36) -> 20000 | I36: 15322 | K36: =SUM(I36:J36) -> 15322
B37: 1 uurwerk | D37: 13000 | E37: =ROUNDUP(D37*108/105,-3) -> 14000 | F37: 0 | G37: =ROUNDUP(F37*103.5/101.6,-3) -> 0 | H37: =SUM(E37+G37) -> 14000 | I37: 10215 | K37: =SUM(I37:J37) -> 10215
D38: 0 | E38: =ROUNDUP(D38*108/105,-3) -> 0 | F38: 0 | G38: =ROUNDUP(F38*103.5/101.6,-3) -> 0 | H38: =SUM(E38+G38) -> 0 | K38: =SUM(I38:J38) -> 0
A39: Begraafplaatsen | D39: 0 | E39: =ROUNDUP(D39*108/105,-3) -> 0 | F39: 0 | G39: =ROUNDUP(F39*103.5/101.6,-3) -> 0 | H39: =SUM(E39+G39) -> 0 | K39: =SUM(I39:J39) -> 0
B40: Poorten en hekwerken bij 15 begraafplaatsen | D40: 574000 | E40: =ROUNDUP(D40*108/105,-3) -> 591000 | F40: 0 | G40: =ROUNDUP(F40*103.5/101.6,-3) -> 0 | H40: =SUM(E40+G40) -> 591000 | I40: 485198 | K40: =SUM(I40:J40) -> 485198
B41: Baarhuisjes | D41: 103000 | E41: =ROUNDUP(D41*108/105,-3) -> 106000 | F41: 9000 | G41: =ROUNDUP(F41*103.5/101.6,-3) -> 10000 | H41: =SUM(E41+G41) -> 116000 | I41: 86825 | J41: 7148 | K41: =SUM(I41:J41) -> 93973
B42: Baarhuisje | D42: 34000 | E42: =ROUNDUP(D42*108/105,-3) -> 35000 | F42: 0 | G42: =ROUNDUP(F42*103.5/101.6,-3) -> 0 | H42: =SUM(E42+G42) -> 35000 | I42: 27580 | K42: =SUM(I42:J42) -> 27580
B43: Baarhuisje | D43: 19000 | E43: =ROUNDUP(D43*108/105,-3) -> 20000 | F43: 0 | G43: =ROUNDUP(F43*103.5/101.6,-3) -> 0 | H43: =SUM(E43+G43) -> 20000 | I43: 15322 | K43: =SUM(I43:J43) -> 15322
B44: Baarhuisje | D44: 79000 | E44: =ROUNDUP(D44*108/105,-3) -> 82000 | F44: 0 | G44: =ROUNDUP(F44*103.5/101.6,-3) -> 0 | H44: =SUM(E44+G44) -> 82000 | I44: 66396 | K44: =SUM(I44:J44) -> 66396
B45: Baarhuisje | D45: 31000 | E45: =ROUNDUP(D45*108/105,-3) -> 32000 | F45: 0 | G45: =ROUNDUP(F45*103.5/101.6,-3) -> 0 | H45: =SUM(E45+G45) -> 32000 | I45: 25537 | K45: =SUM(I45:J45) -> 25537
B46: Baarhuisje | D46: 86000 | E46: =ROUNDUP(D46*108/105,-3) -> 89000 | F46: 0 | G46: =ROUNDUP(F46*103.5/101.6,-3) -> 0 | H46: =SUM(E46+G46) -> 89000 | I46: 71503 | K46: =SUM(I46:J46) -> 71503
B47: Baarhuisje | D47: 61000 | E47: =ROUNDUP(D47*108/105,-3) -> 63000 | F47: 0 | G47: =ROUNDUP(F47*103.5/101.6,-3) -> 0 | H47: =SUM(E47+G47) -> 63000 | I47: 51073 | K47: =SUM(I47:J47) -> 51073
B48: Baarhuisje | D48: 25000 | E48: =ROUNDUP(D48*108/105,-3) -> 26000 | F48: 0 | G48: =ROUNDUP(F48*103.5/101.6,-3) -> 0 | H48: =SUM(E48+G48) -> 26000 | I48: 20429 | K48: =SUM(I48:J48) -> 20429
A49: Overige gemeentelijke gebouwen | D49: 0 | E49: =ROUNDUP(D49*108/105,-3) -> 0 | F49: 0 | G49: =ROUNDUP(F49*103.5/101.6,-3) -> 0 | H49: =SUM(E49+G49) -> 0 | K49: =SUM(I49:J49) -> 0
B50: voormalig Kruisgebouw | D50: 465000 | E50: =ROUNDUP(D50*108/105,-3) -> 479000 | F50: 0 | G50: =ROUNDUP(F50*103.5/101.6,-3) -> 0 | H50: =SUM(E50+G50) -> 479000 | I50: 393266 | K50: =SUM(I50:J50) -> 393266
D51: 1075000 | E51: =ROUNDUP(D51*108/105,-3) -> 1106000 | F51: 0 | G51: =ROUNDUP(F51*103.5/101.6,-3) -> 0 | H51: =SUM(E51+G51) -> 1106000 | I51: 909108 | K51: =SUM(I51:J51) -> 909108
B52: boerderij met woning | D52: 331000 | E52: =ROUNDUP(D52*108/105,-3) -> 341000 | F52: 0 | G52: =ROUNDUP(F52*103.5/101.6,-3) -> 0 | H52: =SUM(E52+G52) -> 341000 | I52: 280136 | K52: =SUM(I52:J52) -> 280136
B53: vergeten objecten | D53: 906000 | E53: =ROUNDUP(D53*108/105,-3) -> 932000 | F53: 0 | G53: =ROUNDUP(F53*103.5/101.6,-3) -> 0 | H53: =SUM(E53+G53) -> 932000 | I53: 766102 | K53: =SUM(I53:J53) -> 766102
D54: 0 | E54: =ROUNDUP(D54*108/105,-3) -> 0 | F54: 0 | G54: =ROUNDUP(F54*103.5/101.6,-3) -> 0 | H54: =SUM(E54+G54) -> 0 | K54: =SUM(I54:J54) -> 0
B55: bloemenkiosk | D55: 61000 | E55: =ROUNDUP(D55*108/105,-3) -> 63000 | F55: 0 | G55: =ROUNDUP(F55*103.5/101.6,-3) -> 0 | H55: =SUM(E55+G55) -> 63000 | I55: 51073 | K55: =SUM(I55:J55) -> 51073
B56: Bibliotheek | D56: 1262000 | E56: =ROUNDUP(D56*108/105,-3) -> 1299000 | F56: 0 | G56: =ROUNDUP(F56*103.5/101.6,-3) -> 0 | H56: =SUM(E56+G56) -> 1299000 | I56: 1067436 | K56: =SUM(I56:J56) -> 1067436
B57: Wandelsportver. Pr. Marijke | D57: 303000 | E57: =ROUNDUP(D57*108/105,-3) -> 312000 | F57: 0 | G57: =ROUNDUP(F57*103.5/101.6,-3) -> 0 | H57: =SUM(E57+G57) -> 312000 | I57: 255367 | K57: =SUM(I57:J57) -> 255367
B58: polderhuisje | D58: 357000 | E58: =ROUNDUP(D58*108/105,-3) -> 368000 | F58: 0 | G58: =ROUNDUP(F58*103.5/101.6,-3) -> 0 | H58: =SUM(E58+G58) -> 368000 | I58: 301334 | K58: =SUM(I58:J58) -> 301334
B59: Rechthuis | D59: 381000 | E59: =ROUNDUP(D59*108/105,-3) -> 392000 | F59: 0 | G59: =ROUNDUP(F59*103.5/101.6,-3) -> 0 | H59: =SUM(E59+G59) -> 392000 | I59: 321763 | K59: =SUM(I59:J59) -> 321763
B60: proeftuinencomplex | D60: 2161000 | E60: =ROUNDUP(D60*108/105,-3) -> 2223000 | F60: 0 | G60: =ROUNDUP(F60*103.5/101.6,-3) -> 0 | H60: =SUM(E60+G60) -> 2223000 | I60: 1828431 | K60: =SUM(I60:J60) -> 1828431
B61: gebouw De Linge-Oever | D61: 670000 | E61: =ROUNDUP(D61*108/105,-3) -> 690000 | F61: 0 | G61: =ROUNDUP(F61*103.5/101.6,-3) -> 0 | H61: =SUM(E61+G61) -> 690000 | I61: 566916 | K61: =SUM(I61:J61) -> 566916
B62: gymlokaal/dorpshuis | D62: 53000 | E62: =ROUNDUP(D62*108/105,-3) -> 55000 | F62: 0 | G62: =ROUNDUP(F62*103.5/101.6,-3) -> 0 | H62: =SUM(E62+G62) -> 55000 | I62: 43911 | K62: =SUM(I62:J62) -> 43911
B63: 4 units | D63: 91000 | E63: =ROUNDUP(D63*108/105,-3) -> 94000 | F63: 0 | G63: =ROUNDUP(F63*103.5/101.6,-3) -> 0 | H63: =SUM(E63+G63) -> 94000 | I63: 76610 | K63: =SUM(I63:J63) -> 76610
B64: 3 units | D64: 19000 | E64: =ROUNDUP(D64*108/105,-3) -> 20000 | F64: 0 | G64: =ROUNDUP(F64*103.5/101.6,-3) -> 0 | H64: =SUM(E64+G64) -> 20000 | I64: 15322 | K64: =SUM(I64:J64) -> 15322
B65: Kulturhus Beesd | D65: 5629000 | E65: =ROUNDUP(D65*108/105,-3) -> 5790000 | F65: 254000 | G65: =ROUNDUP(F65*103.5/101.6,-3) -> 259000 | H65: =SUM(E65+G65) -> 6049000 | I65: 4765157 | J65: 237935 | K65: =SUM(I65:J65) -> 5003092
B66: MFC De Pluk | D66: 12988000 | E66: =ROUNDUP(D66*108/105,-3) -> 13360000 | F66: 199000 | G66: =ROUNDUP(F66*103.5/101.6,-3) -> 203000 | H66: =SUM(E66+G66) -> 13563000 | I66: 10996123 | J66: 185740 | K66: =SUM(I66:J66) -> 11181863
B67: v/m SWO gebouw | D67: 846000 | E67: =ROUNDUP(D67*108/105,-3) -> 871000 | F67: 0 | G67: =ROUNDUP(F67*103.5/101.6,-3) -> 0 | H67: =SUM(E67+G67) -> 871000 | I67: 715029 | K67: =SUM(I67:J67) -> 715029
B68: v/m Minzerie | D68: 1021000 | E68: =ROUNDUP(D68*108/105,-3) -> 1051000 | F68: 0 | G68: =ROUNDUP(F68*103.5/101.6,-3) -> 0 | H68: =SUM(E68+G68) -> 1051000 | I68: 863142 | K68: =SUM(I68:J68) -> 863142
B69: hooischuur met hertenkamp | D69: 61000 | E69: =ROUNDUP(D69*108/105,-3) -> 63000 | F69: 0 | G69: =ROUNDUP(F69*103.5/101.6,-3) -> 0 | H69: =SUM(E69+G69) -> 63000 | I69: 51073 | K69: =SUM(I69:J69) -> 51073
B70: Hooiruif met stal | D70: 19000 | E70: =ROUNDUP(D70*108/105,-3) -> 20000 | F70: 0 | G70: =ROUNDUP(F70*103.5/101.6,-3) -> 0 | H70: =SUM(E70+G70) -> 20000 | I70: 15322 | K70: =SUM(I70:J70) -> 15322
B71: pompgemaal | D71: 186000 | E71: =ROUNDUP(D71*108/105,-3) -> 192000 | F71: 0 | G71: =ROUNDUP(F71*103.5/101.6,-3) -> 0 | H71: =SUM(E71+G71) -> 192000 | I71: 157124 | K71: =SUM(I71:J71) -> 157124
B72: pompgemaal | D72: 22000 | E72: =ROUNDUP(D72*108/105,-3) -> 23000 | F72: 0 | G72: =ROUNDUP(F72*103.5/101.6,-3) -> 0 | H72: =SUM(E72+G72) -> 23000 | I72: 17573 | K72: =SUM(I72:J72) -> 17573
B73: 3 pompgemaaltjes | D73: 377000 | E73: =ROUNDUP(D73*108/105,-3) -> 388000 | F73: 0 | G73: =ROUNDUP(F73*103.5/101.6,-3) -> 0 | H73: =SUM(E73+G73) -> 388000 | I73: 318384 | K73: =SUM(I73:J73) -> 318384
A74: Totaal Gemeentelijk Bezit | D74: =SUM(D9:D73) -> 63454000 | E74: =SUM(E9:E73) -> 65290000 | F74: =SUM(F9:F73) -> 4067000 | G74: =SUM(G9:G73) -> 4146000 | H74: =SUM(H9:H73) -> 69436000 | I74: =SUM(I9:I73) -> 67863346 | J74: =SUM(J9:J73) -> 2658534 | K74: =SUM(K9:K73) -> 70521880
A76: Onderwijs
B77: De Dreumeldoos | D77: 357000 | E77: =ROUNDUP(D77*108/105,-3) -> 368000 | F77: 0 | G77: =ROUNDUP(F77*103.5/101.6,-3) -> 0 | H77: =SUM(E77+G77) -> 368000 | I77: 301470 | K77: =SUM(I77:J77) -> 301470
B78: t Beldertje | D78: 351000 | E78: =ROUNDUP(D78*108/105,-3) -> 362000 | F78: 0 | G78: =ROUNDUP(F78*103.5/101.6,-3) -> 0 | H78: =SUM(E78+G78) -> 362000 | I78: 296361 | K78: =SUM(I78:J78) -> 296361
B79: t Steijntje | D79: 357000 | E79: =ROUNDUP(D79*108/105,-3) -> 368000 | F79: 0 | G79: =ROUNDUP(F79*103.5/101.6,-3) -> 0 | H79: =SUM(E79+G79) -> 368000 | I79: 301470 | K79: =SUM(I79:J79) -> 301470
D80: 0 | E80: =ROUNDUP(D80*108/105,-3) -> 0 | F80: 0 | G80: =ROUNDUP(F80*103.5/101.6,-3) -> 0 | H80: =SUM(E80+G80) -> 0 | K80: =SUM(I80:J80) -> 0
A81: Basisscholen | D81: 0 | E81: =ROUNDUP(D81*108/105,-3) -> 0 | F81: 0 | G81: =ROUNDUP(F81*103.5/101.6,-3) -> 0 | H81: =SUM(E81+G81) -> 0 | K81: =SUM(I81:J81) -> 0
B82: BBS De Morgenster incl BBO Tovertuin | D82: 3253000 | E82: =ROUNDUP(D82*108/105,-3) -> 3346000 | F82: 392000 | G82: =ROUNDUP(F82*103.5/101.6,-3) -> 400000 | H82: =SUM(E82+G82) -> 3746000 | I82: 2754110 | J82: 367099 | K82: =SUM(I82:J82) -> 3121209
B83: BBS Oranje Nassau incl. noodlokalen | D83: 3344000 | E83: =ROUNDUP(D83*108/105,-3) -> 3440000 | F83: 527000 | G83: =ROUNDUP(F83*103.5/101.6,-3) -> 537000 | H83: =SUM(E83+G83) -> 3977000 | I83: 2830755 | J83: 494919 | K83: =SUM(I83:J83) -> 3325674
B84: BBS Rehoboth Anjerstraat | D84: 3447000 | E84: =ROUNDUP(D84*108/105,-3) -> 3546000 | F84: 415000 | G84: =ROUNDUP(F84*103.5/101.6,-3) -> 423000 | H84: =SUM(E84+G84) -> 3969000 | I84: 2917620 | J84: 389595 | K84: =SUM(I84:J84) -> 3307215
B85: BBS Rehoboth Leeuwenstein | D85: 3079000 | E85: =ROUNDUP(D85*108/105,-3) -> 3167000 | F85: 451000 | G85: =ROUNDUP(F85*103.5/101.6,-3) -> 460000 | H85: =SUM(E85+G85) -> 3627000 | I85: 2605930 | J85: 423340 | K85: =SUM(I85:J85) -> 3029270
B86: BBS De Schakel | D86: 1564000 | E86: =ROUNDUP(D86*108/105,-3) -> 1609000 | F86: 277000 | G86: =ROUNDUP(F86*103.5/101.6,-3) -> 283000 | H86: =SUM(E86+G86) -> 1892000 | I86: 1323404 | J86: 259730 | K86: =SUM(I86:J86) -> 1583134
B87: BBS De Lingelaar incl. BSO Animal | D87: 2771000 | E87: =ROUNDUP(D87*108/105,-3) -> 2851000 | F87: 352000 | G87: =ROUNDUP(F87*103.5/101.6,-3) -> 359000 | H87: =SUM(E87+G87) -> 3210000 | I87: 2345337 | J87: 330287 | K87: =SUM(I87:J87) -> 2675624
B88: BBS St. Anthonius incl. noodlokaal | D88: 3514000 | E88: =ROUNDUP(D88*108/105,-3) -> 3615000 | F88: 372000 | G88: =ROUNDUP(F88*103.5/101.6,-3) -> 379000 | H88: =SUM(E88+G88) -> 3994000 | I88: 2973826 | J88: 348693 | K88: =SUM(I88:J88) -> 3322519
B89: D'n Bogerd incl. PSZ Baloe | D89: 2874000 | E89: =ROUNDUP(D89*108/105,-3) -> 2957000 | F89: 366000 | G89: =ROUNDUP(F89*103.5/101.6,-3) -> 373000 | H89: =SUM(E89+G89) -> 3330000 | I89: 2432201 | J89: 342558 | K89: =SUM(I89:J89) -> 2774759
D90: 0 | E90: =ROUNDUP(D90*108/105,-3) -> 0 | F90: 0 | G90: =ROUNDUP(F90*103.5/101.6,-3) -> 0 | H90: =SUM(E90+G90) -> 0 | K90: =SUM(I90:J90) -> 0
D91: 0 | E91: =ROUNDUP(D91*108/105,-3) -> 0 | F91: 0 | G91: =ROUNDUP(F91*103.5/101.6,-3) -> 0 | H91: =SUM(E91+G91) -> 0 | K91: =SUM(I91:J91) -> 0
A92: Gemeentelijk bezit | D92: 0 | E92: =ROUNDUP(D92*108/105,-3) -> 0 | F92: 0 | G92: =ROUNDUP(F92*103.5/101.6,-3) -> 0 | H92: =SUM(E92+G92) -> 0 | K92: =SUM(I92:J92) -> 0
B93: incl. BSO Baloe en PSZ Speeldoos | D93: 4491000 | E93: =ROUNDUP(D93*108/105,-3) -> 4620000 | F93: 458000 | G93: =ROUNDUP(F93*103.5/101.6,-3) -> 467000 | H93: =SUM(E93+G93) -> 5087000 | I93: 3801592 | J93: 430498 | K93: =SUM(I93:J93) -> 4232090
B94: R. Lokhorstschool incl. noodlokaal en BBO Mik Mak | D94: 3061000 | E94: =ROUNDUP(D94*108/105,-3) -> 3149000 | F94: 445000 | G94: =ROUNDUP(F94*103.5/101.6,-3) -> 454000 | H94: =SUM(E94+G94) -> 3603000 | I94: 2590601 | J94: 417205 | K94: =SUM(I94:J94) -> 3007806
B95: De Springplank incl noodlokaal | D95: 1395000 | E95: =ROUNDUP(D95*108/105,-3) -> 1435000 | F95: 247000 | G95: =ROUNDUP(F95*103.5/101.6,-3) -> 252000 | H95: =SUM(E95+G95) -> 1687000 | I95: 1180333 | J95: 231099 | K95: =SUM(I95:J95) -> 1411432
B96: De Bloeiende Betuwe incl Hummeltje | D96: 2536000 | E96: =ROUNDUP(D96*108/105,-3) -> 2609000 | F96: 274000 | G96: =ROUNDUP(F96*103.5/101.6,-3) -> 280000 | H96: =SUM(E96+G96) -> 2889000 | I96: 2146060 | J96: 256663 | K96: =SUM(I96:J96) -> 2402723
B97: ODS Mr Aafjes incl BBO Eigen Wijs | D97: 4400000 | E97: =ROUNDUP(D97*108/105,-3) -> 4526000 | F97: 643000 | G97: =ROUNDUP(F97*103.5/101.6,-3) -> 656000 | H97: =SUM(E97+G97) -> 5182000 | I97: 3724947 | J97: 604333 | K97: =SUM(I97:J97) -> 4329280
B98: Op 't Hof incl noodlokaal | D98: 2416000 | E98: =ROUNDUP(D98*108/105,-3) -> 2486000 | F98: 351000 | G98: =ROUNDUP(F98*103.5/101.6,-3) -> 358000 | H98: =SUM(E98+G98) -> 2844000 | I98: 2043867 | J98: 329264 | K98: =SUM(I98:J98) -> 2373131
B99: De Malsenburg | D99: 1890000 | E99: =ROUNDUP(D99*108/105,-3) -> 1944000 | F99: 238000 | G99: =ROUNDUP(F99*103.5/101.6,-3) -> 243000 | H99: =SUM(E99+G99) -> 2187000 | I99: 1599326 | J99: 222918 | K99: =SUM(I99:J99) -> 1822244
B100: IKC Plantage | D100: 5925000 | E100: =ROUNDUP(D100*108/105,-3) -> 6095000 | F100: 320650 | G100: =ROUNDUP(F100*103.5/101.6,-3) -> 327000 | H100: =SUM(E100+G100) -> 6422000 | I100: 143071 | J100: 10137 | K100: =SUM(I100:J100) -> 153208
D101: 0 | E101: =ROUNDUP(D101*108/105,-3) -> 0 | F101: 0 | G101: =ROUNDUP(F101*103.5/101.6,-3) -> 0 | H101: =SUM(E101+G101) -> 0 | K101: =SUM(I101:J101) -> 0
D102: 0 | E102: =ROUNDUP(D102*108/105,-3) -> 0 | F102: 0 | G102: =ROUNDUP(F102*103.5/101.6,-3) -> 0 | H102: =SUM(E102+G102) -> 0 | K102: =SUM(I102:J102) -> 0
A103: Gymlokalen | D103: 0 | E103: =ROUNDUP(D103*108/105,-3) -> 0 | F103: 0 | G103: =ROUNDUP(F103*103.5/101.6,-3) -> 0 | H103: =SUM(E103+G103) -> 0 | K103: =SUM(I103:J103) -> 0
...
