Workbook
Name cad: specificatie!#REF!
Name ign: #REF!
Name igo: #REF!
Name iin: #REF!
Name iio: #REF!
Name index: specificatie!#REF!
Name premieGMB: #REF!
Name premieOWS: #REF!

Sheet Polisblad
A1: =specificatie!A1 -> Specificatie behorende bij de Eigendommenverzekering Overheden van de gemeente West Betuwe
A2: =specificatie!A2 -> Polisnummer : B0100117921
A3: =specificatie!#REF! -> #REF!
A6: Sub: | B6: Omschrijving: | C6: Gemeente Geldermalsen | D6: Gemeente Neerijnen | E6: Gemeente Lingewaal | F6: Totaal gemeente West Betuwe
A8: 1 | B8: Gemeentelijk Bezit: | C8: =specificatie!H74 -> 69436000 | D8: =specificatie!H150 -> 20041000 | E8: =specificatie!H212 -> 33903000 | F8: =SUM(C8:E8) -> 123380000
A9: 2 | B9: Onderwijs: | C9: =specificatie!H113 -> 92090000 | D9: =specificatie!H169 -> 30471000 | E9: =specificatie!K231 -> 16114000 | F9: =SUM(C9:E9) -> 138675000
B10: Totaal: | C10: =SUM(C8:C9) -> 161526000 | D10: =SUM(D8:D9) -> 50512000 | E10: =SUM(E8:E9) -> 50017000 | F10: =SUM(F8:F9) -> 262055000

Sheet specificatie
A1: Specificatie behorende bij de Eigendommenverzekering Overheden van de gemeente West Betuwe
A2: Polisnummer : B0100117921
G3: Stand per 1 januari 2021 (na indexering): | L3: Stand per 1 januari 2020:
A4: Sub: | B4: Omschrijving: | C4: Taxatie (indien getaxeerd dan datum van taxatie vermelden) | D4: Gebouwen: | E4: Gebouwen: | F4: Inventaris: | G4: Inventaris: | H4: Totaal verzekerde waarde: | I4: Gebouwen: | J4: Inventaris: | K4: Totaal verzekerde waarde:
A6: Voormalig gemeente Geldermalsen
A8: Gemeentelijk Bezit:
B9: gemeentehuis | C9: Bureau 2G Taxaties d.d. 10 feb 2020 | D9: 0 | E9: =ROUNDUP(D9*108/105,-3) -> 0 | F9: 2525000 | G9: =ROUNDUP(F9*103.5/101.6,-3) -> 2573000 | H9: =SUM(E9+G9) -> 2573000 | I9: 9790789 | J9: 1552906 | K9: =SUM(I9:J9) -> 11343695
B10: gemeentehuis | D10: 49000 | E10: =ROUNDUP(D10*108/105,-3) -> 51000 | G10: =ROUNDUP(F10*103.5/101.6,-3) -> 0 | H10: =SUM(E10+G10) -> 51000 | I10: 3575145 | J10: 370688 | K10: =SUM(I10:J10) -> 3945833
D11: 0 | E11: =ROUNDUP(D11*108/105,-3) -> 0 | F11: 0 | G11: =ROUNDUP(F11*103.5/101.6,-3) -> 0 | H11: =SUM(E11+G11) -> 0 | K11: =SUM(I11:J11) -> 0
B12: Werkplaats, zoutloods en fietsenstalling | C12: Bureau 2G Taxaties d.d. 10 feb 2020 | D12: 0 | E12: =ROUNDUP(D12*108/105,-3) -> 0 | F12: 1080000 | G12: =ROUNDUP(F12*103.5/101.6,-3) -> 1101000 | H12: =SUM(E12+G12) -> 1101000 | I12: 822283 | J12: 304117 | K12: =SUM(I12:J12) -> 1126400
B13: opslagloods | D13: 49000 | E13: =ROUNDUP(D13*108/105,-3) -> 51000 | F13: 0 | G13: =ROUNDUP(F13*103.5/101.6,-3) -> 0 | H13: =SUM(E13+G13) -> 51000 | I13: 76610 | K13: =SUM(I13:J13) -> 76610
A14: Ambulancepost/brandweerkazerne | D14: 0 | E14: =ROUNDUP(D14*108/105,-3) -> 0 | F14: 0 | G14: =ROUNDUP(F14*103.5/101.6,-3) -> 0 | H14: =SUM(E14+G14) -> 0 | K14: =SUM(I14:J14) -> 0
D15: 1105000 | E15: =ROUNDUP(D15*108/105,-3) -> 1137000 | F15: 0 | G15: =ROUNDUP(F15*103.5/101.6,-3) -> 0 | H15: =SUM(E15+G15) -> 1137000 | I15: 934645 | K15: =SUM(I15:J15) -> 934645
D16: 375000 | E16: =ROUNDUP(D16*108/105,-3) -> 386000 | F16: 0 | G16: =ROUNDUP(F16*103.5/101.6,-3) -> 0 | H16: =SUM(E16+G16) -> 386000 | I16: 316656 | K16: =SUM(I16:J16) -> 316656
D17: 0 | E17: =ROUNDUP(D17*108/105,-3) -> 0 | F17: 0 | G17: =ROUNDUP(F17*103.5/101.6,-3) -> 0 | H17: =SUM(E17+G17) -> 0 | K17: =SUM(I17:J17) -> 0
A18: Monumenten | D18: 0 | E18: =ROUNDUP(D18*108/105,-3) -> 0 | F18: 0 | G18: =ROUNDUP(F18*103.5/101.6,-3) -> 0 | H18: =SUM(E18+G18) -> 0 | K18: =SUM(I18:J18) -> 0
B19: Toren NH-Kerk | D19: 1750000 | E19: =ROUNDUP(D19*108/105,-3) -> 1800000 | F19: 0 | G19: =ROUNDUP(F19*103.5/101.6,-3) -> 0 | H19: =SUM(E19+G19) -> 1800000 | I19: 1481131 | K19: =SUM(I19:J19) -> 1481131
B20: Toren NH-Kerk | D20: 1201000 | E20: =ROUNDUP(D20*108/105,-3) -> 1236000 | F20: 0 | G20: =ROUNDUP(F20*103.5/101.6,-3) -> 0 | H20: =SUM(E20+G20) -> 1236000 | I20: 1016363 | K20: =SUM(I20:J20) -> 1016363
B21: Toren NH-Kerk | D21: 3289000 | E21: =ROUNDUP(D21*108/105,-3) -> 3383000 | F21: 0 | G21: =ROUNDUP(F21*103.5/101.6,-3) -> 0 | H21: =SUM(E21+G21) -> 3383000 | I21: 2783505 | K21: =SUM(I21:J21) -> 2783505
B22: Toren NH-Kerk | D22: 2535000 | E22: =ROUNDUP(D22*108/105,-3) -> 2608000 | F22: 0 | G22: =ROUNDUP(F22*103.5/101.6,-3) -> 0 | H22: =SUM(E22+G22) -> 2608000 | I22: 2145087 | K22: =SUM(I22:J22) -> 2145087
B23: Toren NH-Kerk | D23: 7059000 | E23: =ROUNDUP(D23*108/105,-3) -> 7261000 | F23: 0 | G23: =ROUNDUP(F23*103.5/101.6,-3) -> 0 | H23: =SUM(E23+G23) -> 7261000 | I23: 5975599 | K23: =SUM(I23:J23) -> 5975599
B24: Toren NH-Kerk | D24: 2776000 | E24: =ROUNDUP(D24*108/105,-3) -> 2856000 | F24: 0 | G24: =ROUNDUP(F24*103.5/101.6,-3) -> 0 | H24: =SUM(E24+G24) -> 2856000 | I24: 2349381 | K24: =SUM(I24:J24) -> 2349381
B25: Toren NH-Kerk | D25: 1570000 | E25: =ROUNDUP(D25*108/105,-3) -> 1615000 | F25: 0 | G25: =ROUNDUP(F25*103.5/101.6,-3) -> 0 | H25: =SUM(E25+G25) -> 1615000 | I25: 1327911 | K25: =SUM(I25:J25) -> 1327911
B26: Toren NH-Kerk | D26: 2341000 | E26: =ROUNDUP(D26*108/105,-3) -> 2408000 | F26: 0 | G26: =ROUNDUP(F26*103.5/101.6,-3) -> 0 | H26: =SUM(E26+G26) -> 2408000 | I26: 1981652 | K26: =SUM(I26:J26) -> 1981652
B27: Toren NH-Kerk | D27: 1630000 | E27: =ROUNDUP(D27*108/105,-3) -> 1677000 | F27: 0 | G27: =ROUNDUP(F27*103.5/101.6,-3) -> 0 | H27: =SUM(E27+G27) -> 1677000 | I27: 1378984 | K27: =SUM(I27:J27) -> 1378984
B28: Toren NH-Kerk | D28: 1329000 | E28: =ROUNDUP(D28*108/105,-3) -> 1367000 | F28: 0 | G28: =ROUNDUP(F28*103.5/101.6,-3) -> 0 | H28: =SUM(E28+G28) -> 1367000 | I28: 1123617 | K28: =SUM(I28:J28) -> 1123617
B29: Toren NH-Kerk | D29: 2221000 | E29: =ROUNDUP(D29*108/105,-3) -> 2285000 | F29: 0 | G29: =ROUNDUP(F29*103.5/101.6,-3) -> 0 | H29: =SUM(E29+G29) -> 2285000 | I29: 1879505 | K29: =SUM(I29:J29) -> 1879505
B30: Toren NH-Kerk | D30: 2716000 | E30: =ROUNDUP(D30*108/105,-3) -> 2794000 | F30: 0 | G30: =ROUNDUP(F30*103.5/101.6,-3) -> 0 | H30: =SUM(E30+G30) -> 2794000 | I30: 2298307 | K30: =SUM(I30:J30) -> 2298307
B31: Hoefstal | D31: 25000 | E31: =ROUNDUP(D31*108/105,-3) -> 26000 | F31: 0 | G31: =ROUNDUP(F31*103.5/101.6,-3) -> 0 | H31: =SUM(E31+G31) -> 26000 | I31: 20429 | K31: =SUM(I31:J31) -> 20429
B32: Pomp | D32: 0 | E32: =ROUNDUP(D32*108/105,-3) -> 0 | F32: 0 | G32: =ROUNDUP(F32*103.5/101.6,-3) -> 0 | H32: =SUM(E32+G32) -> 0 | K32: =SUM(I32:J32) -> 0
D33: 0 | E33: =ROUNDUP(D33*108/105,-3) -> 0 | F33: 0 | G33: =ROUNDUP(F33*103.5/101.6,-3) -> 0 | H33: =SUM(E33+G33) -> 0 | K33: =SUM(I33:J33) -> 0
A34: Klokken/uurwerken | B34: 11 uurwerken en 14 luidklokken | D34: 1087000 | E34: =ROUNDUP(D34*108/105,-3) -> 1119000 | F34: 0 | G34: =ROUNDUP(F34*103.5/101.6,-3) -> 0 | H34: =SUM(E34+G34) -> 1119000 | I34: 919323 | K34: =SUM(I34:J34) -> 919323
B35: 1 uurwerk | D35: 19000 | E35: =ROUNDUP(D35*108/105,-3) -> 20000 | F35: 0 | G35: =ROUNDUP(F35*103.5/101.6,-3) -> 0 | H35: =SUM(E35+G35) -> 20000 | I35: 15322 | K35: =SUM(I35:J35) -> 15322
B36: 1 uurwerk | D36: 19000 | E36: =ROUNDUP(D36*108/105,-3) -> 20000 | F36: 0 | G36: =ROUNDUP(F36*103.5/101.6,-3) -> 0 | H36: =SUM(E36+G36) -> 20000 | I36: 15322 | K36: =SUM(I36:J36) -> 15322
B37: 1 uurwerk | D37: 13000 | E37: =ROUNDUP(D37*108/105,-3) -> 14000 | F37: 0 | G37: =ROUNDUP(F37*103.5/101.6,-3) -> 0 | H37: =SUM(E37+G37) -> 14000 | I37: 10215 | K37: =SUM(I37:J37) -> 10215
D38: 0 | E38: =ROUNDUP(D38*108/105,-3) -> 0 | F38: 0 | G38: =ROUNDUP(F38*103.5/101.6,-3) -> 0 | H38: =SUM(E38+G38) -> 0 | K38: =SUM(I38:J38) -> 0
A39: Begraafplaatsen | D39: 0 | E39: =ROUNDUP(D39*108/105,-3) -> 0 | F39: 0 | G39: =ROUNDUP(F39*103.5/101.6,-3) -> 0 | H39: =SUM(E39+G39) -> 0 | K39: =SUM(I39:J39) -> 0
B40: Poorten en hekwerken bij 15 begraafplaatsen | D40: 574000 | E40: =ROUNDUP(D40*108/105,-3) -> 591000 | F40: 0 | G40: =ROUNDUP(F40*103.5/101.6,-3) -> 0 | H40: =SUM(E40+G40) -> 591000 | I40: 485198 | K40: =SUM(I40:J40) -> 485198
B41: Baarhuisjes | D41: 103000 | E41: =ROUNDUP(D41*108/105,-3) -> 106000 | F41: 9000 | G41: =ROUNDUP(F41*103.5/101.6,-3) -> 10000 | H41: =SUM(E41+G41) -> 116000 | I41: 86825 | J41: 7148 | K41: =SUM(I41:J41) -> 93973
B42: Baarhuisje | D42: 34000 | E42: =ROUNDUP(D42*108/105,-3) -> 35000 | F42: 0 | G42: =ROUNDUP(F42*103.5/101.6,-3) -> 0 | H42: =SUM(E42+G42) -> 35000 | I42: 27580 | K42: =SUM(I42:J42) -> 27580
...
