Workbook
Name renewaldate: 'specificatie verzekerde locatie'!#REF!
Name renewaldate: #REF!

Sheet specificatie verzekerde locatie
A1: Specificatie t.b.v. Stichting Groen Onderwijs Oost Nederland
A2: Polisnummer: B0100130000
A3: Vnabnummer: 638.492.907
A4: Stand: 1-1-2021
A6: Verzekeringnemer | B6: Stichting Groen Onderwijs Oost Nederland
A8: Land | B8: Netherlands
A9: Valuta | B9: EUR
A11: Verzekerde bedragen:
A12: - gebouwen | B12: =N39 -> 117899000
A13: - inventaris | B13: =P39 -> 29196000
A15: totaal verzekerd bedrag | B15: =SUM(B12:B13) -> 147095000
A17: Algemene Gegevens | H17: Taxatiewaarde | N17: Verzekerde bedragen
A18: Plaats | B18: Adres | C18: Postcode | D18: Omschrijving | E18: taxatie | F18: taxatie | G18: taxatie | H18: Gebouwen/ | I18: Akkoord Fac. | J18: Akkoord ICT | K18: Check MVA FZ | L18: inventaris | N18: Gebouwen/ | P18: Inventaris/ | Q18: Totaal
E19: gebouwen | F19: inventaris | G19: inventaris | H19: Huurdersbelang | L19: getaxeerde waarde/ | N19: Huurdersbelang | P19: goederen
G20: administratieve indexering/aanvulling op | H20: getaxeerde waarde | L20: administratieve indexering/aanvulling op | M20: Uitgevoerde taxatie in 2021 door CED iom Willem Snijder | N20: per 1-1-2021 incl. index | O20: Uitgevoerde taxatie in 2021 door CED iom Willem Snijder | P20: per 1-1-2021 incl. index | Q20: per 1-1-2021 incl. index
A22: Doetinchem | B22: Gezellenlaan 14 | C22: 7005 AZ | D22: school, inclusief funderingen | E22: 43895 | F22: 43971 | H22: 18500000 | L22: 2710000 | M22: 3000000 | N22: =ROUNDUP(H22*indexcijfers!$C$10/indexcijfers!$C$9,-3) -> 19029000 | O22: 17500000 | P22: 3000000 | Q22: =SUM(N22+P22) -> 22029000
A23: Doetinchem | B23: Gezellenlaan 16 | C23: 7006 AZ | D23: school | F23: 42971 | G23: 43465 | L23: 1625991 | P23: =ROUNDUP(L23*indexcijfers!$D$10/indexcijfers!$D$9,-3) -> 1657000 | Q23: =SUM(N23+P23) -> 1657000
A24: Almelo | B24: Bornerbroeksestraat 348 | C24: 7609 PH | D24: school | F24: 42971 | G24: 43465 | L24: 5437069 | M24: =+'Stand 01-01 en taxaties'!I30 -> 6070000 | N24: 21098000 | O24: =+'Stand 01-01 en taxaties'!E30 -> 24500000 | P24: =ROUNDUP(L24*indexcijfers!$D$10/indexcijfers!$D$9,-3) -> 5539000 | Q24: =SUM(N24+P24) -> 26637000
A25: Borculo | B25: Ruurloseweg 35 | C25: 7271 RS | D25: school | F25: 42971 | G25: 43465 | L25: 1985043 | M25: =+'Stand 01-01 en taxaties'!I32 -> 2190000 | N25: 6289000 | O25: =+'Stand 01-01 en taxaties'!E32 -> 7235000 | P25: =ROUNDUP(L25*indexcijfers!$D$10/indexcijfers!$D$9,-3) -> 2023000 | Q25: =SUM(N25+P25) -> 8312000
A26: Enschede | B26: Hengelosestraat 481 | C26: 7521 AG | D26: school | F26: 42971 | G26: 43465 | L26: 3729009 | M26: =+'Stand 01-01 en taxaties'!I34 -> 4190000 | N26: 14486000 | O26: =+'Stand 01-01 en taxaties'!E34 -> 17000000 | P26: =ROUNDUP(L26*indexcijfers!$D$10/indexcijfers!$D$9,-3) -> 3799000 | Q26: =SUM(N26+P26) -> 18285000
A27: Lochem | B27: Hoeflingweg 9 | C27: 7241 CJ | D27: school | F27: 42971 | G27: 43465 | L27: 1164353 | M27: =+'Stand 01-01 en taxaties'!I36 -> 1500000 | N27: 4146000 | O27: =+'Stand 01-01 en taxaties'!E36 -> 4550000 | P27: =ROUNDUP(L27*indexcijfers!$D$10/indexcijfers!$D$9,-3) -> 1187000 | Q27: =SUM(N27+P27) -> 5333000
A28: Twello | B28: Meester Zwiersweg 4 | C28: 7391 HD | D28: school | F28: 42971 | G28: 43465 | L28: 3426379 | M28: =+'Stand 01-01 en taxaties'!I38 -> 4150000 | N28: 15292000 | O28: =+'Stand 01-01 en taxaties'!E38 -> 17900000 | P28: =ROUNDUP(L28*indexcijfers!$D$10/indexcijfers!$D$9,-3) -> 3491000 | Q28: =SUM(N28+P28) -> 18783000
A29: Doetinchem | B29: Gildenbroederslaan 3 | C29: 7005 BM | D29: school | F29: 42971 | G29: 43465 | L29: 1677284 | M29: =+'Stand 01-01 en taxaties'!I41 -> 1855000 | N29: 7863000 | O29: =+'Stand 01-01 en taxaties'!E41 -> 9600000 | P29: =ROUNDUP(L29*indexcijfers!$D$10/indexcijfers!$D$9,-3) -> 1709000 | Q29: =SUM(N29+P29) -> 9572000
A30: Almelo | B30: Nye Allee 7 | C30: 7609 ZG | D30: school | F30: 42971 | G30: 43465 | L30: 174397 | M30: =+'Stand 01-01 en taxaties'!I42 -> 205000 | N30: 602000 | O30: =+'Stand 01-01 en taxaties'!E42 -> zie Bornerbroeksestraat 348 | P30: =ROUNDUP(L30*indexcijfers!$D$10/indexcijfers!$D$9,-3) -> 178000 | Q30: =SUM(N30+P30) -> 780000
A31: Twello | B31: Vermeersweg 61 | C31: 7391 JM | D31: school | O31: nvt is huurlocatie | P31: 12000 | Q31: =SUM(N31+P31) -> 12000
A32: Zwolle | B32: Koggelaan 7 | D32: school | M32: =+'Stand 01-01 en taxaties'!I45 -> 6520000 | N32: 28578000 | O32: =+'Stand 01-01 en taxaties'!E45 -> 34000000 | P32: 5785000 | Q32: =SUM(N32+P32) -> 34363000
A33: Doetinchem = Zwolle: @ Edwin graag aanpassen | B33: Hollewandseweg 15-C | D33: school | M33: =+'Stand 01-01 en taxaties'!I46 -> 330000 | N33: 483000 | O33: nvt is huurlocatie | P33: 670000 | Q33: =SUM(N33+P33) -> 1153000
A34: Loozen | B34: Brasweg 1 | D34: school | M34: =+'Stand 01-01 en taxaties'!I47 -> 12000 | N34: 33000 | O34: =+'Stand 01-01 en taxaties'!E47 -> 100000 | P34: 5000 | Q34: =SUM(N34+P34) -> 38000
A35: alle loctaties | B35: diverse adressen | D35: niet zelfrijdend werkmaterieel | P35: 141000 | Q35: =SUM(N35+P35) -> 141000
M39: =SUM(M22:M38) -> 30022000 | N39: =SUM(N22:N38) -> 117899000 | O39: =SUM(O22:O38) -> 132385000 | P39: =SUM(P22:P38) -> 29196000 | Q39: =SUM(Q22:Q38) -> 147095000
A41: Huur locaties > 1 jaar | G41: Waarde ingeven ICT component | H41: Waarde ingeven Facilitair component incl. huurdersbelang etc. | L41: Uitgevoerde taxatie in 2021 door CED iom Willem Snijder
A42: Zwolle | B42: Hollewandseweg 15-C | C42: 8014BE | D42: school | F42: 44228 | H42: 360000
A43: Twello | B43: Vermeersweg 61 | C43: 7391 JM | D43: school | H43: ??
A44: Lochem | B44: Hoeflingweg 7 | E44: huur gestopt per 1 april 2021 | H44: ---
A45: Deventer> SVB | B45: Snipperlingsdijk 2 | C45: 7417 BJ | D45: school | F45: 44287 | H45: 168300
A46: Zwolle Langhenkel | B46: Noordzeelaan 62 | C46: 8017JW | D46: school | F46: 44228 | H46: 108000
A47: Zwolle Groei.zone | B47: Noordzeelaan 6/8 | C47: 8017JW | D47: kantoor | F47: 44228 | H47: 14500
A48: Doetinchem> Havenstraat | B48: Havenstraat | C48: 7005AG | D48: school/praktijkruimte | F48: 44228 | H48: 220000
A49: maar ook meerdere kleinere locatie mbo> bijv. GD Deventer
A50: Boerderij Doetinchem | B50: Terborgseweg 108 Doeitnchem | D50: school | F50: 44501 | G50: 20000 | H50: ---
...

Sheet Stand 01-01 en taxaties
A1: Specificatie t.b.v. Stichting Groen Onderwijs Oost Nederland
A2: Polisnummer: B0100130000
A3: Vnabnummer: 638.492.907
A4: Stand: 1-1-2021
A6: Verzekeringnemer | B6: Stichting Groen Onderwijs Oost Nederland
A8: Land | B8: Netherlands
A9: Valuta | B9: EUR
A11: Verzekerde bedragen: | C11: Index 2020 | D11: Index 2021
A12: - gebouwen | B12: 1.1100302e+08 | C12: 105 | D12: 108 | E12: (zie kolom M)
A13: - inventaris | B13: 27444920 | C13: 101.6 | D13: 103.5 | E13: (Zie kolom N)
A14: - bijzondere kosten | B14: 6000000 | E14: (Zie kolom O)
A16: totaal verzekerd bedrag | B16: 1.4444794e+08 | E16: (Zie kolom P)
A21: Algemene Gegevens | M21: Verzekerde bedragen
A22: Plaats | B22: Adres | C22: Postcode | D22: Omschrijving | E22: taxatie | F22: Rapport | G22: taxatierapport | H22: opmerkingen | I22: taxatie | J22: Rapport | K22: taxatierapport | L22: opmerkingen | M22: Gebouwen/ | N22: Inventaris/ | O22: Bijzondere kosten | P22: Totaal
E23: gebouwen | F23: datum | G23: nummer | H23: taxatierapporten | I23: inventaris | J23: datum | K23: nummer | L23: taxatierapporten | M23: Huurdersbelang | N23: goederen
H24: gebouwen | L24: inventaris | M24: 44197 | N24: 44197 | P24: 44197
A26: Doetinchem | B26: Gezellenlaan 14-16 | C26: 7005 AZ | D26: school | E26: 1850000 | F26: 43909 | G26: 20.369812.4 | I26: 2710000 | J26: 44104 | K26: 20.369246.4 | M26: 20601874 | N26: 2453337.1 | P26: 23055211
A27: Doetinchem | B27: Gezellenlaan 14-16 | C27: 7006 AZ | D27: school | N27: 594513.78 | P27: 594513.78
A28: Doetinchem | B28: Gezellenlaan 14-16 | C28: 7006 AZ | D28: school | N28: 1483228.4 | P28: 1483228.4
A29: Doetinchem | B29: Gezellenlaan 14-16 | C29: 7007 AZ | D29: school | N29: 339940.45 | P29: 339940.45
A30: Almelo | B30: Bornerbroeksestraat 348 | C30: 7609 PH | D30: school | E30: 24500000 | F30: 44348 | G30: 21.385703.4 | H30: Gee wijzigingen bekend dit bedrag is definitef | I30: 6070000 | J30: 44348 | K30: 20.380846.4 | L30: Geen wijzigingen bekend dit bedrag is definitef | M30: 21097234 | N30: 4020812 | P30: 25118046
A31: Almelo | B31: Bornerbroeksestraat 348 | C31: 7610 PH | D31: school | N31: 994761.32 | P31: 994761.32
A32: Borculo | B32: Ruurloseweg 35 | C32: 7271 RS | D32: school | E32: 7235000 | F32: 44348 | G32: 21385704.4 | H32: Gee wijzigingen bekend dit bedrag is definitef | I32: 2190000 | J32: 44407 | K32: 20.380845.4 | L32: 8-6-2021:Dit bedrag 2140000 is fout. wijzigingen zijn niet toegepast! is herzien | M32: 6288685.7 | N32: 1340406.5 | P32: 7629092.2
A33: Borculo | B33: Ruurloseweg 35 | C33: 7272 RS | D33: school | N33: 399534.45 | P33: 399534.45
A34: Enschede | B34: Hengelosestraat 481 | C34: 7521 AG | D34: school | E34: 17000000 | F34: 44348 | G34: 21.385705.4 | H34: Geen wijzigingen bekend dit bedrag is definitef. akkoord bevonden door rene (14/6) | I34: 4190000 | J34: 44407 | K34: 20.38084.4 | L34: rapport van 01-06-2021 had waarde: 4020000 is herzien. | M34: 14485269 | N34: 2747843.5 | P34: 17233112
A35: Enschede | B35: Hengelosestraat 481 | C35: 7522 AG | D35: school | N35: 605413.88 | P35: 605413.88
A36: Lochem | B36: Hoeflingweg 9 | C36: 7241 CJ | D36: school | E36: 4550000 | F36: 44348 | G36: 21.385706.4 | H36: Gee wijzigingen bekend dit bedrag is definitef | I36: 1500000 | J36: 44407 | K36: 20.376031.4 | L36: rapport van 01-06-2021 had waarde: 1365000, is herzien. | M36: 4145657.1 | N36: 1396536.9 | P36: 5542194
D37: school
A38: Twello | B38: Meester Zwiersweg 4 | C38: 7391 HD | D38: school | E38: 17900000 | F38: 44348 | G38: 21.385707.4 | H38: Gee wijzigingen bekend dit bedrag is definitef | I38: 4150000 | J38: 44348 | K38: 20.380848.4 | L38: Geen wijzigingen bekend dit bedrag is definitef | M38: 15291154 | N38: 2335779 | P38: 17626933
A39: Twello | B39: Meester Zwiersweg 4 | C39: 7391 HD | D39: school | N39: 643920.77 | P39: 643920.77
A40: Doetinchem | B40: Gildenbroederslaan 3 | C40: 7005 BM | D40: school | N40: 929870.08 | P40: 929870.08
A41: Doetinchem | B41: Gildenbroederslaan 3 | C41: 7006 BM | D41: school | E41: 9600000 | F41: 44348 | G41: 21.385708.4 | H41: Geen wijzigingen bekend dit bedrag is definitef | I41: 1855000 | J41: 44348 | K41: 20.380849.4 | N41: 208731.79 | P41: 208731.79
A42: Almelo | B42: Nye Allee 7 | C42: 7609 ZG | D42: school | E42: zie Bornerbroeksestraat 348 | G42: 21.385703.4 | I42: 205000 | J42: 44407 | K42: 20.380847.4 | L42: rapport van 01-06-2021 had waarde: 190.000 is herzien. | N42: 251619.09 | P42: 251619.09
A43: Almelo | B43: Nye Allee 7 | C43: 7610 ZG | D43: school | N43: 88321.36 | P43: 88321.36
A44: Twello | B44: Vermeersweg 61 | C44: 7391 JM | D44: school | N44: 11205.71 | P44: 11205.71
A45: Zwolle | B45: Koggelaan 7 | D45: school | E45: 34000000 | F45: 44348 | G45: 21.385710.4 | H45: Gee wijzigingen bekend dit bedrag is definitef | I45: 6520000 | J45: 44407 | K45: 21.385672.4 | L45: rapport van 01-06-2021 had waarde: 6480000, is herzien. | M45: 28577829 | N45: 5784998 | P45: 34362827
A46: Zwolle | B46: Hollewandseweg 15-C | D46: school | I46: 330000 | J46: 44348 | K46: 21.385674.4 | M46: 482811.43 | N46: 669693.9 | P46: 1152505.3
A47: Loozen | B47: Meester Brasweg 1 | D47: Tuinderskas | E47: 100000 | F47: 44348 | G47: 21.385060.4 | H47: Rene geeft 14/6 aan bedrag te laag te vinden.16/6 heeft Willem mail naar CED gestuurd bedrag aan te passen naar € 200.000.-- | I47: 12000 | J47: 44348 | K47: 21.385673.4 | L47: Geen wijzigingen bekend dit bedrag is definitef | M47: 32502.86 | N47: 4278.54 | P47: 36781.4
A48: Hardenberg | B48: Parkweg 1A2 | D48: school | I48: 1050000 | J48: 44407 | K48: 21.385671.4 | L48: 15/6 heeft WIllem mail gestuurd naar CED aangezien de wijzigingen na concept niet zijn verwerkt in def. rapport was 1130000, is herzien.
A49: alle loctaties | B49: extra opruimingskosten | O49: 6000000 | P49: 6000000
...

Sheet indexcijfers
B5: Indecijfers BTW | C5: Gebouwen | D5: Inventaris
B6: Jaar | C6: indexcijfer | D6: indexcijfer
B8: 43466 | C8: 94.9 | D8: 97.4
B9: 43831 | C9: 105 | D9: 101.6
B10: 44197 | C10: 108 | D10: 103.5
