Workbook

Sheet Carlo
A1: StartDatum | B1: EindDatum_Werkelijk | C1: EindDatum_Gepland | D1: Brinnummer_School | E1: Naam_School | F1: Leerweg | G1: Crebo_ID | H1: LeerlingNummer | I1: BpvoVolgnummer | J1: Crebo_IBG | K1: Leerbedrijf_IBG | L1: CreboOpleiding | M1: LocatieCode | N1: Praktijkopleider_ID | O1: Praktijkopleider_mailadres | P1: Praktijkopleider_achternaam | Q1: Praktijkopleider_voornaam | R1: Praktijkopleider_tussenvoegsel | S1: Praktijkopleider_voorletters | T1: Praktijkopleider_mv | U1: Praktijkopleider_titel | V1: ContactpersoonBPV_ID | W1: ContactpersoonBPV_mailadres | X1: ContactpersoonBPV_achternaam | Y1: ContactpersoonBPV_voornaam | Z1: ContactpersoonBPV_tussenvoegsel | AA1: ContactpersoonBPV_voorletters | AB1: ContactpersoonBPV_mv | AC1: ContactpersoonBPV_titel | AD1: CentraalCtpBPV_ID | AE1: CentraalCtpBPV_mailadres | AF1: CentraalCtpBPV_achternaam | AG1: CentraalCtpBPV_voornaam | AH1: CentraalCtpBPV_tussenvoegsel | AI1: CentraalCtpBPV_voorletters | AJ1: CentraalCtpBPV_mv | AK1: CentraalCtpBPV_titel | AL1: SBB_Leerbedrijf_ID | AM1: Leerbedrijf_naam | AN1: Leerbedrijf_straat | AO1: Leerbedrijf_huisnummer | AP1: Leerbedrijf_huisnummertoevoeging | AQ1: Leerbedrijf_postcode | AR1: Leerbedrijf_plaats | AS1: Leerbedrijf_referentie_hoofdlocatie | AT1: Leerbedrijf_naam_SBB_adviseur_PL | AU1: Leerbedrijf_regio | AV1: Leerbedrijf_sector | AW1: Leerbedrijf_sectorunitmanager | AX1: Opleiding_crebonr | AY1: Opleiding_crebonaam | AZ1: Aanleverdatum_Panteia | BA1: Selectiedatum_data_BPV_monitor | BB1: Verzenddatum_BPV_monitor | BC1: Einddatum_BPVO_berekend | BD1: BPVO_evaluatie_ingevuldretour | BE1: Koppelvlak_BPV_monitor | BF1: DUO_Leerbedrijf_ID
A2: 41671 | C2: 42396 | D2: 25PN | E2: ROC Nijmegen | F2: BBL | G2: 91410 | H2: 5238000 | I2: 10002 | K2: 02QG6641GG0001201 | L2: Tandartsassistent | N2: 108771 | O2: FICTIEF | P2: FICTIEF | Q2: FICTIEF | R2: FICTIEF | S2: FICTIEF | T2: Man | W2: FICTIEF | X2: FICTIEF | Y2: FICTIEF | Z2: FICTIEF | AA2: FICTIEF | AC2: FICTIEF | AD2: FICTIEF | AE2: FICTIEF | AF2: FICTIEF | AG2: FICTIEF | AH2: FICTIEF | AI2: FICTIEF | AJ2: FICTIEF | AK2: FICTIEF | AL2: 100010049 | AM2: FICTIEF | AN2: FICTIEF | AO2: FICTIEF | AP2: FICTIEF | AQ2: FICTIEF | AR2: FICTIEF | AS2: FICTIEF | AT2: V.Nijkamp | AU2: Rijk van Nijmegen | AV2: SU Zorg, welzijn en sport | AW2: Vincent Alkemade | AX2: 25490 | AY2: Tandartsassistent | BA2: 2016-01-06 10:32:24.533 | BC2: 2016-01-27 00:00:00.000 | BE2: 523800025PN10002 | BF2: 100010049
A3: 41671 | C3: 42396 | D3: 25PN | E3: ROC Nijmegen | F3: BBL | G3: 91410 | H3: 8159811 | I3: 10001 | K3: 02QG5831PJ0000401 | L3: Tandartsassistent | N3: 191433 | O3: FICTIEF | P3: FICTIEF | Q3: FICTIEF | R3: FICTIEF | S3: FICTIEF | T3: Vrouw | W3: FICTIEF | X3: FICTIEF | Y3: FICTIEF | Z3: FICTIEF | AA3: FICTIEF | AC3: FICTIEF | AD3: FICTIEF | AE3: FICTIEF | AF3: FICTIEF | AG3: FICTIEF | AH3: FICTIEF | AI3: FICTIEF | AJ3: FICTIEF | AK3: FICTIEF | AL3: 100029034 | AM3: FICTIEF | AN3: FICTIEF | AO3: FICTIEF | AP3: FICTIEF | AQ3: FICTIEF | AR3: FICTIEF | AS3: FICTIEF | AT3: C.vanHeezen | AU3: Noordoost-Brabant | AV3: SU Zorg, welzijn en sport | AW3: Vincent Alkemade | AX3: 25490 | AY3: Tandartsassistent | BA3: 2016-01-06 10:32:24.533 | BC3: 2016-01-27 00:00:00.000 | BE3: 815981125PN10001 | BF3: 100029034
A4: 42036 | C4: 42396 | D4: 25LH | E4: ROC Midden Nederland | F4: BOL | G4: 92620 | H4: 5691582 | I4: N102 | K4: 02QG3543BT0010402 | L4: Pedagogisch Werk (Pedagogisch medewerker 3 kinderopvang) | N4: 0 | O4: FICTIEF | P4: FICTIEF | Q4: FICTIEF | R4: FICTIEF | S4: FICTIEF | V4: 275837 | W4: FICTIEF | X4: FICTIEF | Y4: FICTIEF | Z4: FICTIEF | AA4: FICTIEF | AB4: Vrouw | AC4: FICTIEF | AD4: FICTIEF | AE4: FICTIEF | AF4: FICTIEF | AG4: FICTIEF | AH4: FICTIEF | AI4: FICTIEF | AJ4: FICTIEF | AK4: FICTIEF | AL4: 100041629 | AM4: FICTIEF | AN4: FICTIEF | AO4: FICTIEF | AP4: FICTIEF | AQ4: FICTIEF | AR4: FICTIEF | AS4: FICTIEF | AT4: E.Duffels | AU4: Midden-Utrecht | AV4: SU Zorg, welzijn en sport | AW4: Vincent Alkemade | AX4: 25486 | AY4: Pedagogisch medewerker kinderopvang | BA4: 2016-01-06 10:32:24.533 | BC4: 2016-01-27 00:00:00.000 | BE4: 569158225LHN102 | BF4: 100041629
A5: 41673 | C5: 42396 | D5: 25PN | E5: ROC Nijmegen | F5: BBL | G5: 91410 | H5: 6585291 | I5: 10001 | K5: 02QG6711MD0000301 | L5: Tandartsassistent | N5: 162638 | O5: FICTIEF | P5: FICTIEF | Q5: FICTIEF | R5: FICTIEF | S5: FICTIEF | T5: Vrouw | W5: FICTIEF | X5: FICTIEF | Y5: FICTIEF | Z5: FICTIEF | AA5: FICTIEF | AC5: FICTIEF | AD5: FICTIEF | AE5: FICTIEF | AF5: FICTIEF | AG5: FICTIEF | AH5: FICTIEF | AI5: FICTIEF | AJ5: FICTIEF | AK5: FICTIEF | AL5: 100025456 | AM5: FICTIEF | AN5: FICTIEF | AO5: FICTIEF | AP5: FICTIEF | AQ5: FICTIEF | AR5: FICTIEF | AS5: FICTIEF | AT5: R.vanZwieteren | AU5: Food Valley | AV5: SU Zorg, welzijn en sport | AW5: Vincent Alkemade | AX5: 25490 | AY5: Tandartsassistent | BA5: 2016-01-06 10:32:24.533 | BC5: 2016-01-27 00:00:00.000 | BE5: 658529125PN10001 | BF5: 100025456
A6: 41701 | C6: 42396 | D6: 25PN | E6: ROC Nijmegen | F6: BBL | G6: 91410 | H6: 16068336 | I6: 10002 | K6: 02QG5768BL0000801 | L6: Tandartsassistent | N6: 305140 | O6: FICTIEF | P6: FICTIEF | Q6: FICTIEF | R6: FICTIEF | S6: FICTIEF | T6: Vrouw | W6: FICTIEF | X6: FICTIEF | Y6: FICTIEF | Z6: FICTIEF | AA6: FICTIEF | AC6: FICTIEF | AD6: FICTIEF | AE6: FICTIEF | AF6: FICTIEF | AG6: FICTIEF | AH6: FICTIEF | AI6: FICTIEF | AJ6: FICTIEF | AK6: FICTIEF | AL6: 100060494 | AM6: FICTIEF | AN6: FICTIEF | AO6: FICTIEF | AP6: FICTIEF | AQ6: FICTIEF | AR6: FICTIEF | AS6: FICTIEF | AT6: R.Houtappels | AU6: Noord-Limburg | AV6: SU Zorg, welzijn en sport | AW6: Vincent Alkemade | AX6: 25490 | AY6: Tandartsassistent | BA6: 2016-01-06 10:32:24.533 | BC6: 2016-01-27 00:00:00.000 | BE6: 1606833625PN10002 | BF6: 100060494
A7: 42282 | C7: 42396 | D7: 25RJ | E7: NHA opleidingen | F7: BOL | G7: 91310 | H7: 9465570 | I7: 101 | K7: 02QG7442LS0003803 | L7: Doktersassistent | N7: 233647 | O7: FICTIEF | P7: FICTIEF | Q7: FICTIEF | R7: FICTIEF | S7: FICTIEF | T7: Vrouw | W7: FICTIEF | X7: FICTIEF | Y7: FICTIEF | Z7: FICTIEF | AA7: FICTIEF | AC7: FICTIEF | AD7: FICTIEF | AE7: FICTIEF | AF7: FICTIEF | AG7: FICTIEF | AH7: FICTIEF | AI7: FICTIEF | AJ7: FICTIEF | AK7: FICTIEF | AL7: 100005068 | AM7: FICTIEF | AN7: FICTIEF | AO7: FICTIEF | AP7: FICTIEF | AQ7: FICTIEF | AR7: FICTIEF | AS7: FICTIEF | AT7: S.Koerhuis | AU7: Twente | AV7: SU Zorg, welzijn en sport | AW7: Vincent Alkemade | AX7: 25473 | AY7: Doktersassistent | BA7: 2016-01-06 10:32:24.533 | BC7: 2016-01-27 00:00:00.000 | BE7: 946557025RJ00101 | BF7: 100005068
A8: 42283 | C8: 42396 | D8: 00GT | E8: ROC Albeda College | F8: BOL | G8: 90440 | H8: 20571006 | I8: 301 | K8: 04ARB100279237 | L8: AKA | N8: 0 | O8: FICTIEF | P8: FICTIEF | Q8: FICTIEF | R8: FICTIEF | S8: FICTIEF | V8: 1114043 | W8: FICTIEF | X8: FICTIEF | Y8: FICTIEF | Z8: FICTIEF | AA8: FICTIEF | AB8: Man | AC8: FICTIEF | AD8: FICTIEF | AE8: FICTIEF | AF8: FICTIEF | AG8: FICTIEF | AH8: FICTIEF | AI8: FICTIEF | AJ8: FICTIEF | AK8: FICTIEF | AL8: 100279237 | AM8: FICTIEF | AN8: FICTIEF | AO8: FICTIEF | AP8: FICTIEF | AQ8: FICTIEF | AR8: FICTIEF | AS8: FICTIEF | AT8: W.Meijer | AU8: Rijnmond | AV8: SU Techniek en gebouwde omgeving | AW8: Vincent van Baaijen | AX8: 90440 | AY8: AKA | BA8: 2016-01-06 10:32:24.533 | BC8: 2016-01-27 00:00:00.000 | BE8: 2057100600GT301 | BF8: 100279237
A9: 42254 | C9: 42396 | D9: 25LZ | E9: ROC Tilburg | F9: BOL | G9: 91310 | H9: 17593425 | I9: 104 | K9: 02QG5038TV0000401 | L9: Doktersassistent | N9: 0 | O9: FICTIEF | P9: FICTIEF | Q9: FICTIEF | R9: FICTIEF | S9: FICTIEF | V9: 1525897 | W9: FICTIEF | X9: FICTIEF | Y9: FICTIEF | Z9: FICTIEF | AA9: FICTIEF | AB9: Vrouw | AC9: FICTIEF | AD9: FICTIEF | AE9: FICTIEF | AF9: FICTIEF | AG9: FICTIEF | AH9: FICTIEF | AI9: FICTIEF | AJ9: FICTIEF | AK9: FICTIEF | AL9: 100018552 | AM9: FICTIEF | AN9: FICTIEF | AO9: FICTIEF | AP9: FICTIEF | AQ9: FICTIEF | AR9: FICTIEF | AS9: FICTIEF | AT9: M.vandenNouweland | AU9: Midden-Brabant | AV9: SU Zorg, welzijn en sport | AW9: Vincent Alkemade | AX9: 25473 | AY9: Doktersassistent | BA9: 2016-01-06 10:32:24.533 | BC9: 2016-01-27 00:00:00.000 | BE9: 1759342525LZ104 | BF9: 100018552
A10: 42254 | C10: 42396 | D10: 25LZ | E10: ROC Tilburg | F10: BOL | G10: 91310 | H10: 7620462 | I10: 303 | K10: 02QG5017JM0002401 | L10: Doktersassistent | N10: 238529 | O10: FICTIEF | P10: FICTIEF | Q10: FICTIEF | R10: FICTIEF | S10: FICTIEF | T10: Vrouw | W10: FICTIEF | X10: FICTIEF | Y10: FICTIEF | Z10: FICTIEF | AA10: FICTIEF | AC10: FICTIEF | AD10: FICTIEF | AE10: FICTIEF | AF10: FICTIEF | AG10: FICTIEF | AH10: FICTIEF | AI10: FICTIEF | AJ10: FICTIEF | AK10: FICTIEF | AL10: 100017076 | AM10: FICTIEF | AN10: FICTIEF | AO10: FICTIEF | AP10: FICTIEF | AQ10: FICTIEF | AR10: FICTIEF | AS10: FICTIEF | AT10: M.vandenNouweland | AU10: Midden-Brabant | AV10: SU Zorg, welzijn en sport | AW10: Vincent Alkemade | AX10: 25473 | AY10: Doktersassistent | BA10: 2016-01-06 10:32:24.533 | BC10: 2016-01-27 00:00:00.000 | BE10: 762046225LZ303 | BF10: 100017076
A11: 42254 | C11: 42396 | D11: 25PW | E11: ROC Drenthe College | F11: BOL | G11: 22166 | H11: 19556793 | I11: 102 | K11: 04ARB100077097 | L11: Medewerker marketing en communicatie | N11: 0 | O11: FICTIEF | P11: FICTIEF | Q11: FICTIEF | R11: FICTIEF | S11: FICTIEF | V11: 471782 | W11: FICTIEF | X11: FICTIEF | Y11: FICTIEF | Z11: FICTIEF | AA11: FICTIEF | AB11: Vrouw | AC11: FICTIEF | AD11: FICTIEF | AE11: FICTIEF | AF11: FICTIEF | AG11: FICTIEF | AH11: FICTIEF | AI11: FICTIEF | AJ11: FICTIEF | AK11: FICTIEF | AL11: 100077097 | AM11: FICTIEF | AN11: FICTIEF | AO11: FICTIEF | AP11: FICTIEF | AQ11: FICTIEF | AR11: FICTIEF | AS11: FICTIEF | AT11: R.Bovenhuis | AU11: IJsselvechtstreek | AV11: SU Techniek en gebouwde omgeving | AW11: Vincent van Baaijen | AX11: 22166 | AY11: Medewerker marketing en communicatie | BA11: 2016-01-06 10:32:24.533 | BC11: 2016-01-27 00:00:00.000 | BE11: 1955679325PW102 | BF11: 100077097
A12: 42257 | C12: 42396 | D12: 25LU | E12: ROC Alfa-college | F12: BOL | G12: 92662 | H12: 16501899 | I12: 10302 | K12: 04ARB100014674 | L12: Maatschappelijke Zorg (Persoonlijk begeleider specifieke doelgroepen) | N12: 0 | O12: FICTIEF | P12: FICTIEF | Q12: FICTIEF | R12: FICTIEF | S12: FICTIEF | V12: 222541 | W12: FICTIEF | X12: FICTIEF | Y12: FICTIEF | Z12: FICTIEF | AA12: FICTIEF | AB12: Vrouw | AC12: FICTIEF | AD12: FICTIEF | AE12: FICTIEF | AF12: FICTIEF | AG12: FICTIEF | AH12: FICTIEF | AI12: FICTIEF | AJ12: FICTIEF | AK12: FICTIEF | AL12: 100014674 | AM12: FICTIEF | AN12: FICTIEF | AO12: FICTIEF | AP12: FICTIEF | AQ12: FICTIEF | AR12: FICTIEF | AS12: FICTIEF | AT12: F.Kisjes | AU12: Groningen | AV12: SU Zorg, welzijn en sport | AW12: Vincent Alkemade | AX12: 25478 | AY12: Persoonlijk begeleider specifieke doelgroepen | BA12: 2016-01-06 10:32:24.533 | BC12: 2016-01-27 00:00:00.000 | BE12: 1650189925LU10302 | BF12: 100014674
A13: 42257 | C13: 42396 | D13: 25PZ | E13: ROC van Amsterdam | F13: BBL | G13: 95420 | H13: 7408752 | I13: 209 | K13: 04ARB100153760 | L13: Kok (Zelfstandig werkend kok) | N13: 675964 | O13: FICTIEF | P13: FICTIEF | Q13: FICTIEF | R13: FICTIEF | S13: FICTIEF | T13: Man | W13: FICTIEF | X13: FICTIEF | Y13: FICTIEF | Z13: FICTIEF | AA13: FICTIEF | AC13: FICTIEF | AD13: FICTIEF | AE13: FICTIEF | AF13: FICTIEF | AG13: FICTIEF | AH13: FICTIEF | AI13: FICTIEF | AJ13: FICTIEF | AK13: FICTIEF | AL13: 100153760 | AM13: FICTIEF | AN13: FICTIEF | AO13: FICTIEF | AP13: FICTIEF | AQ13: FICTIEF | AR13: FICTIEF | AS13: FICTIEF | AT13: T.Hoenderdos | AU13: Zaanstreek/Waterland | AV13: SU Voedsel, groen en gastvrijheid | AW13: Jan Willem Mans | AX13: 25182 | AY13: Zelfstandig werkend kok | BA13: 2016-01-06 10:32:24.533 | BC13: 2016-01-27 00:00:00.000 | BE13: 740875225PZ00209 | BF13: 100153760
A14: 41961 | C14: 42396 | D14: 25PN | E14: ROC Nijmegen | F14: BBL | G14: 91410 | H14: 7097109 | I14: 10004 | K14: 02QG6531ZZ0023203 | L14: Tandartsassistent | N14: 204418 | O14: FICTIEF | P14: FICTIEF | Q14: FICTIEF | R14: FICTIEF | S14: FICTIEF | T14: Vrouw | W14: FICTIEF | X14: FICTIEF | Y14: FICTIEF | Z14: FICTIEF | AA14: FICTIEF | AC14: FICTIEF | AD14: FICTIEF | AE14: FICTIEF | AF14: FICTIEF | AG14: FICTIEF | AH14: FICTIEF | AI14: FICTIEF | AJ14: FICTIEF | AK14: FICTIEF | AL14: 100049405 | AM14: FICTIEF | AN14: FICTIEF | AO14: FICTIEF | AP14: FICTIEF | AQ14: FICTIEF | AR14: FICTIEF | AS14: FICTIEF | AT14: M.Schaaphuizen | AU14: Rijk van Nijmegen | AV14: SU Zorg, welzijn en sport | AW14: Vincent Alkemade | AX14: 25490 | AY14: Tandartsassistent | BA14: 2016-01-06 10:32:24.533 | BC14: 2016-01-27 00:00:00.000 | BE14: 709710925PN10004 | BF14: 100049405
A15: 42177 | C15: 42396 | D15: 25LH | E15: ROC Midden Nederland | F15: BOL | G15: 94910 | H15: 24008598 | I15: 201 | K15: 00SP2281CX0003503 | L15: Medewerker sociale zekerheid | N15: 0 | O15: FICTIEF | P15: FICTIEF | Q15: FICTIEF | R15: FICTIEF | S15: FICTIEF | V15: 617817 | W15: FICTIEF | X15: FICTIEF | Y15: FICTIEF | Z15: FICTIEF | AA15: FICTIEF | AB15: Vrouw | AC15: FICTIEF | AD15: FICTIEF | AE15: FICTIEF | AF15: FICTIEF | AG15: FICTIEF | AH15: FICTIEF | AI15: FICTIEF | AJ15: FICTIEF | AK15: FICTIEF | AL15: 100127106 | AM15: FICTIEF | AN15: FICTIEF | AO15: FICTIEF | AP15: FICTIEF | AQ15: FICTIEF | AR15: FICTIEF | AS15: FICTIEF | AT15: A.Verhagen | AU15: Haaglanden | AV15: SU Zakelijke dienstverl. en veiligheid | AW15: Deborah van der Meere | AX15: 25145 | AY15: Juridisch-administratief dienstverlener | BA15: 2016-01-06 10:32:24.533 | BC15: 2016-01-27 00:00:00.000 | BE15: 2400859825LH201 | BF15: 100127106
A16: 42177 | C16: 42396 | D16: 25LH | E16: ROC Midden Nederland | F16: BOL | G16: 94910 | H16: 24008598 | I16: 202 | K16: 00SP2281CX0003601 | L16: Medewerker sociale zekerheid | N16: 619919 | O16: FICTIEF | P16: FICTIEF | Q16: FICTIEF | R16: FICTIEF | S16: FICTIEF | T16: Vrouw | W16: FICTIEF | X16: FICTIEF | Y16: FICTIEF | Z16: FICTIEF | AA16: FICTIEF | AC16: FICTIEF | AD16: FICTIEF | AE16: FICTIEF | AF16: FICTIEF | AG16: FICTIEF | AH16: FICTIEF | AI16: FICTIEF | AJ16: FICTIEF | AK16: FICTIEF | AL16: 100126700 | AM16: FICTIEF | AN16: FICTIEF | AO16: FICTIEF | AP16: FICTIEF | AQ16: FICTIEF | AR16: FICTIEF | AS16: FICTIEF | AT16: A.Verhagen | AU16: Haaglanden | AV16: SU Zakelijke dienstverl. en veiligheid | AW16: Deborah van der Meere | AX16: 25145 | AY16: Juridisch-administratief dienstverlener | BA16: 2016-01-06 10:32:24.533 | BC16: 2016-01-27 00:00:00.000 | BE16: 2400859825LH202 | BF16: 100126700
A17: 42241 | C17: 42396 | D17: 24ZZ | E17: ROC Graafschap College | F17: BOL | G17: 92640 | H17: 19171341 | I17: 101 | K17: 02QG7157BR0000401 | L17: Helpende Zorg & Welzijn | N17: 0 | O17: FICTIEF | P17: FICTIEF | Q17: FICTIEF | R17: FICTIEF | S17: FICTIEF | V17: 339054 | W17: FICTIEF | X17: FICTIEF | Y17: FICTIEF | Z17: FICTIEF | AA17: FICTIEF | AB17: Vrouw | AC17: FICTIEF | AD17: FICTIEF | AE17: FICTIEF | AF17: FICTIEF | AG17: FICTIEF | AH17: FICTIEF | AI17: FICTIEF | AJ17: FICTIEF | AK17: FICTIEF | AL17: 100008999 | AM17: FICTIEF | AN17: FICTIEF | AO17: FICTIEF | AP17: FICTIEF | AQ17: FICTIEF | AR17: FICTIEF | AS17: FICTIEF | AT17: R.vanWijk | AU17: Achterhoek | AV17: SU Zorg, welzijn en sport | AW17: Vincent Alkemade | AX17: 25498 | AY17: Helpende Zorg en Welzijn | BA17: 2016-01-06 10:32:24.533 | BC17: 2016-01-27 00:00:00.000 | BE17: 1917134124ZZ101 | BF17: 100008999
A18: 41666 | C18: 42396 | D18: 25LW | E18: ROC Noorderpoortcollege | F18: BBL | G18: 95761 | H18: 20200563 | I18: 10103 | K18: 02PR9403AD0004102 | L18: Constructiewerker | N18: 0 | O18: FICTIEF | P18: FICTIEF | Q18: FICTIEF | R18: FICTIEF | S18: FICTIEF | V18: 590369 | W18: FICTIEF | X18: FICTIEF | Y18: FICTIEF | Z18: FICTIEF | AA18: FICTIEF | AB18: Vrouw | AC18: FICTIEF | AD18: FICTIEF | AE18: FICTIEF | AF18: FICTIEF | AG18: FICTIEF | AH18: FICTIEF | AI18: FICTIEF | AJ18: FICTIEF | AK18: FICTIEF | AL18: 100120509 | AM18: FICTIEF | AN18: FICTIEF | AO18: FICTIEF | AP18: FICTIEF | AQ18: FICTIEF | AR18: FICTIEF | AS18: FICTIEF | AT18: L.Ringers | AU18: Groningen | AV18: SU Techniek en gebouwde omgeving | AW18: Vincent van Baaijen | AX18: 25291 | AY18: Constructiewerker | BA18: 2016-01-06 10:32:24.533 | BC18: 2016-01-27 00:00:00.000 | BE18: 2020056325LW10103 | BF18: 100328003
A19: 41666 | C19: 42396 | D19: 25PN | E19: ROC Nijmegen | F19: BBL | G19: 91410 | H19: 16013727 | I19: 10001 | K19: 02QG5349AD0000701 | L19: Tandartsassistent | N19: 161503 | O19: FICTIEF | P19: FICTIEF | Q19: FICTIEF | R19: FICTIEF | S19: FICTIEF | T19: Vrouw | W19: FICTIEF | X19: FICTIEF | Y19: FICTIEF | Z19: FICTIEF | AA19: FICTIEF | AC19: FICTIEF | AD19: FICTIEF | AE19: FICTIEF | AF19: FICTIEF | AG19: FICTIEF | AH19: FICTIEF | AI19: FICTIEF | AJ19: FICTIEF | AK19: FICTIEF | AL19: 100038274 | AM19: FICTIEF | AN19: FICTIEF | AO19: FICTIEF | AP19: FICTIEF | AQ19: FICTIEF | AR19: FICTIEF | AS19: FICTIEF | AT19: C.vanHeezen | AU19: Noordoost-Brabant | AV19: SU Zorg, welzijn en sport | AW19: Vincent Alkemade | AX19: 25490 | AY19: Tandartsassistent | BA19: 2016-01-06 10:32:24.533 | BC19: 2016-01-27 00:00:00.000 | BE19: 1601372725PN10001 | BF19: 100038274
A20: 41666 | C20: 42396 | D20: 25PN | E20: ROC Nijmegen | F20: BBL | G20: 91410 | H20: 3808917 | I20: 10001 | K20: 02QG4001CC0001701 | L20: Tandartsassistent | N20: 244589 | O20: FICTIEF | P20: FICTIEF | Q20: FICTIEF | R20: FICTIEF | S20: FICTIEF | T20: Man | W20: FICTIEF | X20: FICTIEF | Y20: FICTIEF | Z20: FICTIEF | AA20: FICTIEF | AC20: FICTIEF | AD20: FICTIEF | AE20: FICTIEF | AF20: FICTIEF | AG20: FICTIEF | AH20: FICTIEF | AI20: FICTIEF | AJ20: FICTIEF | AK20: FICTIEF | AL20: 100037478 | AM20: FICTIEF | AN20: FICTIEF | AO20: FICTIEF | AP20: FICTIEF | AQ20: FICTIEF | AR20: FICTIEF | AS20: FICTIEF | AT20: M.Schaaphuizen | AU20: Rivierenland | AV20: SU Zorg, welzijn en sport | AW20: Vincent Alkemade | AX20: 25490 | AY20: Tandartsassistent | BA20: 2016-01-06 10:32:24.533 | BC20: 2016-01-27 00:00:00.000 | BE20: 380891725PN10001 | BF20: 100037478
A21: 41666 | C21: 42396 | D21: 25PN | E21: ROC Nijmegen | F21: BBL | G21: 91410 | H21: 5967540 | I21: 10001 | K21: 02QG6721WG0002401 | L21: Tandartsassistent | N21: 177080 | O21: FICTIEF | P21: FICTIEF | Q21: FICTIEF | R21: FICTIEF | S21: FICTIEF | T21: Man | W21: FICTIEF | X21: FICTIEF | Y21: FICTIEF | Z21: FICTIEF | AA21: FICTIEF | AC21: FICTIEF | AD21: FICTIEF | AE21: FICTIEF | AF21: FICTIEF | AG21: FICTIEF | AH21: FICTIEF | AI21: FICTIEF | AJ21: FICTIEF | AK21: FICTIEF | AL21: 100038088 | AM21: FICTIEF | AN21: FICTIEF | AO21: FICTIEF | AP21: FICTIEF | AQ21: FICTIEF | AR21: FICTIEF | AS21: FICTIEF | AT21: R.vanZwieteren | AU21: Food Valley | AV21: SU Zorg, welzijn en sport | AW21: Vincent Alkemade | AX21: 25490 | AY21: Tandartsassistent | BA21: 2016-01-06 10:32:24.533 | BC21: 2016-01-27 00:00:00.000 | BE21: 596754025PN10001 | BF21: 100038088
A22: 41666 | C22: 42396 | D22: 25PN | E22: ROC Nijmegen | F22: BBL | G22: 91410 | H22: 6337530 | I22: 10208 | K22: 02QG6533BD0001201 | L22: Tandartsassistent | N22: 137126 | O22: FICTIEF | P22: FICTIEF | Q22: FICTIEF | R22: FICTIEF | S22: FICTIEF | T22: Vrouw | W22: FICTIEF | X22: FICTIEF | Y22: FICTIEF | Z22: FICTIEF | AA22: FICTIEF | AC22: FICTIEF | AD22: FICTIEF | AE22: FICTIEF | AF22: FICTIEF | AG22: FICTIEF | AH22: FICTIEF | AI22: FICTIEF | AJ22: FICTIEF | AK22: FICTIEF | AL22: 100017699 | AM22: FICTIEF | AN22: FICTIEF | AO22: FICTIEF | AP22: FICTIEF | AQ22: FICTIEF | AR22: FICTIEF | AS22: FICTIEF | AT22: V.Nijkamp | AU22: Rijk van Nijmegen | AV22: SU Zorg, welzijn en sport | AW22: Vincent Alkemade | AX22: 25490 | AY22: Tandartsassistent | BA22: 2016-01-06 10:32:24.533 | BC22: 2016-01-27 00:00:00.000 | BE22: 633753025PN10208 | BF22: 100017699
A23: 41666 | C23: 42396 | D23: 25PN | E23: ROC Nijmegen | F23: BBL | G23: 91410 | H23: 6483321 | I23: 10201 | K23: 02QG6524TX0031501 | L23: Tandartsassistent | N23: 103616 | O23: FICTIEF | P23: FICTIEF | Q23: FICTIEF | R23: FICTIEF | S23: FICTIEF | T23: Man | W23: FICTIEF | X23: FICTIEF | Y23: FICTIEF | Z23: FICTIEF | AA23: FICTIEF | AC23: FICTIEF | AD23: FICTIEF | AE23: FICTIEF | AF23: FICTIEF | AG23: FICTIEF | AH23: FICTIEF | AI23: FICTIEF | AJ23: FICTIEF | AK23: FICTIEF | AL23: 100014396 | AM23: FICTIEF | AN23: FICTIEF | AO23: FICTIEF | AP23: FICTIEF | AQ23: FICTIEF | AR23: FICTIEF | AS23: FICTIEF | AT23: V.Nijkamp | AU23: Rijk van Nijmegen | AV23: SU Zorg, welzijn en sport | AW23: Vincent Alkemade | AX23: 25490 | AY23: Tandartsassistent | BA23: 2016-01-06 10:32:24.533 | BC23: 2016-01-27 00:00:00.000 | BE23: 648332125PN10201 | BF23: 100014396
A24: 41666 | C24: 42396 | D24: 25PN | E24: ROC Nijmegen | F24: BBL | G24: 91410 | H24: 6680763 | I24: 10001 | K24: 02QG6833LP0000401 | L24: Tandartsassistent | N24: 231538 | O24: FICTIEF | P24: FICTIEF | Q24: FICTIEF | R24: FICTIEF | S24: FICTIEF | T24: Vrouw | W24: FICTIEF | X24: FICTIEF | Y24: FICTIEF | Z24: FICTIEF | AA24: FICTIEF | AC24: FICTIEF | AD24: FICTIEF | AE24: FICTIEF | AF24: FICTIEF | AG24: FICTIEF | AH24: FICTIEF | AI24: FICTIEF | AJ24: FICTIEF | AK24: FICTIEF | AL24: 100053815 | AM24: FICTIEF | AN24: FICTIEF | AO24: FICTIEF | AP24: FICTIEF | AQ24: FICTIEF | AR24: FICTIEF | AS24: FICTIEF | AT24: R.vanWijk | AU24: Midden-Gelderland | AV24: SU Zorg, welzijn en sport | AW24: Vincent Alkemade | AX24: 25490 | AY24: Tandartsassistent | BA24: 2016-01-06 10:32:24.533 | BC24: 2016-01-27 00:00:00.000 | BE24: 668076325PN10001 | BF24: 100053815
A25: 41666 | C25: 42396 | D25: 25PN | E25: ROC Nijmegen | F25: BBL | G25: 91410 | H25: 7734657 | I25: 10001 | K25: 02QG7121DP0000901 | L25: Tandartsassistent | N25: 234904 | O25: FICTIEF | P25: FICTIEF | Q25: FICTIEF | R25: FICTIEF | S25: FICTIEF | T25: Man | W25: FICTIEF | X25: FICTIEF | Y25: FICTIEF | Z25: FICTIEF | AA25: FICTIEF | AC25: FICTIEF | AD25: FICTIEF | AE25: FICTIEF | AF25: FICTIEF | AG25: FICTIEF | AH25: FICTIEF | AI25: FICTIEF | AJ25: FICTIEF | AK25: FICTIEF | AL25: 100004492 | AM25: FICTIEF | AN25: FICTIEF | AO25: FICTIEF | AP25: FICTIEF | AQ25: FICTIEF | AR25: FICTIEF | AS25: FICTIEF | AT25: G.Mackaay | AU25: Achterhoek | AV25: SU Zorg, welzijn en sport | AW25: Vincent Alkemade | AX25: 25490 | AY25: Tandartsassistent | BA25: 2016-01-06 10:32:24.533 | BC25: 2016-01-27 00:00:00.000 | BE25: 773465725PN10001 | BF25: 100004492
A26: 41666 | C26: 42396 | D26: 25PZ | E26: ROC van Amsterdam | F26: BBL | G26: 93420 | H26: 4523145 | I26: 102 | K26: 02FZ1435CB0000201 | L26: Autotechniek (Eerste autotechnicus) | N26: 1515968 | O26: FICTIEF | P26: FICTIEF | Q26: FICTIEF | R26: FICTIEF | S26: FICTIEF | T26: Man | W26: FICTIEF | X26: FICTIEF | Y26: FICTIEF | Z26: FICTIEF | AA26: FICTIEF | AC26: FICTIEF | AD26: FICTIEF | AE26: FICTIEF | AF26: FICTIEF | AG26: FICTIEF | AH26: FICTIEF | AI26: FICTIEF | AJ26: FICTIEF | AK26: FICTIEF | AL26: 100238758 | AM26: FICTIEF | AN26: FICTIEF | AO26: FICTIEF | AP26: FICTIEF | AQ26: FICTIEF | AR26: FICTIEF | AS26: FICTIEF | AT26: O.Gruijters | AU26: Groot Amsterdam | AV26: SU Mobiliteit, transport, logistiek | AW26: Theo Heintjes | AX26: 25244 | AY26: Eerste Autotechnicus | BA26: 2016-01-06 10:32:24.533 | BC26: 2016-01-27 00:00:00.000 | BE26: 452314525PZ00102 | BF26: 100238758
A27: 41666 | B27: 42396 | C27: 42396 | D27: 25PZ | E27: ROC van Amsterdam | F27: BBL | G27: 95684 | H27: 4903548 | I27: 309 | K27: 02FW1442TM0007401 | L27: Gezel schilder | N27: 1433718 | O27: FICTIEF | P27: FICTIEF | Q27: FICTIEF | R27: FICTIEF | S27: FICTIEF | T27: Man | W27: FICTIEF | X27: FICTIEF | Y27: FICTIEF | Z27: FICTIEF | AA27: FICTIEF | AC27: FICTIEF | AD27: FICTIEF | AE27: FICTIEF | AF27: FICTIEF | AG27: FICTIEF | AH27: FICTIEF | AI27: FICTIEF | AJ27: FICTIEF | AK27: FICTIEF | AL27: 100353299 | AM27: FICTIEF | AN27: FICTIEF | AO27: FICTIEF | AP27: FICTIEF | AQ27: FICTIEF | AR27: FICTIEF | AS27: FICTIEF | AT27: A.vanSchaik | AU27: Zaanstreek/Waterland | AV27: SU Techniek en gebouwde omgeving | AW27: Vincent van Baaijen | AX27: 25029 | AY27: Gezel schilder | BA27: 2016-01-06 10:32:24.533 | BC27: 2016-01-27 00:00:00.000 | BE27: 490354825PZ00309 | BF27: 100353299
A28: 42031 | C28: 42396 | D28: 25LX | E28: ROC West-Brabant | F28: BBL | G28: 94850 | H28: 27645387 | I28: A0101 | K28: 00SP3542AA0006307 | L28: Particuliere beveiliging (Beveiliger) | N28: 425932 | O28: FICTIEF | P28: FICTIEF | Q28: FICTIEF | R28: FICTIEF | S28: FICTIEF | T28: Vrouw | W28: FICTIEF | X28: FICTIEF | Y28: FICTIEF | Z28: FICTIEF | AA28: FICTIEF | AC28: FICTIEF | AD28: FICTIEF | AE28: FICTIEF | AF28: FICTIEF | AG28: FICTIEF | AH28: FICTIEF | AI28: FICTIEF | AJ28: FICTIEF | AK28: FICTIEF | AL28: 100088327 | AM28: FICTIEF | AN28: FICTIEF | AO28: FICTIEF | AP28: FICTIEF | AQ28: FICTIEF | AR28: FICTIEF | AS28: FICTIEF | AT28: G.Bom | AU28: Holland Rijnland | AV28: SU Zakelijke dienstverl. en veiligheid | AW28: Deborah van der Meere | AX28: 25407 | AY28: Beveiliger | BA28: 2016-01-06 10:32:24.533 | BC28: 2016-01-27 00:00:00.000 | BE28: 2764538725LXA0101 | BF28: 100088327
A29: 42031 | C29: 42396 | D29: 25LX | E29: ROC West-Brabant | F29: BBL | G29: 94850 | H29: 27648168 | I29: A0101 | K29: 00SP2596AW0000111 | L29: Particuliere beveiliging (Beveiliger) | N29: 536685 | O29: FICTIEF | P29: FICTIEF | Q29: FICTIEF | R29: FICTIEF | S29: FICTIEF | T29: Man | W29: FICTIEF | X29: FICTIEF | Y29: FICTIEF | Z29: FICTIEF | AA29: FICTIEF | AC29: FICTIEF | AD29: FICTIEF | AE29: FICTIEF | AF29: FICTIEF | AG29: FICTIEF | AH29: FICTIEF | AI29: FICTIEF | AJ29: FICTIEF | AK29: FICTIEF | AL29: 100097737 | AM29: FICTIEF | AN29: FICTIEF | AO29: FICTIEF | AP29: FICTIEF | AQ29: FICTIEF | AR29: FICTIEF | AS29: FICTIEF | AT29: G.Bom | AU29: Haaglanden | AV29: SU Zakelijke dienstverl. en veiligheid | AW29: Deborah van der Meere | AX29: 25407 | AY29: Beveiliger | BA29: 2016-01-06 10:32:24.533 | BC29: 2016-01-27 00:00:00.000 | BE29: 2764816825LXA0101 | BF29: 100097737
A30: 41302 | C30: 42396 | D30: 25LF | E30: ROC Rijn IJssel | F30: BBL | G30: 90012 | H30: 26209308 | I30: 10001 | K30: 100349192 | L30: Allround operator (Operator B) | N30: 0 | O30: FICTIEF | P30: FICTIEF | Q30: FICTIEF | R30: FICTIEF | S30: FICTIEF | V30: 1398038 | W30: FICTIEF | X30: FICTIEF | Y30: FICTIEF | Z30: FICTIEF | AA30: FICTIEF | AB30: Vrouw | AC30: FICTIEF | AD30: FICTIEF | AE30: FICTIEF | AF30: FICTIEF | AG30: FICTIEF | AH30: FICTIEF | AI30: FICTIEF | AJ30: FICTIEF | AK30: FICTIEF | AL30: 100349192 | AM30: FICTIEF | AN30: FICTIEF | AO30: FICTIEF | AP30: FICTIEF | AQ30: FICTIEF | AR30: FICTIEF | AS30: FICTIEF | AT30: P.Gastelaar | AU30: Rijnmond | AV30: SU Techniek en gebouwde omgeving | AW30: Vincent van Baaijen | AX30: 25338 | AY30: Procesoperator B | BA30: 2016-01-06 10:32:24.533 | BC30: 2016-01-27 00:00:00.000 | BE30: 2620930825LF10001 | BF30: 100349192
A31: 41302 | C31: 42396 | D31: 25LF | E31: ROC Rijn IJssel | F31: BBL | G31: 90012 | H31: 26210205 | I31: 10001 | K31: 100347752 | L31: Allround operator (Operator B) | N31: 0 | O31: FICTIEF | P31: FICTIEF | Q31: FICTIEF | R31: FICTIEF | S31: FICTIEF | V31: 1394233 | W31: FICTIEF | X31: FICTIEF | Y31: FICTIEF | Z31: FICTIEF | AA31: FICTIEF | AB31: Man | AC31: FICTIEF | AD31: FICTIEF | AE31: FICTIEF | AF31: FICTIEF | AG31: FICTIEF | AH31: FICTIEF | AI31: FICTIEF | AJ31: FICTIEF | AK31: FICTIEF | AL31: 100347752 | AM31: FICTIEF | AN31: FICTIEF | AO31: FICTIEF | AP31: FICTIEF | AQ31: FICTIEF | AR31: FICTIEF | AS31: FICTIEF | AT31: P.Gastelaar | AU31: Rijnmond | AV31: SU Techniek en gebouwde omgeving | AW31: Vincent van Baaijen | AX31: 25338 | AY31: Procesoperator B | BA31: 2016-01-06 10:32:24.533 | BC31: 2016-01-27 00:00:00.000 | BE31: 2621020525LF10001 | BF31: 100347752
A32: 41302 | C32: 42396 | D32: 25LF | E32: ROC Rijn IJssel | F32: BBL | G32: 90012 | H32: 26255802 | I32: 10001 | K32: 100349677 | L32: Allround operator (Operator B) | N32: 0 | O32: FICTIEF | P32: FICTIEF | Q32: FICTIEF | R32: FICTIEF | S32: FICTIEF | V32: 1389065 | W32: FICTIEF | X32: FICTIEF | Y32: FICTIEF | Z32: FICTIEF | AA32: FICTIEF | AB32: Man | AC32: FICTIEF | AD32: FICTIEF | AE32: FICTIEF | AF32: FICTIEF | AG32: FICTIEF | AH32: FICTIEF | AI32: FICTIEF | AJ32: FICTIEF | AK32: FICTIEF | AL32: 100349677 | AM32: FICTIEF | AN32: FICTIEF | AO32: FICTIEF | AP32: FICTIEF | AQ32: FICTIEF | AR32: FICTIEF | AS32: FICTIEF | AT32: S.Vermeulen | AU32: Midden-Holland | AV32: SU Techniek en gebouwde omgeving | AW32: Vincent van Baaijen | AX32: 25338 | AY32: Procesoperator B | BA32: 2016-01-06 10:32:24.533 | BC32: 2016-01-27 00:00:00.000 | BE32: 2625580225LF10001 | BF32: 100349677
A33: 41302 | C33: 42396 | D33: 25LF | E33: ROC Rijn IJssel | F33: BBL | G33: 90012 | H33: 4722396 | I33: 10001 | K33: 02QD4782PM0003001 | L33: Allround operator (Operator B) | N33: 1396609 | O33: FICTIEF | P33: FICTIEF | Q33: FICTIEF | R33: FICTIEF | S33: FICTIEF | T33: Man | W33: FICTIEF | X33: FICTIEF | Y33: FICTIEF | Z33: FICTIEF | AA33: FICTIEF | AC33: FICTIEF | AD33: FICTIEF | AE33: FICTIEF | AF33: FICTIEF | AG33: FICTIEF | AH33: FICTIEF | AI33: FICTIEF | AJ33: FICTIEF | AK33: FICTIEF | AL33: 100348744 | AM33: FICTIEF | AN33: FICTIEF | AO33: FICTIEF | AP33: FICTIEF | AQ33: FICTIEF | AR33: FICTIEF | AS33: FICTIEF | AT33: M.Rommens | AU33: West-Brabant | AV33: SU Techniek en gebouwde omgeving | AW33: Vincent van Baaijen | AX33: 25338 | AY33: Procesoperator B | BA33: 2016-01-06 10:32:24.533 | BC33: 2016-01-27 00:00:00.000 | BE33: 472239625LF10001 | BF33: 100348744
A34: 41302 | C34: 42396 | D34: 25LH | E34: ROC Midden Nederland | F34: BBL | G34: 95520 | H34: 26183430 | I34: N101 | K34: 02QG3818ES0016001 | L34: Mbo-Verpleegkundige | N34: 62333 | O34: FICTIEF | P34: FICTIEF | Q34: FICTIEF | R34: FICTIEF | S34: FICTIEF | T34: Man | W34: FICTIEF | X34: FICTIEF | Y34: FICTIEF | Z34: FICTIEF | AA34: FICTIEF | AC34: FICTIEF | AD34: FICTIEF | AE34: FICTIEF | AF34: FICTIEF | AG34: FICTIEF | AH34: FICTIEF | AI34: FICTIEF | AJ34: FICTIEF | AK34: FICTIEF | AL34: 100013400 | AM34: FICTIEF | AN34: FICTIEF | AO34: FICTIEF | AP34: FICTIEF | AQ34: FICTIEF | AR34: FICTIEF | AS34: FICTIEF | AT34: J.vanderBurgh | AU34: Amersfoort | AV34: SU Zorg, welzijn en sport | AW34: Vincent Alkemade | AX34: 25480 | AY34: Mbo-Verpleegkundige | BA34: 2016-01-06 10:32:24.533 | BC34: 2016-01-27 00:00:00.000 | BE34: 2618343025LHN101 | BF34: 100013400
A35: 41302 | C35: 42396 | D35: 25LH | E35: ROC Midden Nederland | F35: BBL | G35: 95530 | H35: 8126292 | I35: 501 | K35: 02QG3956GC0003501 | L35: Verzorgende-IG | N35: 103840 | O35: FICTIEF | P35: FICTIEF | Q35: FICTIEF | R35: FICTIEF | S35: FICTIEF | T35: Vrouw | W35: FICTIEF | X35: FICTIEF | Y35: FICTIEF | Z35: FICTIEF | AA35: FICTIEF | AC35: FICTIEF | AD35: FICTIEF | AE35: FICTIEF | AF35: FICTIEF | AG35: FICTIEF | AH35: FICTIEF | AI35: FICTIEF | AJ35: FICTIEF | AK35: FICTIEF | AL35: 100024554 | AM35: FICTIEF | AN35: FICTIEF | AO35: FICTIEF | AP35: FICTIEF | AQ35: FICTIEF | AR35: FICTIEF | AS35: FICTIEF | AT35: I.vanAken | AU35: Midden-Utrecht | AV35: SU Zorg, welzijn en sport | AW35: Vincent Alkemade | AX35: 25491 | AY35: Verzorgende IG | BA35: 2016-01-06 10:32:24.533 | BC35: 2016-01-27 00:00:00.000 | BE35: 812629225LH501 | BF35: 100024554
A36: 41302 | C36: 42396 | D36: 25LH | E36: ROC Midden Nederland | F36: BBL | G36: 95530 | H36: 8138244 | I36: 201 | K36: 02QG3814WZ0000401 | L36: Verzorgende-IG | N36: 206561 | O36: FICTIEF | P36: FICTIEF | Q36: FICTIEF | R36: FICTIEF | S36: FICTIEF | T36: Vrouw | W36: FICTIEF | X36: FICTIEF | Y36: FICTIEF | Z36: FICTIEF | AA36: FICTIEF | AC36: FICTIEF | AD36: FICTIEF | AE36: FICTIEF | AF36: FICTIEF | AG36: FICTIEF | AH36: FICTIEF | AI36: FICTIEF | AJ36: FICTIEF | AK36: FICTIEF | AL36: 100039631 | AM36: FICTIEF | AN36: FICTIEF | AO36: FICTIEF | AP36: FICTIEF | AQ36: FICTIEF | AR36: FICTIEF | AS36: FICTIEF | AT36: E.Brouwer | AU36: Amersfoort | AV36: SU Zorg, welzijn en sport | AW36: Vincent Alkemade | AX36: 25491 | AY36: Verzorgende IG | BA36: 2016-01-06 10:32:24.533 | BC36: 2016-01-27 00:00:00.000 | BE36: 813824425LH201 | BF36: 100039631
A37: 41302 | C37: 42396 | D37: 25LP | E37: ROC Zadkine | F37: BBL | G37: 90012 | H37: 315504 | I37: 10301 | K37: 02QD3197KT0000201 | L37: Allround operator (Operator B) | N37: 0 | O37: FICTIEF | P37: FICTIEF | Q37: FICTIEF | R37: FICTIEF | S37: FICTIEF | V37: 1392864 | W37: FICTIEF | X37: FICTIEF | Y37: FICTIEF | Z37: FICTIEF | AA37: FICTIEF | AB37: Vrouw | AC37: FICTIEF | AD37: FICTIEF | AE37: FICTIEF | AF37: FICTIEF | AG37: FICTIEF | AH37: FICTIEF | AI37: FICTIEF | AJ37: FICTIEF | AK37: FICTIEF | AL37: 100348563 | AM37: FICTIEF | AN37: FICTIEF | AO37: FICTIEF | AP37: FICTIEF | AQ37: FICTIEF | AR37: FICTIEF | AS37: FICTIEF | AT37: P.Gastelaar | AU37: Rijnmond | AV37: SU Techniek en gebouwde omgeving | AW37: Vincent van Baaijen | AX37: 25338 | AY37: Procesoperator B | BA37: 2016-01-06 10:32:24.533 | BC37: 2016-01-27 00:00:00.000 | BE37: 31550425LP10301 | BF37: 100348563
A38: 41667 | C38: 42396 | D38: 00GT | E38: ROC Albeda College | F38: BOL | G38: 94140 | H38: 4985946 | I38: 501 | K38: 02PY3072AM0002502 | L38: Medewerker bediening/cafe-bar (Gastheer/-vrouw) | N38: 0 | O38: FICTIEF | P38: FICTIEF | Q38: FICTIEF | R38: FICTIEF | S38: FICTIEF | V38: 568615 | W38: FICTIEF | X38: FICTIEF | Y38: FICTIEF | Z38: FICTIEF | AA38: FICTIEF | AB38: Vrouw | AC38: FICTIEF | AD38: FICTIEF | AE38: FICTIEF | AF38: FICTIEF | AG38: FICTIEF | AH38: FICTIEF | AI38: FICTIEF | AJ38: FICTIEF | AK38: FICTIEF | AL38: 100186763 | AM38: FICTIEF | AN38: FICTIEF | AO38: FICTIEF | AP38: FICTIEF | AQ38: FICTIEF | AR38: FICTIEF | AS38: FICTIEF | AT38: A.Robbemont | AU38: Rijnmond | AV38: SU Zakelijke dienstverl. en veiligheid | AW38: Deborah van der Meere | AX38: 25168 | AY38: Gastheer/-vrouw | BA38: 2016-01-06 10:32:24.533 | BC38: 2016-01-27 00:00:00.000 | BE38: 498594600GT501 | BF38: 100155115
A39: 41667 | C39: 42396 | D39: 25LF | E39: ROC Rijn IJssel | F39: BBL | G39: 90252 | H39: 17930403 | I39: 10103 | K39: 00SE6902KL0000101 | L39: Logistiek medewerker (Logistiek medewerker KC Handel) | N39: 1274607 | O39: FICTIEF | P39: FICTIEF | Q39: FICTIEF | R39: FICTIEF | S39: FICTIEF | T39: Man | W39: FICTIEF | X39: FICTIEF | Y39: FICTIEF | Z39: FICTIEF | AA39: FICTIEF | AC39: FICTIEF | AD39: FICTIEF | AE39: FICTIEF | AF39: FICTIEF | AG39: FICTIEF | AH39: FICTIEF | AI39: FICTIEF | AJ39: FICTIEF | AK39: FICTIEF | AL39: 100285534 | AM39: FICTIEF | AN39: FICTIEF | AO39: FICTIEF | AP39: FICTIEF | AQ39: FICTIEF | AR39: FICTIEF | AS39: FICTIEF | AT39: R.Pieper | AU39: Midden-Gelderland | AV39: SU Handel | AW39: Tina Boes | AX39: 25371 | AY39: Logistiek medewerker | BA39: 2016-01-06 10:32:24.533 | BC39: 2016-01-27 00:00:00.000 | BE39: 1793040325LF10103 | BF39: 100285534
A40: 41667 | C40: 42396 | D40: 25LH | E40: ROC Midden Nederland | F40: BBL | G40: 95472 | H40: 7659150 | I40: 201 | K40: 02PR3704GR0002001 | L40: Service apparatuur en installaties (Onderhoudsmonteur installatietechniek) | N40: 0 | O40: FICTIEF | P40: FICTIEF | Q40: FICTIEF | R40: FICTIEF | S40: FICTIEF | V40: 1334828 | W40: FICTIEF | X40: FICTIEF | Y40: FICTIEF | Z40: FICTIEF | AA40: FICTIEF | AB40: Man | AC40: FICTIEF | AD40: FICTIEF | AE40: FICTIEF | AF40: FICTIEF | AG40: FICTIEF | AH40: FICTIEF | AI40: FICTIEF | AJ40: FICTIEF | AK40: FICTIEF | AL40: 100326430 | AM40: FICTIEF | AN40: FICTIEF | AO40: FICTIEF | AP40: FICTIEF | AQ40: FICTIEF | AR40: FICTIEF | AS40: FICTIEF | AT40: E.Jacobs | AU40: Midden-Utrecht | AV40: SU Techniek en gebouwde omgeving | AW40: Vincent van Baaijen | AX40: 25308 | AY40: Monteur service en onderhoud installaties en systemen | BA40: 2016-01-06 10:32:24.533 | BC40: 2016-01-27 00:00:00.000 | BE40: 765915025LH201 | BF40: 100326430
A41: 41667 | C41: 42396 | D41: 25LX | E41: ROC West-Brabant | F41: BBL | G41: 94292 | H41: 26938017 | I41: A0101 | K41: 02PR4817BL0005802 | L41: Installeren (Leidinggevend monteur werktuigkundige installaties) | N41: 0 | O41: FICTIEF | P41: FICTIEF | Q41: FICTIEF | R41: FICTIEF | S41: FICTIEF | V41: 368270 | W41: FICTIEF | X41: FICTIEF | Y41: FICTIEF | Z41: FICTIEF | AA41: FICTIEF | AB41: Vrouw | AC41: FICTIEF | AD41: FICTIEF | AE41: FICTIEF | AF41: FICTIEF | AG41: FICTIEF | AH41: FICTIEF | AI41: FICTIEF | AJ41: FICTIEF | AK41: FICTIEF | AL41: 100314812 | AM41: FICTIEF | AN41: FICTIEF | AO41: FICTIEF | AP41: FICTIEF | AQ41: FICTIEF | AR41: FICTIEF | AS41: FICTIEF | AT41: J.vanWulfen | AU41: West-Brabant | AV41: SU Techniek en gebouwde omgeving | AW41: Vincent van Baaijen | AX41: 25161 | AY41: Technisch Leidinggevende | BA41: 2016-01-06 10:32:24.533 | BC41: 2016-01-27 00:00:00.000 | BE41: 2693801725LXA0101 | BF41: 100314812
A42: 41667 | C42: 42396 | D42: 25LX | E42: ROC West-Brabant | F42: BBL | G42: 94292 | H42: 26938137 | I42: A0101 | K42: 02PR3044CJ0001102 | L42: Installeren (Leidinggevend monteur werktuigkundige installaties) | N42: 0 | O42: FICTIEF | P42: FICTIEF | Q42: FICTIEF | R42: FICTIEF | S42: FICTIEF | V42: 1338007 | W42: FICTIEF | X42: FICTIEF | Y42: FICTIEF | Z42: FICTIEF | AA42: FICTIEF | AB42: Man | AC42: FICTIEF | AD42: FICTIEF | AE42: FICTIEF | AF42: FICTIEF | AG42: FICTIEF | AH42: FICTIEF | AI42: FICTIEF | AJ42: FICTIEF | AK42: FICTIEF | AL42: 100314813 | AM42: FICTIEF | AN42: FICTIEF | AO42: FICTIEF | AP42: FICTIEF | AQ42: FICTIEF | AR42: FICTIEF | AS42: FICTIEF | AT42: L.vanDuin | AU42: Rijnmond | AV42: SU Techniek en gebouwde omgeving | AW42: Vincent van Baaijen | AX42: 25161 | AY42: Technisch Leidinggevende | BA42: 2016-01-06 10:32:24.533 | BC42: 2016-01-27 00:00:00.000 | BE42: 2693813725LXA0101 | BF42: 100314813
A43: 41667 | C43: 42396 | D43: 25PJ | E43: ROC Deltion College | F43: BBL | G43: 92711 | H43: 18029994 | I43: 101 | K43: 02FW8064PN0000701 | L43: Medewerker industriele lakverwerking (Jachtschilder) | N43: 0 | O43: FICTIEF | P43: FICTIEF | Q43: FICTIEF | R43: FICTIEF | S43: FICTIEF | V43: 0 | W43: FICTIEF | X43: FICTIEF | Y43: FICTIEF | Z43: FICTIEF | AA43: FICTIEF | AC43: FICTIEF | AD43: FICTIEF | AE43: FICTIEF | AF43: FICTIEF | AG43: FICTIEF | AH43: FICTIEF | AI43: FICTIEF | AJ43: FICTIEF | AK43: FICTIEF | AL43: 100351673 | AM43: FICTIEF | AN43: FICTIEF | AO43: FICTIEF | AP43: FICTIEF | AQ43: FICTIEF | AR43: FICTIEF | AS43: FICTIEF | AT43: L.vanPijkeren | AU43: IJsselvechtstreek | AV43: SU Techniek en gebouwde omgeving | AW43: Vincent van Baaijen | AX43: 25010 | AY43: Industrieel lakverwerker | BA43: 2016-01-06 10:32:24.533 | BC43: 2016-01-27 00:00:00.000 | BE43: 1802999425PJ101 | BF43: 100351673
A44: 42032 | C44: 42396 | D44: 25LH | E44: ROC Midden Nederland | F44: BOL | G44: 92620 | H44: 2981034 | I44: 201 | K44: 02QG3036KP0022701 | L44: Pedagogisch Werk (Pedagogisch medewerker 3 kinderopvang) | N44: 0 | O44: FICTIEF | P44: FICTIEF | Q44: FICTIEF | R44: FICTIEF | S44: FICTIEF | V44: 313363 | W44: FICTIEF | X44: FICTIEF | Y44: FICTIEF | Z44: FICTIEF | AA44: FICTIEF | AB44: Vrouw | AC44: FICTIEF | AD44: FICTIEF | AE44: FICTIEF | AF44: FICTIEF | AG44: FICTIEF | AH44: FICTIEF | AI44: FICTIEF | AJ44: FICTIEF | AK44: FICTIEF | AL44: 100061924 | AM44: FICTIEF | AN44: FICTIEF | AO44: FICTIEF | AP44: FICTIEF | AQ44: FICTIEF | AR44: FICTIEF | AS44: FICTIEF | AT44: N.Besseler | AU44: Rijnmond | AV44: SU Zorg, welzijn en sport | AW44: Vincent Alkemade | AX44: 25486 | AY44: Pedagogisch medewerker kinderopvang | BA44: 2016-01-06 10:32:24.533 | BC44: 2016-01-27 00:00:00.000 | BE44: 298103425LH201 | BF44: 100061924
A45: 42032 | C45: 42396 | D45: 25LP | E45: ROC Zadkine | F45: BBL | G45: 90550 | H45: 27638079 | I45: 101 | K45: 00SP5405NH0000601 | L45: Particuliere beveiliging (Coordinator beveiliging) | N45: 432437 | O45: FICTIEF | P45: FICTIEF | Q45: FICTIEF | R45: FICTIEF | S45: FICTIEF | T45: Vrouw | W45: FICTIEF | X45: FICTIEF | Y45: FICTIEF | Z45: FICTIEF | AA45: FICTIEF | AC45: FICTIEF | AD45: FICTIEF | AE45: FICTIEF | AF45: FICTIEF | AG45: FICTIEF | AH45: FICTIEF | AI45: FICTIEF | AJ45: FICTIEF | AK45: FICTIEF | AL45: 100089377 | AM45: FICTIEF | AN45: FICTIEF | AO45: FICTIEF | AP45: FICTIEF | AQ45: FICTIEF | AR45: FICTIEF | AS45: FICTIEF | AT45: T.Lony | AU45: Helmond-De Peel | AV45: SU Zakelijke dienstverl. en veiligheid | AW45: Deborah van der Meere | AX45: 25408 | AY45: Coördinator beveiliging | BA45: 2016-01-06 10:32:24.533 | BC45: 2016-01-27 00:00:00.000 | BE45: 2763807925LP101 | BF45: 100089377
A46: 42247 | C46: 42396 | D46: 25LJ | E46: ROC Ter AA | F46: BOL | G46: 92662 | H46: 19427763 | I46: 102 | K46: 02QG5701ZZ0000801 | L46: Maatschappelijke Zorg (Persoonlijk begeleider specifieke doelgroepen) | N46: 186595 | O46: FICTIEF | P46: FICTIEF | Q46: FICTIEF | R46: FICTIEF | S46: FICTIEF | T46: Vrouw | W46: FICTIEF | X46: FICTIEF | Y46: FICTIEF | Z46: FICTIEF | AA46: FICTIEF | AC46: FICTIEF | AD46: FICTIEF | AE46: FICTIEF | AF46: FICTIEF | AG46: FICTIEF | AH46: FICTIEF | AI46: FICTIEF | AJ46: FICTIEF | AK46: FICTIEF | AL46: 100019651 | AM46: FICTIEF | AN46: FICTIEF | AO46: FICTIEF | AP46: FICTIEF | AQ46: FICTIEF | AR46: FICTIEF | AS46: FICTIEF | AT46: P.deGoeij | AU46: Helmond-De Peel | AV46: SU Zorg, welzijn en sport | AW46: Vincent Alkemade | AX46: 25478 | AY46: Persoonlijk begeleider specifieke doelgroepen | BA46: 2016-01-06 10:32:24.533 | BC46: 2016-01-27 00:00:00.000 | BE46: 1942776325LJ102 | BF46: 100019651
A47: 42247 | C47: 42396 | D47: 25PW | E47: ROC Drenthe College | F47: BOL | G47: 22157 | H47: 15787620 | I47: 302 | K47: 04ARB100077855 | L47: Secretariële beroepen | N47: 0 | O47: FICTIEF | P47: FICTIEF | Q47: FICTIEF | R47: FICTIEF | S47: FICTIEF | V47: 365218 | W47: FICTIEF | X47: FICTIEF | Y47: FICTIEF | Z47: FICTIEF | AA47: FICTIEF | AB47: Vrouw | AC47: FICTIEF | AD47: FICTIEF | AE47: FICTIEF | AF47: FICTIEF | AG47: FICTIEF | AH47: FICTIEF | AI47: FICTIEF | AJ47: FICTIEF | AK47: FICTIEF | AL47: 100077855 | AM47: FICTIEF | AN47: FICTIEF | AO47: FICTIEF | AP47: FICTIEF | AQ47: FICTIEF | AR47: FICTIEF | AS47: FICTIEF | AT47: A.Wink | AU47: Drenthe | AV47: SU Zakelijke dienstverl. en veiligheid | AW47: Deborah van der Meere | AX47: 22157 | AY47: Secretariële beroepen | BA47: 2016-01-06 10:32:24.533 | BC47: 2016-01-27 00:00:00.000 | BE47: 1578762025PW302 | BF47: 100077855

Sheet Wilco
A1: StartDatum | B1: EindDatum_Werkelijk | C1: EindDatum_Gepland | D1: Brinnummer_School | E1: Naam_School | F1: Leerweg | G1: Crebo_ID | H1: LeerlingNummer | I1: BpvoVolgnummer | J1: Crebo_IBG | K1: Leerbedrijf_IBG | L1: CreboOpleiding | M1: LocatieCode | N1: Praktijkopleider_ID | O1: Praktijkopleider_mailadres | P1: Praktijkopleider_achternaam | Q1: Praktijkopleider_voornaam | R1: Praktijkopleider_tussenvoegsel | S1: Praktijkopleider_voorletters | T1: Praktijkopleider_mv | U1: Praktijkopleider_titel | V1: ContactpersoonBPV_ID | W1: ContactpersoonBPV_mailadres | X1: ContactpersoonBPV_achternaam | Y1: ContactpersoonBPV_voornaam | Z1: ContactpersoonBPV_tussenvoegsel | AA1: ContactpersoonBPV_voorletters | AB1: ContactpersoonBPV_mv | AC1: ContactpersoonBPV_titel | AD1: CentraalCtpBPV_ID | AE1: CentraalCtpBPV_mailadres | AF1: CentraalCtpBPV_achternaam | AG1: CentraalCtpBPV_voornaam | AH1: CentraalCtpBPV_tussenvoegsel | AI1: CentraalCtpBPV_voorletters | AJ1: CentraalCtpBPV_mv | AK1: CentraalCtpBPV_titel | AL1: SBB_Leerbedrijf_ID | AM1: Leerbedrijf_naam | AN1: Leerbedrijf_straat | AO1: Leerbedrijf_huisnummer | AP1: Leerbedrijf_huisnummertoevoeging | AQ1: Leerbedrijf_postcode | AR1: Leerbedrijf_plaats | AS1: Leerbedrijf_referentie_hoofdlocatie | AT1: Leerbedrijf_naam_SBB_adviseur_PL | AU1: Leerbedrijf_regio | AV1: Leerbedrijf_sector | AW1: Leerbedrijf_sectorunitmanager | AX1: Opleiding_crebonr | AY1: Opleiding_crebonaam | AZ1: Aanleverdatum_Panteia | BA1: Selectiedatum_data_BPV_monitor | BB1: Verzenddatum_BPV_monitor | BC1: Einddatum_BPVO_berekend | BD1: BPVO_evaluatie_ingevuldretour | BE1: Koppelvlak_BPV_monitor | BF1: DUO_Leerbedrijf_ID | BG1: komt voor in Carlo?
A2: 41666 | C2: 42396 | D2: 25PN | E2: ROC Nijmegen | F2: BBL | G2: 91410 | H2: 7734657 | I2: 10001 | K2: 02QG7121DP0000901 | L2: Tandartsassistent | N2: 234904 | O2: info@tandartspraktijkdewehmer.nl | P2: Ubbels | S2: C.J. | T2: Man | V2: 0 | AD2: 0 | AL2: 100004492 | AM2: Tandartspraktijk de Wehmer | AN2: Wehmerstraat | AO2: 9 | AQ2: 7121 DP | AR2: AALTEN | AS2: 0 | AT2: G.Mackaay | AU2: Achterhoek | AV2: SU Zorg, welzijn en sport | AW2: Vincent Alkemade | AX2: 25490 | AY2: Tandartsassistent | BA2: 2016-01-06 10:32:01.200 | BC2: 2016-01-27 00:00:00.000 | BE2: 773465725PN10001 | BF2: 100004492 | BG2: =VLOOKUP(BE2,Carlo!BE:BE,1,FALSE) -> 773465725PN10001
A3: 42282 | C3: 42396 | D3: 25RJ | E3: NHA opleidingen | F3: BOL | G3: 91310 | H3: 9465570 | I3: 101 | K3: 02QG7442LS0003803 | L3: Doktersassistent | N3: 233647 | O3: info@aesculaap-huisartsen.nl | P3: Engbers-Souverijn | Q3: Henriette | S3: H. | T3: Vrouw | V3: 0 | AD3: 0 | AL3: 100005068 | AM3: Huisartsenpraktijk de Aesculaap | AN3: Nijkerkendijk | AO3: 38 | AP3: 3 | AQ3: 7442 LS | AR3: NIJVERDAL | AS3: 0 | AT3: S.Koerhuis | AU3: Twente | AV3: SU Zorg, welzijn en sport | AW3: Vincent Alkemade | AX3: 25473 | AY3: Doktersassistent | BA3: 2016-01-06 10:32:01.200 | BC3: 2016-01-27 00:00:00.000 | BE3: 946557025RJ00101 | BF3: 100005068 | BG3: =VLOOKUP(BE3,Carlo!BE:BE,1,FALSE) -> 946557025RJ00101
A4: 42241 | C4: 42396 | D4: 24ZZ | E4: ROC Graafschap College | F4: BOL | G4: 92640 | H4: 19171341 | I4: 101 | K4: 02QG7157BR0000401 | L4: Helpende Zorg & Welzijn | N4: 0 | V4: 0 | AD4: 0 | AL4: 100008999 | AM4: Oqido, locatie Rekken, POV, Kdv en BSO | AN4: Den Borgweg | AO4: 4 | AQ4: 7157 BR | AR4: REKKEN | AS4: 100003374 | AT4: R.vanWijk | AU4: Achterhoek | AV4: SU Zorg, welzijn en sport | AW4: Vincent Alkemade | AX4: 25498 | AY4: Helpende Zorg en Welzijn | BA4: 2016-01-06 10:32:01.200 | BC4: 2016-01-27 00:00:00.000 | BE4: 1917134124ZZ101 | BF4: 100008999 | BG4: =VLOOKUP(BE4,Carlo!BE:BE,1,FALSE) -> 1917134124ZZ101
A5: 41671 | C5: 42396 | D5: 25PN | E5: ROC Nijmegen | F5: BBL | G5: 91410 | H5: 5238000 | I5: 10002 | K5: 02QG6641GG0001201 | L5: Tandartsassistent | N5: 108771 | O5: tjcbeuningen@wanadoo.nl | P5: Dähne | Q5: Lutz | S5: L. | T5: Man | V5: 0 | AD5: 0 | AL5: 100010049 | AM5: Jeugdtandarts Beuningen | AN5: Klokkengieter | AO5: 12 | AQ5: 6641 GG | AR5: BEUNINGEN GLD | AS5: 0 | AT5: V.Nijkamp | AU5: Rijk van Nijmegen | AV5: SU Zorg, welzijn en sport | AW5: Vincent Alkemade | AX5: 25490 | AY5: Tandartsassistent | BA5: 2016-01-06 10:32:01.200 | BC5: 2016-01-27 00:00:00.000 | BE5: 523800025PN10002 | BF5: 100010049 | BG5: =VLOOKUP(BE5,Carlo!BE:BE,1,FALSE) -> 523800025PN10002
A6: 41302 | C6: 42396 | D6: 25LH | E6: ROC Midden Nederland | F6: BBL | G6: 95520 | H6: 26183430 | I6: N101 | K6: 02QG3818ES0016001 | L6: Mbo-Verpleegkundige | N6: 62333 | O6: r.puik@meandermc.nl | P6: Puik | Q6: Rijk | S6: R. | T6: Man | V6: 0 | AD6: 0 | AL6: 100013400 | AM6: Meander Medisch Centrum Academie | AN6: Maatweg | AO6: 3 | AQ6: 3813 TZ | AR6: AMERSFOORT | AS6: 100038752 | AT6: J.vanderBurgh | AU6: Amersfoort | AV6: SU Zorg, welzijn en sport | AW6: Vincent Alkemade | AX6: 25480 | AY6: Mbo-Verpleegkundige | BA6: 2016-01-06 10:32:01.200 | BC6: 2016-01-27 00:00:00.000 | BE6: 2618343025LHN101 | BF6: 100013400 | BG6: =VLOOKUP(BE6,Carlo!BE:BE,1,FALSE) -> 2618343025LHN101
A7: 41666 | C7: 42396 | D7: 25PN | E7: ROC Nijmegen | F7: BBL | G7: 91410 | H7: 6483321 | I7: 10201 | K7: 02QG6524TX0031501 | L7: Tandartsassistent | N7: 103616 | O7: hoofdassistentenijmgen@samenwerkendetandartsen.nl | P7: Rompen | S7: J.F.N. | T7: Man | V7: 0 | AD7: 0 | AL7: 100014396 | AM7: Groepspraktijk de Tandarts | AN7: Groenewoudseweg | AO7: 315 | AQ7: 6524 TX | AR7: NIJMEGEN | AS7: 100035667 | AT7: V.Nijkamp | AU7: Rijk van Nijmegen | AV7: SU Zorg, welzijn en sport | AW7: Vincent Alkemade | AX7: 25490 | AY7: Tandartsassistent | BA7: 2016-01-06 10:32:01.200 | BC7: 2016-01-27 00:00:00.000 | BE7: 648332125PN10201 | BF7: 100014396 | BG7: =VLOOKUP(BE7,Carlo!BE:BE,1,FALSE) -> 648332125PN10201
A8: 42257 | C8: 42396 | D8: 25LU | E8: ROC Alfa-college | F8: BOL | G8: 92662 | H8: 16501899 | I8: 10302 | K8: 04ARB100014674 | L8: Maatschappelijke Zorg (Persoonlijk begeleider specifieke doelgroepen) | N8: 0 | V8: 0 | AD8: 0 | AL8: 100014674 | AM8: Interzorg Nieuw Graswijk | AN8: Juniperusplantsoen | AO8: 29 | AQ8: 9401 RL | AR8: ASSEN | AS8: 100041054 | AT8: F.Kisjes | AU8: Groningen | AV8: SU Zorg, welzijn en sport | AW8: Vincent Alkemade | AX8: 25478 | AY8: Persoonlijk begeleider specifieke doelgroepen | BA8: 2016-01-06 10:32:01.200 | BC8: 2016-01-27 00:00:00.000 | BE8: 1650189925LU10302 | BF8: 100014674 | BG8: =VLOOKUP(BE8,Carlo!BE:BE,1,FALSE) -> 1650189925LU10302
A9: 42254 | C9: 42396 | D9: 25LZ | E9: ROC Tilburg | F9: BOL | G9: 91310 | H9: 7620462 | I9: 303 | K9: 02QG5017JM0002401 | L9: Doktersassistent | N9: 238529 | O9: asbekker@xs4all.nl | P9: Koudijs | Q9: Irma | S9: I. | T9: Vrouw | V9: 0 | AD9: 0 | AL9: 100017076 | AM9: Huisarts F. Bekker | AN9: Prinsenhoeven | AO9: 22 | AQ9: 5017 GC | AR9: TILBURG | AS9: 0 | AT9: M.vandenNouweland | AU9: Midden-Brabant | AV9: SU Zorg, welzijn en sport | AW9: Vincent Alkemade | AX9: 25473 | AY9: Doktersassistent | BA9: 2016-01-06 10:32:01.200 | BC9: 2016-01-27 00:00:00.000 | BE9: 762046225LZ303 | BF9: 100017076 | BG9: =VLOOKUP(BE9,Carlo!BE:BE,1,FALSE) -> 762046225LZ303
A10: 41666 | C10: 42396 | D10: 25PN | E10: ROC Nijmegen | F10: BBL | G10: 91410 | H10: 6337530 | I10: 10208 | K10: 02QG6533BD0001201 | L10: Tandartsassistent | N10: 137126 | O10: gtp@xs4all.nl | P10: Dansen | S10: K.A. | T10: Vrouw | V10: 0 | AD10: 0 | AL10: 100017699 | AM10: Gezamenlijke Tandartsenpraktijk | AN10: Kastanjelaan | AO10: 12 | AQ10: 6533 BD | AR10: NIJMEGEN | AS10: 0 | AT10: V.Nijkamp | AU10: Rijk van Nijmegen | AV10: SU Zorg, welzijn en sport | AW10: Vincent Alkemade | AX10: 25490 | AY10: Tandartsassistent | BA10: 2016-01-06 10:32:01.200 | BC10: 2016-01-27 00:00:00.000 | BE10: 633753025PN10208 | BF10: 100017699 | BG10: =VLOOKUP(BE10,Carlo!BE:BE,1,FALSE) -> 633753025PN10208
A11: 41666 | C11: 42396 | D11: 25PN | E11: ROC Nijmegen | F11: BBL | G11: 91410 | H11: 7421364 | I11: 10001 | K11: 02QG3906AC0007001 | L11: Tandartsassistent | N11: 0 | V11: 0 | AD11: 0 | AL11: 100018218 | AM11: Tandarts Zachariasse, C J | AN11: Het Overslag | AO11: 70 | AQ11: 3906 AC | AR11: VEENENDAAL | AS11: 0 | AT11: R.vanZwieteren | AU11: Food Valley | AV11: SU Zorg, welzijn en sport | AW11: Vincent Alkemade | AX11: 25490 | AY11: Tandartsassistent | BA11: 2016-01-06 10:32:01.200 | BC11: 2016-01-27 00:00:00.000 | BE11: 742136425PN10001 | BF11: 100018218 | BG11: =VLOOKUP(BE11,Carlo!BE:BE,1,FALSE) -> #N/A
A12: 42254 | C12: 42396 | D12: 25LZ | E12: ROC Tilburg | F12: BOL | G12: 91310 | H12: 17593425 | I12: 104 | K12: 02QG5038TV0000401 | L12: Doktersassistent | N12: 0 | V12: 0 | AD12: 0 | AL12: 100018552 | AM12: D.M. Kuijpers, huisarts | AN12: Korvelplein | AO12: 10 | AQ12: 5025 JN | AR12: TILBURG | AS12: 0 | AT12: M.vandenNouweland | AU12: Midden-Brabant | AV12: SU Zorg, welzijn en sport | AW12: Vincent Alkemade | AX12: 25473 | AY12: Doktersassistent | BA12: 2016-01-06 10:32:01.200 | BC12: 2016-01-27 00:00:00.000 | BE12: 1759342525LZ104 | BF12: 100018552 | BG12: =VLOOKUP(BE12,Carlo!BE:BE,1,FALSE) -> 1759342525LZ104
A13: 42247 | C13: 42396 | D13: 25LJ | E13: ROC Ter AA | F13: BOL | G13: 92662 | H13: 19427763 | I13: 102 | K13: 02QG5701ZZ0000801 | L13: Maatschappelijke Zorg (Persoonlijk begeleider specifieke doelgroepen) | N13: 186595 | O13: m.kuunders@savant-zorg.nl | P13: Kuunders | Q13: Marion | S13: M.W.P.H. | T13: Vrouw | V13: 0 | AD13: 0 | AL13: 100019651 | AM13: Savant Zorg Woonzorgcentrum de Ameide | AN13: Ameidepark | AO13: 8 | AQ13: 5701 ZZ | AR13: HELMOND | AS13: 100093177 | AT13: P.deGoeij | AU13: Helmond-De Peel | AV13: SU Zorg, welzijn en sport | AW13: Vincent Alkemade | AX13: 25478 | AY13: Persoonlijk begeleider specifieke doelgroepen | BA13: 2016-01-06 10:32:01.200 | BC13: 2016-01-27 00:00:00.000 | BE13: 1942776325LJ102 | BF13: 100019651 | BG13: =VLOOKUP(BE13,Carlo!BE:BE,1,FALSE) -> 1942776325LJ102
A14: 41302 | C14: 42396 | D14: 25LH | E14: ROC Midden Nederland | F14: BBL | G14: 95530 | H14: 8126292 | I14: 501 | K14: 02QG3956GC0003501 | L14: Verzorgende-IG | N14: 103840 | O14: liliane.goosmann@allerzorg.nl | P14: Goosmann | Q14: Liliane | S14: L.Y.A. | T14: Vrouw | V14: 0 | AD14: 0 | AL14: 100024554 | AM14: Allerzorg Utrechtse Heuvelrug/Zeist/Bunnik/Wijk bij Duurstede e.o. | AN14: Van Reede Ginckellaan | AO14: 11 | AQ14: 3958 BG | AR14: AMERONGEN | AS14: 100031628 | AT14: I.vanAken | AU14: Midden-Utrecht | AV14: SU Zorg, welzijn en sport | AW14: Vincent Alkemade | AX14: 25491 | AY14: Verzorgende IG | BA14: 2016-01-06 10:32:01.200 | BC14: 2016-01-27 00:00:00.000 | BE14: 812629225LH501 | BF14: 100024554 | BG14: =VLOOKUP(BE14,Carlo!BE:BE,1,FALSE) -> 812629225LH501
A15: 41673 | C15: 42396 | D15: 25PN | E15: ROC Nijmegen | F15: BBL | G15: 91410 | H15: 6585291 | I15: 10001 | K15: 02QG6711MD0000301 | L15: Tandartsassistent | N15: 162638 | O15: info@tandartsede.nl | P15: Hendriks | Q15: Mieke | S15: M. | T15: Vrouw | V15: 0 | AD15: 0 | AL15: 100025456 | AM15: Tandartsenpraktijk Ede | AN15: Burgemeester van Dijkeplein | AO15: 3 | AQ15: 6711 MD | AR15: EDE GLD | AS15: 0 | AT15: R.vanZwieteren | AU15: Food Valley | AV15: SU Zorg, welzijn en sport | AW15: Vincent Alkemade | AX15: 25490 | AY15: Tandartsassistent | BA15: 2016-01-06 10:32:01.200 | BC15: 2016-01-27 00:00:00.000 | BE15: 658529125PN10001 | BF15: 100025456 | BG15: =VLOOKUP(BE15,Carlo!BE:BE,1,FALSE) -> 658529125PN10001
A16: 41671 | C16: 42396 | D16: 25PN | E16: ROC Nijmegen | F16: BBL | G16: 91410 | H16: 8159811 | I16: 10001 | K16: 02QG5831PJ0000401 | L16: Tandartsassistent | N16: 191433 | O16: pm@boxbeugel.nl | P16: Weert | Q16: Nicolle | R16: de | S16: N. | T16: Vrouw | V16: 0 | AD16: 0 | AL16: 100029034 | AM16: Orthodontistenpraktijk Boxmeer | AN16: Akkerdistel | AO16: 4 | AQ16: 5831 PJ | AR16: BOXMEER | AS16: 0 | AT16: C.vanHeezen | AU16: Noordoost-Brabant | AV16: SU Zorg, welzijn en sport | AW16: Vincent Alkemade | AX16: 25490 | AY16: Tandartsassistent | BA16: 2016-01-06 10:32:01.200 | BC16: 2016-01-27 00:00:00.000 | BE16: 815981125PN10001 | BF16: 100029034 | BG16: =VLOOKUP(BE16,Carlo!BE:BE,1,FALSE) -> 815981125PN10001
A17: 41666 | C17: 42396 | D17: 25PN | E17: ROC Nijmegen | F17: BBL | G17: 91410 | H17: 3808917 | I17: 10001 | K17: 02QG4001CC0001701 | L17: Tandartsassistent | N17: 244589 | O17: info@luxdental.nl | P17: Kooiman | Q17: Eddie | S17: J.H.L.E. | T17: Man | V17: 0 | AD17: 0 | AL17: 100037478 | AM17: Tandarts J.H.L.E. Kooiman | AN17: Hertog Karellaan | AO17: 144 | AQ17: 4001 KR | AR17: TIEL | AS17: 0 | AT17: M.Schaaphuizen | AU17: Rivierenland | AV17: SU Zorg, welzijn en sport | AW17: Vincent Alkemade | AX17: 25490 | AY17: Tandartsassistent | BA17: 2016-01-06 10:32:01.200 | BC17: 2016-01-27 00:00:00.000 | BE17: 380891725PN10001 | BF17: 100037478 | BG17: =VLOOKUP(BE17,Carlo!BE:BE,1,FALSE) -> 380891725PN10001
A18: 41666 | C18: 42396 | D18: 25PN | E18: ROC Nijmegen | F18: BBL | G18: 91410 | H18: 5967540 | I18: 10001 | K18: 02QG6721WG0002401 | L18: Tandartsassistent | N18: 177080 | O18: info@dental-zorg.nl | P18: Spreij | S18: R.P. | T18: Man | V18: 0 | AD18: 0 | AL18: 100038088 | AM18: Dental-Zorg Bennekom | AN18: Bakkerstraat | AO18: 24 | AQ18: 6721 WG | AR18: BENNEKOM | AS18: 0 | AT18: R.vanZwieteren | AU18: Food Valley | AV18: SU Zorg, welzijn en sport | AW18: Vincent Alkemade | AX18: 25490 | AY18: Tandartsassistent | BA18: 2016-01-06 10:32:01.200 | BC18: 2016-01-27 00:00:00.000 | BE18: 596754025PN10001 | BF18: 100038088 | BG18: =VLOOKUP(BE18,Carlo!BE:BE,1,FALSE) -> 596754025PN10001
A19: 41666 | C19: 42396 | D19: 25PN | E19: ROC Nijmegen | F19: BBL | G19: 91410 | H19: 16013727 | I19: 10001 | K19: 02QG5349AD0000701 | L19: Tandartsassistent | N19: 161503 | O19: info@tandarts-steenbergen.nl | P19: Spapens | Q19: Monique | S19: M. | T19: Vrouw | V19: 0 | AD19: 0 | AL19: 100038274 | AM19: Tandartspraktijk Steenbergen | AN19: Parallelweg | AO19: 7 | AP19: F | AQ19: 5349 AD | AR19: OSS | AS19: 0 | AT19: C.vanHeezen | AU19: Noordoost-Brabant | AV19: SU Zorg, welzijn en sport | AW19: Vincent Alkemade | AX19: 25490 | AY19: Tandartsassistent | BA19: 2016-01-06 10:32:01.200 | BC19: 2016-01-27 00:00:00.000 | BE19: 1601372725PN10001 | BF19: 100038274 | BG19: =VLOOKUP(BE19,Carlo!BE:BE,1,FALSE) -> 1601372725PN10001
A20: 41302 | C20: 42396 | D20: 25LH | E20: ROC Midden Nederland | F20: BBL | G20: 95530 | H20: 8138244 | I20: 201 | K20: 02QG3814WZ0000401 | L20: Verzorgende-IG | N20: 206561 | O20: conny.liefers@beweging3.nl | P20: Liefers | Q20: Conny | S20: C. | T20: Vrouw | V20: 0 | AD20: 0 | AL20: 100039631 | AM20: Beweging 3.0 locatie St Elisabeth | AN20: Sinte Brandaenstraat | AO20: 4 | AQ20: 3814 WZ | AR20: AMERSFOORT | AS20: 100045966 | AT20: E.Brouwer | AU20: Amersfoort | AV20: SU Zorg, welzijn en sport | AW20: Vincent Alkemade | AX20: 25491 | AY20: Verzorgende IG | BA20: 2016-01-06 10:32:01.200 | BC20: 2016-01-27 00:00:00.000 | BE20: 813824425LH201 | BF20: 100039631 | BG20: =VLOOKUP(BE20,Carlo!BE:BE,1,FALSE) -> 813824425LH201
A21: 42036 | C21: 42396 | D21: 25LH | E21: ROC Midden Nederland | F21: BOL | G21: 92620 | H21: 5691582 | I21: N102 | K21: 02QG3543BT0010402 | L21: Pedagogisch Werk (Pedagogisch medewerker 3 kinderopvang) | N21: 0 | V21: 0 | AD21: 0 | AL21: 100041629 | AM21: Saartje Kinderopvang, BSO Waterwin | AN21: Musicallaan | AO21: 104 | AQ21: 3543 BT | AR21: UTRECHT | AS21: 100008168 | AT21: E.Duffels | AU21: Midden-Utrecht | AV21: SU Zorg, welzijn en sport | AW21: Vincent Alkemade | AX21: 25486 | AY21: Pedagogisch medewerker kinderopvang | BA21: 2016-01-06 10:32:01.200 | BC21: 2016-01-27 00:00:00.000 | BE21: 569158225LHN102 | BF21: 100041629 | BG21: =VLOOKUP(BE21,Carlo!BE:BE,1,FALSE) -> 569158225LHN102
A22: 41961 | C22: 42396 | D22: 25PN | E22: ROC Nijmegen | F22: BBL | G22: 91410 | H22: 7097109 | I22: 10004 | K22: 02QG6531ZZ0023203 | L22: Tandartsassistent | N22: 204418 | O22: info@mondzorgdepaladijn.nl | P22: Cornelissen | Q22: Kelly | S22: KA. | T22: Vrouw | V22: 0 | AD22: 0 | AL22: 100049405 | AM22: Mondzorg de Paladijn | AN22: Marialaan | AO22: 116 | AQ22: 6541 RP | AR22: NIJMEGEN | AS22: 0 | AT22: M.Schaaphuizen | AU22: Rijk van Nijmegen | AV22: SU Zorg, welzijn en sport | AW22: Vincent Alkemade | AX22: 25490 | AY22: Tandartsassistent | BA22: 2016-01-06 10:32:01.200 | BC22: 2016-01-27 00:00:00.000 | BE22: 709710925PN10004 | BF22: 100049405 | BG22: =VLOOKUP(BE22,Carlo!BE:BE,1,FALSE) -> 709710925PN10004
A23: 41666 | C23: 42396 | D23: 25PN | E23: ROC Nijmegen | F23: BBL | G23: 91410 | H23: 6680763 | I23: 10001 | K23: 02QG6833LP0000401 | L23: Tandartsassistent | N23: 231538 | O23: info@zarin.nl | P23: Shewa-Bahmani | Q23: Malalay | S23: M. | T23: Vrouw | V23: 0 | AD23: 0 | AL23: 100053815 | AM23: Tandartspraktijk Zarin | AN23: Abe Lenstrahof | AO23: 4 | AQ23: 6833 LP | AR23: ARNHEM | AS23: 0 | AT23: R.vanWijk | AU23: Midden-Gelderland | AV23: SU Zorg, welzijn en sport | AW23: Vincent Alkemade | AX23: 25490 | AY23: Tandartsassistent | BA23: 2016-01-06 10:32:01.200 | BC23: 2016-01-27 00:00:00.000 | BE23: 668076325PN10001 | BF23: 100053815 | BG23: =VLOOKUP(BE23,Carlo!BE:BE,1,FALSE) -> 668076325PN10001
A24: 41701 | C24: 42396 | D24: 25PN | E24: ROC Nijmegen | F24: BBL | G24: 91410 | H24: 16068336 | I24: 10002 | K24: 02QG5768BL0000801 | L24: Tandartsassistent | N24: 305140 | O24: tandarts@sachalo.nl | P24: Hermkens-Lamberigts | S24: M.P.E.C.B. | T24: Vrouw | V24: 0 | AD24: 0 | AL24: 100060494 | AM24: Tandartsenpraktijk SaChaLo | AN24: Bongerd | AO24: 8 | AQ24: 5768 BL | AR24: MEIJEL | AS24: 0 | AT24: R.Houtappels | AU24: Noord-Limburg | AV24: SU Zorg, welzijn en sport | AW24: Vincent Alkemade | AX24: 25490 | AY24: Tandartsassistent | BA24: 2016-01-06 10:32:01.200 | BC24: 2016-01-27 00:00:00.000 | BE24: 1606833625PN10002 | BF24: 100060494 | BG24: =VLOOKUP(BE24,Carlo!BE:BE,1,FALSE) -> 1606833625PN10002
A25: 42032 | C25: 42396 | D25: 25LH | E25: ROC Midden Nederland | F25: BOL | G25: 92620 | H25: 2981034 | I25: 201 | K25: 02QG3036KP0022701 | L25: Pedagogisch Werk (Pedagogisch medewerker 3 kinderopvang) | N25: 0 | V25: 0 | AD25: 0 | AL25: 100061924 | AM25: Het Randstadje BV locatie Noord | AN25: Zwaanshals | AO25: 227 | AQ25: 3036 KP | AR25: ROTTERDAM | AS25: 0 | AT25: N.Besseler | AU25: Rijnmond | AV25: SU Zorg, welzijn en sport | AW25: Vincent Alkemade | AX25: 25486 | AY25: Pedagogisch medewerker kinderopvang | BA25: 2016-01-06 10:32:01.200 | BC25: 2016-01-27 00:00:00.000 | BE25: 298103425LH201 | BF25: 100061924 | BG25: =VLOOKUP(BE25,Carlo!BE:BE,1,FALSE) -> 298103425LH201
A26: 42254 | C26: 42396 | D26: 25PW | E26: ROC Drenthe College | F26: BOL | G26: 22166 | H26: 19556793 | I26: 102 | K26: 04ARB100077097 | L26: Medewerker marketing en communicatie | N26: 0 | V26: 0 | AD26: 0 | AL26: 100077097 | AM26: Gasfabriek Meppel B.V. | AN26: Gasgracht | AO26: 3 | AQ26: 7941 KG | AR26: MEPPEL | AS26: 0 | AT26: R.Bovenhuis | AU26: IJsselvechtstreek | AV26: SU Techniek en gebouwde omgeving | AW26: Vincent van Baaijen | AX26: 22166 | AY26: Medewerker marketing en communicatie | BA26: 2016-01-06 10:32:01.200 | BC26: 2016-01-27 00:00:00.000 | BE26: 1955679325PW102 | BF26: 100077097 | BG26: =VLOOKUP(BE26,Carlo!BE:BE,1,FALSE) -> 1955679325PW102
A27: 42247 | C27: 42396 | D27: 25PW | E27: ROC Drenthe College | F27: BOL | G27: 22157 | H27: 15787620 | I27: 302 | K27: 04ARB100077855 | L27: Secretariële beroepen | N27: 0 | V27: 0 | AD27: 0 | AL27: 100077855 | AM27: Rabobank Zuidwest-Drenthe kantoor Hoogeveen | AN27: Donau | AO27: 12 | AQ27: 7908 HA | AR27: HOOGEVEEN | AS27: 0 | AT27: A.Wink | AU27: Drenthe | AV27: SU Zakelijke dienstverl. en veiligheid | AW27: Deborah van der Meere | AX27: 22157 | AY27: Secretariële beroepen | BA27: 2016-01-06 10:32:01.200 | BC27: 2016-01-27 00:00:00.000 | BE27: 1578762025PW302 | BF27: 100077855 | BG27: =VLOOKUP(BE27,Carlo!BE:BE,1,FALSE) -> 1578762025PW302
A28: 42031 | C28: 42396 | D28: 25LX | E28: ROC West-Brabant | F28: BBL | G28: 94850 | H28: 27645387 | I28: A0101 | K28: 00SP3542AA0006307 | L28: Particuliere beveiliging (Beveiliger) | N28: 425932 | O28: info@nrs-diensten.nl | P28: Haan | Q28: Petra | R28: den | S28: P. | T28: Vrouw | V28: 0 | AD28: 0 | AL28: 100088327 | AM28: National Recruitment Services afd Beveiliging | AN28: A. van Leeuwenhoekweg | AO28: 35 | AQ28: 2408 AK | AR28: ALPHEN AAN DEN RIJN | AS28: 0 | AT28: G.Bom | AU28: Holland Rijnland | AV28: SU Zakelijke dienstverl. en veiligheid | AW28: Deborah van der Meere | AX28: 25407 | AY28: Beveiliger | BA28: 2016-01-06 10:32:01.200 | BC28: 2016-01-27 00:00:00.000 | BE28: 2764538725LXA0101 | BF28: 100088327 | BG28: =VLOOKUP(BE28,Carlo!BE:BE,1,FALSE) -> 2764538725LXA0101
A29: 42032 | C29: 42396 | D29: 25LP | E29: ROC Zadkine | F29: BBL | G29: 90550 | H29: 27638079 | I29: 101 | K29: 00SP5405NH0000601 | L29: Particuliere beveiliging (Coordinator beveiliging) | N29: 432437 | O29: hanneke@safened.nl | P29: Parlevliet | Q29: Hanneke | S29: H.M.B.A. | T29: Vrouw | V29: 0 | AD29: 0 | AL29: 100089377 | AM29: SafeNed BV | AN29: Hortsedijk | AO29: 81 | AQ29: 5708 HC | AR29: HELMOND | AS29: 0 | AT29: T.Lony | AU29: Helmond-De Peel | AV29: SU Zakelijke dienstverl. en veiligheid | AW29: Deborah van der Meere | AX29: 25408 | AY29: Coördinator beveiliging | BA29: 2016-01-06 10:32:01.200 | BC29: 2016-01-27 00:00:00.000 | BE29: 2763807925LP101 | BF29: 100089377 | BG29: =VLOOKUP(BE29,Carlo!BE:BE,1,FALSE) -> 2763807925LP101
A30: 42031 | C30: 42396 | D30: 25LX | E30: ROC West-Brabant | F30: BBL | G30: 94850 | H30: 27648168 | I30: A0101 | K30: 00SP2596AW0000111 | L30: Particuliere beveiliging (Beveiliger) | N30: 536685 | O30: rp.ghiraw@pzh.nl | P30: Ghiraw | Q30: Ramesh | S30: R.P. | T30: Man | V30: 0 | AD30: 0 | AL30: 100097737 | AM30: Provincie Zuid Holland / Beveiliging | AN30: Zuid-Hollandplein | AO30: 1 | AQ30: 2596 AW | AR30: 'S-GRAVENHAGE | AS30: 0 | AT30: G.Bom | AU30: Haaglanden | AV30: SU Zakelijke dienstverl. en veiligheid | AW30: Deborah van der Meere | AX30: 25407 | AY30: Beveiliger | BA30: 2016-01-06 10:32:01.200 | BC30: 2016-01-27 00:00:00.000 | BE30: 2764816825LXA0101 | BF30: 100097737 | BG30: =VLOOKUP(BE30,Carlo!BE:BE,1,FALSE) -> 2764816825LXA0101
A31: 41666 | C31: 42396 | D31: 25LW | E31: ROC Noorderpoortcollege | F31: BBL | G31: 95761 | H31: 20200563 | I31: 10103 | K31: 02PR9403AD0004102 | L31: Constructiewerker | N31: 0 | V31: 0 | AD31: 0 | AL31: 100120509 | AM31: Burgerhout B.V. | AN31: Dr. A.F. Philipsweg | AO31: 41 | AQ31: 9403 AD | AR31: ASSEN | AS31: 0 | AT31: L.Ringers | AU31: Groningen | AV31: SU Techniek en gebouwde omgeving | AW31: Vincent van Baaijen | AX31: 25291 | AY31: Constructiewerker | BA31: 2016-01-06 10:32:01.200 | BC31: 2016-01-27 00:00:00.000 | BE31: 2020056325LW10103 | BF31: 100328003 | BG31: =VLOOKUP(BE31,Carlo!BE:BE,1,FALSE) -> 2020056325LW10103
A32: 42177 | C32: 42396 | D32: 25LH | E32: ROC Midden Nederland | F32: BOL | G32: 94910 | H32: 24008598 | I32: 202 | K32: 00SP2281CX0003601 | L32: Medewerker sociale zekerheid | N32: 619919 | O32: r.paul@mijnbudgetcoach.nl | P32: Paul | Q32: Radma | S32: R. | T32: Vrouw | V32: 0 | AD32: 0 | AL32: 100126700 | AM32: Mijnbudgetcoach.nl B.V. | AN32: Geestbrugkade | AO32: 36 | AQ32: 2281 CX | AR32: RIJSWIJK ZH | AS32: 100108333 | AT32: A.Verhagen | AU32: Haaglanden | AV32: SU Zakelijke dienstverl. en veiligheid | AW32: Deborah van der Meere | AX32: 25145 | AY32: Juridisch-administratief dienstverlener | BA32: 2016-01-06 10:32:01.200 | BC32: 2016-01-27 00:00:00.000 | BE32: 2400859825LH202 | BF32: 100126700 | BG32: =VLOOKUP(BE32,Carlo!BE:BE,1,FALSE) -> 2400859825LH202
A33: 42177 | C33: 42396 | D33: 25LH | E33: ROC Midden Nederland | F33: BOL | G33: 94910 | H33: 24008598 | I33: 201 | K33: 00SP2281CX0003503 | L33: Medewerker sociale zekerheid | N33: 0 | V33: 0 | AD33: 0 | AL33: 100127106 | AM33: Commodis Bewindvoering & Training | AN33: Geestbrugkade | AO33: 36 | AP33: K14 | AQ33: 2281 CX | AR33: RIJSWIJK ZH | AS33: 0 | AT33: A.Verhagen | AU33: Haaglanden | AV33: SU Zakelijke dienstverl. en veiligheid | AW33: Deborah van der Meere | AX33: 25145 | AY33: Juridisch-administratief dienstverlener | BA33: 2016-01-06 10:32:01.200 | BC33: 2016-01-27 00:00:00.000 | BE33: 2400859825LH201 | BF33: 100127106 | BG33: =VLOOKUP(BE33,Carlo!BE:BE,1,FALSE) -> 2400859825LH201
A34: 42257 | C34: 42396 | D34: 25PZ | E34: ROC van Amsterdam | F34: BBL | G34: 95420 | H34: 7408752 | I34: 209 | K34: 04ARB100153760 | L34: Kok (Zelfstandig werkend kok) | N34: 675964 | O34: info@devijfdesmaak.nl | P34: Rentinck | Q34: Pjotr | S34: P. | T34: Man | V34: 0 | AD34: 0 | AL34: 100153760 | AM34: Restaurant DeVijfdeSmaak | AN34: Hoogstraat | AO34: 4 | AQ34: 1541 KX | AR34: KOOG AAN DE ZAAN | AS34: 0 | AT34: T.Hoenderdos | AU34: Zaanstreek/Waterland | AV34: SU Voedsel, groen en gastvrijheid | AW34: Jan Willem Mans | AX34: 25182 | AY34: Zelfstandig werkend kok | BA34: 2016-01-06 10:32:01.200 | BC34: 2016-01-27 00:00:00.000 | BE34: 740875225PZ00209 | BF34: 100153760 | BG34: =VLOOKUP(BE34,Carlo!BE:BE,1,FALSE) -> 740875225PZ00209
A35: 41667 | C35: 42396 | D35: 00GT | E35: ROC Albeda College | F35: BOL | G35: 94140 | H35: 4985946 | I35: 501 | K35: 02PY3072AM0002502 | L35: Medewerker bediening/cafe-bar (Gastheer/-vrouw) | N35: 0 | V35: 0 | AD35: 0 | AL35: 100186763 | AM35: De Rotterdam B.V. | AN35: 3e Katendrechtsehoofd | AO35: 25 | AQ35: 3072 AM | AR35: ROTTERDAM | AS35: 0 | AT35: A.Robbemont | AU35: Rijnmond | AV35: SU Zakelijke dienstverl. en veiligheid | AW35: Deborah van der Meere | AX35: 25168 | AY35: Gastheer/-vrouw | BA35: 2016-01-06 10:32:01.200 | BC35: 2016-01-27 00:00:00.000 | BE35: 498594600GT501 | BF35: 100155115 | BG35: =VLOOKUP(BE35,Carlo!BE:BE,1,FALSE) -> 498594600GT501
A36: 41666 | C36: 42396 | D36: 25PZ | E36: ROC van Amsterdam | F36: BBL | G36: 93420 | H36: 4523145 | I36: 102 | K36: 02FZ1435CB0000201 | L36: Autotechniek (Eerste autotechnicus) | N36: 1515968 | O36: adminlb@garage-biesheuvel.nl | P36: Biesheuvel | Q36: Lenhard | S36: L. | T36: Man | V36: 0 | AD36: 0 | AL36: 100238758 | AM36: Garage L.Biesheuvel Rijsenhout | AN36: Aarbergerweg | AO36: 2 | AP36: a | AQ36: 1435 CB | AR36: RIJSENHOUT | AS36: 0 | AT36: O.Gruijters | AU36: Groot Amsterdam | AV36: SU Mobiliteit, transport, logistiek | AW36: Theo Heintjes | AX36: 25244 | AY36: Eerste Autotechnicus | BA36: 2016-01-06 10:32:01.200 | BC36: 2016-01-27 00:00:00.000 | BE36: 452314525PZ00102 | BF36: 100238758 | BG36: =VLOOKUP(BE36,Carlo!BE:BE,1,FALSE) -> 452314525PZ00102
A37: 42283 | C37: 42396 | D37: 00GT | E37: ROC Albeda College | F37: BOL | G37: 90440 | H37: 20571006 | I37: 301 | K37: 04ARB100279237 | L37: AKA | N37: 0 | V37: 0 | AD37: 0 | AL37: 100279237 | AM37: Cash & Goods B.V. | AN37: Parkweg | AO37: 375 | AQ37: 3119 CK | AR37: SCHIEDAM | AS37: 0 | AT37: W.Meijer | AU37: Rijnmond | AV37: SU Techniek en gebouwde omgeving | AW37: Vincent van Baaijen | AX37: 90440 | AY37: AKA | BA37: 2016-01-06 10:32:01.200 | BC37: 2016-01-27 00:00:00.000 | BE37: 2057100600GT301 | BF37: 100279237 | BG37: =VLOOKUP(BE37,Carlo!BE:BE,1,FALSE) -> 2057100600GT301
A38: 41667 | C38: 42396 | D38: 25LF | E38: ROC Rijn IJssel | F38: BBL | G38: 90252 | H38: 17930403 | I38: 10103 | K38: 00SE6902KL0000101 | L38: Logistiek medewerker (Logistiek medewerker KC Handel) | N38: 1274607 | O38: g.j.uitslag@skantrae.com | P38: Uitslag | S38: G.J. | T38: Man | V38: 0 | AD38: 0 | AL38: 100285534 | AM38: Skantrae | AN38: Mega | AO38: 1 | AQ38: 6902 KL | AR38: ZEVENAAR | AS38: 0 | AT38: R.Pieper | AU38: Midden-Gelderland | AV38: SU Handel | AW38: Tina Boes | AX38: 25371 | AY38: Logistiek medewerker | BA38: 2016-01-06 10:32:01.200 | BC38: 2016-01-27 00:00:00.000 | BE38: 1793040325LF10103 | BF38: 100285534 | BG38: =VLOOKUP(BE38,Carlo!BE:BE,1,FALSE) -> 1793040325LF10103
A39: 41667 | C39: 42396 | D39: 25LX | E39: ROC West-Brabant | F39: BBL | G39: 94292 | H39: 26938017 | I39: A0101 | K39: 02PR4817BL0005802 | L39: Installeren (Leidinggevend monteur werktuigkundige installaties) | N39: 0 | V39: 0 | AD39: 0 | AL39: 100314812 | AM39: Van Dijnsen Installatiewerken B.V. | AN39: Takkebijsters | AO39: 58 | AQ39: 4817 BL | AR39: BREDA | AS39: 0 | AT39: J.vanWulfen | AU39: West-Brabant | AV39: SU Techniek en gebouwde omgeving | AW39: Vincent van Baaijen | AX39: 25161 | AY39: Technisch Leidinggevende | BA39: 2016-01-06 10:32:01.200 | BC39: 2016-01-27 00:00:00.000 | BE39: 2693801725LXA0101 | BF39: 100314812 | BG39: =VLOOKUP(BE39,Carlo!BE:BE,1,FALSE) -> 2693801725LXA0101
A40: 41667 | C40: 42396 | D40: 25LX | E40: ROC West-Brabant | F40: BBL | G40: 94292 | H40: 26938137 | I40: A0101 | K40: 02PR3044CJ0001102 | L40: Installeren (Leidinggevend monteur werktuigkundige installaties) | N40: 0 | V40: 0 | AD40: 0 | AL40: 100314813 | AM40: Giesbers & van der Graaf B.V. | AN40: Sevillaweg | AO40: 52 | AQ40: 3047 AL | AR40: ROTTERDAM | AS40: 0 | AT40: L.vanDuin | AU40: Rijnmond | AV40: SU Techniek en gebouwde omgeving | AW40: Vincent van Baaijen | AX40: 25161 | AY40: Technisch Leidinggevende | BA40: 2016-01-06 10:32:01.200 | BC40: 2016-01-27 00:00:00.000 | BE40: 2693813725LXA0101 | BF40: 100314813 | BG40: =VLOOKUP(BE40,Carlo!BE:BE,1,FALSE) -> 2693813725LXA0101
A41: 41667 | C41: 42396 | D41: 25LH | E41: ROC Midden Nederland | F41: BBL | G41: 95472 | H41: 7659150 | I41: 201 | K41: 02PR3704GR0002001 | L41: Service apparatuur en installaties (Onderhoudsmonteur installatietechniek) | N41: 0 | V41: 0 | AD41: 0 | AL41: 100326430 | AM41: Breman Service Zeist B.V. | AN41: Amersfoortseweg | AO41: 24 | AP41: H | AQ41: 3951 LB | AR41: MAARN | AS41: 0 | AT41: E.Jacobs | AU41: Midden-Utrecht | AV41: SU Techniek en gebouwde omgeving | AW41: Vincent van Baaijen | AX41: 25308 | AY41: Monteur service en onderhoud installaties en systemen | BA41: 2016-01-06 10:32:01.200 | BC41: 2016-01-27 00:00:00.000 | BE41: 765915025LH201 | BF41: 100326430 | BG41: =VLOOKUP(BE41,Carlo!BE:BE,1,FALSE) -> 765915025LH201
A42: 41302 | C42: 42396 | D42: 25LF | E42: ROC Rijn IJssel | F42: BBL | G42: 90012 | H42: 26210205 | I42: 10001 | K42: 100347752 | L42: Allround operator (Operator B) | N42: 0 | V42: 0 | AD42: 0 | AL42: 100347752 | AM42: Organik Kimya Netherlands B.V. | AN42: Chemieweg 7, Havennummer | AO42: 4206 | AQ42: 3197 KC | AR42: BOTLEK ROTTERDAM | AS42: 0 | AT42: P.Gastelaar | AU42: Rijnmond | AV42: SU Techniek en gebouwde omgeving | AW42: Vincent van Baaijen | AX42: 25338 | AY42: Procesoperator B | BA42: 2016-01-06 10:32:01.200 | BC42: 2016-01-27 00:00:00.000 | BE42: 2621020525LF10001 | BF42: 100347752 | BG42: =VLOOKUP(BE42,Carlo!BE:BE,1,FALSE) -> 2621020525LF10001
A43: 41302 | C43: 42396 | D43: 25LP | E43: ROC Zadkine | F43: BBL | G43: 90012 | H43: 315504 | I43: 10301 | K43: 02QD3197KT0000201 | L43: Allround operator (Operator B) | N43: 0 | V43: 0 | AD43: 0 | AL43: 100348563 | AM43: MaasRefinery BV | AN43: 1e Welplaatdwarsweg | AO43: 3 | AQ43: 3197 KT | AR43: BOTLEK ROTTERDAM | AS43: 0 | AT43: P.Gastelaar | AU43: Rijnmond | AV43: SU Techniek en gebouwde omgeving | AW43: Vincent van Baaijen | AX43: 25338 | AY43: Procesoperator B | BA43: 2016-01-06 10:32:01.200 | BC43: 2016-01-27 00:00:00.000 | BE43: 31550425LP10301 | BF43: 100348563 | BG43: =VLOOKUP(BE43,Carlo!BE:BE,1,FALSE) -> 31550425LP10301
A44: 41302 | C44: 42396 | D44: 25LF | E44: ROC Rijn IJssel | F44: BBL | G44: 90012 | H44: 4722396 | I44: 10001 | K44: 02QD4782PM0003001 | L44: Allround operator (Operator B) | N44: 1396609 | O44: h.van.bree@stolt.nl | P44: Bree | Q44: Hans | R44: van | S44: H | T44: Man | V44: 0 | AD44: 0 | AL44: 100348744 | AM44: Stolthaven Moerdijk BV | AN44: Middenweg | AO44: 30 | AQ44: 4782 PM | AR44: MOERDIJK | AS44: 0 | AT44: M.Rommens | AU44: West-Brabant | AV44: SU Techniek en gebouwde omgeving | AW44: Vincent van Baaijen | AX44: 25338 | AY44: Procesoperator B | BA44: 2016-01-06 10:32:01.200 | BC44: 2016-01-27 00:00:00.000 | BE44: 472239625LF10001 | BF44: 100348744 | BG44: =VLOOKUP(BE44,Carlo!BE:BE,1,FALSE) -> 472239625LF10001
A45: 41302 | C45: 42396 | D45: 25LF | E45: ROC Rijn IJssel | F45: BBL | G45: 90012 | H45: 26209308 | I45: 10001 | K45: 100349192 | L45: Allround operator (Operator B) | N45: 0 | V45: 0 | AD45: 0 | AL45: 100349192 | AM45: Vopak Chemical Logistics Netherlands BV/TTR(PT-OT) | AN45: Torontostraat | AO45: 19 | AQ45: 3197 KN | AR45: BOTLEK ROTTERDAM | AS45: 0 | AT45: P.Gastelaar | AU45: Rijnmond | AV45: SU Techniek en gebouwde omgeving | AW45: Vincent van Baaijen | AX45: 25338 | AY45: Procesoperator B | BA45: 2016-01-06 10:32:01.200 | BC45: 2016-01-27 00:00:00.000 | BE45: 2620930825LF10001 | BF45: 100349192 | BG45: =VLOOKUP(BE45,Carlo!BE:BE,1,FALSE) -> 2620930825LF10001
A46: 41302 | C46: 42396 | D46: 25LF | E46: ROC Rijn IJssel | F46: BBL | G46: 90012 | H46: 26255802 | I46: 10001 | K46: 100349677 | L46: Allround operator (Operator B) | N46: 0 | V46: 0 | AD46: 0 | AL46: 100349677 | AM46: Croda/Productiegroep Destillaties (PT&OT) | AN46: Buurtje | AO46: 1 | AQ46: 2802 BE | AR46: GOUDA | AS46: 100315451 | AT46: S.Vermeulen | AU46: Midden-Holland | AV46: SU Techniek en gebouwde omgeving | AW46: Vincent van Baaijen | AX46: 25338 | AY46: Procesoperator B | BA46: 2016-01-06 10:32:01.200 | BC46: 2016-01-27 00:00:00.000 | BE46: 2625580225LF10001 | BF46: 100349677 | BG46: =VLOOKUP(BE46,Carlo!BE:BE,1,FALSE) -> 2625580225LF10001
A47: 41667 | C47: 42396 | D47: 25PJ | E47: ROC Deltion College | F47: BBL | G47: 92711 | H47: 18029994 | I47: 101 | K47: 02FW8064PN0000701 | L47: Medewerker industriele lakverwerking (Jachtschilder) | N47: 0 | V47: 0 | AD47: 0 | AL47: 100351673 | AM47: Bonsink Yacht Painters BV | AN47: Het Oude Diep | AO47: 7 | AP47: b | AQ47: 8064 PN | AR47: ZWARTSLUIS | AS47: 0 | AT47: L.vanPijkeren | AU47: IJsselvechtstreek | AV47: SU Techniek en gebouwde omgeving | AW47: Vincent van Baaijen | AX47: 25010 | AY47: Industrieel lakverwerker | BA47: 2016-01-06 10:32:01.200 | BC47: 2016-01-27 00:00:00.000 | BE47: 1802999425PJ101 | BF47: 100351673 | BG47: =VLOOKUP(BE47,Carlo!BE:BE,1,FALSE) -> 1802999425PJ101
A48: 41666 | B48: 42396 | C48: 42396 | D48: 25PZ | E48: ROC van Amsterdam | F48: BBL | G48: 95684 | H48: 4903548 | I48: 309 | K48: 02FW1442TM0007401 | L48: Gezel schilder | N48: 1433718 | O48: nico@vandoorn-zn.nl | P48: Belt | Q48: Nico | S48: N. | T48: Man | V48: 0 | AD48: 0 | AL48: 100353299 | AM48: Schildersbedrijf van Doorn & Zn | AN48: Kolfstraat | AO48: 74 | AQ48: 1442 TM | AR48: PURMEREND | AS48: 0 | AT48: A.vanSchaik | AU48: Zaanstreek/Waterland | AV48: SU Techniek en gebouwde omgeving | AW48: Vincent van Baaijen | AX48: 25029 | AY48: Gezel schilder | BA48: 2016-01-06 10:32:01.200 | BC48: 2016-01-27 00:00:00.000 | BE48: 490354825PZ00309 | BF48: 100353299 | BG48: =VLOOKUP(BE48,Carlo!BE:BE,1,FALSE) -> 490354825PZ00309
