Workbook

Sheet Samenvatting
A1: Bijlage 5: | B1: Overzicht aansluitingen en verbruiken
A2: Toelichting: | B2: Aan de opgegeven soorten en aantallen kunnen geen rechten worden ontleend!
A5: Energiegebruik per gemeente in 2019 | B5: Levering (kWh) | E5: Teruglevering (kWh) | H5: Gas (m³)
A6: Klant | B6: Hoog LVR | C6: Laag LVR | D6: Totaal | E6: Hoog TLV | F6: Laag TLV | G6: Totaal | H6: Gas
A7: Gemeente Albrandswaard | B7: =SUMIF(Elektra!$B:$B,"Gemeente Albrandswaard*",Elektra!$K:$K) -> 740505 | C7: =SUMIF(Elektra!$B:$B,"Gemeente Albrandswaard*",Elektra!$L:$L) -> 1112492 | D7: =B7+C7 -> 1852997 | E7: =SUMIF(Elektra!$B:$B,"Gemeente Albrandswaard*",Elektra!$N:$N) -> 150700 | F7: =SUMIF(Elektra!$B:$B,"Gemeente Albrandswaard*",Elektra!$O:$O) -> 89528 | G7: =E7+F7 -> 240228 | H7: =SUMIF(Gas!$B:$B,"Gemeente Albrandswaard*",Gas!J:J) -> 158812
A8: Gemeente Barendrecht | B8: =SUMIF(Elektra!$B:$B,"Gemeente Barendrecht*",Elektra!$K:$K) -> 2954617 | C8: =SUMIF(Elektra!$B:$B,"Gemeente Barendrecht*",Elektra!$L:$L) -> 3141374 | D8: =B8+C8 -> 6095991 | E8: =SUMIF(Elektra!$B:$B,"Gemeente Barendrecht*",Elektra!$N:$N) -> 8500 | F8: =SUMIF(Elektra!$B:$B,"Gemeente Barendrecht*",Elektra!$O:$NO) -> 15973 | G8: =E8+F8 -> 24473 | H8: =SUMIF(Gas!$B:$B,"Gemeente Barendrecht*",Gas!J:J) -> 477743
A9: Gemeente Ridderkerk | B9: =SUMIF(Elektra!$B:$B,"Gemeente Ridderkerk*",Elektra!$K:$K) -> 1887804 | C9: =SUMIF(Elektra!$B:$B,"Gemeente Ridderkerk*",Elektra!$L:$L) -> 2298276 | D9: =B9+C9 -> 4186080 | E9: =SUMIF(Elektra!$B:$B,"Gemeente Ridderkerk*",Elektra!$N:$N) -> 1035 | F9: =SUMIF(Elektra!$B:$B,"Gemeente Ridderkerk*",Elektra!$O:$O) -> 611 | G9: =E9+F9 -> 1646 | H9: =SUMIF(Gas!$B:$B,"Gemeente Ridderkerk*",Gas!J:J) -> 116201
D10: =SUM(D7:D9) -> 12135068 | G10: =SUM(G7:G9) -> 266347 | H10: =SUM(H7:H9) -> 752756

Sheet Teruglevering
A1: Bijlage 5: | C1: Overzicht aansluitingen en verbruiken
A2: Toelichting: | C2: Hieronder een inschatting van de teruglevering grootverbruik aansluiting, gebaseerd op het jaar 2020. Veel PV installaties zijnin 2020 geïnstalleerd en verbruik geëxtrapoleerd. Aan de opgegeven soorten en aantallen kunnen geen rechten worden ontleend!
A4: # | B4: Adres | C4: Data
A5: 1 | B5: Adrianapolder 50 | C5: 29051.25
A6: 2 | B6: Binnenhof 1 | C6: 16390
A7: 3 | B7: Hertenburg 32 | C7: 30456
A8: 4 | B8: Londen 15 | C8: 50534
A9: 5 | B9: Middeldijkerplein 7 | C9: 32795
A10: 6 | B10: Ploegwei 3 | C10: 23327.5
A11: 7 | B11: Riederhof 37 | C11: 33660
A12: 8 | B12: Albrandswaardsedijk 188a | C12: 28706
A13: 9 | B13: Binnengracht 6 | C13: 69367
A14: 10 | B14: Nijverheidsweg 3 | C14: 138947
A15: 11 | B15: Sportlaan 3 | C15: 24071.8
A16: 12 | B16: Stationsstraat 1a | C16: 51587.6
A17: 13 | B17: Kolenbranderstraat 3 | C17: 6287
B18: Totaal | C18: =SUM(C5:C17) -> 535180.15

Sheet Elektra
A1: Bijlage 5: | B1: Overzicht aansluitingen en verbruiken
A2: Toelichting: | B2: Aan de opgegeven soorten en aantallen kunnen geen rechten worden ontleend!
A4: Klantnummer | B4: Factuurgroep | C4: Cluster | D4: Straat | E4: Huisnr. | F4: Toevoegsel | G4: Postcode | H4: Plaats | I4: EAN_stroom | J4: Leveringsjaar | K4: Verbruik normaal | L4: Verbruik laag | M4: som verbruik | N4: Teruglevering normaal | O4: Teruglevering dal | P4: som teruglevering
A5: 620389 | B5: Gemeente Barendrecht (Waterhuishouding) | C5: BAREND | D5: 1e Barendrechtseweg | E5: 4 | G5: 2992XB | H5: Barendrecht | I5: 871689213001662932 | J5: 2019 | K5: 25 | L5: 29 | M5: =Table1[[#This Row],[Verbruik normaal]]+Table1[[#This Row],[Verbruik laag]] -> 54 | N5: 0 | O5: 0 | P5: =Table1[[#This Row],[Teruglevering normaal]]+Table1[[#This Row],[Teruglevering dal]] -> 0
A6: 1180708 | B6: Gemeente Barendrecht - VRI | C6: GemBarendVRI2 | D6: 1e Barendrechtseweg | E6: 179 | G6: 2991AP | H6: BARENDRECHT | I6: 871689213001878494 | J6: 2019 | K6: 1953 | L6: 1410 | M6: =Table1[[#This Row],[Verbruik normaal]]+Table1[[#This Row],[Verbruik laag]] -> 3363 | N6: 0 | O6: 0 | P6: =Table1[[#This Row],[Teruglevering normaal]]+Table1[[#This Row],[Teruglevering dal]] -> 0
A7: 620389 | B7: Gemeente Barendrecht (Waterhuishouding) | C7: BAREND | D7: 1e Barendrechtseweg | E7: 61 | F7: NST | G7: 2991XE | H7: BARENDRECHT | I7: 871689213002019902 | J7: 2019 | K7: 89 | L7: 0 | M7: =Table1[[#This Row],[Verbruik normaal]]+Table1[[#This Row],[Verbruik laag]] -> 89 | N7: 0 | O7: 0 | P7: =Table1[[#This Row],[Teruglevering normaal]]+Table1[[#This Row],[Teruglevering dal]] -> 0
A8: 1180708 | B8: Gemeente Barendrecht - VRI | C8: GemBarendVRI2 | D8: 1e Barendrechtseweg | E8: 92 | F8: a TO | G8: 2992XC | H8: BARENDRECHT | I8: 871689260010192707 | J8: 2019 | K8: 9616 | L8: 9878 | M8: =Table1[[#This Row],[Verbruik normaal]]+Table1[[#This Row],[Verbruik laag]] -> 19494 | N8: 0 | O8: 0 | P8: =Table1[[#This Row],[Teruglevering normaal]]+Table1[[#This Row],[Teruglevering dal]] -> 0
A9: 1180708 | B9: Gemeente Barendrecht - VRI | C9: GemBarendVRI2 | D9: 1e Barendrechtseweg | E9: 143 | F9: A | G9: 2991AP | H9: BARENDRECHT | I9: 871689290300966565 | J9: 2019 | K9: -891 | L9: 2129 | M9: =Table1[[#This Row],[Verbruik normaal]]+Table1[[#This Row],[Verbruik laag]] -> 1238 | N9: 0 | O9: 0 | P9: =Table1[[#This Row],[Teruglevering normaal]]+Table1[[#This Row],[Teruglevering dal]] -> 0
A10: 620389 | B10: Gemeente Barendrecht (Waterhuishouding) | C10: BAREND | D10: 1e Barendrechtseweg | E10: 57 | G10: 2991XE | H10: Barendrecht | I10: 871689290303447214 | J10: 2019 | K10: 1413 | L10: 1291 | M10: =Table1[[#This Row],[Verbruik normaal]]+Table1[[#This Row],[Verbruik laag]] -> 2704 | N10: 0 | O10: 0 | P10: =Table1[[#This Row],[Teruglevering normaal]]+Table1[[#This Row],[Teruglevering dal]] -> 0
A11: 620389 | B11: Gemeente Barendrecht (Waterhuishouding) 830302-13 | C11: BAREND | D11: 2e Barendrechtseweg | E11: 219 | G11: 2991GK | H11: Barendrecht | I11: 871689250000142751 | J11: 2019 | K11: 36839 | L11: 37814 | M11: =Table1[[#This Row],[Verbruik normaal]]+Table1[[#This Row],[Verbruik laag]] -> 74653 | N11: 0 | O11: 0 | P11: =Table1[[#This Row],[Teruglevering normaal]]+Table1[[#This Row],[Teruglevering dal]] -> 0
A12: 1180708 | B12: Gemeente Barendrecht - VRI | C12: GemBarendVRI2 | D12: 2e Barendrechtseweg | E12: 353 | G12: 2991SG | H12: BARENDRECHT | I12: 871689290300819007 | J12: 2019 | K12: 1836 | L12: 1715 | M12: =Table1[[#This Row],[Verbruik normaal]]+Table1[[#This Row],[Verbruik laag]] -> 3551 | N12: 0 | O12: 0 | P12: =Table1[[#This Row],[Teruglevering normaal]]+Table1[[#This Row],[Teruglevering dal]] -> 0
A13: 620389 | B13: Gemeente Barendrecht (Waterhuishouding) | C13: BAREND | D13: 2e Barendrechtseweg | E13: 404 | G13: 2992SM | H13: Barendrecht | I13: 871689290300820294 | J13: 2019 | K13: 24377 | L13: 23297 | M13: =Table1[[#This Row],[Verbruik normaal]]+Table1[[#This Row],[Verbruik laag]] -> 47674 | N13: 0 | O13: 0 | P13: =Table1[[#This Row],[Teruglevering normaal]]+Table1[[#This Row],[Teruglevering dal]] -> 0
A14: 620389 | B14: Gemeente Barendrecht (Waterhuishouding) 830302-13 | C14: BAREND | D14: 3e Barendrechtseweg | E14: 565 | G14: 2991SH | H14: Barendrecht | I14: 871689276000066262 | J14: 2019 | K14: 93776 | L14: 88027 | M14: =Table1[[#This Row],[Verbruik normaal]]+Table1[[#This Row],[Verbruik laag]] -> 181803 | N14: 0 | O14: 0 | P14: =Table1[[#This Row],[Teruglevering normaal]]+Table1[[#This Row],[Teruglevering dal]] -> 0
A15: 620389 | B15: Gemeente Barendrecht (Waterhuishouding) | C15: BAREND | D15: 3e Barendrechtseweg | E15: 416 | F15: P | G15: 2992SN | H15: Barendrecht | I15: 871689290300803020 | J15: 2019 | K15: 125 | L15: 126 | M15: =Table1[[#This Row],[Verbruik normaal]]+Table1[[#This Row],[Verbruik laag]] -> 251 | N15: 0 | O15: 0 | P15: =Table1[[#This Row],[Teruglevering normaal]]+Table1[[#This Row],[Teruglevering dal]] -> 0
A16: 620389 | B16: Gemeente Barendrecht (Waterhuishouding) | C16: BAREND | D16: 3e Barendrechtseweg | E16: 458 | G16: 2992SN | H16: Barendrecht | I16: 871689290300879667 | J16: 2019 | K16: 6019 | L16: 5750 | M16: =Table1[[#This Row],[Verbruik normaal]]+Table1[[#This Row],[Verbruik laag]] -> 11769 | N16: 0 | O16: 0 | P16: =Table1[[#This Row],[Teruglevering normaal]]+Table1[[#This Row],[Teruglevering dal]] -> 0
A17: 620512 | B17: Gemeente Barendrecht (OV) | C17: BAREND2 | D17: 3e Barendrechtseweg | E17: 448 | F17: A | G17: 2992SN | H17: BARENDRECHT | I17: 871689290300882773 | J17: 2019 | K17: 4742 | L17: 13534 | M17: =Table1[[#This Row],[Verbruik normaal]]+Table1[[#This Row],[Verbruik laag]] -> 18276 | N17: 0 | O17: 0 | P17: =Table1[[#This Row],[Teruglevering normaal]]+Table1[[#This Row],[Teruglevering dal]] -> 0
A18: 620500 | B18: Gemeente Barendrecht (Gebouwen) | D18: 3e Barendrechtseweg | E18: 460 | G18: 2992SN | H18: BARENDRECHT | I18: 871689290303362418 | J18: 2019 | K18: 5167 | L18: 3080 | M18: =Table1[[#This Row],[Verbruik normaal]]+Table1[[#This Row],[Verbruik laag]] -> 8247 | N18: 0 | O18: 0 | P18: =Table1[[#This Row],[Teruglevering normaal]]+Table1[[#This Row],[Teruglevering dal]] -> 0
A19: 620593 | B19: Gemeente Albrandswaard (Waterhuishoud) | C19: ALBRAND2 | D19: Achterdijk | E19: 1 | F19: nabij | G19: 3161EA | H19: RHOON | I19: 871689260009380436 | J19: 2019 | K19: 244 | L19: 238 | M19: =Table1[[#This Row],[Verbruik normaal]]+Table1[[#This Row],[Verbruik laag]] -> 482 | N19: 0 | O19: 0 | P19: =Table1[[#This Row],[Teruglevering normaal]]+Table1[[#This Row],[Teruglevering dal]] -> 0
A20: 620593 | B20: Gemeente Albrandswaard (Waterhuishoud) | C20: ALBRAND2 | D20: Achterdijk | E20: 15 | G20: 3161EA | H20: Rhoon | I20: 871689290401194119 | J20: 2019 | K20: 560 | L20: 612 | M20: =Table1[[#This Row],[Verbruik normaal]]+Table1[[#This Row],[Verbruik laag]] -> 1172 | N20: 0 | O20: 0 | P20: =Table1[[#This Row],[Teruglevering normaal]]+Table1[[#This Row],[Teruglevering dal]] -> 0
A21: 620593 | B21: Gemeente Albrandswaard (Waterhuishoud) | C21: ALBRAND2 | D21: Achterdijk | E21: 25 | G21: 3161EA | H21: Rhoon | I21: 871689290401194249 | J21: 2019 | K21: 868 | L21: 913 | M21: =Table1[[#This Row],[Verbruik normaal]]+Table1[[#This Row],[Verbruik laag]] -> 1781 | N21: 0 | O21: 0 | P21: =Table1[[#This Row],[Teruglevering normaal]]+Table1[[#This Row],[Teruglevering dal]] -> 0
A22: 620389 | B22: Gemeente Barendrecht (Waterhuishouding) | C22: BAREND | D22: Achterzeedijk | E22: 1 | F22: B | G22: 2991SB | H22: BARENDRECHT | I22: 871689213000412002 | J22: 2019 | K22: 207 | L22: 182 | M22: =Table1[[#This Row],[Verbruik normaal]]+Table1[[#This Row],[Verbruik laag]] -> 389 | N22: 0 | O22: 0 | P22: =Table1[[#This Row],[Teruglevering normaal]]+Table1[[#This Row],[Teruglevering dal]] -> 0
A23: 620389 | B23: Gemeente Barendrecht (Waterhuishouding) | C23: BAREND | D23: Achterzeedijk | E23: 84 | G23: 2993AZ | H23: BARENDRECHT | I23: 871689260009769255 | J23: 2019 | K23: 59 | L23: 63 | M23: =Table1[[#This Row],[Verbruik normaal]]+Table1[[#This Row],[Verbruik laag]] -> 122 | N23: 0 | O23: 0 | P23: =Table1[[#This Row],[Teruglevering normaal]]+Table1[[#This Row],[Teruglevering dal]] -> 0
A24: 620389 | B24: Gemeente Barendrecht (Waterhuishouding) | C24: BAREND | D24: Achterzeedijk | E24: 9 | F24: A | G24: 2991SB | H24: Barendrecht | I24: 871689290300939743 | J24: 2019 | K24: 587 | L24: 696 | M24: =Table1[[#This Row],[Verbruik normaal]]+Table1[[#This Row],[Verbruik laag]] -> 1283 | N24: 0 | O24: 0 | P24: =Table1[[#This Row],[Teruglevering normaal]]+Table1[[#This Row],[Teruglevering dal]] -> 0
A25: 620389 | B25: Gemeente Barendrecht (Waterhuishouding) | C25: BAREND | D25: Achterzeedijk | E25: 61 | F25: C | G25: 2992SB | H25: Barendrecht | I25: 871689290300939941 | J25: 2019 | K25: 1805 | L25: 1529 | M25: =Table1[[#This Row],[Verbruik normaal]]+Table1[[#This Row],[Verbruik laag]] -> 3334 | N25: 0 | O25: 0 | P25: =Table1[[#This Row],[Teruglevering normaal]]+Table1[[#This Row],[Teruglevering dal]] -> 0
A26: 620389 | B26: Gemeente Barendrecht (Waterhuishouding) | C26: BAREND | D26: Achterzeedijk | E26: 71 | F26: A | G26: 2992SB | H26: Barendrecht | I26: 871689290300940015 | J26: 2019 | K26: 44 | L26: 47 | M26: =Table1[[#This Row],[Verbruik normaal]]+Table1[[#This Row],[Verbruik laag]] -> 91 | N26: 0 | O26: 0 | P26: =Table1[[#This Row],[Teruglevering normaal]]+Table1[[#This Row],[Teruglevering dal]] -> 0
A27: 620389 | B27: Gemeente Barendrecht (Waterhuishouding) | C27: BAREND | D27: Achterzeedijk | E27: 40 | F27: A | G27: 2992SC | H27: Barendrecht | I27: 871689290300940251 | J27: 2019 | K27: 205 | L27: 204 | M27: =Table1[[#This Row],[Verbruik normaal]]+Table1[[#This Row],[Verbruik laag]] -> 409 | N27: 0 | O27: 0 | P27: =Table1[[#This Row],[Teruglevering normaal]]+Table1[[#This Row],[Teruglevering dal]] -> 0
A28: 620389 | B28: Gemeente Barendrecht (Waterhuishouding) | C28: BAREND | D28: Achterzeedijk | E28: 54 | G28: 2992SC | H28: BARENDRECHT | I28: 871689290300940374 | J28: 2019 | K28: 119 | L28: 123 | M28: =Table1[[#This Row],[Verbruik normaal]]+Table1[[#This Row],[Verbruik laag]] -> 242 | N28: 0 | O28: 0 | P28: =Table1[[#This Row],[Teruglevering normaal]]+Table1[[#This Row],[Teruglevering dal]] -> 0
A29: 620389 | B29: Gemeente Barendrecht (Waterhuishouding) | C29: BAREND | D29: Achterzeedijk | E29: 58 | F29: A | G29: 2992SC | H29: BARENDRECHT | I29: 871689290300959932 | J29: 2019 | K29: 141 | L29: 147 | M29: =Table1[[#This Row],[Verbruik normaal]]+Table1[[#This Row],[Verbruik laag]] -> 288 | N29: 0 | O29: 0 | P29: =Table1[[#This Row],[Teruglevering normaal]]+Table1[[#This Row],[Teruglevering dal]] -> 0
A30: 620593 | B30: Gemeente Albrandswaard (Waterhuishoud) | C30: ALBRAND2 | D30: Adriana van Roonhof | E30: 41 | G30: 3161KT | H30: Rhoon | I30: 871689290401208229 | J30: 2019 | K30: 657 | L30: 662 | M30: =Table1[[#This Row],[Verbruik normaal]]+Table1[[#This Row],[Verbruik laag]] -> 1319 | N30: 0 | O30: 0 | P30: =Table1[[#This Row],[Teruglevering normaal]]+Table1[[#This Row],[Teruglevering dal]] -> 0
A31: 620500 | B31: Gemeente Barendrecht (Gebouwen) | D31: Adrianapolder | E31: 50 | G31: 2992ZK | H31: BARENDRECHT | I31: 871689260009061861 | J31: 2019 | K31: 48704 | L31: 11397 | M31: =Table1[[#This Row],[Verbruik normaal]]+Table1[[#This Row],[Verbruik laag]] -> 60101 | N31: 0 | O31: 0 | P31: =Table1[[#This Row],[Teruglevering normaal]]+Table1[[#This Row],[Teruglevering dal]] -> 0
A32: 620389 | B32: Gemeente Barendrecht (Waterhuishouding) | C32: BAREND | D32: Albert Schweitzerstraat | E32: 2 | G32: 2992KH | H32: Barendrecht | I32: 871689290300817133 | J32: 2019 | K32: 4972 | L32: 4850 | M32: =Table1[[#This Row],[Verbruik normaal]]+Table1[[#This Row],[Verbruik laag]] -> 9822 | N32: 0 | O32: 0 | P32: =Table1[[#This Row],[Teruglevering normaal]]+Table1[[#This Row],[Teruglevering dal]] -> 0
A33: 620587 | B33: Gemeente Albrandswaard (Gebouwen) | D33: Albrandswaardsedijk | E33: 180 | G33: 3172XB | H33: POORTUGAAL | I33: 871689213001427357 | J33: 2019 | K33: 16490 | L33: 0 | M33: =Table1[[#This Row],[Verbruik normaal]]+Table1[[#This Row],[Verbruik laag]] -> 16490 | N33: 0 | O33: 0 | P33: =Table1[[#This Row],[Teruglevering normaal]]+Table1[[#This Row],[Teruglevering dal]] -> 0
A34: 620587 | B34: Gemeente Albrandswaard (Gebouwen) | D34: Albrandswaardsedijk | E34: 188 | G34: 3172XB | H34: POORTUGAAL | I34: 871689260008197714 | J34: 2019 | K34: 78084 | L34: 70724 | M34: =Table1[[#This Row],[Verbruik normaal]]+Table1[[#This Row],[Verbruik laag]] -> 148808 | N34: 0 | O34: 0 | P34: =Table1[[#This Row],[Teruglevering normaal]]+Table1[[#This Row],[Teruglevering dal]] -> 0
A35: 620593 | B35: Gemeente Albrandswaard (Waterhuishoud) | C35: ALBRAND2 | D35: Albrandswaardsedijk | E35: 10 | G35: 3171TH | H35: Poortugaal | I35: 871689290401160749 | J35: 2019 | K35: 300 | L35: 303 | M35: =Table1[[#This Row],[Verbruik normaal]]+Table1[[#This Row],[Verbruik laag]] -> 603 | N35: 0 | O35: 0 | P35: =Table1[[#This Row],[Teruglevering normaal]]+Table1[[#This Row],[Teruglevering dal]] -> 0
A36: 620593 | B36: Gemeente Albrandswaard (Waterhuishoud) | C36: ALBRAND2 | D36: Albrandswaardsedijk | E36: 28 | G36: 3171TH | H36: Poortugaal | I36: 871689290401160831 | J36: 2019 | K36: 203 | L36: 187 | M36: =Table1[[#This Row],[Verbruik normaal]]+Table1[[#This Row],[Verbruik laag]] -> 390 | N36: 0 | O36: 0 | P36: =Table1[[#This Row],[Teruglevering normaal]]+Table1[[#This Row],[Teruglevering dal]] -> 0
A37: 620593 | B37: Gemeente Albrandswaard (Waterhuishoud) | C37: ALBRAND2 | D37: Albrandswaardsedijk | E37: 61 | G37: 3172TG | H37: POORTUGAAL | I37: 871689290401161067 | J37: 2019 | K37: 1191 | L37: 1179 | M37: =Table1[[#This Row],[Verbruik normaal]]+Table1[[#This Row],[Verbruik laag]] -> 2370 | N37: 0 | O37: 0 | P37: =Table1[[#This Row],[Teruglevering normaal]]+Table1[[#This Row],[Teruglevering dal]] -> 0
A38: 620593 | B38: Gemeente Albrandswaard (Waterhuishoud) | C38: ALBRAND2 | D38: Albrandswaardsedijk | E38: 153 | G38: 3172VA | H38: Poortugaal | I38: 871689290401161579 | J38: 2019 | K38: 642 | L38: 477 | M38: =Table1[[#This Row],[Verbruik normaal]]+Table1[[#This Row],[Verbruik laag]] -> 1119 | N38: 0 | O38: 0 | P38: =Table1[[#This Row],[Teruglevering normaal]]+Table1[[#This Row],[Teruglevering dal]] -> 0
A39: 620593 | B39: Gemeente Albrandswaard (Waterhuishoud) | C39: ALBRAND2 | D39: Albrandswaardsedijk | E39: 223 | G39: 3172XA | H39: Poortugaal | I39: 871689290401161708 | J39: 2019 | K39: 1506 | L39: 1123 | M39: =Table1[[#This Row],[Verbruik normaal]]+Table1[[#This Row],[Verbruik laag]] -> 2629 | N39: 0 | O39: 0 | P39: =Table1[[#This Row],[Teruglevering normaal]]+Table1[[#This Row],[Teruglevering dal]] -> 0
A40: 620593 | B40: Gemeente Albrandswaard (Waterhuishoud) | C40: ALBRAND2 | D40: Albrandswaardseweg | E40: 84 | F40: nabij | G40: 3171AC | H40: Poortugaal | I40: 871689213000241725 | J40: 2019 | K40: 2711 | L40: 3375 | M40: =Table1[[#This Row],[Verbruik normaal]]+Table1[[#This Row],[Verbruik laag]] -> 6086 | N40: 0 | O40: 0 | P40: =Table1[[#This Row],[Teruglevering normaal]]+Table1[[#This Row],[Teruglevering dal]] -> 0
A41: 620587 | B41: Gemeente Albrandswaard (Gebouwen) | D41: Albrandswaardseweg | E41: 18 | G41: 3171AC | H41: Poortugaal | I41: 871689290401160404 | J41: 2019 | K41: 7597 | L41: 3484 | M41: =Table1[[#This Row],[Verbruik normaal]]+Table1[[#This Row],[Verbruik laag]] -> 11081 | N41: 0 | O41: 0 | P41: =Table1[[#This Row],[Teruglevering normaal]]+Table1[[#This Row],[Teruglevering dal]] -> 0
A42: 620593 | B42: Gemeente Albrandswaard (Waterhuishoud) | C42: ALBRAND2 | D42: Albrandswaardseweg | E42: 80 | G42: 3171AC | H42: POORTUGAAL | I42: 871689290401160497 | J42: 2019 | K42: 14314 | L42: 13013 | M42: =Table1[[#This Row],[Verbruik normaal]]+Table1[[#This Row],[Verbruik laag]] -> 27327 | N42: 0 | O42: 0 | P42: =Table1[[#This Row],[Teruglevering normaal]]+Table1[[#This Row],[Teruglevering dal]] -> 0
A43: 620593 | B43: Gemeente Albrandswaard (Waterhuishoud) | C43: ALBRAND2 | D43: Albrandswaardseweg | E43: 95 | G43: 3171XA | H43: Poortugaal | I43: 871689290401160558 | J43: 2019 | K43: 229 | L43: 226 | M43: =Table1[[#This Row],[Verbruik normaal]]+Table1[[#This Row],[Verbruik laag]] -> 455 | N43: 0 | O43: 0 | P43: =Table1[[#This Row],[Teruglevering normaal]]+Table1[[#This Row],[Teruglevering dal]] -> 0
A44: 620593 | B44: Gemeente Albrandswaard (Waterhuishoud) | C44: ALBRAND2 | D44: Albrandswaardseweg | E44: 80 | G44: 3171AC | H44: POORTUGAAL | I44: 871689290401205402 | J44: 2019 | K44: 28 | L44: 30 | M44: =Table1[[#This Row],[Verbruik normaal]]+Table1[[#This Row],[Verbruik laag]] -> 58 | N44: 0 | O44: 0 | P44: =Table1[[#This Row],[Teruglevering normaal]]+Table1[[#This Row],[Teruglevering dal]] -> 0
A45: 620593 | B45: Gemeente Albrandswaard (Waterhuishoud) | C45: ALBRAND2 | D45: Amberhof | E45: 1 | F45: P | G45: 3162RA | H45: RHOON | I45: 871689290401520345 | J45: 2019 | K45: 363 | L45: 379 | M45: =Table1[[#This Row],[Verbruik normaal]]+Table1[[#This Row],[Verbruik laag]] -> 742 | N45: 0 | O45: 0 | P45: =Table1[[#This Row],[Teruglevering normaal]]+Table1[[#This Row],[Teruglevering dal]] -> 0
A46: 620593 | B46: Gemeente Albrandswaard (Waterhuishoud) | C46: ALBRAND2 | D46: Amberhof | E46: 1 | G46: 3162RA | H46: Rhoon | I46: 871689290401520673 | J46: 2019 | K46: 1616 | L46: 1412 | M46: =Table1[[#This Row],[Verbruik normaal]]+Table1[[#This Row],[Verbruik laag]] -> 3028 | N46: 0 | O46: 0 | P46: =Table1[[#This Row],[Teruglevering normaal]]+Table1[[#This Row],[Teruglevering dal]] -> 0
A47: 615995 | B47: Gemeente Ridderkerk Gemalen | C47: RIDDER1 | D47: Anjerstraat | E47: 45 | F47: 5819 | G47: 2981BA | H47: RIDDERKERK | I47: 871689290303394846 | J47: 2019 | K47: 283 | L47: 565 | M47: =Table1[[#This Row],[Verbruik normaal]]+Table1[[#This Row],[Verbruik laag]] -> 848 | N47: 0 | O47: 0 | P47: =Table1[[#This Row],[Teruglevering normaal]]+Table1[[#This Row],[Teruglevering dal]] -> 0
A48: 620512 | B48: Gemeente Barendrecht (OV) | C48: BAREND2 | D48: Avenue Carre | E48: 2 | F48: TO | G48: 2994DA | H48: BARENDRECHT | I48: 871689213001985055 | J48: 2019 | K48: 270 | L48: 725 | M48: =Table1[[#This Row],[Verbruik normaal]]+Table1[[#This Row],[Verbruik laag]] -> 995 | N48: 0 | O48: 0 | P48: =Table1[[#This Row],[Teruglevering normaal]]+Table1[[#This Row],[Teruglevering dal]] -> 0
A49: 620389 | B49: Gemeente Barendrecht (Waterhuishouding) | C49: BAREND | D49: Baanvakwei | E49: 1 | G49: 2992ZW | H49: Barendrecht | I49: 871689213000662674 | J49: 2019 | K49: 14561 | L49: 15742 | M49: =Table1[[#This Row],[Verbruik normaal]]+Table1[[#This Row],[Verbruik laag]] -> 30303 | N49: 0 | O49: 0 | P49: =Table1[[#This Row],[Teruglevering normaal]]+Table1[[#This Row],[Teruglevering dal]] -> 0
A50: 620500 | B50: Gemeente Barendrecht (Gebouwen) | D50: Bachlaan | E50: 6 | G50: 2992GK | H50: BARENDRECHT | I50: 871689290300849875 | J50: 2019 | K50: 41294 | L50: 21178 | M50: =Table1[[#This Row],[Verbruik normaal]]+Table1[[#This Row],[Verbruik laag]] -> 62472 | N50: 0 | O50: 0 | P50: =Table1[[#This Row],[Teruglevering normaal]]+Table1[[#This Row],[Teruglevering dal]] -> 0
A51: 620500 | B51: Gemeente Barendrecht (Gebouwen) | D51: Bachlaan | E51: 4 | G51: 2992GK | H51: BARENDRECHT | I51: 871689290303434160 | J51: 2019 | K51: 5067 | L51: 4605 | M51: =Table1[[#This Row],[Verbruik normaal]]+Table1[[#This Row],[Verbruik laag]] -> 9672 | N51: 0 | O51: 0 | P51: =Table1[[#This Row],[Teruglevering normaal]]+Table1[[#This Row],[Teruglevering dal]] -> 0
A52: 620389 | B52: Gemeente Barendrecht (Waterhuishouding) | C52: BAREND | D52: Bakkersdijk | E52: 28 | F52: G | G52: 2993AB | H52: BARENDRECHT | I52: 871689213001210157 | J52: 2019 | K52: 203 | L52: 207 | M52: =Table1[[#This Row],[Verbruik normaal]]+Table1[[#This Row],[Verbruik laag]] -> 410 | N52: 0 | O52: 0 | P52: =Table1[[#This Row],[Teruglevering normaal]]+Table1[[#This Row],[Teruglevering dal]] -> 0
A53: 620593 | B53: Gemeente Albrandswaard (Waterhuishoud) | C53: ALBRAND2 | D53: Bakkersparkweg | E53: 3 | G53: 3162PH | H53: Rhoon | I53: 871689213000315662 | J53: 2019 | K53: 368 | L53: 315 | M53: =Table1[[#This Row],[Verbruik normaal]]+Table1[[#This Row],[Verbruik laag]] -> 683 | N53: 0 | O53: 0 | P53: =Table1[[#This Row],[Teruglevering normaal]]+Table1[[#This Row],[Teruglevering dal]] -> 0
A54: 620389 | B54: Gemeente Barendrecht (Waterhuishouding) | C54: BAREND | D54: Bark | E54: 88 | F54: A | G54: 2991JE | H54: BARENDRECHT | I54: 871689290300971903 | J54: 2019 | K54: 245 | L54: 292 | M54: =Table1[[#This Row],[Verbruik normaal]]+Table1[[#This Row],[Verbruik laag]] -> 537 | N54: 0 | O54: 0 | P54: =Table1[[#This Row],[Teruglevering normaal]]+Table1[[#This Row],[Teruglevering dal]] -> 0
A55: 1238875 | B55: Gemeente Ridderkerk - Verkeer | D55: Benedenrijweg | E55: 0 | G55: 2983LA | H55: RIDDERKERK | I55: 871689213000143203 | J55: 2019 | K55: 14 | L55: 16 | M55: =Table1[[#This Row],[Verbruik normaal]]+Table1[[#This Row],[Verbruik laag]] -> 30 | N55: 0 | O55: 0 | P55: =Table1[[#This Row],[Teruglevering normaal]]+Table1[[#This Row],[Teruglevering dal]] -> 0
A56: 615995 | B56: Gemeente Ridderkerk Gemalen | C56: RIDDER1 | D56: Benedenrijweg | E56: 65 | F56: P 5958 | G56: 2983GA | H56: Ridderkerk | I56: 871689290300450644 | J56: 2019 | K56: 1567 | L56: 1780 | M56: =Table1[[#This Row],[Verbruik normaal]]+Table1[[#This Row],[Verbruik laag]] -> 3347 | N56: 0 | O56: 0 | P56: =Table1[[#This Row],[Teruglevering normaal]]+Table1[[#This Row],[Teruglevering dal]] -> 0
A57: 615995 | B57: Gemeente Ridderkerk Gemalen | C57: RIDDER1 | D57: Benedenrijweg | E57: 461 | F57: P 5817 | G57: 2983LA | H57: Ridderkerk | I57: 871689290300452273 | J57: 2019 | K57: 161 | L57: 185 | M57: =Table1[[#This Row],[Verbruik normaal]]+Table1[[#This Row],[Verbruik laag]] -> 346 | N57: 0 | O57: 0 | P57: =Table1[[#This Row],[Teruglevering normaal]]+Table1[[#This Row],[Teruglevering dal]] -> 0
A58: 615995 | B58: Gemeente Ridderkerk Gemalen | C58: RIDDER1 | D58: Benedenrijweg | E58: 461 | F58: A 5816 | G58: 2983LA | H58: Ridderkerk | I58: 871689290301649634 | J58: 2019 | K58: 186 | L58: 210 | M58: =Table1[[#This Row],[Verbruik normaal]]+Table1[[#This Row],[Verbruik laag]] -> 396 | N58: 0 | O58: 0 | P58: =Table1[[#This Row],[Teruglevering normaal]]+Table1[[#This Row],[Teruglevering dal]] -> 0
A59: 620389 | B59: Gemeente Barendrecht (Waterhuishouding) | C59: BAREND | D59: Bijdorp-Oost | E59: 59 | G59: 2992LA | H59: BARENDRECHT | I59: 871689290300813364 | J59: 2019 | K59: 1106 | L59: 1162 | M59: =Table1[[#This Row],[Verbruik normaal]]+Table1[[#This Row],[Verbruik laag]] -> 2268 | N59: 0 | O59: 0 | P59: =Table1[[#This Row],[Teruglevering normaal]]+Table1[[#This Row],[Teruglevering dal]] -> 0
A60: 615995 | B60: Gemeente Ridderkerk Gemalen | C60: RIDDER1 | D60: Bilderdijklaan | E60: 51 | F60: thv | G60: 2985XA | H60: Ridderkerk | I60: 871689200000101333 | J60: 2019 | K60: 23620 | L60: 24888 | M60: =Table1[[#This Row],[Verbruik normaal]]+Table1[[#This Row],[Verbruik laag]] -> 48508 | N60: 0 | O60: 0 | P60: =Table1[[#This Row],[Teruglevering normaal]]+Table1[[#This Row],[Teruglevering dal]] -> 0
A61: 620587 | B61: Gemeente Albrandswaard (Gebouwen) | D61: Binnengracht | E61: 6 | G61: 3162WD | H61: RHOON | I61: 871689260009827580 | J61: 2019 | K61: 28344 | L61: 14074 | M61: =Table1[[#This Row],[Verbruik normaal]]+Table1[[#This Row],[Verbruik laag]] -> 42418 | N61: 35634 | O61: 27405 | P61: =Table1[[#This Row],[Teruglevering normaal]]+Table1[[#This Row],[Teruglevering dal]] -> 63039
A62: 620500 | B62: Gemeente Barendrecht (Gebouwen) | D62: Binnenhof | E62: 1 | G62: 2991AA | H62: BARENDRECHT | I62: 871689200000027213 | J62: 2019 | K62: 330851 | L62: 172362 | M62: =Table1[[#This Row],[Verbruik normaal]]+Table1[[#This Row],[Verbruik laag]] -> 503213 | N62: 23 | O62: 7761 | P62: =Table1[[#This Row],[Teruglevering normaal]]+Table1[[#This Row],[Teruglevering dal]] -> 7784
A63: 1179824 | B63: Gemeente Barendrecht - Marktkasten | C63: GemBarendMarkt | D63: Binnenlandse Baan | E63: 10 | F63: TO | G63: 2991EA | H63: BARENDRECHT | I63: 871689260010458438 | J63: 2019 | K63: 8534 | L63: 5987 | M63: =Table1[[#This Row],[Verbruik normaal]]+Table1[[#This Row],[Verbruik laag]] -> 14521 | N63: 0 | O63: 0 | P63: =Table1[[#This Row],[Teruglevering normaal]]+Table1[[#This Row],[Teruglevering dal]] -> 0
A64: 1179824 | B64: Gemeente Barendrecht - Marktkasten | C64: GemBarendMarkt | D64: Binnenlandse Baan | E64: 16 | F64: TO | G64: 2991EA | H64: BARENDRECHT | I64: 871689260010458445 | J64: 2019 | K64: 4999 | L64: 62 | M64: =Table1[[#This Row],[Verbruik normaal]]+Table1[[#This Row],[Verbruik laag]] -> 5061 | N64: 0 | O64: 0 | P64: =Table1[[#This Row],[Teruglevering normaal]]+Table1[[#This Row],[Teruglevering dal]] -> 0
A65: 620389 | B65: Gemeente Barendrecht (Waterhuishouding) | C65: BAREND | D65: Binnenlandse Baan | E65: 138 | F65: A | G65: 2991CA | H65: BARENDRECHT | I65: 871689290300935899 | J65: 2019 | K65: 2466 | L65: 2283 | M65: =Table1[[#This Row],[Verbruik normaal]]+Table1[[#This Row],[Verbruik laag]] -> 4749 | N65: 0 | O65: 0 | P65: =Table1[[#This Row],[Teruglevering normaal]]+Table1[[#This Row],[Teruglevering dal]] -> 0
A66: 620500 | B66: Gemeente Barendrecht (Gebouwen) | D66: Binnenlandse Baan | E66: 28 | G66: 2991EA | H66: BARENDRECHT | I66: 871689290300948660 | J66: 2019 | K66: 561 | L66: 642 | M66: =Table1[[#This Row],[Verbruik normaal]]+Table1[[#This Row],[Verbruik laag]] -> 1203 | N66: 0 | O66: 0 | P66: =Table1[[#This Row],[Teruglevering normaal]]+Table1[[#This Row],[Teruglevering dal]] -> 0
A67: 620389 | B67: Gemeente Barendrecht (Waterhuishouding) | C67: BAREND | D67: Binnenlandse Baan | E67: 137 | G67: 2991CA | H67: BARENDRECHT | I67: 871689290300949193 | J67: 2019 | K67: 1035 | L67: 1146 | M67: =Table1[[#This Row],[Verbruik normaal]]+Table1[[#This Row],[Verbruik laag]] -> 2181 | N67: 0 | O67: 0 | P67: =Table1[[#This Row],[Teruglevering normaal]]+Table1[[#This Row],[Teruglevering dal]] -> 0
A68: 1180708 | B68: Gemeente Barendrecht - VRI | C68: GemBarendVRI2 | D68: Binnenlandse Baan | E68: 104 | G68: 2991CA | H68: BARENDRECHT | I68: 871689290300950304 | J68: 2019 | K68: 74 | L68: 77 | M68: =Table1[[#This Row],[Verbruik normaal]]+Table1[[#This Row],[Verbruik laag]] -> 151 | N68: 0 | O68: 0 | P68: =Table1[[#This Row],[Teruglevering normaal]]+Table1[[#This Row],[Teruglevering dal]] -> 0
A69: 615995 | B69: Gemeente Ridderkerk Gemalen | C69: RIDDER1 | D69: Blaak | E69: 0 | F69: -5775 | G69: 2981EE | H69: Ridderkerk | I69: 871689290300711141 | J69: 2019 | K69: 1541 | L69: 1656 | M69: =Table1[[#This Row],[Verbruik normaal]]+Table1[[#This Row],[Verbruik laag]] -> 3197 | N69: 0 | O69: 0 | P69: =Table1[[#This Row],[Teruglevering normaal]]+Table1[[#This Row],[Teruglevering dal]] -> 0
A70: 615995 | B70: Gemeente Ridderkerk Gemalen | C70: RIDDER1 | D70: Blaak | E70: 95 | G70: 2981ED | H70: RIDDERKERK | I70: 871689290303467335 | J70: 2019 | K70: 202 | L70: 239 | M70: =Table1[[#This Row],[Verbruik normaal]]+Table1[[#This Row],[Verbruik laag]] -> 441 | N70: 0 | O70: 0 | P70: =Table1[[#This Row],[Teruglevering normaal]]+Table1[[#This Row],[Teruglevering dal]] -> 0
A71: 615996 | B71: Gemeente Ridderkerk (OV) | D71: Boelewerf | E71: 1 | G71: 2987VD | H71: RIDDERKERK | I71: 871689290300314359 | J71: 2019 | K71: 1262 | L71: 4039 | M71: =Table1[[#This Row],[Verbruik normaal]]+Table1[[#This Row],[Verbruik laag]] -> 5301 | N71: 0 | O71: 0 | P71: =Table1[[#This Row],[Teruglevering normaal]]+Table1[[#This Row],[Teruglevering dal]] -> 0
A72: 615995 | B72: Gemeente Ridderkerk Gemalen | C72: RIDDER1 | D72: Boelewerf | E72: 52 | F72: P 5817 | G72: 2987VE | H72: Ridderkerk | I72: 871689290300314687 | J72: 2019 | K72: 4429 | L72: 3574 | M72: =Table1[[#This Row],[Verbruik normaal]]+Table1[[#This Row],[Verbruik laag]] -> 8003 | N72: 0 | O72: 0 | P72: =Table1[[#This Row],[Teruglevering normaal]]+Table1[[#This Row],[Teruglevering dal]] -> 0
A73: 620593 | B73: Gemeente Albrandswaard (Waterhuishoud) | C73: ALBRAND2 | D73: Bouwlust | E73: 2 | F73: TO | G73: 3162SB | H73: RHOON | I73: 871689260009380443 | J73: 2019 | K73: 2320 | L73: 2198 | M73: =Table1[[#This Row],[Verbruik normaal]]+Table1[[#This Row],[Verbruik laag]] -> 4518 | N73: 0 | O73: 0 | P73: =Table1[[#This Row],[Teruglevering normaal]]+Table1[[#This Row],[Teruglevering dal]] -> 0
A74: 620500 | B74: Gemeente Barendrecht (Gebouwen) - Route 630000-24 | D74: Brandsma-akker | E74: 3 | G74: 2994AA | H74: BARENDRECHT | I74: 871689200000025646 | J74: 2019 | K74: 30215 | L74: 7065 | M74: =Table1[[#This Row],[Verbruik normaal]]+Table1[[#This Row],[Verbruik laag]] -> 37280 | N74: 0 | O74: 0 | P74: =Table1[[#This Row],[Teruglevering normaal]]+Table1[[#This Row],[Teruglevering dal]] -> 0
A75: 620389 | B75: Gemeente Barendrecht (Waterhuishouding) | C75: BAREND | D75: Brandsma-akker | E75: 2 | G75: 2994AA | H75: BARENDRECHT | I75: 871689290301661902 | J75: 2019 | K75: 254 | L75: 203 | M75: =Table1[[#This Row],[Verbruik normaal]]+Table1[[#This Row],[Verbruik laag]] -> 457 | N75: 0 | O75: 0 | P75: =Table1[[#This Row],[Teruglevering normaal]]+Table1[[#This Row],[Teruglevering dal]] -> 0
A76: 615995 | B76: Gemeente Ridderkerk Gemalen | C76: RIDDER1 | D76: Brasem | E76: 290 | F76: P 5817 | G76: 2986HC | H76: Ridderkerk | I76: 871689290301090122 | J76: 2019 | K76: 6902 | L76: 6299 | M76: =Table1[[#This Row],[Verbruik normaal]]+Table1[[#This Row],[Verbruik laag]] -> 13201 | N76: 0 | O76: 0 | P76: =Table1[[#This Row],[Teruglevering normaal]]+Table1[[#This Row],[Teruglevering dal]] -> 0
A77: 1180708 | B77: Gemeente Barendrecht - VRI | C77: GemBarendVRI2 | D77: Breslau | E77: 8 | G77: 2993LT | H77: BARENDRECHT | I77: 871689213001305389 | J77: 2019 | K77: 151 | L77: 181 | M77: =Table1[[#This Row],[Verbruik normaal]]+Table1[[#This Row],[Verbruik laag]] -> 332 | N77: 0 | O77: 0 | P77: =Table1[[#This Row],[Teruglevering normaal]]+Table1[[#This Row],[Teruglevering dal]] -> 0
A78: 620512 | B78: Gemeente Barendrecht (OV) | C78: BAREND2 | D78: Breslau | E78: 4 | F78: thv | G78: 2993LT | H78: BARENDRECHT | I78: 871689260010751881 | J78: 2019 | K78: 8323 | L78: 10027 | M78: =Table1[[#This Row],[Verbruik normaal]]+Table1[[#This Row],[Verbruik laag]] -> 18350 | N78: 0 | O78: 0 | P78: =Table1[[#This Row],[Teruglevering normaal]]+Table1[[#This Row],[Teruglevering dal]] -> 0
A79: 620500 | B79: Gemeente Barendrecht (Gebouwen) | D79: Buitenlandse Baan | E79: 1 | G79: 2991GA | H79: BARENDRECHT | I79: 871689290300966718 | J79: 2019 | K79: 25932 | L79: 12144 | M79: =Table1[[#This Row],[Verbruik normaal]]+Table1[[#This Row],[Verbruik laag]] -> 38076 | N79: 0 | O79: 0 | P79: =Table1[[#This Row],[Teruglevering normaal]]+Table1[[#This Row],[Teruglevering dal]] -> 0
A80: 620389 | B80: Gemeente Barendrecht (Waterhuishouding) | C80: BAREND | D80: Buitenlandse Baan | E80: 3 | G80: 9999QQ | H80: BARENDRECHT | I80: 871689290300966725 | J80: 2019 | K80: 21291 | L80: 20964 | M80: =Table1[[#This Row],[Verbruik normaal]]+Table1[[#This Row],[Verbruik laag]] -> 42255 | N80: 0 | O80: 0 | P80: =Table1[[#This Row],[Teruglevering normaal]]+Table1[[#This Row],[Teruglevering dal]] -> 0
A81: 615995 | B81: Gemeente Ridderkerk Gemalen | C81: RIDDER1 | D81: Burg de Zeeuwstraat | E81: 382 | F81: P 5817 | G81: 2981AK | H81: Ridderkerk | I81: 871689290300689853 | J81: 2019 | K81: 5173 | L81: 5063 | M81: =Table1[[#This Row],[Verbruik normaal]]+Table1[[#This Row],[Verbruik laag]] -> 10236 | N81: 0 | O81: 0 | P81: =Table1[[#This Row],[Teruglevering normaal]]+Table1[[#This Row],[Teruglevering dal]] -> 0
A82: 620389 | B82: Gemeente Barendrecht (Waterhuishouding) | C82: BAREND | D82: Carnisseweg | E82: 49 | F82: A | G82: 2993AD | H82: Barendrecht | I82: 871689290300804089 | J82: 2019 | K82: 1414 | L82: 1413 | M82: =Table1[[#This Row],[Verbruik normaal]]+Table1[[#This Row],[Verbruik laag]] -> 2827 | N82: 0 | O82: 0 | P82: =Table1[[#This Row],[Teruglevering normaal]]+Table1[[#This Row],[Teruglevering dal]] -> 0
A83: 1180708 | B83: Gemeente Barendrecht - VRI | C83: GemBarendVRI2 | D83: Carnisseweg | E83: 71 | G83: 2993AD | H83: BARENDRECHT | I83: 871689290300882384 | J83: 2019 | K83: 319 | L83: 378 | M83: =Table1[[#This Row],[Verbruik normaal]]+Table1[[#This Row],[Verbruik laag]] -> 697 | N83: 0 | O83: 0 | P83: =Table1[[#This Row],[Teruglevering normaal]]+Table1[[#This Row],[Teruglevering dal]] -> 0
A84: 620389 | B84: Gemeente Barendrecht (Waterhuishouding) | C84: BAREND | D84: Charloisse Lagendijk | E84: 510 | F84: P | G84: 2993AG | H84: Barendrecht | I84: 871689290303440116 | J84: 2019 | K84: 73 | L84: 74 | M84: =Table1[[#This Row],[Verbruik normaal]]+Table1[[#This Row],[Verbruik laag]] -> 147 | N84: 0 | O84: 0 | P84: =Table1[[#This Row],[Teruglevering normaal]]+Table1[[#This Row],[Teruglevering dal]] -> 0
A85: 615995 | B85: Gemeente Ridderkerk Gemalen | C85: RIDDER1 | D85: Damweg | E85: 3 | F85: P 5816 | G85: 2989AD | H85: Ridderkerk | I85: 871689290300296198 | J85: 2019 | K85: 779 | L85: 949 | M85: =Table1[[#This Row],[Verbruik normaal]]+Table1[[#This Row],[Verbruik laag]] -> 1728 | N85: 0 | O85: 0 | P85: =Table1[[#This Row],[Teruglevering normaal]]+Table1[[#This Row],[Teruglevering dal]] -> 0
A86: 1238878 | B86: Gemeente Ridderkerk - Wegen, straten en pleinen | D86: Damweg | E86: 2 | G86: 2989AD | H86: RIDDERKERK | I86: 871689290300495652 | J86: 2019 | K86: 1143 | L86: 6015 | M86: =Table1[[#This Row],[Verbruik normaal]]+Table1[[#This Row],[Verbruik laag]] -> 7158 | N86: 0 | O86: 0 | P86: =Table1[[#This Row],[Teruglevering normaal]]+Table1[[#This Row],[Teruglevering dal]] -> 0
A87: 620593 | B87: Gemeente Albrandswaard (Waterhuishoud) | C87: ALBRAND2 | D87: De Beurs | E87: 41 | G87: 3162WB | H87: Rhoon | I87: 871689290403691586 | J87: 2019 | K87: 11888 | L87: 11391 | M87: =Table1[[#This Row],[Verbruik normaal]]+Table1[[#This Row],[Verbruik laag]] -> 23279 | N87: 0 | O87: 0 | P87: =Table1[[#This Row],[Teruglevering normaal]]+Table1[[#This Row],[Teruglevering dal]] -> 0
A88: 615988 | B88: Gemeente Ridderkerk (Gebouwen) | D88: De Genestetstraat | E88: 2 | F88: A | G88: 2985CG | H88: RIDDERKERK | I88: 871689290301144467 | J88: 2019 | K88: 17556 | L88: 12784 | M88: =Table1[[#This Row],[Verbruik normaal]]+Table1[[#This Row],[Verbruik laag]] -> 30340 | N88: 0 | O88: 0 | P88: =Table1[[#This Row],[Teruglevering normaal]]+Table1[[#This Row],[Teruglevering dal]] -> 0
A89: 615996 | B89: Gemeente Ridderkerk (OV) | D89: De Schans | E89: 0 | F89: 5922 | G89: 2983GT | H89: RIDDERKERK | I89: 871689290300495676 | J89: 2019 | K89: 513 | L89: 1618 | M89: =Table1[[#This Row],[Verbruik normaal]]+Table1[[#This Row],[Verbruik laag]] -> 2131 | N89: 0 | O89: 0 | P89: =Table1[[#This Row],[Teruglevering normaal]]+Table1[[#This Row],[Teruglevering dal]] -> 0
A90: 620593 | B90: Gemeente Albrandswaard (Waterhuishoud) | C90: ALBRAND2 | D90: De Warnaar | E90: 13 | F90: naast | G90: 3171EN | H90: Poortugaal | I90: 871689290401498699 | J90: 2019 | K90: 811 | L90: 806 | M90: =Table1[[#This Row],[Verbruik normaal]]+Table1[[#This Row],[Verbruik laag]] -> 1617 | N90: 0 | O90: 0 | P90: =Table1[[#This Row],[Teruglevering normaal]]+Table1[[#This Row],[Teruglevering dal]] -> 0
A91: 620593 | B91: Gemeente Albrandswaard (Waterhuishoud) | C91: ALBRAND2 | D91: Debussystraat | E91: 10 | G91: 3161WD | H91: Rhoon | I91: 871689290403716012 | J91: 2019 | K91: 213 | L91: 409 | M91: =Table1[[#This Row],[Verbruik normaal]]+Table1[[#This Row],[Verbruik laag]] -> 622 | N91: 0 | O91: 0 | P91: =Table1[[#This Row],[Teruglevering normaal]]+Table1[[#This Row],[Teruglevering dal]] -> 0
A92: 620389 | B92: Gemeente Barendrecht (Waterhuishouding) | C92: BAREND | D92: Dierensteinweg | E92: 4 | F92: NST | G92: 2991XJ | H92: BARENDRECHT | I92: 871689260009470168 | J92: 2019 | K92: 117 | L92: 123 | M92: =Table1[[#This Row],[Verbruik normaal]]+Table1[[#This Row],[Verbruik laag]] -> 240 | N92: 0 | O92: 0 | P92: =Table1[[#This Row],[Teruglevering normaal]]+Table1[[#This Row],[Teruglevering dal]] -> 0
A93: 1180708 | B93: Gemeente Barendrecht - VRI | C93: GemBarendVRI2 | D93: Dierensteinweg | E93: 4 | F93: NST | G93: 2991XJ | H93: BARENDRECHT | I93: 871689260009568933 | J93: 2019 | K93: 705 | L93: 860 | M93: =Table1[[#This Row],[Verbruik normaal]]+Table1[[#This Row],[Verbruik laag]] -> 1565 | N93: 0 | O93: 0 | P93: =Table1[[#This Row],[Teruglevering normaal]]+Table1[[#This Row],[Teruglevering dal]] -> 0
A94: 620389 | B94: Gemeente Barendrecht (Waterhuishouding) | C94: BAREND | D94: Dierensteinweg | E94: 11 | G94: 2991XJ | H94: BARENDRECHT | I94: 871689290300933789 | J94: 2019 | K94: 330 | L94: 226 | M94: =Table1[[#This Row],[Verbruik normaal]]+Table1[[#This Row],[Verbruik laag]] -> 556 | N94: 0 | O94: 0 | P94: =Table1[[#This Row],[Teruglevering normaal]]+Table1[[#This Row],[Teruglevering dal]] -> 0
A95: 620389 | B95: Gemeente Barendrecht (Waterhuishouding) | C95: BAREND | D95: Dierensteinweg | E95: 6 | F95: C | G95: 2991XJ | H95: BARENDRECHT | I95: 871689290300933864 | J95: 2019 | K95: 126 | L95: 124 | M95: =Table1[[#This Row],[Verbruik normaal]]+Table1[[#This Row],[Verbruik laag]] -> 250 | N95: 0 | O95: 0 | P95: =Table1[[#This Row],[Teruglevering normaal]]+Table1[[#This Row],[Teruglevering dal]] -> 0
A96: 1180708 | B96: Gemeente Barendrecht - VRI | C96: GemBarendVRI2 | D96: Dierensteinweg | E96: 9 | G96: 2991XJ | H96: BARENDRECHT | I96: 871689290300959987 | J96: 2019 | K96: 2043 | L96: 1239 | M96: =Table1[[#This Row],[Verbruik normaal]]+Table1[[#This Row],[Verbruik laag]] -> 3282 | N96: 0 | O96: 0 | P96: =Table1[[#This Row],[Teruglevering normaal]]+Table1[[#This Row],[Teruglevering dal]] -> 0
A97: 1180708 | B97: Gemeente Barendrecht - VRI | C97: GemBarendVRI2 | D97: Dierensteinweg | E97: 22 | F97: A | G97: 2991XJ | H97: BARENDRECHT | I97: 871689290300959994 | J97: 2019 | K97: 1530 | L97: 1796 | M97: =Table1[[#This Row],[Verbruik normaal]]+Table1[[#This Row],[Verbruik laag]] -> 3326 | N97: 0 | O97: 0 | P97: =Table1[[#This Row],[Teruglevering normaal]]+Table1[[#This Row],[Teruglevering dal]] -> 0
A98: 620500 | B98: Gemeente Barendrecht (Gebouwen) | D98: Dierensteinweg | E98: 14 | G98: 2991XJ | H98: BARENDRECHT | I98: 871689290300966701 | J98: 2019 | K98: 3078 | L98: 3325 | M98: =Table1[[#This Row],[Verbruik normaal]]+Table1[[#This Row],[Verbruik laag]] -> 6403 | N98: 0 | O98: 0 | P98: =Table1[[#This Row],[Teruglevering normaal]]+Table1[[#This Row],[Teruglevering dal]] -> 0
A99: 1238878 | B99: Gemeente Ridderkerk - Wegen, straten en pleinen | D99: Dillenburgplein | E99: 48 | F99: a 2983 | G99: 2983CC | H99: RIDDERKERK | I99: 871689290300475197 | J99: 2019 | K99: 3509 | L99: 1404 | M99: =Table1[[#This Row],[Verbruik normaal]]+Table1[[#This Row],[Verbruik laag]] -> 4913 | N99: 0 | O99: 0 | P99: =Table1[[#This Row],[Teruglevering normaal]]+Table1[[#This Row],[Teruglevering dal]] -> 0
A100: 615995 | B100: Gemeente Ridderkerk Gemalen | C100: RIDDER1 | D100: Donckselaan | E100: 50 | F100: P 5818 | G100: 2983LC | H100: Ridderkerk | I100: 871689290300347074 | J100: 2019 | K100: 3560 | L100: 3519 | M100: =Table1[[#This Row],[Verbruik normaal]]+Table1[[#This Row],[Verbruik laag]] -> 7079 | N100: 0 | O100: 0 | P100: =Table1[[#This Row],[Teruglevering normaal]]+Table1[[#This Row],[Teruglevering dal]] -> 0
A101: 620512 | B101: Gemeente Barendrecht (OV) | C101: BAREND2 | D101: Donk | E101: 4 | F101: THV | G101: 2991LE | H101: BARENDRECHT | I101: 871689260010961877 | J101: 2019 | K101: 1716 | L101: 1648 | M101: =Table1[[#This Row],[Verbruik normaal]]+Table1[[#This Row],[Verbruik laag]] -> 3364 | N101: 0 | O101: 0 | P101: =Table1[[#This Row],[Teruglevering normaal]]+Table1[[#This Row],[Teruglevering dal]] -> 0
...

Sheet Gas
A1: Bijlage 5: | B1: Overzicht aansluitingen en verbruiken
A2: Toelichting: | B2: Aan de opgegeven soorten en aantallen kunnen geen rechten worden ontleend!
A4: Klantnummer | B4: Bedrijfsnaam | C4: Straat | D4: Huisnr. | E4: Toevoegsel | F4: Postcode | G4: Plaats | H4: EAN_gas | I4: Leveringsjaar | J4: Verbruik
A5: 620500 | B5: Gemeente Barendrecht (Gebouwen) | C5: 3e Barendrechtseweg | D5: 460 | F5: 2992SN | G5: BARENDRECHT | H5: 871689290303362425 | I5: 2019 | J5: 1279
A6: 620500 | B6: Gemeente Barendrecht (Gebouwen) | C6: Adrianapolder | D6: 50 | E6: (gas) | F6: 2992ZK | G6: BARENDRECHT | H6: 871689213001927581 | I6: 2019 | J6: 13695
A7: 620587 | B7: Gemeente Albrandswaard (Gebouwen) | C7: Albrandswaardsedijk | D7: 188 | F7: 3172XB | G7: POORTUGAAL | H7: 871689260008197721 | I7: 2019 | J7: 86697
A8: 620587 | B8: Gemeente Albrandswaard (Gebouwen) | C8: Albrandswaardsedijk | D8: 180 | F8: 3172XB | G8: POORTUGAAL | H8: 871689213001427364 | I8: 2019 | J8: 5467
A9: 620587 | B9: Gemeente Albrandswaard (Gebouwen) | C9: Albrandswaardseweg | D9: 18 | F9: 3171AC | G9: Poortugaal | H9: 871689290403010059 | I9: 2019 | J9: 5235
A10: 620500 | B10: Gemeente Barendrecht (Gebouwen) | C10: Bachlaan | D10: 6 | F10: 2992GK | G10: BARENDRECHT | H10: 871689290302537381 | I10: 2019 | J10: 37347
A11: 620500 | B11: Gemeente Barendrecht (Gebouwen) | C11: Bachlaan | D11: 4 | F11: 2992GK | G11: BARENDRECHT | H11: 871689290303434177 | I11: 2019 | J11: 1333
A12: 620500 | B12: Gemeente Barendrecht (Gebouwen) | C12: Binnenhof | D12: 1 | F12: 2991AA | G12: BARENDRECHT | H12: 871689290302671306 | I12: 2019 | J12: 64696
A13: 620500 | B13: Gemeente Barendrecht (Gebouwen) | C13: Binnenlandse Baan | D13: 28 | F13: 2991EA | G13: BARENDRECHT | H13: 871689290302653272 | I13: 2019 | J13: 11
A14: 620500 | B14: Gemeente Barendrecht (Gebouwen) | C14: Brandsma-akker | D14: 3 | F14: 2994AA | G14: BARENDRECHT | H14: 871689290302571842 | I14: 2019 | J14: 8540
A15: 620500 | B15: Gemeente Barendrecht (Gebouwen) | C15: Buitenlandse Baan | D15: 1 | F15: 2991GA | G15: BARENDRECHT | H15: 871689290302673737 | I15: 2019 | J15: 19435
A16: 620587 | B16: Gemeente Albrandswaard (Gebouwen) | C16: De Beurs | D16: 41 | F16: 3162WB | G16: Rhoon | H16: 871689290403642113 | I16: 2019 | J16: 7924
A17: 620587 | B17: Gemeente Albrandswaard (Gebouwen) | C17: De Beurs | D17: 41 | F17: 3162WB | G17: Rhoon | H17: 871689290403642113 | I17: 2018 | J17: 7998
A18: 615988 | B18: Gemeente Ridderkerk (Gebouwen) | C18: De Genestetstraat | D18: 2 | E18: A | F18: 2985CG | G18: RIDDERKERK | H18: 871689290302860687 | I18: 2019 | J18: 18192
A19: 620587 | B19: Gemeente Albrandswaard (Gebouwen) | C19: Dorpsstraat | D19: 27 | F19: 3171EE | G19: Poortugaal | H19: 871689290403012794 | I19: 2019 | J19: 5086
A20: 620500 | B20: Gemeente Barendrecht (Gebouwen) | C20: Dorpsstraat | D20: 152 | F20: 2992BE | G20: BARENDRECHT | H20: 871689290302570388 | I20: 2019 | J20: 2490
A21: 620500 | B21: Gemeente Barendrecht (Gebouwen) | C21: Dr. Kuyperstraat | D21: 4 | F21: 2991GB | G21: BARENDRECHT | H21: 871689290302678688 | I21: 2019 | J21: 12872
A22: 620500 | B22: Gemeente Barendrecht (Gebouwen) | C22: Evertsenstraat | D22: 14 | F22: 2992BG | G22: BARENDRECHT | H22: 871689290302503027 | I22: 2019 | J22: 6571
A23: 620500 | B23: Gemeente Barendrecht (Gebouwen) | C23: Haarspitwei | D23: 7 | E23: gas | F23: 2992ZB | G23: BARENDRECHT | H23: 871689260009521198 | I23: 2019 | J23: 12254
A24: 620500 | B24: Gemeente Barendrecht (Gebouwen) | C24: Hendrikse-akker | D24: 11 | F24: 2994AM | G24: BARENDRECHT | H24: 871689290303383611 | I24: 2019 | J24: 19461
A25: 620500 | B25: Gemeente Barendrecht (Gebouwen) | C25: Hertenburg | D25: 32 | E25: Gas | F25: 2994CC | G25: BARENDRECHT | H25: 871689213000069664 | I25: 2019 | J25: 42166
A26: 620500 | B26: Gemeente Barendrecht (Gebouwen) | C26: Iepenwede | D26: 2 | F26: 2993GD | G26: BARENDRECHT | H26: 871689290302624777 | I26: 2019 | J26: 6906
A27: 620587 | B27: Gemeente Albrandswaard (Gebouwen) | C27: Irenestraat | D27: 2 | E27: A | F27: 3171CG | G27: Poortugaal | H27: 871689290403018147 | I27: 2019 | J27: 3123
A28: 615988 | B28: Gemeente Ridderkerk (Gebouwen) | C28: Koningsplein | D28: 1 | E28: GAS | F28: 2981EA | G28: RIDDERKERK | H28: 871689290302396230 | I28: 2019 | J28: 29110
A29: 620500 | B29: Gemeente Barendrecht (Gebouwen) | C29: Kruidentuin | D29: 8 | E29: A | F29: 2991RK | G29: BARENDRECHT | H29: 871689260009988298 | I29: 2019 | J29: 4247
A30: 620500 | B30: Gemeente Barendrecht (Gebouwen) | C30: Kruidentuin | D30: 6 | F30: 2991RK | G30: BARENDRECHT | H30: 871689260009988304 | I30: 2019 | J30: 8139
A31: 620500 | B31: Gemeente Barendrecht (Gebouwen) | C31: Kruidentuin | D31: 10 | F31: 2991RK | G31: BARENDRECHT | H31: 871689290302656648 | I31: 2019 | J31: 21939
A32: 615988 | B32: Gemeente Ridderkerk (Gebouwen) | C32: Lagendijk | D32: 112 | E32: 41051 | F32: 2981EN | G32: RIDDERKERK | H32: 871689290302944806 | I32: 2019 | J32: 13389
A33: 615988 | B33: Gemeente Ridderkerk (Gebouwen) | C33: Lagendijk | D33: 114 | E33: 41151 | F33: 2981EN | G33: RIDDERKERK | H33: 871689290302944813 | I33: 2019 | J33: 217
A34: 620500 | B34: Gemeente Barendrecht (Gebouwen) | C34: Londen | D34: 15 | E34: gas | F34: 2993LA | G34: BARENDRECHT | H34: 871689290302604595 | I34: 2019 | J34: 36266
A35: 620500 | B35: Gemeente Barendrecht (Gebouwen) | C35: Maasstraat | D35: 31 | F35: 2991AD | G35: BARENDRECHT | H35: 871689290302671474 | I35: 2019 | J35: 494
A36: 620500 | B36: Gemeente Barendrecht (Gebouwen) | C36: Marijkesingel | D36: 20 | F36: 2991BK | G36: BARENDRECHT | H36: 871689260008201077 | I36: 2019 | J36: 29101
A37: 620500 | B37: Gemeente Barendrecht (Gebouwen) | C37: Middeldijkerplein | D37: 7 | F37: 2993DL | G37: BARENDRECHT | H37: 871689290302562314 | I37: 2019 | J37: 37240
A38: 620500 | B38: Gemeente Barendrecht (Gebouwen) | C38: Middeldijkerplein | D38: 1 | F38: 2993DL | G38: Barendrecht | H38: 871689290302562284 | I38: 2019 | J38: 1535
A39: 620500 | B39: Gemeente Barendrecht (Gebouwen) | C39: Middenbaan | D39: 111 | F39: 2991CS | G39: BARENDRECHT | H39: 871689290302676899 | I39: 2019 | J39: 13202
A40: 615988 | B40: Gemeente Ridderkerk (Gebouwen) | C40: Molensteeg | D40: 36 | F40: 2985XM | G40: RIDDERKERK | H40: 871689290302876091 | I40: 2019 | J40: 0
A41: 620587 | B41: Gemeente Albrandswaard (Gebouwen) | C41: Nijverheidsweg | D41: 3 | E41: gas | F41: 3161GJ | G41: RHOON | H41: 871689290403040537 | I41: 2019 | J41: 17942
A42: 615988 | B42: Gemeente Ridderkerk (Gebouwen) | C42: Noordstraat | D42: 56 | F42: 2987CS | G42: RIDDERKERK | H42: 871689290302009024 | I42: 2019 | J42: 4475
A43: 620500 | B43: Gemeente Barendrecht (Gebouwen) | C43: Onderlangs | D43: 11 | F43: 2991EM | G43: BARENDRECHT | H43: 871689290302676066 | I43: 2019 | J43: 1503
A44: 615988 | B44: Gemeente Ridderkerk (Gebouwen) | C44: P C Hooftstraat | D44: 4 | E44: A | F44: 2985BK | G44: RIDDERKERK | H44: 871689290302875865 | I44: 2019 | J44: 14579
A45: 615988 | B45: Gemeente Ridderkerk (Gebouwen) | C45: P.C. Hooftstraat | D45: 2 | E45: 45251 | F45: 2985BK | G45: Ridderkerk | H45: 871689290302944998 | I45: 2019 | J45: 14725
A46: 615988 | B46: Gemeente Ridderkerk (Gebouwen) | C46: Platanenstraat | D46: 6 | F46: 2982CR | G46: RIDDERKERK | H46: 871689290302363133 | I46: 2019 | J46: 21502
A47: 620500 | B47: Gemeente Barendrecht (Gebouwen) | C47: Ploegwei | D47: 3 | E47: Gas | F47: 2992ZC | G47: BARENDRECHT | H47: 871689213001902649 | I47: 2019 | J47: 20169
A48: 620500 | B48: Gemeente Barendrecht (Gebouwen) | C48: Riederhagen | D48: 2 | E48: Gas | F48: 2993XE | G48: BARENDRECHT | H48: 871689290302633090 | I48: 2019 | J48: 11257
A49: 620500 | B49: Gemeente Barendrecht (Gebouwen) | C49: Riederhof | D49: 37 | E49: Gas | F49: 2993XJ | G49: BARENDRECHT | H49: 871689290302633526 | I49: 2019 | J49: 35575
A50: 620587 | B50: Gemeente Albrandswaard (Gebouwen) | C50: Slotsedijk | D50: 159 | F50: 3161PG | G50: RHOON | H50: 871689290403375288 | I50: 2019 | J50: 0
A51: 620587 | B51: Gemeente Albrandswaard (Gebouwen) | C51: Sportlaan | D51: 1 | E51: (gas) | F51: 3161TS | G51: RHOON | H51: 871689290403039470 | I51: 2019 | J51: 3835
A52: 620587 | B52: Gemeente Albrandswaard (Gebouwen) | C52: Stationsstraat | D52: 1 | E52: A | F52: 3161GH | G52: RHOON | H52: 871689290403031863 | I52: 2019 | J52: 15505
A53: 620500 | B53: Gemeente Barendrecht (Gebouwen) | C53: Torenmolen | D53: 66 | F53: 2992DJ | G53: BARENDRECHT | H53: 871689290302524800 | I53: 2019 | J53: 4008
A54: 615988 | B54: Gemeente Ridderkerk (Gebouwen) | C54: Windmolen | D54: 110 | E54: A 4635 | F54: 2986TL | G54: RIDDERKERK | H54: 871689290302944899 | I54: 2019 | J54: 12
A55: 620500 | B55: Gemeente Barendrecht (Gebouwen) | C55: Zuider Carnisseweg | D55: 110 | F55: 2993AZ | G55: BARENDRECHT | H55: 871689290303472124 | I55: 2019 | J55: 4012
A56: Totaal | H56: =SUBTOTAL(103,Table2[EAN_gas]) -> 51 | J56: =SUBTOTAL(109,Table2[Verbruik]) -> 752756

Sheet Verbruik per groep
A1: Bijlage 5: | B1: Overzicht aansluitingen en verbruiken
A2: Toelichting: | B2: Aan de opgegeven soorten en aantallen kunnen geen rechten worden ontleend!
A4: Rijlabels | B4: Som van som verbruik | C4: Som van som teruglevering | D4: cluster | F4: Rijlabels | G4: Som van som verbruik | H4: Som van som teruglevering | I4: cluster
A5: Gemeente Albrandswaard - Verkeer | B5: 1597 | C5: 0 | D5: Voorbereiding en beheer | F5: Gemeente Albrandswaard (Gebouwen) | G5: 395297 | H5: 240228 | I5: Vastgoed
A6: Gemeente Albrandswaard (Gebouwen) | B6: 395297 | C6: 240228 | D6: Vastgoed | F6: Gemeente Barendrecht (Gebouwen) | G6: 2769386 | H6: 23604 | I6: Vastgoed
A7: Gemeente Albrandswaard (Waterhuishoud) | B7: 519341 | C7: 0 | D7: Voorbereiding en beheer | F7: Gemeente Ridderkerk (Gebouwen) | G7: 1858841 | H7: 1646 | I7: Vastgoed
A8: Gemeente Albrandswaard OV | B8: 936762 | C8: 0 | D8: Voorbereiding en beheer | F8: Gemeente Barendrecht - Marktkasten | G8: 70457 | H8: 0 | I8: Veiligheid
A9: Gemeente Barendrecht - Fonteinen | B9: 18324 | C9: 0 | D9: Voorbereiding en beheer | F9: Gemeente Albrandswaard - Verkeer | G9: 1597 | H9: 0 | I9: Voorbereiding en beheer
A10: Gemeente Barendrecht - Marktkasten | B10: 70457 | C10: 0 | D10: Veiligheid | F10: Gemeente Albrandswaard (Waterhuishoud) | G10: 519341 | H10: 0 | I10: Voorbereiding en beheer
A11: Gemeente Barendrecht - VRI | B11: 56113 | C11: 0 | D11: Voorbereiding en beheer | F11: Gemeente Albrandswaard OV | G11: 936762 | H11: 0 | I11: Voorbereiding en beheer
A12: Gemeente Barendrecht (Gebouwen) | B12: 2769386 | C12: 23604 | D12: Vastgoed | F12: Gemeente Barendrecht - Fonteinen | G12: 18324 | H12: 0 | I12: Voorbereiding en beheer
A13: Gemeente Barendrecht (OV) | B13: 2156410 | C13: 0 | D13: Voorbereiding en beheer | F13: Gemeente Barendrecht - VRI | G13: 56113 | H13: 0 | I13: Voorbereiding en beheer
A14: Gemeente Barendrecht (Overig) | B14: 7574 | C14: 0 | F14: Gemeente Barendrecht (OV) | G14: 2156410 | H14: 0 | I14: Voorbereiding en beheer
A15: Gemeente Barendrecht (Waterhuishouding) | B15: 1017727 | C15: 869 | D15: Voorbereiding en beheer | F15: Gemeente Barendrecht (Waterhuishouding) | G15: 1017727 | H15: 869 | I15: Voorbereiding en beheer
A16: Gemeente Ridderkerk - Verkeer | B16: 18129 | C16: 0 | D16: Voorbereiding en beheer | F16: Gemeente Ridderkerk - Verkeer | G16: 18129 | H16: 0 | I16: Voorbereiding en beheer
A17: Gemeente Ridderkerk - Wegen, straten en pleinen | B17: 28543 | C17: 0 | D17: Voorbereiding en beheer | F17: Gemeente Ridderkerk - Wegen, straten en pleinen | G17: 28543 | H17: 0 | I17: Voorbereiding en beheer
A18: Gemeente Ridderkerk (Gebouwen) | B18: 1858841 | C18: 1646 | D18: Vastgoed | F18: Gemeente Ridderkerk (OV) | G18: 1375400 | H18: 0 | I18: Voorbereiding en beheer
A19: Gemeente Ridderkerk (OV) | B19: 1375400 | C19: 0 | D19: Voorbereiding en beheer | F19: Gemeente Ridderkerk Gemalen | G19: 902135 | H19: 0 | I19: Voorbereiding en beheer
A20: Gemeente Ridderkerk Gemalen | B20: 902135 | C20: 0 | D20: Voorbereiding en beheer | F20: Gemeente Ridderkerk VRI | G20: 3032 | H20: 0 | I20: Voorbereiding en beheer
A21: Gemeente Ridderkerk VRI | B21: 3032 | C21: 0 | D21: Voorbereiding en beheer | F21: Gemeente Barendrecht (Overig) | G21: 7574 | H21: 0
A22: Eindtotaal | B22: 12135068 | C22: 266347 | F22: Totaal | G22: =SUBTOTAL(109,Tabel3[Som van som verbruik]) -> 12135068 | H22: =SUBTOTAL(109,Tabel3[Som van som teruglevering]) -> 266347
A24: Openbare Verlichting | D24: Totaal
A25: Gemeente Barendrecht (OV) | B25: 2156410 | C25: 0
A26: Gemeente Albrandswaard OV | B26: 936762 | C26: 0
A27: Gemeente Ridderkerk (OV) | B27: 1375400 | C27: 0 | D27: =SUM(B25:B27) -> 4468572
A29: Waterhuishouding | D29: Totaal
A30: Gemeente Albrandswaard (Waterhuishoud) | B30: 519341 | C30: 0
A31: Gemeente Barendrecht (Waterhuishouding) | B31: 1017727 | C31: 869
A32: Gemeente Ridderkerk Gemalen | B32: 902135 | C32: 0 | D32: b
A34: Vastgoed | D34: Totaal
A35: Gemeente Albrandswaard (Gebouwen) | B35: 395297 | C35: 240228
A36: Gemeente Barendrecht (Gebouwen) | B36: 2769386 | C36: 23604
A37: Gemeente Ridderkerk (Gebouwen) | B37: 1858841 | C37: 1646 | D37: =SUM(B35:B37)-C35-C36-C37 -> 4758046
A39: Verkeer | D39: Totaal
A40: Gemeente Ridderkerk - Verkeer | B40: 18129 | C40: 0
A41: Gemeente Ridderkerk - Wegen, straten en pleinen | B41: 28543 | C41: 0
A42: Gemeente Ridderkerk VRI | B42: 3032 | C42: 0
A43: Gemeente Barendrecht - VRI | B43: 56113 | C43: 0
A44: Gemeente Albrandswaard - Verkeer | B44: 1597 | C44: 0 | D44: =SUM(B40:B44) -> 107414
A46: Overig | D46: Totaal
A47: Gemeente Barendrecht - Marktkasten | B47: 70457 | C47: 0
A48: Gemeente Barendrecht - Fonteinen | B48: 18324 | C48: 0
A49: Gemeente Barendrecht (Overig) | B49: 7574 | C49: 0 | D49: =SUM(B47:B49) -> 96355

Sheet Gasverbruik per gemeente
A1: Bijlage 5: | B1: Overzicht aansluitingen en verbruiken
A2: Toelichting: | B2: Aan de opgegeven soorten en aantallen kunnen geen rechten worden ontleend!
A4: Rijlabels | B4: Som van Verbruik
A5: Gemeente Albrandswaard (Gebouwen) | B5: 158812
A6: Gemeente Barendrecht (Gebouwen) | B6: 477743
A7: Gemeente Ridderkerk (Gebouwen) | B7: 116201
A8: Eindtotaal | B8: 752756
