Workbook

Sheet Coel compleet
A1: ElementID | B1: Objectreferentie | C1: Adres | D1: Postcode | E1: Plaats | F1: BVO | G1: Elementcode | H1: Discipline | I1: Volgnummer | J1: Element omschrijving | K1: Fabrikaat | L1: Type | M1: Omvang/capaciteit | N1: Dimensie | O1: Aantal/Hoeveelheid | P1: Bouwjaar | Q1: Lokatie | R1: Perceelcode | S1: Toelichting (wordt dagelijks bijgewerkt) | T1: Contract periode | U1: Aanneemsom exkl. BTW | V1: Geldig tot
A2: a785fd92-3215-4e40-83a5-78d25052af75 | B2: 100055G01 | C2: Berg en Dalseweg 287 | D2: 6522CH | E2: Nijmegen | F2: 17768 | G2: 240800 | H2: BE | I2: 1 | J2: Ladders en klimijzers buiten | N2: [geen] | O2: 1 | P2: 2017 | R2: OVDR 17.173-349925 | S2: 33.00.66-00 1 st logboek; 33.20.61-00 2 st ladder opstelplaats; 33.20.62-00 3 st ladders; 33.20.62-62 3 st gevelladders opgelgelegd; | T2: 3-4-2017-1-4-2022 | V2: =VLOOKUP(B2,Verplichtingen!A:N,14,FALSE) -> 44491
A3: 50e8466b-e17e-4983-933e-8d22f57834aa | B3: 100055G01 | C3: Berg en Dalseweg 287 | D3: 6522CH | E3: Nijmegen | F3: 17768 | G3: 472300 | H3: BE | I3: 1 | J3: Valbeveiligingen | N3: [geen] | O3: 1 | P3: 2017 | R3: OVDR 17.173-349925 | S3: 33.40.23-00 2 st dakplan; 33.40.86-00 1 st pictogram; 33.50.81-00 2 st op en afstapvoorziening; 33.60.21-85 2 st dakankerpunt op staal; 33.60.42-62 9 st hekwerk los opgelegd; 33.60.63-08 62 m lijnbeveiliging op massief beton. | T3: 3-4-2017-1-4-2022 | V3: =VLOOKUP(B3,Verplichtingen!A:N,14,FALSE) -> 44491
A4: a4f13bb1-2bc0-46f0-a8fd-9ba06333b48f | B4: 100175G01 | C4: Karel de Grotelaan 4 | D4: 5616CA | E4: Eindhoven | F4: 1610 | G4: 240800 | H4: BE | I4: 1 | J4: Ladders en klimijzers buiten | N4: [geen] | O4: 1 | P4: 2016 | R4: OVDR 17.173-349925 | S4: 33.20.62-00 1 st. Gevelladder. | T4: 3-4-2017-1-4-2022 | V4: =VLOOKUP(B4,Verplichtingen!A:N,14,FALSE) -> 44874
A5: f5d25941-aea6-492e-913c-8802fa67b106 | B5: 100175G01 | C5: Karel de Grotelaan 4 | D5: 5616CA | E5: Eindhoven | F5: 1610 | G5: 472300 | H5: BE | I5: 1 | J5: Valbeveiligingen | N5: [geen] | O5: 1 | P5: 2016 | Q5: Dak | R5: OVDR 17.173-349925 | S5: 33.00.66-00 1 Logboek; 33.60.63-35 1 st. lijnbeveiliging op hout of lichtbeton van 56 mtr met 8 ankers; 33.60.42-62 1 st. hekwerk los oplegbaar (4,5 mtr). | T5: 3-4-2017-1-4-2022 | V5: =VLOOKUP(B5,Verplichtingen!A:N,14,FALSE) -> 44874
A6: 5df257c8-912a-4d84-bc2e-2fe41757b3b6 | B6: 100175G02 | C6: Karel de Grotelaan 4 | D6: 5616CA | E6: Eindhoven | F6: 16479 | G6: 240800 | H6: BE | I6: 1 | J6: Ladders en klimijzers buiten | N6: [geen] | O6: 1 | P6: 2016 | R6: OVDR 17.173-349925 | S6: 33.20.56-95 1 st. Kooiladder vast verankerd. | T6: 3-4-2017-1-4-2022 | V6: =VLOOKUP(B6,Verplichtingen!A:N,14,FALSE) -> 44509
A7: 8e6e08ee-45fb-43e1-8c73-86206a1b35d4 | B7: 100175G02 | C7: Karel de Grotelaan 4 | D7: 5616CA | E7: Eindhoven | F7: 16479 | G7: 472300 | H7: BE | I7: 1 | J7: Valbeveiligingen | N7: [geen] | O7: 1 | P7: 2016 | Q7: Dak | R7: OVDR 17.173-349925 | S7: 33.00.66-00 1 Logboek; 33.60.63-35 2 st lijnbeveiliging op hout of lichtbeton van 184 mtr met 25 ankers. | T7: 3-4-2017-1-4-2022 | V7: =VLOOKUP(B7,Verplichtingen!A:N,14,FALSE) -> 44509
A8: 4e14b2c7-4250-4924-8733-43cc6654a759 | B8: 100175G03 | C8: Karel de Grotelaan 4 | D8: 5616CA | E8: Eindhoven | F8: 12216 | G8: 240800 | H8: BE | I8: 1 | J8: Ladders en klimijzers buiten | N8: [geen] | O8: 1 | P8: 2016 | R8: OVDR 17.173-349925 | S8: 3.20.61-00 1 st. Ladder opstelplaats; 33.20.61-00 1 st. Ladder opstelplaats (ladder); 33.20.61-00 1 st. Ladder opstelplaats (bordestrap); 33.20.62-00 1 st. Gevelladder. | T8: 3-4-2017-1-4-2022 | V8: =VLOOKUP(B8,Verplichtingen!A:N,14,FALSE) -> 44509
A9: 1b96ff10-6b04-4bb7-8184-5cd3fecd5f59 | B9: 100175G03 | C9: Karel de Grotelaan 4 | D9: 5616CA | E9: Eindhoven | F9: 12216 | G9: 472300 | H9: BE | I9: 1 | J9: Valbeveiligingen | N9: [geen] | O9: 1 | P9: 2016 | Q9: Dak | R9: OVDR 17.173-349925 | S9: 33.00.66-00 1 Logboek; 33.60.63-35 2 st. lijnbeveiliging op hout of lichtbeton van 40 mtr met 6 ankers; 33.60.63-35 2 st. lijnbeveiliging op hout of lichtbeton van 8 mtr met 2 ankers; 33.60.63-35 1 st. lijnbeveiliging op hout of lichtbeton van 24 mtr met 4 ankers; 33.60.63-35 1 st. lijnbeveiliging op hout of lichtbeton van 96 mtr met 13 ankers; 33.60.63-35 1 st. lijnbeveiliging op hout of lichtbeton van 104 mtr met 14 ankers; 33.60.63-35 2 st. lijnbeveiliging op hout of lichtbeton van 32 mtr met 5 ankers; 33.60.21-35 4 st. ankerinrichting op hout of lichtbeton; 33.60.71-00 1 st. Muurankerpunt; 33.60.42-62 1 st. hekwerk los oplegbaar (45,5 mtr). | T9: 3-4-2017-1-4-2022 | V9: =VLOOKUP(B9,Verplichtingen!A:N,14,FALSE) -> 44509
A10: 514b2aff-5548-46dd-a7aa-d6b9acc6133d | B10: 100177G01 | C10: Muntlaan 1 | D10: 5361ME | E10: Grave | F10: 11823 | G10: 240800 | H10: BE | I10: 3 | J10: Ladders en klimijzers buiten | N10: [geen] | O10: 1 | P10: 2018 | R10: OVDR 17.173-349925 | S10: 33.20.62-00: 6 st Gevelladder33.20.56-95: 7 st Kooiladder | T10: 3-4-2017-1-4-2022 | V10: =VLOOKUP(B10,Verplichtingen!A:N,14,FALSE) -> 44663
A11: 6f0e3b2c-549e-4143-9c24-6cfc455cf497 | B11: 100177G01 | C11: Muntlaan 1 | D11: 5361ME | E11: Grave | F11: 11823 | G11: 472300 | H11: BE | I11: 1 | J11: Valbeveiligingen | N11: [geen] | O11: 1 | P11: 2016 | R11: OVDR 17.173-349925 | S11: 33.00.66-00 1 st. Logboek; 19 33.60.63-10 Systeem voor Remvable Transfastener; 470 RVS kabel 8mm konstr. 7x7; 101 CFP for Bitumen / EPD; 5 CPP fpr Bitumen / EPDM vrijstaand (incl. D-ring). | T11: 3-4-2017-1-4-2022 | V11: =VLOOKUP(B11,Verplichtingen!A:N,14,FALSE) -> 44663
A12: 21e528c5-fd31-4153-9548-a53d2373991c | B12: 100177G02 | C12: Muntlaan 1 | D12: 5361ME | E12: Grave | F12: 1557 | G12: 240800 | H12: BE | I12: 1 | J12: Ladders en klimijzers buiten | N12: [geen] | O12: 1 | P12: 2016 | R12: OVDR 17.173-349925 | S12: 33.20.62-00 7 st. Gevelladder; 33.20.56-95 1 st. Kooiladder vast verankerd. | T12: 3-4-2017-1-4-2022 | V12: =VLOOKUP(B12,Verplichtingen!A:N,14,FALSE) -> 44660
A13: 9de08d30-1064-413a-9241-f790c5da95b4 | B13: 100177G02 | C13: Muntlaan 1 | D13: 5361ME | E13: Grave | F13: 1557 | G13: 472300 | H13: BE | I13: 1 | J13: Valbeveiligingen | N13: [geen] | O13: 1 | P13: 2015 | Q13: Dak | R13: OVDR 17.173-349925 | S13: 33.00.66-00 1 st. Logboek; 33.6063-35 3 systeem voor Removable Transfastener; 142 RVS kabel 8 mm konstr. 7x7; 25 CFP for Bitumen / EPDM. | T13: 3-4-2017-1-4-2022 | V13: =VLOOKUP(B13,Verplichtingen!A:N,14,FALSE) -> 44660
A14: cc075537-fe4a-4413-b1ee-8fc0ed4ddee1 | B14: 100177G03 | C14: Muntlaan 1 | D14: 5361ME | E14: Grave | F14: 6605 | G14: 240800 | H14: BE | I14: 1 | J14: Ladders en klimijzers buiten | N14: [geen] | O14: 1 | P14: 2016 | R14: OVDR 17.173-349925 | S14: 33.20.62-00 3 st. Gevelladder; 33.20.56-95 2 st. Kooiladder vast verankerd. | T14: 3-4-2017-1-4-2022 | V14: =VLOOKUP(B14,Verplichtingen!A:N,14,FALSE) -> 44660
A15: a64f4f1b-1c76-4055-b813-7093a17bc16d | B15: 100177G03 | C15: Muntlaan 1 | D15: 5361ME | E15: Grave | F15: 6605 | G15: 472300 | H15: BE | I15: 1 | J15: Valbeveiligingen | N15: [geen] | O15: 1 | P15: 2015 | Q15: Dak | R15: OVDR 17.173-349925 | S15: 33.00.66-00 1 st. Logboek; 7 Systeem voor Removable Transfastener; 477 RVS kabel 8 mm konstr. 7x7; 83 CFP for Bitumen / EPDM; 4 CFP for Bitumen / EPDM | T15: 3-4-2017-1-4-2022 | V15: =VLOOKUP(B15,Verplichtingen!A:N,14,FALSE) -> 44660
A16: 0e03499b-8f6a-470d-b91f-97231bfe1c78 | B16: 100179G01 | C16: Patersstraat 4 | D16: 5977NM | E16: Evertsoord | F16: 3247 | G16: 240800 | H16: BE | I16: 1 | J16: Ladders en klimijzers buiten | N16: [geen] | O16: 1 | P16: 2017 | Q16: Gevel | R16: OVDR 17.173-349925 | S16: 1 st. Ladderopstelplaats | T16: 3-4-2017-1-4-2022 | V16: =VLOOKUP(B16,Verplichtingen!A:N,14,FALSE) -> 44503
A17: 4d7604cd-705f-461a-a660-f9514887e3b9 | B17: 100179G01 | C17: Patersstraat 4 | D17: 5977NM | E17: Evertsoord | F17: 3247 | G17: 472300 | H17: BE | I17: 1 | J17: Valbeveiligingen | K17: Lachtways | N17: [geen] | O17: 1 | P17: 2016 | R17: OVDR 17.173-349925 | S17: 33.00.66-00 1 st logboek; 33.60.21-85 1 st Ankerinrichting op staal; 33.60.63-85 8 st Lijnbeveiliging op staal; 33.50.98-00 1 st Vastzetinrichting luik; 33.40.86-00 7 st Pictogram; 33.40.36-00 8 st Gebiedsmarkering; 33.40.23-00 2 st dak plattegrond | T17: 3-4-2017-1-4-2022 | V17: =VLOOKUP(B17,Verplichtingen!A:N,14,FALSE) -> 44503
A18: d68872e5-31a6-4c16-a2b9-87586635e226 | B18: 100179G03 | C18: Patersstraat 4 | D18: 5977NM | E18: Evertsoord | F18: 766 | G18: 240800 | H18: BE | I18: 1 | J18: Ladders en klimijzers buiten | K18: Latchways | N18: [geen] | O18: 1 | P18: 2016 | R18: OVDR 17.173-349925 | S18: 33.00.66-00 2 st logboek; 33.20.61-00 2 st Ladder opstelplaats. | T18: 3-4-2017-1-4-2022 | V18: =VLOOKUP(B18,Verplichtingen!A:N,14,FALSE) -> 44503
A19: e6da3260-14c8-45f3-a9a7-236d2c224f84 | B19: 100179G03 | C19: Patersstraat 4 | D19: 5977NM | E19: Evertsoord | F19: 766 | G19: 472300 | H19: BE | I19: 1 | J19: Valbeveiligingen | K19: Latchways | N19: [geen] | O19: 1 | P19: 2016 | R19: OVDR 17.173-349925 | S19: 33.00.66-00 1 st logboek; 33.60.21-35 1 st Ankerinrichting op hout of lichtbeton; 33.60.63-35 3 st Lijnbeveiliging op hout of lichtbeton; 33.60.28-00 2 st Doorvalbeveiliging; 33.50.64-95 1 st Loopbrug vast verankerd; 33.50.50-83 2 st Lichtkoepel of -straat; 33.40.86-00 1 st Pictogram; 33.60.93-00 3 st Looppadtegels op dakvlak; 33.40.23-00 1 st dak plattegrond; 33.40.36-00 20 st gebiedsmarkering; 33.60.42-62 4m hekwerk los oplegbaar. | T19: 3-4-2017-1-4-2022 | V19: =VLOOKUP(B19,Verplichtingen!A:N,14,FALSE) -> 44503
A20: aa4353ed-3900-41ea-b5ca-427d8e4915ac | B20: 100179G07 | C20: Patersstraat 4 | D20: 5977NM | E20: Evertsoord | F20: 7695 | G20: 240800 | H20: BE | I20: 1 | J20: Ladders en klimijzers buiten | K20: Dirks | N20: [geen] | O20: 1 | P20: 2016 | R20: OVDR 17.173-349925 | S20: 33.00.66-00 1 st logboek; 33.20.61-00 2 st Ladder opstelplaats; 33.20.62-00 1 st gevelladder. | T20: 3-4-2017-1-4-2022 | V20: =VLOOKUP(B20,Verplichtingen!A:N,14,FALSE) -> 44503
A21: 1370eb64-8377-4295-8c5a-dda52c02604a | B21: 100179G07 | C21: Patersstraat 4 | D21: 5977NM | E21: Evertsoord | F21: 7695 | G21: 472300 | H21: BE | I21: 1 | J21: Valbeveiligingen | K21: Latchways | N21: [geen] | O21: 1 | P21: 2016 | R21: OVDR 17.173-349925 | S21: 33.00.66-00 1 st logboek; 33.60.63-08 4 st Lijnbeveiliging op massief beton; 33.60.63-35 5 st Lijnbeveiliging op hout of lichtbeton; 33.50.50-83 2 st Lichtkoepel of -straat; 33.60.91-00 1 st Looppadrooster op dakvlak; 33.60.93-00 6 st Looppadtegels op dakvlak; 33.30.41-00 4 st harnas; 33.30.99-31 4 st Werklijn flexibel instelbaar; 33.30.65-58 6 st Loopwagen voor lijnbeveiliging. | T21: 3-4-2017-1-4-2022 | V21: =VLOOKUP(B21,Verplichtingen!A:N,14,FALSE) -> 44503
A22: 73db9563-cd10-43f3-a26a-558ff403d3c2 | B22: 100184G01 | C22: Leeghwaterlaan 8 | D22: 5223BA | E22: s-Hertogenbosch | F22: 42233 | G22: 240800 | H22: BE | I22: 1 | J22: Ladders en klimijzers buiten | K22: Altrex | L22: Rocky DR 2*14 treden | M22: 2 | N22: [geen] | O22: 4 | P22: 2010 | Q22: DAK A-B | R22: OVDR 17.173-349925 | S22: 2 stuks Altrex ladders op tussendak A-B; type Rocky DR 2*14 treden; 21,5 kg; Lmin 4,18 m; Lmax 6,98 m | T22: 3-4-2017-1-4-2022 | V22: =VLOOKUP(B22,Verplichtingen!A:N,14,FALSE) -> #N/A
A23: a541360d-343e-4b61-8a26-3f4cce8e8559 | B23: 100184G01 | C23: Leeghwaterlaan 8 | D23: 5223BA | E23: s-Hertogenbosch | F23: 42233 | G23: 472300 | H23: BE | I23: 1 | J23: Valbeveiligingen | N23: [geen] | O23: 1 | P23: 2019 | R23: OVDR 17.173-349925 | S23: ..m rails, ..m kabel, ..st borgingspuntenBC-PvJNiet nader berekend. | T23: 3-4-2017-1-4-2022 | V23: =VLOOKUP(B23,Verplichtingen!A:N,14,FALSE) -> #N/A
A24: 2a151e7e-14da-4a92-837f-8bc2c0fcd250 | B24: 100185G01 | C24: Nergena 3 | D24: 5282JE | E24: Boxtel | F24: 454 | G24: 240800 | H24: BE | I24: 1 | J24: Ladders en klimijzers buiten | N24: [geen] | O24: 1 | P24: 2017 | R24: OVDR 17.173-349925 | S24: 33.00.66-00 1 st logboek; 33.20.61-00 4 st ladder opstelplaats; 33.20.62-00 4 st ladders; 33.20.62-62 2 st gevelladder los opgelegd. | T24: 3-4-2017-1-4-2022 | V24: =VLOOKUP(B24,Verplichtingen!A:N,14,FALSE) -> 44475
A25: 49d47828-6ff4-4f0c-a88d-5b90ae329769 | B25: 100185G01 | C25: Nergena 3 | D25: 5282JE | E25: Boxtel | F25: 454 | G25: 472300 | H25: BE | I25: 1 | J25: Valbeveiligingen | N25: [geen] | O25: 1 | P25: 2017 | R25: OVDR 17.173-349925 | S25: 33.30.41-00 2 st harnas; 33.30.65.58 2 st loopwagen voor lijnbeveiliging; 33.30.99-31 2 st werklijn flexibel instelbaar; 33.40.23-00 2 st dakplan; 33.40.36-00 36 st gebiedsmarkering; 33.60.28-00 12 st doorvalbeveiliging; 33.60.63-35 76 st lijnbeveiliging op hout of lichtbeton; 33.60.93-00 2,4 looppad tegels; 33.60.71-00 2 st muurankerpunt; 33.40.86-00 25 st pictogram | T25: 3-4-2017-1-4-2022 | V25: =VLOOKUP(B25,Verplichtingen!A:N,14,FALSE) -> 44475
A26: 0f127acf-124b-43b4-86f1-3b11bd61673d | B26: 100189G02 | C26: Sint Pieterstraat 7 | D26: 6211JM | E26: Maastricht | F26: 8068 | G26: 240800 | H26: BE | I26: 1 | J26: Ladders en klimijzers buiten | N26: [geen] | O26: 1 | P26: 2017 | Q26: - | R26: OVDR 17.173-349925 | S26: 33.00.66-00 1 st logboek; 33.20.61-00 1 st ladder opstelplaats; 33.20.62-00 3,5 st gevelladder. | T26: 3-4-2017-1-4-2022 | V26: =VLOOKUP(B26,Verplichtingen!A:N,14,FALSE) -> 44476
A27: 64d5a7ca-d904-4456-9a0c-91c80dc84381 | B27: 100189G02 | C27: Sint Pieterstraat 7 | D27: 6211JM | E27: Maastricht | F27: 8068 | G27: 472300 | H27: BE | I27: 1 | J27: Valbeveiligingen | N27: [geen] | O27: 1 | P27: 2017 | Q27: - | R27: OVDR 17.173-349925 | S27: 33.30.41-00 2 st harnas; 33.30.65.58 2 st. loopwagen voor lijnbeveiliging; 33.30.99-31 2 st werklijn flexibel instelbaar; 33.40.23-00 3 st dakplan; 33.50.97-00 1 st vastzetinrichting deur; 33.60.21-85 4 st dakankerpunt op staal; 33.60.28-00 1 st doorvalbeveiliging; 33.60.42-95 2,5 m hekwerk vast verankerd; 33.60.63-35 16 m lijnbeveiliging op hout of lichtbeton; 33.60.63-85 21 m lijnbeveiliging op staal. | T27: 3-4-2017-1-4-2022 | V27: =VLOOKUP(B27,Verplichtingen!A:N,14,FALSE) -> 44476
A28: c2d1988d-3036-4e68-83bb-1da0a77e4666 | B28: 100191G01 | C28: Lunettenlaan 501 | D28: 5263NT | E28: Vught | F28: 3070 | G28: 240800 | H28: BE | I28: 1 | J28: Ladders en klimijzers buiten | N28: [geen] | O28: 1 | P28: 2020 | R28: OVDR 17.173-349925 | S28: 33.20.62-00: 2st. gevelladder 33.20.61-00 2 st Ladder opstelplaats | T28: 3-4-2017-1-4-2022 | V28: =VLOOKUP(B28,Verplichtingen!A:N,14,FALSE) -> 44621
A29: c740dfcd-8189-40da-942d-ff0e0940ca3e | B29: 100191G01 | C29: Lunettenlaan 501 | D29: 5263NT | E29: Vught | F29: 3070 | G29: 472300 | H29: BE | I29: 1 | J29: Valbeveiligingen | N29: [geen] | O29: 1 | P29: 2019 | R29: OVDR 17.173-349925 | S29: 33.60.21-35: 3st Pendule Anker 33.60.63-35: 8st Lijnsysteem 45 ankerpunten 33.60.93-00: 18 st Looppadtegels | T29: 3-4-2017-1-4-2022 | V29: =VLOOKUP(B29,Verplichtingen!A:N,14,FALSE) -> 44621
A30: 69066a87-8d3b-4c6e-bf97-c136bbe861ee | B30: 100191G02 | C30: Lunettenlaan 501 | D30: 5263NT | E30: Vught | F30: 6711 | G30: 240800 | H30: BE | I30: 1 | J30: Ladders en klimijzers buiten | N30: [geen] | O30: 1 | P30: 2020 | R30: OVDR 17.173-349925 | T30: 3-4-2017-1-4-2022 | V30: =VLOOKUP(B30,Verplichtingen!A:N,14,FALSE) -> 43915
A31: 82bbb697-75cf-4591-bff7-1a7f203ff5e5 | B31: 100191G02 | C31: Lunettenlaan 501 | D31: 5263NT | E31: Vught | F31: 6711 | G31: 472300 | H31: BE | I31: 1 | J31: Valbeveiligingen | N31: [geen] | O31: 1 | P31: 2019 | R31: OVDR 17.173-349925 | S31: ..m rails, ..m kabel, ..st borgingspunten | T31: 3-4-2017-1-4-2022 | V31: =VLOOKUP(B31,Verplichtingen!A:N,14,FALSE) -> 43915
A32: 909c387a-59d9-48b9-bd92-649c76fe01fd | B32: 100191G03 | C32: Lunettenlaan 501 | D32: 5263NT | E32: Vught | F32: 5138 | G32: 240800 | H32: BE | I32: 1 | J32: Ladders en klimijzers buiten | N32: [geen] | O32: 1 | P32: 2019 | R32: OVDR 17.173-349925 | S32: 33.20.62-00: 1st opstapbordes | T32: 3-4-2017-1-4-2022 | V32: =VLOOKUP(B32,Verplichtingen!A:N,14,FALSE) -> 44628
A33: 84e6bcd4-e6b6-4717-ad9a-646d1c7ce222 | B33: 100191G03 | C33: Lunettenlaan 501 | D33: 5263NT | E33: Vught | F33: 5138 | G33: 472300 | H33: BE | I33: 1 | J33: Valbeveiligingen | N33: [geen] | O33: 1 | P33: 2007 | R33: OVDR 17.173-349925 | S33: 33.60.21-35 4st Pendule Anker 33.60.63-35: 7 st Lijnsysteem 73 ankerpunten33.60.93-00: 12st Looppadtegels 33.60.25-00: 4 st Doorvalbeveiliging33.60.42-62: 9st Hekwerk | T33: 3-4-2017-1-4-2022 | V33: =VLOOKUP(B33,Verplichtingen!A:N,14,FALSE) -> 44628
A34: 5b1a9a3b-4563-4251-88d4-b15068973923 | B34: 100191G04 | C34: Lunettenlaan 501 | D34: 5263NT | E34: Vught | F34: 4371 | G34: 240800 | H34: BE | I34: 1 | J34: Ladders en klimijzers buiten | N34: [geen] | O34: 1 | P34: 2020 | R34: OVDR 17.173-349925 | S34: 33.20.95-01: 3st Opstapbordes | T34: 3-4-2017-1-4-2022 | V34: =VLOOKUP(B34,Verplichtingen!A:N,14,FALSE) -> 44635
A35: 1574014b-13f6-4d9a-b6f0-b1d5b3aec288 | B35: 100191G04 | C35: Lunettenlaan 501 | D35: 5263NT | E35: Vught | F35: 4371 | G35: 472300 | H35: BE | I35: 1 | J35: Valbeveiligingen | N35: [geen] | O35: 1 | P35: 2011 | R35: OVDR 17.173-349925 | S35: 33.60.63-35: 10st Lijnsystemen 56st Ankerpunten33.60.93-00: 14st Looppadtegels | T35: 3-4-2017-1-4-2022 | V35: =VLOOKUP(B35,Verplichtingen!A:N,14,FALSE) -> 44635
A36: d61cf740-9b0c-44f6-a833-10ac95ace44b | B36: 100191G05 | C36: Lunettenlaan 501 | D36: 5263NT | E36: Vught | F36: 1699 | G36: 240800 | H36: BE | I36: 1 | J36: Ladders en klimijzers buiten | N36: [geen] | O36: 1 | P36: 2020 | R36: OVDR 17.173-349925 | S36: 33.20.61-00: 2 st Ladderopstelplaats | T36: 3-4-2017-1-4-2022 | V36: =VLOOKUP(B36,Verplichtingen!A:N,14,FALSE) -> 44625
A37: 04c396bc-36e3-40a6-b5cc-d0dbe87d503d | B37: 100191G05 | C37: Lunettenlaan 501 | D37: 5263NT | E37: Vught | F37: 1699 | G37: 472300 | H37: BE | I37: 1 | J37: Valbeveiligingen | N37: [geen] | O37: 1 | P37: 2011 | R37: OVDR 17.173-349925 | S37: 33.60.21.35: 3st Lijnsystemen 32st Ankerpunten33.60.93-00: 8st Looppadtegels | T37: 3-4-2017-1-4-2022 | V37: =VLOOKUP(B37,Verplichtingen!A:N,14,FALSE) -> 44625
A38: d0481e46-4c81-424d-81c1-13194e987b53 | B38: 100191G06 | C38: Lunettenlaan 501 | D38: 5263NT | E38: Vught | F38: 2401 | G38: 240800 | H38: BE | I38: 1 | J38: Ladders en klimijzers buiten | N38: [geen] | O38: 1 | P38: 2019 | R38: OVDR 17.173-349925 | S38: 33.20.61-00: 3st Ladderopstelplaats | T38: 3-4-2017-1-4-2022 | V38: =VLOOKUP(B38,Verplichtingen!A:N,14,FALSE) -> 44625
A39: ff0f252a-b803-4c7a-a80c-9586de31c4fe | B39: 100191G06 | C39: Lunettenlaan 501 | D39: 5263NT | E39: Vught | F39: 2401 | G39: 472300 | H39: BE | I39: 1 | J39: Valbeveiligingen | N39: [geen] | O39: 1 | P39: 2019 | R39: OVDR 17.173-349925 | S39: 33.60.63-35: 3st Lijnsystemen 32 Ankerpunten 33.60.42-62 2st Hekwerk33.60.93-00: 6st Looppadtegels 33.60.28-00: 6st Doorvalbeveiliging33.60.21-35: 1st Pendule Anker | T39: 3-4-2017-1-4-2022 | V39: =VLOOKUP(B39,Verplichtingen!A:N,14,FALSE) -> 44625
A40: d558f36b-a5fa-4ccf-8b9b-38d98434ad7a | B40: 100191G07 | C40: Lunettenlaan 501 | D40: 5263NT | E40: Vught | F40: 7142 | G40: 240800 | H40: BE | I40: 1 | J40: Ladders en klimijzers buiten | N40: [geen] | O40: 1 | P40: 2020 | R40: OVDR 17.173-349925 | S40: 33.20.62-00: 1st Gevelladder | T40: 3-4-2017-1-4-2022 | V40: =VLOOKUP(B40,Verplichtingen!A:N,14,FALSE) -> 44628
A41: 390c626e-54ac-49c1-9ac4-5fddf76eb3bb | B41: 100191G07 | C41: Lunettenlaan 501 | D41: 5263NT | E41: Vught | F41: 7142 | G41: 472300 | H41: BE | I41: 1 | J41: Valbeveiligingen | N41: [geen] | O41: 1 | P41: 2011 | R41: OVDR 17.173-349925 | S41: 33.60.63-35: 18st Lijnsystemen 135 Ankerpunten 33.60.93-00: 38st Looppadtegels33.60.21-35: 14st Penduleankers 33.60.42-62: 4st Hekwerk | T41: 3-4-2017-1-4-2022 | V41: =VLOOKUP(B41,Verplichtingen!A:N,14,FALSE) -> 44628
A42: d7f5f190-9078-4701-95c1-a2d511e5e92c | B42: 100191G08 | C42: Lunettenlaan 501 | D42: 5263NT | E42: Vught | F42: 2806 | G42: 240800 | H42: BE | I42: 1 | J42: Ladders en klimijzers buiten | N42: [geen] | O42: 1 | P42: 2019 | R42: OVDR 17.173-349925 | S42: 33.20.62-00: 2 st Gevelladder | T42: 3-4-2017-1-4-2022 | V42: =VLOOKUP(B42,Verplichtingen!A:N,14,FALSE) -> 44624
... A46: ee2c2704-2b64-436c-954f-c9fdda6d8250 | B46: 100191G10 | C46: Lunettenlaan 501 | D46: 5263NT | E46: Vught | F46: 741 | G46: 240800 | H46: BE | I46: 1 | J46: Ladders en klimijzers buiten | N46: [geen] | O46: 1 | P46: 2019 | R46: OVDR 17.173-349925 | S46: 33.20.61-00: 1st Ladderopstelplaats | T46: 3-4-2017-1-4-2022 | V46: =VLOOKUP(B46,Verplichtingen!A:N,14,FALSE) -> 44624
A47: 10aeed27-7f80-4b70-a610-75acbe2534da | B47: 100191G10 | C47: Lunettenlaan 501 | D47: 5263NT | E47: Vught | F47: 741 | G47: 472300 | H47: BE | I47: 1 | J47: Valbeveiligingen | N47: [geen] | O47: 1 | P47: 2019 | R47: OVDR 17.173-349925 | T47: 3-4-2017-1-4-2022 | V47: =VLOOKUP(B47,Verplichtingen!A:N,14,FALSE) -> 44624
A48: 43970d7c-95b0-4c43-8f86-74bc193558ac | B48: 100191G11 | C48: Lunettenlaan 501 | D48: 5263NT | E48: Vught | F48: 1570 | G48: 240800 | H48: BE | I48: 1 | J48: Ladders en klimijzers buiten | N48: [geen] | O48: 1 | P48: 2020 | R48: OVDR 17.173-349925 | S48: 33.20.61-00: 1st Ladderopstelplaats | T48: 3-4-2017-1-4-2022 | V48: =VLOOKUP(B48,Verplichtingen!A:N,14,FALSE) -> 44624
A49: d0db9e87-03d8-4b8e-b82a-6871a3008a32 | B49: 100191G11 | C49: Lunettenlaan 501 | D49: 5263NT | E49: Vught | F49: 1570 | G49: 472300 | H49: BE | I49: 1 | J49: Valbeveiligingen | N49: [geen] | O49: 1 | P49: 2019 | R49: OVDR 17.173-349925 | S49: 33.60.21-35: 3st Lijnsystemen 38st Ankerpunten33.60.93.00: 4st Looppadtegels | T49: 3-4-2017-1-4-2022 | V49: =VLOOKUP(B49,Verplichtingen!A:N,14,FALSE) -> 44624
A50: 9fe325a7-07a6-4024-9d26-9d7311d1e42a | B50: 100191G12 | C50: Lunettenlaan 501 | D50: 5263NT | E50: Vught | F50: 2669 | G50: 240800 | H50: BE | I50: 1 | J50: Ladders en klimijzers buiten | N50: [geen] | O50: 1 | P50: 2020 | R50: OVDR 17.173-349925 | S50: 33.20.62-00: 2st Gevelladder | T50: 3-4-2017-1-4-2022 | V50: =VLOOKUP(B50,Verplichtingen!A:N,14,FALSE) -> 44625
A51: 42f58db9-ec12-4050-9cd3-e6babaf8730d | B51: 100191G12 | C51: Lunettenlaan 501 | D51: 5263NT | E51: Vught | F51: 2669 | G51: 472300 | H51: BE | I51: 1 | J51: Valbeveiligingen | N51: [geen] | O51: 1 | P51: 2019 | R51: OVDR 17.173-349925 | S51: 33.60.63-35: 11st Lijnsystemen 51st Ankerpunten33.60.42-62: 1 st Hekwerk33.60.93-00: 19st Looppadtegels33.60.21-35: 1st Pendule Anker | T51: 3-4-2017-1-4-2022 | V51: =VLOOKUP(B51,Verplichtingen!A:N,14,FALSE) -> 44625
A52: 47c5e782-dd31-4283-a3f7-c047031986f9 | B52: 100191G14 | C52: Lunettenlaan 501 | D52: 5263NT | E52: Vught | F52: 785 | G52: 240800 | H52: BE | I52: 1 | J52: Ladders en klimijzers buiten | N52: [geen] | O52: 1 | P52: 2020 | R52: OVDR 17.173-349925 | S52: 33.20.62-00: 4st Gevelladder | T52: 3-4-2017-1-4-2022 | V52: =VLOOKUP(B52,Verplichtingen!A:N,14,FALSE) -> 44622
A53: 511f4012-8908-4bd6-bcc1-d523c0bcc980 | B53: 100191G14 | C53: Lunettenlaan 501 | D53: 5263NT | E53: Vught | F53: 785 | G53: 472300 | H53: BE | I53: 1 | J53: Valbeveiligingen | N53: [geen] | O53: 1 | P53: 2019 | R53: OVDR 17.173-349925 | S53: 33.60.21-35: 3st Lijnsystemen 24st Ankerpunten33.60.93-00: 9st Looppadtegels33.60.63-35: 1st Pendule Anker | T53: 3-4-2017-1-4-2022 | V53: =VLOOKUP(B53,Verplichtingen!A:N,14,FALSE) -> 44622
A54: a43d4c37-5497-48a0-a7fe-cff6a3958dca | B54: 100191G24 | C54: Lunettenlaan 501 | D54: 5263NT | E54: Vught | F54: 2788 | G54: 240800 | H54: BE | I54: 1 | J54: Ladders en klimijzers buiten | N54: [geen] | O54: 1 | P54: 2020 | R54: OVDR 17.173-349925 | S54: 33.20.62-00: 2st Gevelladder33.20.61-00: 1st Ladderopstelplaats | T54: 3-4-2017-1-4-2022 | V54: =VLOOKUP(B54,Verplichtingen!A:N,14,FALSE) -> 44622
A55: c475f00c-98fd-400d-ab48-9017033f9bd6 | B55: 100191G24 | C55: Lunettenlaan 501 | D55: 5263NT | E55: Vught | F55: 2788 | G55: 472300 | H55: BE | I55: 1 | J55: Valbeveiligingen | N55: [geen] | O55: 1 | P55: 2019 | R55: OVDR 17.173-349925 | S55: 33.60.63-35: 8st Lijnsystemen 70st Ankerpunten33.60.93-00: 11st Looppadtegels33.60.28-00: 2st Doorvalbeveiliging | T55: 3-4-2017-1-4-2022 | V55: =VLOOKUP(B55,Verplichtingen!A:N,14,FALSE) -> 44622
A56: d75da284-4d38-4aa5-bf98-c0d466aad16f | B56: 100191G25 | C56: Lunettenlaan 501 | D56: 5263NT | E56: Vught | F56: 7138 | G56: 240800 | H56: BE | I56: 1 | J56: Ladders en klimijzers buiten | N56: [geen] | O56: 1 | P56: 2020 | R56: OVDR 17.173-349925 | S56: 33.20.62-00: 4st Gevelladder | T56: 3-4-2017-1-4-2022 | V56: =VLOOKUP(B56,Verplichtingen!A:N,14,FALSE) -> 44631
A57: 377d1a70-065c-49e4-b216-f54a453f85ae | B57: 100191G25 | C57: Lunettenlaan 501 | D57: 5263NT | E57: Vught | F57: 7138 | G57: 472300 | H57: BE | I57: 1 | J57: Valbeveiligingen | N57: [geen] | O57: 1 | P57: 2011 | R57: OVDR 17.173-349925 | S57: 33.60.21-35: 17st Lijnsystemen 151st Ankerpunten33.60.93-00: 42st Looppadtegels33.60.63-35: 11st Pendule Ankers | T57: 3-4-2017-1-4-2022 | V57: =VLOOKUP(B57,Verplichtingen!A:N,14,FALSE) -> 44631
A58: b80440b6-3c42-4660-8394-7cd2885e5f00 | B58: 100191G28 | C58: Lunettenlaan 501 | D58: 5263NT | E58: Vught | F58: 1048 | G58: 240800 | H58: BE | I58: 1 | J58: Ladders en klimijzers buiten | N58: [geen] | O58: 1 | P58: 2020 | R58: OVDR 17.173-349925 | S58: 33.20.61-00: 4st Ladderopstelplaats | T58: 3-4-2017-1-4-2022 | V58: =VLOOKUP(B58,Verplichtingen!A:N,14,FALSE) -> 44623
A59: 485400c2-64e5-4001-9d07-b7cf105dd99c | B59: 100191G28 | C59: Lunettenlaan 501 | D59: 5263NT | E59: Vught | F59: 1048 | G59: 472300 | H59: BE | I59: 1 | J59: Valbeveiligingen | N59: [geen] | O59: 1 | P59: 2019 | R59: OVDR 17.173-349925 | S59: 33.60.63-35: 2st Lijnsystemen 27st Ankerpunten33.60.42-62: 1st Hekwerk33.60.93-00: 13st Looppadtegels33.60.21-35: 2st Pendule Ankers | T59: 3-4-2017-1-4-2022 | V59: =VLOOKUP(B59,Verplichtingen!A:N,14,FALSE) -> 44623
... A61: a2f7f238-cff4-404f-b00f-5ba60e8e335c | B61: 100191G31 | C61: Lunettenlaan 501 | D61: 5263NT | E61: Vught | F61: 3881 | G61: 472300 | H61: BE | I61: 1 | J61: Valbeveiligingen | N61: [geen] | O61: 1 | P61: 2003 | R61: OVDR 17.173-349925 | S61: 33.60.63-35: 3st Lijnsystemen 44st Ankerpunten33.60.93-00: 1st Looppadtegels | T61: 3-4-2017-1-4-2022 | V61: =VLOOKUP(B61,Verplichtingen!A:N,14,FALSE) -> 44622
A62: 587e939f-664c-4e2c-ad67-6797ad6810cf | B62: 100191G33 | C62: Lunettenlaan 501 | D62: 5263NT | E62: Vught | F62: 612 | G62: 240800 | H62: BE | I62: 1 | J62: Ladders en klimijzers buiten | N62: [geen] | O62: 1 | P62: 2019 | R62: OVDR 17.173-349925 | T62: 3-4-2017-1-4-2022 | V62: =VLOOKUP(B62,Verplichtingen!A:N,14,FALSE) -> 44624
A63: 578ecdae-0c9e-4954-8e67-94a02e207fa3 | B63: 100191G33 | C63: Lunettenlaan 501 | D63: 5263NT | E63: Vught | F63: 612 | G63: 472300 | H63: BE | I63: 1 | J63: Valbeveiligingen | N63: [geen] | O63: 1 | P63: 2019 | R63: OVDR 17.173-349925 | S63: 33.60.63-35: 1st Lijnsysteem 14st Ankerpunten33.60.42-62: 2st Hekwerk33.60.93-00: 1st Looppadtegel | T63: 3-4-2017-1-4-2022 | V63: =VLOOKUP(B63,Verplichtingen!A:N,14,FALSE) -> 44624
A64: 666375c6-4d4c-4209-a4a1-4d1efa95d284 | B64: 100191G34 | C64: Lunettenlaan 501 | D64: 5263NT | E64: Vught | F64: 2531 | G64: 472300 | H64: BE | I64: 1 | J64: Valbeveiligingen | N64: [geen] | O64: 1 | P64: 2019 | R64: OVDR 17.173-349925 | S64: 33.60.63-35: 1st Lijnsysteem 39 Ankerpunten33.60.93-00: 1st Looppadtegel | T64: 3-4-2017-1-4-2022 | V64: =VLOOKUP(B64,Verplichtingen!A:N,14,FALSE) -> 44623
A65: dcb41868-a0ed-4e51-a616-a23ece2b718e | B65: 100191G35 | C65: Lunettenlaan 501 | D65: 5263NT | E65: Vught | F65: 3567 | G65: 240800 | H65: BE | I65: 1 | J65: Ladders en klimijzers buiten | N65: [geen] | O65: 1 | P65: 2020 | R65: OVDR 17.173-349925 | S65: 33.20.62-00: 1st Gevelladder | T65: 3-4-2017-1-4-2022 | V65: =VLOOKUP(B65,Verplichtingen!A:N,14,FALSE) -> 44623
A66: 0758fc7c-bce5-4136-b905-ca29464a6c25 | B66: 100191G35 | C66: Lunettenlaan 501 | D66: 5263NT | E66: Vught | F66: 3567 | G66: 472300 | H66: BE | I66: 1 | J66: Valbeveiligingen | N66: [geen] | O66: 1 | P66: 2019 | R66: OVDR 17.173-349925 | S66: 33.60.63-35: 2s Lijnsystemen 41st Ankerpunten33.60.93-00: 2st Looppadtegels | T66: 3-4-2017-1-4-2022 | V66: =VLOOKUP(B66,Verplichtingen!A:N,14,FALSE) -> 44623
A67: 44b8bad6-21bd-480c-90b6-53d82eed43d6 | B67: 100191G36 | C67: Lunettenlaan 501 | D67: 5263NT | E67: Vught | F67: 2024 | G67: 240800 | H67: BE | I67: 1 | J67: Ladders en klimijzers buiten | N67: [geen] | O67: 1 | P67: 2020 | R67: OVDR 17.173-349925 | S67: 33.20.62-00: 2st Gevelladder33.20.95-01: 4st Opstap33.20.61-00: 2st Ladderopstelplaats | T67: 3-4-2017-1-4-2022 | V67: =VLOOKUP(B67,Verplichtingen!A:N,14,FALSE) -> 44624
A68: c9610e1d-d14f-47ea-a5f6-9deba7e63a19 | B68: 100191G36 | C68: Lunettenlaan 501 | D68: 5263NT | E68: Vught | F68: 2024 | G68: 472300 | H68: BE | I68: 1 | J68: Valbeveiligingen | N68: [geen] | O68: 1 | P68: 2019 | R68: OVDR 17.173-349925 | S68: 33.60.93-00: 4st Lijnsystemen 39st Ankerpunten33.60.93-00: 5st Looppadtegels33.60.28-00: 3st Doorvalbeveiliging33.60.42-62: 1st Hekwerk33.60.21-35: 1st Pendule Anker | T68: 3-4-2017-1-4-2022 | V68: =VLOOKUP(B68,Verplichtingen!A:N,14,FALSE) -> 44624
A69: 8f65e536-8058-46ef-aec5-8cf537c56df7 | B69: 100191G37 | C69: Lunettenlaan 501 | D69: 5263NT | E69: Vught | F69: 2083 | G69: 240800 | H69: BE | I69: 1 | J69: Ladders en klimijzers buiten | N69: [geen] | O69: 1 | P69: 2020 | R69: OVDR 17.173-349925 | S69: 33.20.61-00: 1st Ladderopstelplaats33.20.95-01: 1st Ladder | T69: 3-4-2017-1-4-2022 | V69: =VLOOKUP(B69,Verplichtingen!A:N,14,FALSE) -> 44622
A70: 2d2bb6fa-d8ae-4ae1-9e70-a185c9948e17 | B70: 100191G37 | C70: Lunettenlaan 501 | D70: 5263NT | E70: Vught | F70: 2083 | G70: 472300 | H70: BE | I70: 1 | J70: Valbeveiligingen | N70: [geen] | O70: 1 | P70: 2011 | R70: OVDR 17.173-349925 | S70: 33.60.63-35: 3st Lijnsystemen 28st Ankerpunten33.60.93-00: 1st Looppadtegel | T70: 3-4-2017-1-4-2022 | V70: =VLOOKUP(B70,Verplichtingen!A:N,14,FALSE) -> 44622
A71: f9cd2d3f-9405-4278-9063-e0119e88c893 | B71: 100199G01 | C71: Keulsebaan 530 | D71: 6045GL | E71: Roermond | F71: 31941 | G71: 240800 | H71: BE | I71: 1 | J71: Ladders en klimijzers buiten | N71: [geen] | O71: 1 | P71: 2015 | R71: OVDR 17.173-349925 | S71: 33.20.61-00 1 st. ladder opstelplats, 33.20.62-00 8,36 m ladder | T71: 3-4-2017-1-4-2022 | V71: =VLOOKUP(B71,Verplichtingen!A:N,14,FALSE) -> 44369
A72: 10e9956f-a2e6-46ff-b102-72253032810a | B72: 100199G01 | C72: Keulsebaan 530 | D72: 6045GL | E72: Roermond | F72: 31941 | G72: 472300 | H72: BE | I72: 1 | J72: Valbeveiligingen | N72: [geen] | O72: 1 | P72: 2015 | Q72: Dak | R72: OVDR 17.173-349925 | S72: 33.00.66-00 1 st. logboek; 33.40.23-00 5 st dakplan; 33.60.21-35 1 st. dakankerpunt op massief beton; 33.60.28-00 7 st. doorvalbeveiliging; 33.60.42-62 29,3 m hekwerk los opgelegd; 33.60.63-35 385 m lijnbeveiliging op massief beton; 33.60.63-35 178 m lijnbeveiliging op staal; 33.60.93-00 4,8 m looppad tegels. | T72: 3-4-2017-1-4-2022 | V72: =VLOOKUP(B72,Verplichtingen!A:N,14,FALSE) -> 44369
A73: ae145ac4-1b20-4943-b933-0f504213096f | B73: 100200G01 | C73: Nijverheidsstraat 12 | D73: 6135KJ | E73: Sittard | F73: 981 | G73: 240800 | H73: BE | I73: 1 | J73: Ladders en klimijzers buiten | K73: Latchways | N73: [geen] | O73: 1 | P73: 2016 | R73: OVDR 17.173-349925 | S73: 33.00.66-00 1 st logboek; 33.20.61-00 5 st Ladder opstelplaats; 33.20.62-95 1 st Gevelladder vast verankerd. | T73: 3-4-2017-1-4-2022 | V73: =VLOOKUP(B73,Verplichtingen!A:N,14,FALSE) -> 44476
A74: e9742b99-c2df-42ae-8d4a-a0dba7148641 | B74: 100200G01 | C74: Nijverheidsstraat 12 | D74: 6135KJ | E74: Sittard | F74: 981 | G74: 472300 | H74: BE | I74: 1 | J74: Valbeveiligingen | K74: Latchways | N74: [geen] | O74: 1 | P74: 2016 | Q74: DAK | R74: OVDR 17.173-349925 | S74: 33.00.66-00 1 st logboek; 33.60.21-35 1 st Ankerinrichting op hout of lichtbeton; 33.60.63-35 23 st Lijnbeveiliging op hout of lichtbeton; 33.50.50-83 3 st Lichtkoepel of _x0013_ straat; 33.40.86-005 st Pictogram; 33.40.36-00 30 st Gebiedsmarkering; 33.60.93-00 17 st Looppadtegels op dakvlak; 33.30.41-00 2 st harnas; 33.30.65-58 2 st Loopwagen voor lijnbeveiliging; 33.30.99-31 2 st Werklijn flexibel instelbaar; 33.30.99-95 2 st Werklijn vaste lengte. | T74: 3-4-2017-1-4-2022 | V74: =VLOOKUP(B74,Verplichtingen!A:N,14,FALSE) -> 44476
A75: 50e4e2f6-64bc-4ce9-9a63-22663dc3a90b | B75: 100202G01 | C75: Ringbaan-Zuid 506 | D75: 5026PA | E75: Tilburg | F75: 1706 | G75: 240800 | H75: BE | I75: 1 | J75: Ladders en klimijzers buiten | K75: Latchways | N75: [geen] | O75: 1 | P75: 2016 | R75: OVDR 17.173-349925 | S75: 33.00.66-00 1 st logboek; 33.20.61-00 5 st Ladder opstelplaats; 33.20.62-95 1 st Gevelladder vast verankerd. | T75: 3-4-2017-1-4-2022 | V75: =VLOOKUP(B75,Verplichtingen!A:N,14,FALSE) -> 44477
A76: 75dabc63-fd39-4f1a-a0d7-595f332e8f90 | B76: 100202G01 | C76: Ringbaan-Zuid 506 | D76: 5026PA | E76: Tilburg | F76: 1706 | G76: 472300 | H76: BE | I76: 1 | J76: Valbeveiligingen | K76: Latchways | N76: [geen] | O76: 1 | P76: 2016 | R76: OVDR 17.173-349925 | S76: 33.00.66-00 1 st logboek; 33.60.63-08 17 st Lijnbeveiliging op massief beton; 33.40.86-00 1 st Pictogram; 33.60.93-00 1 st Looppadtegels op dakvlak; 33.30.41-00 2 st Harnas; 33.30.65-58 2 st Loopwagen voor lijnbeveiliging; 33.30.99-31 2 st Werklijn flexibel instelbaar. | T76: 3-4-2017-1-4-2022 | V76: =VLOOKUP(B76,Verplichtingen!A:N,14,FALSE) -> 44477
A77: 9ceab1fc-5980-4b19-b710-673554e40b74 | B77: 100803G01 | C77: Evertsenstraat 98 | D77: 4461XS | E77: Goes | F77: 3008 | G77: 240800 | H77: BE | I77: 3 | J77: Ladders en klimijzers buiten | N77: [geen] | O77: 1 | P77: 2017 | R77: OVDR 17.173-349925 | S77: 33.20.61-00 6 ladder opstelplaats; 33.20.62-00 2 gevelladder met overstapbordes; | T77: 3-4-2017-1-4-2022 | V77: =VLOOKUP(B77,Verplichtingen!A:N,14,FALSE) -> 44394
A78: 8862ee6d-630f-4003-8b06-39ea66597882 | B78: 100803G01 | C78: Evertsenstraat 98 | D78: 4461XS | E78: Goes | F78: 3008 | G78: 472300 | H78: BE | I78: 1 | J78: Valbeveiligingen | N78: [geen] | O78: 1 | P78: 2015 | R78: OVDR 17.173-349925 | S78: 33.00.66-00 1 logboek; 33.30.41-00 2 harnas; 33.30.65-58 2 loopwagen voor lijnbeveiliging; 33.30.99-31 2 werklijn flexibel instelbaar; 33.40.23-00 2 dakplan; 33.60.28-00 44 doorvalbeveiliging; 33.60.63-35 96 lijnbeveiliging op massief beton; 33.60.63-35 33 lijnbeveiliging op hout of lichtbeton; 33.60.63-35 99 lijnbeveiliging op staal; 33.60.28-00 8 looppad tegels; 33.60.21-35 29 ankerpunten, | T78: 3-4-2017-1-4-2022 | V78: =VLOOKUP(B78,Verplichtingen!A:N,14,FALSE) -> 44394
A79: cd46bec7-5248-4be9-a767-a1eaa54d2344 | B79: 101114G01 | C79: Stadhuisplein 75 | D79: 5038TB | E79: Tilburg | F79: 3150 | G79: 240800 | H79: BE | I79: 1 | J79: Ladders en klimijzers buiten | N79: [geen] | O79: 1 | P79: 2016 | R79: OVDR 17.173-349925 | S79: 33.20.61-00 1 st. ladder opstelplaats; 33.20.62-00 1 st. gevelladder | T79: 3-4-2017-1-4-2022 | V79: =VLOOKUP(B79,Verplichtingen!A:N,14,FALSE) -> 44496
A80: 5340a54c-ab7c-450e-b3ff-a05263d40138 | B80: 101114G01 | C80: Stadhuisplein 75 | D80: 5038TB | E80: Tilburg | F80: 3150 | G80: 472300 | H80: BE | I80: 1 | J80: Valbeveiligingen | N80: [geen] | O80: 1 | P80: 2016 | R80: OVDR 17.173-349925 | S80: 33.00.66-00 logboek 1 ; 33.30.41-00 harnas 2; 33.30.65-58 loopwagen voor lijnbeveiliging 2; 33.30.99-31 werklijn flexibel instelbaar 2; 33.40.23-00 dakplan 2; 33.40.86-00 pictogram 3;33.60.63-35 dakankerpunt op hout of lichtbeton 2; 33.60.28-00 doorvalbeveiliging 7; 33.60.21-35 lijnbeveiliging op houtof lichtbeton 105,6; 33.60.93-00 looppad tegels 3. | T80: 3-4-2017-1-4-2022 | V80: =VLOOKUP(B80,Verplichtingen!A:N,14,FALSE) -> 44496
A81: ba100c1d-68d7-431b-93e2-9fd6c26bce7d | B81: 101131G01 | C81: Terra nigrastraat 10 | D81: 6216BL | E81: Maastricht | F81: 11190 | G81: 240800 | H81: BE | I81: 1 | J81: Ladders en klimijzers buiten | N81: [geen] | O81: 1 | P81: 2015 | R81: OVDR 17.173-349925 | S81: 1,0 m1 kooiladder vast verankert;2 st. ladder opstelplaats;4,0 m1. ladder; 6 st. afstapvoorziening; | T81: 3-4-2017-1-4-2022 | V81: =VLOOKUP(B81,Verplichtingen!A:N,14,FALSE) -> #N/A
A82: b9e4e6d1-4ec9-4d1f-b633-931814682e0b | B82: 101131G01 | C82: Terra nigrastraat 10 | D82: 6216BL | E82: Maastricht | F82: 11190 | G82: 472300 | H82: BE | I82: 1 | J82: Valbeveiligingen | K82: Latchways | N82: [geen] | O82: 1 | P82: 2016 | Q82: Dak | R82: OVDR 17.173-349925 | S82: 33.00.66-00 1 Logboek; 33.60.63-35 4 st. lijnbeveiliging op hout of lichtbeton van 80 mtr me 11 ankers. | T82: 3-4-2017-1-4-2022 | V82: =VLOOKUP(B82,Verplichtingen!A:N,14,FALSE) -> #N/A
A83: 69f93c01-f78c-4650-9c0a-dc988d97cc59 | B83: 101134G01 | C83: Hogeweg 85 | D83: 5914BC | E83: Venlo | F83: 8534 | G83: 472300 | H83: BE | I83: 1 | J83: Valbeveiligingen | N83: [geen] | O83: 1 | P83: 2006 | Q83: Dak | R83: OVDR 17.173-349925 | S83: Dak verdieping 3; Voorzien van 7 stuks borgingslijnen, dak dakopbouw en dak begane grond, totale lengte 179m1, 2 keer 2 stuks borgingspunten op daken verdieping 2 Groeneveld. Bwj.2006 Veiligheidslijnen uniline type uni-8. | T83: 3-4-2017-1-4-2022 | V83: =VLOOKUP(B83,Verplichtingen!A:N,14,FALSE) -> 44552
A84: 2b5fceac-3bc4-4c8f-94a5-f67771aacb2a | B84: 101136G01 | C84: Slachthuisstraat 71 | D84: 6041CB | E84: Roermond | F84: 3561 | G84: 240800 | H84: BE | I84: 1 | J84: Ladders en klimijzers buiten | K84: - | N84: [geen] | O84: 1 | P84: 2016 | R84: OVDR 17.173-349925 | S84: 33.00.66-00 1 st. Logboek; 33.20.61-00 1 st. Ladder opstelplaats; 33.20.62-00 1 st. Gevelladder. 33.50.80-00 2st. Opstelplaatsen: 33.60.21-35 ankerpunten: 30.60.63-08 lijnsysteem | T84: 3-4-2017-1-4-2022 | V84: =VLOOKUP(B84,Verplichtingen!A:N,14,FALSE) -> #N/A
A85: 9add1692-e0c1-4f50-bcb5-af68a5a3df57 | B85: 101136G01 | C85: Slachthuisstraat 71 | D85: 6041CB | E85: Roermond | F85: 3561 | G85: 472300 | H85: BE | I85: 1 | J85: Valbeveiligingen | K85: Lathways | N85: [geen] | O85: 1 | P85: 2016 | Q85: DAK | R85: OVDR 17.173-349925 | S85: 33.00.66-00 1 st. Logboek; 33.60.21-35 1 st. ankerinrichting op hout of lichtbeton; 33.60.63-08 32 st lijnbeveiliging op massief beton; 33.60.21-85 4 st. ankerinrichting op staal; 33.40.86-00 2 st. Pictogram. | T85: 3-4-2017-1-4-2022 | V85: =VLOOKUP(B85,Verplichtingen!A:N,14,FALSE) -> #N/A
A86: ed77aef0-598b-4beb-b8bf-652529fab6fc | B86: 101140G01 | C86: Graaf Engelbertlaan 165 | D86: 4837DT | E86: Breda | F86: 1581 | G86: 240800 | H86: BE | I86: 1 | J86: Ladders en klimijzers buiten | N86: [geen] | O86: 1 | P86: 2016 | R86: OVDR 17.173-349925 | S86: 33.20.62-00 6 st gevelladder 33.20.61-00 1 st Tweedelige opsteekladder; 33.20.61-00 1 st Ladder Opstelplaats. | T86: 3-4-2017-1-4-2022 | V86: =VLOOKUP(B86,Verplichtingen!A:N,14,FALSE) -> 44670
A87: 092e9a4d-367f-4cce-93cc-0f9c89d0181d | B87: 101140G01 | C87: Graaf Engelbertlaan 165 | D87: 4837DT | E87: Breda | F87: 1581 | G87: 472300 | H87: BE | I87: 1 | J87: Valbeveiligingen | K87: Latchways | N87: [geen] | O87: 1 | P87: 2016 | Q87: DAK | R87: OVDR 17.173-349925 | S87: 33.00.66-00 1 st. Logboek; 33.60.63-08 1 st. 40 mtr. lijnbeveiliging op massief beton met 11 CFP ankers; 33.60.63-08 1 st. 15 mtr. lijnbeveiliging op massief beton met 5 CFP ankers; 33.60.63-08 1 st. 13 mtr. lijnbeveiliging op massief beton met 3 CFP ankers; 33.60.63-08 1 st. 20 mtr. lijnbeveiliging op massief beton met 5 CFP ankers; 33.60.63-08 1 st. 18 mtr. lijnbeveiliging op massief beton met 4 CFP ankers; 33.60.63-08 1 st. 22 mtr. lijnbeveiliging op massief beton met 6 CFP ankers; 33.60.63-08 1 st. 3 mtr. lijnbeveiliging op massief beton met 2 CFP ankers; 33.60.63-08 1 st. 25 mtr. lijnbeveiliging op massief beton met 6 CFP ankers; | T87: 3-4-2017-1-4-2022 | V87: =VLOOKUP(B87,Verplichtingen!A:N,14,FALSE) -> 44670
A88: fa9086d2-55f3-4e38-b264-d8d7e09dcae0 | B88: 101141G01 | C88: Sint Annadal 1 | D88: 6214PA | E88: Maastricht | F88: 22444 | G88: 240800 | H88: BE | I88: 1 | J88: Ladders en klimijzers buiten | N88: [geen] | O88: 2 | P88: 2004 | R88: OVDR 17.173-349925 | S88: Vanaf het platte dak van bouwdeel T is een kooiladder aangebracht tot boven het atriumdak. Uitvoering staal, verzinkt. Afmeting 54 x 450 cm.. | T88: 3-4-2017-1-4-2022 | V88: =VLOOKUP(B88,Verplichtingen!A:N,14,FALSE) -> 44568
A89: 503a3897-3ea9-4848-a939-5b6e738e4335 | B89: 101141G01 | C89: Sint Annadal 1 | D89: 6214PA | E89: Maastricht | F89: 22444 | G89: 472300 | H89: BE | I89: 1 | J89: Valbeveiligingen | N89: [geen] | O89: 1 | P89: 2018 | R89: OVDR 17.173-349925 | S89: ..m rails, ..m kabel, ..st borgingspunten | T89: 3-4-2017-1-4-2022 | V89: =VLOOKUP(B89,Verplichtingen!A:N,14,FALSE) -> 44568
A90: 68a08382-eabe-4da5-8484-203753940342 | B90: 101143G01 | C90: Sint Joosterweg 1 a | D90: 6051HE | E90: Maasbracht | F90: 1551 | G90: 240800 | H90: BE | I90: 1 | J90: Ladders en klimijzers buiten | N90: [geen] | O90: 1 | P90: 2016 | R90: OVDR 17.173-349925 | S90: 33.20.62-00 1 st. Gevelladder; 33.20.62-00 1 st. ladder; 33.20.61-00 1 st. Ladder opstelplaats. | T90: 3-4-2017-1-4-2022 | V90: =VLOOKUP(B90,Verplichtingen!A:N,14,FALSE) -> 44450
A91: 4c3a17b2-ae92-49c4-9f1e-c04034954ebd | B91: 101143G01 | C91: Sint Joosterweg 1 a | D91: 6051HE | E91: Maasbracht | F91: 1551 | G91: 472300 | H91: BE | I91: 1 | J91: Valbeveiligingen | K91: Latchways | N91: [geen] | O91: 1 | P91: 2016 | Q91: DAK | R91: OVDR 17.173-349925 | S91: 33.00.66-00 1 st. Logboek; 33.60.63-35 1 st.83 mtr met 10 ankers lijnbeveiliging op hout of lichtbeton; 33.60.63-35 1 st.20 mtr met 5 ankers lijnbeveiliging op hout of lichtbeton; 33.60.63-35 1 st. 4 mtr met 2 ankers lijnbeveiliging op hout of lichtbeton; 33.60.63-35 1 st. 23 mtr met 7 ankers lijnbeveiliging op hout of lichtbeton; 33.60.63-35 1 st. 23 mtr met 36 ankers lijnbeveiliging op hout of lichtbeton; 33.60.21-35 7 st. ankerinrichting op hout of lichtbeton. | T91: 3-4-2017-1-4-2022 | V91: =VLOOKUP(B91,Verplichtingen!A:N,14,FALSE) -> 44450
A92: 9d67f7bb-bbcc-4307-8367-854df47a7255 | B92: 101149G01 | C92: Avenue Ceramique 125 | D92: 6221KV | E92: Maastricht | F92: 15033 | G92: 240800 | H92: BE | I92: 1 | J92: Ladders en klimijzers buiten | N92: [geen] | O92: 1 | P92: 2020 | R92: OVDR 17.173-349925 | T92: 3-4-2017-1-4-2022 | V92: =VLOOKUP(B92,Verplichtingen!A:N,14,FALSE) -> NB
A93: e2de4305-bd62-47d8-a80f-2873df8b4a95 | B93: 101149G01 | C93: Avenue Ceramique 125 | D93: 6221KV | E93: Maastricht | F93: 15033 | G93: 472300 | H93: BE | I93: 1 | J93: Valbeveiligingen | N93: [geen] | O93: 1 | P93: 2012 | R93: OVDR 17.173-349925 | S93: Valbeveiliging is niet aanwezig. Deze wordt in fase 2 van het landelijk project meegenomen. | T93: 3-4-2017-1-4-2022 | V93: =VLOOKUP(B93,Verplichtingen!A:N,14,FALSE) -> NB
A94: 4a76e8fe-eca3-4e08-ba12-11eb97c99c9e | B94: 101164G01 | C94: Oude Roderweg 29 | D94: 6422PE | E94: Heerlen | F94: 2974 | G94: 240800 | H94: BE | I94: 1 | J94: Ladders en klimijzers buiten | K94: Altrex | L94: Alu kooiladder | N94: [geen] | O94: 1 | P94: 2015 | Q94: DAK | R94: OVDR 17.173-349925 | S94: 3,0 m1 kooiladder losopgelegd; 1 st. kooiladder losopgelegd op/afstapvoorziening | T94: 3-4-2017-1-4-2022 | V94: =VLOOKUP(B94,Verplichtingen!A:N,14,FALSE) -> 43676
A95: 7bf29f26-fc7c-4597-ad2d-d101961f17d9 | B95: 101164G01 | C95: Oude Roderweg 29 | D95: 6422PE | E95: Heerlen | F95: 2974 | G95: 472300 | H95: BE | I95: 1 | J95: Valbeveiligingen | K95: - | L95: - | M95: 1 | N95: [geen] | O95: 1 | P95: 2016 | Q95: DAK 500 en 501 | R95: OVDR 17.173-349925 | S95: 33.00.66-00 1 Logboek; 33.60.63-35 2 st lijnbeveiliging op hout of lichtbeton van 32 mtr met 5 ankers; 33.60.42-62 1 st hekwerk los oplegbaar. | T95: 3-4-2017-1-4-2022 | V95: =VLOOKUP(B95,Verplichtingen!A:N,14,FALSE) -> 43676
A96: 618bb171-9c70-4cad-bc2a-e9cabf7250d4 | B96: 101447G01 | C96: Spoorlaan 175 | D96: 5038CB | E96: Tilburg | F96: 4082 | G96: 240800 | H96: BE | I96: 1 | J96: Ladders en klimijzers buiten | K96: nvt | L96: nvt | N96: [geen] | O96: 6 | P96: 2002 | Q96: DAK | R96: OVDR 17.173-349925 | S96: Kooiladder staal incl. bordes, leuningen | T96: 3-4-2017-1-4-2022 | V96: =VLOOKUP(B96,Verplichtingen!A:N,14,FALSE) -> #N/A
A97: 4bbc2f6f-7e61-4794-a33b-798f27478d06 | B97: 101517G01 | C97: Slachthuisstraat 71 | D97: 6041CB | E97: Roermond | F97: 6663 | G97: 240800 | H97: BE | I97: 1 | J97: Ladders en klimijzers buiten | N97: [geen] | O97: 1 | P97: 2019 | R97: OVDR 17.173-349925 | T97: 3-4-2017-1-4-2022 | V97: =VLOOKUP(B97,Verplichtingen!A:N,14,FALSE) -> 44671
A98: e792685b-3ea3-4c1e-8ed5-cb407ffbcd88 | B98: 101517G01 | C98: Slachthuisstraat 71 | D98: 6041CB | E98: Roermond | F98: 6663 | G98: 472300 | H98: BE | I98: 1 | J98: Valbeveiligingen | N98: [geen] | O98: 1 | P98: 2019 | R98: OVDR 17.173-349925 | S98: ..m rails, ..m kabel, ..st borgingspunten | T98: 3-4-2017-1-4-2022 | V98: =VLOOKUP(B98,Verplichtingen!A:N,14,FALSE) -> 44671
A99: 5ea4ed77-4019-49f5-b347-30f91ea880d4 | B99: 101628G01 | C99: Magistratenlaan 82 | D99: 5223MD | E99: s-Hertogenbosch | F99: 6359 | G99: 240800 | H99: BE | I99: 1 | J99: Ladders en klimijzers buiten | N99: [geen] | O99: 1 | P99: 2020 | R99: OVDR 17.173-349925 | T99: 3-4-2017-1-4-2022 | V99: =VLOOKUP(B99,Verplichtingen!A:N,14,FALSE) -> NB
A100: d8662d25-df02-4cfd-bc2b-edcfa6a104a0 | B100: 101628G01 | C100: Magistratenlaan 82 | D100: 5223MD | E100: s-Hertogenbosch | F100: 6359 | G100: 472300 | H100: BE | I100: 1 | J100: Valbeveiligingen | N100: [geen] | O100: 1 | P100: 2020 | R100: OVDR 17.173-349925 | S100: ..m rails, ..m kabel, ..st borgingspunten | T100: 3-4-2017-1-4-2022 | V100: =VLOOKUP(B100,Verplichtingen!A:N,14,FALSE) -> NB
A101: 6b1b3f0b-c4c0-498e-9867-431f2df9128b | B101: 100077G01 | C101: Copernicusstraat 10 | D101: 1704SV | E101: Heerhugowaard | F101: 15520 | G101: 472300 | H101: BE | I101: 1 | J101: Valbeveiligingen | N101: [geen] | O101: 1 | P101: 2016 | R101: OVDR 17.172-350305 | S101: Coellijst elementen in bijlage geplaatst i.v.m. overschrijding max. aantal characters | T101: 3-4-2017-1-4-2022 | V101: =VLOOKUP(B101,Verplichtingen!A:N,14,FALSE) -> 44468
A102: e140aaf6-70d6-4760-b3e9-1b6e557b62b5 | B102: 100084G03 | C102: Jansstraat 77 | D102: 2011RW | E102: Haarlem | F102: 11784 | G102: 240800 | H102: BE | I102: 3 | J102: Ladders en klimijzers buiten | N102: [geen] | O102: 4 | P102: 1987 | Q102: Uitb. | R102: OVDR 17.172-350305 | S102: stalen ladder afwerklaag schilderwerk | T102: 3-4-2017-1-4-2022 | V102: =VLOOKUP(B102,Verplichtingen!A:N,14,FALSE) -> NB
A103: 581d49c6-14a3-451e-a0bc-9bbe88fd8ef1 | B103: 100084G03 | C103: Jansstraat 77 | D103: 2011RW | E103: Haarlem | F103: 11784 | G103: 240800 | H103: BE | I103: 2 | J103: Ladders en klimijzers buiten | N103: [geen] | O103: 15 | P103: 1987 | Q103: Uitb. | R103: OVDR 17.172-350305 | S103: blanke aluminium glazenwasser ladder vzv kooiconstructie. | T103: 3-4-2017-1-4-2022 | V103: =VLOOKUP(B103,Verplichtingen!A:N,14,FALSE) -> NB
A104: c023264a-4463-4e48-8814-d21e32ebb3f1 | B104: 100084G03 | C104: Jansstraat 77 | D104: 2011RW | E104: Haarlem | F104: 11784 | G104: 240800 | H104: BE | I104: 1 | J104: Ladders en klimijzers buiten | N104: [geen] | O104: 8 | P104: 2010 | Q104: J_81 | R104: OVDR 17.172-350305 | S104: blanke aluminium dakladders | T104: 3-4-2017-1-4-2022 | V104: =VLOOKUP(B104,Verplichtingen!A:N,14,FALSE) -> NB
...

Sheet Verplichtingen
A1: Objectnummer | B1: Contractnummer | C1: Leverancier | D1: Element omschrijving | E1: Elementcode | F1: Element volgnummer | G1: Afmeldfase | H1: Afmeldstatus | I1: Id | J1: Stoplicht | K1: Actief | L1: Verplichting omschrijving | M1: Wettelijke verplichting | N1: Geldig tot
A2: 100151G02 | B2: OVDR 17.172-350305 | D2: Ladders en klimijzers buiten | E2: 240800 | F2: 1 | G2: Goedgekeurd | H2: 10 - Gereed | I2: df72d355-4ad3-4018-b4aa-952066c24f47 | J2: Groen | K2: True | L2: Rapportage van de jaarlijkse uitgevoerd onderhoud, de inspectie en keuring. Hierin is specifiek vastgelegd welke gebreken zijn geconstateerd en hoe deze zijn hersteld. | M2: False | N2: 44722
A3: 100026G07 | B3: OVDR 17.171-350077 | D3: Ladders en klimijzers buiten | E3: 240800 | F3: 1 | G3: Goedgekeurd | H3: 10 - Gereed | I3: 438b712e-b211-49f0-85e6-502fec36a4e5 | J3: Groen | K3: True | L3: Rapportage van de jaarlijkse uitgevoerd onderhoud, de inspectie en keuring. Hierin is specifiek vastgelegd welke gebreken zijn geconstateerd en hoe deze zijn hersteld. | M3: False | N3: 44728
A4: 100124G03 | B4: OVDR 17.172-350305 | D4: Ladders en klimijzers buiten | E4: 240800 | F4: 1 | G4: Goedgekeurd | H4: 10 - Gereed | I4: 7a38af2f-ca31-4e60-b109-0e4d838f229f | J4: Groen | K4: True | L4: Rapportage van de jaarlijkse uitgevoerd onderhoud, de inspectie en keuring. Hierin is specifiek vastgelegd welke gebreken zijn geconstateerd en hoe deze zijn hersteld. | M4: False | N4: 44715
A5: 100550G01 | B5: OVDR 17.172-350305 | D5: Ladders en klimijzers buiten | E5: 240800 | F5: 1 | G5: Goedgekeurd | H5: 10 - Gereed | I5: 626fc6ac-ce29-40fa-993a-1f73ad7d89cc | J5: Groen | K5: True | L5: Rapportage van de jaarlijkse uitgevoerd onderhoud, de inspectie en keuring. Hierin is specifiek vastgelegd welke gebreken zijn geconstateerd en hoe deze zijn hersteld. | M5: False | N5: 44698
A6: 100146G06 | B6: OVDR 17.172-350305 | D6: Ladders en klimijzers buiten | E6: 240800 | F6: 1 | G6: Goedgekeurd | H6: Gereed | I6: 07cd3722-da81-46f1-93a5-8898e5c56648 | J6: Groen | K6: True | L6: Rapportage van de jaarlijkse uitgevoerd onderhoud, de inspectie en keuring. Hierin is specifiek vastgelegd welke gebreken zijn geconstateerd en hoe deze zijn hersteld. | M6: False | N6: 44489
A7: 100177G03 | B7: OVDR 17.173-349925 | D7: Ladders en klimijzers buiten | E7: 240800 | F7: 1 | G7: Goedgekeurd | H7: 10 - Gereed | I7: 95a5efba-caed-4f42-923f-0c7940d6edf2 | J7: Groen | K7: True | L7: Rapportage van de jaarlijkse uitgevoerd onderhoud, de inspectie en keuring. Hierin is specifiek vastgelegd welke gebreken zijn geconstateerd en hoe deze zijn hersteld. | M7: False | N7: 44660
A8: 100088G02 | B8: OVDR 17.172-350305 | D8: Ladders en klimijzers buiten | E8: 240800 | F8: 1 | G8: Goedgekeurd | H8: 10 - Gereed | I8: c8b23ab0-160b-4c6d-85b1-8385f7c7edfe | J8: Groen | K8: True | L8: Rapportage van de jaarlijkse uitgevoerd onderhoud, de inspectie en keuring. Hierin is specifiek vastgelegd welke gebreken zijn geconstateerd en hoe deze zijn hersteld. | M8: False | N8: 44670
A9: 100054G01 | B9: OVDR 17.171-350077 | D9: Ladders en klimijzers buiten | E9: 240800 | F9: 1 | G9: Controle | H9: 3 - Wacht op Leverancier | I9: 7523eee8-e9be-4f2e-9bac-d475d9c262a1 | J9: Rood | K9: True | L9: Rapportage van de jaarlijkse uitgevoerd onderhoud, de inspectie en keuring. Hierin is specifiek vastgelegd welke gebreken zijn geconstateerd en hoe deze zijn hersteld. | M9: False | N9: 44344
A10: 100791G01 | B10: OVDR 17.172-350305 | D10: Ladders en klimijzers buiten | E10: 240800 | F10: 1 | G10: Goedgekeurd | H10: 10 - Gereed | I10: ee4fbf33-7511-4fa8-9a2a-735482ea8744 | J10: Groen | K10: True | L10: Rapportage van de jaarlijkse uitgevoerd onderhoud, de inspectie en keuring. Hierin is specifiek vastgelegd welke gebreken zijn geconstateerd en hoe deze zijn hersteld. | M10: False | N10: 44687
A11: 100028G01 | B11: OVDR 17.171-350077 | D11: Ladders en klimijzers buiten | E11: 240800 | F11: 1 | G11: Controle | H11: 3 - Wacht op Leverancier | I11: c0928f36-86da-4418-bf3a-78005d055226 | J11: Rood | K11: True | L11: Rapportage van de jaarlijkse uitgevoerd onderhoud, de inspectie en keuring. Hierin is specifiek vastgelegd welke gebreken zijn geconstateerd en hoe deze zijn hersteld. | M11: False | N11: 44379
A12: 100191G05 | B12: OVDR 17.173-349925 | D12: Ladders en klimijzers buiten | E12: 240800 | F12: 1 | G12: Goedgekeurd | H12: 10 - Gereed | I12: 893f2893-e46c-4d4c-a492-8b56a55ae507 | J12: Groen | K12: True | L12: Rapportage van de jaarlijkse uitgevoerd onderhoud, de inspectie en keuring. Hierin is specifiek vastgelegd welke gebreken zijn geconstateerd en hoe deze zijn hersteld. | M12: False | N12: 44625
A13: 100085G01 | B13: OVDR 17.172-350305 | D13: Ladders en klimijzers buiten | E13: 240800 | F13: 1 | G13: Goedgekeurd | H13: 10 - Gereed | I13: 615fc6f7-881d-4080-9b47-1a7f0a619692 | J13: Groen | K13: True | L13: Rapportage van de jaarlijkse uitgevoerd onderhoud, de inspectie en keuring. Hierin is specifiek vastgelegd welke gebreken zijn geconstateerd en hoe deze zijn hersteld. | M13: False | N13: 44632
... A15: 100191G07 | B15: OVDR 17.173-349925 | D15: Ladders en klimijzers buiten | E15: 240800 | F15: 1 | G15: Goedgekeurd | H15: 10 - Gereed | I15: 8ff75106-ff0c-439c-8b61-8b360e3f6942 | J15: Groen | K15: True | L15: Rapportage van de jaarlijkse uitgevoerd onderhoud, de inspectie en keuring. Hierin is specifiek vastgelegd welke gebreken zijn geconstateerd en hoe deze zijn hersteld. | M15: False | N15: 44628
A16: 100152G02 | B16: OVDR 17.172-350305 | D16: Ladders en klimijzers buiten | E16: 240800 | F16: 1 | G16: Goedgekeurd | H16: 10 - Gereed | I16: 26123eeb-1cdb-4e81-9861-6ad16841593c | J16: Groen | K16: True | L16: Rapportage van de jaarlijkse uitgevoerd onderhoud, de inspectie en keuring. Hierin is specifiek vastgelegd welke gebreken zijn geconstateerd en hoe deze zijn hersteld. | M16: False | N16: NB
A17: 100961G02 | B17: OVDR 17.172-350305 | D17: Ladders en klimijzers buiten | E17: 240800 | F17: 1 | G17: GeenStatus | I17: 39df222d-9b1d-4b53-adce-cf909e772e58 | J17: NNB | K17: True | L17: Rapportage van de jaarlijkse uitgevoerd onderhoud, de inspectie en keuring. Hierin is specifiek vastgelegd welke gebreken zijn geconstateerd en hoe deze zijn hersteld. | M17: False | N17: NB
A18: 100146G02 | B18: OVDR 17.172-350305 | D18: Ladders en klimijzers buiten | E18: 240800 | F18: 1 | G18: Goedgekeurd | H18: 10 - Gereed | I18: 1db02e7e-1f54-4fb9-95fe-0cf5dd6d9439 | J18: Groen | K18: True | L18: Rapportage van de jaarlijkse uitgevoerd onderhoud, de inspectie en keuring. Hierin is specifiek vastgelegd welke gebreken zijn geconstateerd en hoe deze zijn hersteld. | M18: False | N18: 44663
A19: 101300G01 | B19: OVDR 17.172-350305 | D19: Ladders en klimijzers buiten | E19: 240800 | F19: 1 | G19: Goedgekeurd | H19: 10 - Gereed | I19: 4fd46caa-e95d-4ee8-a17c-fd1742df0378 | J19: Groen | K19: True | L19: Rapportage van de jaarlijkse uitgevoerd onderhoud, de inspectie en keuring. Hierin is specifiek vastgelegd welke gebreken zijn geconstateerd en hoe deze zijn hersteld. | M19: False | N19: 44708
A20: 100806G01 | B20: OVDR 17.172-350305 | D20: Ladders en klimijzers buiten | E20: 240800 | F20: 1 | G20: Goedgekeurd | H20: 10 - Gereed | I20: 0a06d2e4-cd40-4414-9934-cb8073ab7529 | J20: Groen | K20: True | L20: Rapportage van de jaarlijkse uitgevoerd onderhoud, de inspectie en keuring. Hierin is specifiek vastgelegd welke gebreken zijn geconstateerd en hoe deze zijn hersteld. | M20: False | N20: 44719
A21: 100961G01 | B21: OVDR 17.172-350305 | D21: Ladders en klimijzers buiten | E21: 240800 | F21: 1 | G21: Afmelden | H21: 1 - Afmelden | I21: 46495adb-14c8-4f00-af1c-acda0ac5512d | J21: NNB | K21: True | L21: Rapportage van de jaarlijkse uitgevoerd onderhoud, de inspectie en keuring. Hierin is specifiek vastgelegd welke gebreken zijn geconstateerd en hoe deze zijn hersteld. | M21: False | N21: NB
A22: 100966G01 | B22: OVDR 17.172-350305 | D22: Ladders en klimijzers buiten | E22: 240800 | F22: 1 | G22: Afmelden | H22: 1 - Afmelden | I22: 79c8f936-9a90-4f15-b2c0-695d0498b47b | J22: NNB | K22: True | L22: Rapportage van de jaarlijkse uitgevoerd onderhoud, de inspectie en keuring. Hierin is specifiek vastgelegd welke gebreken zijn geconstateerd en hoe deze zijn hersteld. | M22: False | N22: NB
A23: 100168G03 | B23: OVDR 17.172-350305 | D23: Ladders en klimijzers buiten | E23: 240800 | F23: 1 | G23: Goedgekeurd | H23: Gereed | I23: 900beaed-801c-43b6-b585-7e6205cae968 | J23: Rood | K23: True | L23: Rapportage van de jaarlijkse uitgevoerd onderhoud, de inspectie en keuring. Hierin is specifiek vastgelegd welke gebreken zijn geconstateerd en hoe deze zijn hersteld. | M23: False | N23: 44428
A24: 100814G01 | B24: OVDR 17.172-350305 | D24: Ladders en klimijzers buiten | E24: 240800 | F24: 1 | G24: Afmelden | H24: 1 - Afmelden | I24: e4e7a9e9-ab3d-4b31-a926-fbe7a45c50cd | J24: Rood | K24: True | L24: Rapportage van de jaarlijkse uitgevoerd onderhoud, de inspectie en keuring. Hierin is specifiek vastgelegd welke gebreken zijn geconstateerd en hoe deze zijn hersteld. | M24: False | N24: 44701
A25: 101141G01 | B25: OVDR 17.173-349925 | D25: Ladders en klimijzers buiten | E25: 240800 | F25: 1 | G25: Goedgekeurd | H25: 10 - Gereed | I25: 5d4ac82d-c1ab-4b8c-9365-c25184e1ab98 | J25: Groen | K25: True | L25: Rapportage van de jaarlijkse uitgevoerd onderhoud, de inspectie en keuring. Hierin is specifiek vastgelegd welke gebreken zijn geconstateerd en hoe deze zijn hersteld. | M25: False | N25: 44568
A26: 100055G01 | B26: OVDR 17.173-349925 | D26: Ladders en klimijzers buiten | E26: 240800 | F26: 1 | G26: Goedgekeurd | H26: Gereed | I26: a3d75324-44c1-4ae9-a96d-cb67d7cdd392 | J26: Groen | K26: True | L26: Rapportage van de jaarlijkse uitgevoerd onderhoud, de inspectie en keuring. Hierin is specifiek vastgelegd welke gebreken zijn geconstateerd en hoe deze zijn hersteld. | M26: False | N26: 44491
A27: 100175G01 | B27: OVDR 17.173-349925 | D27: Ladders en klimijzers buiten | E27: 240800 | F27: 1 | G27: Goedgekeurd | H27: 10 - Gereed | I27: 58a4e238-87b4-4f72-90f3-87e3c32214ab | J27: Rood | K27: True | L27: Rapportage van de jaarlijkse uitgevoerd onderhoud, de inspectie en keuring. Hierin is specifiek vastgelegd welke gebreken zijn geconstateerd en hoe deze zijn hersteld. | M27: False | N27: 44874
A28: 100175G03 | B28: OVDR 17.173-349925 | D28: Ladders en klimijzers buiten | E28: 240800 | F28: 1 | G28: Goedgekeurd | H28: 10 - Gereed | I28: 9a980fd0-d7ac-4903-a7c6-3b2a98b8945a | J28: Groen | K28: True | L28: Rapportage van de jaarlijkse uitgevoerd onderhoud, de inspectie en keuring. Hierin is specifiek vastgelegd welke gebreken zijn geconstateerd en hoe deze zijn hersteld. | M28: False | N28: 44509
A29: 100185G01 | B29: OVDR 17.173-349925 | D29: Ladders en klimijzers buiten | E29: 240800 | F29: 1 | G29: Goedgekeurd | H29: Gereed | I29: 87afb3f3-f60b-4a82-b80d-4072c68876bb | J29: Groen | K29: True | L29: Rapportage van de jaarlijkse uitgevoerd onderhoud, de inspectie en keuring. Hierin is specifiek vastgelegd welke gebreken zijn geconstateerd en hoe deze zijn hersteld. | M29: False | N29: 44475
A30: 100839G01 | B30: OVDR 17.172-350305 | D30: Ladders en klimijzers buiten | E30: 240800 | F30: 1 | G30: Goedgekeurd | H30: 10 - Gereed | I30: dd7b7ab8-985b-4c67-b40e-8840f1ac9920 | J30: Groen | K30: True | L30: Rapportage van de jaarlijkse uitgevoerd onderhoud, de inspectie en keuring. Hierin is specifiek vastgelegd welke gebreken zijn geconstateerd en hoe deze zijn hersteld. | M30: False | N30: 44684
A31: 100488G01 | B31: OVDR 17.171-350077 | D31: Ladders en klimijzers buiten | E31: 240800 | F31: 1 | G31: Goedgekeurd | H31: 10 - Gereed | I31: d398ba86-33d2-48a0-a17a-0cb560719a58 | J31: Groen | K31: True | L31: Rapportage van de jaarlijkse uitgevoerd onderhoud, de inspectie en keuring. Hierin is specifiek vastgelegd welke gebreken zijn geconstateerd en hoe deze zijn hersteld. | M31: False | N31: 44712
A32: 100560G01 | B32: OVDR 17.172-350305 | D32: Ladders en klimijzers buiten | E32: 240800 | F32: 1 | G32: Goedgekeurd | H32: 10 - Gereed | I32: bebae24a-20c3-4dcc-a781-dfb146c9adc1 | J32: Groen | K32: True | L32: Rapportage van de jaarlijkse uitgevoerd onderhoud, de inspectie en keuring. Hierin is specifiek vastgelegd welke gebreken zijn geconstateerd en hoe deze zijn hersteld. | M32: False | N32: 44698
A33: 100152G07 | B33: OVDR 17.172-350305 | D33: Ladders en klimijzers buiten | E33: 240800 | F33: 1 | G33: Goedgekeurd | H33: 10 - Gereed | I33: f0869d15-c314-4a18-af5f-33f581347ce0 | J33: Groen | K33: True | L33: Rapportage van de jaarlijkse uitgevoerd onderhoud, de inspectie en keuring. Hierin is specifiek vastgelegd welke gebreken zijn geconstateerd en hoe deze zijn hersteld. | M33: False | N33: NB
A34: 100912G01 | B34: OVDR 17.172-350305 | D34: Ladders en klimijzers buiten | E34: 240800 | F34: 1 | G34: Goedgekeurd | H34: 10 - Gereed | I34: 1396ba31-ead7-4981-ba3e-fd0810dd0548 | J34: Groen | K34: True | L34: Rapportage van de jaarlijkse uitgevoerd onderhoud, de inspectie en keuring. Hierin is specifiek vastgelegd welke gebreken zijn geconstateerd en hoe deze zijn hersteld. | M34: False | N34: 44628
A35: 100152G05 | B35: OVDR 17.172-350305 | D35: Ladders en klimijzers buiten | E35: 240800 | F35: 1 | G35: Goedgekeurd | H35: 10 - Gereed | I35: 5228eadc-4a28-4c45-83cd-a770194b5f53 | J35: Groen | K35: True | L35: Rapportage van de jaarlijkse uitgevoerd onderhoud, de inspectie en keuring. Hierin is specifiek vastgelegd welke gebreken zijn geconstateerd en hoe deze zijn hersteld. | M35: False | N35: NB
A36: 100435G01 | B36: OVDR 17.171-350077 | D36: Ladders en klimijzers buiten | E36: 240800 | F36: 1 | G36: Controle | H36: 3 - Wacht op Leverancier | I36: 5f6e0c1b-c004-4b96-8050-3f2b2f49d698 | J36: Rood | K36: True | L36: Rapportage van de jaarlijkse uitgevoerd onderhoud, de inspectie en keuring. Hierin is specifiek vastgelegd welke gebreken zijn geconstateerd en hoe deze zijn hersteld. | M36: False | N36: 43319
A37: 100052G01 | B37: OVDR 17.171-350077 | D37: Ladders en klimijzers buiten | E37: 240800 | F37: 1 | G37: Controle | H37: 4 - Controle OM | I37: 325b268a-1931-438b-a366-fc69724a1aa7 | J37: NNB | K37: True | L37: Rapportage van de jaarlijkse uitgevoerd onderhoud, de inspectie en keuring. Hierin is specifiek vastgelegd welke gebreken zijn geconstateerd en hoe deze zijn hersteld. | M37: False | N37: NB
A38: 100191G33 | B38: OVDR 17.173-349925 | D38: Ladders en klimijzers buiten | E38: 240800 | F38: 1 | G38: Goedgekeurd | H38: 10 - Gereed | I38: 1ef34603-57f1-4fa9-9d45-8459c69dc104 | J38: Groen | K38: True | L38: Rapportage van de jaarlijkse uitgevoerd onderhoud, de inspectie en keuring. Hierin is specifiek vastgelegd welke gebreken zijn geconstateerd en hoe deze zijn hersteld. | M38: False | N38: 44624
A39: 100723G01 | B39: OVDR 17.172-350305 | D39: Ladders en klimijzers buiten | E39: 240800 | F39: 1 | G39: Goedgekeurd | H39: Gereed | I39: 6880fccb-7fcb-4c80-a2ac-a75cbe3f484b | J39: Rood | K39: True | L39: Rapportage van de jaarlijkse uitgevoerd onderhoud, de inspectie en keuring. Hierin is specifiek vastgelegd welke gebreken zijn geconstateerd en hoe deze zijn hersteld. | M39: False | N39: 44386
A40: 100824G01 | B40: OVDR 17.172-350305 | D40: Ladders en klimijzers buiten | E40: 240800 | F40: 1 | G40: Goedgekeurd | H40: 10 - Gereed | I40: 151e337a-ccb1-4206-bf96-93815e189327 | J40: Groen | K40: True | L40: Rapportage van de jaarlijkse uitgevoerd onderhoud, de inspectie en keuring. Hierin is specifiek vastgelegd welke gebreken zijn geconstateerd en hoe deze zijn hersteld. | M40: False | N40: 44701
A41: 100971G01 | B41: OVDR 17.172-350305 | D41: Ladders en klimijzers buiten | E41: 240800 | F41: 1 | G41: Afmelden | H41: 1 - Afmelden | I41: 0a49fbd0-dbb1-44fb-ba7a-1beb331ee669 | J41: Rood | K41: True | L41: Rapportage van de jaarlijkse uitgevoerd onderhoud, de inspectie en keuring. Hierin is specifiek vastgelegd welke gebreken zijn geconstateerd en hoe deze zijn hersteld. | M41: False | N41: 44369
A42: 100326G01 | B42: OVDR 17.171-350077 | D42: Ladders en klimijzers buiten | E42: 240800 | F42: 1 | G42: GeenStatus | I42: 91f77272-7db1-40be-a280-5cb30140e9a7 | J42: NNB | K42: True | L42: Rapportage van de jaarlijkse uitgevoerd onderhoud, de inspectie en keuring. Hierin is specifiek vastgelegd welke gebreken zijn geconstateerd en hoe deze zijn hersteld. | M42: False | N42: NB
A43: 100100G02 | B43: OVDR 17.172-350305 | D43: Ladders en klimijzers buiten | E43: 240800 | F43: 1 | G43: Goedgekeurd | H43: Gereed | I43: 4704ffdf-ad61-41ea-bf1c-572459cbf140 | J43: Rood | K43: True | L43: Rapportage van de jaarlijkse uitgevoerd onderhoud, de inspectie en keuring. Hierin is specifiek vastgelegd welke gebreken zijn geconstateerd en hoe deze zijn hersteld. | M43: False | N43: 44384
A44: 100191G08 | B44: OVDR 17.173-349925 | D44: Ladders en klimijzers buiten | E44: 240800 | F44: 1 | G44: Goedgekeurd | H44: 10 - Gereed | I44: 59aab1d3-feac-463d-bca8-0983faa4d125 | J44: Groen | K44: True | L44: Rapportage van de jaarlijkse uitgevoerd onderhoud, de inspectie en keuring. Hierin is specifiek vastgelegd welke gebreken zijn geconstateerd en hoe deze zijn hersteld. | M44: False | N44: 44624
A45: 100887G01 | B45: OVDR 17.172-350305 | D45: Ladders en klimijzers buiten | E45: 240800 | F45: 1 | G45: Afmelden | H45: 1 - Afmelden | I45: dec8cf73-1a30-4e2b-a461-3faf94ba6a73 | J45: NNB | K45: True | L45: Rapportage van de jaarlijkse uitgevoerd onderhoud, de inspectie en keuring. Hierin is specifiek vastgelegd welke gebreken zijn geconstateerd en hoe deze zijn hersteld. | M45: False | N45: NB
A46: 100960G02 | B46: OVDR 17.172-350305 | D46: Ladders en klimijzers buiten | E46: 240800 | F46: 1 | G46: Goedgekeurd | H46: Gereed | I46: 5405280b-673c-4267-bf79-eb9014c922ed | J46: Rood | K46: True | L46: Rapportage van de jaarlijkse uitgevoerd onderhoud, de inspectie en keuring. Hierin is specifiek vastgelegd welke gebreken zijn geconstateerd en hoe deze zijn hersteld. | M46: False | N46: 44286
A47: 100012G05 | B47: OVDR 17.171-350077 | D47: Ladders en klimijzers buiten | E47: 240800 | F47: 1 | G47: Controle | H47: 3 - Wacht op Leverancier | I47: a81ab523-b08a-4975-84e9-03d9b3d1dc77 | J47: Rood | K47: True | L47: Rapportage van de jaarlijkse uitgevoerd onderhoud, de inspectie en keuring. Hierin is specifiek vastgelegd welke gebreken zijn geconstateerd en hoe deze zijn hersteld. | M47: False | N47: 44357
A48: 101517G01 | B48: OVDR 17.173-349925 | D48: Ladders en klimijzers buiten | E48: 240800 | F48: 1 | G48: Goedgekeurd | H48: 10 - Gereed | I48: 8b7aa730-e9f4-4d06-92e3-84577684febf | J48: Groen | K48: True | L48: Rapportage van de jaarlijkse uitgevoerd onderhoud, de inspectie en keuring. Hierin is specifiek vastgelegd welke gebreken zijn geconstateerd en hoe deze zijn hersteld. | M48: False | N48: 44671
A49: 100028G02 | B49: OVDR 17.171-350077 | D49: Ladders en klimijzers buiten | E49: 240800 | F49: 1 | G49: Controle | H49: 3 - Wacht op Leverancier | I49: 30da871d-3b90-4df2-a4bb-36181143aecb | J49: Rood | K49: True | L49: Rapportage van de jaarlijkse uitgevoerd onderhoud, de inspectie en keuring. Hierin is specifiek vastgelegd welke gebreken zijn geconstateerd en hoe deze zijn hersteld. | M49: False | N49: 44377
A50: 100017G01 | B50: OVDR 17.171-350077 | D50: Ladders en klimijzers buiten | E50: 240800 | F50: 1 | G50: Controle | H50: 3 - Wacht op Leverancier | I50: 8dce4cd0-e53d-434e-a96d-a4719357de44 | J50: Rood | K50: True | L50: Rapportage van de jaarlijkse uitgevoerd onderhoud, de inspectie en keuring. Hierin is specifiek vastgelegd welke gebreken zijn geconstateerd en hoe deze zijn hersteld. | M50: False | N50: 43642
A51: 100022G04 | B51: OVDR 17.171-350077 | D51: Ladders en klimijzers buiten | E51: 240800 | F51: 1 | G51: Goedgekeurd | H51: Gereed | I51: 6e439a29-117c-40d2-b333-2d46d4caaefa | J51: Oranje | K51: True | L51: Rapportage van de jaarlijkse uitgevoerd onderhoud, de inspectie en keuring. Hierin is specifiek vastgelegd welke gebreken zijn geconstateerd en hoe deze zijn hersteld. | M51: False | N51: 44461
A52: 100179G01 | B52: OVDR 17.173-349925 | D52: Ladders en klimijzers buiten | E52: 240800 | F52: 1 | G52: Goedgekeurd | H52: Gereed | I52: 7a416269-de60-42ca-a30e-e391eaae5068 | J52: Groen | K52: True | L52: Rapportage van de jaarlijkse uitgevoerd onderhoud, de inspectie en keuring. Hierin is specifiek vastgelegd welke gebreken zijn geconstateerd en hoe deze zijn hersteld. | M52: False | N52: 44503
A53: 100823G01 | B53: OVDR 17.172-350305 | D53: Ladders en klimijzers buiten | E53: 240800 | F53: 1 | G53: Goedgekeurd | H53: 10 - Gereed | I53: 533965ee-34af-4b47-b8b3-65a2bb2c4d93 | J53: Rood | K53: True | L53: Rapportage van de jaarlijkse uitgevoerd onderhoud, de inspectie en keuring. Hierin is specifiek vastgelegd welke gebreken zijn geconstateerd en hoe deze zijn hersteld. | M53: False | N53: 44316
A54: 100152G06 | B54: OVDR 17.172-350305 | D54: Ladders en klimijzers buiten | E54: 240800 | F54: 1 | G54: Goedgekeurd | H54: 10 - Gereed | I54: b41d3229-d0b5-4288-bdb5-dc73af038101 | J54: Groen | K54: True | L54: Rapportage van de jaarlijkse uitgevoerd onderhoud, de inspectie en keuring. Hierin is specifiek vastgelegd welke gebreken zijn geconstateerd en hoe deze zijn hersteld. | M54: False | N54: NB
A55: 100833G01 | B55: OVDR 17.172-350305 | D55: Ladders en klimijzers buiten | E55: 240800 | F55: 1 | G55: Afmelden | H55: 1 - Afmelden | I55: 1d7c4dab-b9b8-4c71-b453-be45e81abc46 | J55: NNB | K55: True | L55: Rapportage van de jaarlijkse uitgevoerd onderhoud, de inspectie en keuring. Hierin is specifiek vastgelegd welke gebreken zijn geconstateerd en hoe deze zijn hersteld. | M55: False | N55: NB
A56: 100191G25 | B56: OVDR 17.173-349925 | D56: Ladders en klimijzers buiten | E56: 240800 | F56: 1 | G56: Goedgekeurd | H56: 10 - Gereed | I56: 7968bf29-1b25-458b-be03-aa2d9bfa461c | J56: Groen | K56: True | L56: Rapportage van de jaarlijkse uitgevoerd onderhoud, de inspectie en keuring. Hierin is specifiek vastgelegd welke gebreken zijn geconstateerd en hoe deze zijn hersteld. | M56: False | N56: 44631
A57: 101643G01 | B57: OVDR 17.172-350305 | D57: Ladders en klimijzers buiten | E57: 240800 | F57: 1 | G57: GeenStatus | I57: 48c9fc9f-bcbd-4777-9701-26c5ded20b5b | J57: NNB | K57: True | L57: Rapportage van de jaarlijkse uitgevoerd onderhoud, de inspectie en keuring. Hierin is specifiek vastgelegd welke gebreken zijn geconstateerd en hoe deze zijn hersteld. | M57: False | N57: NB
A58: 100421G01 | B58: OVDR 17.171-350077 | D58: Ladders en klimijzers buiten | E58: 240800 | F58: 1 | G58: Goedgekeurd | H58: Gereed | I58: 83d2299c-0265-4a26-836a-a674c3624ec4 | J58: Oranje | K58: True | L58: Rapportage van de jaarlijkse uitgevoerd onderhoud, de inspectie en keuring. Hierin is specifiek vastgelegd welke gebreken zijn geconstateerd en hoe deze zijn hersteld. | M58: False | N58: 44449
A59: 100199G01 | B59: OVDR 17.173-349925 | D59: Ladders en klimijzers buiten | E59: 240800 | F59: 1 | G59: Controle | H59: 3 - Wacht op Leverancier | I59: 78be620b-85b4-4137-8521-e9ebdde0ef6b | J59: Rood | K59: True | L59: Rapportage van de jaarlijkse uitgevoerd onderhoud, de inspectie en keuring. Hierin is specifiek vastgelegd welke gebreken zijn geconstateerd en hoe deze zijn hersteld. | M59: False | N59: 44369
A60: 100001G01 | B60: OVDR 17.171-350077 | D60: Ladders en klimijzers buiten | E60: 240800 | F60: 1 | G60: Goedgekeurd | H60: 10 - Gereed | I60: 24301d81-565f-4270-92e9-fc662270ad82 | J60: Groen | K60: True | L60: Rapportage van de jaarlijkse uitgevoerd onderhoud, de inspectie en keuring. Hierin is specifiek vastgelegd welke gebreken zijn geconstateerd en hoe deze zijn hersteld. | M60: False | N60: 44664
A61: 100772G01 | B61: OVDR 17.172-350305 | D61: Ladders en klimijzers buiten | E61: 240800 | F61: 1 | G61: Goedgekeurd | H61: 10 - Gereed | I61: e669acb3-d534-4f96-9dd8-9e2d33855f60 | J61: Oranje | K61: True | L61: Rapportage van de jaarlijkse uitgevoerd onderhoud, de inspectie en keuring. Hierin is specifiek vastgelegd welke gebreken zijn geconstateerd en hoe deze zijn hersteld. | M61: False | N61: 44463
A62: 100783G01 | B62: OVDR 17.172-350305 | D62: Ladders en klimijzers buiten | E62: 240800 | F62: 1 | G62: Goedgekeurd | H62: 10 - Gereed | I62: ba9938f7-9875-40b3-bc43-995411473b3b | J62: Groen | K62: True | L62: Rapportage van de jaarlijkse uitgevoerd onderhoud, de inspectie en keuring. Hierin is specifiek vastgelegd welke gebreken zijn geconstateerd en hoe deze zijn hersteld. | M62: False | N62: 44663
A63: 100819G01 | B63: OVDR 17.172-350305 | D63: Ladders en klimijzers buiten | E63: 240800 | F63: 1 | G63: Goedgekeurd | H63: Gereed | I63: fdad813d-2a7f-4f7d-bc35-d0addd355354 | J63: Rood | K63: True | L63: Rapportage van de jaarlijkse uitgevoerd onderhoud, de inspectie en keuring. Hierin is specifiek vastgelegd welke gebreken zijn geconstateerd en hoe deze zijn hersteld. | M63: False | N63: 44419
A64: 100007G03 | B64: OVDR 17.171-350077 | D64: Ladders en klimijzers buiten | E64: 240800 | F64: 1 | G64: Goedgekeurd | H64: 10 - Gereed | I64: 2ae70dbd-d557-4ab1-8542-e4ab69b836fa | J64: Groen | K64: True | L64: Rapportage van de jaarlijkse uitgevoerd onderhoud, de inspectie en keuring. Hierin is specifiek vastgelegd welke gebreken zijn geconstateerd en hoe deze zijn hersteld. | M64: False | N64: 44713
A65: 101114G01 | B65: OVDR 17.173-349925 | D65: Ladders en klimijzers buiten | E65: 240800 | F65: 1 | G65: Goedgekeurd | H65: Gereed | I65: c591e3dd-e8ba-41ec-8a24-d98ab39d6f9b | J65: Groen | K65: True | L65: Rapportage van de jaarlijkse uitgevoerd onderhoud, de inspectie en keuring. Hierin is specifiek vastgelegd welke gebreken zijn geconstateerd en hoe deze zijn hersteld. | M65: False | N65: 44496
A66: 100124G01 | B66: OVDR 17.172-350305 | D66: Ladders en klimijzers buiten | E66: 240800 | F66: 1 | G66: Goedgekeurd | H66: 10 - Gereed | I66: 704c4066-eead-4f70-94b8-c536775ae0b2 | J66: Groen | K66: True | L66: Rapportage van de jaarlijkse uitgevoerd onderhoud, de inspectie en keuring. Hierin is specifiek vastgelegd welke gebreken zijn geconstateerd en hoe deze zijn hersteld. | M66: False | N66: 44715
A67: 102054G01 | B67: OVDR 17.171-350077 | D67: Ladders en klimijzers buiten | E67: 240800 | F67: 1 | G67: GeenStatus | I67: 113d5865-8063-4130-abe0-8e260342dda3 | J67: NNB | K67: True | L67: Rapportage van de jaarlijkse uitgevoerd onderhoud, de inspectie en keuring. Hierin is specifiek vastgelegd welke gebreken zijn geconstateerd en hoe deze zijn hersteld. | M67: False | N67: NB
A68: 100452G01 | B68: OVDR 17.171-350077 | D68: Ladders en klimijzers buiten | E68: 240800 | F68: 1 | G68: Goedgekeurd | H68: 10 - Gereed | I68: f0d13b4e-e4e8-4353-b168-55654220a089 | J68: Groen | K68: True | L68: Rapportage van de jaarlijkse uitgevoerd onderhoud, de inspectie en keuring. Hierin is specifiek vastgelegd welke gebreken zijn geconstateerd en hoe deze zijn hersteld. | M68: False | N68: 44552
A69: 100191G04 | B69: OVDR 17.173-349925 | D69: Ladders en klimijzers buiten | E69: 240800 | F69: 1 | G69: Goedgekeurd | H69: 10 - Gereed | I69: cea4a6bf-108a-443f-9eac-97063b420c1b | J69: Groen | K69: True | L69: Rapportage van de jaarlijkse uitgevoerd onderhoud, de inspectie en keuring. Hierin is specifiek vastgelegd welke gebreken zijn geconstateerd en hoe deze zijn hersteld. | M69: False | N69: 44635
A70: 100896G01 | B70: OVDR 17.172-350305 | D70: Ladders en klimijzers buiten | E70: 240800 | F70: 1 | G70: Afmelden | H70: 1 - Afmelden | I70: 67712cc9-2485-411e-a03b-8b93b98092c9 | J70: NNB | K70: True | L70: Rapportage van de jaarlijkse uitgevoerd onderhoud, de inspectie en keuring. Hierin is specifiek vastgelegd welke gebreken zijn geconstateerd en hoe deze zijn hersteld. | M70: False | N70: NB
A71: 100500G01 | B71: OVDR 17.171-350077 | D71: Ladders en klimijzers buiten | E71: 240800 | F71: 1 | G71: Goedgekeurd | H71: Gereed | I71: d4d22b30-ac01-43bd-bbf9-f64585feca42 | J71: Oranje | K71: True | L71: Rapportage van de jaarlijkse uitgevoerd onderhoud, de inspectie en keuring. Hierin is specifiek vastgelegd welke gebreken zijn geconstateerd en hoe deze zijn hersteld. | M71: False | N71: 44461
A72: 100191G14 | B72: OVDR 17.173-349925 | D72: Ladders en klimijzers buiten | E72: 240800 | F72: 1 | G72: Goedgekeurd | H72: 10 - Gereed | I72: 1703b023-d40b-4329-9d33-aebf5cda6e3e | J72: Groen | K72: True | L72: Rapportage van de jaarlijkse uitgevoerd onderhoud, de inspectie en keuring. Hierin is specifiek vastgelegd welke gebreken zijn geconstateerd en hoe deze zijn hersteld. | M72: False | N72: 44622
A73: 100424G01 | B73: OVDR 17.171-350077 | D73: Ladders en klimijzers buiten | E73: 240800 | F73: 1 | G73: Goedgekeurd | H73: 10 - Gereed | I73: df96edf2-c98a-4c91-b271-17217b88f7bb | J73: Groen | K73: True | L73: Rapportage van de jaarlijkse uitgevoerd onderhoud, de inspectie en keuring. Hierin is specifiek vastgelegd welke gebreken zijn geconstateerd en hoe deze zijn hersteld. | M73: False | N73: 44679
A74: 100022G33 | B74: OVDR 17.171-350077 | D74: Ladders en klimijzers buiten | E74: 240800 | F74: 1 | G74: Goedgekeurd | H74: Gereed | I74: 32d38382-4411-4237-99af-a36b18e5f867 | J74: Oranje | K74: True | L74: Rapportage van de jaarlijkse uitgevoerd onderhoud, de inspectie en keuring. Hierin is specifiek vastgelegd welke gebreken zijn geconstateerd en hoe deze zijn hersteld. | M74: False | N74: 44462
A75: 100903G04 | B75: OVDR 17.172-350305 | D75: Ladders en klimijzers buiten | E75: 240800 | F75: 1 | G75: Goedgekeurd | H75: Gereed | I75: f80073ec-3f77-437f-93a3-ab77365d2630 | J75: Rood | K75: True | L75: Rapportage van de jaarlijkse uitgevoerd onderhoud, de inspectie en keuring. Hierin is specifiek vastgelegd welke gebreken zijn geconstateerd en hoe deze zijn hersteld. | M75: False | N75: 44286
A76: 101164G01 | B76: OVDR 17.173-349925 | D76: Ladders en klimijzers buiten | E76: 240800 | F76: 1 | G76: Controle | H76: 3 - Wacht op Leverancier | I76: ea4a2e19-5912-4101-bded-6c6df117a5d5 | J76: Rood | K76: True | L76: Rapportage van de jaarlijkse uitgevoerd onderhoud, de inspectie en keuring. Hierin is specifiek vastgelegd welke gebreken zijn geconstateerd en hoe deze zijn hersteld. | M76: False | N76: 43676
A77: 100191G06 | B77: OVDR 17.173-349925 | D77: Ladders en klimijzers buiten | E77: 240800 | F77: 1 | G77: Goedgekeurd | H77: 10 - Gereed | I77: 1bef0ff0-3f2a-445f-a37f-5b1ccb292eb1 | J77: Groen | K77: True | L77: Rapportage van de jaarlijkse uitgevoerd onderhoud, de inspectie en keuring. Hierin is specifiek vastgelegd welke gebreken zijn geconstateerd en hoe deze zijn hersteld. | M77: False | N77: 44625
A78: 100894G01 | B78: OVDR 17.172-350305 | D78: Ladders en klimijzers buiten | E78: 240800 | F78: 1 | G78: GeenStatus | I78: 05530ee1-e485-4d30-b4f3-6d1c5b649633 | J78: NNB | K78: True | L78: Rapportage van de jaarlijkse uitgevoerd onderhoud, de inspectie en keuring. Hierin is specifiek vastgelegd welke gebreken zijn geconstateerd en hoe deze zijn hersteld. | M78: False | N78: NB
A79: 100191G02 | B79: OVDR 17.173-349925 | D79: Ladders en klimijzers buiten | E79: 240800 | F79: 1 | G79: Controle | H79: 3 - Wacht op Leverancier | I79: 2632f9ff-4efe-4ba4-ae73-4845e8cb3bad | J79: Rood | K79: True | L79: Rapportage van de jaarlijkse uitgevoerd onderhoud, de inspectie en keuring. Hierin is specifiek vastgelegd welke gebreken zijn geconstateerd en hoe deze zijn hersteld. | M79: False | N79: 43915
A80: 100013G01 | B80: OVDR 17.171-350077 | D80: Ladders en klimijzers buiten | E80: 240800 | F80: 1 | G80: Afmelden | H80: 1 - Afmelden | I80: 7651fd08-0cb7-4d87-8a4e-ebfd822baa97 | J80: NNB | K80: True | L80: Rapportage van de jaarlijkse uitgevoerd onderhoud, de inspectie en keuring. Hierin is specifiek vastgelegd welke gebreken zijn geconstateerd en hoe deze zijn hersteld. | M80: False | N80: NB
A81: 102054G02 | B81: OVDR 17.171-350077 | D81: Ladders en klimijzers buiten | E81: 240800 | F81: 1 | G81: GeenStatus | I81: 7f5972c5-ea13-49f6-80d1-b5172be85450 | J81: NNB | K81: True | L81: Rapportage van de jaarlijkse uitgevoerd onderhoud, de inspectie en keuring. Hierin is specifiek vastgelegd welke gebreken zijn geconstateerd en hoe deze zijn hersteld. | M81: False | N81: NB
A82: 100189G02 | B82: OVDR 17.173-349925 | D82: Ladders en klimijzers buiten | E82: 240800 | F82: 1 | G82: Goedgekeurd | H82: Gereed | I82: 06547547-6963-4922-9135-406f4eba47b8 | J82: Groen | K82: True | L82: Rapportage van de jaarlijkse uitgevoerd onderhoud, de inspectie en keuring. Hierin is specifiek vastgelegd welke gebreken zijn geconstateerd en hoe deze zijn hersteld. | M82: False | N82: 44476
A83: 100810G01 | B83: OVDR 17.172-350305 | D83: Ladders en klimijzers buiten | E83: 240800 | F83: 1 | G83: Goedgekeurd | H83: 10 - Gereed | I83: b34dc52f-ed78-4287-8800-060f9c9a38c4 | J83: Rood | K83: True | L83: Rapportage van de jaarlijkse uitgevoerd onderhoud, de inspectie en keuring. Hierin is specifiek vastgelegd welke gebreken zijn geconstateerd en hoe deze zijn hersteld. | M83: False | N83: 44316
A84: 100001G02 | B84: OVDR 17.171-350077 | D84: Ladders en klimijzers buiten | E84: 240800 | F84: 1 | G84: Goedgekeurd | H84: 10 - Gereed | I84: 257398fb-95a2-4cca-b9b7-455df505369c | J84: Groen | K84: True | L84: Rapportage van de jaarlijkse uitgevoerd onderhoud, de inspectie en keuring. Hierin is specifiek vastgelegd welke gebreken zijn geconstateerd en hoe deze zijn hersteld. | M84: False | N84: 44664
A85: 100419G01 | B85: OVDR 17.171-350077 | D85: Ladders en klimijzers buiten | E85: 240800 | F85: 1 | G85: GeenStatus | I85: f7ef4920-dd55-4ea8-bd12-f2cc4290f8ee | J85: NNB | K85: True | L85: Rapportage van de jaarlijkse uitgevoerd onderhoud, de inspectie en keuring. Hierin is specifiek vastgelegd welke gebreken zijn geconstateerd en hoe deze zijn hersteld. | M85: False | N85: NB
A86: 100051G01 | B86: OVDR 17.171-350077 | D86: Ladders en klimijzers buiten | E86: 240800 | F86: 1 | G86: Goedgekeurd | H86: 10 - Gereed | I86: 3963ffbe-c949-40c3-84bf-7cc3137327f4 | J86: Groen | K86: True | L86: Rapportage van de jaarlijkse uitgevoerd onderhoud, de inspectie en keuring. Hierin is specifiek vastgelegd welke gebreken zijn geconstateerd en hoe deze zijn hersteld. | M86: False | N86: 44527
A87: 100929G01 | B87: OVDR 17.172-350305 | D87: Ladders en klimijzers buiten | E87: 240800 | F87: 1 | G87: Goedgekeurd | H87: 10 - Gereed | I87: 5b4dafea-2ebd-4c5c-8f22-ffccc75a176a | J87: Groen | K87: True | L87: Rapportage van de jaarlijkse uitgevoerd onderhoud, de inspectie en keuring. Hierin is specifiek vastgelegd welke gebreken zijn geconstateerd en hoe deze zijn hersteld. | M87: False | N87: 44707
A88: 100049G01 | B88: OVDR 17.171-350077 | D88: Ladders en klimijzers buiten | E88: 240800 | F88: 1 | G88: Goedgekeurd | H88: 10 - Gereed | I88: 201c6048-8b99-4eb5-a7d4-1061f7764adb | J88: Groen | K88: True | L88: Rapportage van de jaarlijkse uitgevoerd onderhoud, de inspectie en keuring. Hierin is specifiek vastgelegd welke gebreken zijn geconstateerd en hoe deze zijn hersteld. | M88: False | N88: 44582
A89: 100930G01 | B89: OVDR 17.172-350305 | D89: Ladders en klimijzers buiten | E89: 240800 | F89: 1 | G89: Goedgekeurd | H89: Gereed | I89: 140a02a4-0ad4-4397-b1ed-393bb035dba4 | J89: Rood | K89: True | L89: Rapportage van de jaarlijkse uitgevoerd onderhoud, de inspectie en keuring. Hierin is specifiek vastgelegd welke gebreken zijn geconstateerd en hoe deze zijn hersteld. | M89: False | N89: 44363
A90: 100007G02 | B90: OVDR 17.171-350077 | D90: Ladders en klimijzers buiten | E90: 240800 | F90: 1 | G90: Goedgekeurd | H90: 10 - Gereed | I90: 9f8357f2-180c-488f-8128-084c2c387303 | J90: Groen | K90: True | L90: Rapportage van de jaarlijkse uitgevoerd onderhoud, de inspectie en keuring. Hierin is specifiek vastgelegd welke gebreken zijn geconstateerd en hoe deze zijn hersteld. | M90: False | N90: 44713
A91: 100084G03 | B91: OVDR 17.172-350305 | D91: Ladders en klimijzers buiten | E91: 240800 | F91: 1 | G91: Afmelden | H91: 1 - Afmelden | I91: 6ddf785b-0f83-40d1-92f1-2e6f79cb0cf8 | J91: NNB | K91: True | L91: Rapportage van de jaarlijkse uitgevoerd onderhoud, de inspectie en keuring. Hierin is specifiek vastgelegd welke gebreken zijn geconstateerd en hoe deze zijn hersteld. | M91: False | N91: NB
A92: 101633G01 | B92: OVDR 17.171-350077 | D92: Ladders en klimijzers buiten | E92: 240800 | F92: 1 | G92: Controle | H92: 3 - Wacht op Leverancier | I92: 4e7e5339-aea1-4753-a220-fd61aa916b4c | J92: NNB | K92: True | L92: Rapportage van de jaarlijkse uitgevoerd onderhoud, de inspectie en keuring. Hierin is specifiek vastgelegd welke gebreken zijn geconstateerd en hoe deze zijn hersteld. | M92: False | N92: NB
A93: 101001G01 | B93: OVDR 17.172-350305 | D93: Ladders en klimijzers buiten | E93: 240800 | F93: 1 | G93: Goedgekeurd | H93: Gereed | I93: cc294b0b-84a2-4797-a78b-4edce23adafc | J93: Oranje | K93: True | L93: Rapportage van de jaarlijkse uitgevoerd onderhoud, de inspectie en keuring. Hierin is specifiek vastgelegd welke gebreken zijn geconstateerd en hoe deze zijn hersteld. | M93: False | N93: 44450
A94: 100013G06 | B94: OVDR 17.171-350077 | D94: Ladders en klimijzers buiten | E94: 240800 | F94: 1 | G94: Goedgekeurd | H94: 10 - Gereed | I94: bfdfa229-bf5e-40c2-b841-8604e5784f3e | J94: Groen | K94: True | L94: Rapportage van de jaarlijkse uitgevoerd onderhoud, de inspectie en keuring. Hierin is specifiek vastgelegd welke gebreken zijn geconstateerd en hoe deze zijn hersteld. | M94: False | N94: 44721
A95: 100146G05 | B95: OVDR 17.172-350305 | D95: Ladders en klimijzers buiten | E95: 240800 | F95: 1 | G95: Goedgekeurd | H95: Gereed | I95: 45508b47-ed89-4e35-9bd2-46f3cab83122 | J95: Groen | K95: True | L95: Rapportage van de jaarlijkse uitgevoerd onderhoud, de inspectie en keuring. Hierin is specifiek vastgelegd welke gebreken zijn geconstateerd en hoe deze zijn hersteld. | M95: False | N95: 44489
A96: 100512G01 | B96: OVDR 17.171-350077 | D96: Ladders en klimijzers buiten | E96: 240800 | F96: 1 | G96: Controle | H96: 3 - Wacht op Leverancier | I96: a954128c-aa21-4ab3-8131-b0b26fe96e04 | J96: NNB | K96: True | L96: Rapportage van de jaarlijkse uitgevoerd onderhoud, de inspectie en keuring. Hierin is specifiek vastgelegd welke gebreken zijn geconstateerd en hoe deze zijn hersteld. | M96: False | N96: NB
A97: 100040G08 | B97: OVDR 17.171-350077 | D97: Ladders en klimijzers buiten | E97: 240800 | F97: 1 | G97: Goedgekeurd | H97: 10 - Gereed | I97: 9f219826-6c57-40f6-a12c-a2b9e3f4eaaa | J97: Groen | K97: True | L97: Rapportage van de jaarlijkse uitgevoerd onderhoud, de inspectie en keuring. Hierin is specifiek vastgelegd welke gebreken zijn geconstateerd en hoe deze zijn hersteld. | M97: False | N97: 44735
A98: 100166G02 | B98: OVDR 17.172-350305 | D98: Ladders en klimijzers buiten | E98: 240800 | F98: 1 | G98: Goedgekeurd | H98: Gereed | I98: 2d9d7bd5-ae32-4d67-86bb-7bcfe285818a | J98: Oranje | K98: True | L98: Rapportage van de jaarlijkse uitgevoerd onderhoud, de inspectie en keuring. Hierin is specifiek vastgelegd welke gebreken zijn geconstateerd en hoe deze zijn hersteld. | M98: False | N98: 44447
A99: 100559G01 | B99: OVDR 17.172-350305 | D99: Ladders en klimijzers buiten | E99: 240800 | F99: 1 | G99: Goedgekeurd | H99: 10 - Gereed | I99: 8d2e47cc-03a1-4067-a826-2c2ad7d5356e | J99: Groen | K99: True | L99: Rapportage van de jaarlijkse uitgevoerd onderhoud, de inspectie en keuring. Hierin is specifiek vastgelegd welke gebreken zijn geconstateerd en hoe deze zijn hersteld. | M99: False | N99: 44719
A100: 100903G01 | B100: OVDR 17.172-350305 | D100: Ladders en klimijzers buiten | E100: 240800 | F100: 1 | G100: Goedgekeurd | H100: Gereed | I100: 1ea5e099-7441-49dd-a063-fdc86062b85c | J100: Rood | K100: True | L100: Rapportage van de jaarlijkse uitgevoerd onderhoud, de inspectie en keuring. Hierin is specifiek vastgelegd welke gebreken zijn geconstateerd en hoe deze zijn hersteld. | M100: False | N100: 44286
A101: 100146G07 | B101: OVDR 17.172-350305 | D101: Ladders en klimijzers buiten | E101: 240800 | F101: 1 | G101: Goedgekeurd | H101: Gereed | I101: 351b2afe-677f-442b-9027-5ccb97b265f7 | J101: Groen | K101: True | L101: Rapportage van de jaarlijkse uitgevoerd onderhoud, de inspectie en keuring. Hierin is specifiek vastgelegd welke gebreken zijn geconstateerd en hoe deze zijn hersteld. | M101: False | N101: 44489
...
