Workbook

Sheet Coel compleet
A1: ElementID | B1: Objectreferentie | C1: Adres | D1: Postcode | E1: Plaats | F1: BVO | G1: Elementcode | H1: Discipline | I1: Volgnummer | J1: Element omschrijving | K1: Fabrikaat | L1: Type | M1: Omvang/capaciteit | N1: Dimensie | O1: Aantal/Hoeveelheid | P1: Bouwjaar | Q1: Lokatie | R1: Perceelcode | S1: Toelichting (wordt dagelijks bijgewerkt) | T1: Contract periode | U1: Aanneemsom exkl. BTW | V1: Geldig tot
A2: a785fd92-3215-4e40-83a5-78d25052af75 | B2: 100055G01 | C2: Berg en Dalseweg 287 | D2: 6522CH | E2: Nijmegen | F2: 17768 | G2: 240800 | H2: BE | I2: 1 | J2: Ladders en klimijzers buiten | N2: [geen] | O2: 1 | P2: 2017 | R2: OVDR 17.173-349925 | S2: 33.00.66-00 1 st logboek; 33.20.61-00 2 st ladder opstelplaats; 33.20.62-00 3 st ladders; 33.20.62-62 3 st gevelladders opgelgelegd; | T2: 3-4-2017-1-4-2022 | V2: =VLOOKUP(B2,Verplichtingen!A:N,14,FALSE) -> 44491
A3: 50e8466b-e17e-4983-933e-8d22f57834aa | B3: 100055G01 | C3: Berg en Dalseweg 287 | D3: 6522CH | E3: Nijmegen | F3: 17768 | G3: 472300 | H3: BE | I3: 1 | J3: Valbeveiligingen | N3: [geen] | O3: 1 | P3: 2017 | R3: OVDR 17.173-349925 | S3: 33.40.23-00 2 st dakplan; 33.40.86-00 1 st pictogram; 33.50.81-00 2 st op en afstapvoorziening; 33.60.21-85 2 st dakankerpunt op staal; 33.60.42-62 9 st hekwerk los opgelegd; 33.60.63-08 62 m lijnbeveiliging op massief beton. | T3: 3-4-2017-1-4-2022 | V3: =VLOOKUP(B3,Verplichtingen!A:N,14,FALSE) -> 44491
A4: a4f13bb1-2bc0-46f0-a8fd-9ba06333b48f | B4: 100175G01 | C4: Karel de Grotelaan 4 | D4: 5616CA | E4: Eindhoven | F4: 1610 | G4: 240800 | H4: BE | I4: 1 | J4: Ladders en klimijzers buiten | N4: [geen] | O4: 1 | P4: 2016 | R4: OVDR 17.173-349925 | S4: 33.20.62-00 1 st. Gevelladder. | T4: 3-4-2017-1-4-2022 | V4: =VLOOKUP(B4,Verplichtingen!A:N,14,FALSE) -> 44874
A5: f5d25941-aea6-492e-913c-8802fa67b106 | B5: 100175G01 | C5: Karel de Grotelaan 4 | D5: 5616CA | E5: Eindhoven | F5: 1610 | G5: 472300 | H5: BE | I5: 1 | J5: Valbeveiligingen | N5: [geen] | O5: 1 | P5: 2016 | Q5: Dak | R5: OVDR 17.173-349925 | S5: 33.00.66-00 1 Logboek; 33.60.63-35 1 st. lijnbeveiliging op hout of lichtbeton van 56 mtr met 8 ankers; 33.60.42-62 1 st. hekwerk los oplegbaar (4,5 mtr). | T5: 3-4-2017-1-4-2022 | V5: =VLOOKUP(B5,Verplichtingen!A:N,14,FALSE) -> 44874
A6: 5df257c8-912a-4d84-bc2e-2fe41757b3b6 | B6: 100175G02 | C6: Karel de Grotelaan 4 | D6: 5616CA | E6: Eindhoven | F6: 16479 | G6: 240800 | H6: BE | I6: 1 | J6: Ladders en klimijzers buiten | N6: [geen] | O6: 1 | P6: 2016 | R6: OVDR 17.173-349925 | S6: 33.20.56-95 1 st. Kooiladder vast verankerd. | T6: 3-4-2017-1-4-2022 | V6: =VLOOKUP(B6,Verplichtingen!A:N,14,FALSE) -> 44509
A7: 8e6e08ee-45fb-43e1-8c73-86206a1b35d4 | B7: 100175G02 | C7: Karel de Grotelaan 4 | D7: 5616CA | E7: Eindhoven | F7: 16479 | G7: 472300 | H7: BE | I7: 1 | J7: Valbeveiligingen | N7: [geen] | O7: 1 | P7: 2016 | Q7: Dak | R7: OVDR 17.173-349925 | S7: 33.00.66-00 1 Logboek; 33.60.63-35 2 st lijnbeveiliging op hout of lichtbeton van 184 mtr met 25 ankers. | T7: 3-4-2017-1-4-2022 | V7: =VLOOKUP(B7,Verplichtingen!A:N,14,FALSE) -> 44509
A8: 4e14b2c7-4250-4924-8733-43cc6654a759 | B8: 100175G03 | C8: Karel de Grotelaan 4 | D8: 5616CA | E8: Eindhoven | F8: 12216 | G8: 240800 | H8: BE | I8: 1 | J8: Ladders en klimijzers buiten | N8: [geen] | O8: 1 | P8: 2016 | R8: OVDR 17.173-349925 | S8: 3.20.61-00 1 st. Ladder opstelplaats; 33.20.61-00 1 st. Ladder opstelplaats (ladder); 33.20.61-00 1 st. Ladder opstelplaats (bordestrap); 33.20.62-00 1 st. Gevelladder. | T8: 3-4-2017-1-4-2022 | V8: =VLOOKUP(B8,Verplichtingen!A:N,14,FALSE) -> 44509
A9: 1b96ff10-6b04-4bb7-8184-5cd3fecd5f59 | B9: 100175G03 | C9: Karel de Grotelaan 4 | D9: 5616CA | E9: Eindhoven | F9: 12216 | G9: 472300 | H9: BE | I9: 1 | J9: Valbeveiligingen | N9: [geen] | O9: 1 | P9: 2016 | Q9: Dak | R9: OVDR 17.173-349925 | S9: 33.00.66-00 1 Logboek; 33.60.63-35 2 st. lijnbeveiliging op hout of lichtbeton van 40 mtr met 6 ankers; 33.60.63-35 2 st. lijnbeveiliging op hout of lichtbeton van 8 mtr met 2 ankers; 33.60.63-35 1 st. lijnbeveiliging op hout of lichtbeton van 24 mtr met 4 ankers; 33.60.63-35 1 st. lijnbeveiliging op hout of lichtbeton van 96 mtr met 13 ankers; 33.60.63-35 1 st. lijnbeveiliging op hout of lichtbeton van 104 mtr met 14 ankers; 33.60.63-35 2 st. lijnbeveiliging op hout of lichtbeton van 32 mtr met 5 ankers; 33.60.21-35 4 st. ankerinrichting op hout of lichtbeton; 33.60.71-00 1 st. Muurankerpunt; 33.60.42-62 1 st. hekwerk los oplegbaar (45,5 mtr). | T9: 3-4-2017-1-4-2022 | V9: =VLOOKUP(B9,Verplichtingen!A:N,14,FALSE) -> 44509
A10: 514b2aff-5548-46dd-a7aa-d6b9acc6133d | B10: 100177G01 | C10: Muntlaan 1 | D10: 5361ME | E10: Grave | F10: 11823 | G10: 240800 | H10: BE | I10: 3 | J10: Ladders en klimijzers buiten | N10: [geen] | O10: 1 | P10: 2018 | R10: OVDR 17.173-349925 | S10: 33.20.62-00: 6 st Gevelladder33.20.56-95: 7 st Kooiladder | T10: 3-4-2017-1-4-2022 | V10: =VLOOKUP(B10,Verplichtingen!A:N,14,FALSE) -> 44663
A11: 6f0e3b2c-549e-4143-9c24-6cfc455cf497 | B11: 100177G01 | C11: Muntlaan 1 | D11: 5361ME | E11: Grave | F11: 11823 | G11: 472300 | H11: BE | I11: 1 | J11: Valbeveiligingen | N11: [geen] | O11: 1 | P11: 2016 | R11: OVDR 17.173-349925 | S11: 33.00.66-00 1 st. Logboek; 19 33.60.63-10 Systeem voor Remvable Transfastener; 470 RVS kabel 8mm konstr. 7x7; 101 CFP for Bitumen / EPD; 5 CPP fpr Bitumen / EPDM vrijstaand (incl. D-ring). | T11: 3-4-2017-1-4-2022 | V11: =VLOOKUP(B11,Verplichtingen!A:N,14,FALSE) -> 44663
A12: 21e528c5-fd31-4153-9548-a53d2373991c | B12: 100177G02 | C12: Muntlaan 1 | D12: 5361ME | E12: Grave | F12: 1557 | G12: 240800 | H12: BE | I12: 1 | J12: Ladders en klimijzers buiten | N12: [geen] | O12: 1 | P12: 2016 | R12: OVDR 17.173-349925 | S12: 33.20.62-00 7 st. Gevelladder; 33.20.56-95 1 st. Kooiladder vast verankerd. | T12: 3-4-2017-1-4-2022 | V12: =VLOOKUP(B12,Verplichtingen!A:N,14,FALSE) -> 44660
A13: 9de08d30-1064-413a-9241-f790c5da95b4 | B13: 100177G02 | C13: Muntlaan 1 | D13: 5361ME | E13: Grave | F13: 1557 | G13: 472300 | H13: BE | I13: 1 | J13: Valbeveiligingen | N13: [geen] | O13: 1 | P13: 2015 | Q13: Dak | R13: OVDR 17.173-349925 | S13: 33.00.66-00 1 st. Logboek; 33.6063-35 3 systeem voor Removable Transfastener; 142 RVS kabel 8 mm konstr. 7x7; 25 CFP for Bitumen / EPDM. | T13: 3-4-2017-1-4-2022 | V13: =VLOOKUP(B13,Verplichtingen!A:N,14,FALSE) -> 44660
A14: cc075537-fe4a-4413-b1ee-8fc0ed4ddee1 | B14: 100177G03 | C14: Muntlaan 1 | D14: 5361ME | E14: Grave | F14: 6605 | G14: 240800 | H14: BE | I14: 1 | J14: Ladders en klimijzers buiten | N14: [geen] | O14: 1 | P14: 2016 | R14: OVDR 17.173-349925 | S14: 33.20.62-00 3 st. Gevelladder; 33.20.56-95 2 st. Kooiladder vast verankerd. | T14: 3-4-2017-1-4-2022 | V14: =VLOOKUP(B14,Verplichtingen!A:N,14,FALSE) -> 44660
A15: a64f4f1b-1c76-4055-b813-7093a17bc16d | B15: 100177G03 | C15: Muntlaan 1 | D15: 5361ME | E15: Grave | F15: 6605 | G15: 472300 | H15: BE | I15: 1 | J15: Valbeveiligingen | N15: [geen] | O15: 1 | P15: 2015 | Q15: Dak | R15: OVDR 17.173-349925 | S15: 33.00.66-00 1 st. Logboek; 7 Systeem voor Removable Transfastener; 477 RVS kabel 8 mm konstr. 7x7; 83 CFP for Bitumen / EPDM; 4 CFP for Bitumen / EPDM | T15: 3-4-2017-1-4-2022 | V15: =VLOOKUP(B15,Verplichtingen!A:N,14,FALSE) -> 44660
A16: 0e03499b-8f6a-470d-b91f-97231bfe1c78 | B16: 100179G01 | C16: Patersstraat 4 | D16: 5977NM | E16: Evertsoord | F16: 3247 | G16: 240800 | H16: BE | I16: 1 | J16: Ladders en klimijzers buiten | N16: [geen] | O16: 1 | P16: 2017 | Q16: Gevel | R16: OVDR 17.173-349925 | S16: 1 st. Ladderopstelplaats | T16: 3-4-2017-1-4-2022 | V16: =VLOOKUP(B16,Verplichtingen!A:N,14,FALSE) -> 44503
A17: 4d7604cd-705f-461a-a660-f9514887e3b9 | B17: 100179G01 | C17: Patersstraat 4 | D17: 5977NM | E17: Evertsoord | F17: 3247 | G17: 472300 | H17: BE | I17: 1 | J17: Valbeveiligingen | K17: Lachtways | N17: [geen] | O17: 1 | P17: 2016 | R17: OVDR 17.173-349925 | S17: 33.00.66-00 1 st logboek; 33.60.21-85 1 st Ankerinrichting op staal; 33.60.63-85 8 st Lijnbeveiliging op staal; 33.50.98-00 1 st Vastzetinrichting luik; 33.40.86-00 7 st Pictogram; 33.40.36-00 8 st Gebiedsmarkering; 33.40.23-00 2 st dak plattegrond | T17: 3-4-2017-1-4-2022 | V17: =VLOOKUP(B17,Verplichtingen!A:N,14,FALSE) -> 44503
A18: d68872e5-31a6-4c16-a2b9-87586635e226 | B18: 100179G03 | C18: Patersstraat 4 | D18: 5977NM | E18: Evertsoord | F18: 766 | G18: 240800 | H18: BE | I18: 1 | J18: Ladders en klimijzers buiten | K18: Latchways | N18: [geen] | O18: 1 | P18: 2016 | R18: OVDR 17.173-349925 | S18: 33.00.66-00 2 st logboek; 33.20.61-00 2 st Ladder opstelplaats. | T18: 3-4-2017-1-4-2022 | V18: =VLOOKUP(B18,Verplichtingen!A:N,14,FALSE) -> 44503
A19: e6da3260-14c8-45f3-a9a7-236d2c224f84 | B19: 100179G03 | C19: Patersstraat 4 | D19: 5977NM | E19: Evertsoord | F19: 766 | G19: 472300 | H19: BE | I19: 1 | J19: Valbeveiligingen | K19: Latchways | N19: [geen] | O19: 1 | P19: 2016 | R19: OVDR 17.173-349925 | S19: 33.00.66-00 1 st logboek; 33.60.21-35 1 st Ankerinrichting op hout of lichtbeton; 33.60.63-35 3 st Lijnbeveiliging op hout of lichtbeton; 33.60.28-00 2 st Doorvalbeveiliging; 33.50.64-95 1 st Loopbrug vast verankerd; 33.50.50-83 2 st Lichtkoepel of -straat; 33.40.86-00 1 st Pictogram; 33.60.93-00 3 st Looppadtegels op dakvlak; 33.40.23-00 1 st dak plattegrond; 33.40.36-00 20 st gebiedsmarkering; 33.60.42-62 4m hekwerk los oplegbaar. | T19: 3-4-2017-1-4-2022 | V19: =VLOOKUP(B19,Verplichtingen!A:N,14,FALSE) -> 44503
A20: aa4353ed-3900-41ea-b5ca-427d8e4915ac | B20: 100179G07 | C20: Patersstraat 4 | D20: 5977NM | E20: Evertsoord | F20: 7695 | G20: 240800 | H20: BE | I20: 1 | J20: Ladders en klimijzers buiten | K20: Dirks | N20: [geen] | O20: 1 | P20: 2016 | R20: OVDR 17.173-349925 | S20: 33.00.66-00 1 st logboek; 33.20.61-00 2 st Ladder opstelplaats; 33.20.62-00 1 st gevelladder. | T20: 3-4-2017-1-4-2022 | V20: =VLOOKUP(B20,Verplichtingen!A:N,14,FALSE) -> 44503
A21: 1370eb64-8377-4295-8c5a-dda52c02604a | B21: 100179G07 | C21: Patersstraat 4 | D21: 5977NM | E21: Evertsoord | F21: 7695 | G21: 472300 | H21: BE | I21: 1 | J21: Valbeveiligingen | K21: Latchways | N21: [geen] | O21: 1 | P21: 2016 | R21: OVDR 17.173-349925 | S21: 33.00.66-00 1 st logboek; 33.60.63-08 4 st Lijnbeveiliging op massief beton; 33.60.63-35 5 st Lijnbeveiliging op hout of lichtbeton; 33.50.50-83 2 st Lichtkoepel of -straat; 33.60.91-00 1 st Looppadrooster op dakvlak; 33.60.93-00 6 st Looppadtegels op dakvlak; 33.30.41-00 4 st harnas; 33.30.99-31 4 st Werklijn flexibel instelbaar; 33.30.65-58 6 st Loopwagen voor lijnbeveiliging. | T21: 3-4-2017-1-4-2022 | V21: =VLOOKUP(B21,Verplichtingen!A:N,14,FALSE) -> 44503
A22: 73db9563-cd10-43f3-a26a-558ff403d3c2 | B22: 100184G01 | C22: Leeghwaterlaan 8 | D22: 5223BA | E22: s-Hertogenbosch | F22: 42233 | G22: 240800 | H22: BE | I22: 1 | J22: Ladders en klimijzers buiten | K22: Altrex | L22: Rocky DR 2*14 treden | M22: 2 | N22: [geen] | O22: 4 | P22: 2010 | Q22: DAK A-B | R22: OVDR 17.173-349925 | S22: 2 stuks Altrex ladders op tussendak A-B; type Rocky DR 2*14 treden; 21,5 kg; Lmin 4,18 m; Lmax 6,98 m | T22: 3-4-2017-1-4-2022 | V22: =VLOOKUP(B22,Verplichtingen!A:N,14,FALSE) -> #N/A
A23: a541360d-343e-4b61-8a26-3f4cce8e8559 | B23: 100184G01 | C23: Leeghwaterlaan 8 | D23: 5223BA | E23: s-Hertogenbosch | F23: 42233 | G23: 472300 | H23: BE | I23: 1 | J23: Valbeveiligingen | N23: [geen] | O23: 1 | P23: 2019 | R23: OVDR 17.173-349925 | S23: ..m rails, ..m kabel, ..st borgingspuntenBC-PvJNiet nader berekend. | T23: 3-4-2017-1-4-2022 | V23: =VLOOKUP(B23,Verplichtingen!A:N,14,FALSE) -> #N/A
A24: 2a151e7e-14da-4a92-837f-8bc2c0fcd250 | B24: 100185G01 | C24: Nergena 3 | D24: 5282JE | E24: Boxtel | F24: 454 | G24: 240800 | H24: BE | I24: 1 | J24: Ladders en klimijzers buiten | N24: [geen] | O24: 1 | P24: 2017 | R24: OVDR 17.173-349925 | S24: 33.00.66-00 1 st logboek; 33.20.61-00 4 st ladder opstelplaats; 33.20.62-00 4 st ladders; 33.20.62-62 2 st gevelladder los opgelegd. | T24: 3-4-2017-1-4-2022 | V24: =VLOOKUP(B24,Verplichtingen!A:N,14,FALSE) -> 44475
A25: 49d47828-6ff4-4f0c-a88d-5b90ae329769 | B25: 100185G01 | C25: Nergena 3 | D25: 5282JE | E25: Boxtel | F25: 454 | G25: 472300 | H25: BE | I25: 1 | J25: Valbeveiligingen | N25: [geen] | O25: 1 | P25: 2017 | R25: OVDR 17.173-349925 | S25: 33.30.41-00 2 st harnas; 33.30.65.58 2 st loopwagen voor lijnbeveiliging; 33.30.99-31 2 st werklijn flexibel instelbaar; 33.40.23-00 2 st dakplan; 33.40.36-00 36 st gebiedsmarkering; 33.60.28-00 12 st doorvalbeveiliging; 33.60.63-35 76 st lijnbeveiliging op hout of lichtbeton; 33.60.93-00 2,4 looppad tegels; 33.60.71-00 2 st muurankerpunt; 33.40.86-00 25 st pictogram | T25: 3-4-2017-1-4-2022 | V25: =VLOOKUP(B25,Verplichtingen!A:N,14,FALSE) -> 44475
A26: 0f127acf-124b-43b4-86f1-3b11bd61673d | B26: 100189G02 | C26: Sint Pieterstraat 7 | D26: 6211JM | E26: Maastricht | F26: 8068 | G26: 240800 | H26: BE | I26: 1 | J26: Ladders en klimijzers buiten | N26: [geen] | O26: 1 | P26: 2017 | Q26: - | R26: OVDR 17.173-349925 | S26: 33.00.66-00 1 st logboek; 33.20.61-00 1 st ladder opstelplaats; 33.20.62-00 3,5 st gevelladder. | T26: 3-4-2017-1-4-2022 | V26: =VLOOKUP(B26,Verplichtingen!A:N,14,FALSE) -> 44476
A27: 64d5a7ca-d904-4456-9a0c-91c80dc84381 | B27: 100189G02 | C27: Sint Pieterstraat 7 | D27: 6211JM | E27: Maastricht | F27: 8068 | G27: 472300 | H27: BE | I27: 1 | J27: Valbeveiligingen | N27: [geen] | O27: 1 | P27: 2017 | Q27: - | R27: OVDR 17.173-349925 | S27: 33.30.41-00 2 st harnas; 33.30.65.58 2 st. loopwagen voor lijnbeveiliging; 33.30.99-31 2 st werklijn flexibel instelbaar; 33.40.23-00 3 st dakplan; 33.50.97-00 1 st vastzetinrichting deur; 33.60.21-85 4 st dakankerpunt op staal; 33.60.28-00 1 st doorvalbeveiliging; 33.60.42-95 2,5 m hekwerk vast verankerd; 33.60.63-35 16 m lijnbeveiliging op hout of lichtbeton; 33.60.63-85 21 m lijnbeveiliging op staal. | T27: 3-4-2017-1-4-2022 | V27: =VLOOKUP(B27,Verplichtingen!A:N,14,FALSE) -> 44476
A28: c2d1988d-3036-4e68-83bb-1da0a77e4666 | B28: 100191G01 | C28: Lunettenlaan 501 | D28: 5263NT | E28: Vught | F28: 3070 | G28: 240800 | H28: BE | I28: 1 | J28: Ladders en klimijzers buiten | N28: [geen] | O28: 1 | P28: 2020 | R28: OVDR 17.173-349925 | S28: 33.20.62-00: 2st. gevelladder 33.20.61-00 2 st Ladder opstelplaats | T28: 3-4-2017-1-4-2022 | V28: =VLOOKUP(B28,Verplichtingen!A:N,14,FALSE) -> 44621
A29: c740dfcd-8189-40da-942d-ff0e0940ca3e | B29: 100191G01 | C29: Lunettenlaan 501 | D29: 5263NT | E29: Vught | F29: 3070 | G29: 472300 | H29: BE | I29: 1 | J29: Valbeveiligingen | N29: [geen] | O29: 1 | P29: 2019 | R29: OVDR 17.173-349925 | S29: 33.60.21-35: 3st Pendule Anker 33.60.63-35: 8st Lijnsysteem 45 ankerpunten 33.60.93-00: 18 st Looppadtegels | T29: 3-4-2017-1-4-2022 | V29: =VLOOKUP(B29,Verplichtingen!A:N,14,FALSE) -> 44621
A30: 69066a87-8d3b-4c6e-bf97-c136bbe861ee | B30: 100191G02 | C30: Lunettenlaan 501 | D30: 5263NT | E30: Vught | F30: 6711 | G30: 240800 | H30: BE | I30: 1 | J30: Ladders en klimijzers buiten | N30: [geen] | O30: 1 | P30: 2020 | R30: OVDR 17.173-349925 | T30: 3-4-2017-1-4-2022 | V30: =VLOOKUP(B30,Verplichtingen!A:N,14,FALSE) -> 43915
A31: 82bbb697-75cf-4591-bff7-1a7f203ff5e5 | B31: 100191G02 | C31: Lunettenlaan 501 | D31: 5263NT | E31: Vught | F31: 6711 | G31: 472300 | H31: BE | I31: 1 | J31: Valbeveiligingen | N31: [geen] | O31: 1 | P31: 2019 | R31: OVDR 17.173-349925 | S31: ..m rails, ..m kabel, ..st borgingspunten | T31: 3-4-2017-1-4-2022 | V31: =VLOOKUP(B31,Verplichtingen!A:N,14,FALSE) -> 43915
A32: 909c387a-59d9-48b9-bd92-649c76fe01fd | B32: 100191G03 | C32: Lunettenlaan 501 | D32: 5263NT | E32: Vught | F32: 5138 | G32: 240800 | H32: BE | I32: 1 | J32: Ladders en klimijzers buiten | N32: [geen] | O32: 1 | P32: 2019 | R32: OVDR 17.173-349925 | S32: 33.20.62-00: 1st opstapbordes | T32: 3-4-2017-1-4-2022 | V32: =VLOOKUP(B32,Verplichtingen!A:N,14,FALSE) -> 44628
A33: 84e6bcd4-e6b6-4717-ad9a-646d1c7ce222 | B33: 100191G03 | C33: Lunettenlaan 501 | D33: 5263NT | E33: Vught | F33: 5138 | G33: 472300 | H33: BE | I33: 1 | J33: Valbeveiligingen | N33: [geen] | O33: 1 | P33: 2007 | R33: OVDR 17.173-349925 | S33: 33.60.21-35 4st Pendule Anker 33.60.63-35: 7 st Lijnsysteem 73 ankerpunten33.60.93-00: 12st Looppadtegels 33.60.25-00: 4 st Doorvalbeveiliging33.60.42-62: 9st Hekwerk | T33: 3-4-2017-1-4-2022 | V33: =VLOOKUP(B33,Verplichtingen!A:N,14,FALSE) -> 44628
A34: 5b1a9a3b-4563-4251-88d4-b15068973923 | B34: 100191G04 | C34: Lunettenlaan 501 | D34: 5263NT | E34: Vught | F34: 4371 | G34: 240800 | H34: BE | I34: 1 | J34: Ladders en klimijzers buiten | N34: [geen] | O34: 1 | P34: 2020 | R34: OVDR 17.173-349925 | S34: 33.20.95-01: 3st Opstapbordes | T34: 3-4-2017-1-4-2022 | V34: =VLOOKUP(B34,Verplichtingen!A:N,14,FALSE) -> 44635
A35: 1574014b-13f6-4d9a-b6f0-b1d5b3aec288 | B35: 100191G04 | C35: Lunettenlaan 501 | D35: 5263NT | E35: Vught | F35: 4371 | G35: 472300 | H35: BE | I35: 1 | J35: Valbeveiligingen | N35: [geen] | O35: 1 | P35: 2011 | R35: OVDR 17.173-349925 | S35: 33.60.63-35: 10st Lijnsystemen 56st Ankerpunten33.60.93-00: 14st Looppadtegels | T35: 3-4-2017-1-4-2022 | V35: =VLOOKUP(B35,Verplichtingen!A:N,14,FALSE) -> 44635
A36: d61cf740-9b0c-44f6-a833-10ac95ace44b | B36: 100191G05 | C36: Lunettenlaan 501 | D36: 5263NT | E36: Vught | F36: 1699 | G36: 240800 | H36: BE | I36: 1 | J36: Ladders en klimijzers buiten | N36: [geen] | O36: 1 | P36: 2020 | R36: OVDR 17.173-349925 | S36: 33.20.61-00: 2 st Ladderopstelplaats | T36: 3-4-2017-1-4-2022 | V36: =VLOOKUP(B36,Verplichtingen!A:N,14,FALSE) -> 44625
A37: 04c396bc-36e3-40a6-b5cc-d0dbe87d503d | B37: 100191G05 | C37: Lunettenlaan 501 | D37: 5263NT | E37: Vught | F37: 1699 | G37: 472300 | H37: BE | I37: 1 | J37: Valbeveiligingen | N37: [geen] | O37: 1 | P37: 2011 | R37: OVDR 17.173-349925 | S37: 33.60.21.35: 3st Lijnsystemen 32st Ankerpunten33.60.93-00: 8st Looppadtegels | T37: 3-4-2017-1-4-2022 | V37: =VLOOKUP(B37,Verplichtingen!A:N,14,FALSE) -> 44625
A38: d0481e46-4c81-424d-81c1-13194e987b53 | B38: 100191G06 | C38: Lunettenlaan 501 | D38: 5263NT | E38: Vught | F38: 2401 | G38: 240800 | H38: BE | I38: 1 | J38: Ladders en klimijzers buiten | N38: [geen] | O38: 1 | P38: 2019 | R38: OVDR 17.173-349925 | S38: 33.20.61-00: 3st Ladderopstelplaats | T38: 3-4-2017-1-4-2022 | V38: =VLOOKUP(B38,Verplichtingen!A:N,14,FALSE) -> 44625
A39: ff0f252a-b803-4c7a-a80c-9586de31c4fe | B39: 100191G06 | C39: Lunettenlaan 501 | D39: 5263NT | E39: Vught | F39: 2401 | G39: 472300 | H39: BE | I39: 1 | J39: Valbeveiligingen | N39: [geen] | O39: 1 | P39: 2019 | R39: OVDR 17.173-349925 | S39: 33.60.63-35: 3st Lijnsystemen 32 Ankerpunten 33.60.42-62 2st Hekwerk33.60.93-00: 6st Looppadtegels 33.60.28-00: 6st Doorvalbeveiliging33.60.21-35: 1st Pendule Anker | T39: 3-4-2017-1-4-2022 | V39: =VLOOKUP(B39,Verplichtingen!A:N,14,FALSE) -> 44625
A40: d558f36b-a5fa-4ccf-8b9b-38d98434ad7a | B40: 100191G07 | C40: Lunettenlaan 501 | D40: 5263NT | E40: Vught | F40: 7142 | G40: 240800 | H40: BE | I40: 1 | J40: Ladders en klimijzers buiten | N40: [geen] | O40: 1 | P40: 2020 | R40: OVDR 17.173-349925 | S40: 33.20.62-00: 1st Gevelladder | T40: 3-4-2017-1-4-2022 | V40: =VLOOKUP(B40,Verplichtingen!A:N,14,FALSE) -> 44628
...

Sheet Verplichtingen
A1: Objectnummer | B1: Contractnummer | C1: Leverancier | D1: Element omschrijving | E1: Elementcode | F1: Element volgnummer | G1: Afmeldfase | H1: Afmeldstatus | I1: Id | J1: Stoplicht | K1: Actief | L1: Verplichting omschrijving | M1: Wettelijke verplichting | N1: Geldig tot
A2: 100151G02 | B2: OVDR 17.172-350305 | D2: Ladders en klimijzers buiten | E2: 240800 | F2: 1 | G2: Goedgekeurd | H2: 10 - Gereed | I2: df72d355-4ad3-4018-b4aa-952066c24f47 | J2: Groen | K2: True | L2: Rapportage van de jaarlijkse uitgevoerd onderhoud, de inspectie en keuring. Hierin is specifiek vastgelegd welke gebreken zijn geconstateerd en hoe deze zijn hersteld. | M2: False | N2: 44722
A3: 100026G07 | B3: OVDR 17.171-350077 | D3: Ladders en klimijzers buiten | E3: 240800 | F3: 1 | G3: Goedgekeurd | H3: 10 - Gereed | I3: 438b712e-b211-49f0-85e6-502fec36a4e5 | J3: Groen | K3: True | L3: Rapportage van de jaarlijkse uitgevoerd onderhoud, de inspectie en keuring. Hierin is specifiek vastgelegd welke gebreken zijn geconstateerd en hoe deze zijn hersteld. | M3: False | N3: 44728
A4: 100124G03 | B4: OVDR 17.172-350305 | D4: Ladders en klimijzers buiten | E4: 240800 | F4: 1 | G4: Goedgekeurd | H4: 10 - Gereed | I4: 7a38af2f-ca31-4e60-b109-0e4d838f229f | J4: Groen | K4: True | L4: Rapportage van de jaarlijkse uitgevoerd onderhoud, de inspectie en keuring. Hierin is specifiek vastgelegd welke gebreken zijn geconstateerd en hoe deze zijn hersteld. | M4: False | N4: 44715
A5: 100550G01 | B5: OVDR 17.172-350305 | D5: Ladders en klimijzers buiten | E5: 240800 | F5: 1 | G5: Goedgekeurd | H5: 10 - Gereed | I5: 626fc6ac-ce29-40fa-993a-1f73ad7d89cc | J5: Groen | K5: True | L5: Rapportage van de jaarlijkse uitgevoerd onderhoud, de inspectie en keuring. Hierin is specifiek vastgelegd welke gebreken zijn geconstateerd en hoe deze zijn hersteld. | M5: False | N5: 44698
A6: 100146G06 | B6: OVDR 17.172-350305 | D6: Ladders en klimijzers buiten | E6: 240800 | F6: 1 | G6: Goedgekeurd | H6: Gereed | I6: 07cd3722-da81-46f1-93a5-8898e5c56648 | J6: Groen | K6: True | L6: Rapportage van de jaarlijkse uitgevoerd onderhoud, de inspectie en keuring. Hierin is specifiek vastgelegd welke gebreken zijn geconstateerd en hoe deze zijn hersteld. | M6: False | N6: 44489
A7: 100177G03 | B7: OVDR 17.173-349925 | D7: Ladders en klimijzers buiten | E7: 240800 | F7: 1 | G7: Goedgekeurd | H7: 10 - Gereed | I7: 95a5efba-caed-4f42-923f-0c7940d6edf2 | J7: Groen | K7: True | L7: Rapportage van de jaarlijkse uitgevoerd onderhoud, de inspectie en keuring. Hierin is specifiek vastgelegd welke gebreken zijn geconstateerd en hoe deze zijn hersteld. | M7: False | N7: 44660
A8: 100088G02 | B8: OVDR 17.172-350305 | D8: Ladders en klimijzers buiten | E8: 240800 | F8: 1 | G8: Goedgekeurd | H8: 10 - Gereed | I8: c8b23ab0-160b-4c6d-85b1-8385f7c7edfe | J8: Groen | K8: True | L8: Rapportage van de jaarlijkse uitgevoerd onderhoud, de inspectie en keuring. Hierin is specifiek vastgelegd welke gebreken zijn geconstateerd en hoe deze zijn hersteld. | M8: False | N8: 44670
A9: 100054G01 | B9: OVDR 17.171-350077 | D9: Ladders en klimijzers buiten | E9: 240800 | F9: 1 | G9: Controle | H9: 3 - Wacht op Leverancier | I9: 7523eee8-e9be-4f2e-9bac-d475d9c262a1 | J9: Rood | K9: True | L9: Rapportage van de jaarlijkse uitgevoerd onderhoud, de inspectie en keuring. Hierin is specifiek vastgelegd welke gebreken zijn geconstateerd en hoe deze zijn hersteld. | M9: False | N9: 44344
A10: 100791G01 | B10: OVDR 17.172-350305 | D10: Ladders en klimijzers buiten | E10: 240800 | F10: 1 | G10: Goedgekeurd | H10: 10 - Gereed | I10: ee4fbf33-7511-4fa8-9a2a-735482ea8744 | J10: Groen | K10: True | L10: Rapportage van de jaarlijkse uitgevoerd onderhoud, de inspectie en keuring. Hierin is specifiek vastgelegd welke gebreken zijn geconstateerd en hoe deze zijn hersteld. | M10: False | N10: 44687
A11: 100028G01 | B11: OVDR 17.171-350077 | D11: Ladders en klimijzers buiten | E11: 240800 | F11: 1 | G11: Controle | H11: 3 - Wacht op Leverancier | I11: c0928f36-86da-4418-bf3a-78005d055226 | J11: Rood | K11: True | L11: Rapportage van de jaarlijkse uitgevoerd onderhoud, de inspectie en keuring. Hierin is specifiek vastgelegd welke gebreken zijn geconstateerd en hoe deze zijn hersteld. | M11: False | N11: 44379
A12: 100191G05 | B12: OVDR 17.173-349925 | D12: Ladders en klimijzers buiten | E12: 240800 | F12: 1 | G12: Goedgekeurd | H12: 10 - Gereed | I12: 893f2893-e46c-4d4c-a492-8b56a55ae507 | J12: Groen | K12: True | L12: Rapportage van de jaarlijkse uitgevoerd onderhoud, de inspectie en keuring. Hierin is specifiek vastgelegd welke gebreken zijn geconstateerd en hoe deze zijn hersteld. | M12: False | N12: 44625
A13: 100085G01 | B13: OVDR 17.172-350305 | D13: Ladders en klimijzers buiten | E13: 240800 | F13: 1 | G13: Goedgekeurd | H13: 10 - Gereed | I13: 615fc6f7-881d-4080-9b47-1a7f0a619692 | J13: Groen | K13: True | L13: Rapportage van de jaarlijkse uitgevoerd onderhoud, de inspectie en keuring. Hierin is specifiek vastgelegd welke gebreken zijn geconstateerd en hoe deze zijn hersteld. | M13: False | N13: 44632
... A15: 100191G07 | B15: OVDR 17.173-349925 | D15: Ladders en klimijzers buiten | E15: 240800 | F15: 1 | G15: Goedgekeurd | H15: 10 - Gereed | I15: 8ff75106-ff0c-439c-8b61-8b360e3f6942 | J15: Groen | K15: True | L15: Rapportage van de jaarlijkse uitgevoerd onderhoud, de inspectie en keuring. Hierin is specifiek vastgelegd welke gebreken zijn geconstateerd en hoe deze zijn hersteld. | M15: False | N15: 44628
A16: 100152G02 | B16: OVDR 17.172-350305 | D16: Ladders en klimijzers buiten | E16: 240800 | F16: 1 | G16: Goedgekeurd | H16: 10 - Gereed | I16: 26123eeb-1cdb-4e81-9861-6ad16841593c | J16: Groen | K16: True | L16: Rapportage van de jaarlijkse uitgevoerd onderhoud, de inspectie en keuring. Hierin is specifiek vastgelegd welke gebreken zijn geconstateerd en hoe deze zijn hersteld. | M16: False | N16: NB
A17: 100961G02 | B17: OVDR 17.172-350305 | D17: Ladders en klimijzers buiten | E17: 240800 | F17: 1 | G17: GeenStatus | I17: 39df222d-9b1d-4b53-adce-cf909e772e58 | J17: NNB | K17: True | L17: Rapportage van de jaarlijkse uitgevoerd onderhoud, de inspectie en keuring. Hierin is specifiek vastgelegd welke gebreken zijn geconstateerd en hoe deze zijn hersteld. | M17: False | N17: NB
A18: 100146G02 | B18: OVDR 17.172-350305 | D18: Ladders en klimijzers buiten | E18: 240800 | F18: 1 | G18: Goedgekeurd | H18: 10 - Gereed | I18: 1db02e7e-1f54-4fb9-95fe-0cf5dd6d9439 | J18: Groen | K18: True | L18: Rapportage van de jaarlijkse uitgevoerd onderhoud, de inspectie en keuring. Hierin is specifiek vastgelegd welke gebreken zijn geconstateerd en hoe deze zijn hersteld. | M18: False | N18: 44663
A19: 101300G01 | B19: OVDR 17.172-350305 | D19: Ladders en klimijzers buiten | E19: 240800 | F19: 1 | G19: Goedgekeurd | H19: 10 - Gereed | I19: 4fd46caa-e95d-4ee8-a17c-fd1742df0378 | J19: Groen | K19: True | L19: Rapportage van de jaarlijkse uitgevoerd onderhoud, de inspectie en keuring. Hierin is specifiek vastgelegd welke gebreken zijn geconstateerd en hoe deze zijn hersteld. | M19: False | N19: 44708
A20: 100806G01 | B20: OVDR 17.172-350305 | D20: Ladders en klimijzers buiten | E20: 240800 | F20: 1 | G20: Goedgekeurd | H20: 10 - Gereed | I20: 0a06d2e4-cd40-4414-9934-cb8073ab7529 | J20: Groen | K20: True | L20: Rapportage van de jaarlijkse uitgevoerd onderhoud, de inspectie en keuring. Hierin is specifiek vastgelegd welke gebreken zijn geconstateerd en hoe deze zijn hersteld. | M20: False | N20: 44719
A21: 100961G01 | B21: OVDR 17.172-350305 | D21: Ladders en klimijzers buiten | E21: 240800 | F21: 1 | G21: Afmelden | H21: 1 - Afmelden | I21: 46495adb-14c8-4f00-af1c-acda0ac5512d | J21: NNB | K21: True | L21: Rapportage van de jaarlijkse uitgevoerd onderhoud, de inspectie en keuring. Hierin is specifiek vastgelegd welke gebreken zijn geconstateerd en hoe deze zijn hersteld. | M21: False | N21: NB
A22: 100966G01 | B22: OVDR 17.172-350305 | D22: Ladders en klimijzers buiten | E22: 240800 | F22: 1 | G22: Afmelden | H22: 1 - Afmelden | I22: 79c8f936-9a90-4f15-b2c0-695d0498b47b | J22: NNB | K22: True | L22: Rapportage van de jaarlijkse uitgevoerd onderhoud, de inspectie en keuring. Hierin is specifiek vastgelegd welke gebreken zijn geconstateerd en hoe deze zijn hersteld. | M22: False | N22: NB
A23: 100168G03 | B23: OVDR 17.172-350305 | D23: Ladders en klimijzers buiten | E23: 240800 | F23: 1 | G23: Goedgekeurd | H23: Gereed | I23: 900beaed-801c-43b6-b585-7e6205cae968 | J23: Rood | K23: True | L23: Rapportage van de jaarlijkse uitgevoerd onderhoud, de inspectie en keuring. Hierin is specifiek vastgelegd welke gebreken zijn geconstateerd en hoe deze zijn hersteld. | M23: False | N23: 44428
A24: 100814G01 | B24: OVDR 17.172-350305 | D24: Ladders en klimijzers buiten | E24: 240800 | F24: 1 | G24: Afmelden | H24: 1 - Afmelden | I24: e4e7a9e9-ab3d-4b31-a926-fbe7a45c50cd | J24: Rood | K24: True | L24: Rapportage van de jaarlijkse uitgevoerd onderhoud, de inspectie en keuring. Hierin is specifiek vastgelegd welke gebreken zijn geconstateerd en hoe deze zijn hersteld. | M24: False | N24: 44701
A25: 101141G01 | B25: OVDR 17.173-349925 | D25: Ladders en klimijzers buiten | E25: 240800 | F25: 1 | G25: Goedgekeurd | H25: 10 - Gereed | I25: 5d4ac82d-c1ab-4b8c-9365-c25184e1ab98 | J25: Groen | K25: True | L25: Rapportage van de jaarlijkse uitgevoerd onderhoud, de inspectie en keuring. Hierin is specifiek vastgelegd welke gebreken zijn geconstateerd en hoe deze zijn hersteld. | M25: False | N25: 44568
A26: 100055G01 | B26: OVDR 17.173-349925 | D26: Ladders en klimijzers buiten | E26: 240800 | F26: 1 | G26: Goedgekeurd | H26: Gereed | I26: a3d75324-44c1-4ae9-a96d-cb67d7cdd392 | J26: Groen | K26: True | L26: Rapportage van de jaarlijkse uitgevoerd onderhoud, de inspectie en keuring. Hierin is specifiek vastgelegd welke gebreken zijn geconstateerd en hoe deze zijn hersteld. | M26: False | N26: 44491
A27: 100175G01 | B27: OVDR 17.173-349925 | D27: Ladders en klimijzers buiten | E27: 240800 | F27: 1 | G27: Goedgekeurd | H27: 10 - Gereed | I27: 58a4e238-87b4-4f72-90f3-87e3c32214ab | J27: Rood | K27: True | L27: Rapportage van de jaarlijkse uitgevoerd onderhoud, de inspectie en keuring. Hierin is specifiek vastgelegd welke gebreken zijn geconstateerd en hoe deze zijn hersteld. | M27: False | N27: 44874
A28: 100175G03 | B28: OVDR 17.173-349925 | D28: Ladders en klimijzers buiten | E28: 240800 | F28: 1 | G28: Goedgekeurd | H28: 10 - Gereed | I28: 9a980fd0-d7ac-4903-a7c6-3b2a98b8945a | J28: Groen | K28: True | L28: Rapportage van de jaarlijkse uitgevoerd onderhoud, de inspectie en keuring. Hierin is specifiek vastgelegd welke gebreken zijn geconstateerd en hoe deze zijn hersteld. | M28: False | N28: 44509
A29: 100185G01 | B29: OVDR 17.173-349925 | D29: Ladders en klimijzers buiten | E29: 240800 | F29: 1 | G29: Goedgekeurd | H29: Gereed | I29: 87afb3f3-f60b-4a82-b80d-4072c68876bb | J29: Groen | K29: True | L29: Rapportage van de jaarlijkse uitgevoerd onderhoud, de inspectie en keuring. Hierin is specifiek vastgelegd welke gebreken zijn geconstateerd en hoe deze zijn hersteld. | M29: False | N29: 44475
A30: 100839G01 | B30: OVDR 17.172-350305 | D30: Ladders en klimijzers buiten | E30: 240800 | F30: 1 | G30: Goedgekeurd | H30: 10 - Gereed | I30: dd7b7ab8-985b-4c67-b40e-8840f1ac9920 | J30: Groen | K30: True | L30: Rapportage van de jaarlijkse uitgevoerd onderhoud, de inspectie en keuring. Hierin is specifiek vastgelegd welke gebreken zijn geconstateerd en hoe deze zijn hersteld. | M30: False | N30: 44684
A31: 100488G01 | B31: OVDR 17.171-350077 | D31: Ladders en klimijzers buiten | E31: 240800 | F31: 1 | G31: Goedgekeurd | H31: 10 - Gereed | I31: d398ba86-33d2-48a0-a17a-0cb560719a58 | J31: Groen | K31: True | L31: Rapportage van de jaarlijkse uitgevoerd onderhoud, de inspectie en keuring. Hierin is specifiek vastgelegd welke gebreken zijn geconstateerd en hoe deze zijn hersteld. | M31: False | N31: 44712
A32: 100560G01 | B32: OVDR 17.172-350305 | D32: Ladders en klimijzers buiten | E32: 240800 | F32: 1 | G32: Goedgekeurd | H32: 10 - Gereed | I32: bebae24a-20c3-4dcc-a781-dfb146c9adc1 | J32: Groen | K32: True | L32: Rapportage van de jaarlijkse uitgevoerd onderhoud, de inspectie en keuring. Hierin is specifiek vastgelegd welke gebreken zijn geconstateerd en hoe deze zijn hersteld. | M32: False | N32: 44698
A33: 100152G07 | B33: OVDR 17.172-350305 | D33: Ladders en klimijzers buiten | E33: 240800 | F33: 1 | G33: Goedgekeurd | H33: 10 - Gereed | I33: f0869d15-c314-4a18-af5f-33f581347ce0 | J33: Groen | K33: True | L33: Rapportage van de jaarlijkse uitgevoerd onderhoud, de inspectie en keuring. Hierin is specifiek vastgelegd welke gebreken zijn geconstateerd en hoe deze zijn hersteld. | M33: False | N33: NB
A34: 100912G01 | B34: OVDR 17.172-350305 | D34: Ladders en klimijzers buiten | E34: 240800 | F34: 1 | G34: Goedgekeurd | H34: 10 - Gereed | I34: 1396ba31-ead7-4981-ba3e-fd0810dd0548 | J34: Groen | K34: True | L34: Rapportage van de jaarlijkse uitgevoerd onderhoud, de inspectie en keuring. Hierin is specifiek vastgelegd welke gebreken zijn geconstateerd en hoe deze zijn hersteld. | M34: False | N34: 44628
A35: 100152G05 | B35: OVDR 17.172-350305 | D35: Ladders en klimijzers buiten | E35: 240800 | F35: 1 | G35: Goedgekeurd | H35: 10 - Gereed | I35: 5228eadc-4a28-4c45-83cd-a770194b5f53 | J35: Groen | K35: True | L35: Rapportage van de jaarlijkse uitgevoerd onderhoud, de inspectie en keuring. Hierin is specifiek vastgelegd welke gebreken zijn geconstateerd en hoe deze zijn hersteld. | M35: False | N35: NB
A36: 100435G01 | B36: OVDR 17.171-350077 | D36: Ladders en klimijzers buiten | E36: 240800 | F36: 1 | G36: Controle | H36: 3 - Wacht op Leverancier | I36: 5f6e0c1b-c004-4b96-8050-3f2b2f49d698 | J36: Rood | K36: True | L36: Rapportage van de jaarlijkse uitgevoerd onderhoud, de inspectie en keuring. Hierin is specifiek vastgelegd welke gebreken zijn geconstateerd en hoe deze zijn hersteld. | M36: False | N36: 43319
A37: 100052G01 | B37: OVDR 17.171-350077 | D37: Ladders en klimijzers buiten | E37: 240800 | F37: 1 | G37: Controle | H37: 4 - Controle OM | I37: 325b268a-1931-438b-a366-fc69724a1aa7 | J37: NNB | K37: True | L37: Rapportage van de jaarlijkse uitgevoerd onderhoud, de inspectie en keuring. Hierin is specifiek vastgelegd welke gebreken zijn geconstateerd en hoe deze zijn hersteld. | M37: False | N37: NB
A38: 100191G33 | B38: OVDR 17.173-349925 | D38: Ladders en klimijzers buiten | E38: 240800 | F38: 1 | G38: Goedgekeurd | H38: 10 - Gereed | I38: 1ef34603-57f1-4fa9-9d45-8459c69dc104 | J38: Groen | K38: True | L38: Rapportage van de jaarlijkse uitgevoerd onderhoud, de inspectie en keuring. Hierin is specifiek vastgelegd welke gebreken zijn geconstateerd en hoe deze zijn hersteld. | M38: False | N38: 44624
A39: 100723G01 | B39: OVDR 17.172-350305 | D39: Ladders en klimijzers buiten | E39: 240800 | F39: 1 | G39: Goedgekeurd | H39: Gereed | I39: 6880fccb-7fcb-4c80-a2ac-a75cbe3f484b | J39: Rood | K39: True | L39: Rapportage van de jaarlijkse uitgevoerd onderhoud, de inspectie en keuring. Hierin is specifiek vastgelegd welke gebreken zijn geconstateerd en hoe deze zijn hersteld. | M39: False | N39: 44386
A40: 100824G01 | B40: OVDR 17.172-350305 | D40: Ladders en klimijzers buiten | E40: 240800 | F40: 1 | G40: Goedgekeurd | H40: 10 - Gereed | I40: 151e337a-ccb1-4206-bf96-93815e189327 | J40: Groen | K40: True | L40: Rapportage van de jaarlijkse uitgevoerd onderhoud, de inspectie en keuring. Hierin is specifiek vastgelegd welke gebreken zijn geconstateerd en hoe deze zijn hersteld. | M40: False | N40: 44701
A41: 100971G01 | B41: OVDR 17.172-350305 | D41: Ladders en klimijzers buiten | E41: 240800 | F41: 1 | G41: Afmelden | H41: 1 - Afmelden | I41: 0a49fbd0-dbb1-44fb-ba7a-1beb331ee669 | J41: Rood | K41: True | L41: Rapportage van de jaarlijkse uitgevoerd onderhoud, de inspectie en keuring. Hierin is specifiek vastgelegd welke gebreken zijn geconstateerd en hoe deze zijn hersteld. | M41: False | N41: 44369
...
