Workbook
Name _Toc467845485: 'aanbesteding_AXIRA-ERF tablets'!#REF!
Name _Toc467845485: 'wensen Strycker'!#REF!

Sheet wensen Strycker
A1: nummer | B1: omschrijving | D1: weging | E1: waardering | G1: score
A2: W1.01 | B2: De container staat op een origineel chassis (4X2) en niet op een zogenaamd aanbouw chassis | C2: W | D2: 3 | E2: 4 | F2: 10 | G2: =D2*F2 -> 30
A3: W1.02 | B3: Een zo evenwichtig mogelijk voertuig. Aspecten: 1. Een zo gunstig mogelijke gewichtsverdeling. De leverancier voegt bij zijn offerte een gewichtsberekening toe 2. Een zo laag mogelijk zwaartepunt. De leverancier geeft aan op welk punt het zwaartepunt zich bevindt 3. Een zo laag mogelijk maximaal toelaatbaar gewicht | C3: W | D3: 3 | E3: 3 | F3: 7 | G3: =D3*F3 -> 21 | H3: zwaartepunt fractie hoger dan concurent, ruimte in gewicht groter. Waardering zelfde
A4: W1.03 | B4: Een zo veilig mogelijke ambulance waarbij de reacties van het chassis en de compartimenten bij een frontale aanrijding of omrollen van de ambulance, de veiligheid van de inzittenden zo min mogelijk beïnvloeden. • Sluit beschikbare resultaten van deformatietests (crashtests) van de ambulance bij uw aanbieding in • Omschrijf aan welke aanvullende maatregelen, naast de geëiste, aanwezig zijn ter voorkoming van letsel tijdens gebruik of aanrijding | C4: W | D4: 2 | E4: 4 | F4: 10 | G4: =D4*F4 -> 20 | H4: gegevens botsproef niet gevonden (blijken onderdeel van TUV rapportage), inclusief container
A5: W1.04 | B5: Het voertuig is uitgerust met een remsysteem dat geschikt is voor het intensieve gebruik als voorrangsvoertuig (ambulance) (denk met name aan het voorkomen van oververhitting | C5: W | D5: 3 | E5: 4 | F5: 10 | G5: =D5*F5 -> 30
A6: W1.05 | B6: De ambulance heeft een zo groot mogelijke duurzaamheid. Aspecten: 1. De maatregelen tegen corrosie en roesten van binnen uit 2. Het materiaal waarvan de opbouw vervaardigd is 3. De wanden van de opbouw zijn minimaal 35 mm dik | C6: W | D6: 2 | E6: 4 | F6: 10 | G6: =D6*F6 -> 20
A7: W1.06 | B7: Rijeigenschappen en patiënt vriendelijkheid: • Een zeer soepel schakelgedrag (kan door een proefrit door opdrachtgever beoordeeld worden) | C7: W | D7: 2 | E7: 4 | F7: 10 | G7: =D7*F7 -> 20
A8: W1.07 | B8: Het voertuig is voorzien van op de belasting aangepaste vering en dubbel werkende schokbrekers | C8: W | D8: 3 | E8: 4 | F8: 10 | G8: =D8*F8 -> 30
A9: W1.08 | B9: Luchtvering zakken achter te bedienen zonder ingeschakeld contact | C9: W | D9: 3 | E9: 4 | F9: 10 | G9: =D9*F9 -> 30
A10: W1.09 | B10: De voertuigmotor voldoet tenminste aan de norm euro 6. Indien voor het einde van de contractperiode door gewijzigde wetgeving het overeengekomen voertuig geleverd kan worden met een verbeterde versie (euro 7), dient de rest van de te leveren voertuigen hiermee uitgevoerd te worden | C10: W | D10: 3 | E10: 4 | F10: 10 | G10: =D10*F10 -> 30
A11: W1.10 | B11: De prestaties van het voertuig zijn zo goed mogelijk • Aantal seconden tot 100Km/u • Aantal seconden van 60 tot 100 Km/u • Snelheid helling op rijdend (kan door een proefrit door opdrachtgever beoordeeld worden) | C11: W | D11: 3 | E11: 3 | F11: 7 | G11: =D11*F11 -> 21 | H11: Blijken er wel te zijn, op basis van een "camper chassis" maar zelfde koffer en motor dus goed
A12: W1.11 | B12: De snelheid is begrensd op 170 km/u, zonder dat dit gevolgen heeft voor de acceleratie | C12: W | D12: 2 | E12: 4 | F12: 10 | G12: =D12*F12 -> 20
A13: W1.12 | B13: Het voertuig heeft een minimale op- en afrij hoek van 10 graden | C13: W | D13: 2 | E13: 4 | F13: 10 | G13: =D13*F13 -> 20
A14: W1.13 | B14: Draaicirkel maximaal 14 m | C14: W | D14: 1 | E14: 4 | F14: 10 | G14: =D14*F14 -> 10
A15: W1.14 | B15: Het voertuig heeft een volwaardig reserve wiel | C15: W | D15: 1 | E15: 4 | F15: 10 | G15: =D15*F15 -> 10
A16: W1.15 | B16: Zo gunstig mogelijke garantie regeling van het basis voertuig en opbouw. Aspecten: • De garantie periode van het basis voertuig en opbouw is zo lang mogelijk ( min.2jaar) Onder de garantie bepalingen vallen minimaal de volgende componenten: • De techniek van het gehele basisvoertuig met opbouw • Het doorroesten van het plaatwerk van binnen uit | C16: W | D16: 3 | E16: 3 | F16: 7 | G16: =D16*F16 -> 21 | H16: A Vr garantie redelijk echter niet extra (NB verschil concurent terecht?)
A17: W1.16 | B17: De investeringskosten per jaar per voertuig vallen, bij een afschrijvingstermijn 5 jaar, binnen de budgetten van de ziektekosten verzekeraars. Lagere kosten scoren beter. | C17: W | D17: 3 | E17: 3 | F17: 7 | G17: =D17*F17 -> 21 | H17: 23330 te gering verschil afschrijving concurent
A18: W1.17 | B18: Uitgebreide actieve en passieve veiligheidssystemen zoals BAS (rem-assisterend systeem bij noodstop), of gelijkwaardig systeem, extra airbags enz. | C18: W | D18: 4 | E18: 4 | F18: 10 | G18: =D18*F18 -> 40
A19: W1.18 | B19: NCAP kwalificatie (RED-botsproef) | C19: W | D19: 2 | E19: 4 | F19: 10 | G19: =D19*F19 -> 20
A20: W1.19 | B20: Het voertuig heeft een “signalering bij verkeer in de dodehoek / dode hoek camera” | C20: W | D20: 2 | E20: 4 | F20: 10 | G20: =D20*F20 -> 20
A21: W1.20 | B21: Alle deuren voorzien van instap met antislip | C21: W | D21: 1 | E21: 4 | F21: 10 | G21: =D21*F21 -> 10
A22: W1.21 | B22: centrale deurvergrendeling op alle deuren bedienbaar vanaf binnen- en buitenzijde | C22: W | D22: 3 | E22: 4 | F22: 10 | G22: =D22*F22 -> 30
A23: W1.22 | B23: Regensensor die de ruitenwissers aanstuurt | C23: W | D23: 1 | E23: 4 | F23: 10 | G23: =D23*F23 -> 10
A24: W1.23 | B24: De cabine wordt voorzien van losse rubberen matten | C24: W | D24: 1 | E24: 4 | F24: 10 | G24: =D24*F24 -> 10
A25: W1.24 | B25: Voor- en achter spatlappen | C25: W | D25: 2 | E25: 4 | F25: 10 | G25: =D25*F25 -> 20
A26: W1.25 | B26: RVS sidebars gemonteerd met steps onder alle deuropeningen. | C26: W | D26: 1 | E26: 3 | F26: 7 | G26: =D26*F26 -> 7 | H26: Sidebars niet mogelijk, alternatief goed
A27: W1.26 | B27: Reservewiel, zodanig gemonteerd dat het onder alle omstandigheden van buitenaf gemakkelijk en snel bereikbaar en demontabel is voor gebruik. | C27: W | D27: 2 | E27: 4 | F27: 10 | G27: =D27*F27 -> 20
A28: W1.27 | B28: De startblokkering indien aangesloten op de walaansluiting werkt bij voorkeur ook bij netspanninguitval. De startblokkering is doormiddel van een controle lamp zichtbaar. | C28: W | D28: 2 | E28: 3 | F28: 7 | G28: =D28*F28 -> 14 | H28: niet bij Defa (startblokkering bij stroomuitval, er wordt wel een alternatief aangeboden!)
A29: W1.28 | B29: Bij draaiende motor, als de sleutel uit het contact is, moet men niet kunnen wegrijden met het voertuig maar dient de motor af te slaan. | C29: W | D29: 2 | E29: 4 | F29: 10 | G29: =D29*F29 -> 20
A30: W1.29 | B30: Tot minimaal 10 jaar na levering garandeert opdrachtnemer de beschikbaarheid van essentiële originele onderdelen. Na 6 jaar zijn er alternatieve reparatie mogelijkheden in overleg met opdrachtgever toegestaan | C30: W | D30: 2 | E30: 4 | F30: 10 | G30: =D30*F30 -> 20
A31: W1.30 | B31: Inzake het chassis dient er een servicepunt te zijn binnen de regio Zuid-Limburg | C31: W | D31: 2 | E31: 4 | F31: 10 | G31: =D31*F31 -> 20
A32: W1.31 | B32: De servicepunten voor dringende herstelwerkzaamheden zijn 24 uur per dag 365 dagen per jaar bereikbaar | C32: W | D32: 3 | E32: 4 | F32: 10 | G32: =D32*F32 -> 30
A33: W1.32 | B33: Ten behoeve van de opleiding van de gebruikersgroep met betrekking tot de bediening dient de inschrijver een instructie te verzorgen. | C33: W | D33: 1 | E33: 4 | F33: 10 | G33: =D33*F33 -> 10
A34: W1.33 | B34: Voor de opleiding van het werkplaatspersoneel (personeel van de betreffende merk dealer)met betrekking tot het plegen van onderhoud en het opheffen van storingen dient de inschrijver een instructie te verzorgen. | C34: W | D34: 1 | E34: 4 | F34: 10 | G34: =D34*F34 -> 10
A35: W1.34 | B35: Zo makkelijk mogelijk schoon te houden exterieur | C35: W | D35: 1 | E35: 3 | F35: 7 | G35: =D35*F35 -> 7 | H35: ter beoordeling van Raymond (strips/randen) beide redelijk
A36: W1.35 | B36: De overgang tussen cabine en container is gestroomlijnd uitgevoerd (ook de overgang bovenzijde cabine naar container) | C36: W | D36: 2 | E36: 3 | F36: 7 | G36: =D36*F36 -> 14 | H36: bovenzijde minder goede stroomlijn dan concurent
A37: W1.36 | B37: Glas van de ruiten, warmtewerend veiligheidsglas rondom, gelaagde voorruit | C37: W | D37: 2 | E37: 4 | F37: 10 | G37: =D37*F37 -> 20
A38: W1.37 | B38: Aircopomp moet voldoende capaciteit hebben voor zowel het systeem in het voor- als het systeem in het achtercompartiment, ook bij stationair draaiende motor. | C38: W | D38: 4 | E38: 4 | F38: 10 | G38: =D38*F38 -> 40
A39: W1.38 | B39: BPM afhandeling. Volledig door leverancier te verzorgen. | C39: W | D39: 1 | E39: 4 | F39: 10 | G39: =D39*F39 -> 10
A40: W1.39 | B40: Het voertuig wordt voorzien van voertuignummer, organisatie belettering en- logo (in afstemming met de opdrachtgever) | C40: W | D40: 1 | E40: 4 | F40: 10 | G40: =D40*F40 -> 10
...

Sheet wensen Kartsana
A1: nummer | B1: omschrijving | D1: weging | E1: waardering | G1: score
A2: W1.01 | B2: De container staat op een origineel chassis (4X2) en niet op een zogenaamd aanbouw chassis | C2: W | D2: 3 | E2: 4 | F2: 10 | G2: =D2*F2 -> 30
A3: W1.02 | B3: Een zo evenwichtig mogelijk voertuig. Aspecten: 1. Een zo gunstig mogelijke gewichtsverdeling. De leverancier voegt bij zijn offerte een gewichtsberekening toe 2. Een zo laag mogelijk zwaartepunt. De leverancier geeft aan op welk punt het zwaartepunt zich bevindt 3. Een zo laag mogelijk maximaal toelaatbaar gewicht | C3: W | D3: 3 | E3: 3 | F3: 7 | G3: =D3*F3 -> 21 | H3: Beide zijn in een zelfde mate evenwichtig. Visser heeft een fraactie lager zwaartepunt, concurent meer flexibiliteit in gewicht
A4: W1.03 | B4: Een zo veilig mogelijke ambulance waarbij de reacties van het chassis en de compartimenten bij een frontale aanrijding of omrollen van de ambulance, de veiligheid van de inzittenden zo min mogelijk beïnvloeden. • Sluit beschikbare resultaten van deformatietests (crashtests) van de ambulance bij uw aanbieding in • Omschrijf aan welke aanvullende maatregelen, naast de geëiste, aanwezig zijn ter voorkoming van letsel tijdens gebruik of aanrijding | C4: W | D4: 2 | E4: 4 | F4: 10 | G4: =D4*F4 -> 20
A5: W1.04 | B5: Het voertuig is uitgerust met een remsysteem dat geschikt is voor het intensieve gebruik als voorrangsvoertuig (ambulance) (denk met name aan het voorkomen van oververhitting | C5: W | D5: 3 | E5: 4 | F5: 10 | G5: =D5*F5 -> 30
A6: W1.05 | B6: De ambulance heeft een zo groot mogelijke duurzaamheid. Aspecten: 1. De maatregelen tegen corrosie en roesten van binnen uit 2. Het materiaal waarvan de opbouw vervaardigd is 3. De wanden van de opbouw zijn minimaal 35 mm dik | C6: W | D6: 2 | E6: 4 | F6: 10 | G6: =D6*F6 -> 20
A7: W1.06 | B7: Rijeigenschappen en patiënt vriendelijkheid: • Een zeer soepel schakelgedrag (kan door een proefrit door opdrachtgever beoordeeld worden) | C7: W | D7: 2 | E7: 4 | F7: 10 | G7: =D7*F7 -> 20
A8: W1.07 | B8: Het voertuig is voorzien van op de belasting aangepaste vering en dubbel werkende schokbrekers | C8: W | D8: 3 | E8: 4 | F8: 10 | G8: =D8*F8 -> 30
A9: W1.08 | B9: Luchtvering zakken achter te bedienen zonder ingeschakeld contact | C9: W | D9: 3 | E9: 4 | F9: 10 | G9: =D9*F9 -> 30
A10: W1.09 | B10: De voertuigmotor voldoet tenminste aan de norm euro 6. Indien voor het einde van de contractperiode door gewijzigde wetgeving het overeengekomen voertuig geleverd kan worden met een verbeterde versie (euro 7), dient de rest van de te leveren voertuigen hiermee uitgevoerd te worden | C10: W | D10: 3 | E10: 4 | F10: 10 | G10: =D10*F10 -> 30
A11: W1.10 | B11: De prestaties van het voertuig zijn zo goed mogelijk • Aantal seconden tot 100Km/u • Aantal seconden van 60 tot 100 Km/u • Snelheid helling op rijdend (kan door een proefrit door opdrachtgever beoordeeld worden) | C11: W | D11: 3 | E11: 2 | F11: 4 | G11: =D11*F11 -> 12 | H11: geen opgave van acceleratie Terecht een punt verschil met concurent (wel cijfers van chassis met kastenopbouw)
A12: W1.11 | B12: De snelheid is begrensd op 170 km/u, zonder dat dit gevolgen heeft voor de acceleratie | C12: W | D12: 2 | E12: 4 | F12: 10 | G12: =D12*F12 -> 20
A13: W1.12 | B13: Het voertuig heeft een minimale op- en afrij hoek van 10 graden | C13: W | D13: 2 | E13: 4 | F13: 10 | G13: =D13*F13 -> 20
A14: W1.13 | B14: Draaicirkel maximaal 14 m | C14: W | D14: 1 | E14: 4 | F14: 10 | G14: =D14*F14 -> 10
A15: W1.14 | B15: Het voertuig heeft een volwaardig reserve wiel | C15: W | D15: 1 | E15: 4 | F15: 10 | G15: =D15*F15 -> 10
A16: W1.15 | B16: Zo gunstig mogelijke garantie regeling van het basis voertuig en opbouw. Aspecten: • De garantie periode van het basis voertuig en opbouw is zo lang mogelijk ( min.2jaar) Onder de garantie bepalingen vallen minimaal de volgende componenten: • De techniek van het gehele basisvoertuig met opbouw • Het doorroesten van het plaatwerk van binnen uit | C16: W | D16: 3 | E16: 3 | F16: 7 | G16: =D16*F16 -> 21 | H16: redelijke garantieregeling echter met voorbehoud
A17: W1.16 | B17: De investeringskosten per jaar per voertuig vallen, bij een afschrijvingstermijn 5 jaar, binnen de budgetten van de ziektekosten verzekeraars. Lagere kosten scoren beter. | C17: W | D17: 3 | E17: 3 | F17: 7 | G17: =D17*F17 -> 21 | H17: niet genoeg afwijkend om verschil te maken
A18: W1.17 | B18: Uitgebreide actieve en passieve veiligheidssystemen zoals BAS (rem-assisterend systeem bij noodstop), of gelijkwaardig systeem, extra airbags enz. | C18: W | D18: 4 | E18: 3 | F18: 7 | G18: =D18*F18 -> 28 | H18: geen extra veiligheid, concurent wel
A19: W1.18 | B19: NCAP kwalificatie (RED-botsproef) | C19: W | D19: 2 | E19: 4 | F19: 10 | G19: =D19*F19 -> 20
A20: W1.19 | B20: Het voertuig heeft een “signalering bij verkeer in de dodehoek / dode hoek camera” | C20: W | D20: 2 | E20: 0 | F20: 0 | G20: =D20*F20 -> 0 | H20: geen oplossing geboden.
A21: W1.20 | B21: Alle deuren voorzien van instap met antislip | C21: W | D21: 1 | E21: 4 | F21: 10 | G21: =D21*F21 -> 10
A22: W1.21 | B22: centrale deurvergrendeling op alle deuren bedienbaar vanaf binnen- en buitenzijde | C22: W | D22: 3 | E22: 4 | F22: 10 | G22: =D22*F22 -> 30
A23: W1.22 | B23: Regensensor die de ruitenwissers aanstuurt | C23: W | D23: 1 | E23: 4 | F23: 10 | G23: =D23*F23 -> 10
A24: W1.23 | B24: De cabine wordt voorzien van losse rubberen matten | C24: W | D24: 1 | E24: 4 | F24: 10 | G24: =D24*F24 -> 10
A25: W1.24 | B25: Voor- en achter spatlappen | C25: W | D25: 2 | E25: 3 | F25: 7 | G25: =D25*F25 -> 14 | H25: voldoende, concurent extra
A26: W1.25 | B26: RVS sidebars gemonteerd met steps onder alle deuropeningen. | C26: W | D26: 1 | E26: 3 | F26: 7 | G26: =D26*F26 -> 7 | H26: Sidebars niet mogelijk, alternatief goed
A27: W1.26 | B27: Reservewiel, zodanig gemonteerd dat het onder alle omstandigheden van buitenaf gemakkelijk en snel bereikbaar en demontabel is voor gebruik. | C27: W | D27: 2 | E27: 4 | F27: 10 | G27: =D27*F27 -> 20
A28: W1.27 | B28: De startblokkering indien aangesloten op de walaansluiting werkt bij voorkeur ook bij netspanninguitval. De startblokkering is doormiddel van een controle lamp zichtbaar. | C28: W | D28: 2 | E28: 1 | F28: 2 | G28: =D28*F28 -> 4 | H28: geen beveiliging bij spanningsuitval
A29: W1.28 | B29: Bij draaiende motor, als de sleutel uit het contact is, moet men niet kunnen wegrijden met het voertuig maar dient de motor af te slaan. | C29: W | D29: 2 | E29: 4 | F29: 10 | G29: =D29*F29 -> 20
A30: W1.29 | B30: Tot minimaal 10 jaar na levering garandeert opdrachtnemer de beschikbaarheid van essentiële originele onderdelen. Na 6 jaar zijn er alternatieve reparatie mogelijkheden in overleg met opdrachtgever toegestaan | C30: W | D30: 2 | E30: 4 | F30: 10 | G30: =D30*F30 -> 20
A31: W1.30 | B31: Inzake het chassis dient er een servicepunt te zijn binnen de regio Zuid-Limburg | C31: W | D31: 2 | E31: 4 | F31: 10 | G31: =D31*F31 -> 20
A32: W1.31 | B32: De servicepunten voor dringende herstelwerkzaamheden zijn 24 uur per dag 365 dagen per jaar bereikbaar | C32: W | D32: 3 | E32: 4 | F32: 10 | G32: =D32*F32 -> 30
A33: W1.32 | B33: Ten behoeve van de opleiding van de gebruikersgroep met betrekking tot de bediening dient de inschrijver een instructie te verzorgen. | C33: W | D33: 1 | E33: 4 | F33: 10 | G33: =D33*F33 -> 10
A34: W1.33 | B34: Voor de opleiding van het werkplaatspersoneel (personeel van de betreffende merk dealer)met betrekking tot het plegen van onderhoud en het opheffen van storingen dient de inschrijver een instructie te verzorgen. | C34: W | D34: 1 | E34: 4 | F34: 10 | G34: =D34*F34 -> 10
A35: W1.34 | B35: Zo makkelijk mogelijk schoon te houden exterieur | C35: W | D35: 1 | E35: 3 | F35: 7 | G35: =D35*F35 -> 7 | H35: ter beoordeling van Raymond (strips/ randen), beide redelijk
A36: W1.35 | B36: De overgang tussen cabine en container is gestroomlijnd uitgevoerd (ook de overgang bovenzijde cabine naar container) | C36: W | D36: 2 | E36: 4 | F36: 10 | G36: =D36*F36 -> 20
A37: W1.36 | B37: Glas van de ruiten, warmtewerend veiligheidsglas rondom, gelaagde voorruit | C37: W | D37: 2 | E37: 4 | F37: 10 | G37: =D37*F37 -> 20
A38: W1.37 | B38: Aircopomp moet voldoende capaciteit hebben voor zowel het systeem in het voor- als het systeem in het achtercompartiment, ook bij stationair draaiende motor. | C38: W | D38: 4 | E38: 3 | F38: 7 | G38: =D38*F38 -> 28 | H38: geen extra capaciteit / gescheiden systemen
A39: W1.38 | B39: BPM afhandeling. Volledig door leverancier te verzorgen. | C39: W | D39: 1 | E39: 4 | F39: 10 | G39: =D39*F39 -> 10
A40: W1.39 | B40: Het voertuig wordt voorzien van voertuignummer, organisatie belettering en- logo (in afstemming met de opdrachtgever) | C40: W | D40: 1 | E40: 4 | F40: 10 | G40: =D40*F40 -> 10
...

Sheet aanbesteding_AXIRA-ERF tablets
A1: Eisnr. | C1: omschrijving (Waar "device" staat wordt de ERF device bedoeld met de functionaliteiten zoals gevraagd.) Waar bij "Wens" alleen "Ja" of "Nee" mogelijk is, betekent "Ja" maximale score en "Nee" 0 | E1: ja/nee | F1: Toelichting Inschrijver op invulling eis.
A2: E-01.01 | B2: Support | C2: Reactietijd storingen is maximaal twee weken (device retour) | D2: E | E2: ja/nee
A3: E-01.02 | C3: Het aanmelden van klachten, wensen, opvragen informatie en storingen verloopt digitaal en kan tijd en plaatsonafhankelijk gebeuren. | D3: E | E3: ja/nee
A4: E-01.03 | C4: De levensduur van het device is minimaal 5 jaar. | D4: E | E4: ja/nee
A5: E-02.01 | B5: Onderhoud | C5: Een service / onderhoudscontract voor de volledige gebruiksduur (5 jaar) wordt mee aangeboden. De connectoren vallen ook onder het onderhoudscontract. De kosten dienen per jaar opgegeven te worden over de duur van 5 gebruiksjaren. Het onderhoudscontract is optioneel af te nemen | D5: E | E5: ja/nee
A6: E-02.02 | C6: Prijzen / tarieven in het onderhoudscontract staan voor 5 jaar vast. | D6: E | E6: ja/nee
A7: E-02.03 | C7: De levering van onderdelen en support is voor minimaal 5 jaar na de laatste leverdatum gegarandeerd. | D7: E | E7: ja/nee
A8: E-03.01 | B8: Degelijkheid | C8: Schok-, val-, tril-,water-, stof-, hoog/laag temperatuur bestendig IP65, MIL-STD-810F - | D8: E | E8: ja/nee
A9: E-04.01 | B9: Algemeen | C9: Alle tijdens de looptijd van de Raamovereenkomst aangeboden producten dienen fabrieksnieuw en ongebruikt te zijn (bijvoorbeeld: mag niet refurbished of renewed zijn). | D9: E | E9: ja/nee
A10: E-04.02 | C10: Bij reparatie worden uitsluitend via de originele fabrikant geleverde onderdelen gebruikt met tenminste dezelfde kwaliteit en levensduur als de originele onderdelen. Na reparatie blijft de afgesproken garantietermijn ongewijzigd, tenzij uitdrukkelijk anders schriftelijk is overeengekomen. | D10: E | E10: ja/nee
A11: E-04.03 | C11: Het device dient te bedienen te zijn middels een toetsenbord met backlight EN middels een stylus of middels touch ook geschikt voor gebruik met handschoenen. De stylus valt ook onder het service contract. | D11: E | E11: ja/nee
A12: E-04.04 | C12: De mogelijkheid voor aansluiting op een portreplicator (dockingstation) moet aanwezig zijn. | D12: E | E12: ja/nee
A13: E-04.05 | C13: Een dockingstation voor inbouw in voertuigen is beschikbaar. Zowel in lade als dashboard-mounts (mogelijkheden) De docking moet voldoen aan de NEN-EN 1789:2007+A1:2010 normering de docking is optioneel af te nemen. | D13: E | E13: ja/nee
A14: E-04.06 | C14: Het device heeft als processor minimaal een Intel I5 (actuele versie) en 16 GB RAM | D14: E | E14: ja/nee
A15: E-04.07 | C15: Minimaal 1 USB 3.2 poort(backwards compatibel) | D15: E | E15: ja/nee
A16: E-04.08 | C16: minimaal 1 USB-c aansluiting | D16: E | E16: ja/nee
A17: E-04.09 | C17: Het device dient uitbreidbaar te zijn met een smart-cardreader. Deze dient geïntegreerd te kunnen worden. | D17: E | E17: ja/nee
A18: E-04.10 | C18: het device heeft een camera aan de voor en achterzijde geïntegreerd, die ook als QR/BARcode scanner kan worden gebruikt | D18: E | E18: ja/nee
A19: E-04.11 | C19: De batterij is volgens het hot-swappable principe te vervangen. | D19: E | E19: ja/nee
A20: E-04.12 | C20: Batterij duur is minimaal 12 uur bij normaal gebruik. | D20: E | E20: ja/nee
A21: E-04.13 | C21: Het geheugen (RAM) is uitbreidbaar (indien nodig) | D21: E | E21: ja/nee
... A26: E-04.18 | C26: De aanbieder is akkoord met de inhoud van de raam- en nadere overeenkomst | D26: E | E26: ja/nee
A27: E-05.01 | B27: Beeldscherm | C27: Het device beschikt over een kleuren display | D27: E | E27: ja/nee
A28: E-05.02 | C28: Goede instelbaarheid van scherm om in alle omstandigheden goed te werken. Antireflectie in daglicht/zonlicht. | D28: E | E28: ja/nee
A29: E-06.01 | B29: Overig | C29: Het verzenden van gegevens wordt via een mobiel netwerk verzorgd. De communicatiemodule is/wordt in het device ingebouwd en gebruikt 4G en is backwards compatible. | D29: E | E29: ja/nee
A30: E-06.02 | C30: De wireless module ondersteunt wireless 802.11ax | D30: E | E30: ja/nee
A31: E-07.01 | B31: Gebruik | C31: het device is, conform de geldende hygiëne eisen, goed schoon te maken met algemeen beschikbare schoonmaakmiddelen. | D31: E | E31: ja/nee
A32: E-07.02 | C32: Inschrijver stelt één aanspreekpunt aan t.b.v. het account per RAV. Daarnaast wordt aangegeven bij wie eventuele escalaties gemeld dienen te worden. | D32: E | E32: ja/nee
A33: Wensnr. | C33: Wensen | E33: Weging wens | F33: Toelichting Inschrijver op invulling wens.
A34: W-01.01 | B34: Support | C34: De garantieduur is zo lang mogelijk (de duur opgeven, wettelijke termijn is minimum) | D34: W | E34: 2
A35: W-01.02 | C35: Het servicecontract omvat ook schade aan het device door gebruik, geef de meerprijs op ten opzichte van het standaard servicecontract *(E-02.01) | D35: W | E35: 4
A36: W-01.03 | C36: Beschrijf de procedure (op max 1 A4) hoe storingsopvolging eruit ziet en wordt opgevolgd door Inschrijver. Denk hierbij bv. aan verzenden van device. (eenvoud is meer punten) | D36: W | E36: 3
A37: W-01.04 | C37: Reactietijd storingen is zo kort mogelijk (device retour, gemiddeld en maximaal specificeren) | D37: W | E37: 4
A38: W-01.05 | C38: Inschrijver houdt een registratie bij van uitgevoerde werkzaamheden en doorlooptijden per device. Deze registratie wordt integraal bij de contactpersoon van de betreffende RAV ter beschikking gesteld (digitaal) | D38: W | E38: 2
A39: W-01.06 | C39: Beschrijf de procedure omtrent klachtafhandeling (in een processchema). Denk hierbij aan het doorlopen van het hele proces van aanmelding tot afhandeling incl. bijbehorende doorlooptijden. (eenvoud, korte doorlooptijd en kwaliteit is meer punten) | D39: W | E39: 2
A40: W-01.07 | C40: De nalevering van een identieke nieuwe device (ter vervanging of aanvulling) is tot 5 jaar na eerste aanschaf gegarandeerd (langere duur is meer punten) | D40: W | E40: 4
A41: W-01.08 | C41: Het versturen van een defecte device kan vanaf elke locatie en is zo gebruikersvriendelijk mogelijk (eenvoudiger is meer punten), Welke faciliteiten dienen hiervoor ingericht te zijn worden? Omschrijf de procedure (max 1 A4) | D41: W | E41: 2
A42: W-02.01 | B42: Onderhoud | C42: De kosten van bovengenoemd onderhoud (E-02.01) zijn zo laag mogelijk. De kosten dienen per jaar opgegeven te worden over de duur van 5 gebruiksjaren. | D42: W | E42: 2
A43: W-02.02 | C43: De kosten van verzending zitten in het servicecontract geef de meerkosten op ten opzichte van het standaard servicecontract (E-02.01) | D43: W | E43: 1
A44: W-02.03 | C44: De kwaliteit van dienstverlening wordt gestuurd op basis van KPI's. - Doorlooptijd reparaties; - Responstijd na melding; - Klachtenafhandeling. | D44: W | E44: 2
...

Sheet wensen verzamel
A1: nummer | B1: omschrijving | D1: score Strycker | F1: score Kartsana | G1: weging3 | H1: wegingN
A2: W1.01 | B2: De container staat op een origineel chassis (4X2) en niet op een zogenaamd aanbouw chassis | C2: ='wensen Strycker'!D2 -> 3 | D2: ='wensen Strycker'!G2 -> 30 | E2: ='wensen Kartsana'!D2 -> 3 | F2: ='wensen Kartsana'!G2 -> 30 | G2: =#REF! -> #REF! | H2: =#REF! -> #REF!
A3: W1.02 | B3: Een zo evenwichtig mogelijk voertuig. Aspecten: 1. Een zo gunstig mogelijke gewichtsverdeling. De leverancier voegt bij zijn offerte een gewichtsberekening toe 2. Een zo laag mogelijk zwaartepunt. De leverancier geeft aan op welk punt het zwaartepunt zich bevindt 3. Een zo laag mogelijk maximaal toelaatbaar gewicht | C3: ='wensen Strycker'!D3 -> 3 | D3: ='wensen Strycker'!G3 -> 21 | E3: ='wensen Kartsana'!D3 -> 3 | F3: ='wensen Kartsana'!G3 -> 21 | G3: =#REF! -> #REF! | H3: =#REF! -> #REF!
A4: W1.03 | B4: Een zo veilig mogelijke ambulance waarbij de reacties van het chassis en de compartimenten bij een frontale aanrijding of omrollen van de ambulance, de veiligheid van de inzittenden zo min mogelijk beïnvloeden. • Sluit beschikbare resultaten van deformatietests (crashtests) van de ambulance bij uw aanbieding in • Omschrijf aan welke aanvullende maatregelen, naast de geëiste, aanwezig zijn ter voorkoming van letsel tijdens gebruik of aanrijding | C4: ='wensen Strycker'!D4 -> 2 | D4: ='wensen Strycker'!G4 -> 20 | E4: ='wensen Kartsana'!D4 -> 2 | F4: ='wensen Kartsana'!G4 -> 20 | G4: =#REF! -> #REF! | H4: =#REF! -> #REF!
A5: W1.04 | B5: Het voertuig is uitgerust met een remsysteem dat geschikt is voor het intensieve gebruik als voorrangsvoertuig (ambulance) (denk met name aan het voorkomen van oververhitting | C5: ='wensen Strycker'!D5 -> 3 | D5: ='wensen Strycker'!G5 -> 30 | E5: ='wensen Kartsana'!D5 -> 3 | F5: ='wensen Kartsana'!G5 -> 30 | G5: =#REF! -> #REF! | H5: =#REF! -> #REF!
A6: W1.05 | B6: De ambulance heeft een zo groot mogelijke duurzaamheid. Aspecten: 1. De maatregelen tegen corrosie en roesten van binnen uit 2. Het materiaal waarvan de opbouw vervaardigd is 3. De wanden van de opbouw zijn minimaal 35 mm dik | C6: ='wensen Strycker'!D6 -> 2 | D6: ='wensen Strycker'!G6 -> 20 | E6: ='wensen Kartsana'!D6 -> 2 | F6: ='wensen Kartsana'!G6 -> 20 | G6: =#REF! -> #REF! | H6: =#REF! -> #REF!
A7: W1.06 | B7: Rijeigenschappen en patiënt vriendelijkheid: • Een zeer soepel schakelgedrag (kan door een proefrit door opdrachtgever beoordeeld worden) | C7: ='wensen Strycker'!D7 -> 2 | D7: ='wensen Strycker'!G7 -> 20 | E7: ='wensen Kartsana'!D7 -> 2 | F7: ='wensen Kartsana'!G7 -> 20 | G7: =#REF! -> #REF! | H7: =#REF! -> #REF!
A8: W1.07 | B8: Het voertuig is voorzien van op de belasting aangepaste vering en dubbel werkende schokbrekers | C8: ='wensen Strycker'!D8 -> 3 | D8: ='wensen Strycker'!G8 -> 30 | E8: ='wensen Kartsana'!D8 -> 3 | F8: ='wensen Kartsana'!G8 -> 30 | G8: =#REF! -> #REF! | H8: =#REF! -> #REF!
A9: W1.08 | B9: Luchtvering zakken achter te bedienen zonder ingeschakeld contact | C9: ='wensen Strycker'!D9 -> 3 | D9: ='wensen Strycker'!G9 -> 30 | E9: ='wensen Kartsana'!D9 -> 3 | F9: ='wensen Kartsana'!G9 -> 30 | G9: =#REF! -> #REF! | H9: =#REF! -> #REF!
A10: W1.09 | B10: De voertuigmotor voldoet tenminste aan de norm euro 6. Indien voor het einde van de contractperiode door gewijzigde wetgeving het overeengekomen voertuig geleverd kan worden met een verbeterde versie (euro 7), dient de rest van de te leveren voertuigen hiermee uitgevoerd te worden | C10: ='wensen Strycker'!D10 -> 3 | D10: ='wensen Strycker'!G10 -> 30 | E10: ='wensen Kartsana'!D10 -> 3 | F10: ='wensen Kartsana'!G10 -> 30 | G10: =#REF! -> #REF! | H10: =#REF! -> #REF!
A11: W1.10 | B11: De prestaties van het voertuig zijn zo goed mogelijk • Aantal seconden tot 100Km/u • Aantal seconden van 60 tot 100 Km/u • Snelheid helling op rijdend (kan door een proefrit door opdrachtgever beoordeeld worden) | C11: ='wensen Strycker'!D11 -> 3 | D11: ='wensen Strycker'!G11 -> 21 | E11: ='wensen Kartsana'!D11 -> 3 | F11: ='wensen Kartsana'!G11 -> 12 | G11: =#REF! -> #REF! | H11: =#REF! -> #REF!
A12: W1.11 | B12: De snelheid is begrensd op 170 km/u, zonder dat dit gevolgen heeft voor de acceleratie | C12: ='wensen Strycker'!D12 -> 2 | D12: ='wensen Strycker'!G12 -> 20 | E12: ='wensen Kartsana'!D12 -> 2 | F12: ='wensen Kartsana'!G12 -> 20 | G12: =#REF! -> #REF! | H12: =#REF! -> #REF!
A13: W1.12 | B13: Het voertuig heeft een minimale op- en afrij hoek van 10 graden | C13: ='wensen Strycker'!D13 -> 2 | D13: ='wensen Strycker'!G13 -> 20 | E13: ='wensen Kartsana'!D13 -> 2 | F13: ='wensen Kartsana'!G13 -> 20 | G13: =#REF! -> #REF! | H13: =#REF! -> #REF!
... A141: W7.40 | B141: Verlichting moet bij openen deur achtercompartiment automatisch aan gaan. E.e.a. in overleg met RAVZL | C141: ='wensen Strycker'!D141 -> 2 | D141: ='wensen Strycker'!G141 -> 20 | E141: ='wensen Kartsana'!D141 -> 2 | F141: ='wensen Kartsana'!G141 -> 20 | G141: =#REF! -> #REF! | H141: =#REF! -> #REF!
A142: 8 | B142: EIS: voldoet aan de vereiste voorschiften/ EN normen | G142: =#REF! -> #REF! | H142: =#REF! -> #REF!
A143: W8.01 | B143: De brancard heeft een hoge stabiliteit (stijfheid), dat wil zeggen de mate waarin het liggedeelte in dezelfde positie blijft ten opzichte van het onderstel bij verplaatsen, op- en afstappen. De inschrijver dient aan te geven waaruit die stabiliteit blijkt. | C143: ='wensen Strycker'!D143 -> 4 | D143: ='wensen Strycker'!G143 -> 40 | E143: ='wensen Kartsana'!D143 -> 4 | F143: ='wensen Kartsana'!G143 -> 16 | G143: =#REF! -> #REF! | H143: =#REF! -> #REF!
A144: W8.02 | B144: De brancard is voor de patiënt comfortabel o.a. • Eenvoudig aan te passen stand (hoofdsteun) en ligvlak (zoals fowler e.d.) • Verlengbare hoofdsteun • hoofdkussen • Zijhekjes (inklapbaar) • Voetensteun • Gordels met schouder deel • Voor zwaarlijvigen geschikt | C144: ='wensen Strycker'!D144 -> 3 | D144: ='wensen Strycker'!G144 -> 30 | E144: ='wensen Kartsana'!D144 -> 3 | F144: ='wensen Kartsana'!G144 -> 12 | G144: =#REF! -> #REF! | H144: =#REF! -> #REF!
A145: W8.03 | B145: Het systeem is betrouwbaar in het gebruik en veilig voor zowel patiënt als personeel. De inschrijver dient aan te geven waaruit dat blijkt. | C145: ='wensen Strycker'!D145 -> 3 | D145: ='wensen Strycker'!G145 -> 30 | E145: ='wensen Kartsana'!D145 -> 3 | F145: ='wensen Kartsana'!G145 -> 21 | G145: =#REF! -> #REF! | H145: =#REF! -> #REF!
A146: W8.04 | B146: Het systeem heeft een voorziening om bij systeem problemen handmatig bediend te worden | C146: ='wensen Strycker'!D146 -> 4 | D146: ='wensen Strycker'!G146 -> 40 | E146: ='wensen Kartsana'!D146 -> 4 | F146: ='wensen Kartsana'!G146 -> 40 | G146: =#REF! -> #REF! | H146: =#REF! -> #REF!
A147: W8.05 | B147: De handmatige verstelling wordt ondersteund (ontlasten medewerker, veiligheid patiënt), bijvoorbeeld door hydraulisch dempen. | C147: ='wensen Strycker'!D147 -> 3 | D147: ='wensen Strycker'!G147 -> 21 | E147: ='wensen Kartsana'!D147 -> 3 | F147: ='wensen Kartsana'!G147 -> 21 | G147: =#REF! -> #REF! | H147: =#REF! -> #REF!
A148: W8.06 | B148: De brancard heeft een zo laag mogelijk gewicht | C148: ='wensen Strycker'!D148 -> 3 | D148: ='wensen Strycker'!G148 -> 21 | E148: ='wensen Kartsana'!D148 -> 3 | F148: ='wensen Kartsana'!G148 -> 30 | G148: =#REF! -> #REF! | H148: =#REF! -> #REF!
A149: W8.07 | B149: De brancard is eenvoudig (weinig handelingen / kracht) en veilig te bedienen · In- en uit de ambulance plaatsen · In hoogte verstellen · Het vastzetten van de wielen (sturen en rollen) · Accu verwisselen · Bedien elementen zijn duidelijk en logisch geplaatst (vergissingen uitgesloten) | C149: ='wensen Strycker'!D149 -> 4 | D149: ='wensen Strycker'!G149 -> 40 | E149: ='wensen Kartsana'!D149 -> 4 | F149: ='wensen Kartsana'!G149 -> 28 | G149: =#REF! -> #REF! | H149: =#REF! -> #REF!
A150: W8.08 | B150: De hoogte verstelling van de brancard verloopt vloeiend | C150: ='wensen Strycker'!D150 -> 2 | D150: ='wensen Strycker'!G150 -> 20 | E150: ='wensen Kartsana'!D150 -> 2 | F150: ='wensen Kartsana'!G150 -> 8 | G150: =#REF! -> #REF! | H150: =#REF! -> #REF!
A151: W8.09 | B151: Voorzieningen om apparatuur verantwoord mee te vervoeren (monitor, O2, infuzen/spuitenpomp e.d.) | C151: ='wensen Strycker'!D151 -> 2 | D151: ='wensen Strycker'!G151 -> 14 | E151: ='wensen Kartsana'!D151 -> 2 | F151: ='wensen Kartsana'!G151 -> 14 | G151: =#REF! -> #REF! | H151: =#REF! -> #REF!
A152: W8.10 | B152: De duurzaamheid (levensduur) van de brancard is hoog. De inschrijver dient aan te geven waaruit blijkt dat de brancard duurzaam is (een lange levensduur heeft). | C152: ='wensen Strycker'!D152 -> 3 | D152: ='wensen Strycker'!G152 -> 21 | E152: ='wensen Kartsana'!D152 -> 3 | F152: ='wensen Kartsana'!G152 -> 30 | G152: =#REF! -> #REF! | H152: =#REF! -> #REF!
A153: W8.11 | B153: De brancard is soepel te verplaatsen en is zeer wendbaar (fysieke belasting is laag) | C153: ='wensen Strycker'!D153 -> 2 | D153: ='wensen Strycker'!G153 -> 20 | E153: ='wensen Kartsana'!D153 -> 2 | F153: ='wensen Kartsana'!G153 -> 20 | G153: =#REF! -> #REF! | H153: =#REF! -> #REF!
A154: W8.12 | B154: De brancard is makkelijk schoon te houden (o.a. met hoge druk; IPX6, poeder gecoat en gesealde lagers) | C154: ='wensen Strycker'!D154 -> 3 | D154: ='wensen Strycker'!G154 -> 21 | E154: ='wensen Kartsana'!D154 -> 3 | F154: ='wensen Kartsana'!G154 -> 12 | G154: =#REF! -> #REF! | H154: =#REF! -> #REF!
A155: W8.13 | B155: De inschrijver doet een voorstel voor de inruil van de huidige brancards (Stryker M1 uit 2008) | C155: ='wensen Strycker'!D155 -> 2 | D155: ='wensen Strycker'!G155 -> 4 | E155: ='wensen Kartsana'!D155 -> 2 | F155: ='wensen Kartsana'!G155 -> 4 | G155: =#REF! -> #REF! | H155: =#REF! -> #REF!
D156: ='wensen Strycker'!G156 -> 322 | F156: ='wensen Kartsana'!G156 -> 256
