Workbook
Name Calculatietarief: #REF!
Name Dagen: #REF!
Name Def_kosten_pjaar: #REF!
Name Def_Uren_pjaar: #REF!
Name Extra_dienstverl.: #REF!
Name ExtraSanitair: #REF!
Name Flotex: #REF!
Name Flotex_reinigen: #REF!
Name Gebouw: #REF!
Name Index_2016: #REF!
Name Index_2017: #REF!
Name Index_2018: #REF!
Name Index_2019: #REF!
Name Index_2020: #REF!
Name Kosten_perjaar: #REF!
Name Leiding: #REF!
Name Leiding_kosten: #REF!
Name Leiding_uren: #REF!
Name Lino: #REF!
Name Lino_recoaten: #REF!
Name M2Flotex: #REF!
Name M2Lino: #REF!
Name MatenMid: #REF!
Name MatenMid_3: #REF!
Name Normen: #REF!
Name Oppervlakte: #REF!
Name Reiskosten: #REF!
Name Reistijd: #REF!
Name SMO_na_kosten: #REF!
Name Sprayen: #REF!
Name Sprayen_beurten: #REF!
Name Sprayen_opblokken3x: #REF!
Name Sprayen_opblokken4x: #REF!
Name Totaal_uren: #REF!
Name totIndex: #REF!
Name Uren_ExtraSanitair: #REF!
Name Uren_pdag_na_kosten: #REF!
Name Uren_perjaar: #REF!
Name Uren_pjr_na_kosten: #REF!
Name Uren_pwk_na_kosten: #REF!
Name Uurtarief: #REF!
Name Weken: #REF!

Sheet Instructieblad
A1: Bijlage 8 - Calculatiebestand
A3: Uitleg bij het invullen van het calculatiebestand
A5: Alle kosten dienen te worden opgegeven exclusief BTW. Er zijn geen formules opgenomen in het calculatiebestand. Daar waar nodig dient de leverancier dit zelf te doen.
A6: Voor schoonmaak en glasbewassing geldt: Er dient te worden uitgegaan van een integraal calculatie-uurtarief/ m2 tarief waarin alle kosten, waaronder de kosten voor direct toezicht, administratieve werkzaamheden, suppletiekosten, investeringskosten, vervoerskosten, duurzame machines en overige additionele kosten zijn inbegrepen. Voor sanitair geldt: Er dient te worden uitgegaan van een huur all-in concept. Alle prijzen zijn inclusief het leveren, plaatsen en gebruiksklare oplevering van de nieuwe sanitaire voorzieningen, aansluitmaterialen, afvoer van verpakkingsmateriaal, onbeperkt gebruik van (na)vullingen (full service), reis-, voorrij-, administratiekosten, servicekosten en alle overige bijkomende kosten. Voor de uitvoer van de schoonmaak- en glasbewassing werkzaamheden in combinatie met de levering van sanitaire voorzieningen is een bodembedrag ingesteld van € 443.167,94 (excl. BTW) per jaar.
A7: Eenmalige bonussen of vergoedingen, worden niet in de beoordeling meegenomen. Manipulatief inschrijven of aanpassen van het prijsmodel leidt tot uitsluiting.
A9: Totaalblad | B9: De kosten voor de verschillende onderdelen (schoonmaak, glasbewassing en sanitaire voorzieningen) worden gesplitst in het totaalblad. De kosten voor de regiewerkzaamheden hoeven niet te worden ingevoerd op het totaalblad.
A10: 1. Ruimtestaat | B10: De kosten voor de reguliere schoonmaak worden gevormd door de dagelijks/wekelijkse basisschoonmaak en de periodieke werkzaamheden op basis van werkprogramma's. De totale jaarprijs voor de reguliere schoonmaak wordt berekend door de vermenigvuldiging van de gecalculeerde productie-uren op jaarbasis met het opgegeven uurtarief. De leverancier dient de kolommen L t/m Q in te vullen. Er dient een realistische urencalculatie gemaakt te worden, waarbij het aantal uren toereikend is om de uitgevraagde kwaliteit te kunnen leveren. De calculatie dient gebaseerd te zijn op frequentie zoals per ruimte is aangegeven in het ruimtebestand, kolom K. De leverancier dient een inschatting te maken van de suppletiekosten. Er kunnen geen additionele kosten gefactureerd worden.
A11: 2. Glasstaat | B11: De totale jaarprijs voor de glasbewasssing wordt berekend door het vermenigvuldigen van de beurtprijs met de frequentie.
A12: 3.1 Sanitairoverzicht | B12: In rij 3 is de apparatuur en verbruiksartikelen weergegeven die Aanbestedende dienst wenst af te nemen. In rij 7 dienen de kosten te worden opgegeven. De totale kosten zijn gebaseerd op basis van het aantal dispensers, de totale kosten per dispenser/apparaat (huur en verbruik bij elkaar opgeteld) uit het tabblad 'kosten per apparaat' en de frequentie verbruik (40 weken). De inschrijver dient de kosten in het tabblad 'kosten per apparaat per jaar in te vullen. De totale kosten voor de contractjaarprijs sanitaire middelen wordt aangegeven in cel L9.
A13: 3.2 Kosten per apparaat per jaar | B13: De kosten voor huur en verbruik moeten worden gesplitst. De prijs voor de huur dient te worden berekend op basis van 40 weken, de prijs voor het verbruik dient te worden berekend op basis van 40 In de prijs voor de huur dienen de kosten te zijn inbegrepen voor: • huur; • service, onderhoud en reparatie bij normaal gebruik; • montage van de nieuwe apparatuur en demontage en afvoer van de huidig aanwezige hardware; • distributiekosten; • alle eventuele andere kosten. De kosten voor de verbruiksmiddelen dienen zodanig opgesteld te zijn dat er bij het plaatsen van meer apparaten geen extra kosten zijn voor de verbruiksmiddelen. Meer apparatuur wil niet zeggen meer verbruiksmiddelen wanneer het aantal gebruikers/ bezettingsgraad in het gebouw gelijk blijft.
A14: 3.3 Aanpassing verbruik | B14: De huur all-in prijzen zij gebaseerd op het aantal gebruikers zoals weergegeven. Bij een afwijking van meer dan 5% mag het all-in tarief worden aangepast. De inschrijver dient tabblad 'Aanpassing verbruik' volledig in te vullen. Opdrachtgever gaat uit van deze tarieven als er sprake is van meer- of minder verbruik.
A15: 3.3 Aanpassing verbruik | B15: De huur all-in prijzen zij gebaseerd op het aantal gebruikers zoals weergegeven. Bij een afwijking van meer dan 5% mag het all-in tarief worden aangepast. De inschrijver dient tabblad 'Aanpassing verbruik' volledig in te vullen. Opdrachtgever gaat uit van deze tarieven als er sprake is van meer- of minder verbruik.
A16: 4. Regiewerkzaamheden | B16: Overzicht kosten afroepprijzen. De leverancier dient eenheidsprijzen op te geven voor werkzaamheden die de opdrachtgever gedurende de contractperiode kan laten uitvoeren. De inschrijver dient de eenheidsprijzen (in staffel) op te geven. In de tarieven dienen alle kosten te zijn verdisconteerd.

Sheet Totaalblad
A1: Totaalblad
A2: Calculatiesheet
B3: Locatie | C3: Adres | D3: M² | E3: Kosten schoonmaak op jaarbasis | F3: Kosten glasbewassing op jaar basis | G3: Kosten sanitaire voorzieningen
A4: 1 | B4: Aula Begraafplaats Oost-Souburg | C4: Molenweg 2, Oost-Souburg | D4: =SUMIF('1. Ruimtestaat'!$A$3:$A$714,"Aula Begraafplaats Oost-Souburg",'1. Ruimtestaat'!$F$3:$F$714) -> 100.9 | E4: =SUM('1. Ruimtestaat'!P3:P9) -> 0 | F4: ='2. Glasstaat'!J3 -> 0
A5: 2 | B5: Aula Noorderbegraafplaats | C5: President Rooseveltlaan 766, Vlissingen | D5: =SUMIF('1. Ruimtestaat'!$A$3:$A$714,"Aula Noorderbegraafplaats",'1. Ruimtestaat'!$F$3:$F$714) -> 131.9 | E5: =SUM('1. Ruimtestaat'!P10:P23) -> 0 | F5: ='2. Glasstaat'!J4 -> 0
A6: 3 | B6: Brede school De Combinatie | C6: Pablo Picassoplein 122, Vlissingen | D6: =SUMIF('1. Ruimtestaat'!$A$3:$A$714,"Brede school De Combinatie",'1. Ruimtestaat'!$F$3:$F$714) -> 5234.8 | E6: =SUM('1. Ruimtestaat'!P24:P274) -> 0 | F6: ='2. Glasstaat'!J5 -> 0 | G6: ='3.1 Sanitairoverzicht '!L9 -> 0
A7: 4 | B7: Brede school Het Kroonjuweel | C7: Kroonjuweel 7, Oost-Souburg | D7: =SUMIF('1. Ruimtestaat'!$A$3:$A$714,"Brede school Het Kroonjuweel",'1. Ruimtestaat'!$F$3:$F$714) -> 3530 | E7: =SUM('1. Ruimtestaat'!P275:P413) -> 0 | F7: ='2. Glasstaat'!J6 -> 0
A8: 5 | B8: De Kwikstaart | C8: Nagelenburgsingel 2, Oost-Souburg | D8: =SUMIF('1. Ruimtestaat'!$A$3:$A$714,"De Kwikstaart",'1. Ruimtestaat'!$F$3:$F$714) -> 319.07 | E8: =SUM('1. Ruimtestaat'!P414:P432) -> 0 | F8: ='2. Glasstaat'!J7 -> 0
A9: 6 | B9: Edisonweg | C9: Edisonweg 9, Vlissingen | D9: =SUMIF('1. Ruimtestaat'!$A$3:$A$714,"Edisonweg",'1. Ruimtestaat'!$F$3:$F$714) -> 34 | E9: =SUM('1. Ruimtestaat'!P433:P436) -> 0
A10: 7 | B10: Gymzaal Slangenburg | C10: Slangenburg 1, Vlissingen | D10: =SUMIF('1. Ruimtestaat'!$A$3:$A$714,"Gymzaal Slangenburg",'1. Ruimtestaat'!$F$3:$F$714) -> 366.1 | E10: =SUM('1. Ruimtestaat'!P437:P452) -> 0 | F10: ='2. Glasstaat'!J8 -> 0
A11: 8 | B11: Gymzaal Westerzicht | C11: Westerzicht 65, Vlissingen | D11: =SUMIF('1. Ruimtestaat'!$A$3:$A$714,"Gymzaal Westerzicht",'1. Ruimtestaat'!$F$3:$F$714) -> 364.28 | E11: =SUM('1. Ruimtestaat'!P453:P466) -> 0 | F11: ='2. Glasstaat'!J9 -> 0
A12: 9 | B12: Gymzaal Slijkstraat | C12: Slijkstraat 4, Vlissingen | D12: =SUMIF('1. Ruimtestaat'!$A$3:$A$714,"Gymzaal Slijkstraat",'1. Ruimtestaat'!$F$3:$F$714) -> 290.1 | E12: =SUM('1. Ruimtestaat'!P467:P477) -> 0 | F12: ='2. Glasstaat'!J10 -> 0
A13: 10 | B13: Gymzaal Alexander Gogelweg | C13: Alexander Gogelweg 63, Vlissingen | D13: =SUMIF('1. Ruimtestaat'!$A$3:$A$714,"Gymzaal Alexander Gogelweg",'1. Ruimtestaat'!$F$3:$F$714) -> 311.56 | E13: =SUM('1. Ruimtestaat'!P478:P488) -> 0 | F13: ='2. Glasstaat'!J11 -> 0
A14: 11 | B14: Gymzaal Troelstraweg | C14: Troelstraweg 473, Vlissingen | D14: =SUMIF('1. Ruimtestaat'!$A$3:$A$714,"Gymzaal Troelstraweg",'1. Ruimtestaat'!$F$3:$F$714) -> 366.14 | E14: =SUM('1. Ruimtestaat'!P489:P503) -> 0 | F14: ='2. Glasstaat'!J12 -> 0
A15: 12 | B15: Gymzaal Verkuyl Quakkerstraat | C15: Verkuyl Quakkelaarstraat 105, Vlissingen | D15: =SUMIF('1. Ruimtestaat'!$A$3:$A$714,"Gymzaal Verkuyl Quakkerstraat",'1. Ruimtestaat'!$F$3:$F$714) -> 411.2 | E15: =SUM('1. Ruimtestaat'!P504:P514) -> 0 | F15: ='2. Glasstaat'!J13 -> 0
A16: 13 | B16: Sporthal Dongestraat | C16: Dongestraat 107, Oost-Souburg | D16: =SUMIF('1. Ruimtestaat'!$A$3:$A$714,"Sporthal Dongestraat",'1. Ruimtestaat'!$F$3:$F$714) -> 721.45 | E16: =SUM('1. Ruimtestaat'!P515:P531) -> 0 | F16: ='2. Glasstaat'!J14 -> 0
A17: 14 | B17: Stadhuis | C17: Paul Krugerstraat 1, Vlissingen | D17: =SUMIF('1. Ruimtestaat'!$A$3:$A$714,"Stadhuis",'1. Ruimtestaat'!$F$3:$F$714) -> 6216.72 | E17: =SUM('1. Ruimtestaat'!P532:P695) -> 0 | F17: ='2. Glasstaat'!J15 -> 0
A18: 15 | B18: Vredehoflaan | C18: Vredehoflaan 950, Vlissingen | D18: =SUMIF('1. Ruimtestaat'!$A$3:$A$764,"Vredehoflaan",'1. Ruimtestaat'!$F$3:$F$764) -> 419.12 | E18: =SUM('1. Ruimtestaat'!P696:P714) -> 0 | F18: ='2. Glasstaat'!J16 -> 0
A19: 16 | B19: Sportcomplex Olympiaweg | C19: Olympiaweg 19, Vlissingen | D19: =SUMIF('1. Ruimtestaat'!$A$3:$A$764,"Sportcomplex Olympiaweg",'1. Ruimtestaat'!$F$3:$F$764) -> 116.77 | E19: =SUM('1. Ruimtestaat'!P715:P732) -> 0 | F19: ='2. Glasstaat'!J17 -> 0
A20: 17 | B20: Sportcomplex Sportweg | C20: Sportweg 10, 12, 14 Vlissingen | D20: =SUMIF('1. Ruimtestaat'!$A$3:$A$774,"Sportcomplex Sportweg",'1. Ruimtestaat'!$F$3:$F$774) -> 464.6 | E20: =SUM('1. Ruimtestaat'!P733:P766) -> 0 | F20: ='2. Glasstaat'!J18 -> 0
B21: TOTAAL | D21: =SUM(D4:D20) -> 19398.71 | E21: =SUM(E4:E20) -> 0 | F21: =SUM(F4:F20) -> 0 | G21: =SUM(G4:G20) -> 0
A23: Totaalkosten ruimtestaat excl BTW | E23: =E21+F21+G21 -> 0
A24: Totaalkosten ruimtestaat incl BTW | E24: =E23*1.21 -> 0

Sheet 1. Ruimtestaat
A1: 1. Ruimtestaat
A2: Gebouw | B2: Etage | C2: Ruimte-nummer | D2: Ruimte omschrijving | E2: Categorie in werkprogramma | F2: Oppervlakte m² | G2: Niet in onderhoud | H2: Vloerafwerking | I2: VSR-code | J2: Bijzonderheden | K2: Frequentie | L2: Prestatie m2/uur | M2: Uurtarief | N2: Uren per jaar | O2: Kosten conserveren per jaar | P2: Kosten per jaar | Q2: Kosten m2/jaar | R2: Opmerkingen
A3: Aula Begraafplaats Oost-Souburg | B3: BG | C3: 0.1 | D3: Entree/Inkomsthal | E3: Entrees en trappenhuizen | F3: 7 | H3: Tapijt | I3: Verkeersruimten | K3: 104
A4: Aula Begraafplaats Oost-Souburg | B4: BG | C4: 0.2 | D4: Wachtruimte | E4: Overige ruimten | F4: 79 | H4: Linoleum | I4: Verkeersruimten | K4: 104
A5: Aula Begraafplaats Oost-Souburg | B5: BG | C5: 0.3 | D5: Toiletvoorruimte | E5: Sanitair | F5: 5.4000001 | H5: Dubbel Hard Gebakken Tegel | I5: Sanitair | K5: 104
A6: Aula Begraafplaats Oost-Souburg | B6: BG | C6: 0.4 | D6: Toilet | E6: Sanitair | F6: 1 | H6: Dubbel Hard Gebakken Tegel | I6: Sanitair | K6: 104
A7: Aula Begraafplaats Oost-Souburg | B7: BG | C7: 0.4a | D7: Toilet | E7: Sanitair | F7: 1 | H7: Dubbel Hard Gebakken Tegel | I7: Sanitair | K7: 104
A8: Aula Begraafplaats Oost-Souburg | B8: BG | C8: 0.5 | D8: Werkkast | G8: 2.6 | H8: Beton | I8: Verkeersruimten
A9: Aula Begraafplaats Oost-Souburg | B9: BG | C9: 0.7 | D9: Kantine | E9: Kantine en pantrys | F9: 7.5 | H9: PVC | I9: Verkeersruimten | K9: 104
A10: Aula Noorderbegraafplaats | B10: BG | D10: Hal | E10: Gangen en hallen | F10: 3.5999999 | H10: Tapijt | I10: Verkeersruimten | K10: 104
A11: Aula Noorderbegraafplaats | B11: BG | D11: Hal | E11: Gangen en hallen | F11: 9.3500004 | H11: Tapijt | I11: Verkeersruimten | K11: 104
A12: Aula Noorderbegraafplaats | B12: BG | D12: Kantine | E12: Kantine en pantrys | F12: 15 | H12: Linoleum | I12: Verkeersruimten | K12: 104
A13: Aula Noorderbegraafplaats | B13: BG | D13: Kantoor | E13: Kantoren | F13: 6 | H13: Tapijt | I13: Bureaukamers | K13: 104
A14: Aula Noorderbegraafplaats | B14: BG | D14: Wachtruimte | E14: Overige ruimten | F14: 60 | H14: Linoleum | I14: Verkeersruimten | K14: 104
A15: Aula Noorderbegraafplaats | B15: BG | D15: Keuken | E15: Kantine en pantrys | F15: 5.8000002 | H15: Dubbel Hard Gebakken Tegel | I15: Verkeersruimten | K15: 104
A16: Aula Noorderbegraafplaats | B16: BG | D16: Kleedruimte | E16: Sanitair | F16: 9.5 | H16: Dubbel Hard Gebakken Tegel | I16: Sanitair | K16: 104
A17: Aula Noorderbegraafplaats | B17: BG | D17: Kleedruimte | E17: Sanitair | F17: 11.75 | H17: Linoleum | I17: Sanitair | K17: 104
A18: Aula Noorderbegraafplaats | B18: BG | D18: Toilet | E18: Sanitair | F18: 1.2 | H18: Dubbel Hard Gebakken Tegel | I18: Sanitair | K18: 104
A19: Aula Noorderbegraafplaats | B19: BG | D19: Douche | E19: Sanitair | F19: 1.7 | H19: Dubbel Hard Gebakken Tegel | I19: Sanitair | K19: 104
A20: Aula Noorderbegraafplaats | B20: BG | D20: Toilet | E20: Sanitair | F20: 4 | H20: Dubbel Hard Gebakken Tegel | I20: Sanitair | K20: 104
A21: Aula Noorderbegraafplaats | B21: BG | D21: Toilet | E21: Sanitair | F21: 4 | H21: Dubbel Hard Gebakken Tegel | I21: Sanitair | K21: 104
A22: Aula Noorderbegraafplaats | B22: BG | D22: Opslag | G22: 0 | H22: Dubbel Hard Gebakken Tegel | I22: Verkeersruimten
A23: Aula Noorderbegraafplaats | B23: BG | D23: Opslag | G23: 0 | H23: Dubbel Hard Gebakken Tegel | I23: Verkeersruimten
A24: Brede school De Combinatie | B24: Kelder | C24: K 101 | D24: Opslag | G24: 1300 | H24: Beton | I24: Verkeersruimten
A25: Brede school De Combinatie | B25: Kelder | C25: K 102 | D25: Fietsenberging | G25: 72 | H25: Beton | I25: Verkeersruimten
A26: Brede school De Combinatie | B26: Kelder | C26: K 103 | D26: Fietsenberging | G26: 39 | H26: Beton | I26: Verkeersruimten
A27: Brede school De Combinatie | B27: Kelder | C27: K 104 | D27: Fietsenberging | G27: 39 | H27: Beton | I27: Verkeersruimten
A28: Brede school De Combinatie | B28: Kelder | C28: k 201 | D28: Trappenhuis | G28: 10 | H28: Beton | I28: Verkeersruimten
A29: Brede school De Combinatie | B29: Kelder | C29: K 202 | D29: Gang | G29: 13 | H29: Beton | I29: Verkeersruimten
A30: Brede school De Combinatie | B30: Kelder | C30: K 203 | D30: Gang | G30: 13 | H30: Beton | I30: Verkeersruimten
A31: Brede school De Combinatie | B31: Kelder | C31: K 204 | D31: Trappenhuis | G31: 12 | H31: Beton | I31: Verkeersruimten
A32: Brede school De Combinatie | B32: Kelder | C32: K 401 | D32: Opslag | G32: 6 | H32: Beton | I32: Verkeersruimten
A33: Brede school De Combinatie | B33: Kelder | C33: K 402 | D33: Opslag | G33: 5 | H33: Beton | I33: Verkeersruimten
A34: Brede school De Combinatie | B34: Kelder | C34: K 403 | D34: Technische ruimte | G34: 5 | H34: Beton | I34: Verkeersruimten
A35: Brede school De Combinatie | B35: Kelder | C35: K 404 | D35: Opslag | G35: 5 | H35: Beton | I35: Verkeersruimten
... A38: Brede school De Combinatie | B38: Kelder | C38: K 407 | D38: Technische ruimte | G38: 5 | H38: Beton | I38: Verkeersruimten
A39: Brede school De Combinatie | B39: BG | C39: A0-101 | D39: Speelzaal | E39: Lokalen | F39: 84 | H39: Gietvloer kunststof | I39: Verkeersruimten | J39: Extra: dagelijks moppen | K39: 255
A40: Brede school De Combinatie | B40: BG | C40: A0-102 | D40: Speelzaal | E40: Lokalen | F40: 84 | H40: Gietvloer kunststof | I40: Verkeersruimten | J40: Extra: dagelijks moppen | K40: 255
A41: Brede school De Combinatie | B41: BG | C41: A0-201 | D41: Entree/Inkomsthal | E41: Entrees en trappenhuizen | F41: 17 | H41: Borstelmat | I41: Verkeersruimten | K41: 255
A42: Brede school De Combinatie | B42: BG | C42: A0-202 | D42: Entree/Inkomsthal | E42: Entrees en trappenhuizen | F42: 6 | H42: Borstelmat | I42: Verkeersruimten | K42: 255
A43: Brede school De Combinatie | B43: BG | C43: A0-203 | D43: Centrale ruimte | E43: Overige ruimten | F43: 185 | H43: Epoxy | I43: Verkeersruimten | K43: 255
A44: Brede school De Combinatie | B44: BG | C44: A0-204 | D44: Garderobe | E44: Gangen en hallen | F44: 6 | H44: Epoxy | I44: Verkeersruimten | K44: 255
A45: Brede school De Combinatie | B45: BG | C45: A0-205 | D45: Gang | E45: Gangen en hallen | F45: 6 | H45: Epoxy | I45: Verkeersruimten | K45: 255
A46: Brede school De Combinatie | B46: BG | C46: A0-206 | D46: Gang | E46: Gangen en hallen | F46: 4 | H46: Beton | I46: Verkeersruimten | K46: 255
A47: Brede school De Combinatie | B47: BG | C47: A0-207 | D47: Gang/trappenhuis | E47: Gangen en hallen | F47: 12 | H47: Beton | I47: Verkeersruimten | K47: 255
A48: Brede school De Combinatie | B48: BG | C48: A0-208 | D48: Gang | E48: Gangen en hallen | F48: 4 | H48: Beton | I48: Verkeersruimten | K48: 255
A49: Brede school De Combinatie | B49: BG | C49: A0-301 | D49: Sanitair | E49: Sanitair | F49: 11 | H49: Epoxy | I49: Sanitair | K49: 255
A50: Brede school De Combinatie | B50: BG | C50: A0-302 | D50: Toilet miva | E50: Sanitair | F50: 5 | H50: Steen | I50: Sanitair | K50: 255
A51: Brede school De Combinatie | B51: BG | C51: A0-303 | D51: Toilet | E51: Sanitair | F51: 11 | H51: Steen | I51: Sanitair | K51: 255
A52: Brede school De Combinatie | B52: BG | C52: A0-401 | D52: Berging | G52: 6 | H52: Beton | I52: Verkeersruimten
A53: Brede school De Combinatie | B53: BG | C53: A0-402 | D53: Berging | G53: 4 | H53: Epoxy | I53: Verkeersruimten
A54: Brede school De Combinatie | B54: BG | C54: A0-403 | D54: Techniek | G54: 8 | H54: Epoxy | I54: Verkeersruimten
A55: Brede school De Combinatie | B55: BG | C55: A0-404 | D55: Techniek | G55: 8 | H55: Beton | I55: Verkeersruimten
A56: Brede school De Combinatie | B56: BG | C56: A0-405 | D56: Techniek | G56: 2 | H56: Beton | I56: Verkeersruimten
A57: Brede school De Combinatie | B57: BG | C57: A0-406 | D57: Gang | E57: Gangen en hallen | F57: 7 | H57: Linoleum | I57: Verkeersruimten | K57: 52
A58: Brede school De Combinatie | B58: BG | C58: A0-407 | D58: Techniek | G58: 2 | H58: Beton | I58: Verkeersruimten
A59: Brede school De Combinatie | B59: BG | C59: A0-408 | D59: Techniek | G59: 2 | H59: Beton | I59: Verkeersruimten
A60: Brede school De Combinatie | B60: BG | C60: A0-409 | D60: Werkkast | G60: 5 | H60: Beton | I60: Verkeersruimten
A61: Brede school De Combinatie | B61: BG | C61: A0-410 | D61: Berging | G61: 6 | H61: Beton | I61: Verkeersruimten
A62: Brede school De Combinatie | B62: BG | C62: B0-101 | D62: Leslokaal | E62: Lokalen | F62: 60 | H62: Epoxy | I62: Leslokalen | J62: Extra: dagelijks moppen | K62: 200
A63: Brede school De Combinatie | B63: BG | C63: B0-102 | D63: Leslokaal | E63: Lokalen | F63: 60 | H63: Epoxy | I63: Leslokalen | J63: Extra: dagelijks moppen | K63: 200
A64: Brede school De Combinatie | B64: BG | C64: B0-103 | D64: Leslokaal | E64: Lokalen | F64: 60 | H64: Epoxy | I64: Leslokalen | J64: Extra: dagelijks moppen | K64: 200
A65: Brede school De Combinatie | B65: BG | C65: B0-104 | D65: Leslokaal | E65: Lokalen | F65: 60 | H65: Epoxy | I65: Leslokalen | J65: Extra: dagelijks moppen | K65: 200
A66: Brede school De Combinatie | B66: BG | C66: B0-105 | D66: Leslokaal | E66: Lokalen | F66: 60 | H66: Epoxy | I66: Leslokalen | J66: Extra: dagelijks moppen | K66: 200
A67: Brede school De Combinatie | B67: BG | C67: B0-106 | D67: Leslokaal | E67: Lokalen | F67: 60 | H67: Epoxy | I67: Leslokalen | J67: Extra: dagelijks moppen | K67: 200
A68: Brede school De Combinatie | B68: BG | C68: B0-107 | D68: Leslokaal | E68: Lokalen | F68: 60 | H68: Epoxy | I68: Leslokalen | J68: Extra: dagelijks moppen | K68: 200
A69: Brede school De Combinatie | B69: BG | C69: B0-108 | D69: Leslokaal | E69: Lokalen | F69: 60 | H69: Epoxy | I69: Leslokalen | J69: Extra: dagelijks moppen | K69: 200
A70: Brede school De Combinatie | B70: BG | C70: B0-109 | D70: Leslokaal | E70: Lokalen | F70: 60 | H70: Epoxy | I70: Leslokalen | J70: Extra: dagelijks moppen | K70: 200
A71: Brede school De Combinatie | B71: BG | C71: B0-110 | D71: Leslokaal | E71: Lokalen | F71: 40 | H71: Epoxy | I71: Leslokalen | J71: Extra: dagelijks moppen | K71: 200
A72: Brede school De Combinatie | B72: BG | C72: B0-111 | D72: Kantoor | E72: Kantoren | F72: 24 | H72: Epoxy | I72: Bureaukamers | K72: 200
A73: Brede school De Combinatie | B73: BG | C73: B0-112 | D73: Teamkamer | E73: Overige ruimten | F73: 24 | H73: Epoxy | I73: Verkeersruimten | K73: 200
A74: Brede school De Combinatie | B74: BG | C74: B0-113 | D74: Werkruimte RT | E74: Kantoren | F74: 10 | H74: Tapijt | I74: Bureaukamers | K74: 200
A75: Brede school De Combinatie | B75: BG | C75: B0-114 | D75: Werkruimte RT | E75: Kantoren | F75: 10 | H75: Tapijt | I75: Bureaukamers | K75: 200
A76: Brede school De Combinatie | B76: BG | C76: B0-115 | D76: Kantoor | E76: Kantoren | F76: 24 | H76: Epoxy | I76: Bureaukamers | K76: 200
A77: Brede school De Combinatie | B77: BG | C77: B0-116 | D77: Kantoor RT | E77: Kantoren | F77: 24 | H77: Epoxy | I77: Bureaukamers | K77: 200
A78: Brede school De Combinatie | B78: BG | C78: B0-117 | D78: Kantoor RT | E78: Kantoren | F78: 10 | H78: Epoxy | I78: Bureaukamers | K78: 200
A79: Brede school De Combinatie | B79: BG | C79: B0-118 | D79: Kantoor RT | E79: Kantoren | F79: 10 | H79: Tapijt | I79: Bureaukamers | K79: 200
A80: Brede school De Combinatie | B80: BG | C80: B0-119 | D80: Kantoor | E80: Kantoren | F80: 24 | H80: Epoxy | I80: Bureaukamers | K80: 200
A81: Brede school De Combinatie | B81: BG | C81: B0-120 | D81: Teamkamer | E81: Overige ruimten | F81: 24 | H81: Epoxy | I81: Verkeersruimten | K81: 200
A82: Brede school De Combinatie | B82: BG | C82: B0-121 | D82: Kantoor | E82: Kantoren | F82: 10 | H82: Tapijt | I82: Bureaukamers | K82: 200
A83: Brede school De Combinatie | B83: BG | C83: B0-122 | D83: Kantoor | E83: Kantoren | F83: 10 | H83: Tapijt | I83: Bureaukamers | K83: 200
A84: Brede school De Combinatie | B84: BG | C84: B0-123 | D84: Speelruimte | E84: Overige ruimten | F84: 10 | H84: Epoxy | I84: Verkeersruimten | J84: Extra: dagelijks moppen | K84: 200
A85: Brede school De Combinatie | B85: BG | C85: B0-124 | D85: Speelruimte | E85: Overige ruimten | F85: 10 | H85: Epoxy | I85: Verkeersruimten | J85: Extra: dagelijks moppen | K85: 200
A86: Brede school De Combinatie | B86: BG | C86: B0-125 | D86: Speelruimte | E86: Overige ruimten | F86: 10 | H86: Epoxy | I86: Verkeersruimten | J86: Extra: dagelijks moppen | K86: 200
A87: Brede school De Combinatie | B87: BG | C87: B0-126 | D87: Speelruimte | E87: Overige ruimten | F87: 10 | H87: Epoxy | I87: Verkeersruimten | J87: Extra: dagelijks moppen | K87: 200
A88: Brede school De Combinatie | B88: BG | C88: B0-127 | D88: Speelruimte | E88: Overige ruimten | F88: 10 | H88: Epoxy | I88: Verkeersruimten | J88: Extra: dagelijks moppen | K88: 200
A89: Brede school De Combinatie | B89: BG | C89: B0-128 | D89: Speelruimte | E89: Overige ruimten | F89: 10 | H89: Epoxy | I89: Verkeersruimten | J89: Extra: dagelijks moppen | K89: 200
A90: Brede school De Combinatie | B90: BG | C90: B0-201 | D90: Entree | E90: Entrees en trappenhuizen | F90: 5 | H90: Tapijt | I90: Verkeersruimten | K90: 200
A91: Brede school De Combinatie | B91: BG | C91: B0-202 | D91: Gang | E91: Gangen en hallen | F91: 63 | H91: Epoxy | I91: Verkeersruimten | K91: 200
A92: Brede school De Combinatie | B92: BG | C92: B0-203 | D92: Entree | E92: Entrees en trappenhuizen | F92: 5 | H92: Tapijt | I92: Verkeersruimten | K92: 200
A93: Brede school De Combinatie | B93: BG | C93: B0-204 | D93: Gang | E93: Gangen en hallen | F93: 63 | H93: Epoxy | I93: Verkeersruimten | K93: 200
A94: Brede school De Combinatie | B94: BG | C94: B0-205 | D94: Entree | E94: Entrees en trappenhuizen | F94: 5 | H94: Tapijt | I94: Verkeersruimten | K94: 200
A95: Brede school De Combinatie | B95: BG | C95: B0-206 | D95: Gang | E95: Gangen en hallen | F95: 72 | H95: Epoxy | I95: Verkeersruimten | K95: 200
A96: Brede school De Combinatie | B96: BG | C96: B0-301 | D96: Toilet | E96: Sanitair | F96: 6 | H96: Epoxy | I96: Sanitair | K96: 200
A97: Brede school De Combinatie | B97: BG | C97: B0-302 | D97: Toilet | E97: Sanitair | F97: 6 | H97: Epoxy | I97: Sanitair | K97: 200
A98: Brede school De Combinatie | B98: BG | C98: B0-303 | D98: Toilet | E98: Sanitair | F98: 6 | H98: Epoxy | I98: Sanitair | K98: 200
A99: Brede school De Combinatie | B99: BG | C99: B0-304 | D99: Toilet | E99: Sanitair | F99: 6 | H99: Epoxy | I99: Sanitair | K99: 200
A100: Brede school De Combinatie | B100: BG | C100: B0-305 | D100: Toilet | E100: Sanitair | F100: 6 | H100: Epoxy | I100: Sanitair | K100: 200
A101: Brede school De Combinatie | B101: BG | C101: B0-306 | D101: Toilet | E101: Sanitair | F101: 6 | H101: Epoxy | I101: Sanitair | K101: 200
... A107: Brede school De Combinatie | B107: BG | C107: B0-312 | D107: Toilet | E107: Sanitair | F107: 3 | H107: Epoxy | I107: Sanitair | K107: 200
...

Sheet 2. Glasstaat
A1: 2. Glasstaat
B2: Gebouw | C2: Oppervlakte gevelglas binnenzijde | D2: Oppervlakte gevelglas buitenzijde | E2: Beurtprijs gevelglas dubbelzijdig (op basis van 4x per jaar) | F2: Kosten gevelglas per jaar (op basis van 4x per jaar) Formule: kolom E x 4 | G2: Oppervlakte separatieglas dubbelzijdig | H2: Beurtprijs separatieglas dubbelzijdig wassen (op basis van 2x per jaar) | I2: Kosten separatieglas per jaar (op basis van 2x per jaar) Formule: kolom H x 2 | J2: Totaalkosten glasbewassing (gevelglasen separatieglas op jaarbasis Formule: kolom F + kolom I | K2: Hoogwerker noodzakelijk ja/nee
A3: 1 | B3: Aula Begraafplaats Oost-Souburg | C3: 20 | D3: 20 | F3: =E3*4 -> 0 | J3: =F3 -> 0
A4: 2 | B4: Aula Noorderbegraafplaats | C4: 90 | D4: 90 | F4: =E4*4 -> 0 | J4: =F4 -> 0
A5: 3 | B5: Brede school De Combinatie | C5: 1300 | D5: 1300 | F5: =E5*4 -> 0 | G5: 810 | I5: =H5*2 -> 0 | J5: =F5+I5 -> 0
A6: 4 | B6: Brede school Het Kroonjuweel | C6: 850 | D6: 865 | F6: =E6*4 -> 0 | G6: 525 | I6: =H6*2 -> 0 | J6: =F6+I6 -> 0
A7: 5 | B7: Kwikstaart | C7: 47 | D7: 47 | F7: =E7*4 -> 0 | G7: 9 | I7: =H7*2 -> 0 | J7: =F7+I7 -> 0
A8: 6 | B8: Gymzaal Slangenburg | C8: 16 | D8: 16 | F8: =E8*4 -> 0 | J8: =F8 -> 0
A9: 7 | B9: Gymzaal Westerzicht | C9: 16 | D9: 16 | F9: =E9*4 -> 0 | G9: 8 | I9: =H9*2 -> 0 | J9: =F9+I9 -> 0
A10: 8 | B10: Gymzaal Slijkstraat | C10: 44 | D10: 44 | F10: =E10*4 -> 0 | G10: 4 | I10: =H10*2 -> 0 | J10: =F10+I10 -> 0
A11: 9 | B11: Gymzaal Alexander Gogelweg | C11: 100 | D11: 100 | F11: =E11*4 -> 0 | J11: =F11 -> 0
A12: 10 | B12: Gymzaal Troelstraweg | C12: 10 | D12: 10 | F12: =E12*4 -> 0 | J12: =F12 -> 0
A13: 11 | B13: Gymzaal Verkuyl Quakkerstraat | C13: 48 | D13: 48 | F13: =E13*4 -> 0 | G13: 6 | I13: =H13*2 -> 0 | J13: =F13+I13 -> 0
A14: 12 | B14: Sporthal Dongestraat | C14: 100 | D14: 100 | F14: =E14*4 -> 0 | G14: 40 | I14: =H14*2 -> 0 | J14: =F14+I14 -> 0
A15: 13 | B15: Stadhuis | C15: 2922 | D15: 2887 | F15: =E15*4 -> 0 | G15: 2711.72 | I15: =H15*2 -> 0 | J15: =F15+I15 -> 0
A16: 14 | B16: Vredehoflaan | C16: 220 | D16: 220 | F16: =E16*4 -> 0 | G16: 76 | I16: =H16*2 -> 0 | J16: =F16+I16 -> 0
A17: 15 | B17: Sportcomplex Olympiaweg | C17: 2.75 | D17: 2.75 | F17: =E17*4 -> 0 | J17: =F17+I17 -> 0
A18: 16 | B18: Sportcomplex Sportweg | C18: 24.5 | D18: 24.5 | F18: =E18*4 -> 0 | J18: =F18+I18 -> 0
C19: =SUM(C3:C18) -> 5810.25 | D19: =SUM(D3:D18) -> 5790.25 | G19: =SUM(G3:G16) -> 4189.72 | H19: Totaalkosten excl. BTW | J19: =SUM(J3:J18) -> 0
H20: Totaalkosten incl. BTW | J20: =J19*1.21 -> 0

Sheet 3.1 Sanitairoverzicht 
A1: 3.1 Sanitairoverzicht
A2: Afvalbak 23 Liter | B2: Afvalbak 46 Liter | C2: Handdoekautomaat (papier) | D2: Damesverband-container (4 W) | E2: Toiletpapier dispenser | F2: Toiletborstel-garnituur inclusief toiletborstel | G2: Foamzeepdispenser | H2: Schoonloopmat (85*150) (2W) | I2: Schoonloopmat (115*180) (2W) | J2: Schoonloopmat (115*180) (4W) | K2: Schoonloopmat (150*250) (4W) | L2: TOTALEN
A3: 82 | B3: 4 | C3: 78 | D3: 52 | E3: 106 | F3: 106 | G3: 78 | H3: 3 | I3: 7 | J3: 1 | K3: 1 | L3: =SUM(A3:K3) -> 518
A6: Afvalbak 23 Liter | B6: Afvalbak 46 Liter | C6: Handdoekautomaat (papier) | D6: Damesverband-container | E6: Toiletpapier dispenser | F6: Toiletborstel-garnituur inclusief toiletborstel | G6: Foamzeepdispenser | H6: Schoonloopmat (85*150) | I6: Schoonloopmat (115*180) | J6: Schoonloopmat (115*180) | K6: Schoonloopmat (150*250) | L6: TOTALEN
A7: =A3*'3.2 Kosten per apparaat '!C6 -> 0 | B7: =B3*'3.2 Kosten per apparaat '!E6 -> 0 | C7: =C3*'3.2 Kosten per apparaat '!G6 -> 0 | D7: =D3*'3.2 Kosten per apparaat '!I6 -> 0 | E7: =E3*'3.2 Kosten per apparaat '!C12 -> 0 | F7: =F3*'3.2 Kosten per apparaat '!E12 -> 0 | G7: =G3*'3.2 Kosten per apparaat '!C12 -> 0 | H7: =H3*'3.2 Kosten per apparaat '!I12 -> 0 | I7: =I3*'3.2 Kosten per apparaat '!C18 -> 0 | J7: =J3*'3.2 Kosten per apparaat '!E18 -> 0 | K7: =K3*'3.2 Kosten per apparaat '!G18 -> 0 | L7: =SUM(A7:K7) -> 0
L9: =L7 -> 0

Sheet 3.2 Kosten per apparaat 
A1: 3.2 Kosten per apparaat/dispenser
A3: Opbouw kosten | C3: Afvalbak 23 Liter | E3: Afvalbak 46 Liter | G3: Handdoekautomaat (papier) | I3: Damesverbandcontainer
A4: Huur | C4: 0 | E4: 0 | G4: 0 | I4: 0
A5: Verbruik | G5: 0
A6: Totale kosten | C6: =SUM(C4:C5) -> 0 | E6: =SUM(E4:E5) -> 0 | G6: =SUM(G4:G5) -> 0 | I6: =SUM(I4:I5) -> 0
I7: (4W)
A9: Opbouw kosten | C9: Toiletpapier dispenser | E9: Toiletborstelgarnituur inclusief toiletborstel | G9: Foamzeepdispenser | I9: Schoonloopmat (85*150)
A10: Huur | C10: 0 | E10: 0 | G10: 0 | I10: 0
A11: Verbruik | C11: 0 | G11: 0
A12: Totale kosten | C12: =SUM(C10:C11) -> 0 | E12: =SUM(E10:E11) -> 0 | G12: =SUM(G10:G11) -> 0 | I12: =SUM(I10:I11) -> 0
I13: (2W)
A15: Opbouw kosten | C15: Schoonloopmat (115*180) | E15: Schoonloopmat (115*180) | G15: Schoonloopmat (150*250)
A16: Huur | C16: 0 | E16: 0 | G16: 0
A17: Verbruik
A18: Totale kosten | C18: =SUM(C16:C17) -> 0 | E18: =SUM(E16:E17) -> 0 | G18: =SUM(G16:G17) -> 0
C19: (2W) | E19: (4W) | G19: (4W)

Sheet 3.3 Aanpassing verbruik
A1: 3.3 Aanpassing verbruik
A3: Toiletpapier dispenser | B3: Type: Normaal | E3: Handdoekautomaat | F3: Type: Papier | I3: Zeepdispenser foam | J3: Type: normaal
A4: Gebruikers | B4: Kosten per jaar | E4: Gebruikers | F4: Kosten per jaar | I4: Gebruikers | J4: Kosten per jaar
A5: per stuk | B5: vast | C5: variabel | E5: per stuk | F5: vast | G5: variabel | I5: per stuk | J5: vast | K5: variabel
A7: Gelijk aantal | B7: 0 | C7: 0 | E7: Gelijk aantal | F7: 0 | G7: 0 | I7: Gelijk aantal | J7: 0 | K7: 0
A8: +5%-10% | B8: 0 | C8: 0 | E8: +5%-10% | F8: 0 | G8: 0 | I8: +5%-10% | J8: 0 | K8: 0
A9: -5%-10% | B9: 0 | C9: 0 | E9: -5%-10% | F9: 0 | G9: 0 | I9: -5%-10% | J9: 0 | K9: 0
A10: +10%-25% | B10: 0 | C10: 0 | E10: +10%-25% | F10: 0 | G10: 0 | I10: +10%-25% | J10: 0 | K10: 0
A11: -10%-25% | B11: 0 | C11: 0 | E11: -10%-25% | F11: 0 | G11: 0 | I11: -10%-25% | J11: 0 | K11: 0
A12: +25%-50% | B12: 0 | C12: 0 | E12: +25%-50% | F12: 0 | G12: 0 | I12: +25%-50% | J12: 0 | K12: 0
A13: -25%-50% | B13: 0 | C13: 0 | E13: -25%-50% | F13: 0 | G13: 0 | I13: -25%-50% | J13: 0 | K13: 0
A14: +50%-75% | B14: 0 | C14: 0 | E14: +50%-75% | F14: 0 | G14: 0 | I14: +50%-75% | J14: 0 | K14: 0
A15: -50%-75% | B15: 0 | C15: 0 | E15: -50%-75% | F15: 0 | G15: 0 | I15: -50%-75% | J15: 0 | K15: 0
A16: +75%-100% | B16: 0 | C16: 0 | E16: +75%-100% | F16: 0 | G16: 0 | I16: +75%-100% | J16: 0 | K16: 0
A17: -75%-100% | B17: 0 | C17: 0 | E17: -75%-100% | F17: 0 | G17: 0 | I17: -75%-100% | J17: 0 | K17: 0

Sheet 4. Regiewerkzaamheden
A1: Tapijt reinigen (incl in- en uitruimen) | B1: Prijs per m2 sproei-extraktie methode | C1: Prijs per m2 sproei-extraktie methode en impregneren | E1: Totaal | F1: Maximaal aantal te behalen punten
A2: 50 m2
A3: 100 m²
A4: 250 m²
A5: 500 m²
A6: 1000 m2
B7: =SUM(B2:B6) -> 0 | C7: =SUM(C2:C6) -> 0 | E7: =SUM(B7+C7) -> 0 | F7: 6
A8: Linoleum/ harde vloeren reinigen (incl. in en uitruimen) | B8: Prijs per m2 stofwissen | C8: Prijs per m2 moppen | D8: Prijs per m2 sprayen/opwrijven
A9: 50 m2
A10: 100 m²
A11: 250 m²
A12: 500 m²
A13: 1000 m2
B14: =SUM(B9:B13) -> 0 | C14: =SUM(C9:C13) -> 0 | D14: =SUM(D9:D13) -> 0 | E14: =SUM(B14+C14+D14) -> 0 | F14: 6
A15: Stenen/ houten vloeren reinigen (Incl. in en uitruimen) | B15: Prijs per m2 stofzuigen | C15: Prijs per m2 moppen | D15: Prijs per m2 schrobben
A16: 50 m2
A17: 100 m²
A18: 250 m²
A19: 500 m²
B20: =SUM(B16:B19) -> 0 | C20: =SUM(C16:C19) -> 0 | D20: =SUM(D16:D19) -> 0 | E20: =SUM(B20+C20+D20) -> 0 | F20: 2
A21: Bordes/buitenentree/muren (tussen bestaande obstakels) | B21: Prijs per m2 vegen | C21: Prijs per m2 spuiten (hogedruk)
A22: 50 m2
A23: 100 m²
A24: 250 m²
A25: 500 m²
A26: 1000 m2
B27: =SUM(B22:B26) -> 0 | C27: =SUM(C22:C26) -> 0 | E27: =SUM(B27+C27) -> 0 | F27: 2
A28: Stoelreiniging | B28: Prijs per stoel
A29: Reinigen stoelen (stoffen bekleding)
A30: Reinigen stoelen (hout en kunststof)
B31: =SUM(B29:B30) -> 0 | E31: =B31 -> 0 | F31: 6
A32: Graffiti verwijderen | B32: Prijs per m2
A33: 5 m2
A34: 10 m²
A35: 25 m2
B36: =SUM(B33:B35) -> 0 | E36: =B36 -> 0 | F36: 4
A37: Inzet schoonmaakkracht dag 06:00-21:30 uur | B37: Kosten per uur
A38: Uurtarief | E38: =B38 -> 0 | F38: 10
A39: Inzet schoonmaakkracht avond 21:30-00:00 uur | B39: Kosten per uur
A40: Uurtarief | E40: =B40 -> 0 | F40: 10
A41: Inzet schoonmaakkracht weekend | B41: Kosten per uur
A42: Uurtarief | E42: =B42 -> 0 | F42: 8
F43: =SUM(F2:F42) -> 54
