Workbook

Sheet Ondertekening
A1: Naam inschrijver: ….......................................................................................................
A2: Datum: ……...................................................................................................................
A3: Handtekening: ……........................................................................................................
A4: Naam en functie: …......................................................................................................
A5: Plaats: ….......................................................................................................................
A6: De aanbestedende dienst vermeldt aan inschrijver geanonimiseerd de uitslag na afronding van de aanbesteding de gewonnen percelen met de totaalscores.
A8: Door u gewonnen percelen
A9: Door inschrijver 2 gewonnen
A10: Door inschrijver 3 gewonnen

Sheet toelichting inschrijfformulier
A1: U dient het formulier zorgvuldig en correct in te vullen, anders wordt uw inschrijving als ongeldig ter zijde gelegd. De Aanbestedende Dienst behoudt zich het recht voor om na afloop van elk contractjaar een rapportage te vragen van de gegevens waarmee is ingeschreven met dit inschrijfformulier – maar dan uiteraard de werkelijk gerealiseerde waarden - ter controle van de totaal score waarmee is ingeschreven. Verder behoudt de Aanbestedende Dienst zich het recht voor om de gegevens te laten toetsen door een onafhankelijk bureau. Op de tabbladen "Deelstromen" en "KCA" dient de inschrijver de tarieven en de trades van de MVO perstatieladder en CO2 prestatieladder in te vullen. De in te vullen cellen zijn wit gemaakt. Geel gemaakte cellen worden door de aanbestedende dienst ingevuld. De totaalscores worden berekend nadat de aanbestedende dienst de geel gemaakte vlakken ingevuld heeft. Tevens dient de inschrijver het tabblad "ondertekening" in te vullen en rechtsgeldig te ondertekenen. Hiermee verklaart de inschrijver alles naar waarheid ingevuld te hebben. Op het tabblad "Rekenhulp deelstromen" hoeft niets te worden ingevuld.

Sheet Deelstromen
A1: Milieustraat: | B1: Assen
B6: tonnage/jr | C6: Einddatum huidig contract | D6: aantal containers | E6: type container | F6: volume container | G6: Transportprijs (TP) per container van perceeladres naar verwerkingslocatie, inclusief wisselen met lege container | H6: Tarief containerhuur per container per maand | I6: Verwerkingsprijs (VP), poorttarief in € per ton | J6: Trede MVO prestatieladder | K6: Trede CO2 prestatieladder | L6: Totaalscore inclusief transport en containerhuur | M6: Totaalscore tariefstelling exclusief transport, inclusief containerhuur | N6: totaalscore tariefstelling exclusief transport, exclusief containerhuur
A8: Tapijt | B8: 150 | C8: 44439 | D8: 1 | E8: open afzet | F8: 40 m3 | L8: =J8+K8+90*'Rekenhulp deelstromen'!M9/'Rekenhulp deelstromen'!J9 -> #DIV/0! | M8: =J8+K8+90*'Rekenhulp deelstromen'!N9/'Rekenhulp deelstromen'!K9 -> #DIV/0! | N8: =J8+K8+90*'Rekenhulp deelstromen'!O9/'Rekenhulp deelstromen'!L9 -> #DIV/0!
A9: Grof Huishoudelijk Afval | B9: 1550 | C9: 44439 | D9: 5 | E9: open afzet | F9: 40 m3 | L9: =J9+K9+90*'Rekenhulp deelstromen'!M10/'Rekenhulp deelstromen'!J10 -> #DIV/0! | M9: =J9+K9+90*'Rekenhulp deelstromen'!N10/'Rekenhulp deelstromen'!K10 -> #DIV/0! | N9: =J9+K9+90*'Rekenhulp deelstromen'!O10/'Rekenhulp deelstromen'!L10 -> #DIV/0!
A10: Plantsoenafval | B10: 3300 | C10: 44439 | D10: 2 | E10: open afzet | F10: 20 m3 | L10: =J10+K10+90*'Rekenhulp deelstromen'!M11/'Rekenhulp deelstromen'!J11 -> #DIV/0! | M10: =J10+K10+90*'Rekenhulp deelstromen'!N11/'Rekenhulp deelstromen'!K11 -> #DIV/0! | N10: =J10+K10+90*'Rekenhulp deelstromen'!O11/'Rekenhulp deelstromen'!L11 -> #DIV/0!
A11: Veegvuil | B11: 900 | C11: 44439 | D11: 2 | E11: open afzet | F11: 12 en 15 m3 | L11: =J11+K11+90*'Rekenhulp deelstromen'!M12/'Rekenhulp deelstromen'!J12 -> #DIV/0! | M11: =J11+K11+90*'Rekenhulp deelstromen'!N12/'Rekenhulp deelstromen'!K12 -> #DIV/0! | N11: =J11+K11+90*'Rekenhulp deelstromen'!O12/'Rekenhulp deelstromen'!L12 -> #DIV/0!
A12: A/B hout | B12: 1560 | C12: 44439 | D12: 5 | E12: open afzet | F12: 40 m3 | L12: =J12+K12+90*'Rekenhulp deelstromen'!M13/'Rekenhulp deelstromen'!J13 -> #DIV/0! | M12: =J12+K12+90*'Rekenhulp deelstromen'!N13/'Rekenhulp deelstromen'!K13 -> #DIV/0! | N12: =J12+K12+90*'Rekenhulp deelstromen'!O13/'Rekenhulp deelstromen'!L13 -> #DIV/0!
A13: C hout | B13: 300 | C13: 44439 | D13: 3 | E13: open afzet | F13: 40 m3 | L13: =J13+K13+90*'Rekenhulp deelstromen'!M14/'Rekenhulp deelstromen'!J14 -> #DIV/0! | M13: =J13+K13+90*'Rekenhulp deelstromen'!N14/'Rekenhulp deelstromen'!K14 -> #DIV/0! | N13: =J13+K13+90*'Rekenhulp deelstromen'!O14/'Rekenhulp deelstromen'!L14 -> #DIV/0!
A14: Asbest | B14: 43 | C14: 44439 | D14: 2 | E14: open afzet | F14: 12 m3 | L14: =J14+K14+90*'Rekenhulp deelstromen'!M15/'Rekenhulp deelstromen'!J15 -> #DIV/0! | M14: =J14+K14+90*'Rekenhulp deelstromen'!N15/'Rekenhulp deelstromen'!K15 -> #DIV/0! | N14: =J14+K14+90*'Rekenhulp deelstromen'!O15/'Rekenhulp deelstromen'!L15 -> #DIV/0!
A15: Bouw en sloop afval | B15: 140 | C15: 44439 | D15: 3 | E15: open afzet | F15: 40 m3 | L15: =J15+K15+90*'Rekenhulp deelstromen'!M16/'Rekenhulp deelstromen'!J16 -> #DIV/0! | M15: =J15+K15+90*'Rekenhulp deelstromen'!N16/'Rekenhulp deelstromen'!K16 -> #DIV/0! | N15: =J15+K15+90*'Rekenhulp deelstromen'!O16/'Rekenhulp deelstromen'!L16 -> #DIV/0!
A16: Dakleer | B16: 53 | C16: 44439 | D16: 1 | E16: open afzet | F16: 15 m3 | L16: =J16+K16+90*'Rekenhulp deelstromen'!M17/'Rekenhulp deelstromen'!J17 -> #DIV/0! | M16: =J16+K16+90*'Rekenhulp deelstromen'!N17/'Rekenhulp deelstromen'!K17 -> #DIV/0! | N16: =J16+K16+90*'Rekenhulp deelstromen'!O17/'Rekenhulp deelstromen'!L17 -> #DIV/0!
A17: Gips | B17: 48 | C17: 44439 | D17: 1 | E17: dichte afzet met inworpopening aan de zijkant | F17: 30 m3 | L17: =J17+K17+90*'Rekenhulp deelstromen'!M18/'Rekenhulp deelstromen'!J18 -> #DIV/0! | M17: =J17+K17+90*'Rekenhulp deelstromen'!N18/'Rekenhulp deelstromen'!K18 -> #DIV/0! | N17: =J17+K17+90*'Rekenhulp deelstromen'!O18/'Rekenhulp deelstromen'!L18 -> #DIV/0!
A18: Harde kunststoffen | B18: 100 | C18: 44439 | D18: 2 | E18: open afzet | F18: 40 m3 | L18: =J18+K18+90*'Rekenhulp deelstromen'!M19/'Rekenhulp deelstromen'!J19 -> #DIV/0! | M18: =J18+K18+90*'Rekenhulp deelstromen'!N19/'Rekenhulp deelstromen'!K19 -> #DIV/0! | N18: =J18+K18+90*'Rekenhulp deelstromen'!O19/'Rekenhulp deelstromen'!L19 -> #DIV/0!
A19: Metalen | B19: 272 | C19: 44439 | D19: 2 | E19: open afzet | F19: 30 m3 | L19: =J19+K19+90*'Rekenhulp deelstromen'!M20/'Rekenhulp deelstromen'!J20 -> #DIV/0! | M19: =J19+K19+90*'Rekenhulp deelstromen'!N20/'Rekenhulp deelstromen'!K20 -> #DIV/0! | N19: =J19+K19+90*'Rekenhulp deelstromen'!O20/'Rekenhulp deelstromen'!L20 -> #DIV/0!
... A21: Rubber (ongesorteerd) | B21: 10 | C21: 44439 | D21: 1 | E21: open afzet | F21: 30 m3 | L21: =J21+K21+90*'Rekenhulp deelstromen'!M22/'Rekenhulp deelstromen'!J22 -> #DIV/0! | M21: =J21+K21+90*'Rekenhulp deelstromen'!N22/'Rekenhulp deelstromen'!K22 -> #DIV/0! | N21: =J21+K21+90*'Rekenhulp deelstromen'!O22/'Rekenhulp deelstromen'!L22 -> #DIV/0!
A22: Versnipperbaar groen* | B22: 2145 | C22: 44439 | D22: Los gestort | L22: =J22+K22+90*'Rekenhulp deelstromen'!M23/'Rekenhulp deelstromen'!J23 -> #DIV/0! | M22: =J22+K22+90*'Rekenhulp deelstromen'!N23/'Rekenhulp deelstromen'!K23 -> #DIV/0! | N22: =J22+K22+90*'Rekenhulp deelstromen'!O23/'Rekenhulp deelstromen'!L23 -> #DIV/0!
A24: * Het snoeiafval moet ter plekke worden versnipperd en afgevoerd.
A27: Locatie (adres) waarmee inschrijver inschrijft:
A28: Tapijt
A29: Grof Huishoudelijk Afval
A30: Plantsoenafval
A31: Veegvuil
A32: A/B hout
A33: C hout
A34: Asbest
A35: Bouw en sloop afval
A36: Dakleer
A37: Gips
... A42: Versnipperbaar groen

Sheet Rekenhulp deelstromen
F7: Fictieve belading (ton/container) | G7: Fictieve prijs transport per ton | H7: Inschatting hoeveelheid containers | I7: Fictieve prijs containerverhuur per ton | J7: Fictieve inschrijfsom inclusief containerhuur en transport (per ton) | K7: Fictieve inschrijfsom exclusief transport, inclusief containerhuur (per ton) | L7: Fictieve inschrijfsom exclusief transport, exclusief containerhuur (per ton) | M7: Laagste Fictieve inschrijfsom inclusief transport en containerhuur | N7: Laagste Fictieve inschrijfsom exclusief transport, inclusief containerhuur | O7: Laagste fictieve inschrijfsom exclusief transport, exclusief containerhuur
E9: Tapijt | F9: 7.7 | G9: =Deelstromen!G8/F9 -> 0 | H9: =Deelstromen!D8 -> 1 | I9: =12*H9*Deelstromen!H8/Deelstromen!B8 -> 0 | J9: =Deelstromen!I8+I9+G9 -> 0 | K9: =Deelstromen!I8+I9 -> 0 | L9: =Deelstromen!I8 -> 0
E10: Grof Huishoudelijk Afval | F10: 4.9 | G10: =Deelstromen!G9/F10 -> 0 | H10: =Deelstromen!D9 -> 5 | I10: =12*H10*Deelstromen!H9/Deelstromen!B9 -> 0 | J10: =Deelstromen!I9+I10+G10 -> 0 | K10: =Deelstromen!I9+I10 -> 0 | L10: =Deelstromen!I9 -> 0
E11: Plantsoenafval | F11: 7.8 | G11: =Deelstromen!G10/F11 -> 0 | H11: =Deelstromen!D10 -> 2 | I11: =12*H11*Deelstromen!H10/Deelstromen!B10 -> 0 | J11: =Deelstromen!I10+I11+G11 -> 0 | K11: =Deelstromen!I10+I11 -> 0 | L11: =Deelstromen!I10 -> 0
E12: Veegvuil | F12: 10.6 | G12: =Deelstromen!G11/F12 -> 0 | H12: =Deelstromen!D11 -> 2 | I12: =12*H12*Deelstromen!H11/Deelstromen!B11 -> 0 | J12: =Deelstromen!I11+I12+G12 -> 0 | K12: =Deelstromen!I11+I12 -> 0 | L12: =Deelstromen!I11 -> 0
E13: A/B hout | F13: 6 | G13: =Deelstromen!G12/F13 -> 0 | H13: =Deelstromen!D12 -> 5 | I13: =12*H13*Deelstromen!H12/Deelstromen!B12 -> 0 | J13: =Deelstromen!I12+I13+G13 -> 0 | K13: =Deelstromen!I12+I13 -> 0 | L13: =Deelstromen!I12 -> 0
E14: C hout | F14: 6 | G14: =Deelstromen!G13/F14 -> 0 | H14: =Deelstromen!D13 -> 3 | I14: =12*H14*Deelstromen!H13/Deelstromen!B13 -> 0 | J14: =Deelstromen!I13+I14+G14 -> 0 | K14: =Deelstromen!I13+I14 -> 0 | L14: =Deelstromen!I13 -> 0
E15: Asbest | F15: 4.5 | G15: =Deelstromen!G14/F15 -> 0 | H15: =Deelstromen!D14 -> 2 | I15: =12*H15*Deelstromen!H14/Deelstromen!B14 -> 0 | J15: =Deelstromen!I14+I15+G15 -> 0 | K15: =Deelstromen!I14+I15 -> 0 | L15: =Deelstromen!I14 -> 0
E16: Bouw en sloop afval | F16: 6.4 | G16: =Deelstromen!G15/F16 -> 0 | H16: =Deelstromen!D15 -> 3 | I16: =12*H16*Deelstromen!H15/Deelstromen!B15 -> 0 | J16: =Deelstromen!I15+I16+G16 -> 0 | K16: =Deelstromen!I15+I16 -> 0 | L16: =Deelstromen!I15 -> 0
E17: Dakleer | F17: 3.6 | G17: =Deelstromen!G16/F17 -> 0 | H17: =Deelstromen!D16 -> 1 | I17: =12*H17*Deelstromen!H16/Deelstromen!B16 -> 0 | J17: =Deelstromen!I16+I17+G17 -> 0 | K17: =Deelstromen!I16+I17 -> 0 | L17: =Deelstromen!I16 -> 0
E18: Gips | F18: 9.9 | G18: =Deelstromen!G17/F18 -> 0 | H18: =Deelstromen!D17 -> 1 | I18: =12*H18*Deelstromen!H17/Deelstromen!B17 -> 0 | J18: =Deelstromen!I17+I18+G18 -> 0 | K18: =Deelstromen!I17+I18 -> 0 | L18: =Deelstromen!I17 -> 0
E19: Harde kunststoffen | F19: 2.7 | G19: =Deelstromen!G18/F19 -> 0 | H19: =Deelstromen!D18 -> 2 | I19: =12*H19*Deelstromen!H18/Deelstromen!B18 -> 0 | J19: =Deelstromen!I18+I19+G19 -> 0 | K19: =Deelstromen!I18+I19 -> 0 | L19: =Deelstromen!I18 -> 0
E20: Metalen | F20: 4.9 | G20: =Deelstromen!G19/F20 -> 0 | H20: =Deelstromen!D19 -> 2 | I20: =12*H20*Deelstromen!H19/Deelstromen!B19 -> 0 | J20: =Deelstromen!I19+I20+G20 -> 0 | K20: =Deelstromen!I19+I20 -> 0 | L20: =Deelstromen!I19 -> 0
... E22: Rubber (ongesorteerd) | F22: 7.4 | G22: =Deelstromen!G21/F22 -> 0 | H22: =Deelstromen!D21 -> 1 | I22: =12*H22*Deelstromen!H21/Deelstromen!B21 -> 0 | J22: =Deelstromen!I21+I22+G22 -> 0 | K22: =Deelstromen!I21+I22 -> 0 | L22: =Deelstromen!I21 -> 0
E23: Versnipperbaar groen* | F23: 12 | G23: =Deelstromen!G22/F23 -> 0 | H23: 0 | I23: =12*H23*Deelstromen!H22/Deelstromen!B22 -> 0 | J23: =Deelstromen!I22+I23+G23 -> 0 | K23: =Deelstromen!I22+I23 -> 0 | L23: =Deelstromen!I22 -> 0

Sheet KCA
A1: Matrix aanbesteding deelstromen Markerein
A3: Milieustraat: | N3: Assen
A5: KCA-stroom | B5: kg/jr | P5: Laagste verwerkingsprijs, inclusief transport en emmbalage (prijs per kg) | Q5: Verwerkingsprijs, inclusief transport en emmbalage (prijs per kg) | R5: Trede MVO prestatieladder | S5: Trede CO2 prestatieladder | T5: Subtotaalscore ongewogen | U5: Subtotaalscore gewogen
A6: Product | B6: Januari | C6: Februari | D6: Maart | E6: April | F6: Mei | G6: Juni | H6: Juli | I6: Augustus | J6: September | K6: Oktober | L6: November | M6: December | N6: Totaal | O6: einddatum
A7: Alkalische reinigingsmiddelen | N7: 20 | O7: 44561 | T7: =S7+R7+90*P7/Q7 -> #DIV/0! | U7: =T7*N7 -> #DIV/0!
A8: Amalgaam sludge | N8: 20 | O8: 44561 | T8: =S8+R8+90*P8/Q8 -> #DIV/0! | U8: =T8*N8 -> #DIV/0!
A9: Anorganische logen | B9: 0.11 | C9: 0.085 | D9: 0.175 | E9: 0.091 | F9: 0.089 | G9: 0.073 | H9: 0.141 | J9: 0.263 | K9: 0.077 | L9: 0.08 | M9: 0.083 | N9: 1267 | O9: 44561 | T9: =S9+R9+90*P9/Q9 -> #DIV/0! | U9: =T9*N9 -> #DIV/0!
A10: Anorganische zuren | C10: 0.084 | D10: 0.092 | F10: 0.062 | H10: 0.084 | J10: 0.095 | K10: 0.105 | L10: 0.088 | M10: 0.08 | N10: 690 | O10: 44561 | T10: =S10+R10+90*P10/Q10 -> #DIV/0! | U10: =T10*N10 -> #DIV/0!
A11: Batterijen < 1 kg | N11: 20 | O11: 44561 | T11: =S11+R11+90*P11/Q11 -> #DIV/0! | U11: =T11*N11 -> #DIV/0!
A12: Batterijen > 1 kg | B12: 0.528 | C12: 0.224 | D12: 0.758 | E12: 0.312 | F12: 0.29 | G12: 0.399 | H12: 0.554 | I12: 0.342 | J12: 0.289 | K12: 0.576 | L12: 0.208 | M12: 0.231 | N12: 4711 | O12: 44561 | T12: =S12+R12+90*P12/Q12 -> #DIV/0! | U12: =T12*N12 -> #DIV/0!
A13: Bestrijdingsmiddelen | B13: 0.054 | D13: 0.109 | G13: 0.057 | I13: 0.039 | K13: 0.045 | N13: 304 | O13: 44561 | T13: =S13+R13+90*P13/Q13 -> #DIV/0! | U13: =T13*N13 -> #DIV/0!
A14: Brandblussers | G14: 0.295 | K14: 0.556 | N14: 600 | O14: 44561 | T14: =S14+R14+90*P14/Q14 -> #DIV/0! | U14: =T14*N14 -> #DIV/0!
A15: Brandblussers Halon | N15: 251 | O15: 44561 | T15: =S15+R15+90*P15/Q15 -> #DIV/0! | U15: =T15*N15 -> #DIV/0!
A16: Condensatoren < 5 kg | N16: 20 | O16: 44561 | T16: =S16+R16+90*P16/Q16 -> #DIV/0! | U16: =T16*N16 -> #DIV/0!
A17: Filtermatten | N17: 20 | O17: 44561 | T17: =S17+R17+90*P17/Q17 -> #DIV/0! | U17: =T17*N17 -> #DIV/0!
A18: Fixeer | D18: 0.101 | N18: 101 | O18: 44561 | T18: =S18+R18+90*P18/Q18 -> #DIV/0! | U18: =T18*N18 -> #DIV/0!
A19: Fotochemicaliën gemengd | J19: 0.117 | N19: 117 | O19: 44561 | T19: =S19+R19+90*P19/Q19 -> #DIV/0! | U19: =T19*N19 -> #DIV/0!
A20: Gasflessen | C20: 0.63 | F20: 0.6 | H20: 0.816 | J20: 0.792 | L20: 0.678 | N20: 3516 | O20: 44561 | T20: =S20+R20+90*P20/Q20 -> #DIV/0! | U20: =T20*N20 -> #DIV/0!
A21: Halogeen arm oplosmiddelen hoogcalorisch | N21: 20 | O21: 44561 | T21: =S21+R21+90*P21/Q21 -> #DIV/0! | U21: =T21*N21 -> #DIV/0!
A22: Halogeen arm oplosmiddelen laagcalorisch | B22: 0.278 | C22: 0.078 | D22: 0.409 | E22: 0.231 | F22: 0.256 | G22: 0.353 | H22: 0.603 | I22: 0.497 | J22: 0.34 | K22: 0.411 | L22: 0.172 | M22: 0.149 | N22: 3777 | O22: 44561 | T22: =S22+R22+90*P22/Q22 -> #DIV/0! | U22: =T22*N22 -> #DIV/0!
A23: Halogeen rijk oplosmiddelen vloeibaar | B23: 0.123 | C23: 0.082 | D23: 0.141 | E23: 0.085 | G23: 0.148 | H23: 0.067 | I23: 0.13 | J23: 0.078 | K23: 0.133 | N23: 987 | O23: 44561 | T23: =S23+R23+90*P23/Q23 -> #DIV/0! | U23: =T23*N23 -> #DIV/0!
A24: Industriële zouten | K24: 0.024 | N24: 24 | O24: 44561 | T24: =S24+R24+90*P24/Q24 -> #DIV/0! | U24: =T24*N24 -> #DIV/0!
A25: Inktafval | N25: 20 | O25: 44561 | T25: =S25+R25+90*P25/Q25 -> #DIV/0! | U25: =T25*N25 -> #DIV/0!
A26: Kantoorafval | N26: 20 | O26: 44561 | T26: =S26+R26+90*P26/Q26 -> #DIV/0! | U26: =T26*N26 -> #DIV/0!
A27: Koelvloeistof/glycol mengsels | B27: 0.165 | D27: 0.236 | E27: 0.188 | F27: 0.093 | G27: 0.303 | H27: 0.204 | I27: 0.176 | J27: 0.12 | K27: 0.2 | N27: 1685 | O27: 44561 | T27: =S27+R27+90*P27/Q27 -> #DIV/0! | U27: =T27*N27 -> #DIV/0!
A28: Kwikhoudende voorwerpen | B28: 0.041 | C28: 0.012 | N28: 53 | O28: 44561 | T28: =S28+R28+90*P28/Q28 -> #DIV/0! | U28: =T28*N28 -> #DIV/0!
A29: Laboratorium afval | N29: 20 | O29: 44561 | T29: =S29+R29+90*P29/Q29 -> #DIV/0! | U29: =T29*N29 -> #DIV/0!
A30: Latex verfresten watergedragen | B30: 3.319 | C30: 1.547 | D30: 5.577 | E30: 2.419 | F30: 2.138 | G30: 3.854 | H30: 3.443 | I30: 2.8 | J30: 1.651 | K30: 3.023 | L30: 1.65 | M30: 1.122 | N30: 32543 | O30: 44561 | T30: =S30+R30+90*P30/Q30 -> #DIV/0! | U30: =T30*N30 -> #DIV/0!
A31: Lijm, hars en kitresten | B31: 0.155 | C31: 0.07 | D31: 0.326 | E31: 0.218 | F31: 0.158 | G31: 0.256 | H31: 0.172 | I31: 0.242 | J31: 0.087 | K31: 0.273 | L31: 0.169 | M31: 0.268 | N31: 2394 | O31: 44561 | T31: =S31+R31+90*P31/Q31 -> #DIV/0! | U31: =T31*N31 -> #DIV/0!
A32: Medicijnen en cosmetica | B32: 0.26 | C32: 0.144 | D32: 0.435 | E32: 0.086 | F32: 0.085 | G32: 0.235 | H32: 0.259 | I32: 0.192 | J32: 0.213 | K32: 0.548 | L32: 0.096 | M32: 0.155 | N32: 2708 | O32: 44561 | T32: =S32+R32+90*P32/Q32 -> #DIV/0! | U32: =T32*N32 -> #DIV/0!
A33: Lithiumhoudende batterijen-accu's | D33: 0.074 | H33: 0.076 | I33: 0.074 | K33: 0.151 | M33: 0.107 | N33: 482 | O33: 44561 | T33: =S33+R33+90*P33/Q33 -> #DIV/0! | U33: =T33*N33 -> #DIV/0!
A34: Nicd batterijen/nikkel cadmium accu | C34: 0.114 | D34: 0.092 | E34: 0.064 | G34: 0.108 | H34: 0.033 | I34: 0.044 | J34: 0.097 | K34: 0.144 | L34: 0.044 | N34: 740 | O34: 44561 | T34: =S34+R34+90*P34/Q34 -> #DIV/0! | U34: =T34*N34 -> #DIV/0!
A35: Oliefilters | H35: 0.087 | L35: 0.099 | N35: 186 | O35: 44561 | T35: =S35+R35+90*P35/Q35 -> #DIV/0! | U35: =T35*N35 -> #DIV/0!
A36: Oliehoudend garage afval | B36: 0.082 | C36: 0.029 | K36: 0.057 | L36: 0.063 | N36: 231 | O36: 44561 | T36: =S36+R36+90*P36/Q36 -> #DIV/0! | U36: =T36*N36 -> #DIV/0!
A37: Ontwikkelaar | N37: 20 | O37: 44561 | T37: =S37+R37+90*P37/Q37 -> #DIV/0! | U37: =T37*N37 -> #DIV/0!
A38: Organische zuren | N38: 20 | O38: 44561 | T38: =S38+R38+90*P38/Q38 -> #DIV/0! | U38: =T38*N38 -> #DIV/0!
A39: Reinigers | B39: 0.086 | D39: 0.103 | E39: 0.091 | G39: 0.127 | H39: 0.095 | J39: 0.17 | K39: 0.138 | M39: 0.067 | N39: 877 | O39: 44561 | T39: =S39+R39+90*P39/Q39 -> #DIV/0! | U39: =T39*N39 -> #DIV/0!
A40: Specifiek ziekennhuisafval | B40: 0.274 | C40: 0.151 | D40: 0.242 | E40: 0.101 | F40: 0.034 | G40: 0.209 | H40: 0.29 | I40: 0.2 | J40: 0.168 | K40: 0.292 | L40: 0.147 | M40: 0.174 | N40: 2282 | O40: 44561 | T40: =S40+R40+90*P40/Q40 -> #DIV/0! | U40: =T40*N40 -> #DIV/0!
A41: Spuitbussen | B41: 0.229 | C41: 0.11 | D41: 0.401 | E41: 0.23 | F41: 0.14 | G41: 0.291 | H41: 0.337 | I41: 0.3 | J41: 0.13 | K41: 0.309 | L41: 0.155 | M41: 0.112 | N41: 2744 | O41: 44561 | T41: =S41+R41+90*P41/Q41 -> #DIV/0! | U41: =T41*N41 -> #DIV/0!
A42: Teer | N42: 20 | O42: 44561 | T42: =S42+R42+90*P42/Q42 -> #DIV/0! | U42: =T42*N42 -> #DIV/0!
...
