Workbook

Sheet Ondertekening
A1: Naam inschrijver: ….......................................................................................................
A2: Datum: ……...................................................................................................................
A3: Handtekening: ……........................................................................................................
A4: Naam en functie: …......................................................................................................
A5: Plaats: ….......................................................................................................................
A6: De aanbestedende dienst vermeldt aan inschrijver geanonimiseerd de uitslag na afronding van de aanbesteding de gewonnen percelen met de totaalscores.
A8: Door u gewonnen percelen
A9: Door inschrijver 2 gewonnen
A10: Door inschrijver 3 gewonnen

Sheet toelichting inschrijfformulier
A1: U dient het formulier zorgvuldig en correct in te vullen, anders wordt uw inschrijving als ongeldig ter zijde gelegd. De Aanbestedende Dienst behoudt zich het recht voor om na afloop van elk contractjaar een rapportage te vragen van de gegevens waarmee is ingeschreven met dit inschrijfformulier – maar dan uiteraard de werkelijk gerealiseerde waarden - ter controle van de totaal score waarmee is ingeschreven. Verder behoudt de Aanbestedende Dienst zich het recht voor om de gegevens te laten toetsen door een onafhankelijk bureau. Op de tabbladen "Deelstromen" en "KCA" dient de inschrijver de tarieven en de trades van de MVO perstatieladder en CO2 prestatieladder in te vullen. De in te vullen cellen zijn wit gemaakt. Geel gemaakte cellen worden door de aanbestedende dienst ingevuld. De totaalscores worden berekend nadat de aanbestedende dienst de geel gemaakte vlakken ingevuld heeft. Tevens dient de inschrijver het tabblad "ondertekening" in te vullen en rechtsgeldig te ondertekenen. Hiermee verklaart de inschrijver alles naar waarheid ingevuld te hebben. Op het tabblad "Rekenhulp deelstromen" hoeft niets te worden ingevuld.

Sheet Deelstromen
A1: Milieustraat: | B1: de Wolden (Zuidwolde)
B4: tonnage/jr | C4: Einddatum contract | D4: aantal containers | E4: type container | F4: volume container | G4: Transportprijs (TP) per container van perceeladres naar verwerkingslocatie, inclusief wisselen met lege container | H4: Tarief containerhuur per container per maand | I4: Verwerkingsprijs (VP), poorttarief in € per ton | J4: Trede MVO prestatieladder | K4: Trede CO2 prestatieladder | L4: Totaalscore inclusief transport en containerhuur | M4: Totaalscore tariefstelling exclusief transport, inclusief containerhuur | N4: totaalscore tariefstelling exclusief transport, exclusief containerhuur
A6: A/B hout | B6: 1156 | C6: 44439 | D6: 2 | E6: open afzet | F6: 40 m3 | L6: =J6+K6+90*'Rekenhulp deelstromen'!N11/'Rekenhulp deelstromen'!K11 -> #DIV/0! | M6: =J6+K6+90*'Rekenhulp deelstromen'!O11/'Rekenhulp deelstromen'!L11 -> #DIV/0! | N6: =J6+K6+90*'Rekenhulp deelstromen'!P11/'Rekenhulp deelstromen'!M11 -> #DIV/0!
A7: A/B hout kringloopwinkel De Wolden (Ruinerwold) | B7: 25 | C7: 44439 | D7: 1 | E7: open afzet | F7: 40 m3 | L7: =J7+K7+90*'Rekenhulp deelstromen'!N12/'Rekenhulp deelstromen'!K12 -> #DIV/0! | M7: =J7+K7+90*'Rekenhulp deelstromen'!O12/'Rekenhulp deelstromen'!L12 -> #DIV/0! | N7: =J7+K7+90*'Rekenhulp deelstromen'!P12/'Rekenhulp deelstromen'!M12 -> #DIV/0!
A8: C-hout | B8: 230 | C8: 44439 | D8: 1 | E8: open afzet | F8: 40 m3 | L8: =J8+K8+90*'Rekenhulp deelstromen'!N13/'Rekenhulp deelstromen'!K13 -> #DIV/0! | M8: =J8+K8+90*'Rekenhulp deelstromen'!O13/'Rekenhulp deelstromen'!L13 -> #DIV/0! | N8: =J8+K8+90*'Rekenhulp deelstromen'!P13/'Rekenhulp deelstromen'!M13 -> #DIV/0!
A9: Asbest | B9: 45 | C9: 44439 | D9: 1 | E9: open afzet | F9: 15 m3 | L9: =J9+K9+90*'Rekenhulp deelstromen'!N14/'Rekenhulp deelstromen'!K14 -> #DIV/0! | M9: =J9+K9+90*'Rekenhulp deelstromen'!O14/'Rekenhulp deelstromen'!L14 -> #DIV/0! | N9: =J9+K9+90*'Rekenhulp deelstromen'!P14/'Rekenhulp deelstromen'!M14 -> #DIV/0!
A10: Dakleer | B10: 32 | C10: 44439 | D10: 1 | E10: open afzet | F10: 15 m3 | L10: =J10+K10+90*'Rekenhulp deelstromen'!N15/'Rekenhulp deelstromen'!K15 -> #DIV/0! | M10: =J10+K10+90*'Rekenhulp deelstromen'!O15/'Rekenhulp deelstromen'!L15 -> #DIV/0! | N10: =J10+K10+90*'Rekenhulp deelstromen'!P15/'Rekenhulp deelstromen'!M15 -> #DIV/0!
A11: Gips | B11: 58 | C11: 44439 | D11: 1 | E11: open afzet | F11: 40 m3 | L11: =J11+K11+90*'Rekenhulp deelstromen'!N16/'Rekenhulp deelstromen'!K16 -> #DIV/0! | M11: =J11+K11+90*'Rekenhulp deelstromen'!O16/'Rekenhulp deelstromen'!L16 -> #DIV/0! | N11: =J11+K11+90*'Rekenhulp deelstromen'!P16/'Rekenhulp deelstromen'!M16 -> #DIV/0!
A12: Puin | B12: 1386 | C12: 44439 | D12: 2 | E12: open afzet | F12: 15 m3 | L12: =J12+K12+90*'Rekenhulp deelstromen'!N17/'Rekenhulp deelstromen'!K17 -> #DIV/0! | M12: =J12+K12+90*'Rekenhulp deelstromen'!O17/'Rekenhulp deelstromen'!L17 -> #DIV/0! | N12: =J12+K12+90*'Rekenhulp deelstromen'!P17/'Rekenhulp deelstromen'!M17 -> #DIV/0!
A13: Harde kunststoffen | B13: 35 | C13: 44439 | D13: 1 | E13: open afzet | F13: 40 m3 | L13: =J13+K13+90*'Rekenhulp deelstromen'!N18/'Rekenhulp deelstromen'!K18 -> #DIV/0! | M13: =J13+K13+90*'Rekenhulp deelstromen'!O18/'Rekenhulp deelstromen'!L18 -> #DIV/0! | N13: =J13+K13+90*'Rekenhulp deelstromen'!P18/'Rekenhulp deelstromen'!M18 -> #DIV/0!
A14: Tuinmeubilair + minicontainers | B14: 14 | C14: 44439 | D14: 1 | E14: open afzet | F14: 40 m3 | L14: =J14+K14+90*'Rekenhulp deelstromen'!N19/'Rekenhulp deelstromen'!K19 -> #DIV/0! | M14: =J14+K14+90*'Rekenhulp deelstromen'!O19/'Rekenhulp deelstromen'!L19 -> #DIV/0! | N14: =J14+K14+90*'Rekenhulp deelstromen'!P19/'Rekenhulp deelstromen'!M19 -> #DIV/0!
A15: Overmaatse banden | B15: 10 | C15: 44439 | D15: 1 | E15: open afzet | F15: 40 m3 | L15: =J15+K15+90*'Rekenhulp deelstromen'!N20/'Rekenhulp deelstromen'!K20 -> #DIV/0! | M15: =J15+K15+90*'Rekenhulp deelstromen'!O20/'Rekenhulp deelstromen'!L20 -> #DIV/0! | N15: =J15+K15+90*'Rekenhulp deelstromen'!P20/'Rekenhulp deelstromen'!M20 -> #DIV/0!
A16: Bouw en sloopafval* | B16: 400 | C16: nvt | D16: 1 | E16: open afzet | F16: 40 m3 | L16: =J16+K16+90*'Rekenhulp deelstromen'!N21/'Rekenhulp deelstromen'!K21 -> #DIV/0! | M16: =J16+K16+90*'Rekenhulp deelstromen'!O21/'Rekenhulp deelstromen'!L21 -> #DIV/0! | N16: =J16+K16+90*'Rekenhulp deelstromen'!P21/'Rekenhulp deelstromen'!M21 -> #DIV/0!
A18: * deze stroom komt nu nog niet vrij op de milieustraat, maar wordt mogelijk in de loop van de contractperiode toegevoegd als stroom.
A23: Locatie (adres) waarmee inschrijver inschrijft:
A24: A/B hout
A25: A/B hout kringloopwinkel De Wolden (Ruinerwold)
A26: C-hout
A27: Asbest
A28: Dakleer
A29: Gips
A30: Puin
A31: Harde kunststoffen
A32: Tuinmeubilair + minicontainers
A33: Overmaatse banden
A34: Bouw en sloopafval*

Sheet Rekenhulp deelstromen
G9: Fictieve belading (ton/container) | H9: Fictieve prijs transport per ton | I9: Inschatting hoeveelheid containers | J9: Fictieve prijs containerverhuur per ton | K9: Fictieve inschrijfsom inclusief containerhuur en transport (per ton) | L9: Fictieve inschrijfsom exclusief transport, inclusief containerhuur (per ton) | M9: Fictieve inschrijfsom exclusief transport, exclusief containerhuur (per ton) | N9: Laagste Fictieve inschrijfsom inclusief transport en containerhuur | O9: Laagste Fictieve inschrijfsom exclusief transport, inclusief containerhuur | P9: Laagste fictieve inschrijfsom exclusief transport, exclusief containerhuur
F11: A/B hout | G11: 6 | H11: =Deelstromen!G6/G11 -> 0 | I11: =Deelstromen!D6 -> 2 | J11: =12*I11*Deelstromen!H6/Deelstromen!B6 -> 0 | K11: =Deelstromen!I6+J11+H11 -> 0 | L11: =Deelstromen!I6+J11 -> 0 | M11: =Deelstromen!I6 -> 0
F12: A/B hout kringloopwinkel De Wolden (Ruinerwold) | G12: 6 | H12: =Deelstromen!G7/G12 -> 0 | I12: =Deelstromen!D7 -> 1 | J12: =12*I12*Deelstromen!H7/Deelstromen!B7 -> 0 | K12: =Deelstromen!I7+J12+H12 -> 0 | L12: =Deelstromen!I7+J12 -> 0 | M12: =Deelstromen!I7 -> 0
F13: C-hout | G13: 6 | H13: =Deelstromen!G8/G13 -> 0 | I13: =Deelstromen!D8 -> 1 | J13: =12*I13*Deelstromen!H8/Deelstromen!B8 -> 0 | K13: =Deelstromen!I8+J13+H13 -> 0 | L13: =Deelstromen!I8+J13 -> 0 | M13: =Deelstromen!I8 -> 0
F14: Asbest | G14: 4.5 | H14: =Deelstromen!G9/G14 -> 0 | I14: =Deelstromen!D9 -> 1 | J14: =12*I14*Deelstromen!H9/Deelstromen!B9 -> 0 | K14: =Deelstromen!I9+J14+H14 -> 0 | L14: =Deelstromen!I9+J14 -> 0 | M14: =Deelstromen!I9 -> 0
F15: Dakleer | G15: 3.6 | H15: =Deelstromen!G10/G15 -> 0 | I15: =Deelstromen!D10 -> 1 | J15: =12*I15*Deelstromen!H10/Deelstromen!B10 -> 0 | K15: =Deelstromen!I10+J15+H15 -> 0 | L15: =Deelstromen!I10+J15 -> 0 | M15: =Deelstromen!I10 -> 0
F16: Gips | G16: 9.9 | H16: =Deelstromen!G11/G16 -> 0 | I16: =Deelstromen!D11 -> 1 | J16: =12*I16*Deelstromen!H11/Deelstromen!B11 -> 0 | K16: =Deelstromen!I11+J16+H16 -> 0 | L16: =Deelstromen!I11+J16 -> 0 | M16: =Deelstromen!I11 -> 0
F17: Puin | G17: 14 | H17: =Deelstromen!G12/G17 -> 0 | I17: =Deelstromen!D12 -> 2 | J17: =12*I17*Deelstromen!H12/Deelstromen!B12 -> 0 | K17: =Deelstromen!I12+J17+H17 -> 0 | L17: =Deelstromen!I12+J17 -> 0 | M17: =Deelstromen!I12 -> 0
F18: Harde kunststoffen | G18: 2.7 | H18: =Deelstromen!G13/G18 -> 0 | I18: =Deelstromen!D13 -> 1 | J18: =12*I18*Deelstromen!H13/Deelstromen!B13 -> 0 | K18: =Deelstromen!I13+J18+H18 -> 0 | L18: =Deelstromen!I13+J18 -> 0 | M18: =Deelstromen!I13 -> 0
F19: Tuinmeubilair + minicontainers | G19: 2.7 | H19: =Deelstromen!G14/G19 -> 0 | I19: =Deelstromen!D14 -> 1 | J19: =12*I19*Deelstromen!H14/Deelstromen!B14 -> 0 | K19: =Deelstromen!I14+J19+H19 -> 0 | L19: =Deelstromen!I14+J19 -> 0 | M19: =Deelstromen!I14 -> 0
F20: Overmaatse banden | G20: 7.4 | H20: =Deelstromen!G15/G20 -> 0 | I20: =Deelstromen!D15 -> 1 | J20: =12*I20*Deelstromen!H15/Deelstromen!B15 -> 0 | K20: =Deelstromen!I15+J20+H20 -> 0 | L20: =Deelstromen!I15+J20 -> 0 | M20: =Deelstromen!I15 -> 0
F21: Bouw en sloopafval* | G21: 6.4 | H21: =Deelstromen!G16/G21 -> 0 | I21: =Deelstromen!D16 -> 1 | J21: =12*I21*Deelstromen!H16/Deelstromen!B16 -> 0 | K21: =Deelstromen!I16+J21+H21 -> 0 | L21: =Deelstromen!I16+J21 -> 0 | M21: =Deelstromen!I16 -> 0

Sheet KCA
A1: Matrix aanbesteding deelstromen Markerein
A3: Milieustraat: | N3: Zuidwolde
A5: KCA-stroom | B5: kg/jr | P5: Laagste verwerkingsprijs, inclusief transport en emmbalage (prijs per kg) | Q5: Verwerkingsprijs, inclusief transport en emmbalage (prijs per kg) | R5: Trede MVO prestatieladder | S5: Trede CO2 prestatieladder | T5: Subtotaalscore ongewogen | U5: Subtotaalscore gewogen
A6: Product | B6: Januari | C6: Februari | D6: Maart | E6: April | F6: Mei | G6: Juni | H6: Juli | I6: Augustus | J6: September | K6: Oktober | L6: November | M6: December | N6: Totaal | O6: einddatum
A7: Afvalolie | B7: 1.52 | D7: 1.38 | G7: 2.5 | I7: 1.54 | L7: 1.48 | N7: 3632 | O7: 44439 | T7: =S7+R7+90*P7/Q7 -> #DIV/0! | U7: =T7*N7 -> #DIV/0!
A8: Batterijen droog | N8: 3118 | O8: 44439 | T8: =S8+R8+90*P8/Q8 -> #DIV/0! | U8: =T8*N8 -> #DIV/0!
A9: Lithium-ion-batterijen | N9: 285 | O9: 44439 | T9: =S9+R9+90*P9/Q9 -> #DIV/0! | U9: =T9*N9 -> #DIV/0!
A10: Kantoorafval KGA | B10: 0.11 | C10: 0.085 | D10: 0.175 | E10: 0.091 | F10: 0.089 | G10: 0.073 | H10: 0.141 | J10: 0.263 | K10: 0.077 | L10: 0.08 | M10: 0.083 | N10: 246 | O10: 44439 | T10: =S10+R10+90*P10/Q10 -> #DIV/0! | U10: =T10*N10 -> #DIV/0!
A11: Koelvloeistof | C11: 0.084 | D11: 0.092 | F11: 0.062 | H11: 0.084 | J11: 0.095 | K11: 0.105 | L11: 0.088 | M11: 0.08 | N11: 427 | O11: 44439 | T11: =S11+R11+90*P11/Q11 -> #DIV/0! | U11: =T11*N11 -> #DIV/0!
A12: Kwikhoudend afval | N12: 8 | O12: 44439 | T12: =S12+R12+90*P12/Q12 -> #DIV/0! | U12: =T12*N12 -> #DIV/0!
A13: Latex | B13: 0.528 | C13: 0.224 | D13: 0.758 | E13: 0.312 | F13: 0.29 | G13: 0.399 | H13: 0.554 | I13: 0.342 | J13: 0.289 | K13: 0.576 | L13: 0.208 | M13: 0.231 | N13: 6079 | O13: 44439 | T13: =S13+R13+90*P13/Q13 -> #DIV/0! | U13: =T13*N13 -> #DIV/0!
A14: Lijm/hars/kit vast/pasteus kvp | N14: 2547 | O14: 44439 | T14: =S14+R14+90*P14/Q14 -> #DIV/0! | U14: =T14*N14 -> #DIV/0!
A15: Loodaccu's | N15: 1940 | O15: 44439 | T15: =S15+R15+90*P15/Q15 -> #DIV/0! | U15: =T15*N15 -> #DIV/0!
A16: Medicijnen/cosmetica | B16: 0.054 | D16: 0.109 | G16: 0.057 | I16: 0.039 | K16: 0.045 | N16: 770 | O16: 44439 | T16: =S16+R16+90*P16/Q16 -> #DIV/0! | U16: =T16*N16 -> #DIV/0!
A17: Oliefilters | G17: 0.295 | K17: 0.556 | N17: 57 | O17: 44439 | T17: =S17+R17+90*P17/Q17 -> #DIV/0! | U17: =T17*N17 -> #DIV/0!
A18: Oplosmiddelen, halogeenrijk | B18: 0.3 | F18: 0.3 | H18: 0.3 | K18: 0.32 | N18: 668 | O18: 44439 | T18: =S18+R18+90*P18/Q18 -> #DIV/0! | U18: =T18*N18 -> #DIV/0!
A19: Pesticiden vast | N19: 187 | O19: 44439 | T19: =S19+R19+90*P19/Q19 -> #DIV/0! | U19: =T19*N19 -> #DIV/0!
A20: Pesticiden vloeibaar | N20: 618 | O20: 44439 | T20: =S20+R20+90*P20/Q20 -> #DIV/0! | U20: =T20*N20 -> #DIV/0!
A21: Reinigingsmiddelen obv loog | D21: 0.101 | N21: 1235 | O21: 44439 | T21: =S21+R21+90*P21/Q21 -> #DIV/0! | U21: =T21*N21 -> #DIV/0!
A22: Reinigingsmiddelen obv zuur | J22: 0.117 | N22: 448 | O22: 44439 | T22: =S22+R22+90*P22/Q22 -> #DIV/0! | U22: =T22*N22 -> #DIV/0!
A23: Specifiek ziekenhuisafval | C23: 0.63 | F23: 0.6 | H23: 0.816 | J23: 0.792 | L23: 0.678 | N23: 471 | O23: 44439 | T23: =S23+R23+90*P23/Q23 -> #DIV/0! | U23: =T23*N23 -> #DIV/0!
A24: Spuitbussen | N24: 571 | O24: 44439 | T24: =S24+R24+90*P24/Q24 -> #DIV/0! | U24: =T24*N24 -> #DIV/0!
A25: Verf oplosmiddelhoudend | B25: 0.278 | C25: 0.078 | D25: 0.409 | E25: 0.231 | F25: 0.256 | G25: 0.353 | H25: 0.603 | I25: 0.497 | J25: 0.34 | K25: 0.411 | L25: 0.172 | M25: 0.149 | N25: 8510 | O25: 44439 | T25: =S25+R25+90*P25/Q25 -> #DIV/0! | U25: =T25*N25 -> #DIV/0!
S28: Totaalscore | U28: =SUM(U7:U25) -> #DIV/0!
