Workbook

Sheet Ondertekening
A1: Naam inschrijver: ….......................................................................................................
A2: Datum: ……...................................................................................................................
A3: Handtekening: ……........................................................................................................
A4: Naam en functie: …......................................................................................................
A5: Plaats: ….......................................................................................................................
A6: De aanbestedende dienst vermeldt aan inschrijver geanonimiseerd de uitslag na afronding van de aanbesteding de gewonnen percelen met de totaalscores.
A8: Door u gewonnen percelen
A9: Door inschrijver 2 gewonnen
A10: Door inschrijver 3 gewonnen

Sheet toelichting inschrijfformulier
A1: U dient het formulier zorgvuldig en correct in te vullen, anders wordt uw inschrijving als ongeldig ter zijde gelegd. De Aanbestedende Dienst behoudt zich het recht voor om na afloop van elk contractjaar een rapportage te vragen van de gegevens waarmee is ingeschreven met dit inschrijfformulier – maar dan uiteraard de werkelijk gerealiseerde waarden - ter controle van de totaal score waarmee is ingeschreven. Verder behoudt de Aanbestedende Dienst zich het recht voor om de gegevens te laten toetsen door een onafhankelijk bureau. Op de tabbladen "Deelstromen" en "KCA" dient de inschrijver de tarieven en de trades van de MVO perstatieladder en CO2 prestatieladder in te vullen. De in te vullen cellen zijn wit gemaakt. Geel gemaakte cellen worden door de aanbestedende dienst ingevuld. De totaalscores worden berekend nadat de aanbestedende dienst de geel gemaakte vlakken ingevuld heeft. Tevens dient de inschrijver het tabblad "ondertekening" in te vullen en rechtsgeldig te ondertekenen. Hiermee verklaart de inschrijver alles naar waarheid ingevuld te hebben. Op het tabblad "Rekenhulp deelstromen" hoeft niets te worden ingevuld.

Sheet Deelstromen
A1: Milieustraat: | B1: Coevorden
B4: tonnage/jr | C4: Einddatum huidig contract | D4: aantal containers | E4: type container | F4: volume container | G4: Transportprijs (TP) per container van perceeladres naar verwerkingslocatie, inclusief wisselen met lege container | H4: Tarief containerhuur per container per maand | I4: Verwerkingsprijs (VP), poorttarief in € per ton | J4: Trede MVO prestatieladder | K4: Trede CO2 prestatieladder | L4: Totaalscore inclusief transport en containerhuur | M4: Totaalscore tariefstelling exclusief transport, inclusief containerhuur | N4: totaalscore tariefstelling exclusief transport, exclusief containerhuur
A6: Tapijt | B6: 83.89 | C6: 44561 | D6: 1 | E6: klepcontainer | F6: 40 m3 | L6: =J6+K6+90*'rekenhulp Deelstromen'!L9/'rekenhulp Deelstromen'!I9 -> #DIV/0! | M6: =J6+K6+90*'rekenhulp Deelstromen'!M9/'rekenhulp Deelstromen'!J9 -> #DIV/0! | N6: =J6+K6+90*'rekenhulp Deelstromen'!N9/'rekenhulp Deelstromen'!K9 -> #DIV/0!
A7: Metalen | B7: 169.84 | C7: 44439 | D7: 1 | E7: open afzet | F7: 40 m3 | L7: =J7+K7+90*'rekenhulp Deelstromen'!L10/'rekenhulp Deelstromen'!I10 -> #DIV/0! | M7: =J7+K7+90*'rekenhulp Deelstromen'!M10/'rekenhulp Deelstromen'!J10 -> #DIV/0! | N7: =J7+K7+90*'rekenhulp Deelstromen'!N10/'rekenhulp Deelstromen'!K10 -> #DIV/0!
A8: A/B hout | B8: 1178.96 | C8: 44439 | D8: 2 | E8: open afzet | F8: 40 m3 | L8: =J8+K8+90*'rekenhulp Deelstromen'!L11/'rekenhulp Deelstromen'!I11 -> #DIV/0! | M8: =J8+K8+90*'rekenhulp Deelstromen'!M11/'rekenhulp Deelstromen'!J11 -> #DIV/0! | N8: =J8+K8+90*'rekenhulp Deelstromen'!N11/'rekenhulp Deelstromen'!K11 -> #DIV/0!
A9: C hout | B9: 179.08 | C9: 44439 | D9: 1 | E9: open afzet | F9: 40 m3 | L9: =J9+K9+90*'rekenhulp Deelstromen'!L12/'rekenhulp Deelstromen'!I12 -> #DIV/0! | M9: =J9+K9+90*'rekenhulp Deelstromen'!M12/'rekenhulp Deelstromen'!J12 -> #DIV/0! | N9: =J9+K9+90*'rekenhulp Deelstromen'!N12/'rekenhulp Deelstromen'!K12 -> #DIV/0!
A10: Asbest | B10: 16.3 | C10: 44439 | D10: 1 | E10: open afzet | F10: 15 m3 | L10: =J10+K10+90*'rekenhulp Deelstromen'!L13/'rekenhulp Deelstromen'!I13 -> #DIV/0! | M10: =J10+K10+90*'rekenhulp Deelstromen'!M13/'rekenhulp Deelstromen'!J13 -> #DIV/0! | N10: =J10+K10+90*'rekenhulp Deelstromen'!N13/'rekenhulp Deelstromen'!K13 -> #DIV/0!
A11: Bouw en sloop afval | B11: 412.34 | C11: 44439 | D11: 2 | E11: open afzet | F11: 40 m3 | L11: =J11+K11+90*'rekenhulp Deelstromen'!L14/'rekenhulp Deelstromen'!I14 -> #DIV/0! | M11: =J11+K11+90*'rekenhulp Deelstromen'!M14/'rekenhulp Deelstromen'!J14 -> #DIV/0! | N11: =J11+K11+90*'rekenhulp Deelstromen'!N14/'rekenhulp Deelstromen'!K14 -> #DIV/0!
A12: Dakleer | B12: 19.48 | C12: 44439 | D12: 1 | E12: open afzet | F12: 15 m3 | L12: =J12+K12+90*'rekenhulp Deelstromen'!L15/'rekenhulp Deelstromen'!I15 -> #DIV/0! | M12: =J12+K12+90*'rekenhulp Deelstromen'!M15/'rekenhulp Deelstromen'!J15 -> #DIV/0! | N12: =J12+K12+90*'rekenhulp Deelstromen'!N15/'rekenhulp Deelstromen'!K15 -> #DIV/0!
A13: Gips | B13: 46.42 | C13: 44439 | D13: 1 | E13: open afzet | F13: 40 m3 | L13: =J13+K13+90*'rekenhulp Deelstromen'!L16/'rekenhulp Deelstromen'!I16 -> #DIV/0! | M13: =J13+K13+90*'rekenhulp Deelstromen'!M16/'rekenhulp Deelstromen'!J16 -> #DIV/0! | N13: =J13+K13+90*'rekenhulp Deelstromen'!N16/'rekenhulp Deelstromen'!K16 -> #DIV/0!
A14: Harde Kunststoffen | B14: 74.56 | C14: 44439 | D14: 1 | E14: open afzet | F14: 40 m3 | L14: =J14+K14+90*'rekenhulp Deelstromen'!L17/'rekenhulp Deelstromen'!I17 -> #DIV/0! | M14: =J14+K14+90*'rekenhulp Deelstromen'!M17/'rekenhulp Deelstromen'!J17 -> #DIV/0! | N14: =J14+K14+90*'rekenhulp Deelstromen'!N17/'rekenhulp Deelstromen'!K17 -> #DIV/0!
A15: Puin | B15: 1685.56 | C15: 44439 | D15: 2 | E15: open afzet | F15: 12 m3 | L15: =J15+K15+90*'rekenhulp Deelstromen'!L18/'rekenhulp Deelstromen'!I18 -> #DIV/0! | M15: =J15+K15+90*'rekenhulp Deelstromen'!M18/'rekenhulp Deelstromen'!J18 -> #DIV/0! | N15: =J15+K15+90*'rekenhulp Deelstromen'!N18/'rekenhulp Deelstromen'!K18 -> #DIV/0!
A16: Rubber ongesorteerd | B16: 9.82 | C16: 44439 | D16: 1 | E16: open afzet | F16: 15 m3 | L16: =J16+K16+90*'rekenhulp Deelstromen'!L19/'rekenhulp Deelstromen'!I19 -> #DIV/0! | M16: =J16+K16+90*'rekenhulp Deelstromen'!M19/'rekenhulp Deelstromen'!J19 -> #DIV/0! | N16: =J16+K16+90*'rekenhulp Deelstromen'!N19/'rekenhulp Deelstromen'!K19 -> #DIV/0!
A18: Locatie (adres) waarmee inschrijver inschrijft:
A19: Tapijt
A20: Metalen
A21: A/B hout
A22: C hout
A23: Asbest
A24: Bouw en sloop afval
A25: Dakleer
A26: Gips
A27: Harde Kunststoffen
A28: Puin
A29: Rubber ongesorteerd

Sheet rekenhulp Deelstromen
E7: Fictieve belading (ton/container) | F7: Fictieve prijs transport per ton | G7: Inschatting hoeveelheid containers | H7: Fictieve prijs containerverhuur per ton | I7: Fictieve inschrijfsom inclusief containerhuur en transport (per ton) | J7: Fictieve inschrijfsom exclusief transport, inclusief containerhuur (per ton) | K7: Fictieve inschrijfsom exclusief transport, exclusief containerhuur (per ton) | L7: Laagste Fictieve inschrijfsom inclusief transport en containerhuur | M7: Laagste Fictieve inschrijfsom exclusief transport, inclusief containerhuur | N7: Laagste fictieve inschrijfsom exclusief transport, exclusief containerhuur
D9: Tapijt | E9: 7.7 | F9: =Deelstromen!G6/E9 -> 0 | G9: =Deelstromen!D6 -> 1 | H9: =12*G9*Deelstromen!H6/Deelstromen!B6 -> 0 | I9: =Deelstromen!I6+H9+F9 -> 0 | J9: =Deelstromen!I6+H9 -> 0 | K9: =Deelstromen!I6 -> 0
D10: Metalen | E10: 4.9 | F10: =Deelstromen!G7/E10 -> 0 | G10: =Deelstromen!D7 -> 1 | H10: =12*G10*Deelstromen!H7/Deelstromen!B7 -> 0 | I10: =Deelstromen!I7+H10+F10 -> 0 | J10: =Deelstromen!I7+H10 -> 0 | K10: =Deelstromen!I7 -> 0
D11: A/B hout | E11: 6 | F11: =Deelstromen!G8/E11 -> 0 | G11: =Deelstromen!D8 -> 2 | H11: =12*G11*Deelstromen!H8/Deelstromen!B8 -> 0 | I11: =Deelstromen!I8+H11+F11 -> 0 | J11: =Deelstromen!I8+H11 -> 0 | K11: =Deelstromen!I8 -> 0
D12: C hout | E12: 6 | F12: =Deelstromen!G9/E12 -> 0 | G12: =Deelstromen!D9 -> 1 | H12: =12*G12*Deelstromen!H9/Deelstromen!B9 -> 0 | I12: =Deelstromen!I9+H12+F12 -> 0 | J12: =Deelstromen!I9+H12 -> 0 | K12: =Deelstromen!I9 -> 0
D13: Asbest | E13: 4.5 | F13: =Deelstromen!G10/E13 -> 0 | G13: =Deelstromen!D10 -> 1 | H13: =12*G13*Deelstromen!H10/Deelstromen!B10 -> 0 | I13: =Deelstromen!I10+H13+F13 -> 0 | J13: =Deelstromen!I10+H13 -> 0 | K13: =Deelstromen!I10 -> 0
D14: Bouw en sloop afval | E14: 6.4 | F14: =Deelstromen!G11/E14 -> 0 | G14: =Deelstromen!D11 -> 2 | H14: =12*G14*Deelstromen!H11/Deelstromen!B11 -> 0 | I14: =Deelstromen!I11+H14+F14 -> 0 | J14: =Deelstromen!I11+H14 -> 0 | K14: =Deelstromen!I11 -> 0
D15: Dakleer | E15: 3.6 | F15: =Deelstromen!G12/E15 -> 0 | G15: =Deelstromen!D12 -> 1 | H15: =12*G15*Deelstromen!H12/Deelstromen!B12 -> 0 | I15: =Deelstromen!I12+H15+F15 -> 0 | J15: =Deelstromen!I12+H15 -> 0 | K15: =Deelstromen!I12 -> 0
D16: Gips | E16: 9.9 | F16: =Deelstromen!G13/E16 -> 0 | G16: =Deelstromen!D13 -> 1 | H16: =12*G16*Deelstromen!H13/Deelstromen!B13 -> 0 | I16: =Deelstromen!I13+H16+F16 -> 0 | J16: =Deelstromen!I13+H16 -> 0 | K16: =Deelstromen!I13 -> 0
D17: Harde Kunststoffen | E17: 2.7 | F17: =Deelstromen!G14/E17 -> 0 | G17: =Deelstromen!D14 -> 1 | H17: =12*G17*Deelstromen!H14/Deelstromen!B14 -> 0 | I17: =Deelstromen!I14+H17+F17 -> 0 | J17: =Deelstromen!I14+H17 -> 0 | K17: =Deelstromen!I14 -> 0
D18: Puin | E18: 14 | F18: =Deelstromen!G15/E18 -> 0 | G18: =Deelstromen!D15 -> 2 | H18: =12*G18*Deelstromen!H15/Deelstromen!B15 -> 0 | I18: =Deelstromen!I15+H18+F18 -> 0 | J18: =Deelstromen!I15+H18 -> 0 | K18: =Deelstromen!I15 -> 0
D19: Rubber ongesorteerd | E19: 7.4 | F19: =Deelstromen!G16/E19 -> 0 | G19: =Deelstromen!D16 -> 1 | H19: =12*G19*Deelstromen!H16/Deelstromen!B16 -> 0 | I19: =Deelstromen!I16+H19+F19 -> 0 | J19: =Deelstromen!I16+H19 -> 0 | K19: =Deelstromen!I16 -> 0

Sheet KCA
A1: Matrix aanbesteding deelstromen Markerein
A3: Milieustraat: | N3: Coevorden
A5: KCA-stroom | B5: kg/jr | P5: Laagste verwerkingsprijs, inclusief transport en emmbalage (prijs per kg) | Q5: Verwerkingsprijs, inclusief transport en emmbalage (prijs per kg) | R5: Trede MVO prestatieladder | S5: Trede CO2 prestatieladder | T5: Subtotaalscore ongewogen | U5: Subtotaalscore gewogen
A6: Product | B6: Januari | C6: Februari | D6: Maart | E6: April | F6: Mei | G6: Juni | H6: Juli | I6: Augustus | J6: September | K6: Oktober | L6: November | M6: December | N6: Totaal | O6: einddatum
A7: Anorganische zuren | B7: 1.52 | D7: 1.38 | G7: 2.5 | I7: 1.54 | L7: 1.48 | N7: =40+119 -> 159 | O7: 44439 | T7: =S7+R7+90*P7/Q7 -> #DIV/0! | U7: =T7*N7 -> #DIV/0!
A8: Batterijen < 1 kg | N8: 818 | O8: 44439 | T8: =S8+R8+90*P8/Q8 -> #DIV/0! | U8: =T8*N8 -> #DIV/0!
A9: Bestrijdingsmiddelen | N9: =80+906 -> 986 | O9: 44439 | T9: =S9+R9+90*P9/Q9 -> #DIV/0! | U9: =T9*N9 -> #DIV/0!
A10: Brandblussers | B10: 0.11 | C10: 0.085 | D10: 0.175 | E10: 0.091 | F10: 0.089 | G10: 0.073 | H10: 0.141 | J10: 0.263 | K10: 0.077 | L10: 0.08 | M10: 0.083 | N10: 516 | O10: 44439 | T10: =S10+R10+90*P10/Q10 -> #DIV/0! | U10: =T10*N10 -> #DIV/0!
A11: Loodaccu's | C11: 0.084 | D11: 0.092 | F11: 0.062 | H11: 0.084 | J11: 0.095 | K11: 0.105 | L11: 0.088 | M11: 0.08 | N11: 1507 | O11: 44439 | T11: =S11+R11+90*P11/Q11 -> #DIV/0! | U11: =T11*N11 -> #DIV/0!
A12: Medicijnen | N12: 529 | O12: 44439 | T12: =S12+R12+90*P12/Q12 -> #DIV/0! | U12: =T12*N12 -> #DIV/0!
A13: Oliefilters | B13: 0.528 | C13: 0.224 | D13: 0.758 | E13: 0.312 | F13: 0.29 | G13: 0.399 | H13: 0.554 | I13: 0.342 | J13: 0.289 | K13: 0.576 | L13: 0.208 | M13: 0.231 | N13: 97 | O13: 44439 | T13: =S13+R13+90*P13/Q13 -> #DIV/0! | U13: =T13*N13 -> #DIV/0!
A14: Oplosmiddelen en mengels v Oplosm. | N14: 557 | O14: 44439 | T14: =S14+R14+90*P14/Q14 -> #DIV/0! | U14: =T14*N14 -> #DIV/0!
A15: Reinigingsmiddelen (zeep) | B15: 0.054 | D15: 0.109 | G15: 0.057 | I15: 0.039 | K15: 0.045 | N15: 1304 | O15: 44439 | T15: =S15+R15+90*P15/Q15 -> #DIV/0! | U15: =T15*N15 -> #DIV/0!
A16: Spuitbussen | G16: 0.295 | K16: 0.556 | N16: 585 | O16: 44439 | T16: =S16+R16+90*P16/Q16 -> #DIV/0! | U16: =T16*N16 -> #DIV/0!
A17: Spuiten en Naalden | B17: 0.3 | F17: 0.3 | H17: 0.3 | K17: 0.32 | N17: 106 | O17: 44439 | T17: =S17+R17+90*P17/Q17 -> #DIV/0! | U17: =T17*N17 -> #DIV/0!
A18: Teer-bitumen | N18: 137 | O18: 44439 | T18: =S18+R18+90*P18/Q18 -> #DIV/0! | U18: =T18*N18 -> #DIV/0!
A19: Vast/pasteus org. Afval (lijm,kit,hars) Halogeenrijk | N19: 1181 | O19: 44439 | T19: =S19+R19+90*P19/Q19 -> #DIV/0! | U19: =T19*N19 -> #DIV/0!
A20: Verfafval | D20: 0.101 | N20: =6580+724 -> 7304 | O20: 44439 | T20: =S20+R20+90*P20/Q20 -> #DIV/0! | U20: =T20*N20 -> #DIV/0!
A21: Watergedragen verf | J21: 0.117 | N21: =1006+2352 -> 3358 | O21: 44439 | T21: =S21+R21+90*P21/Q21 -> #DIV/0! | U21: =T21*N21 -> #DIV/0!
S24: Totaalscore | U24: =SUM(U7:U21) -> #DIV/0!
