Workbook

Sheet Tabblad A - Totaal
B1: Bijlage 6 - Prijzenblad
B2: Projectnaam: Audiovisuele middelen Het Waterschapshuis
B3: Kenmerk : Z1709
B5: Prijsstelling Totaal
B6: Sub-totaal tabblad B - uurtarieven | F6: n.v.t.
B7: Sub-totaal tabblad C - AV middelen | F7: =SUM('Tabblad C - AV middelen'!G20) -> 0
B8: Sub-totaal tabblad D - nadere overeenkomsten (NOK) | F8: =SUM('Tabblad D - NOK'!I18) -> 100000
B9: Sub-totaal tabblad E - exploitatiekosten | F9: =SUM('Tabblad E - exploitatiekosten'!J13) -> 0
B11: Totale fictieve inschrijfprijs (zie par. 4.4.1) | F11: =SUM(F6:F9) -> 100000
B16: Bedrijf:
B18: Naam ondertekenaar:
B20: Plaats:
B22: Datum:
B24: Handtekening:

Sheet Tabblad B - uurtarieven 
B1: ='Tabblad A - Totaal'!B1 -> Bijlage 6 - Prijzenblad
B2: ='Tabblad A - Totaal'!B2 -> Projectnaam: Audiovisuele middelen Het Waterschapshuis
B3: ='Tabblad A - Totaal'!B3 -> Kenmerk : Z1709
B5: Prijsonderdeel uurtarieven
B6: Onderdeel | C6: Omschrijving producten en/of diensten | D6: Tarief/stuk
B7: B1 | C7: Installatie monteur | D7: 0
B8: B2 | C8: Service monteur | D8: 0
B9: B3 | C9: Engineer (systeem- / software) | D9: 0
B10: B4 | C10: Werkvoorbereider | D10: 0
B11: B5 | C11: Tekenaar | D11: 0
B12: B6 | C12: Projectleider | D12: 0
B13: B7 | C13: Programmeur (audio, video, besturing, videoconferentie, Programmatuur) | D13: 0
B14: B8 | C14: Opleiding en instructie | D14: 0
B15: B9 | C15: Inhuur technicus (zie bijlage 4, par. 5.2.3) | D15: 0

Sheet Tabblad C - AV middelen
B1: ='Tabblad A - Totaal'!B1 -> Bijlage 6 - Prijzenblad
B2: ='Tabblad A - Totaal'!B2 -> Projectnaam: Audiovisuele middelen Het Waterschapshuis
B3: ='Tabblad A - Totaal'!B3 -> Kenmerk : Z1709
B5: Prijsonderdeel AV middelen
B6: Onderdeel | C6: Omschrijving producten en/of diensten | E6: Aantal | F6: Tarief/stuk | G6: Totaal prijs
B7: C1 | C7: Totaal Producten | E7: 1 | G7: =E7*F7 -> 0
B8: C2 | C8: Totaal Programmatuur en Licenties | E8: 1 | G8: =E8*F8 -> 0
B9: B1 | C9: Installatie monteur | F9: ='Tabblad B - uurtarieven '!D7 -> 0 | G9: =E9*F9 -> 0
B10: B3 | C10: Engineer (systeem- / software) | F10: ='Tabblad B - uurtarieven '!D9 -> 0 | G10: =E10*F10 -> 0
B11: B4 | C11: Werkvoorbereider | F11: ='Tabblad B - uurtarieven '!D10 -> 0 | G11: =E11*F11 -> 0
B12: B5 | C12: Tekenaar | F12: ='Tabblad B - uurtarieven '!D11 -> 0 | G12: =E12*F12 -> 0
B13: B6 | C13: Projectleider | F13: ='Tabblad B - uurtarieven '!D12 -> 0 | G13: =E13*F13 -> 0
B14: B7 | C14: Programmeur (audio, video, besturing, videoconferentie, Programmatuur) | F14: ='Tabblad B - uurtarieven '!D13 -> 0 | G14: =E14*F14 -> 0
B15: B8 | C15: Opleiding en instructie | F15: ='Tabblad B - uurtarieven '!D14 -> 0 | G15: =E15*F15 -> 0
B16: C3 | C16: Vrij optioneel veld | G16: =E16*F16 -> 0
B17: C4 | C17: Vrij optioneel veld | G17: =E17*F17 -> 0
B18: C5 | C18: Vrij optioneel veld | G18: =E18*F18 -> 0
B20: Sub-totaal tabblad C - raadzaal | G20: =SUM(G7:G18) -> 0

Sheet Tabblad D - NOK
B1: ='Tabblad A - Totaal'!B1 -> Bijlage 6 - Prijzenblad
B2: ='Tabblad A - Totaal'!B2 -> Projectnaam: Audiovisuele middelen Het Waterschapshuis
B3: ='Tabblad A - Totaal'!B3 -> Kenmerk : Z1709
B5: Prijsonderdeel Nadere overeenkomsten
B6: Onderdeel | C6: Omschrijving producten en/of diensten | E6: Aantal | F6: Uurtarief | G6: Prijs Productent | H6: Opslagpercentage | I6: Totaal prijs
B7: D1 | C7: Producten, Programmatuur en Licenties nadere overeenkomsten | E7: 1 | F7: n.v.t. | G7: 100000 | H7: 0 | I7: =G7*H7+G7 -> 100000
B8: B1 | C8: Installatie monteur | E8: 100 | F8: ='Tabblad B - uurtarieven '!D7 -> 0 | G8: n.v.t. | H8: n.v.t. | I8: =E8*F8 -> 0
B9: B2 | C9: Service monteur | E9: 20 | F9: ='Tabblad B - uurtarieven '!D8 -> 0 | G9: n.v.t. | H9: n.v.t. | I9: =E9*F9 -> 0
B10: B3 | C10: Engineer (systeem- / software) | E10: 20 | F10: ='Tabblad B - uurtarieven '!D9 -> 0 | G10: n.v.t. | H10: n.v.t. | I10: =E10*F10 -> 0
B11: B4 | C11: Werkvoorbereider | E11: 20 | F11: ='Tabblad B - uurtarieven '!D10 -> 0 | G11: n.v.t. | H11: n.v.t. | I11: =E11*F11 -> 0
B12: B5 | C12: Tekenaar | E12: 20 | F12: ='Tabblad B - uurtarieven '!D11 -> 0 | G12: n.v.t. | H12: n.v.t. | I12: =E12*F12 -> 0
B13: B6 | C13: Projectleider | E13: 20 | F13: ='Tabblad B - uurtarieven '!D12 -> 0 | G13: n.v.t. | H13: n.v.t. | I13: =E13*F13 -> 0
B14: B7 | C14: Programmeur (audio, video, besturing, videoconferentie, Programmatuur) | E14: 20 | F14: ='Tabblad B - uurtarieven '!D13 -> 0 | G14: n.v.t. | H14: n.v.t. | I14: =E14*F14 -> 0
B15: B8 | C15: Opleiding en instructie | E15: 20 | F15: ='Tabblad B - uurtarieven '!D14 -> 0 | G15: n.v.t. | H15: n.v.t. | I15: =E15*F15 -> 0
B16: B9 | C16: Inhuur technicus | E16: 250 | F16: ='Tabblad B - uurtarieven '!D15 -> 0 | G16: n.v.t. | H16: n.v.t. | I16: =E16*F16 -> 0
B18: Sub-totaal tabblad E - Nadere overeenkomsten | I18: =SUM(I7:I16) -> 100000

Sheet Tabblad E - exploitatiekosten
B1: ='Tabblad A - Totaal'!B1 -> Bijlage 6 - Prijzenblad
B2: ='Tabblad A - Totaal'!B2 -> Projectnaam: Audiovisuele middelen Het Waterschapshuis
B3: ='Tabblad A - Totaal'!B3 -> Kenmerk : Z1709
B5: Prijsonderdeel exploitatiekosten
B6: Onderdeel | C6: Omschrijving producten en/of diensten | E6: Aantal / Percentage | F6: Tarief | G6: Opslag factor | H6: Prijs per jaar | I6: Max. looptijd / jaren | J6: Totaal prijs
B7: E1 | C7: Kosten Onderhoud en beheer op Producten (na afloop van de Garantieperiode) | E7: 0 | F7: ='Tabblad C - AV middelen'!G7+'Tabblad C - AV middelen'!G8+'Tabblad D - NOK'!G7 -> 100000 | G7: n.v.t. | H7: =E7*F7 -> 0 | I7: 4 | J7: =H7*I7 -> 0
B8: E2 | C8: Kosten Onderhoud en beheer op de Installed Base (zie bijlage 4E, onderdeel A) | E8: 0 | F8: 45000 | G8: n.v.t. | H8: =E8*F8 -> 0 | I8: 4 | J8: =H8*I8 -> 0
B9: E3 | C9: Kosten incidentenafhandeling (zie bijlage 4, Incidentenafhandeling, paragraaf 4.4) | E9: 20 | F9: ='Tabblad B - uurtarieven '!D8 -> 0 | G9: n.v.t. | H9: =E9*F9 -> 0 | I9: 4 | J9: =H9*I9 -> 0
B10: E4 | C10: Kosten Calamiteiten (zie subgunningscriterium 2) | E10: 10 | F10: ='Tabblad B - uurtarieven '!D8 -> 0 | G10: 1 | H10: =F10*G10*E10 -> 0 | I10: 4 | J10: =H10*I10 -> 0
B11: E5 | C11: Extra Opleidingskosten (zie bijlage 4, par. 2.3.1) | E11: 24 | F11: ='Tabblad B - uurtarieven '!D14 -> 0 | G11: n.v.t. | H11: =E11*F11 -> 0 | I11: 4 | J11: =H11*I11 -> 0
B13: Sub-totaal tabblad D - exploitatiekosten | J13: =SUM(J7:J11) -> 0
B15: Toelichting bij onderdeel E4: In te vullen opslagfactor bedraagt minimaal 1,0 en maximaal 3,0
