Workbook
Name _Hlk43471335: 'Keuze fictieve prijs'!$B$7

Sheet Aangeboden meerwaarde bij insch
A1: Voor de berekening van de gescoorde fictieve korting dient u een keuze te maken uit de mogelijkheden voor ieder onderdeel conform de leidraad. Deze dienen door middel van het selectiemenu voor alle oranje cellen ingevuld te worden. Daarnaast dient u de datum, uw naam en uw handtekening in de gele cellen in te vullen. De overige cellen in dit werkblad kunnen niet bewerkt worden.
A2: Aangeboden bij inschrijving
A3: Onderdeel | B3: Omschrijving | C3: Aangeboden resultaat | D3: Maximale fictieve korting | E3: Gescoorde fictieve korting
A4: 1 | B4: Nakomen bestekverplichtingen en proactief handelen
A5: 1.1 | B5: Voorkomen meldingen en klachten vanuit bezoekers, omwonenden en opdrachtgever. | D5: 7500 | E5: =IF(C5='Keuze fictieve prijs'!B2,'Keuze fictieve prijs'!$C$2,IF(C5='Keuze fictieve prijs'!B3,'Keuze fictieve prijs'!$C$3,IF(C5='Keuze fictieve prijs'!B4,'Keuze fictieve prijs'!$C$4,IF(C5='Keuze fictieve prijs'!B5,'Keuze fictieve prijs'!$C$5)))) -> 0
A7: 2 | B7: Werkterrein/veilig werken
A8: 2.1 | B8: Voorkomen van gevaarlijke situaties en overlast | D8: 7500 | E8: =IF(C8='Keuze fictieve prijs'!B7,'Keuze fictieve prijs'!$C$7,IF(C8='Keuze fictieve prijs'!B8,'Keuze fictieve prijs'!$C$8,IF(C8='Keuze fictieve prijs'!B9,'Keuze fictieve prijs'!$C$9,IF(C8='Keuze fictieve prijs'!B10,'Keuze fictieve prijs'!$C$10)))) -> 0
A10: 3 | B10: Communicatie
A11: 3.1 | B11: Afspraken nakomen en terugkoppelen | D11: 5000 | E11: =IF(C11='Keuze fictieve prijs'!B12,'Keuze fictieve prijs'!$C$12,IF(C11='Keuze fictieve prijs'!B13,'Keuze fictieve prijs'!$C$13,IF(C11='Keuze fictieve prijs'!B14,'Keuze fictieve prijs'!$C$14,IF(C11='Keuze fictieve prijs'!B15,'Keuze fictieve prijs'!$C$15)))) -> 0
A13: 4 | B13: Classificatie in te zetten medewerkers
A14: 4.1 | B14: De in te zetten medewerkers beschikken over het certificaat Flora en Fauna niveau 1 of 2. | D14: 1500 | E14: =IF(C14='Keuze fictieve prijs'!B17,'Keuze fictieve prijs'!$C$17,IF(C14='Keuze fictieve prijs'!B18,'Keuze fictieve prijs'!$C$18,IF(C14='Keuze fictieve prijs'!B19,'Keuze fictieve prijs'!$C$19,IF(C14='Keuze fictieve prijs'!B20,'Keuze fictieve prijs'!$C$20)))) -> 0
A16: 5 | B16: Duurzaamheid
A17: 5.1 | B17: Certificering CO2-Prestatieladder | D17: 1500 | E17: =IF(C17='Keuze fictieve prijs'!B22,'Keuze fictieve prijs'!$C$22,IF(C17='Keuze fictieve prijs'!B23,'Keuze fictieve prijs'!$C$23,IF(C17='Keuze fictieve prijs'!B24,'Keuze fictieve prijs'!$C$24,IF(C17='Keuze fictieve prijs'!B25,'Keuze fictieve prijs'!$C$25)))) -> 0
A19: 6 | B19: SROI
A20: 6.1 | B20: Inzet van medewerkers met een SROI indicatie | D20: 1500 | E20: =IF(C20='Keuze fictieve prijs'!B27,'Keuze fictieve prijs'!$C$27,IF(C20='Keuze fictieve prijs'!B28,'Keuze fictieve prijs'!$C$28,IF(C20='Keuze fictieve prijs'!B29,'Keuze fictieve prijs'!$C$29,IF(C20='Keuze fictieve prijs'!B30,'Keuze fictieve prijs'!$C$30)))) -> 0
A22: 7 | B22: Voorkomen schade
A23: 7.1 | B23: Beschadiging aan bomen en vegetatie | D23: 2000 | E23: =IF(C23='Keuze fictieve prijs'!B32,'Keuze fictieve prijs'!$C$32,IF(C23='Keuze fictieve prijs'!B33,'Keuze fictieve prijs'!$C$33,IF(C23='Keuze fictieve prijs'!B34,'Keuze fictieve prijs'!$C$34,IF(C23='Keuze fictieve prijs'!B35,'Keuze fictieve prijs'!$C$35)))) -> 0
A24: 7.2 | B24: Beschadiging aan paden en spoorvorming | D24: 2000 | E24: =IF(C24='Keuze fictieve prijs'!B37,'Keuze fictieve prijs'!$C$37,IF(C24='Keuze fictieve prijs'!B38,'Keuze fictieve prijs'!$C$38,IF(C24='Keuze fictieve prijs'!B39,'Keuze fictieve prijs'!$C$39,IF(C24='Keuze fictieve prijs'!B40,'Keuze fictieve prijs'!$C$40)))) -> 0
A26: 8 | B26: Registratie werkzaamheden GBI
A27: 8.1 | B27: Dagelijkse (volledige) registratie van werkzaamheden in GBI | D27: 1500 | E27: =IF(C27='Keuze fictieve prijs'!B42,'Keuze fictieve prijs'!$C$42,IF(C27='Keuze fictieve prijs'!B43,'Keuze fictieve prijs'!$C$43,IF(C27='Keuze fictieve prijs'!B44,'Keuze fictieve prijs'!$C$44,IF(C27='Keuze fictieve prijs'!B45,'Keuze fictieve prijs'!$C$45)))) -> 0
B29: Totaal | D29: =SUM(D4:D27) -> 30000 | E29: =SUM(E4:E27) -> 0
A31: Datum
A33: Naam
A35: Handtekening

Sheet Behaalde meerwaarde per half jr
A1: Voor de berekening van de gescoorde fictieve korting dient u een keuze te maken uit de mogelijkheden voor ieder onderdeel conform de leidraad. Deze dienen door middel van het selectiemenu voor alle oranje cellen ingevuld te worden. Daarnaast dient u de datum, uw naam en uw handtekening in de gele cellen in te vullen. De overige cellen in dit werkblad kunnen niet bewerkt worden.
A2: Aangeboden bij inschrijving
A3: Onderdeel | B3: Omschrijving | C3: Score halfjaarlijkse beoordeling | D3: Maximale fictieve korting | E3: Gescoorde fictieve korting
A4: 1 | B4: Nakomen bestekverplichtingen en proactief handelen
A5: 1.1 | B5: Voorkomen meldingen en klachten vanuit bezoekers, omwonenden en opdrachtgever. | D5: 7500 | E5: =IF(C5='Keuze fictieve prijs'!B2,'Keuze fictieve prijs'!$C$2,IF(C5='Keuze fictieve prijs'!B3,'Keuze fictieve prijs'!$C$3,IF(C5='Keuze fictieve prijs'!B4,'Keuze fictieve prijs'!$C$4,IF(C5='Keuze fictieve prijs'!B5,'Keuze fictieve prijs'!$C$5)))) -> 0
A7: 2 | B7: Werkterrein/veilig werken
A8: 2.1 | B8: Voorkomen van gevaarlijke situaties en overlast | D8: 7500 | E8: =IF(C8='Keuze fictieve prijs'!B7,'Keuze fictieve prijs'!$C$7,IF(C8='Keuze fictieve prijs'!B8,'Keuze fictieve prijs'!$C$8,IF(C8='Keuze fictieve prijs'!B9,'Keuze fictieve prijs'!$C$9,IF(C8='Keuze fictieve prijs'!B10,'Keuze fictieve prijs'!$C$10)))) -> 0
A10: 3 | B10: Communicatie
A11: 3.1 | B11: Afspraken nakomen en terugkoppelen | D11: 5000 | E11: =IF(C11='Keuze fictieve prijs'!B12,'Keuze fictieve prijs'!$C$12,IF(C11='Keuze fictieve prijs'!B13,'Keuze fictieve prijs'!$C$13,IF(C11='Keuze fictieve prijs'!B14,'Keuze fictieve prijs'!$C$14,IF(C11='Keuze fictieve prijs'!B15,'Keuze fictieve prijs'!$C$15)))) -> 0
A13: 4 | B13: Classificatie in te zetten medewerkers
A14: 4.1 | B14: De in te zetten medewerkers beschikken over het certificaat Flora en Fauna niveau 1 of 2. | D14: 1500 | E14: =IF(C14='Keuze fictieve prijs'!B17,'Keuze fictieve prijs'!$C$17,IF(C14='Keuze fictieve prijs'!B18,'Keuze fictieve prijs'!$C$18,IF(C14='Keuze fictieve prijs'!B19,'Keuze fictieve prijs'!$C$19,IF(C14='Keuze fictieve prijs'!B20,'Keuze fictieve prijs'!$C$20)))) -> 0
A16: 5 | B16: Duurzaamheid
A17: 5.1 | B17: Certificering CO2-Prestatieladder | D17: 1500 | E17: =IF(C17='Keuze fictieve prijs'!B22,'Keuze fictieve prijs'!$C$22,IF(C17='Keuze fictieve prijs'!B23,'Keuze fictieve prijs'!$C$23,IF(C17='Keuze fictieve prijs'!B24,'Keuze fictieve prijs'!$C$24,IF(C17='Keuze fictieve prijs'!B25,'Keuze fictieve prijs'!$C$25)))) -> 0
A19: 6 | B19: SROI
A20: 6.1 | B20: Inzet van medewerkers met een SROI indicatie | D20: 1500 | E20: =IF(C20='Keuze fictieve prijs'!B27,'Keuze fictieve prijs'!$C$27,IF(C20='Keuze fictieve prijs'!B28,'Keuze fictieve prijs'!$C$28,IF(C20='Keuze fictieve prijs'!B29,'Keuze fictieve prijs'!$C$29,IF(C20='Keuze fictieve prijs'!B30,'Keuze fictieve prijs'!$C$30)))) -> 0
A22: 7 | B22: Voorkomen schade
A23: 7.1 | B23: Beschadiging aan bomen en vegetatie | D23: 2000 | E23: =IF(C23='Keuze fictieve prijs'!B32,'Keuze fictieve prijs'!$C$32,IF(C23='Keuze fictieve prijs'!B33,'Keuze fictieve prijs'!$C$33,IF(C23='Keuze fictieve prijs'!B34,'Keuze fictieve prijs'!$C$34,IF(C23='Keuze fictieve prijs'!B35,'Keuze fictieve prijs'!$C$35)))) -> 0
A24: 7.2 | B24: Beschadiging aan paden en spoorvorming | D24: 2000 | E24: =IF(C24='Keuze fictieve prijs'!B37,'Keuze fictieve prijs'!$C$37,IF(C24='Keuze fictieve prijs'!B38,'Keuze fictieve prijs'!$C$38,IF(C24='Keuze fictieve prijs'!B39,'Keuze fictieve prijs'!$C$39,IF(C24='Keuze fictieve prijs'!B40,'Keuze fictieve prijs'!$C$40)))) -> 0
A26: 8 | B26: Registratie werkzaamheden GBI
A27: 8.1 | B27: Dagelijkse (volledige) registratie van werkzaamheden in GBI | D27: 1500 | E27: =IF(C27='Keuze fictieve prijs'!B42,'Keuze fictieve prijs'!$C$42,IF(C27='Keuze fictieve prijs'!B43,'Keuze fictieve prijs'!$C$43,IF(C27='Keuze fictieve prijs'!B44,'Keuze fictieve prijs'!$C$44,IF(C27='Keuze fictieve prijs'!B45,'Keuze fictieve prijs'!$C$45)))) -> 0
B29: Totaal | D29: =SUM(D4:D27) -> 30000 | E29: =SUM(E4:E27) -> 0
A31: Datum | C31: FICTIEVE INSCHRIJFPRIJS* | E31: 0.001
C32: SOM DEELOPDRACHT* | E32: 0.001
A33: Naam | C33: PERCENTAGE | E33: =E32/E31 -> 1
C34: *Deze som bestaat uit de optelling van alle bestekposten incl. staartkosten welke zijn opgenomen in de betreffende deelopdracht van de bijbehorende RAW raamovereenkomst
A35: Handtekening

Sheet Berekening bonus,malus
A1: Voor de berekening van de gescoorde fictieve korting dient u een keuze te maken uit de mogelijkheden voor ieder onderdeel conform de leidraad. Deze dienen door middel van het selectiemenu voor alle oranje cellen ingevuld te worden. Daarnaast dient u de datum, uw naam en uw handtekening in de gele cellen in te vullen. De overige cellen in dit werkblad kunnen niet bewerkt worden.
A2: Aangeboden bij inschrijving | H2: Gescoord bij halfjaarlijkse beoordeling
A3: Onderdeel | B3: Omschrijving | C3: Aangeboden resultaat | D3: Maximale fictieve korting | E3: Gescoorde fictieve korting | F3: Bonus | G3: Korting | H3: Behaalde score bij beoordeling | I3: Score behorend bij beoordeling | J3: Malus/bonus bedrag
A4: 1 | B4: Nakomen bestekverplichtingen en proactief handelen
A5: 1.1 | B5: Voorkomen meldingen en klachten vanuit bezoekers, omwonenden en opdrachtgever. | C5: ='Aangeboden meerwaarde bij insch'!C5 -> 0 | D5: 7500 | E5: =IF(C5='Keuze fictieve prijs'!B2,'Keuze fictieve prijs'!$C$2,IF(C5='Keuze fictieve prijs'!B3,'Keuze fictieve prijs'!$C$3,IF(C5='Keuze fictieve prijs'!B4,'Keuze fictieve prijs'!$C$4,IF(C5='Keuze fictieve prijs'!B5,'Keuze fictieve prijs'!$C$5)))) -> 0 | F5: 0.3 | G5: 0.6 | H5: ='Behaalde meerwaarde per half jr'!C5 -> 0 | I5: =IF(H5='Keuze fictieve prijs'!B2,'Keuze fictieve prijs'!$C$2,IF(H5='Keuze fictieve prijs'!B3,'Keuze fictieve prijs'!$C$3,IF(H5='Keuze fictieve prijs'!B4,'Keuze fictieve prijs'!$C$4,IF(H5='Keuze fictieve prijs'!B5,'Keuze fictieve prijs'!$C$5)))) -> 0 | J5: =IF(D5>H5,(I5-E5)*G5,(I5-E5)*F5) -> 0
A7: 2 | B7: Werkterrein/veilig werken
A8: 2.1 | B8: Voorkomen van gevaarlijke situaties en overlast | C8: ='Aangeboden meerwaarde bij insch'!C8 -> 0 | D8: 7500 | E8: =IF(C8='Keuze fictieve prijs'!B7,'Keuze fictieve prijs'!$C$7,IF(C8='Keuze fictieve prijs'!B8,'Keuze fictieve prijs'!$C$8,IF(C8='Keuze fictieve prijs'!B9,'Keuze fictieve prijs'!$C$9,IF(C8='Keuze fictieve prijs'!B10,'Keuze fictieve prijs'!$C$10)))) -> 0 | F8: =F5 -> 0.3 | G8: =G5 -> 0.6 | H8: ='Behaalde meerwaarde per half jr'!C8 -> 0 | I8: =IF(H8='Keuze fictieve prijs'!B7,'Keuze fictieve prijs'!$C$7,IF(H8='Keuze fictieve prijs'!B8,'Keuze fictieve prijs'!$C$8,IF(H8='Keuze fictieve prijs'!B9,'Keuze fictieve prijs'!$C$9,IF(H8='Keuze fictieve prijs'!B10,'Keuze fictieve prijs'!$C$10)))) -> 0 | J8: =IF(D8>H8,(I8-E8)*G8,(I8-E8)*F8) -> 0
A10: 3 | B10: Communicatie
A11: 3.1 | B11: Afspraken nakomen en terugkoppelen | C11: ='Aangeboden meerwaarde bij insch'!C11 -> 0 | D11: 5000 | E11: =IF(C11='Keuze fictieve prijs'!B12,'Keuze fictieve prijs'!$C$12,IF(C11='Keuze fictieve prijs'!B13,'Keuze fictieve prijs'!$C$13,IF(C11='Keuze fictieve prijs'!B14,'Keuze fictieve prijs'!$C$14,IF(C11='Keuze fictieve prijs'!B15,'Keuze fictieve prijs'!$C$15)))) -> 0 | F11: =F5 -> 0.3 | G11: =G5 -> 0.6 | H11: ='Behaalde meerwaarde per half jr'!C11 -> 0 | I11: =IF(H11='Keuze fictieve prijs'!B12,'Keuze fictieve prijs'!$C$12,IF(H11='Keuze fictieve prijs'!B13,'Keuze fictieve prijs'!$C$13,IF(H11='Keuze fictieve prijs'!B14,'Keuze fictieve prijs'!$C$14,IF(H11='Keuze fictieve prijs'!B15,'Keuze fictieve prijs'!$C$15)))) -> 0 | J11: =IF(D11>H11,(I11-E11)*G11,(I11-E11)*F11) -> 0
A13: 4 | B13: Classificatie in te zetten medewerkers
A14: 4.1 | B14: De in te zetten medewerkers beschikken over het certificaat Flora en Fauna niveau 1 of 2. | C14: ='Aangeboden meerwaarde bij insch'!C14 -> 0 | D14: 1500 | E14: =IF(C14='Keuze fictieve prijs'!B17,'Keuze fictieve prijs'!$C$17,IF(C14='Keuze fictieve prijs'!B18,'Keuze fictieve prijs'!$C$18,IF(C14='Keuze fictieve prijs'!B19,'Keuze fictieve prijs'!$C$19,IF(C14='Keuze fictieve prijs'!B20,'Keuze fictieve prijs'!$C$20)))) -> 0 | F14: =F5 -> 0.3 | G14: =G5 -> 0.6 | H14: ='Behaalde meerwaarde per half jr'!C14 -> 0 | I14: =IF(H14='Keuze fictieve prijs'!B17,'Keuze fictieve prijs'!$C$17,IF(H14='Keuze fictieve prijs'!B18,'Keuze fictieve prijs'!$C$18,IF(H14='Keuze fictieve prijs'!B19,'Keuze fictieve prijs'!$C$19,IF(H14='Keuze fictieve prijs'!B20,'Keuze fictieve prijs'!$C$20)))) -> 0 | J14: =IF(D14>H14,(I14-E14)*G14,(I14-E14)*F14) -> 0
A16: 5 | B16: Duurzaamheid
A17: 5.1 | B17: Certificering CO2-Prestatieladder | C17: ='Aangeboden meerwaarde bij insch'!C17 -> 0 | D17: 1500 | E17: =IF(C17='Keuze fictieve prijs'!B22,'Keuze fictieve prijs'!$C$22,IF(C17='Keuze fictieve prijs'!B23,'Keuze fictieve prijs'!$C$23,IF(C17='Keuze fictieve prijs'!B24,'Keuze fictieve prijs'!$C$24,IF(C17='Keuze fictieve prijs'!B25,'Keuze fictieve prijs'!$C$25)))) -> 0 | F17: =F5 -> 0.3 | G17: =G5 -> 0.6 | H17: ='Behaalde meerwaarde per half jr'!C17 -> 0 | I17: =IF(H17='Keuze fictieve prijs'!B22,'Keuze fictieve prijs'!$C$22,IF(H17='Keuze fictieve prijs'!B23,'Keuze fictieve prijs'!$C$23,IF(H17='Keuze fictieve prijs'!B24,'Keuze fictieve prijs'!$C$24,IF(H17='Keuze fictieve prijs'!B25,'Keuze fictieve prijs'!$C$25)))) -> 0 | J17: =IF(D17>H17,(I17-E17)*G17,(I17-E17)*F17) -> 0
A19: 6 | B19: SROI
A20: 6.1 | B20: Inzet van medewerkers met een SROI indicatie | C20: ='Aangeboden meerwaarde bij insch'!C20 -> 0 | D20: 1500 | E20: =IF(C20='Keuze fictieve prijs'!B27,'Keuze fictieve prijs'!$C$27,IF(C20='Keuze fictieve prijs'!B28,'Keuze fictieve prijs'!$C$28,IF(C20='Keuze fictieve prijs'!B29,'Keuze fictieve prijs'!$C$29,IF(C20='Keuze fictieve prijs'!B30,'Keuze fictieve prijs'!$C$30)))) -> 0 | F20: =F5 -> 0.3 | G20: =G5 -> 0.6 | H20: ='Behaalde meerwaarde per half jr'!C20 -> 0 | I20: =IF(H20='Keuze fictieve prijs'!B27,'Keuze fictieve prijs'!$C$27,IF(H20='Keuze fictieve prijs'!B28,'Keuze fictieve prijs'!$C$28,IF(H20='Keuze fictieve prijs'!B29,'Keuze fictieve prijs'!$C$29,IF(H20='Keuze fictieve prijs'!B30,'Keuze fictieve prijs'!$C$30)))) -> 0 | J20: =IF(D20>H20,(I20-E20)*G20,(I20-E20)*F20) -> 0
A22: 7 | B22: Voorkomen schade
A23: 7.1 | B23: Beschadiging aan bomen en vegetatie | C23: ='Aangeboden meerwaarde bij insch'!C23 -> 0 | D23: 2000 | E23: =IF(C23='Keuze fictieve prijs'!B32,'Keuze fictieve prijs'!$C$32,IF(C23='Keuze fictieve prijs'!B33,'Keuze fictieve prijs'!$C$33,IF(C23='Keuze fictieve prijs'!B34,'Keuze fictieve prijs'!$C$34,IF(C23='Keuze fictieve prijs'!B35,'Keuze fictieve prijs'!$C$35)))) -> 0 | F23: =F5 -> 0.3 | G23: =G5 -> 0.6 | H23: ='Behaalde meerwaarde per half jr'!C23 -> 0 | I23: =IF(H23='Keuze fictieve prijs'!B32,'Keuze fictieve prijs'!$C$32,IF(H23='Keuze fictieve prijs'!B33,'Keuze fictieve prijs'!$C$33,IF(H23='Keuze fictieve prijs'!B34,'Keuze fictieve prijs'!$C$34,IF(H23='Keuze fictieve prijs'!B35,'Keuze fictieve prijs'!$C$35)))) -> 0 | J23: =IF(D23>H23,(I23-E23)*G23,(I23-E23)*F23) -> 0
A24: 7.2 | B24: Beschadiging aan paden en spoorvorming | C24: ='Aangeboden meerwaarde bij insch'!C24 -> 0 | D24: 2000 | E24: =IF(C24='Keuze fictieve prijs'!B37,'Keuze fictieve prijs'!$C$37,IF(C24='Keuze fictieve prijs'!B38,'Keuze fictieve prijs'!$C$38,IF(C24='Keuze fictieve prijs'!B39,'Keuze fictieve prijs'!$C$39,IF(C24='Keuze fictieve prijs'!B40,'Keuze fictieve prijs'!$C$40)))) -> 0 | F24: =F5 -> 0.3 | G24: =G5 -> 0.6 | H24: ='Behaalde meerwaarde per half jr'!C24 -> 0 | I24: =IF(H24='Keuze fictieve prijs'!B37,'Keuze fictieve prijs'!$C$37,IF(H24='Keuze fictieve prijs'!B38,'Keuze fictieve prijs'!$C$38,IF(H24='Keuze fictieve prijs'!B39,'Keuze fictieve prijs'!$C$39,IF(H24='Keuze fictieve prijs'!B40,'Keuze fictieve prijs'!$C$40)))) -> 0 | J24: =IF(D24>H24,(I24-E24)*G24,(I24-E24)*F24) -> 0
A26: 8 | B26: Registratie werkzaamheden GBI
A27: 8.1 | B27: Dagelijkse (volledige) registratie van werkzaamheden in GBI | C27: ='Aangeboden meerwaarde bij insch'!C27 -> 0 | D27: 1500 | E27: =IF(C27='Keuze fictieve prijs'!B42,'Keuze fictieve prijs'!$C$42,IF(C27='Keuze fictieve prijs'!B43,'Keuze fictieve prijs'!$C$43,IF(C27='Keuze fictieve prijs'!B44,'Keuze fictieve prijs'!$C$44,IF(C27='Keuze fictieve prijs'!B45,'Keuze fictieve prijs'!$C$45)))) -> 0 | F27: =F5 -> 0.3 | G27: =G5 -> 0.6 | H27: ='Behaalde meerwaarde per half jr'!C27 -> 0 | I27: =IF(H27='Keuze fictieve prijs'!B42,'Keuze fictieve prijs'!$C$42,IF(H27='Keuze fictieve prijs'!B38,'Keuze fictieve prijs'!$C$38,IF(H27='Keuze fictieve prijs'!B39,'Keuze fictieve prijs'!$C$39,IF(H27='Keuze fictieve prijs'!B40,'Keuze fictieve prijs'!$C$40)))) -> 0 | J27: =IF(D27>H27,(I27-E27)*G27,(I27-E27)*F27) -> 0
H31: Totaal bedrag bonus/malus | J31: =SUM(J4:J28)*'Behaalde meerwaarde per half jr'!E33 -> 0

Sheet Keuze fictieve prijs
A2: 1.1 | B2: 10 | C2: 7500 | D2: meldingen
B3: 7 | C3: 5000
B4: 3 | C4: 2500
B5: 0 | C5: 0
A7: 2.1 | B7: 10 | C7: 7500 | D7: veilig werken
B8: 7 | C8: 5000
B9: 3 | C9: 2500
B10: 0 | C10: 0
A12: 3.1 | B12: 10 | C12: 5000 | D12: communicatie
B13: 7 | C13: 3500
B14: 3 | C14: 1500
B15: 0 | C15: 0
A17: 4.1 | B17: 10 | C17: 1500 | D17: flora fauna
B18: 7 | C18: 1000
B19: 3 | C19: 500
B20: 0 | C20: 0
A22: 5.1 | B22: 10 | C22: 1500 | D22: Duurzaamheid
B23: 7 | C23: 1000
B24: 3 | C24: 500
B25: 0 | C25: 0
A27: 6.1 | B27: 10 | C27: 1500 | D27: SROI
B28: 7 | C28: 1000
B29: 3 | C29: 500
B30: 0 | C30: 0
A32: 7.1 | B32: 10 | C32: 2000 | D32: Schade
B33: 7 | C33: 1250
B34: 3 | C34: 500
B35: 0 | C35: 0
A37: 7.2 | B37: 10 | C37: 2000 | D37: Schade
B38: 7 | C38: 1250
B39: 3 | C39: 500
B40: 0 | C40: 0
A42: 8.1 | B42: 10 | C42: 1500 | D42: Registratie
B43: 7 | C43: 1000
B44: 3 | C44: 500
B45: 0 | C45: 0
