Workbook
Name aantalposten: [1]MJP!$A$145
Name aantalposten: [1]MJP!$A$145
Name aantalposten: [2]MJP!$A$145
Name aantalpostenmjp: #REF!
Name aantalpostenmjp: #REF!
Name aantalpostenmjp: #REF!
Name aantalpostenmjp: #REF!
Name aantalpostenmjp: #REF!
Name aantalpostenmjp: #REF!
Name aantalpostenmjp: #REF!
Name aantalpostentmv: #REF!
Name aantalpostentmv: #REF!
Name aantalpostentmv: #REF!
Name aantalpostentmv: #REF!
Name aantalpostentmv: #REF!
Name aantalpostentmv: #REF!
Name aantalpostentmv: #REF!
Name Besturing: #REF!
Name Besturing: #REF!
Name Besturing: #REF!
Name Besturing: #REF!
Name Besturing: #REF!
Name Besturing: #REF!
Name Besturing: #REF!
Name bouwjaar: #REF!
Name bouwjaar: 'P1L Correctief lift NZL TK'!#REF!
Name bouwjaar: 'P1L Correctief lift OL TK'!#REF!
Name bouwjaar: 'P1R - Correctief Tugela'!#REF!
Name bouwjaar: 'P1R Correctief Victoria'!#REF!
Name bouwjaar: #REF!
Name bouwjaar: #REF!
Name complex: #REF!
Name complex: #REF!
Name complex: #REF!
Name complex: 'P1R - Correctief Tugela'!#REF!
Name complex: 'P1R Correctief Victoria'!#REF!
Name complex: #REF!
Name complex: #REF!
Name Deuren: #REF!
Name Deuren: #REF!
Name Deuren: #REF!
Name Deuren: #REF!
Name Deuren: #REF!
Name Deuren: #REF!
Name Deuren: #REF!
Name hefvermogen: #REF!
Name Hefvermogen: 'P1L Correctief lift NZL TK'!#REF!
Name Hefvermogen: 'P1L Correctief lift OL TK'!#REF!
Name hefvermogen: 'P1R - Correctief Tugela'!#REF!
Name hefvermogen: 'P1R Correctief Victoria'!#REF!
Name hefvermogen: #REF!
Name hefvermogen: #REF!
Name liftdoel: #REF!
Name liftdoel: #REF!
Name liftdoel: #REF!
Name liftdoel: 'P1R - Correctief Tugela'!#REF!
Name liftdoel: 'P1R Correctief Victoria'!#REF!
Name liftdoel: #REF!
Name liftdoel: #REF!
Name liftnr: #REF!

Sheet Inschrijfblad P1-TK
B2: Inschrijfblad Perceel 1
B4: Installatie beschikbaarheid | C4: Lift Correctief OL TK | F4: ='P1L Correctief lift OL TK'!E58 -> 1
C5: Lift Correctief NZL TK | F5: ='P1L Correctief lift NZL TK'!E58 -> 1
C6: RT Correctief OL Victoria | F6: ='P1R Correctief Victoria'!E60 -> 1
C7: RT Correctief NZL Tugela | F7: ='P1R - Correctief Tugela'!E59 -> 1
C8: Gemiddelde waarde | F8: =SUM(F4:F7)/COUNT(F4:F7) -> 1
D10: Prijs | E10: Weging | F10: Prijs inschrijving
B11: PL1 - Preventief Onderhoud liften | D11: ='P1L Preventief'!Q63 -> 0 | E11: 0.2 | F11: =E11*D11 -> 0
B12: PR1 - Preventief Onderhoud roltrappen | D12: ='P1R Preventief'!O146 -> 0 | E12: 0.2 | F12: =E12*D12 -> 0
B13: P1 - Tarieven Correctief Onderhoud liften + roltrappen | D13: ='P1 Tarieven'!E23 -> 0 | E13: 0.45 | F13: =E13*D13 -> 0
B14: Onderdelen matrices | D14: ='P1L Correctief lift OL TK'!E57+'P1L Correctief lift NZL TK'!E57+'P1R Correctief Victoria'!E59+'P1R - Correctief Tugela'!E58 -> 0 | E14: 0.15 | F14: =E14*D14 -> 0
C17: Totaalprijs fictieve inschrijving | F17: =SUM(F11:F14) -> 0
B24: Ondertekening:

Sheet P1R Preventief
A1: ep
B2: Perceel | C2: Objectnummer | D2: Lijn | E2: Locatie | F2: Omschrijving | G2: Fabricaat | H2: Installatienr. | I2: Complexnr. of CI nr. | J2: Conditie algemeen | K2: Bouwjaar | L2: Minimum aantal beurten preventief | M2: Voorstel aantal beurten preventief Opdrachtnemer | N2: Prijs preventief onderhoud per beurt bij één perceel | O2: Prijs preventief onderhoud per jaar bij één perceel
B4: 1R | C4: 101 | D4: OL | E4: Centraal station Amsterdam | G4: Thyssen | H4: NL0290488 | I4: 21 | J4: 3 | K4: 2010 | L4: 8 | O4: =M4*N4 -> 0
B5: 1R | C5: 101 | D5: OL | E5: Centraal station Amsterdam | G5: Thyssen | H5: NL0290489 | I5: 31 | J5: 3 | K5: 2010 | L5: 8 | O5: =M5*N5 -> 0
B6: 1R | C6: 101 | D6: OL | E6: Centraal station Amsterdam | G6: Thyssen | H6: NL0290487 | I6: 21 | J6: 3 | K6: 2010 | L6: 8 | O6: =M6*N6 -> 0
B7: 1R | C7: 102 | D7: OL | E7: Nieuwmarkt - Geen reizigers | G7: Otis | H7: 61ne3071 | I7: 4 | J7: 4 | K7: 1980 | L7: 8 | O7: =M7*N7 -> 0
B8: 1R | C8: 102 | D8: OL | E8: Nieuwmarkt Amsterdam | G8: Thyssen | H8: NL0290497 | I8: 2 | J8: 3 | K8: 2010 | L8: 8 | O8: =M8*N8 -> 0
B9: 1R | C9: 102 | D9: OL | E9: Nieuwmarkt Amsterdam | G9: Thyssen | H9: NL0290496 | I9: 1 | J9: 3 | K9: 2010 | L9: 8 | O9: =M9*N9 -> 0
B10: 1R | C10: 102 | D10: OL | E10: Nieuwmarkt Amsterdam | G10: Thyssen | H10: NL0290498 | I10: 3 | J10: 3 | K10: 2010 | L10: 8 | O10: =M10*N10 -> 0
B11: 1R | C11: 102 | D11: OL | E11: Nieuwmarkt Amsterdam | G11: Thyssen | H11: NL0290499 | I11: 34 | J11: 3 | K11: 2010 | L11: 8 | O11: =M11*N11 -> 0
B12: 1R | C12: 102 | D12: OL | E12: Nieuwmarkt Amsterdam | G12: Thyssen | H12: NL0290499 | I12: 31 | J12: 3 | K12: 2010 | L12: 8 | O12: =M12*N12 -> 0
B13: 1R | C13: 103 | D13: OL | E13: Waterlooplein Amsterdam | G13: Thyssen | H13: NL0290510 | I13: 24 | J13: 3 | K13: 2010 | L13: 8 | O13: =M13*N13 -> 0
B14: 1R | C14: 103 | D14: OL | E14: Waterlooplein Amsterdam | G14: Thyssen | H14: NL0290511 | I14: 34 | J14: 3 | K14: 2010 | L14: 8 | O14: =M14*N14 -> 0
B15: 1R | C15: 103 | D15: OL | E15: Waterlooplein Amsterdam | G15: Thyssen | H15: NL0290509 | I15: 14 | J15: 3 | K15: 2010 | L15: 8 | O15: =M15*N15 -> 0
... B48: 1R | C48: 121 | D48: OL | E48: Gaasperplas Amsterdam | G48: Thyssen | H48: NL0290451 | I48: 33 | J48: 3 | K48: 2010 | L48: 8 | O48: =M48*N48 -> 0
B49: 1R | C49: 101 | D49: NZL | E49: Centraal Station Zuid | F49: NL0290589 sp12 (1) | G49: Thyssen | H49: NL0290589 | I49: CI0022911 | J49: 1 | K49: 2017 | L49: 12 | O49: =M49*N49 -> 0
B50: 1R | C50: 101 | D50: NZL | E50: Centraal Station Zuid | F50: NL0290590 sp12 (2) | G50: Thyssen | H50: NL0290590 | I50: CI0022910 | J50: 1 | K50: 2017 | L50: 12 | O50: =M50*N50 -> 0
B51: 1R | C51: 101 | D51: NZL | E51: Centraal Station Zuid | F51: NL0290591 sp12 (3) | G51: Thyssen | H51: NL0290591 | I51: CI0022909 | J51: 1 | K51: 2017 | L51: 12 | O51: =M51*N51 -> 0
B52: 1R | C52: 101 | D52: NZL | E52: Centraal Station Zuid | F52: NL0290592 sp13 (1) - rolpad | G52: Thyssen | H52: NL0290592 | I52: CI0022908 | J52: 1 | K52: 2014 | L52: 12 | O52: =M52*N52 -> 0
B53: 1R | C53: 101 | D53: NZL | E53: Centraal Station Zuid | F53: NL0290593 sp13 (2) - rolpad | G53: Thyssen | H53: NL0290593 | I53: CI0022907 | J53: 1 | K53: 2014 | L53: 12 | O53: =M53*N53 -> 0
B54: 1R | C54: 101 | D54: NZL | E54: Centraal Station Zuid | F54: NL0290594 sp14 (1) - rolpad | G54: Thyssen | H54: NL0290594 | I54: CI0022906 | J54: 1 | K54: 2014 | L54: 12 | O54: =M54*N54 -> 0
B55: 1R | C55: 101 | D55: NZL | E55: Centraal Station Zuid | F55: NL0290595 sp14 (2) - rolpad | G55: Thyssen | H55: NL0290595 | I55: CI0022905 | J55: 1 | K55: 2014 | L55: 12 | O55: =M55*N55 -> 0
B56: 1R | C56: 101 | D56: NZL | E56: Centraal Station Zuid | F56: NL0290604 sp15 (1) | G56: Thyssen | H56: NL0290604 | I56: CI0022904 | J56: 1 | K56: 2017 | L56: 8 | O56: =M56*N56 -> 0
B57: 1R | C57: 101 | D57: NZL | E57: Centraal Station Zuid | F57: NL0290605 sp15 (2) | G57: Thyssen | H57: NL0290605 | I57: CI0022903 | J57: 1 | K57: 2017 | L57: 8 | O57: =M57*N57 -> 0
B58: 1R | C58: 101 | D58: NZL | E58: Centraal Station Zuid | F58: NL0290606 sp15 (3) | G58: Thyssen | H58: NL0290606 | I58: CI0022902 | J58: 1 | K58: 2017 | L58: 8 | O58: =M58*N58 -> 0
B59: 1R | C59: 101 | D59: NZL | E59: Centraal Station Zuid | F59: NL0290607 sp16 (1) | G59: Thyssen | H59: NL0290607 | I59: CI0022901 | J59: 1 | K59: 2017 | L59: 8 | O59: =M59*N59 -> 0
B60: 1R | C60: 101 | D60: NZL | E60: Centraal Station Zuid | F60: NL0290608 sp16 (2) | G60: Thyssen | H60: NL0290608 | I60: CI0022900 | J60: 1 | K60: 2017 | L60: 8 | O60: =M60*N60 -> 0
... B87: 1R | C87: 101 | D87: NZL | E87: Centraal Station Zuid | F87: NL0290621 sp22 (3) | G87: Thyssen | H87: NL0290621 | I87: CI0022882 | J87: 1 | K87: 2017 | L87: 8 | O87: =M87*N87 -> 0
B88: 1R | C88: DPP | D88: NZL | E88: De Pijp wand as D DP | F88: NL0290657 sp11 | G88: Thyssen | H88: NL0290657 | I88: CI0022234 | J88: 1 | K88: 2017 | L88: 8 | O88: =M88*N88 -> 0
B89: 1R | C89: DPP | D89: NZL | E89: De Pijp wand as D DP | F89: NL0290658 sp13 | G89: Thyssen | H89: NL0290658 | I89: CI0022236 | J89: 1 | K89: 2017 | L89: 8 | O89: =M89*N89 -> 0
B90: 1R | C90: DPP | D90: NZL | E90: De Pijp wand as D DP | F90: NL0290659 sp15 | G90: Thyssen | H90: NL0290659 | I90: CI0022238 | J90: 1 | K90: 2017 | L90: 8 | O90: =M90*N90 -> 0
B91: 1R | C91: DPP | D91: NZL | E91: De Pijp wand as D DP | F91: NL0290660 sp18 | G91: Thyssen | H91: NL0290660 | I91: CI0022241 | J91: 1 | K91: 2017 | L91: 8 | O91: =M91*N91 -> 0
B92: 1R | C92: DPP | D92: NZL | E92: De Pijp wand as D DP | F92: NL0290661 sp20 | G92: Thyssen | H92: NL0290661 | I92: CI0022243 | J92: 1 | K92: 2017 | L92: 8 | O92: =M92*N92 -> 0
B93: 1R | C93: DPP | D93: NZL | E93: De Pijp wand as D OP | F93: NL0290662 sp12 | G93: Thyssen | H93: NL0290662 | I93: CI0022235 | J93: 1 | K93: 2017 | L93: 8 | O93: =M93*N93 -> 0
B94: 1R | C94: DPP | D94: NZL | E94: De Pijp wand as D OP | F94: NL0290663 sp14 | G94: Thyssen | H94: NL0290663 | I94: CI0022237 | J94: 1 | K94: 2017 | L94: 8 | O94: =M94*N94 -> 0
B95: 1R | C95: DPP | D95: NZL | E95: De Pijp wand as D OP | F95: NL0290664 sp16 | G95: Thyssen | H95: NL0290664 | I95: CI0022239 | J95: 1 | K95: 2017 | L95: 8 | O95: =M95*N95 -> 0
B96: 1R | C96: DPP | D96: NZL | E96: De Pijp wand as D OP | F96: NL0290665 sp17 | G96: Thyssen | H96: NL0290665 | I96: CI0022240 | J96: 1 | K96: 2017 | L96: 8 | O96: =M96*N96 -> 0
B97: 1R | C97: DPP | D97: NZL | E97: De Pijp wand as D OP | F97: NL0290666 sp19 | G97: Thyssen | H97: NL0290666 | I97: CI0022242 | J97: 1 | K97: 2017 | L97: 8 | O97: =M97*N97 -> 0
B98: 1R | C98: DPP | D98: NZL | E98: De Pijp Zuid | F98: NL0290667 sp10 (1) | G98: Thyssen | H98: NL0290667 | I98: CI0022231 | J98: 1 | K98: 2017 | L98: 8 | O98: =M98*N98 -> 0
B99: 1R | C99: DPP | D99: NZL | E99: De Pijp Zuid | F99: NL0290668 sp10 (2) | G99: Thyssen | H99: NL0290668 | I99: CI0022232 | J99: 1 | K99: 2017 | L99: 8 | O99: =M99*N99 -> 0
...

Sheet P1L Preventief
B2: Perceel | C2: Objectnummer | D2: Lijnnummer | E2: Liftadres | F2: Fabricaat | G2: Bouwjaar | H2: Type lift | I2: Installatienr. | J2: Complexnr. | K2: Conditie algemeen | L2: Ritten pe dag | M2: stopplaatsen | N2: Minimum aantal beurten preventief | O2: Voorstel aantal beurten preventief Opdrachtnemer | P2: Prijs preventief onderhoud per beurt bij één perceel | Q2: Prijs preventief onderhoud per jaar bij één perceel
B5: 1 | C5: 101 | D5: OL | E5: Centraal Station, lift 21 | F5: Thyssen Krupp | G5: 2018 | H5: Tractie - MKL | I5: NL0250561 | J5: 21 | K5: 1 | L5: - | M5: 2 | N5: 6 | Q5: =O5*P5 -> 0
B6: 1 | C6: 101 | D6: OL | E6: Centraal Station, lift 31 | F6: Thyssen Krupp | G6: 2018 | H6: Tractie - MKL | I6: NL0250562 | J6: 31 | K6: 1 | L6: - | M6: 2 | N6: 6 | Q6: =O6*P6 -> 0
B7: 1 | C7: 101 | D7: OL | E7: Centraal Station, lift 41 | F7: Thyssen Krupp | G7: 2018 | H7: Tractie - MKL | I7: NL0250563 | J7: 41 | K7: 1 | L7: - | M7: 2 | N7: 6 | Q7: =O7*P7 -> 0
B8: 1 | C8: 102 | D8: OL | E8: Nieuwmarkt, Lift 34 | F8: Thyssen Krupp | G8: 2018 | H8: Tractie - MKL | I8: NL0250572 | J8: 34 | K8: 1 | L8: - | M8: 2 | N8: 6 | Q8: =O8*P8 -> 0
B9: 1 | C9: 102 | D9: OL | E9: Nieuwmarkt, Lift 03 | F9: Thyssen Krupp | G9: 2018 | H9: Tractie - MKL | I9: NL0250570 | J9: 3 | K9: 1 | L9: - | M9: 2 | N9: 6 | Q9: =O9*P9 -> 0
B10: 1 | C10: 102 | D10: OL | E10: Nieuwmarkt, Lift 31 | F10: Thyssen Krupp | G10: 2018 | H10: Tractie - MKL | I10: NL0250571 | J10: 31 | K10: 1 | L10: - | M10: 2 | N10: 6 | Q10: =O10*P10 -> 0
B11: 1 | C11: 102 | D11: OL | E11: Nieuwmarkt, lift 01 | F11: Thyssen Krupp | G11: 2018 | H11: Tractie - MKL | I11: NL0250569 | J11: 1 | K11: 1 | L11: - | M11: 2 | N11: 6 | Q11: =O11*P11 -> 0
B12: 1 | C12: 103 | D12: OL | E12: Waterlooplein, Lift 2 | F12: Thyssen Krupp | G12: 2017 | H12: Tractie - MKL | I12: NL0250567 | J12: 2 | K12: 1 | L12: - | M12: 2 | N12: 6 | Q12: =O12*P12 -> 0
B13: 1 | C13: 103 | D13: OL | E13: Waterlooplein, Lift 31 | F13: Thyssen Krupp | G13: 2017 | H13: Tractie - MKL | I13: NL0250568 | J13: 31 | K13: 1 | L13: - | M13: 2 | N13: 6 | Q13: =O13*P13 -> 0
B14: 1 | C14: 104 | D14: OL | E14: Weesperplein, Lift 2 | F14: Thyssen Krupp | G14: 2018 | H14: Tractie - MKL | I14: NL0250577 | J14: 2 | K14: 1 | L14: - | M14: 2 | N14: 6 | Q14: =O14*P14 -> 0
A15: 0 | B15: 1 | C15: 104 | D15: OL | E15: Weesperplein, Lift 12 | F15: Thyssen Krupp | G15: 2018 | H15: Tractie - MKL | I15: NL0250578 | J15: 2 | K15: 1 | L15: - | M15: 2 | N15: 6 | Q15: =O15*P15 -> 0
B16: 1 | C16: 104 | D16: OL | E16: Weesperplein, Lift 13 | F16: Thyssen Krupp | G16: 2018 | H16: Tractie - MKL | I16: NL0250579 | J16: 23 | K16: 1 | L16: - | M16: 3 | N16: 6 | Q16: =O16*P16 -> 0
B17: 1 | C17: 104 | D17: OL | E17: Weesperplein, Lift 23 | F17: Thyssen Krupp | G17: 2018 | H17: Tractie - MKL | I17: NL0250580 | J17: 13 | K17: 1 | L17: - | M17: 3 | N17: 6 | Q17: =O17*P17 -> 0
B18: 1 | C18: 105 | D18: OL | E18: Wibautstraat, Lift 2 | F18: Thyssen Krupp | G18: 2018 | H18: Tractie - MKL | I18: NL0250564 | J18: 2 | K18: 1 | L18: - | M18: 2 | N18: 6 | Q18: =O18*P18 -> 0
B19: 1 | C19: 105 | D19: OL | E19: Wibautstraat, Lift 12 | F19: Thyssen Krupp | G19: 2018 | H19: Tractie - MKL | I19: NL0250565 | J19: 31 | K19: 1 | L19: - | M19: 2 | N19: 6 | Q19: =O19*P19 -> 0
B20: 1 | C20: 105 | D20: OL | E20: Wibautstraat, Lift 31 | F20: Thyssen Krupp | G20: 2018 | H20: Tractie - MKL | I20: NL0250566 | J20: 31 | K20: 1 | L20: - | M20: 2 | N20: 6 | Q20: =O20*P20 -> 0
B21: 1 | C21: 107 | D21: OL | E21: Spaklerweg, Lift 12 | F21: Thyssen Krupp | G21: 2018 | H21: Tractie - MKL | I21: NL0250581 | J21: 12 | K21: 1 | L21: - | M21: 2 | N21: 6 | Q21: =O21*P21 -> 0
B22: 1 | C22: 107 | D22: OL | E22: Spaklerweg, Lift 22 | F22: Thyssen Krupp | G22: 2019 | H22: Tractie - MKL | I22: NL0250582 | J22: 22 | K22: 1 | L22: - | M22: 2 | N22: 6 | Q22: =O22*P22 -> 0
B23: 1 | C23: 108 | D23: OL | E23: v.d. Madeweg, Lift 13 | F23: Thyssen Krupp | G23: 2017 | H23: Tractie - MKL | I23: NL0250574 | J23: 13 | K23: 1 | L23: - | M23: 2 | N23: 6 | Q23: =O23*P23 -> 0
B24: 1 | C24: 108 | D24: OL | E24: v.d. Madeweg, Lift 14 | F24: Thyssen Krupp | G24: 2017 | H24: Tractie - MKL | I24: NL0250576 | J24: 14 | K24: 1 | L24: - | M24: 2 | N24: 6 | Q24: =O24*P24 -> 0
B25: 1 | C25: 108 | D25: OL | E25: v.d. Madeweg, Lift 23 | F25: Thyssen Krupp | G25: 2017 | H25: Tractie - MKL | I25: NL0250575 | J25: 23 | K25: 1 | L25: - | M25: 2 | N25: 6 | Q25: =O25*P25 -> 0
B26: 1 | C26: 110 | D26: OL | E26: Strandvliet, Lift 34 | F26: Thyssen Krupp | G26: 2018 | H26: Tractie - MKL | I26: NL0250552 | J26: 34 | K26: 1 | L26: - | M26: 2 | N26: 6 | Q26: =O26*P26 -> 0
B27: 1 | C27: 112 | D27: OL | E27: Bullewijk, Lift 34 | F27: Thyssen Krupp | G27: 2018 | H27: Tractie - MKL | I27: NL0250555 | J27: 34 | K27: 1 | L27: - | M27: 2 | N27: 6 | Q27: =O27*P27 -> 0
... B37: 1 | C37: 121 | D37: OL | E37: Gaasperplas, Lift 33 | F37: Thyssen Krupp | G37: 2017 | H37: Tractie - MKL | I37: NL0250558 | J37: 33 | K37: 1 | L37: - | M37: 2 | N37: 6 | Q37: =O37*P37 -> 0
B38: 1 | C38: NRD | D38: NZL | E38: Noord SP01-L01 | F38: Thyssen Krupp | G38: 2017 | H38: Tractie - MKL | I38: NL0250476 | J38: L01 | K38: 1 | L38: - | M38: 2 | N38: 6 | Q38: =O38*P38 -> 0
B39: 1 | C39: NRD | D39: NZL | E39: Noord SP02-L02 | F39: Thyssen Krupp | G39: 2017 | H39: Tractie - MKL | I39: NL0250477 | J39: L02 | K39: 1 | L39: - | M39: 2 | N39: 6 | Q39: =O39*P39 -> 0
B40: 1 | C40: NDP | D40: NZL | E40: Noorderpark - SP01-L03 | F40: Thyssen Krupp | G40: 2017 | H40: Tractie - MKL | I40: NL0250478 | J40: L03 | K40: 1 | L40: - | M40: 2 | N40: 6 | Q40: =O40*P40 -> 0
B41: 1 | C41: CSO | D41: NZL | E41: Centraal Station Oost - SP03-L07 | F41: Thyssen Krupp | G41: 2017 | H41: Tractie - MKL | I41: NL0250482 | J41: L07 | K41: 1 | L41: - | M41: 2 | N41: 6 | Q41: =O41*P41 -> 0
B42: 1 | C42: CSO | D42: NZL | E42: Centraal Station Oost - SP04-L08 | F42: Thyssen Krupp | G42: 2017 | H42: Tractie - MKL | I42: NL0250483 | J42: L08 | K42: 1 | L42: - | M42: 2 | N42: 6 | Q42: =O42*P42 -> 0
B43: 1 | C43: CSO | D43: NZL | E43: Centraal Station Oost - SP05-L04 | F43: Thyssen Krupp | G43: 2017 | H43: Tractie - MKL | I43: NL0250479 | J43: L04 | K43: 1 | L43: - | M43: 2 | N43: 6 | Q43: =O43*P43 -> 0
B44: 1 | C44: CSO | D44: NZL | E44: Centraal Station Oost - SP06-L05 | F44: Thyssen Krupp | G44: 2017 | H44: Tractie - MKL | I44: NL0250480 | J44: L05 | K44: 1 | L44: - | M44: 2 | N44: 6 | Q44: =O44*P44 -> 0
B45: 1 | C45: CSZ | D45: NZL | E45: Centraal Station Zuid VVCS - SP02-L02 | F45: Thyssen Krupp | G45: 2017 | H45: Tractie - MKL | I45: NL0250481 | J45: L02 | K45: 1 | L45: - | M45: 2 | N45: 6 | Q45: =O45*P45 -> 0
B46: 1 | C46: CSZ | D46: NZL | E46: Centraal Station Zuid VVCS - SP02-L03 | F46: Thyssen Krupp | G46: 2017 | H46: Tractie - MKL | I46: NL0250481 | J46: L03 | K46: 1 | L46: - | M46: 2 | N46: 6 | Q46: =O46*P46 -> 0
B47: 1 | C47: RKN | D47: NZL | E47: Rokin - SP01-L10 | F47: Thyssen Krupp | G47: 2017 | H47: Tractie - MKL | I47: NL0250485 | J47: L10 | K47: 1 | L47: - | M47: 2 | N47: 6 | Q47: =O47*P47 -> 0
B48: 1 | C48: RKN | D48: NZL | E48: Rokin - SP02-L11 | F48: Thyssen Krupp | G48: 2017 | H48: Tractie - MKL | I48: NL0250486 | J48: L11 | K48: 1 | L48: - | M48: 2 | N48: 6 | Q48: =O48*P48 -> 0
B49: 1 | C49: RKN | D49: NZL | E49: Rokin - SP03-L12 | F49: Thyssen Krupp | G49: 2017 | H49: Tractie - MKL | I49: NL0250487 | J49: L12 | K49: 1 | L49: - | M49: 2 | N49: 6 | Q49: =O49*P49 -> 0
... B62: 1 | C62: EPP | D62: NZL | E62: Europaplein SP06-L25 | F62: Thyssen Krupp | G62: 2017 | H62: Tractie - MKL | I62: NL0250500 | J62: L25 | K62: 1 | L62: - | M62: 2 | N62: 6 | Q62: =O62*P62 -> 0
P63: Totaalprijs Preventief Onderhoud | Q63: =SUM(Q5:Q62) -> 0
M70: Ondertekening:

Sheet P1 Tarieven
C2: Tarieven werkzaamheden | D2: omschrijving | E2: Toeslag in % | F2: Verreken- tarief
B3: Preventief
C4: Monteur | D4: Standaard tarief (Maandag t/m vrijdag 06:00 t/m 18:00 uur) | E4: 0
D5: Maandag t/m vrijdag 18:00 t/m 21:00 uur | E5: 0 | F5: =$E$4*(E5+1) -> 0
D6: Maandag t/m vrijdag 21:00 t/m 00:00 uur | E6: 0 | F6: =$E$4*(E6+1) -> 0
D7: Maandag t/m vrijdag 00:00 t/m 06:00 uur | E7: 0 | F7: =$E$4*(E7+1) -> 0
D8: Zaterdag, Zon- en feestdagen 00:00 t/m 24:00 uur | E8: 0 | F8: =$E$4*(E8+1) -> 0
C11: Voorrijdtarief | D11: Voorrijdtarief binnen kantoortijd (dag) | E11: 0
D12: Voorrijdtarief buiten kantoortijd (avond/nacht) | E12: 0 | F12: =$E$11*(E12+1) -> 0
D13: Voorrijdtarief weekend kantoortijd (za/zo/feest) | E13: 0 | F13: =$E$11*(E13+1) -> 0
B15: Bovenstaande tarieven voor werkzaamheden worden geacht all-in te zijn (inclusief auto, gereedschappen, klein materiaal, PM, indirecte kosten etc.)
B17: Fictieve berekening kosten storingsopvolging (2 uur per storing)
B18: 125 | C18: Storingen incl. voorrijdtarief | D18: Standaard tarief (Maandag t/m vrijdag 06:00 t/m 18:00 uur) | E18: =B18*((2*E4)+E11) -> 0
B19: 25 | C19: Storingen incl. voorrijdtarief | D19: Maandag t/m vrijdag 18:00 t/m 21:00 uur | E19: =B19*((2*F5)+F12) -> 0
B20: 25 | C20: Storingen incl. voorrijdtarief | D20: Maandag t/m vrijdag 21:00 t/m 00:00 uur | E20: =B20*((2*F6)+F12) -> 0
B21: 10 | C21: Storingen incl. voorrijdtarief | D21: Maandag t/m vrijdag 00:00 t/m 06:00 uur | E21: =B19*((2*F7)+F12) -> 0
B22: 15 | C22: Storingen incl. voorrijdtarief | D22: Zaterdag, zon- en feestdagen 00:00 t/m 24:00 uur | E22: =B19*((2*F8)+F13) -> 0
E23: =SUM(E18:F22) -> 0
C30: Ondertekening:

Sheet P1L Correctief lift OL TK
C1: Leveren en vervangen | D1: fabricaat | E1: Omschrijving type en/of specificatie | G1: All-in Verreken- prijs | H1: eenheid | I1: weeg factor | J1: gewogen | L1: Stilstand (in uren) | M1: Maximale stilstand (in klokuren) | N1: weeg factor | O1: gewogen | Q1: Vervang-ingscyclus in jaren | R1: Maximaal aantal ritten | S1: Maximaal aantal gebruiks uren | T1: Garantie in jaren na vervanging door Opdrachtnemer
C2: Besturing | G2: invullen | L2: invullen | Q2: Minimaal één van deze drie kolommen invullen | T2: invullen
C3: Print microprossor : | D3: Thyssenkrupp | E3: Type E.COR/MHC (/10) | H3: st. | I3: 0.1 | J3: =I3*G3 -> 0 | M3: 36 | N3: 3 | O3: =(N3*M3)-(L3*N3) -> 108
C4: sofware | D4: Thyssenkrupp | E4: Software tbv besturing | H4: st. | I4: 0.1 | J4: =I4*G4 -> 0 | M4: 36 | N4: 3 | O4: =(N4*M4)-(L4*N4) -> 108
C5: Print veiligheidsketen | D5: Thyssenkrupp | E5: MQ1/SR2 | H5: st. | I5: 0.1 | J5: =I5*G5 -> 0 | M5: 36 | N5: 3 | O5: =(N5*M5)-(L5*N5) -> 108
C6: Microprocessor | D6: Thyssenkrupp | E6: E.COR/MHC (/10): (inregelen en werkend opleveren) | H6: st. | I6: 0.1 | J6: =I6*G6 -> 0 | M6: 36 | N6: 3 | O6: =(N6*M6)-(L6*N6) -> 108
C7: Stuurstroom relais | D7: Schnieder | E7: Type: LC1D32 | H7: st. | I7: 1 | J7: =I7*G7 -> 0 | M7: 24 | N7: 1 | O7: =(N7*M7)-(L7*N7) -> 24
C8: Soepele kabels (rond / vlak) | E8: Type:vlak ,24 aders + diameter 0,75 | H8: meter | I8: 1 | J8: =I8*G8 -> 0 | M8: 72 | N8: 1 | O8: =(N8*M8)-(L8*N8) -> 72
C9: Hoofdstroomrelais | H9: st. | I9: 1 | J9: =I9*G9 -> 0 | M9: 24 | N9: 3 | O9: =(N9*M9)-(L9*N9) -> 72
C10: Frequentie omvormer | D10: Thyssenkrupp | E10: Type: AYFrequency inverter RPI 18 SYNC output C motor 18 KW | H10: st. | I10: 2 | J10: =I10*G10 -> 0 | M10: 72 | N10: 5 | O10: =(N10*M10)-(L10*N10) -> 360
C11: Absoluutencoder | D11: Thyssenkrupp | E11: Leveren absoluut encoder behorende bij genoemde processor( tbv Schachtinformatie) | H11: st. | I11: 2 | J11: =I11*G11 -> 0 | M11: 24 | N11: 5 | O11: =(N11*M11)-(L11*N11) -> 120
C12: Camera systeem | D12: Thyssenkrupp | E12: Camera systeem (tbv veiligwerken schachttop Thyssen Krupp) | H12: systeem | I12: 0.5 | J12: =I12*G12 -> 0 | M12: 120 | N12: 1 | O12: =(N12*M12)-(L12*N12) -> 120
C14: Deuren
C15: aut. Cabinedeur per stuk | D15: Wittur | E15: serie 3201-Pegasus Type 11/R-Ltelescoop | H15: st. | I15: 1 | J15: =I15*G15 -> 0 | M15: 120 | N15: 1 | O15: =(N15*M15)-(L15*N15) -> 120
C16: aut. Schachtdeuren | D16: Wittur | E16: serie 3201-Pegasus Type 11/R-Ltelescoop | H16: st. | I16: 1 | J16: =I16*G16 -> 0 | M16: 120 | N16: 1 | O16: =(N16*M16)-(L16*N16) -> 120
C17: deurgeleiding, sloffen | D17: Wittur | E17: serie 3201-Pegasus Type 11/R | H17: st. | I17: 1 | J17: =I17*G17 -> 0 | M17: 24 | N17: 1 | O17: =(N17*M17)-(L17*N17) -> 24
C18: deurrollen (ophanging) | D18: Wittur | E18: serie 3201-Pegasus Type 11/R | H18: per verd. | I18: 1 | J18: =I18*G18 -> 0 | M18: 24 | N18: 1 | O18: =(N18*M18)-(L18*N18) -> 24
C19: Koppelkabels | D19: Wittur | E19: serie 3201-Pegasus Type 11/R | H19: st. | I19: 1 | J19: =I19*G19 -> 0 | M19: 24 | N19: 1 | O19: =(N19*M19)-(L19*N19) -> 24
C20: Deursloffen | D20: Wittur | E20: serie 3201-Pegasus Type 11/R | H20: per verd. | I20: 1 | J20: =I20*G20 -> 0 | M20: 24 | N20: 1 | O20: =(N20*M20)-(L20*N20) -> 24
C21: Kooideurruit | E21: Netto Maten ruit :360 x2100 mm BxH gelaagd 8mm | H21: st. | I21: 1 | J21: =I21*G21 -> 0 | M21: 24 | N21: 1 | O21: =(N21*M21)-(L21*N21) -> 24
C22: Deurmotor voor deuraandrijving | E22: ATV 559/1 | H22: st. | I22: 1 | J22: =I22*G22 -> 0 | M22: 48 | N22: 1 | O22: =(N22*M22)-(L22*N22) -> 48
C23: Deurregeling | E23: voor de ATV 559/1 | H23: st. | I23: 1 | J23: =I23*G23 -> 0 | M23: 48 | N23: 1 | O23: =(N23*M23)-(L23*N23) -> 48
C24: Deurmotor en regeling | E24: lift werkend opleveren | H24: st. | I24: 1 | J24: =I24*G24 -> 0 | M24: 48 | N24: 1 | O24: =(N24*M24)-(L24*N24) -> 48
C25: Ontgrendel schaats | D25: Wittur | E25: serie 3201-Pegasus Type 11/R | H25: st. | I25: 1 | J25: =I25*G25 -> 0 | M25: 72 | N25: 1 | O25: =(N25*M25)-(L25*N25) -> 72
C26: grendel slot en grendelhaak | D26: Wittur | E26: serie 3201-Pegasus Type 11/R | H26: st. | I26: 1 | J26: =I26*G26 -> 0 | M26: 24 | N26: 1 | O26: =(N26*M26)-(L26*N26) -> 24
C27: sensorlijst | D27: Wittur | E27: sensorlijst + versterker Memco | H27: st. | I27: 1 | J27: =I27*G27 -> 0 | M27: 24 | N27: 1 | O27: =(N27*M27)-(L27*N27) -> 24
C29: Aandrijving
C30: Aandrijving electromotor | E30: Motor type PMC 170 M 006 | H30: st. | I30: 1 | J30: =I30*G30 -> 0 | M30: 120 | N30: 1 | O30: =(N30*M30)-(L30*N30) -> 120
C31: Ophanging (1:1 / 2:1) | H31: st. | I31: 1 | J31: =I31*G31 -> 0 | M31: 120 | N31: 1 | O31: =(N31*M31)-(L31*N31) -> 120
C32: Tractieschijf | E32: aantal groeven 8 Diameter 320 mm | H32: st. | I32: 1 | J32: =I32*G32 -> 0 | M32: 120 | N32: 1 | O32: =(N32*M32)-(L32*N32) -> 120
C33: Draagkabels tot drie stopplaatsen | E33: aantal 8 / Warrington kruisslag 8x19 Lengte bij vervanging is voor nu gesteld op = 25 meter | H33: meter | I33: 1 | J33: =I33*G33 -> 0 | M33: 120 | N33: 1 | O33: =(N33*M33)-(L33*N33) -> 120
C34: Vervangen van de rem | E34: type Warner | H34: st. | I34: 0.3 | J34: =I34*G34 -> 0 | M34: 120 | N34: 0.2 | O34: =(N34*M34)-(L34*N34) -> 24
C36: Geleiding
C37: kooigeleiding: | E37: leidsloffen/houders/aut. smering | H37: set | I37: 1 | J37: =I37*G37 -> 0 | M37: 24 | N37: 1 | O37: =(N37*M37)-(L37*N37) -> 24
C38: tegengewichtgeleiding | E38: Tegengewichtgeleiding geleidingssloffen aut. Smering | H38: set | I38: 1 | J38: =I38*G38 -> 0 | M38: 24 | N38: 1 | O38: =(N38*M38)-(L38*N38) -> 24
C40: Kooitableau
C41: bedieningsknoppen | D41: ThyssenKrup | E41: bedienknop | H41: st. | I41: 1 | J41: =I41*G41 -> 0 | M41: 24 | N41: 1 | O41: =(N41*M41)-(L41*N41) -> 24
C42: standaanwijzing digitaal | D42: ThyssenKrup | E42: standaanwijzing digitaal | H42: st. | I42: 1 | J42: =I42*G42 -> 0 | M42: 24 | N42: 1 | O42: =(N42*M42)-(L42*N42) -> 24
C43: deur open knop | D43: ThyssenKrup | E43: deur open knop Schaefer | H43: st. | I43: 1 | J43: =I43*G43 -> 0 | M43: 24 | N43: 1 | O43: =(N43*M43)-(L43*N43) -> 24
C44: deur sluiten knop | D44: ThyssenKrup | E44: deur sluiten knop Schaefer | H44: st. | I44: 1 | J44: =I44*G44 -> 0 | M44: 24 | N44: 1 | O44: =(N44*M44)-(L44*N44) -> 24
...

Sheet P1L Correctief lift NZL TK
C1: Leveren en vervangen | D1: fabricaat | E1: Omschrijving type en/of specificatie | G1: All-in Verreken- prijs | H1: eenheid | I1: weeg factor | J1: gewogen | L1: Stilstand (in uren) | M1: Maximale stilstand (in klokuren) | N1: weeg factor | O1: gewogen | Q1: Vervang-ingscyclus in jaren | R1: Maximaal aantal ritten | S1: Maximaal aantal gebruiks uren | T1: Garantie in jaren na vervanging door Opdrachtnemer
C2: Besturing | G2: invullen | L2: invullen | Q2: Minimaal één van deze drie kolommen invullen | T2: invullen
C3: Print microprossor : | H3: st. | I3: 0.1 | J3: =I3*G3 -> 0 | M3: 36 | N3: 3 | O3: =(N3*M3)-(L3*N3) -> 108
C4: sofware | H4: st. | I4: 0.1 | J4: =I4*G4 -> 0 | M4: 36 | N4: 3 | O4: =(N4*M4)-(L4*N4) -> 108
C5: Print veiligheidsketen | H5: st. | I5: 0.1 | J5: =I5*G5 -> 0 | M5: 36 | N5: 3 | O5: =(N5*M5)-(L5*N5) -> 108
C6: Microprocessor | H6: st. | I6: 0.1 | J6: =I6*G6 -> 0 | M6: 36 | N6: 3 | O6: =(N6*M6)-(L6*N6) -> 108
C7: Stuurstroom relais | H7: st. | I7: 1 | J7: =I7*G7 -> 0 | M7: 24 | N7: 1 | O7: =(N7*M7)-(L7*N7) -> 24
C8: Soepele kabels (rond / vlak) | H8: meter | I8: 1 | J8: =I8*G8 -> 0 | M8: 72 | N8: 1 | O8: =(N8*M8)-(L8*N8) -> 72
C9: Hoofdstroomrelais | H9: st. | I9: 1 | J9: =I9*G9 -> 0 | M9: 24 | N9: 3 | O9: =(N9*M9)-(L9*N9) -> 72
C10: Frequentie omvormer | H10: st. | I10: 2 | J10: =I10*G10 -> 0 | M10: 72 | N10: 5 | O10: =(N10*M10)-(L10*N10) -> 360
C11: Absoluutencoder | H11: st. | I11: 2 | J11: =I11*G11 -> 0 | M11: 24 | N11: 5 | O11: =(N11*M11)-(L11*N11) -> 120
C12: Camera systeem | H12: systeem | I12: 0.5 | J12: =I12*G12 -> 0 | M12: 120 | N12: 1 | O12: =(N12*M12)-(L12*N12) -> 120
C14: Deuren
C15: aut. Cabinedeur per stuk | H15: st. | I15: 1 | J15: =I15*G15 -> 0 | M15: 120 | N15: 1 | O15: =(N15*M15)-(L15*N15) -> 120
C16: aut. Schachtdeuren | H16: st. | I16: 1 | J16: =I16*G16 -> 0 | M16: 120 | N16: 1 | O16: =(N16*M16)-(L16*N16) -> 120
C17: deurgeleiding, sloffen | H17: st. | I17: 1 | J17: =I17*G17 -> 0 | M17: 24 | N17: 1 | O17: =(N17*M17)-(L17*N17) -> 24
C18: deurrollen (ophanging) | H18: per verd. | I18: 1 | J18: =I18*G18 -> 0 | M18: 24 | N18: 1 | O18: =(N18*M18)-(L18*N18) -> 24
C19: Koppelkabels | H19: st. | I19: 1 | J19: =I19*G19 -> 0 | M19: 24 | N19: 1 | O19: =(N19*M19)-(L19*N19) -> 24
C20: Deursloffen | H20: per verd. | I20: 1 | J20: =I20*G20 -> 0 | M20: 24 | N20: 1 | O20: =(N20*M20)-(L20*N20) -> 24
C21: Kooideurruit | H21: st. | I21: 1 | J21: =I21*G21 -> 0 | M21: 24 | N21: 1 | O21: =(N21*M21)-(L21*N21) -> 24
C22: Deurmotor voor deuraandrijving | H22: st. | I22: 1 | J22: =I22*G22 -> 0 | M22: 48 | N22: 1 | O22: =(N22*M22)-(L22*N22) -> 48
C23: Deurregeling | H23: st. | I23: 1 | J23: =I23*G23 -> 0 | M23: 48 | N23: 1 | O23: =(N23*M23)-(L23*N23) -> 48
C24: Deurmotor en regeling | H24: st. | I24: 1 | J24: =I24*G24 -> 0 | M24: 48 | N24: 1 | O24: =(N24*M24)-(L24*N24) -> 48
C25: Ontgrendel schaats | H25: st. | I25: 1 | J25: =I25*G25 -> 0 | M25: 72 | N25: 1 | O25: =(N25*M25)-(L25*N25) -> 72
C26: grendel slot en grendelhaak | H26: st. | I26: 1 | J26: =I26*G26 -> 0 | M26: 24 | N26: 1 | O26: =(N26*M26)-(L26*N26) -> 24
C27: sensorlijst | H27: st. | I27: 1 | J27: =I27*G27 -> 0 | M27: 24 | N27: 1 | O27: =(N27*M27)-(L27*N27) -> 24
C29: Aandrijving
C30: Aandrijving electromotor | I30: 1 | J30: =I30*G30 -> 0 | M30: 120 | N30: 1 | O30: =(N30*M30)-(L30*N30) -> 120
C31: Ophanging (1:1 / 2:1) | I31: 1 | J31: =I31*G31 -> 0 | M31: 120 | N31: 1 | O31: =(N31*M31)-(L31*N31) -> 120
C32: Tractieschijf | H32: st. | I32: 1 | J32: =I32*G32 -> 0 | M32: 120 | N32: 1 | O32: =(N32*M32)-(L32*N32) -> 120
C33: Draagkabels tot drie stopplaatsen | H33: meter | I33: 1 | J33: =I33*G33 -> 0 | M33: 120 | N33: 1 | O33: =(N33*M33)-(L33*N33) -> 120
C34: Vervangen van de rem | H34: st. | I34: 0.3 | J34: =I34*G34 -> 0 | M34: 120 | N34: 0.2 | O34: =(N34*M34)-(L34*N34) -> 24
C36: Geleiding
C37: kooigeleiding: | H37: set | I37: 1 | J37: =I37*G37 -> 0 | M37: 24 | N37: 1 | O37: =(N37*M37)-(L37*N37) -> 24
C38: tegengewichtgeleiding | H38: set | I38: 1 | J38: =I38*G38 -> 0 | M38: 24 | N38: 1 | O38: =(N38*M38)-(L38*N38) -> 24
C40: Kooitableau
C41: bedieningsknoppen | H41: st. | I41: 1 | J41: =I41*G41 -> 0 | M41: 24 | N41: 1 | O41: =(N41*M41)-(L41*N41) -> 24
C42: standaanwijzing digitaal | H42: st. | I42: 1 | J42: =I42*G42 -> 0 | M42: 24 | N42: 1 | O42: =(N42*M42)-(L42*N42) -> 24
C43: deur open knop | H43: st. | I43: 1 | J43: =I43*G43 -> 0 | M43: 24 | N43: 1 | O43: =(N43*M43)-(L43*N43) -> 24
C44: deur sluiten knop | H44: st. | I44: 1 | J44: =I44*G44 -> 0 | M44: 24 | N44: 1 | O44: =(N44*M44)-(L44*N44) -> 24
...

Sheet P1R Correctief Victoria
C1: Leveren en vervangen | D1: fabricaat | E1: Omschrijving type en/of specificatie | G1: All-in Verreken- prijs | H1: prijs per eenheid | I1: weeg factor | J1: gewogen | L1: Stilstand (in uren) | M1: Maximale stilstand (in klokuren) | N1: weeg factor | O1: gewogen | Q1: Vervang-ingscyclus in jaren | R1: Maximaal aantal ritten | S1: Maximaal aantal gebruiks uren | T1: Garantie in jaren na vervanging door Opdrachtnemer
C2: Besturing | G2: invullen | L2: invullen | Q2: Minimaal één van deze drie kolommen invullen | T2: invullen
C3: Microprocessor | D3: ThyssenKrupp | E3: SPS computer NL254700131 | H3: st. | I3: 0.2 | J3: =I3*G3 -> 0 | M3: 36 | N3: 3 | O3: =(N3*M3)-(L3*N3) -> 108
C4: Uitbreidingsmodule | D4: ThyssenKrupp | E4: SPS computer :NL254620041 | H4: st. | I4: 0.2 | J4: =I4*G4 -> 0 | M4: 36 | N4: 3 | O4: =(N4*M4)-(L4*N4) -> 108
C5: AS-I safetymonitor | D5: ThyssenKrupp | E5: 2 kanaals NL254640002 | H5: st. | I5: 0.2 | J5: =I5*G5 -> 0 | M5: 36 | N5: 3 | O5: =(N5*M5)-(L5*N5) -> 108
C6: Centrale eenheid tbv noodstopherstelsysteem | D6: ThyssenKrupp | E6: NL254650018 | H6: st. | I6: 0.2 | J6: =I6*G6 -> 0 | M6: 36 | N6: 3 | O6: =(N6*M6)-(L6*N6) -> 108
C7: fotocellen tbv het noodstopherstel systeem | H7: st. | I7: 0.2 | J7: =I7*G7 -> 0 | M7: 24 | N7: 3 | O7: =(N7*M7)-(L7*N7) -> 72
C8: Multifunctioneel bewakingsrelais TSR | D8: ThyssenKrupp | E8: NL:254610111 | H8: st. | I8: 0.2 | J8: =I8*G8 -> 0 | M8: 24 | N8: 3 | O8: =(N8*M8)-(L8*N8) -> 72
C9: Stuurstroom relais | E9: Type | H9: st. | I9: 1 | J9: =I9*G9 -> 0 | M9: 24 | N9: 3 | O9: =(N9*M9)-(L9*N9) -> 72
C10: Hoofdstroomrelais | E10: Type | H10: st. | I10: 1 | J10: =I10*G10 -> 0 | M10: 24 | N10: 3 | O10: =(N10*M10)-(L10*N10) -> 72
C12: Statische gedeelte
C13: Trede nieuw | D13: ThyssenKrupp | E13: RT trede NL253500047 breedte 1000mm | H13: 1 st. | I13: 2 | J13: =I13*G13 -> 0 | M13: 4 | N13: 2 | O13: =(N13*M13)-(L13*N13) -> 8
C14: Treden nieuw | D14: ThyssenKrupp | E14: RT trede NL253500047 breedte 1000mm | H14: 2 tot 5 st. | I14: 2 | J14: =I14*G14 -> 0 | M14: 4 | N14: 2 | O14: =(N14*M14)-(L14*N14) -> 8
C15: Treden nieuw | D15: ThyssenKrupp | E15: RT trede NL253500047 breedte 1000mm | H15: 5 tot 10 st. | I15: 2 | J15: =I15*G15 -> 0 | M15: 24 | N15: 1 | O15: =(N15*M15)-(L15*N15) -> 24
C16: Treden nieuw | D16: ThyssenKrupp | E16: RT trede NL253500047 breedte 1000mm | H16: > 10 st. | I16: 2 | J16: =I16*G16 -> 0 | M16: 24 | N16: 1 | O16: =(N16*M16)-(L16*N16) -> 24
C17: Tredenrol nieuw | D17: ThyssenKrupp | E17: TK Tredenrol FT 932 5 | H17: 1 st. | I17: 2 | J17: =I17*G17 -> 0 | M17: 4 | N17: 2 | O17: =(N17*M17)-(L17*N17) -> 8
C18: Tredenrollen nieuw | D18: ThyssenKrupp | E18: TK Tredenrol FT 932 5 | H18: 2 tot 5 st. | I18: 2 | J18: =I18*G18 -> 0 | M18: 4 | N18: 2 | O18: =(N18*M18)-(L18*N18) -> 8
C19: Tredenrollen nieuw | D19: ThyssenKrupp | E19: TK Tredenrol FT 932 5 | H19: 5 tot 10 st. | I19: 2 | J19: =I19*G19 -> 0 | M19: 24 | N19: 1 | O19: =(N19*M19)-(L19*N19) -> 24
C20: Tredenrollen nieuw | D20: ThyssenKrupp | E20: TK Tredenrol FT 932 5 | H20: > 10 st. | I20: 2 | J20: =I20*G20 -> 0 | M20: 24 | N20: 1 | O20: =(N20*M20)-(L20*N20) -> 24
C21: Smeerautomaat | D21: ThyssenKrupp | E21: BEKA Fabrnr:04055-01 230V E-58680/6 2712 1110 112990 | H21: st. | I21: 1 | J21: =I21*G21 -> 0 | M21: 24 | N21: 1 | O21: =(N21*M21)-(L21*N21) -> 24
C22: Sokkel borstel | D22: ThyssenKrupp | E22: Sokkelborstel | H22: m1 | I22: 1 | J22: =I22*G22 -> 0 | M22: 48 | N22: 1 | O22: =(N22*M22)-(L22*N22) -> 48
C23: Lightspeed versterker | E23: Lightspeed versterker | H23: st. | I23: 1 | J23: =I23*G23 -> 0 | M23: 48 | N23: 1 | O23: =(N23*M23)-(L23*N23) -> 48
C24: glasvezel voor lightspeed | E24: glasvezel voor lightspeed | H24: set. | I24: 1 | J24: =I24*G24 -> 0 | M24: 48 | N24: 1 | O24: =(N24*M24)-(L24*N24) -> 48
C25: Kamplaten | D25: ThyssenKrupp | E25: FT 932 5 | H25: st. | I25: 1 | J25: =I25*G25 -> 0 | M25: 4 | N25: 2 | O25: =(N25*M25)-(L25*N25) -> 8
C27: Aandrijving
C28: Elektromotor aandrijving | E28: EMOD 2M160M6-27/v1 vermogen 16,5KW - Uitbouwen, wikkelen en weer inbouwen elektromotor | H28: st. | I28: 1 | J28: =I28*G28 -> 0 | M28: 120 | N28: 2 | O28: =(N28*M28)-(L28*N28) -> 240
C29: carterolie roltrap machine | E29: complete olie wissel. Dus inclusief arbeidsuren en het leveren de benodige carterolie en afvoeren en storten afkomende olie | H29: Compl. | I29: 1 | J29: =I29*G29 -> 0 | M29: 24 | N29: 1 | O29: =(N29*M29)-(L29*N29) -> 24
C30: Tredenketting - sectie 4 meter | D30: Kettenwulf | E30: 260KN Customer code :700543 tredenketting Kettenwulf gesmeerd per sectie van 4 meter, inclusief verwijderen, afvoeren en storten oude ketting, inclusief uit- en inbouwen rolrap treden en bijkomende werken. | H30: per 4 meter compl. | I30: 1 | J30: =I30*G30 -> 0 | M30: 120 | N30: 1 | O30: =(N30*M30)-(L30*N30) -> 120
C31: Tredenketting - volle lengte | D31: Kettenwulf | E31: 260KN Customer code :700543 Over lengte van 2x45 meter (paar) nieuwe tredeketting Kettenwulf gesmeerd, inclusief verwijderen, afvoeren en storten oude ketting, inclusief uit- en inbouwen rolrap treden en bijkomende werken. | H31: 90 meter compl. | I31: 1 | J31: =I31*G31 -> 0 | L31: 0 | M31: 720 | N31: 1 | O31: =(N31*M31)-(L31*N31) -> 720
C32: Remarm | E32: Remarmset voor eerder genoemde machine EMOD | H32: set | I32: 1 | J32: =I32*G32 -> 0 | M32: 48 | N32: 2 | O32: =(N32*M32)-(L32*N32) -> 96
C34: Leuningband
C35: Leuningband
C36: Leuningband | D36: Botcher | E36: Type Keil | H36: mtr | I36: 1 | J36: =I36*G36 -> 0 | M36: 24 | N36: 2 | O36: =(N36*M36)-(L36*N36) -> 48
C37: tractiewiel leuningband aandrijving | D37: Botcher | E37: tractiewiel leuningband aandrijving | H37: st. | I37: 1 | J37: =I37*G37 -> 0 | M37: 48 | N37: 1 | O37: =(N37*M37)-(L37*N37) -> 48
C38: Tandwiel tbv de leuningband aandrijving | E38: Tandwiel tbv de leuningband aandrijving | H38: st. | I38: 1 | J38: =I38*G38 -> 0 | M38: 48 | N38: 1 | O38: =(N38*M38)-(L38*N38) -> 48
C39: ketting tbv de leuningband aandrijving | E39: ketting tbv de leuningband aandrijving | H39: mtr | I39: 1 | J39: =I39*G39 -> 0 | M39: 48 | N39: 1 | O39: =(N39*M39)-(L39*N39) -> 48
C40: Leuningband geleiding | D40: Botcher | E40: Leuningband geleiding | H40: st. | I40: 1 | J40: =I40*G40 -> 0 | M40: 24 | N40: 1 | O40: =(N40*M40)-(L40*N40) -> 24
C41: Leuningband inloopdeurtjes | D41: Thyssenkrupp | E41: Leuningband inloopdeurtjes | H41: set | I41: 1 | J41: =I41*G41 -> 0 | M41: 24 | N41: 1 | O41: =(N41*M41)-(L41*N41) -> 24
C42: Rollerboog | D42: Thyssenkrupp | H42: st. | I42: 1 | J42: =I42*G42 -> 0 | M42: 24 | N42: 1 | O42: =(N42*M42)-(L42*N42) -> 24
C43: Balustrade ruit | E43: balustrade kopruit rechtsonder NL251204001 | H43: st. | I43: 1 | J43: =I43*G43 -> 0 | M43: 24 | N43: 1 | O43: =(N43*M43)-(L43*N43) -> 24
...

Sheet P1R - Correctief Tugela
C1: Leveren en vervangen | D1: fabricaat | E1: Omschrijving type en/of specificatie | G1: All-in Verreken- prijs | H1: prijs per eenheid | I1: weeg factor | J1: gewogen | L1: Stilstand (in uren) | M1: Maximale stilstand (in klokuren) | N1: weeg factor | O1: gewogen | Q1: Vervang-ingscyclus in jaren | R1: Maximaal aantal ritten | S1: Maximaal aantal gebruiks uren | T1: Garantie in jaren na vervanging door Opdrachtnemer
C2: Besturing | G2: invullen | L2: invullen | Q2: Minimaal één van deze drie kolommen invullen | T2: invullen
C3: Microprocessor | D3: ThyssenKrupp | H3: st. | I3: 0.2 | J3: =I3*G3 -> 0 | M3: 36 | N3: 3 | O3: =(N3*M3)-(L3*N3) -> 108
C4: Uitbreidingsmodule | D4: ThyssenKrupp | H4: st. | I4: 0.2 | J4: =I4*G4 -> 0 | M4: 36 | N4: 3 | O4: =(N4*M4)-(L4*N4) -> 108
C5: AS-I safetymonitor | D5: ThyssenKrupp | H5: st. | I5: 0.2 | J5: =I5*G5 -> 0 | M5: 36 | N5: 3 | O5: =(N5*M5)-(L5*N5) -> 108
C6: Centrale eenheid tbv noodstopherstelsysteem | D6: ThyssenKrupp | H6: st. | I6: 0.2 | J6: =I6*G6 -> 0 | M6: 36 | N6: 3 | O6: =(N6*M6)-(L6*N6) -> 108
C7: fotocellen tbv het noodstopherstel systeem | H7: st. | I7: 0.2 | J7: =I7*G7 -> 0 | M7: 24 | N7: 3 | O7: =(N7*M7)-(L7*N7) -> 72
C8: Multifunctioneel bewakingsrelais TSR | D8: ThyssenKrupp | H8: st. | I8: 0.2 | J8: =I8*G8 -> 0 | M8: 24 | N8: 3 | O8: =(N8*M8)-(L8*N8) -> 72
C9: Stuurstroom relais | H9: st. | I9: 1 | J9: =I9*G9 -> 0 | M9: 24 | N9: 3 | O9: =(N9*M9)-(L9*N9) -> 72
C10: Hoofdstroomrelais | H10: st. | I10: 1 | J10: =I10*G10 -> 0 | M10: 24 | N10: 3 | O10: =(N10*M10)-(L10*N10) -> 72
C12: Statische gedeelte
C13: Treden | D13: ThyssenKrupp | H13: 1 st. | I13: 2 | J13: =I13*G13 -> 0 | M13: 4 | N13: 2 | O13: =(N13*M13)-(L13*N13) -> 8
C14: Treden | D14: ThyssenKrupp | H14: 2 tot 5 st. | I14: 2 | J14: =I14*G14 -> 0 | M14: 4 | N14: 2 | O14: =(N14*M14)-(L14*N14) -> 8
C15: Treden | D15: ThyssenKrupp | H15: 5 tot 10 st. | I15: 2 | J15: =I15*G15 -> 0 | M15: 24 | N15: 1 | O15: =(N15*M15)-(L15*N15) -> 24
C16: Treden | D16: ThyssenKrupp | H16: > 10 st. | I16: 2 | J16: =I16*G16 -> 0 | M16: 24 | N16: 1 | O16: =(N16*M16)-(L16*N16) -> 24
C17: Tredenrollen | D17: ThyssenKrupp | H17: 1 st. | I17: 2 | J17: =I17*G17 -> 0 | M17: 4 | N17: 2 | O17: =(N17*M17)-(L17*N17) -> 8
C18: Tredenrollen | D18: ThyssenKrupp | H18: 2 tot 5 st. | I18: 2 | J18: =I18*G18 -> 0 | M18: 4 | N18: 2 | O18: =(N18*M18)-(L18*N18) -> 8
C19: Tredenrollen | D19: ThyssenKrupp | H19: 5 tot 10 st. | I19: 2 | J19: =I19*G19 -> 0 | M19: 24 | N19: 1 | O19: =(N19*M19)-(L19*N19) -> 24
C20: Tredenrollen | D20: ThyssenKrupp | H20: > 10 st. | I20: 2 | J20: =I20*G20 -> 0 | M20: 24 | N20: 1 | O20: =(N20*M20)-(L20*N20) -> 24
C21: Smeerautomaat | D21: ThyssenKrupp | H21: st. | I21: 1 | J21: =I21*G21 -> 0 | M21: 24 | N21: 1 | O21: =(N21*M21)-(L21*N21) -> 24
C22: Sokkel borstel | D22: ThyssenKrupp | H22: lengte | I22: 1 | J22: =I22*G22 -> 0 | M22: 48 | N22: 1 | O22: =(N22*M22)-(L22*N22) -> 48
C23: Lightspeed versterker | H23: st. | I23: 1 | J23: =I23*G23 -> 0 | M23: 48 | N23: 1 | O23: =(N23*M23)-(L23*N23) -> 48
C24: glasvezel voor lightspeed | H24: set. | I24: 1 | J24: =I24*G24 -> 0 | M24: 48 | N24: 1 | O24: =(N24*M24)-(L24*N24) -> 48
C25: Kamplaten | D25: ThyssenKrupp | H25: st. | I25: 1 | J25: =I25*G25 -> 0 | M25: 4 | N25: 2 | O25: =(N25*M25)-(L25*N25) -> 8
C27: Aandrijving
C28: Uitbouwen, wikkelen en weer inbouwen elektromotor | H28: st. | I28: 1 | J28: =I28*G28 -> 0 | M28: 120 | N28: 2 | O28: =(N28*M28)-(L28*N28) -> 240
C29: carterolie roltrap machine | H29: Compl. | I29: 1 | J29: =I29*G29 -> 0 | M29: 24 | N29: 1 | O29: =(N29*M29)-(L29*N29) -> 24
C30: Trede ketting | D30: Kettenwulf | H30: per 4 meter | I30: 1 | J30: =I30*G30 -> 0 | M30: 120 | N30: 1 | O30: =(N30*M30)-(L30*N30) -> 120
C31: Vervangen tredenketting | D31: Kettenwulf | H31: Compl. | I31: 1 | J31: =I31*G31 -> 0 | M31: 720 | N31: 1 | O31: =(N31*M31)-(L31*N31) -> 720
C32: Remarm | H32: set | I32: 1 | J32: =I32*G32 -> 0 | M32: 48 | N32: 2 | O32: =(N32*M32)-(L32*N32) -> 96
C34: Leuningband
C35: Leuningband | M35: 24 | N35: 2 | O35: =(N35*M35)-(L35*N35) -> 48
C36: Leuningband | H36: mtr | I36: 1 | J36: =I36*G36 -> 0 | M36: 24 | N36: 2 | O36: =(N36*M36)-(L36*N36) -> 48
C37: tractiewiel leuningband aandrijving | H37: st. | I37: 1 | J37: =I37*G37 -> 0 | M37: 48 | N37: 1 | O37: =(N37*M37)-(L37*N37) -> 48
C38: Tandwiel tbv de leuningband aandrijving | H38: st. | I38: 1 | J38: =I38*G38 -> 0 | M38: 48 | N38: 1 | O38: =(N38*M38)-(L38*N38) -> 48
C39: ketting tbv de leuningband aandrijving | H39: mtr | I39: 1 | J39: =I39*G39 -> 0 | M39: 48 | N39: 1 | O39: =(N39*M39)-(L39*N39) -> 48
C40: Leuningband geleiding | H40: st. | I40: 1 | J40: =I40*G40 -> 0 | M40: 24 | N40: 1 | O40: =(N40*M40)-(L40*N40) -> 24
C41: Leuningband inloopdeurtjes | D41: Thyssenkrupp | H41: set | I41: 1 | J41: =I41*G41 -> 0 | M41: 24 | N41: 1 | O41: =(N41*M41)-(L41*N41) -> 24
C42: Rollerboog | D42: Thyssenkrupp | H42: st. | I42: 1 | J42: =I42*G42 -> 0 | M42: 24 | N42: 1 | O42: =(N42*M42)-(L42*N42) -> 24
C43: Balustrade ruit | H43: st. | I43: 1 | J43: =I43*G43 -> 0 | M43: 24 | N43: 1 | O43: =(N43*M43)-(L43*N43) -> 24
...

Sheet Blad3
