Workbook
Name Countries: '[1]Code lists'!$I$3:$K$24
Name Countries: #REF!
Name Countries1: '[1]Code lists'!$E$3:$E$19
Name Countries1: #REF!
Name Currencies: '[1]Code lists'!$B$3:$B$22
Name Currencies: #REF!
Name Regions1: '[1]Code lists'!$G$3:$G$10
Name Regions1: #REF!

Sheet 1. General information
B2: CEER 2018 electricity benchmark financial reporting template: General information
B4: Version 3 May 2018
B5: Final version + changes due to Workshop II
B6: Note that this version is optional, you are allowed to use the version of 8 March and to include the changes yourself
B7: See below from line 85 for an overview of the changes due to Workshop II
B9: Legend
B10: Data entry
B11: Calculated fields
B12: Fields that should be left blank
B13: - Please fill in all green fields and only these green fields.
B14: - When a green field requires monetary units, please use whole monetary units (not thousands or millions).
B15: - To avoid misunderstandings, always fill in an explicit “0” if that is the case.
... B23: Accounting standard used for financial reporting
B24: Standard (e.g. IFRS) | C24: Used from (and incl.) | D24: Used until (and incl.)
B33: Currencies reported
B34: Year | C34: Currency
B35: 2017
B36: =IF(ISNUMBER(B35),IF(B35>$G$9,B35-1,"NA"),"NA") -> 2016
B37: =IF(ISNUMBER(B36),IF(B36>$G$9,B36-1,"NA"),"NA") -> 2015
B38: =IF(ISNUMBER(B37),IF(B37>$G$9,B37-1,"NA"),"NA") -> 2014
B39: =IF(ISNUMBER(B38),IF(B38>$G$9,B38-1,"NA"),"NA") -> 2013
B40: =IF(ISNUMBER(B39),IF(B39>$G$9,B39-1,"NA"),"NA") -> 2012
B41: =IF(ISNUMBER(B40),IF(B40>$G$9,B40-1,"NA"),"NA") -> 2011
B42: =IF(ISNUMBER(B41),IF(B41>$G$9,B41-1,"NA"),"NA") -> 2010
B43: =IF(ISNUMBER(B42),IF(B42>$G$9,B42-1,"NA"),"NA") -> 2009
B44: =IF(ISNUMBER(B43),IF(B43>$G$9,B43-1,"NA"),"NA") -> 2008
B45: =IF(ISNUMBER(B44),IF(B44>$G$9,B44-1,"NA"),"NA") -> 2007
B46: =IF(ISNUMBER(B45),IF(B45>$G$9,B45-1,"NA"),"NA") -> 2006
B47: =IF(ISNUMBER(B46),IF(B46>$G$9,B46-1,"NA"),"NA") -> 2005
... B79: =IF(ISNUMBER(B78),IF(B78>$G$9,B78-1,"NA"),"NA") -> 1973
B80: <1973
B85: Changes due to Workshop II
B86: Table 2a. (Dis)investment stream. Column D: formula changed to include capitalized land, capitalized borrowing costs and capitalized planning costs
B87: Table 2a. (Dis)investment stream. Column AB: reference changed from column C to column D
B88: Table 2a. (Dis)investment stream. Column AD: 'Intangible assets (software only) from audited financial statements' changed into 'Intangible assets (planning costs 2013-2017 only) from audited financial statements'
B89: Table 2a. (Dis)investment stream. Column AD: green cells for 2012 and earlier greyed out
B90: Table 2a. (Dis)investment stream. Column AE: check improved to include netted investment contributions
B91: Table 2a. (Dis)investment stream. Formatting of yellow cells under net investment stream changed to nil decimals
B92: Table 2b. Spec. used assets. Introduced a split between investments in pre and post 1973 assets. The remaining lifetime has to be calculated for post 1973 assets only
B93: Table 2b. Spec. used assets. Column header 'Remaining weighted average technical lifetime in year of acquisition' changed into 'Remaining weighted average technical lifetime (in years) in year of acquisition'.
...

Sheet 2a. (Dis)investment stream
B2: CEER 2018 electricity benchmark financial reporting template: (Dis)investment stream
B4: ='1. General information'!C19 -> 0
B5: ='1. General information'!C20 -> 0
B7: Please specify the capitalization threshold:
D8: Currency | E8: Capitalization threshold
B9: 1. Lines and towers | D9: ='1. General information'!$C$35 -> 0
B10: 2. Cables | D10: ='1. General information'!$C$35 -> 0
B11: 3. Substations: (including transformers and circuit ends) | D11: ='1. General information'!$C$35 -> 0
B12: 4. Compensating devices | D12: ='1. General information'!$C$35 -> 0
B13: 5. Series compensation | D13: ='1. General information'!$C$35 -> 0
B14: 6. Control centers | D14: ='1. General information'!$C$35 -> 0
B15: 7. Other installations | D15: ='1. General information'!$C$35 -> 0
B16: 8. Grid-related equipment and vehicles | D16: ='1. General information'!$C$35 -> 0
B18: Gross investment stream (incl. used assets and rehabilitations)
D19: Activity ==> | F19: All | J19: All | M19: Transport, grid maintenance, grid planning (T, M, P) | V19: Offshore (TO) | W19: Storage facility (SF) | X19: Any other activity (O) | Y19: Indirect (I) | AB19: Check with audited financial statements
M20: 1. Lines and towers | N20: 2. Cables | O20: 3. Substations: (including transformers and circuit ends) | P20: 4. Compensating devices | Q20: 5. Series compensation | R20: 6. Control centers | S20: 7. Other installations | T20: 8. Grid-related equipment and vehicles | V20: All asset categories | W20: All asset categories | X20: All asset categories | Y20: Main office building | Z20: Any other asset category | AB20: Total investment Incl. capitalized borrowing, land, and planning costs | AC20: Tangible fixed assets from audited financial statements | AD20: Intangible assets (planning costs 2013-2017 only) from audited financial statements | AE20: Check: Total investments in investment stream = total investments in audited financial statements | AF20: Investment contributions if not netted in investments | AG20: Investment contributions from audited financial statements | AH20: Check: Total investments in investment stream = total investments in audited financial statements
B21: Year | C21: Currency | D21: Total investment Incl. capitalized borrowing, land, and planning costs | F21: Capitalized borrowing costs | G21: Capitalized land costs | H21: Capitalized planning costs | J21: Investment contributions | K21: Investment contributions netted in investment stream? (yes/no) | M21: Investment | N21: Investment | O21: Investment | P21: Investment | Q21: Investment | R21: Investment | S21: Investment | T21: Investment | V21: Investment | W21: Investment | X21: Investment | Y21: Investment | Z21: Investment | AB21: Investment | AC21: Investment | AD21: Investment | AE21: True/false | AF21: Investment contributions | AG21: Investment contributions | AH21: True/false
B22: 2017 | C22: ='1. General information'!$C35 -> 0 | D22: =IF(K22="yes",J22,0)+SUM(F22:H22,M22:T22,V22:Z22) -> 0 | AE22: =IF(K22="yes",AB22-J22=SUM(AC22:AD22),AB22=SUM(AC22:AD22)) -> TRUE | AF22: =IF(K22="no",J22,0) -> 0 | AH22: =AF22=AG22 -> TRUE | AJ22: yes
B23: =IF(ISNUMBER(B22),IF(B22>$F$4,B22-1,"NA"),"NA") -> 2016 | C23: ='1. General information'!$C36 -> 0 | D23: =IF(K23="yes",J23,0)+SUM(F23:H23,M23:T23,V23:Z23) -> 0 | AB23: =D23 -> 0 | AE23: =IF(K23="yes",AB23-J23=SUM(AC23:AD23),AB23=SUM(AC23:AD23)) -> TRUE | AF23: =IF(K23="no",J23,0) -> 0 | AH23: =AF23=AG23 -> TRUE | AJ23: no
B24: =IF(ISNUMBER(B23),IF(B23>$F$4,B23-1,"NA"),"NA") -> 2015 | C24: ='1. General information'!$C37 -> 0 | D24: =IF(K24="yes",J24,0)+SUM(F24:H24,M24:T24,V24:Z24) -> 0 | AB24: =D24 -> 0 | AE24: =IF(K24="yes",AB24-J24=SUM(AC24:AD24),AB24=SUM(AC24:AD24)) -> TRUE | AF24: =IF(K24="no",J24,0) -> 0 | AH24: =AF24=AG24 -> TRUE
B25: =IF(ISNUMBER(B24),IF(B24>$F$4,B24-1,"NA"),"NA") -> 2014 | C25: ='1. General information'!$C38 -> 0 | D25: =IF(K25="yes",J25,0)+SUM(F25:H25,M25:T25,V25:Z25) -> 0 | AB25: =D25 -> 0 | AE25: =IF(K25="yes",AB25-J25=SUM(AC25:AD25),AB25=SUM(AC25:AD25)) -> TRUE | AF25: =IF(K25="no",J25,0) -> 0 | AH25: =AF25=AG25 -> TRUE
B26: =IF(ISNUMBER(B25),IF(B25>$F$4,B25-1,"NA"),"NA") -> 2013 | C26: ='1. General information'!$C39 -> 0 | D26: =IF(K26="yes",J26,0)+SUM(F26:H26,M26:T26,V26:Z26) -> 0 | AB26: =D26 -> 0 | AE26: =IF(K26="yes",AB26-J26=SUM(AC26:AD26),AB26=SUM(AC26:AD26)) -> TRUE | AF26: =IF(K26="no",J26,0) -> 0 | AH26: =AF26=AG26 -> TRUE
B27: =IF(ISNUMBER(B26),IF(B26>$F$4,B26-1,"NA"),"NA") -> 2012 | C27: ='1. General information'!$C40 -> 0 | D27: =IF(K27="yes",J27,0)+SUM(F27:G27,M27:T27,V27:Z27) -> 0 | AB27: =D27 -> 0 | AE27: =IF(K27="yes",AB27-J27=SUM(AC27),AB27=SUM(AC27:AD27)) -> TRUE | AF27: =IF(K27="no",J27,0) -> 0 | AH27: =AF27=AG27 -> TRUE
B28: =IF(ISNUMBER(B27),IF(B27>$F$4,B27-1,"NA"),"NA") -> 2011 | C28: ='1. General information'!$C41 -> 0 | D28: =IF(K28="yes",J28,0)+SUM(F28:G28,M28:T28,V28:Z28) -> 0 | AB28: =D28 -> 0 | AE28: =IF(K28="yes",AB28-J28=SUM(AC28),AB28=SUM(AC28:AD28)) -> TRUE | AF28: =IF(K28="no",J28,0) -> 0 | AH28: =AF28=AG28 -> TRUE
B29: =IF(ISNUMBER(B28),IF(B28>$F$4,B28-1,"NA"),"NA") -> 2010 | C29: ='1. General information'!$C42 -> 0 | D29: =IF(K29="yes",J29,0)+SUM(F29:G29,M29:T29,V29:Z29) -> 0 | AB29: =D29 -> 0 | AE29: =IF(K29="yes",AB29-J29=SUM(AC29),AB29=SUM(AC29:AD29)) -> TRUE | AF29: =IF(K29="no",J29,0) -> 0 | AH29: =AF29=AG29 -> TRUE
B30: =IF(ISNUMBER(B29),IF(B29>$F$4,B29-1,"NA"),"NA") -> 2009 | C30: ='1. General information'!$C43 -> 0 | D30: =IF(K30="yes",J30,0)+SUM(F30:G30,M30:T30,V30:Z30) -> 0 | AB30: =D30 -> 0 | AE30: =IF(K30="yes",AB30-J30=SUM(AC30),AB30=SUM(AC30:AD30)) -> TRUE | AF30: =IF(K30="no",J30,0) -> 0 | AH30: =AF30=AG30 -> TRUE
B31: =IF(ISNUMBER(B30),IF(B30>$F$4,B30-1,"NA"),"NA") -> 2008 | C31: ='1. General information'!$C44 -> 0 | D31: =IF(K31="yes",J31,0)+SUM(F31:G31,M31:T31,V31:Z31) -> 0 | AB31: =D31 -> 0 | AE31: =IF(K31="yes",AB31-J31=SUM(AC31),AB31=SUM(AC31:AD31)) -> TRUE | AF31: =IF(K31="no",J31,0) -> 0 | AH31: =AF31=AG31 -> TRUE
B32: =IF(ISNUMBER(B31),IF(B31>$F$4,B31-1,"NA"),"NA") -> 2007 | C32: ='1. General information'!$C45 -> 0 | D32: =IF(K32="yes",J32,0)+SUM(F32:G32,M32:T32,V32:Z32) -> 0 | AB32: =D32 -> 0 | AE32: =IF(K32="yes",AB32-J32=SUM(AC32),AB32=SUM(AC32:AD32)) -> TRUE | AF32: =IF(K32="no",J32,0) -> 0 | AH32: =AF32=AG32 -> TRUE
B33: =IF(ISNUMBER(B32),IF(B32>$F$4,B32-1,"NA"),"NA") -> 2006 | C33: ='1. General information'!$C46 -> 0 | D33: =IF(K33="yes",J33,0)+SUM(F33:G33,M33:T33,V33:Z33) -> 0 | AB33: =D33 -> 0 | AE33: =IF(K33="yes",AB33-J33=SUM(AC33),AB33=SUM(AC33:AD33)) -> TRUE | AF33: =IF(K33="no",J33,0) -> 0 | AH33: =AF33=AG33 -> TRUE
B34: =IF(ISNUMBER(B33),IF(B33>$F$4,B33-1,"NA"),"NA") -> 2005 | C34: ='1. General information'!$C47 -> 0 | D34: =IF(K34="yes",J34,0)+SUM(F34:G34,M34:T34,V34:Z34) -> 0 | AB34: =D34 -> 0 | AE34: =IF(K34="yes",AB34-J34=SUM(AC34),AB34=SUM(AC34:AD34)) -> TRUE | AF34: =IF(K34="no",J34,0) -> 0 | AH34: =AF34=AG34 -> TRUE
B35: =IF(ISNUMBER(B34),IF(B34>$F$4,B34-1,"NA"),"NA") -> 2004 | C35: ='1. General information'!$C48 -> 0 | D35: =IF(K35="yes",J35,0)+SUM(F35:G35,M35:T35,V35:Z35) -> 0 | AB35: =D35 -> 0 | AE35: =IF(K35="yes",AB35-J35=SUM(AC35),AB35=SUM(AC35:AD35)) -> TRUE | AF35: =IF(K35="no",J35,0) -> 0 | AH35: =AF35=AG35 -> TRUE
B36: =IF(ISNUMBER(B35),IF(B35>$F$4,B35-1,"NA"),"NA") -> 2003 | C36: ='1. General information'!$C49 -> 0 | D36: =IF(K36="yes",J36,0)+SUM(F36:G36,M36:T36,V36:Z36) -> 0 | AB36: =D36 -> 0 | AE36: =IF(K36="yes",AB36-J36=SUM(AC36),AB36=SUM(AC36:AD36)) -> TRUE | AF36: =IF(K36="no",J36,0) -> 0 | AH36: =AF36=AG36 -> TRUE
B37: =IF(ISNUMBER(B36),IF(B36>$F$4,B36-1,"NA"),"NA") -> 2002 | C37: ='1. General information'!$C50 -> 0 | D37: =IF(K37="yes",J37,0)+SUM(F37:G37,M37:T37,V37:Z37) -> 0 | AB37: =D37 -> 0 | AE37: =IF(K37="yes",AB37-J37=SUM(AC37),AB37=SUM(AC37:AD37)) -> TRUE | AF37: =IF(K37="no",J37,0) -> 0 | AH37: =AF37=AG37 -> TRUE
B38: =IF(ISNUMBER(B37),IF(B37>$F$4,B37-1,"NA"),"NA") -> 2001 | C38: ='1. General information'!$C51 -> 0 | D38: =IF(K38="yes",J38,0)+SUM(F38:G38,M38:T38,V38:Z38) -> 0 | AB38: =D38 -> 0 | AE38: =IF(K38="yes",AB38-J38=SUM(AC38),AB38=SUM(AC38:AD38)) -> TRUE | AF38: =IF(K38="no",J38,0) -> 0 | AH38: =AF38=AG38 -> TRUE
... B66: =IF(ISNUMBER(B65),IF(B65>$F$4,B65-1,"NA"),"NA") -> 1973 | C66: ='1. General information'!$C79 -> 0 | D66: =IF(K66="yes",J66,0)+SUM(F66:G66,M66:T66,V66:Z66) -> 0 | AB66: =D66 -> 0 | AE66: =IF(K66="yes",AB66-J66=SUM(AC66),AB66=SUM(AC66:AD66)) -> TRUE | AF66: =IF(K66="no",J66,0) -> 0 | AH66: =AF66=AG66 -> TRUE
B67: <1973 | C67: ='1. General information'!$C80 -> 0 | D67: =IF(K67="yes",J67,0)+SUM(F67:G67,M67:T67,V67:Z67) -> 0 | AB67: =D67 -> 0 | AE67: =IF(K67="yes",AB67-J67=SUM(AC67),AB67=SUM(AC67:AD67)) -> TRUE | AF67: =IF(K67="no",J67,0) -> 0 | AH67: =AF67=AG67 -> TRUE
B69: Disinvestment stream book year
D70: Activity ==> | F70: All | J70: All | M70: Transport, grid maintenance, grid planning (T, M, P) | V70: Offshore (TO) | W70: Storage facility (SF) | X70: Any other activity (O) | Y70: Indirect (I) | AB70: Check with audited financial accounts
M71: 1. Lines and towers | N71: 2. Cables | O71: 3. Substations: (including transformers and circuit ends) | P71: 4. Compen-sating devices | Q71: 5. Series compensation | R71: 6. Control centers | S71: 7. Other installations | T71: 8. Grid-related equipment and vehicles | V71: All asset categories | W71: All asset categories | X71: All asset categories | Y71: Main office building | Z71: Any other asset category | AB71: Total disinvestment Incl. capitalized borrowing, land, and planning costs | AC71: Tangible fixed assets from audited financial statements | AD71: Intangible assets (software only) from audited financial statements | AE71: Check: Total disinvestments in investment stream = total disinvestments in audited financial accounts | AF71: Investment contributions if not netted in investments | AG71: Investment contributions from audited financial statements | AH71: Check: Total investments in investment stream = total investments in audited financial statements
B72: Year | C72: Currency | D72: Total disinvestment Incl. capitalized borrowing, land, and planning costs | F72: Capitalized borrowing costs | G72: Capitalized land costs | H72: Capitalized planning costs | J72: Investment contributions | K72: Investment contributions netted in investment stream? (yes/no) | M72: Disinvestment | N72: Disinvestment | O72: Disinvestment | P72: Disinvestment | Q72: Disinvestment | R72: Disinvestment | S72: Disinvestment | T72: Disinvestment | V72: Disinvestment | W72: Disinvestment | X72: Disinvestment | Y72: Disinvestment | Z72: Disinvestment | AB72: Disinvestment | AC72: Disinvestment | AD72: Disinvestment | AE72: True/false | AF72: Investment contributions | AG72: Investment contributions | AH72: True/false
...

Sheet 2b. Spec. used assets
B2: CEER 2018 electricity benchmark financial reporting template: Specification used assets
B4: ='1. General information'!C19 -> 0
B5: ='1. General information'!C20 -> 0
B7: Gross investment stream
C8: Activity ==> | E8: Transport, grid maintenance, grid planning (T, M, P) | I8: Transport, grid maintenance, grid planning (T, M, P) | M8: Transport, grid maintenance, grid planning (T, M, P) | Q8: Transport, grid maintenance, grid planning (T, M, P) | U8: Transport, grid maintenance, grid planning (T, M, P) | Y8: Transport, grid maintenance, grid planning (T, M, P) | AC8: Transport, grid maintenance, grid planning (T, M, P) | AG8: Transport, grid maintenance, grid planning (T, M, P) | AK8: Indirect (I) | AO8: Indirect (I) | AS8: Clarification of remaining lifetime for every investment in used assets
E9: 1. Lines and towers | I9: 2. Cables | M9: 3. Substations: (including transformers and circuit ends) | Q9: 4. Compensating devices | U9: 5. Series compensating | Y9: 6. Control centers | AC9: 7. Other installations | AG9: 8. Grid-related equipment and vehicles | AK9: Main office building | AO9: Any other asset category
B10: Year of acquisition | C10: Currency | E10: Investment in year of acquisition (attributable to assets 1973-2017) | F10: Investment in year of acquisition (attributable to assets < 1973) | G10: Remaining weighted average technical lifetime (in years) in year of acquisition (assets 1973-2017) | I10: Investment in year of acquisition (attributable to assets 1973-2017) | J10: Investment in year of acquisition (attributable to assets < 1973) | K10: Remaining weighted average technical lifetime (in years) in year of acquisition (assets 1973-2017) | M10: Investment in year of acquisition (attributable to assets 1973-2017) | N10: Investment in year of acquisition (attributable to assets < 1973) | O10: Remaining weighted average technical lifetime (in years) in year of acquisition (assets 1973-2017) | Q10: Investment in year of acquisition (attributable to assets 1973-2017) | R10: Investment in year of acquisition (attributable to assets < 1973) | S10: Remaining weighted average technical lifetime (in years) in year of acquisition (assets 1973-2017) | U10: Investment in year of acquisition (attributable to assets 1973-2017) | V10: Investment in year of acquisition (attributable to assets < 1973) | W10: Remaining weighted average technical lifetime (in years) in year of acquisition (assets 1973-2017) | Y10: Investment in year of acquisition (attributable to assets 1973-2017) | Z10: Investment in year of acquisition (attributable to assets < 1973) | AA10: Remaining weighted average technical lifetime (in years) in year of acquisition (assets 1973-2017) | AC10: Investment in year of acquisition (attributable to assets 1973-2017) | AD10: Investment in year of acquisition (attributable to assets < 1973) | AE10: Remaining weighted average technical lifetime (in years) in year of acquisition (assets 1973-2017) | AG10: Investment in year of acquisition (attributable to assets 1973-2017) | AH10: Investment in year of acquisition (attributable to assets < 1973) | AI10: Remaining weighted average technical lifetime (in years) in year of acquisition (assets 1973-2017) | AK10: Investment in year of acquisition (attributable to assets 1973-2017) | AL10: Investment in year of acquisition (attributable to assets < 1973) | AM10: Remaining weighted average technical lifetime (in years) in year of acquisition (assets 1973-2017) | AO10: Investment in year of acquisition (attributable to assets 1973-2017) | AP10: Investment in year of acquisition (attributable to assets < 1973) | AQ10: Remaining weighted average technical lifetime (in years) in year of acquisition (assets 1973-2017)
B11: 2017 | C11: ='1. General information'!$C35 -> 0
B12: =IF(ISNUMBER(B11),IF(B11>$G$4,B11-1,"NA"),"NA") -> 2016 | C12: ='1. General information'!$C36 -> 0
B13: =IF(ISNUMBER(B12),IF(B12>$G$4,B12-1,"NA"),"NA") -> 2015 | C13: ='1. General information'!$C37 -> 0
B14: =IF(ISNUMBER(B13),IF(B13>$G$4,B13-1,"NA"),"NA") -> 2014 | C14: ='1. General information'!$C38 -> 0
B15: =IF(ISNUMBER(B14),IF(B14>$G$4,B14-1,"NA"),"NA") -> 2013 | C15: ='1. General information'!$C39 -> 0
B16: =IF(ISNUMBER(B15),IF(B15>$G$4,B15-1,"NA"),"NA") -> 2012 | C16: ='1. General information'!$C40 -> 0
B17: =IF(ISNUMBER(B16),IF(B16>$G$4,B16-1,"NA"),"NA") -> 2011 | C17: ='1. General information'!$C41 -> 0
B18: =IF(ISNUMBER(B17),IF(B17>$G$4,B17-1,"NA"),"NA") -> 2010 | C18: ='1. General information'!$C42 -> 0
B19: =IF(ISNUMBER(B18),IF(B18>$G$4,B18-1,"NA"),"NA") -> 2009 | C19: ='1. General information'!$C43 -> 0
B20: =IF(ISNUMBER(B19),IF(B19>$G$4,B19-1,"NA"),"NA") -> 2008 | C20: ='1. General information'!$C44 -> 0
B21: =IF(ISNUMBER(B20),IF(B20>$G$4,B20-1,"NA"),"NA") -> 2007 | C21: ='1. General information'!$C45 -> 0
B22: =IF(ISNUMBER(B21),IF(B21>$G$4,B21-1,"NA"),"NA") -> 2006 | C22: ='1. General information'!$C46 -> 0
B23: =IF(ISNUMBER(B22),IF(B22>$G$4,B22-1,"NA"),"NA") -> 2005 | C23: ='1. General information'!$C47 -> 0
... B55: =IF(ISNUMBER(B54),IF(B54>$G$4,B54-1,"NA"),"NA") -> 1973 | C55: ='1. General information'!$C79 -> 0
B56: <1973 | C56: ='1. General information'!$C80 -> 0

Sheet 2c. Spec. rehabilitations
B2: CEER 2018 electricity benchmark financial reporting template: Specification rehabilitations
B4: ='1. General information'!C19 -> 0
B5: ='1. General information'!C20 -> 0
B7: Rehabilitations
B8: ID | C8: Asset category | D8: Commissioning year | E8: Rehabilitation year | F8: Rehabilitation investment
B29: [may add more lines]

Sheet 3. Expenses
B2: CEER 2018 electricity benchmark financial reporting template: Expenses
B4: ='1. General information'!C19 -> 0
B5: ='1. General information'!C20 -> 0
B7: Transport (T) | I7: Specification of 'Other expenses'
C8: 2013 | D8: 2014 | E8: 2015 | F8: 2016 | G8: 2017
B9: Currency | C9: ='1. General information'!$C$39 -> 0 | D9: ='1. General information'!$C$38 -> 0 | E9: ='1. General information'!$C$37 -> 0 | F9: ='1. General information'!$C$36 -> 0 | G9: ='1. General information'!$C$35 -> 0
B10: Personnel
B11: Energy
B12: Landowner compensation, right-of-way and easement fees
B13: Taxes and levies
B14: Grid-related insurance
B15: Control center expenses
B16: Depreciation of grid-related equipment and vehicles
B17: Other expenses
B18: Total expenses | C18: =SUM(C10:C17) -> 0 | D18: =SUM(D10:D17) -> 0 | E18: =SUM(E10:E17) -> 0 | F18: =SUM(F10:F17) -> 0 | G18: =SUM(G10:G17) -> 0
B20: Grid maintenance (M) | I20: Specification of 'Other expenses'
C21: 2013 | D21: 2014 | E21: 2015 | F21: 2016 | G21: 2017
B22: Currency | C22: ='1. General information'!$C$39 -> 0 | D22: ='1. General information'!$C$38 -> 0 | E22: ='1. General information'!$C$37 -> 0 | F22: ='1. General information'!$C$36 -> 0 | G22: ='1. General information'!$C$35 -> 0
B23: Personnel
B24: Other expenses
B25: Total expenses | C25: =SUM(C23:C24) -> 0 | D25: =SUM(D23:D24) -> 0 | E25: =SUM(E23:E24) -> 0 | F25: =SUM(F23:F24) -> 0 | G25: =SUM(G23:G24) -> 0
B27: Grid planning (P) | I27: Specification of 'Other expenses'
C28: 2013 | D28: 2014 | E28: 2015 | F28: 2016 | G28: 2017
B29: Currency | C29: ='1. General information'!$C$39 -> 0 | D29: ='1. General information'!$C$38 -> 0 | E29: ='1. General information'!$C$37 -> 0 | F29: ='1. General information'!$C$36 -> 0 | G29: ='1. General information'!$C$35 -> 0
B30: Personnel
B31: Landowner compensation, right-of-way and easement fees
B32: Taxes and levies
B33: Research and development
B34: Other expenses
B35: Total expenses | C35: =SUM(C30:C34) -> 0 | D35: =SUM(D30:D34) -> 0 | E35: =SUM(E30:E34) -> 0 | F35: =SUM(F30:F34) -> 0 | G35: =SUM(G30:G34) -> 0
B37: System operations (S) | I37: Specification of 'Other expenses'
C38: 2013 | D38: 2014 | E38: 2015 | F38: 2016 | G38: 2017
B39: Currency | C39: ='1. General information'!$C$39 -> 0 | D39: ='1. General information'!$C$38 -> 0 | E39: ='1. General information'!$C$37 -> 0 | F39: ='1. General information'!$C$36 -> 0 | G39: ='1. General information'!$C$35 -> 0
B40: Personnel
B41: Energy
B42: Other expenses
B43: Total expenses | C43: =SUM(C40:C42) -> 0 | D43: =SUM(D40:D42) -> 0 | E43: =SUM(E40:E42) -> 0 | F43: =SUM(F40:F42) -> 0 | G43: =SUM(G40:G42) -> 0
B45: Market facilitation (X) | I45: Specification of 'Other expenses'
C46: 2013 | D46: 2014 | E46: 2015 | F46: 2016 | G46: 2017
B47: Currency | C47: ='1. General information'!$C$39 -> 0 | D47: ='1. General information'!$C$38 -> 0 | E47: ='1. General information'!$C$37 -> 0 | F47: ='1. General information'!$C$36 -> 0 | G47: ='1. General information'!$C$35 -> 0
...

Sheet 4. P&L
B2: CEER 2018 electricity benchmark financial reporting template: P&L
B4: ='1. General information'!C19 -> 0
B5: ='1. General information'!C20 -> 0
B7: Profit & Loss
B8: (year totals) | C8: 2013 | D8: 2014 | E8: 2015 | F8: 2016 | G8: 2017
B9: Currency | C9: ='1. General information'!$C$39 -> 0 | D9: ='1. General information'!$C$38 -> 0 | E9: ='1. General information'!$C$37 -> 0 | F9: ='1. General information'!$C$36 -> 0 | G9: ='1. General information'!$C$35 -> 0
B10: Revenue from third parties for assets with a usage share >0% and <100% (T-activity)
B11: Revenue from third parties regarding pass-through expenses (T-M-P-activity)
B12: Revenue from third parties regarding pass-through expenses (X-activity)
B13: Revenue from third parties regarding insurance claims (T-M-P activity)
B14: Revenue regarding capitalized labour (T-M-P activity)
B15: Any other revenue (e.g revenue from regulated tariffs, pass-through expenses O-activity)
B16: Total revenue | C16: =SUM(C10:C15) -> 0 | D16: =SUM(D10:D15) -> 0 | E16: =SUM(E10:E15) -> 0 | F16: =SUM(F10:F15) -> 0 | G16: =SUM(G10:G15) -> 0
B18: Expenses excluding A, B, C, and D below
B19: A. Depreciation, impairment and amortisation of assets
B20: B. Finance income and expenses (interest)
B21: C.Taxes on declared annual profits
B22: D. Extraordinary expense and income
B23: Profit and loss according to annual account | C23: =C16-SUM(C18:C22) -> 0 | D23: =D16-SUM(D18:D22) -> 0 | E23: =E16-SUM(E18:E22) -> 0 | F23: =F16-SUM(F18:F22) -> 0 | G23: =G16-SUM(G18:G22) -> 0
B25: Depreciation of grid-related equipment and vehicles
B26: Depreciation of non-grid-related telecommunications, equipment and vehicles
B28: Expenses attributable to activities | C28: =C18+SUM(C25:C26) -> 0 | D28: =D18+SUM(D25:D26) -> 0 | E28: =E18+SUM(E25:E26) -> 0 | F28: =F18+SUM(F25:F26) -> 0 | G28: =G18+SUM(G25:G26) -> 0
B29: Total expenses in activities | C29: ='3. Expenses'!C18+'3. Expenses'!C25+'3. Expenses'!C35+'3. Expenses'!C43+'3. Expenses'!C51+'3. Expenses'!C64+'3. Expenses'!C74+'3. Expenses'!C96+'3. Expenses'!C85 -> 0 | D29: ='3. Expenses'!D18+'3. Expenses'!D25+'3. Expenses'!D35+'3. Expenses'!D43+'3. Expenses'!D51+'3. Expenses'!D64+'3. Expenses'!D74+'3. Expenses'!D96+'3. Expenses'!D85 -> 0 | E29: ='3. Expenses'!E18+'3. Expenses'!E25+'3. Expenses'!E35+'3. Expenses'!E43+'3. Expenses'!E51+'3. Expenses'!E64+'3. Expenses'!E74+'3. Expenses'!E96+'3. Expenses'!E85 -> 0 | F29: ='3. Expenses'!F18+'3. Expenses'!F25+'3. Expenses'!F35+'3. Expenses'!F43+'3. Expenses'!F51+'3. Expenses'!F64+'3. Expenses'!F74+'3. Expenses'!F96+'3. Expenses'!F85 -> 0 | G29: ='3. Expenses'!G18+'3. Expenses'!G25+'3. Expenses'!G35+'3. Expenses'!G43+'3. Expenses'!G51+'3. Expenses'!G64+'3. Expenses'!G74+'3. Expenses'!G96+'3. Expenses'!G85 -> 0
B31: Check: operating expense attributable to activities = total expenses in activities | C31: =C28=C29 -> TRUE | D31: =D28=D29 -> TRUE | E31: =E28=E29 -> TRUE | F31: =F28=F29 -> TRUE | G31: =G28=G29 -> TRUE

Sheet 5. Spec. personnel
B2: CEER 2018 electricity benchmark financial reporting template: Specification personnel
B4: ='1. General information'!C19 -> 0
B5: ='1. General information'!C20 -> 0
B7: All activities
C8: 2013 | D8: 2014 | E8: 2015 | F8: 2016 | G8: 2017
B9: Payroll TSO (average # FTEs)
B10: Payroll group company and carrying out activities for the TSO (average # FTEs)
B11: Temporary personnel carrying out activities for the TSO (average # FTEs)
B12: Minus: Capitalized personnel (average # FTEs)
B13: Total average # FTEs | C13: =SUM(C9:C11)-C12 -> 0 | D13: =SUM(D9:D11)-D12 -> 0 | E13: =SUM(E9:E11)-E12 -> 0 | F13: =SUM(F9:F11)-F12 -> 0 | G13: =SUM(G9:G11)-G12 -> 0
B15: Transport (T)
C16: 2013 | D16: 2014 | E16: 2015 | F16: 2016 | G16: 2017
B17: Currency | C17: 0 | D17: 0 | E17: 0 | F17: 0 | G17: 0
B18: Payroll TSO
B19: Payroll group company
B20: Temporary personnel
B21: Minus: Capitalized personnel expenses
B22: Total non-capitalized personnel expenses | C22: =SUM(C18:C20)-C21 -> 0 | D22: =SUM(D18:D20)-D21 -> 0 | E22: =SUM(E18:E20)-E21 -> 0 | F22: =SUM(F18:F20)-F21 -> 0 | G22: =SUM(G18:G20)-G21 -> 0
B23: Check: non-capitalized personnel expense = personnel expense | C23: =C22='3. Expenses'!C10 -> TRUE | D23: =D22='3. Expenses'!D10 -> TRUE | E23: =E22='3. Expenses'!E10 -> TRUE | F23: =F22='3. Expenses'!F10 -> TRUE | G23: =G22='3. Expenses'!G10 -> TRUE
B25: Grid maintenance (M)
C26: 2013 | D26: 2014 | E26: 2015 | F26: 2016 | G26: 2017
B27: Currency | C27: 0 | D27: 0 | E27: 0 | F27: 0 | G27: 0
B28: Payroll TSO
B29: Payroll group company
B30: Temporary personnel
B31: Minus: Capitalized personnel expenses
B32: Total non-capitalized personnel expenses | C32: =SUM(C28:C30)-C31 -> 0 | D32: =SUM(D28:D30)-D31 -> 0 | E32: =SUM(E28:E30)-E31 -> 0 | F32: =SUM(F28:F30)-F31 -> 0 | G32: =SUM(G28:G30)-G31 -> 0
B33: Check: non-capitalized personnel expense = personnel expense | C33: =C32='3. Expenses'!C23 -> TRUE | D33: =D32='3. Expenses'!D23 -> TRUE | E33: =E32='3. Expenses'!E23 -> TRUE | F33: =F32='3. Expenses'!F23 -> TRUE | G33: =G32='3. Expenses'!G23 -> TRUE
B35: Grid planning (P)
C36: 2013 | D36: 2014 | E36: 2015 | F36: 2016 | G36: 2017
B37: Currency | C37: 0 | D37: 0 | E37: 0 | F37: 0 | G37: 0
B38: Payroll TSO
B39: Payroll group company
B40: Temporary personnel
B41: Minus: Capitalized personnel expenses
B42: Total non-capitalized personnel expenses | C42: =SUM(C38:C40)-C41 -> 0 | D42: =SUM(D38:D40)-D41 -> 0 | E42: =SUM(E38:E40)-E41 -> 0 | F42: =SUM(F38:F40)-F41 -> 0 | G42: =SUM(G38:G40)-G41 -> 0
B43: Check: non-capitalized personnel expense = personnel expense | C43: =C42='3. Expenses'!C30 -> TRUE | D43: =D42='3. Expenses'!D30 -> TRUE | E43: =E42='3. Expenses'!E30 -> TRUE | F43: =F42='3. Expenses'!F30 -> TRUE | G43: =G42='3. Expenses'!G30 -> TRUE
B45: System operation (S)
C46: 2013 | D46: 2014 | E46: 2015 | F46: 2016 | G46: 2017
B47: Currency | C47: 0 | D47: 0 | E47: 0 | F47: 0 | G47: 0
...

Sheet Remarks
B2: CEER 2018 electricity benchmark financial reporting template: Remarks
C4: Remarks
B5: 2a. (Dis)investment stream
B6: 2b. Specification used assets
B7: 2c. Specification rehabilitations
B8: 2c Rehabilitation policy | C8: Please specify: a) whether the 25% limit is a problem for you, because you do not reach the 25% in one year but in 2-5 years b) your rehabilitation policy
B9: 3. Expenses
B10: 4. P&L
B11: 5. Specification personnel
