Workbook

Sheet schoenen per functiegroep
B1: Functiegroepen
B2: Coördinatie groenuitvoering | C2: Bomenploeg | D2: Groenuitvoering | E2: Tractieploeg | F2: bijzondere taken/ speelvoorziening | G2: Begraafplaats | H2: sport | I2: ts | J2: Parkeerbeheer | K2: ts loket | L2: beheer
A4: Schoeisel
A5: Veiligheidsschoen hoog (S3) - zwart | B5: x | D5: x | E5: x | F5: x | G5: x | H5: x | I5: x | J5: x | L5: x
A6: Veiligheidsschoen laag (S3) - zwart | B6: x | D6: x | E6: x | F6: x | G6: x | H6: x | I6: x | J6: x | L6: x
A7: Veiligheidsschoen instapper s3 | C7: x | I7: x | J7: x | L7: x
A8: Zaagschoen Meindl Airstream GORE-TEX® SB | D8: x | E8: x | F8: x | G8: x | H8: x
A9: Zaagschoen (klasse 2) - zwart | D9: x | E9: x | F9: x | G9: x | H9: x
A10: Veiligheidsklomp (S3) - zwart | D10: x | E10: x | F10: x | G10: x | H10: x | I10: x
A11: Veiligheidslaars (S5) - zwart | I11: x
A12: Uniform luxe schoenen S3 | H12: x | J12: x
A13: Sneakers S3 | B13: x | C13: x "Uitvoerder" | I13: x | K13: x | L13: x

Sheet schoenen
A1: Huidig artikelnummer | B1: Artikel | C1: Productomschrijving | D1: Normering | E1: Materiaal/eigenschappen | F1: Kleur | G1: Merk | H1: Afbeelding
A2: 30.23113.15 | B2: BOSBOUWSCH MEINDL AIRSTR. S2 | C2: Deze hoge zaagschoen heeft een buitenmateriaal van leder en een waterdichte Gore-tex voering met 30% betere doorademing dankzij het Air Revolution systeem. De zaagschoen heeft veiligheidsklasse S2 en kettingzaagklasse 1. De zaagschoen is voorzien van een stalen neus en heeft een loopzool van Vibram met een verhoogde rubberen zoolrand en 6mm profieldiepte. Dankzij het Digafix snelsnoersysteem kunnen de boven- en onderhelft van de zaagschoen op hun eigen aansnoeringskracht worden gezet. Tevens beschikt de bosbouwschoen over het innovatieve Memory Foam systeem waarbij de schoen perfect naar de voet gaat staan door middel van lichaamswarmte. De MEINDL AIRSTREAM S2 heeft een uitneembaar Air-Active voetbed en is leverbaar in het zwart/rood van maat 37 tot en met 48. | D2: S2 | E2: Leder/Rubber | F2: Zwart/Rood | G2: Meindl
A3: 30.09000.10 | B3: BOSBOUWSCHOEN ARBORIST S3 | C3: Zeer comfortabele, hoog model zaagschoen van Duitse erkende topkwaliteit, vervaardigt uit waterproof rundleder en voorzien van een grof geprofileerde loopzool van twee dichtheden PU. De loopzool is SRC gecertificeerd, waardoor deze slipvastheid biedt. Deze rundlederen zaagschoen is voorzien van een waterdichte binnenvoering van Gore-tex, aangespoten PU kruipneus, een gepolsterde watertong en reflectiemateriaal. De S3 veiligheidsschoen heeft een stalen neus en een stalen tussenzool. De zaagschoen heeft kettingzaagklasse 2 en de CI certificering maakt de schoen geschikt om te dragen bij lage tot zeer lage temperaturen. Tevens bevat de S3 schoen een anatomisch voorgevormd voetbed voorzien van hiel- en balondersteuning voor optimale stabiliteitscontrole. De hoge rundlederen ELTEN ARBORIST S3 heeft een uitneembare inlegzool en is leverbaar in het zwart in de maten 40 tot en met 47. | D3: S3 | E3: Rundleder | F3: Zwart | G3: Elten
A4: 30.23076.10 | B4: BOSBOUWSCHOEN FORCE S3 | C4: Deze hoge zaagschoen van het merk COFRA, dat zeer innovatief en vooruitlopend in de verwerking van nieuwe technologieën is, heeft waterafstotend leder als buitenmateriaal. De zaagschoen heeft een synthetische voering van polyamide die ademend, vochtabsorberend en slijtvast is. De loopzool van de COFRA FORCE S3 is vervaardigd uit nitrilrubber en heeft een energieabsorberende hiel. De loopzool is zowel HRO als SRC gecertificeerd, waardoor deze bestand is tegen een contactwarmte tot 300°C en slipvastheid biedt. De schoen is goedgekeurd voor veiligheidsklasse S3 en kettingzaagklasse 1 en is uitgerust met neusbescherming van staal en een ondoordringbare tussenzool van kunststof. De zaagschoen heeft een uitneembaar SOFT-BED voetbed, vervaardigt uit PU, dat anatomisch gevormd, antistatisch en vochtabsorberend is en daarnaast thermische isolatie biedt. De zaagschoen is tevens bestand tegen olie en brandstof. Deze hoog model zaagschoen is leverbaar in het zwart in de maten 39 tot en met 48. | D4: S3 | E4: Leder | F4: Zwart | G4: Cofra
A5: 30.23009.10 | B5: BOSBOUWSCHOEN POWER S3 | C5: Deze hoge zaagschoen van het merk COFRA, dat zeer innovatief en vooruitlopend in de verwerking van nieuwe technologieën is, heeft waterafstotend volnerf leder als buitenmateriaal. De zaagschoen heeft een synthetische voering van polyamide die ademend, vochtabsorberend en slijtvast is. De loopzool van de COFRA POWER S3 is vervaardigd uit nitrilrubber en heeft een energieabsorberende hiel. De loopzool is zowel HRO als SRC gecertificeerd, waardoor deze bestand is tegen een contactwarmte tot 300°C en slipvastheid biedt. De schoen is goedgekeurd voor veiligheidsklasse S3 en kettingzaagklasse 2 en is uitgerust met neusbescherming van staal en een ondoordringbare tussenzool van kunststof. De zaagschoen heeft een uitneembaar SOFT-BED voetbed, vervaardigt uit PU, dat anatomisch gevormd, antistatisch en vochtabsorberend is en daarnaast thermische isolatie biedt. De zaagschoen is tevens bestand tegen olie en brandstof. Deze hoog model zaagschoen, die zeer comfortabel is en tegelijkertijd maximale stabiliteit biedt, is leverbaar in het zwart in de maten 39 tot en met 48. | D5: S3 | E5: Volnerf leder | F5: Zwart | G5: Cofra
A6: 30.02191.10 | B6: VEILIGHEIDSINSTAPPER ACT144 S2 W | C6: Veiligheidsinstapper van volnerf leder met een lederen voering. De S2 veiligheidsinstapper is voorzien van een stalen neus en heeft een loopzool van twee dichtheden PU met SRC classificatie die garant staat voor slipvastheid. De laag model BATA ACT144 S2 W heeft een uitneembaar voetbed en is leverbaar in het zwart van maat 37 tot en met 48. | D6: S2 | E6: Volnerf leder | F6: Zwart | G6: Bata
A7: 30.23027.10 | B7: VEILIGHEIDSINSTAPPER COFRA S2 | C7: Deze lage veiligheidsinstapper van het merk COFRA, dat zeer innovatief en vooruitlopend in de verwerking van nieuwe technologieën is, heeft waterafstotend en ademend NEWTECH microvezel als buitenmateriaal. De veiligheidsinstapper heeft een SANY-DRY voering van polyamide die ademend, antibacterieel, vochtabsorberend en slijtvast is. De loopzool van de COFRA ITACA S2 is vervaardigd uit PU en is SRC gecertificeerd, waardoor deze slipvastheid biedt. De schoen is goedgekeurd voor veiligheidsklasse S2 en is uitgerust met neusbescherming van staal. De veiligheidsinstapper heeft een uitneembaar POLY-BED voetbed dat antistatisch en vochtabsorberend is en daarnaast een antibacteriële toplaag van SANY-DRY textiel heeft. Deze laag model veiligheidsinstapper met comfortabele instap door de verstelbare klittenbandsluiting is leverbaar in het zwart in de maten 39 tot en met 47. | D7: S2 | E7: Microvezel | F7: Zwart | G7: Cofra
A8: 30.34033.10 | B8: VEILIGHEIDSKLOMP SIKA 101 S3 | C8: Deze veiligheidsklomp SIKA 101 is vervaardigd uit volnerf lederen en heeft lederen binnen voering van Cambrelle. Volnerfleder is een met aniline kleurstoffen gebeitst leer waardoor het leer weliswaar wat egaler van kleur, maar blijft haar .Het is glad leder met open poriën zonder een pigment laag (kleurlaag) op. De veiligheidsklompen voldoen aan de EN 12568:2010.Dit houdt in eisen en beproevingsmethoden voor beschermneuzen en metalen ondoordringbare tussenzolen. Het is een S3 laag veiligheidsklomp met dichte hiel die voorzien is van een stalen neus, houten binnenzool, loopzool van PU-materiaal ,schokdemping en antislip profiel. Tevens bevat de SIKA 101 S3 veiligheidsklomp 3M reflectoren voor extra veiligheid tijdens werkzaamheden in het donker. Deze lederen veiligheidsklomp, die tevens antistatisch is, heeft een uitneembaar voetbed en is leverbaar in het zwart van maat 39 tot en met 48. | D8: EN ISO 20345:2011, EN 12568:2011 | E8: volnerf leder | F8: Zwart | G8: Allshoes
A9: 30.10002.10 | B9: VEILIGHEIDSKLOMP ZWEEDS MODEL S3 met kruipneus | C9: Robuuste veiligheidsklomp met een overneus die voorzien is van een lederen buitenmateriaal en tevens een lederen voering heeft. De veiligheidsklomp heeft veiligheidsklasse S3 en is voorzien van een stalen neus en een stalen tussenzool. De loopzool van de ARO 335 ZWEEDS MODEL S3 KN klomp is gemaakt van PU en is schokabsorberend. Deze veiligheidsklomp is leverbaar in het zwart van maat 36 tot en met 48. | D9: S3 | E9: Leder | F9: Zwart | G9: Aro
A10: 30.23045.40 | B10: VEILIGHEIDSLAARS HUNTER S5 | C10: Deze veiligheidslaars van het merk COFRA, dat zeer innovatief en vooruitlopend in de verwerking van nieuwe technologieën is, heeft PU als buitenmateriaal en is waterdicht. De veiligheidslaars heeft een slijtvaste voering van polyester. De loopzool van de COFRA HUNTER S5 is vervaardigd uit PU en is SRC gecertificeerd, waardoor deze slipvastheid biedt. De laars biedt CI gecertificeerde isolatie tegen temperaturen tot -25°C dankzij het isolerende PU dat is gebruikt voor de schacht en de zool. De laars is goedgekeurd voor veiligheidsklasse S5 en is uitgerust met neusbescherming van staal en een ondoordringbare tussenzool van roestvrij staal. De veiligheidslaars heeft een uitneembaar POLY-BED voetbed dat antistatisch en vochtabsorberend is en daarnaast een antibacteriële toplaag van SANY-DRY textiel heeft. Deze veiligheidslaars met zeer comfortabel voetbed is leverbaar in het groen in de maten 36 tot en met 48. | D10: S5 | E10: PU | F10: Groen | G10: Cofra
A11: 30.07015.40 | B11: VEILIGHEIDSLAARS PUROFORT + S5 | C11: Deze veiligheidslaars is vervaardigd uit PU en heeft een binnenvoering van nylon. De DUNLOP PUROFORT+ S5 heeft een loopzool van PU die SRC geclassificeerde slipvastheid biedt. De veiligheidslaars heeft veiligheidsklasse S5 en is voorzien van een stalen neus en stalen tussenzool. Deze veiligheidslaars biedt thermische isolatie tot -20°C en is daarnaast antistatisch, waterdicht en bestand tegen mineralen, oliën, vetten, desinfectiemiddelen en chemicaliën. De veiligheidslaars, die tevens voorzien is van een schokabsorberende hak, heeft een uitneembaar voetbed en is leverbaar in het groen in de maten 36 tot en met 50. | D11: S5 | E11: PU | F11: Groen | G11: Dunlop
A12: 30.02081.10 | B12: VEILIGHEIDSSCHOEN ACT113 S2 W | C12: Veiligheidsschoen voor heren van volnerf leder met een Bata Cool Comfort voering. De lage S2 veiligheidsschoen is voorzien van een stalen neus en heeft een loopzool van twee dichtheden PU met SRC classificatie die de schoen antistatisch en slipvast maakt. De laag model BATA ACT113 S2 heeft een uitneembaar voetbed en is leverbaar in het zwart van maat 37 tot en met 48. | D12: S2 | E12: Volnerf leder | F12: Zwart | G12: Bata
A13: 30.02131.10 | B13: VEILIGHEIDSSCHOEN ACT115 S3 met kruipneus | C13: Veiligheidsschoen voor heren van volnerf leder met een Bata Cool Comfort voering. De lage S3 veiligheidsschoen heeft zowel een stalen neus als een stalen tussenzool. De veiligheidsschoen heeft een loopzool van twee dichtheden PU met SRC classificatie die de schoen antistatisch en slipvast maakt. De laag model BATA ACT115 S3 KN W heeft een uitneembaar voetbed en is leverbaar in het zwart van maat 38 tot en met 48. | D13: S3 | E13: Volnerf leder | F13: Zwart | G13: Bata
... A44: 30.09089.10 | B44: VLGH.SCHOEN VINTAGE LAAG S3 | C44: Laag model, lichtgewicht veiligheidssneaker van Duitse erkende topkwaliteit, vervaardigt uit waxy rundleder in vintage design en voorzien van een loopzool van PU en TPU. Het gebruikte leder is milieuvriendelijk geproduceerd volgens hoge sociale en economische normen om het uitstoten van CO2 te reduceren. De loopzool is SRC gecertificeerd, waardoor deze slipvastheid biedt. Deze rundlederen schoen is voorzien van een Bioactive binnenvoering van textiel die zilver ionen bevat, wat een antimicrobiële werking heeft. De S3 veiligheidssneaker heeft een stalen neus, een kunststof tussenzool en een gepolsterde tong. Het is een ESD veiligheidssneaker die een zeer lage elektrische weerstand garandeert. Tevens bevat de S3 schoen een anatomisch voorgevormd voetbed voorzien van hiel- en balondersteuning voor optimale stabiliteitscontrole. De lage rundlederen ELTEN VINTAGE LG S3 heeft een uitneembare inlegzool en is leverbaar in het zwart in de maten 37 tot en met 47. | D44: S3 | E44: Rundleder | F44: Grijs | G44: Elten

Sheet afname
A1: Afname
A3: Som van Aantal
A4: Artikelnummer | B4: Artikelomschrijving | C4: maat | D4: Merk | E4: Totaal
A5: 30.23113.15.430 | B5: BOSBOUWSCH MEINDL AIRSTR. S2 43 | C5: 43 | D5: Meindl | E5: 1
A6: 30.23113.15.450 | B6: BOSBOUWSCH MEINDL AIRSTR. S2 45 | C6: 45 | D6: Meindl | E6: 3
A7: 30.23113.15.500 | B7: BOSBOUWSCH MEINDL AIRSTR. S2 50 | C7: 50 | D7: Meindl | E7: 1
A8: 30.09000.10.410 | B8: BOSBOUWSCH. ARBORIST S3 41 | C8: 41 | D8: Cofra | E8: 1
A9: 30.23076.10.470 | B9: BOSBOUWSCHOEN FORCE S3 47 | C9: 47 | D9: Cofra | E9: 1
A10: 30.23009.10.430 | B10: BOSBOUWSCHOEN POWER S3 43 | C10: 43 | D10: Cofra | E10: 1
A11: 30.02191.10.450 | B11: VLGH.INSTAPPER ACT144 S3 W 45 | C11: 45 | D11: Bata | E11: 1
A12: 30.23027.10.420 | B12: VLGH.INSTAPPER COFRA S2 42 | C12: 42 | D12: Cofra | E12: 2
A13: 30.23027.10.440 | B13: VLGH.INSTAPPER COFRA S2 44 | C13: 44 | D13: Cofra | E13: 2
A14: 30.23027.10.450 | B14: VLGH.INSTAPPER COFRA S2 45 | C14: 45 | D14: Cofra | E14: 1
A15: 30.34033.10.470 | B15: VLGH.KLOMP SIKA 101 S3 ZW 47 | C15: 47 | D15: Sika | E15: 1
A16: 30.34043.10.450 | B16: VLGH.KLOMP SIKA 29 S3 ZW 45 | C16: 45 | D16: Sika | E16: 1
... A76: 30.02814.10.440 | B76: VLGH.SCHOEN TRAXX 218 S3 44 | C76: 44 | D76: Bata | E76: 1
A77: Eindtotaal | E77: 96

Sheet Prijzenblad perceel 2
A1: Prijzenblad perceel 2
A3: Inschrijver dient ALLEEN de blauwe cellen in te vullen.
A4: NB: aan de opgegeven aantallen kunnen rechten worden ontleend.
A6: Standaard assortiment | E6: minimale veiligheidsklasse | I6: in te vullen door Inschrijver | M6: prijsstelling
A7: huidig artikel nummer (zie schoenen) | B7: Naam/type (omschrijving) | C7: minimale maatboog | D7: huidig merk | E7: S2 | F7: S3 | G7: S5 | M7: Prijs per stuk excl btw | N7: Prijs excl. BTW | O7: Prijs incl. BTW
H8: aantal | I8: uw model/merk | J8: veiligheidsklasse | K8: uw art.nummer | L8: maatboog
A9: 30.23113.15 | B9: BOSBOUWSCH MEINDL AIRSTR. | C9: 37-48 | D9: Meindl | E9: x | H9: 5 | M9: 0 | N9: =SUM(H9)*M9 -> 0 | O9: =N9*1.21 -> 0
A10: 30.09000.10 | B10: BOSBOUWSCH. ARBORIST | C10: 40-47 | D10: Cofra | F10: x | H10: 1 | M10: 0 | N10: =SUM(H10)*M10 -> 0 | O10: =N10*1.21 -> 0
A11: 30.23076.10 | B11: BOSBOUWSCHOEN FORCE | C11: 39-48 | D11: Cofra | F11: x | H11: 1 | M11: 0 | N11: =SUM(H11)*M11 -> 0 | O11: =N11*1.21 -> 0
A12: 30.23009.10 | B12: BOSBOUWSCHOEN POWER | C12: 39-48 | D12: Cofra | F12: x | H12: 1 | M12: 0 | N12: =SUM(H12)*M12 -> 0 | O12: =N12*1.21 -> 0
A13: 30.02191.10 | B13: VLGH.INSTAPPER ACT144 | C13: 37-48 | D13: Bata | F13: x | H13: 1 | M13: 0 | N13: =SUM(H13)*M13 -> 0 | O13: =N13*1.21 -> 0
A14: 30.23027.10 | B14: VLGH.INSTAPPER COFRA | C14: 39-47 | D14: Cofra | E14: x | H14: 2 | M14: 0 | N14: =SUM(H14)*M14 -> 0 | O14: =N14*1.21 -> 0
A15: 30.34033.10 | B15: VLGH.KLOMP SIKA 101 | C15: 39-48 | D15: Sika | F15: x | H15: 2 | M15: 0 | N15: =SUM(H15)*M15 -> 0 | O15: =N15*1.21 -> 0
A16: 30.10002.10 | B16: VLGH.KLOMP ZW.MOD KN | C16: 36-48 | D16: Luprilex | F16: x | H16: 1 | M16: 0 | N16: =SUM(H16)*M16 -> 0 | O16: =N16*1.21 -> 0
A17: 30.01055.71 | B17: VLGH.LAARS AQUA WINTER | C17: 36-48 | D17: Luprilex | F17: x | H17: 1 | M17: 0 | N17: =SUM(H17)*M17 -> 0 | O17: =N17*1.21 -> 0
A18: 30.34000.10 | B18: VLGH.SCHOEN GRISPORT 771 LAAG | C18: 39-47 | D18: Grisport | F18: x | H18: 1 | M18: 0 | N18: =SUM(H18)*M18 -> 0 | O18: =N18*1.21 -> 0
A19: 30.34022.71 | B19: VLGH.LAARS GRISPORT 70249 | C19: 43-47 | D19: Grisport | F19: x | H19: 4 | M19: 0 | N19: =SUM(H19)*M19 -> 0 | O19: =N19*1.21 -> 0
A20: 30.23045.40 | B20: VLGH.LAARS HUNTER | C20: 36-48 | D20: Cofra | G20: x | H20: 2 | M20: 0 | N20: =SUM(H20)*M20 -> 0 | O20: =N20*1.21 -> 0
A21: 30.02131.10 | B21: VLGH.SCHOEN ACT115 KN | C21: 38-48 | D21: Bata | F21: x | H21: 8 | M21: 0 | N21: =SUM(H21)*M21 -> 0 | O21: =N21*1.21 -> 0
A22: 30.01058.10 | B22: VLGH.SCHOEN ALLR. AQUA HG | C22: 36-47 | D22: Luprilex | F22: x | H22: 10 | M22: 0 | N22: =SUM(H22)*M22 -> 0 | O22: =N22*1.21 -> 0
A23: 30.01059.10 | B23: VLGH.SCHOEN ALLR. AQUA LG | C23: 36-47 | D23: Luprilex | F23: x | H23: 1 | M23: 0 | N23: =SUM(H23)*M23 -> 0 | O23: =N23*1.21 -> 0
A24: 30.01038.10 | B24: VLGH.SCHOEN AQUA VIBRAM KN | C24: 39-48 | D24: Luprilex | F24: x | H24: 1 | M24: 0 | N24: =SUM(H24)*M24 -> 0 | O24: =N24*1.21 -> 0
A25: 30.03818.10 | B25: VLGH.SCHOEN RUFFNECK | C25: 39-48 | D25: Emma | F25: x | H25: 1 | M25: 0 | N25: =SUM(H25)*M25 -> 0 | O25: =N25*1.21 -> 0
A26: 30.03819.10 | B26: VLGH.SCHOEN CLAY | C26: 39-48 | D26: Emma | F26: x | H26: 4 | M26: 0 | N26: =SUM(H26)*M26 -> 0 | O26: =N26*1.21 -> 0
A27: 30.34041.10 | B27: VLGH.SCHOEN GRISPORT 70416C HG | C27: 39-48 | D27: Grisport | F27: x | H27: 1 | M27: 0 | N27: =SUM(H27)*M27 -> 0 | O27: =N27*1.21 -> 0
A28: 30.34001.10 | B28: VLGH.SCHOEN GRISPORT 803 | C28: 39-47 | D28: Grisport | F28: x | H28: 6 | M28: 0 | N28: =SUM(H28)*M28 -> 0 | O28: =N28*1.21 -> 0
A29: 30.03330.10 | B29: VLGH.SCHOEN LEO KN | C29: 35-48 | D29: Emma | F29: x | H29: 1 | M29: 0 | N29: =SUM(H29)*M29 -> 0 | O29: =N29*1.21 -> 0
A30: 30.03340.10 | B30: VLGH.SCHOEN LUKAS KN | C30: 35-48 | D30: Emma | F30: x | H30: 2 | M30: 0 | N30: =SUM(H30)*M30 -> 0 | O30: =N30*1.21 -> 0
A31: 30.03343.10 | B31: VLGH.SCHOEN LUKAS | C31: 38-47 | D31: Emma | F31: x | H31: 1 | M31: 0 | N31: =SUM(H31)*M31 -> 0 | O31: =N31*1.21 -> 0
A32: 30.23085.10 | B32: VLGH.SCHOEN MODIGLIANI | C32: 39-47 | D32: Cofra | F32: x | H32: 2 | M32: 0 | N32: =SUM(H32)*M32 -> 0 | O32: =N32*1.21 -> 0
... A47: 30.02814.10 | B47: VLGH.SCHOEN TRAXX 218 | C47: 36-48 | D47: Bata | F47: x | H47: 1 | M47: 0 | N47: =SUM(H47)*M47 -> 0 | O47: =N47*1.21 -> 0
N48: =SUM(H48)*M48 -> 0 | O48: =N48*1.21 -> 0
N49: =SUM(N9:N48) -> 0 | O49: =SUM(O9:O48) -> 0
A53: korting overige artikelen op de bruto prijslijst | D53: kortingspercentage
A55: schoenen | D55: 0
A56: laarzen | D56: 0
A57: klompen | D57: 0
A58: overige artikelen | D58: 0

Sheet Totalisatie
A1: Totalisatie Perceel 2
D2: bedrag excl BTW | E2: bedrag incl. BTW
A3: Aanschaf schoenen standaard | D3: ='Prijzenblad perceel 2'!N49 -> 0 | E3: ='Prijzenblad perceel 2'!O49 -> 0
A5: korting spercentages op bruto prijslijst | B5: brutobedrag fictive afname | C5: kortings percentage | D5: excl. Btw | E5: incl. Btw
A6: schoenen | B6: 750 | C6: ='Prijzenblad perceel 2'!D55 -> 0 | D6: =SUM(B6)-(B6*C6) -> 750 | E6: =D6*1.21 -> 907.5
A7: laarzen | B7: 750 | C7: ='Prijzenblad perceel 2'!D56 -> 0 | D7: =SUM(B7)-(B7*C7) -> 750 | E7: =D7*1.21 -> 907.5
A8: klompen | B8: 500 | C8: ='Prijzenblad perceel 2'!D57 -> 0 | D8: =SUM(B8)-(B8*C8) -> 500 | E8: =D8*1.21 -> 605
A9: overige artikelen | B9: 500 | C9: ='Prijzenblad perceel 2'!D58 -> 0 | D9: =SUM(B9)-(B9*C9) -> 500 | E9: =D9*1.21 -> 605
C10: totaal | D10: =SUM(D6:D9) -> 2500 | E10: =SUM(E6:E9) -> 3025
A12: Bedrag tbv gunning | B12: totaal generaal | D12: =D10+D3 -> 2500 | E12: =E10+E3 -> 3025
A15: Naam Inschrijver
A16: Naam ondertekenaar
A17: Handtekening
A18: Datum
A20: Aan de genoemde aantallen kunnen geen rechten worden ontleend.
