Workbook
Name a: '[6]2-Kengetal'!$A$10:$L$29
Name berichtok: [0]!berichtok
Name berichtoke: [0]!berichtoke
Name berichtoke1: [0]!berichtoke1
Name Berkt: [0]!Berkt
Name einde: [0]!einde
Name Gan_R: [0]!Gan_R
Name gebouw: '3-Basis ruimtestaat'!$B:$B
Name glas: [0]!glas
Name glassoort: '[8]10-Glasstaat'!$I$2:$J$14
Name Glassoort2: '[9]10-Glasstaat'!$I$2:$J$14
Name hjkjhkj: [10]Totaaloverzicht!$A$10:$L$37
Name KengCode: '[11]2-Kengetal'!$A$9:$M$56
Name Kengetal: '[8]4-Kengetal'!$A$12:$S$64
Name Kentalnvb: [12]Kengetal!$A$10:$H$58
Name Lijn: '[11]3-Basis ruimtestaat'!$C:$C
Name lll: '[13]3-Basis ruimtestaat'!$O:$O
Name mavr: '[14]3-Basis ruimtestaat'!$M:$M
Name naloop: '[14]3-Basis ruimtestaat'!$N:$N
Name uren_mavr: '3-Basis ruimtestaat'!$S:$S
Name uren_zazofe: '[15]4-Basis ruimtestaat'!$O:$O
Name uurt: [16]Uurtarieven!$F$57
Name VloerK: '[17]Basis ruimtestaat'!$W:$W
Name VloerM: '[17]Basis ruimtestaat'!$K:$V

Sheet Info blad
A1: Info Blad
A2: Instructies voor het invullen van het calculatie model
A4: Op de tabbladen zijn invoervelden opgenomen, deze zijn gekleurd zoals hiernaast afgebeeld | F4: invoerveld
A5: Het is de bedoeling dat de inschrijver alleen deze velden voorziet van informatie. De overige velden mogen niet worden overschreven omdat hier informatie over het project in staat dan wel voorzien zijn van formules.

Sheet 1-Contractblad totaal
A1: Invoervelden
A3: Naam opdrachtgever | B3: Gerrit Rietveld Academie
A4: Calculatie onderdeel | B4: =MID(CELL("bestandsnaam",$D$10),SEARCH("]",CELL("bestandsnaam",$D$10),1)+1,256) -> 1-Contractblad totaal
A5: Gebouw/plaats | B5: Amsterdam
A6: Referentie nummer | B6: GRA-EA-RT.ID-2020
A7: Versienummer | B7: Versie 1
A8: Naam dienstverlener
A9: Prijspeil | B9: 44348
A11: Jaarprijs regulier schoonmaakonderhoud
A13: Categorie/medewerker | E13: Percentage | F13: Aantal uren per jaar | G13: Gemiddeld tarief | H13: Prijs per jaar
A14: Medewerker schoonmaak | B14: maandag t/m vrijdag | C14: 06:00 - 21:30 uur | E14: 1 | F14: =SUM('3-Basis ruimtestaat'!S:T)*E14 -> #DIV/0! | G14: ='5-Opbouw uurtarief productie'!E48 -> #DIV/0! | H14: =G14*F14 -> #DIV/0!
A16: Medewerker leiding | B16: maandag t/m vrijdag | C16: 06:00 - 21:30 uur | F16: =SUM(F14:F14)*E16 -> #DIV/0! | G16: ='6-Opbouw uurtarief toezicht'!E48 -> #DIV/0! | H16: =G16*F16 -> #DIV/0!
A18: Gemiddeld tarief inclusief toezicht | B18: maandag t/m vrijdag | C18: 06:00 - 21:30 uur | G18: =(H16+H14)/F14 -> #DIV/0!
A19: TOTAAL KOSTEN PER JAAR EXCLUSIEF BTW (REGULIER ONDERHOUD) | H19: =SUM(H14:H18) -> #DIV/0!
A20: B.T.W. | G20: 0.21 | H20: =G20*H19 -> #DIV/0!
A21: Totale kosten per jaar inclusief B.T.W. | H21: =H20+H19 -> #DIV/0!
A23: Jaarprijs aanvullende werzaamheden / extra kosten
A25: ='7-Additionele werkzaamheden'!B4 -> 7-Additionele werkzaamheden | H25: ='7-Additionele werkzaamheden'!I25 -> 0
A27: 8-Periodiek onderhoud | H27: ='8-Periodiek onderhoud'!G29 -> 0
A29: 9a-Dependances | H29: ='9-Dependances'!F14 -> 0
A31: 11-Glasbewassing | H31: ='11-Glasbewassing'!J21 -> 0
A33: 12-Machinekosten | H33: ='12-Machinekosten'!Q29 -> 0
A35: TOTAAL KOSTEN PER JAAR EXCLUSIEF BTW (AANVULLENDE WERKZAAMHEDEN / EXTRA KOSTEN) | H35: =SUM(H24:H34) -> 0
A36: B.T.W. | G36: 0.21 | H36: =G36*H35 -> 0
A37: Totale kosten per jaar inclusief B.T.W. | H37: =H35+H36 -> 0
A39: SUPPLETIEKOSTEN OVERNAME PERSONEEL (maximum bedrag dat na gunning door de dienstverlener in rekening wordt gebracht)
A41: EINDTOTAAL KOSTEN PER JAAR SUBONDERDEEL A EXCLUSIEF BTW | F41: BEOORDELINGSBEDRAG | H41: =H35+H19+H39 -> #DIV/0!
A42: B.T.W. | G42: 0.21 | H42: =G42*H41 -> #DIV/0!
A43: Totale kosten per jaar inclusief B.T.W. subonderdeel A | H43: =H41+H42 -> #DIV/0!
A45: MAXIMALE BOVENGRENS PLAFONDBEDRAG SUBONDERDEEL A | H45: 270000
A46: MAXIMALE ONDERGRENS INSCHRIJVINGSBEDRAG * SUBONDERDEEL A | H46: 240000
A48: 13-Sanitaire voorzieningen | H48: ='13-Sanitaire voorzieningen'!F21 -> 0
A50: EINDTOTAAL KOSTEN PER JAAR SUBONDERDEEL B EXCLUSIEF BTW | F50: BEOORDELINGSBEDRAG | H50: =H44+H28+H48 -> 0
A51: B.T.W. | G51: 0.21 | H51: =G51*H50 -> 0
A52: Totale kosten per jaar inclusief B.T.W. subonderdeel B | H52: =H50+H51 -> 0
A54: * De inschrijver draagt er zorg voor dat de totstandkoming van het inschrijvingsbedrag overeenkomt met de onderliggende tabbladen. Indien dit niet het geval is wordt de inschrijving ongeldig verklaard.
A58: * Het door de inschrijver ingediende inschrijfbedrag is der maximale vergoeding voor het gevraagde in de aanbestedingsdocumenten.
A62: EINDTOTAAL KOSTEN PER JAAR SUBONDERDEEL A + B EXCLUSIEF BTW | H62: =H50+H41 -> #DIV/0!
A63: B.T.W. | G63: 0.21 | H63: =G63*H62 -> #DIV/0!
A64: Totale kosten per jaar inclusief B.T.W. subonderdeel A + B | H64: =H62+H63 -> #DIV/0!

Sheet 2-Productie normen
A1: Invoervelden
A3: Naam opdrachtgever | B3: ='1-Contractblad totaal'!B3 -> Gerrit Rietveld Academie
A4: Calculatie onderdeel | B4: =MID(CELL("bestandsnaam",$B$7),SEARCH("]",CELL("bestandsnaam",$B$7),1)+1,256) -> 2-Productie normen
A5: Gebouw/plaats | B5: ='1-Contractblad totaal'!B5 -> Amsterdam
A6: Naam leverancier | B6: ='1-Contractblad totaal'!B6 -> GRA-EA-RT.ID-2020 | F6: Gewogen prestatie | H6: =SUM('3-Basis ruimtestaat'!AE:AE)/SUM('3-Basis ruimtestaat'!S:U) -> #DIV/0!
A8: Frequentie van uitvoering (per jaar): | B8: 2 | C8: 24 | D8: 240 | I8: 1.25 | J8: 1.5
A9: Ruimtecategorie | B9: Prestatienorm in aantal m2 per uur | F9: ER KMS code | G9: M2 Totaal | H9: Naloop opslag | I9: Weekend opslag | J9: Feestdag opslag
A10: Administratieve ruimten | F10: 1 | G10: =SUMIF('3-Basis ruimtestaat'!G:G,'2-Productie normen'!A10,'3-Basis ruimtestaat'!I:I) -> 2161.13
A11: Aula | F11: 6 | G11: =SUMIF('3-Basis ruimtestaat'!G:G,'2-Productie normen'!A11,'3-Basis ruimtestaat'!I:I) -> 352.8 | L11: Freq | M11: Kolom | N11: Frequentie verklaring
A12: Bibliotheek | F12: 1 | G12: =SUMIF('3-Basis ruimtestaat'!G:G,'2-Productie normen'!A12,'3-Basis ruimtestaat'!I:I) -> 273 | L12: 2 | M12: 2 | N12: 2 x per jaar
A13: Entrée/hal | F13: 5 | G13: =SUMIF('3-Basis ruimtestaat'!G:G,'2-Productie normen'!A13,'3-Basis ruimtestaat'!I:I) -> 262.08 | L13: 24 | M13: 3 | N13: 1 x per twee weken
A14: Gangen en hallen | F14: 6 | G14: =SUMIF('3-Basis ruimtestaat'!G:G,'2-Productie normen'!A14,'3-Basis ruimtestaat'!I:I) -> 2101.94 | L14: 240 | M14: 4 | N14: 5 x per week (48 weken)
A15: Gedeelde onderwijsruimten | F15: 2 | G15: =SUMIF('3-Basis ruimtestaat'!G:G,'2-Productie normen'!A15,'3-Basis ruimtestaat'!I:I) -> 1509.15
A16: Kantine/algemene ruimte | F16: 3 | G16: =SUMIF('3-Basis ruimtestaat'!G:G,'2-Productie normen'!A16,'3-Basis ruimtestaat'!I:I) -> 438.08
A17: Liften | F17: 6 | G17: =SUMIF('3-Basis ruimtestaat'!G:G,'2-Productie normen'!A17,'3-Basis ruimtestaat'!I:I) -> 19.65
A18: Pantry | F18: 3 | G18: =SUMIF('3-Basis ruimtestaat'!G:G,'2-Productie normen'!A18,'3-Basis ruimtestaat'!I:I) -> 121.15
A19: Sanitaire ruimten | F19: 4 | G19: =SUMIF('3-Basis ruimtestaat'!G:G,'2-Productie normen'!A19,'3-Basis ruimtestaat'!I:I) -> 262.04
A20: Trappenhuizen | F20: 6 | G20: =SUMIF('3-Basis ruimtestaat'!G:G,'2-Productie normen'!A20,'3-Basis ruimtestaat'!I:I) -> 943.94
A21: vloer keuken | F21: 6 | G21: =SUMIF('3-Basis ruimtestaat'!G:G,'2-Productie normen'!A21,'3-Basis ruimtestaat'!I:I) -> 70.56
A22: Nio | G22: =SUMIF('3-Basis ruimtestaat'!G:G,'2-Productie normen'!A22,'3-Basis ruimtestaat'!I:I) -> 239.72
A24: Totaal | G24: =SUM(G10:G23) -> 8755.24
A27: Kolom voor matrix | B27: 2 | C27: 3 | D27: 4

Sheet 3-Basis ruimtestaat
B1: Invoervelden
A2: 2
A3: 3 | B3: ='1-Contractblad totaal'!A3 -> Naam opdrachtgever | C3: ='1-Contractblad totaal'!B3 -> Gerrit Rietveld Academie
A4: 4 | B4: ='1-Contractblad totaal'!A4 -> Calculatie onderdeel | C4: =MID(CELL("bestandsnaam",$D$9),SEARCH("]",CELL("bestandsnaam",$D$9),1)+1,256) -> 3-Basis ruimtestaat
A5: 5 | B5: ='1-Contractblad totaal'!A5 -> Gebouw/plaats | C5: ='1-Contractblad totaal'!B5 -> Amsterdam
A6: 6 | B6: ='1-Contractblad totaal'!A6 -> Referentie nummer | C6: ='1-Contractblad totaal'!B6 -> GRA-EA-RT.ID-2020 | Y6: % van reguliere norm
A7: 7 | B7: ='1-Contractblad totaal'!A8 -> Naam dienstverlener | C7: ='1-Contractblad totaal'!B8 -> 0
A8: 8 | Y8: ='2-Productie normen'!H8 -> 0 | Z8: ='2-Productie normen'!I8 -> 1.25 | AA8: ='2-Productie normen'!J8 -> 1.5
A9: 9 | B9: Gebouw | C9: Adres | D9: Verdieping | E9: Ruimte nummer | F9: Ruimteomschrijving opdrachtgever | G9: Ruimte categorie | H9: Vloer soort | I9: M2 vloer | J9: Periodiek onderhoud | K9: Correctie factor ma t/m vr | L9: Correctie factor naloop | M9: Correctie factor za/zo | N9: Correctie factor feestdag | O9: Freq. ma-vr | P9: Freq. ma-vr naloop | Q9: Freq zat - zon | R9: Freq zat - feestdag | S9: Uren p/j ma t/m vrij | T9: Uren p/j ma t/m vrij naloop | U9: Uren p/j zat - zon | V9: Uren p/j feestdag | X9: Norm ma t/m vr | Y9: Norm ma t/m vr naloop | Z9: Norm zat, zon | AA9: Norm feestdag | AB9: ER KMS code | AC9: Bijzonderheden / opmerkingen | AE9: M2 per jaar
A10: 10 | B10: Gerrit Rietveld | D10: Souterrain | E10: S00 | F10: Gang | G10: Gangen en hallen | H10: Gecoat beton | I10: 269.01 | J10: A gang & hal | M10: 1 | N10: 1 | O10: 240 | S10: =IF(O10="nio",0,IF(O10>0,O10*I10/X10,0))*K10 -> #DIV/0! | T10: =IF(P10>0,P10*I10/Y10,0)*L10 -> 0 | U10: =IF(Q10>0,Q10*I10/Z10,0)*M10 -> 0 | V10: =IF(R10>0,R10*I10/AA10,0)*N10 -> 0 | X10: =IF(O10="nio",0,IF(O10>0,VLOOKUP(G10,'2-Productie normen'!A:L,VLOOKUP(O10,'2-Productie normen'!L:M,2,FALSE),FALSE))) -> 0 | Y10: =IF(P10>0,X10*$Y$8,0) -> 0 | Z10: =IF(Q10>0,X10*$Z$8,0) -> 0 | AA10: =IF(R10>0,X10*$AA$8,0) -> 0 | AB10: =VLOOKUP(G10,'2-Productie normen'!A:L,6,FALSE) -> 6 | AE10: =SUM(O10:Q10)*I10 -> 64562.4
A11: 11 | B11: Gerrit Rietveld | D11: Souterrain | F11: Toiletten | G11: Sanitaire ruimten | H11: Tegelvloer | I11: 13.23 | J11: Resultaatgericht | M11: 1 | N11: 1 | O11: 240 | P11: 240 | S11: =IF(O11="nio",0,IF(O11>0,O11*I11/X11,0))*K11 -> #DIV/0! | T11: =IF(P11>0,P11*I11/Y11,0)*L11 -> #DIV/0! | U11: =IF(Q11>0,Q11*I11/Z11,0)*M11 -> 0 | V11: =IF(R11>0,R11*I11/AA11,0)*N11 -> 0 | X11: =IF(O11="nio",0,IF(O11>0,VLOOKUP(G11,'2-Productie normen'!A:L,VLOOKUP(O11,'2-Productie normen'!L:M,2,FALSE),FALSE))) -> 0 | Y11: =IF(P11>0,X11*$Y$8,0) -> 0 | Z11: =IF(Q11>0,X11*$Z$8,0) -> 0 | AA11: =IF(R11>0,X11*$AA$8,0) -> 0 | AB11: =VLOOKUP(G11,'2-Productie normen'!A:L,6,FALSE) -> 4 | AE11: =SUM(O11:Q11)*I11 -> 6350.4
A12: 12 | B12: Gerrit Rietveld | D12: Souterrain | E12: S02 | F12: Opslag | G12: nio | H12: Gecoat beton | I12: 17.64 | J12: n.v.t. | M12: 1 | N12: 1 | O12: nio | S12: =IF(O12="nio",0,IF(O12>0,O12*I12/X12,0))*K12 -> 0 | T12: =IF(P12>0,P12*I12/Y12,0)*L12 -> 0 | U12: =IF(Q12>0,Q12*I12/Z12,0)*M12 -> 0 | V12: =IF(R12>0,R12*I12/AA12,0)*N12 -> 0 | X12: =IF(O12="nio",0,IF(O12>0,VLOOKUP(G12,'2-Productie normen'!A:L,VLOOKUP(O12,'2-Productie normen'!L:M,2,FALSE),FALSE))) -> 0 | Y12: =IF(P12>0,X12*$Y$8,0) -> 0 | Z12: =IF(Q12>0,X12*$Z$8,0) -> 0 | AA12: =IF(R12>0,X12*$AA$8,0) -> 0 | AB12: =VLOOKUP(G12,'2-Productie normen'!A:L,6,FALSE) -> 0 | AE12: =SUM(O12:Q12)*I12 -> 0
A13: 13 | B13: Gerrit Rietveld | D13: Souterrain | E13: S03 | F13: Noodtrap* | G13: Trappenhuizen | H13: Gecoat beton | I13: 17.64 | J13: A trap | M13: 1 | N13: 1 | O13: 24 | S13: =IF(O13="nio",0,IF(O13>0,O13*I13/X13,0))*K13 -> #DIV/0! | T13: =IF(P13>0,P13*I13/Y13,0)*L13 -> 0 | U13: =IF(Q13>0,Q13*I13/Z13,0)*M13 -> 0 | V13: =IF(R13>0,R13*I13/AA13,0)*N13 -> 0 | X13: =IF(O13="nio",0,IF(O13>0,VLOOKUP(G13,'2-Productie normen'!A:L,VLOOKUP(O13,'2-Productie normen'!L:M,2,FALSE),FALSE))) -> 0 | Y13: =IF(P13>0,X13*$Y$8,0) -> 0 | Z13: =IF(Q13>0,X13*$Z$8,0) -> 0 | AA13: =IF(R13>0,X13*$AA$8,0) -> 0 | AB13: =VLOOKUP(G13,'2-Productie normen'!A:L,6,FALSE) -> 6 | AE13: =SUM(O13:Q13)*I13 -> 423.36
A14: 14 | B14: Gerrit Rietveld | D14: Souterrain | E14: S04 | F14: Noodgang | G14: Opslag/berging | H14: Gecoat beton | I14: 13.23 | J14: P1 | M14: 1 | N14: 1 | O14: 2 | U14: =IF(Q14>0,Q14*I14/Z14,0)*M14 -> 0 | V14: =IF(R14>0,R14*I14/AA14,0)*N14 -> 0 | Z14: =IF(Q14>0,X14*$Z$8,0) -> 0 | AA14: =IF(R14>0,X14*$AA$8,0) -> 0 | AB14: n.v.t. | AC14: Wordt afgeprijsd in tabblad 9-Periodiek onderhoud
A15: 15 | B15: Gerrit Rietveld | D15: Souterrain | E15: S05 | F15: Ketelhuis | G15: nio | H15: Gecoat beton | I15: 70.56 | J15: n.v.t. | M15: 1 | N15: 1 | O15: nio | S15: =IF(O15="nio",0,IF(O15>0,O15*I15/X15,0))*K15 -> 0 | T15: =IF(P15>0,P15*I15/Y15,0)*L15 -> 0 | U15: =IF(Q15>0,Q15*I15/Z15,0)*M15 -> 0 | V15: =IF(R15>0,R15*I15/AA15,0)*N15 -> 0 | X15: =IF(O15="nio",0,IF(O15>0,VLOOKUP(G15,'2-Productie normen'!A:L,VLOOKUP(O15,'2-Productie normen'!L:M,2,FALSE),FALSE))) -> 0 | Y15: =IF(P15>0,X15*$Y$8,0) -> 0 | Z15: =IF(Q15>0,X15*$Z$8,0) -> 0 | AA15: =IF(R15>0,X15*$AA$8,0) -> 0 | AB15: =VLOOKUP(G15,'2-Productie normen'!A:L,6,FALSE) -> 0 | AE15: =SUM(O15:Q15)*I15 -> 0
A16: 16 | B16: Gerrit Rietveld | D16: Souterrain | E16: S06 | F16: Zeefdrukwerkplaats | G16: Afdelingsruimten/overige ruimten | H16: Gecoat beton | I16: 105.84 | J16: P2 | M16: 1 | N16: 1 | O16: 2 | U16: 0 | V16: 0 | W16: 0 | Z16: 0 | AA16: =IF(R16>0,X16*$AA$8,0) -> 0 | AB16: n.v.t. | AC16: Wordt afgeprijsd in tabblad 9-Periodiek onderhoud
A17: 17 | B17: Gerrit Rietveld | D17: Souterrain | E17: S07 | F17: Technische ruimte | G17: nio | H17: Gecoat beton | I17: 17.64 | J17: n.v.t. | M17: 1 | N17: 1 | O17: nio | S17: =IF(O17="nio",0,IF(O17>0,O17*I17/X17,0))*K17 -> 0 | T17: =IF(P17>0,P17*I17/Y17,0)*L17 -> 0 | U17: =IF(Q17>0,Q17*I17/Z17,0)*M17 -> 0 | V17: =IF(R17>0,R17*I17/AA17,0)*N17 -> 0 | X17: =IF(O17="nio",0,IF(O17>0,VLOOKUP(G17,'2-Productie normen'!A:L,VLOOKUP(O17,'2-Productie normen'!L:M,2,FALSE),FALSE))) -> 0 | Y17: =IF(P17>0,X17*$Y$8,0) -> 0 | Z17: =IF(Q17>0,X17*$Z$8,0) -> 0 | AA17: =IF(R17>0,X17*$AA$8,0) -> 0 | AB17: =VLOOKUP(G17,'2-Productie normen'!A:L,6,FALSE) -> 0 | AE17: =SUM(O17:Q17)*I17 -> 0
A18: 18 | B18: Gerrit Rietveld | D18: Souterrain | E18: S08 | F18: Textielwerkplaats | G18: Afdelingsruimten/overige ruimten | H18: Gecoat beton | I18: 8.82 | J18: P2 | M18: 1 | N18: 1 | O18: 2 | U18: =IF(Q18>0,Q18*I18/Z18,0)*M18 -> 0 | V18: =IF(R18>0,R18*I18/AA18,0)*N18 -> 0 | Z18: =IF(Q18>0,X18*$Z$8,0) -> 0 | AA18: =IF(R18>0,X18*$AA$8,0) -> 0 | AB18: n.v.t. | AC18: Wordt afgeprijsd in tabblad 9-Periodiek onderhoud
A19: 19 | B19: Gerrit Rietveld | D19: Souterrain | E19: S09 | F19: Edelsmedenwerkplaats | G19: Afdelingsruimten/overige ruimten | H19: Gecoat beton | I19: 97.02 | J19: P2 | M19: 1 | N19: 1 | O19: 2 | U19: =IF(Q19>0,Q19*I19/Z19,0)*M19 -> 0 | V19: =IF(R19>0,R19*I19/AA19,0)*N19 -> 0 | Z19: =IF(Q19>0,X19*$Z$8,0) -> 0 | AA19: =IF(R19>0,X19*$AA$8,0) -> 0 | AB19: n.v.t. | AC19: Wordt afgeprijsd in tabblad 9-Periodiek onderhoud
A20: 20 | B20: Gerrit Rietveld | D20: Souterrain | E20: S10 | F20: Edelsmedenwerkplaats kantoor | G20: Administratieve ruimten | H20: Gecoat beton | I20: 17.64 | J20: A kantoor | M20: 1 | N20: 1 | O20: 240 | S20: =IF(O20="nio",0,IF(O20>0,O20*I20/X20,0))*K20 -> #DIV/0! | T20: =IF(P20>0,P20*I20/Y20,0)*L20 -> 0 | U20: =IF(Q20>0,Q20*I20/Z20,0)*M20 -> 0 | V20: =IF(R20>0,R20*I20/AA20,0)*N20 -> 0 | X20: =IF(O20="nio",0,IF(O20>0,VLOOKUP(G20,'2-Productie normen'!A:L,VLOOKUP(O20,'2-Productie normen'!L:M,2,FALSE),FALSE))) -> 0 | Y20: =IF(P20>0,X20*$Y$8,0) -> 0 | Z20: =IF(Q20>0,X20*$Z$8,0) -> 0 | AA20: =IF(R20>0,X20*$AA$8,0) -> 0 | AB20: =VLOOKUP(G20,'2-Productie normen'!A:L,6,FALSE) -> 1 | AE20: =SUM(O20:Q20)*I20 -> 4233.6
A21: 21 | B21: Gerrit Rietveld | D21: Souterrain | E21: S11 | F21: Hamerhok | G21: Afdelingsruimten/overige ruimten | H21: Gecoat beton | I21: 26.46 | J21: P2 | M21: 1 | N21: 1 | O21: 2 | U21: =IF(Q21>0,Q21*I21/Z21,0)*M21 -> 0 | V21: =IF(R21>0,R21*I21/AA21,0)*N21 -> 0 | Z21: =IF(Q21>0,X21*$Z$8,0) -> 0 | AA21: =IF(R21>0,X21*$AA$8,0) -> 0 | AB21: n.v.t. | AC21: Wordt afgeprijsd in tabblad 9-Periodiek onderhoud
A22: 22 | B22: Gerrit Rietveld | D22: Souterrain | E22: S12 | F22: Opslag | G22: Opslag/berging | H22: Gecoat beton | I22: 8.82 | J22: P1 | M22: 1 | N22: 1 | O22: 2 | U22: =IF(Q22>0,Q22*I22/Z22,0)*M22 -> 0 | V22: =IF(R22>0,R22*I22/AA22,0)*N22 -> 0 | Z22: =IF(Q22>0,X22*$Z$8,0) -> 0 | AA22: =IF(R22>0,X22*$AA$8,0) -> 0 | AB22: n.v.t. | AC22: Wordt afgeprijsd in tabblad 9-Periodiek onderhoud
A23: 23 | B23: Gerrit Rietveld | D23: Souterrain | E23: S13 | F23: BK | G23: Afdelingsruimten/overige ruimten | H23: Gecoat beton | I23: 66.15 | J23: P2 | M23: 1 | N23: 1 | O23: 2 | U23: =IF(Q23>0,Q23*I23/Z23,0)*M23 -> 0 | V23: =IF(R23>0,R23*I23/AA23,0)*N23 -> 0 | Z23: =IF(Q23>0,X23*$Z$8,0) -> 0 | AA23: =IF(R23>0,X23*$AA$8,0) -> 0 | AB23: n.v.t. | AC23: Wordt afgeprijsd in tabblad 9-Periodiek onderhoud
A24: 24 | B24: Gerrit Rietveld | D24: Souterrain | E24: S14 | F24: Spuitcabine | G24: nio | H24: Gecoat beton | I24: 26.46 | J24: n.v.t. | M24: 1 | N24: 1 | O24: nio | S24: =IF(O24="nio",0,IF(O24>0,O24*I24/X24,0))*K24 -> 0 | T24: =IF(P24>0,P24*I24/Y24,0)*L24 -> 0 | U24: =IF(Q24>0,Q24*I24/Z24,0)*M24 -> 0 | V24: =IF(R24>0,R24*I24/AA24,0)*N24 -> 0 | X24: =IF(O24="nio",0,IF(O24>0,VLOOKUP(G24,'2-Productie normen'!A:L,VLOOKUP(O24,'2-Productie normen'!L:M,2,FALSE),FALSE))) -> 0 | Y24: =IF(P24>0,X24*$Y$8,0) -> 0 | Z24: =IF(Q24>0,X24*$Z$8,0) -> 0 | AA24: =IF(R24>0,X24*$AA$8,0) -> 0 | AB24: =VLOOKUP(G24,'2-Productie normen'!A:L,6,FALSE) -> 0 | AE24: =SUM(O24:Q24)*I24 -> 0
A25: 25 | B25: Gerrit Rietveld | D25: Souterrain | E25: S15 | F25: Opslag | G25: Opslag/berging | H25: Gecoat beton | I25: 13.23 | J25: P1 | M25: 1 | N25: 1 | O25: 2 | U25: =IF(Q25>0,Q25*I25/Z25,0)*M25 -> 0 | V25: =IF(R25>0,R25*I25/AA25,0)*N25 -> 0 | Z25: =IF(Q25>0,X25*$Z$8,0) -> 0 | AA25: =IF(R25>0,X25*$AA$8,0) -> 0 | AB25: n.v.t. | AC25: Wordt afgeprijsd in tabblad 9-Periodiek onderhoud
A26: 26 | B26: Gerrit Rietveld | D26: Souterrain | E26: S16 | F26: Conciergewerkplaats | G26: Afdelingsruimten/overige ruimten | H26: Gecoat beton | I26: 26.46 | J26: P2 | M26: 1 | N26: 1 | O26: 2 | U26: =IF(Q26>0,Q26*I26/Z26,0)*M26 -> 0 | V26: =IF(R26>0,R26*I26/AA26,0)*N26 -> 0 | Z26: =IF(Q26>0,X26*$Z$8,0) -> 0 | AA26: =IF(R26>0,X26*$AA$8,0) -> 0 | AB26: n.v.t. | AC26: Wordt afgeprijsd in tabblad 9-Periodiek onderhoud
A27: 27 | B27: Gerrit Rietveld | D27: Souterrain | E27: S17 | F27: Vuilwaterinstallatie + opslag | G27: Opslag/berging | H27: Gecoat beton | I27: 44.1 | J27: P1 | M27: 1 | N27: 1 | O27: 2 | U27: =IF(Q27>0,Q27*I27/Z27,0)*M27 -> 0 | V27: =IF(R27>0,R27*I27/AA27,0)*N27 -> 0 | Z27: =IF(Q27>0,X27*$Z$8,0) -> 0 | AA27: =IF(R27>0,X27*$AA$8,0) -> 0 | AB27: n.v.t. | AC27: Wordt afgeprijsd in tabblad 9-Periodiek onderhoud
A28: 28 | B28: Gerrit Rietveld | D28: Souterrain | E28: S18 | F28: Opslag schoonmaak | G28: Opslag/berging | H28: Gecoat beton | I28: 13.23 | J28: P1 | M28: 1 | N28: 1 | O28: 2 | U28: =IF(Q28>0,Q28*I28/Z28,0)*M28 -> 0 | V28: =IF(R28>0,R28*I28/AA28,0)*N28 -> 0 | Z28: =IF(Q28>0,X28*$Z$8,0) -> 0 | AA28: =IF(R28>0,X28*$AA$8,0) -> 0 | AB28: n.v.t. | AC28: Wordt afgeprijsd in tabblad 9-Periodiek onderhoud
A29: 29 | B29: Gerrit Rietveld | D29: Souterrain | E29: S20 | F29: Zetterijwerkplaats | G29: Afdelingsruimten/overige ruimten | H29: Gecoat beton | I29: 88.2 | J29: P2 | M29: 1 | N29: 1 | O29: 2 | U29: =IF(Q29>0,Q29*I29/Z29,0)*M29 -> 0 | V29: =IF(R29>0,R29*I29/AA29,0)*N29 -> 0 | Z29: =IF(Q29>0,X29*$Z$8,0) -> 0 | AA29: =IF(R29>0,X29*$AA$8,0) -> 0 | AB29: n.v.t. | AC29: Wordt afgeprijsd in tabblad 9-Periodiek onderhoud
A30: 30 | B30: Gerrit Rietveld | D30: Souterrain | E30: S25 | F30: Gymzaal | G30: Aula | H30: Ruw beton | I30: 246.96 | J30: A gang & hal | M30: 1 | N30: 1 | O30: 24 | S30: =IF(O30="nio",0,IF(O30>0,O30*I30/X30,0))*K30 -> #DIV/0! | T30: =IF(P30>0,P30*I30/Y30,0)*L30 -> 0 | U30: =IF(Q30>0,Q30*I30/Z30,0)*M30 -> 0 | V30: =IF(R30>0,R30*I30/AA30,0)*N30 -> 0 | X30: =IF(O30="nio",0,IF(O30>0,VLOOKUP(G30,'2-Productie normen'!A:L,VLOOKUP(O30,'2-Productie normen'!L:M,2,FALSE),FALSE))) -> 0 | Y30: =IF(P30>0,X30*$Y$8,0) -> 0 | Z30: =IF(Q30>0,X30*$Z$8,0) -> 0 | AA30: =IF(R30>0,X30*$AA$8,0) -> 0 | AB30: =VLOOKUP(G30,'2-Productie normen'!A:L,6,FALSE) -> 6 | AE30: =SUM(O30:Q30)*I30 -> 5927.04
A31: 31 | B31: Gerrit Rietveld | D31: Souterrain | E31: S27 | F31: Binderijwerkplaats | G31: Afdelingsruimten/overige ruimten | H31: Gecoat beton | I31: 44.1 | J31: P2 | M31: 1 | N31: 1 | O31: 2 | U31: =IF(Q31>0,Q31*I31/Z31,0)*M31 -> 0 | V31: =IF(R31>0,R31*I31/AA31,0)*N31 -> 0 | Z31: =IF(Q31>0,X31*$Z$8,0) -> 0 | AA31: =IF(R31>0,X31*$AA$8,0) -> 0 | AB31: n.v.t. | AC31: Wordt afgeprijsd in tabblad 9-Periodiek onderhoud
A32: 32 | B32: Gerrit Rietveld | D32: Souterrain | E32: S28 | F32: Werkplaats kantoor | G32: Administratieve ruimten | H32: Gecoat beton | I32: 17.64 | J32: A kantoor | M32: 1 | N32: 1 | O32: 240 | S32: =IF(O32="nio",0,IF(O32>0,O32*I32/X32,0))*K32 -> #DIV/0! | T32: =IF(P32>0,P32*I32/Y32,0)*L32 -> 0 | U32: =IF(Q32>0,Q32*I32/Z32,0)*M32 -> 0 | V32: =IF(R32>0,R32*I32/AA32,0)*N32 -> 0 | X32: =IF(O32="nio",0,IF(O32>0,VLOOKUP(G32,'2-Productie normen'!A:L,VLOOKUP(O32,'2-Productie normen'!L:M,2,FALSE),FALSE))) -> 0 | Y32: =IF(P32>0,X32*$Y$8,0) -> 0 | Z32: =IF(Q32>0,X32*$Z$8,0) -> 0 | AA32: =IF(R32>0,X32*$AA$8,0) -> 0 | AB32: =VLOOKUP(G32,'2-Productie normen'!A:L,6,FALSE) -> 1 | AE32: =SUM(O32:Q32)*I32 -> 4233.6
A33: 33 | B33: Gerrit Rietveld | D33: Souterrain | E33: S29 | F33: Grafiekwerkplaats | G33: Afdelingsruimten/overige ruimten | H33: Gecoat beton | I33: 127.89 | J33: P2 | M33: 1 | N33: 1 | O33: 2 | U33: =IF(Q33>0,Q33*I33/Z33,0)*M33 -> 0 | V33: =IF(R33>0,R33*I33/AA33,0)*N33 -> 0 | Z33: =IF(Q33>0,X33*$Z$8,0) -> 0 | AA33: =IF(R33>0,X33*$AA$8,0) -> 0 | AB33: n.v.t. | AC33: Wordt afgeprijsd in tabblad 9-Periodiek onderhoud
A34: 34 | B34: Gerrit Rietveld | D34: Souterrain | E34: S30 | F34: Textielwerkplaats | G34: Afdelingsruimten/overige ruimten | H34: Gecoat beton | I34: 158.76 | J34: P2 | M34: 1 | N34: 1 | O34: 2 | U34: =IF(Q34>0,Q34*I34/Z34,0)*M34 -> 0 | V34: =IF(R34>0,R34*I34/AA34,0)*N34 -> 0 | Z34: =IF(Q34>0,X34*$Z$8,0) -> 0 | AA34: =IF(R34>0,X34*$AA$8,0) -> 0 | AB34: n.v.t. | AC34: Wordt afgeprijsd in tabblad 9-Periodiek onderhoud
A35: 35 | B35: Gerrit Rietveld | D35: Souterrain | E35: S32 | F35: Spuiterijwerkplaats | G35: Afdelingsruimten/overige ruimten | H35: Gecoat beton | I35: 35.28 | J35: P2 | M35: 1 | N35: 1 | O35: 2 | U35: =IF(Q35>0,Q35*I35/Z35,0)*M35 -> 0 | V35: =IF(R35>0,R35*I35/AA35,0)*N35 -> 0 | Z35: =IF(Q35>0,X35*$Z$8,0) -> 0 | AA35: =IF(R35>0,X35*$AA$8,0) -> 0 | AB35: n.v.t. | AC35: Wordt afgeprijsd in tabblad 9-Periodiek onderhoud
A36: 36 | B36: Gerrit Rietveld | D36: Souterrain | E36: S00 | F36: Lift | G36: Gangen en hallen | H36: Linoleum | I36: 4.41 | J36: A gang & hal | M36: 1 | N36: 1 | O36: 240 | S36: =IF(O36="nio",0,IF(O36>0,O36*I36/X36,0))*K36 -> #DIV/0! | T36: =IF(P36>0,P36*I36/Y36,0)*L36 -> 0 | U36: =IF(Q36>0,Q36*I36/Z36,0)*M36 -> 0 | V36: =IF(R36>0,R36*I36/AA36,0)*N36 -> 0 | X36: =IF(O36="nio",0,IF(O36>0,VLOOKUP(G36,'2-Productie normen'!A:L,VLOOKUP(O36,'2-Productie normen'!L:M,2,FALSE),FALSE))) -> 0 | Y36: =IF(P36>0,X36*$Y$8,0) -> 0 | Z36: =IF(Q36>0,X36*$Z$8,0) -> 0 | AA36: =IF(R36>0,X36*$AA$8,0) -> 0 | AB36: =VLOOKUP(G36,'2-Productie normen'!A:L,6,FALSE) -> 6 | AE36: =SUM(O36:Q36)*I36 -> 1058.4
A37: 37 | B37: Gerrit Rietveld | D37: Begane Grond | E37: 000 | F37: Hal (47 weken) | G37: Entrée/hal | H37: Linoleum | I37: 105.84 | J37: A entreehal | M37: 1 | N37: 1 | O37: 240 | S37: =IF(O37="nio",0,IF(O37>0,O37*I37/X37,0))*K37 -> #DIV/0! | T37: =IF(P37>0,P37*I37/Y37,0)*L37 -> 0 | U37: =IF(Q37>0,Q37*I37/Z37,0)*M37 -> 0 | V37: =IF(R37>0,R37*I37/AA37,0)*N37 -> 0 | X37: =IF(O37="nio",0,IF(O37>0,VLOOKUP(G37,'2-Productie normen'!A:L,VLOOKUP(O37,'2-Productie normen'!L:M,2,FALSE),FALSE))) -> 0 | Y37: =IF(P37>0,X37*$Y$8,0) -> 0 | Z37: =IF(Q37>0,X37*$Z$8,0) -> 0 | AA37: =IF(R37>0,X37*$AA$8,0) -> 0 | AB37: =VLOOKUP(G37,'2-Productie normen'!A:L,6,FALSE) -> 5 | AE37: =SUM(O37:Q37)*I37 -> 25401.6
A38: 38 | B38: Gerrit Rietveld | D38: Begane Grond | E38: 001 | F38: Herentoilet (47 weken) | G38: Sanitaire ruimten | H38: Tegelvloer | I38: 13.23 | J38: Resultaatgericht | M38: 1 | N38: 1 | O38: 240 | P38: 240 | S38: =IF(O38="nio",0,IF(O38>0,O38*I38/X38,0))*K38 -> #DIV/0! | T38: =IF(P38>0,P38*I38/Y38,0)*L38 -> #DIV/0! | U38: =IF(Q38>0,Q38*I38/Z38,0)*M38 -> 0 | V38: =IF(R38>0,R38*I38/AA38,0)*N38 -> 0 | X38: =IF(O38="nio",0,IF(O38>0,VLOOKUP(G38,'2-Productie normen'!A:L,VLOOKUP(O38,'2-Productie normen'!L:M,2,FALSE),FALSE))) -> 0 | Y38: =IF(P38>0,X38*$Y$8,0) -> 0 | Z38: =IF(Q38>0,X38*$Z$8,0) -> 0 | AA38: =IF(R38>0,X38*$AA$8,0) -> 0 | AB38: =VLOOKUP(G38,'2-Productie normen'!A:L,6,FALSE) -> 4 | AE38: =SUM(O38:Q38)*I38 -> 6350.4
A39: 39 | B39: Gerrit Rietveld | D39: Begane Grond | E39: 002 | F39: Damestoilet (47 weken) | G39: Sanitaire ruimten | H39: Tegelvloer | I39: 11.03 | J39: Resultaatgericht | M39: 1 | N39: 1 | O39: 240 | P39: 240 | S39: =IF(O39="nio",0,IF(O39>0,O39*I39/X39,0))*K39 -> #DIV/0! | T39: =IF(P39>0,P39*I39/Y39,0)*L39 -> #DIV/0! | U39: =IF(Q39>0,Q39*I39/Z39,0)*M39 -> 0 | V39: =IF(R39>0,R39*I39/AA39,0)*N39 -> 0 | X39: =IF(O39="nio",0,IF(O39>0,VLOOKUP(G39,'2-Productie normen'!A:L,VLOOKUP(O39,'2-Productie normen'!L:M,2,FALSE),FALSE))) -> 0 | Y39: =IF(P39>0,X39*$Y$8,0) -> 0 | Z39: =IF(Q39>0,X39*$Z$8,0) -> 0 | AA39: =IF(R39>0,X39*$AA$8,0) -> 0 | AB39: =VLOOKUP(G39,'2-Productie normen'!A:L,6,FALSE) -> 4 | AE39: =SUM(O39:Q39)*I39 -> 5294.4
A40: 40 | B40: Gerrit Rietveld | D40: Begane Grond | E40: 003 | F40: Noodtrap* | G40: Trappenhuizen | H40: Gecoat beton | I40: 26.46 | J40: A trap | M40: 1 | N40: 1 | O40: 24 | S40: =IF(O40="nio",0,IF(O40>0,O40*I40/X40,0))*K40 -> #DIV/0! | T40: =IF(P40>0,P40*I40/Y40,0)*L40 -> 0 | U40: =IF(Q40>0,Q40*I40/Z40,0)*M40 -> 0 | V40: =IF(R40>0,R40*I40/AA40,0)*N40 -> 0 | X40: =IF(O40="nio",0,IF(O40>0,VLOOKUP(G40,'2-Productie normen'!A:L,VLOOKUP(O40,'2-Productie normen'!L:M,2,FALSE),FALSE))) -> 0 | Y40: =IF(P40>0,X40*$Y$8,0) -> 0 | Z40: =IF(Q40>0,X40*$Z$8,0) -> 0 | AA40: =IF(R40>0,X40*$AA$8,0) -> 0 | AB40: =VLOOKUP(G40,'2-Productie normen'!A:L,6,FALSE) -> 6 | AE40: =SUM(O40:Q40)*I40 -> 635.04
...

Sheet 4-Premies en opslagen
A1: Invoervelden
A3: ='1-Contractblad totaal'!A3 -> Naam opdrachtgever | B3: ='1-Contractblad totaal'!B3 -> Gerrit Rietveld Academie
A4: ='1-Contractblad totaal'!A4 -> Calculatie onderdeel | B4: =MID(CELL("bestandsnaam",$C$9),SEARCH("]",CELL("bestandsnaam",$C$9),1)+1,256) -> 4-Premies en opslagen
A5: ='1-Contractblad totaal'!A5 -> Gebouw/plaats | B5: ='1-Contractblad totaal'!B5 -> Amsterdam
A6: ='1-Contractblad totaal'!A6 -> Referentie nummer | B6: ='1-Contractblad totaal'!B6 -> GRA-EA-RT.ID-2020
A7: ='1-Contractblad totaal'!A8 -> Naam dienstverlener | B7: ='1-Contractblad totaal'!B8 -> 0
A8: ='1-Contractblad totaal'!A9 -> Prijspeil | B8: ='1-Contractblad totaal'!B9 -> 44348
A10: Sociale verzekeringen
C12: Bedrijfsgemiddelde
A13: WIA Basispremie
A14: WGA
A15: ZW-flex
A16: Totaal | C16: =SUM(C13:C15) -> 0
A18: WW premie- Algemeen Werkeloosheidsfonds (Awf)
A19: Transitievergoeding
A20: Zorgverzekeringswet (Zvw)
A21: OP/NP | C21: =C35 -> #DIV/0!
A22: Pensioen overgangsregeling
A23: Kinderopvang
A24: RAS premie
A25: Totaal opslag sociale lasten | C25: =SUM(C16:C24) -> #DIV/0!
A27: Sociale verzekeringen - Ouderdomspensioen (OP/NP)
C29: werkgeversdeel
A30: SV uurloon inclusief toeslagen | C30: ='5-Opbouw uurtarief productie'!E22 -> 0
A31: Franchise OP-premie per uur | B31: Let op -/- bedrag
A32: Grondslag loon voor berekening OP premie | C32: =C30+C31 -> 0
A33: Premie Ouderdomspensioen (OP)
A35: Effectieve OP premie | C35: =(C32/C30)*C33 -> #DIV/0!
A37: Berekening werkbaredagen
B39: Schoonmaak
A40: Aantal kalenderdagen
A41: Weekenddagen
A42: Werkdagen per jaar | B42: =B40-B41 -> 0
A44: Nat. feestdagen, kort verzuim, bijz. CAO
A45: Vakantiedagen
A46: Ziektedagen
A47: Vorstverlet
A48: Werkbare dagen per jaar | B48: =B42-SUM(B44:B47) -> 0
A50: Nat. feestdagen, kort verzuim, bijz CAO | B50: =IF(B44=0,0,B44/$B$48) -> 0
A51: Vakantiedagen | B51: =IF(B45=0,0,B45/$B$48) -> 0
...

Sheet 5-Opbouw uurtarief productie
A1: Invoervelden
A3: ='1-Contractblad totaal'!A3 -> Naam opdrachtgever | B3: ='1-Contractblad totaal'!B3 -> Gerrit Rietveld Academie
A4: ='1-Contractblad totaal'!A4 -> Calculatie onderdeel | B4: =MID(CELL("bestandsnaam",$C$9),SEARCH("]",CELL("bestandsnaam",$C$9),1)+1,256) -> 5-Opbouw uurtarief productie
A5: ='1-Contractblad totaal'!A5 -> Gebouw/plaats | B5: ='1-Contractblad totaal'!B5 -> Amsterdam
A6: ='1-Contractblad totaal'!A6 -> Referentie nummer | B6: ='1-Contractblad totaal'!B6 -> GRA-EA-RT.ID-2020
A7: ='1-Contractblad totaal'!A8 -> Naam dienstverlener | B7: ='1-Contractblad totaal'!B8 -> 0
A8: ='1-Contractblad totaal'!A9 -> Prijspeil | B8: ='1-Contractblad totaal'!B9 -> 44348
A10: Tariefopbouw schoonmaak | E10: Gemiddeld tarief ma t/m vr | H10: Medewerker | I10: Uurlonen per 1 juni 2021
I11: 1 | J11: 2 | K11: 3 | L11: 4 | M11: 5 | N11: 6
A12: Basisuurloon | E12: =SUM(I46:N46) -> 0 | H12: 17 jaar en jonger
A13: Specialistentoeslag | C13: Projectgebonden! | H13: 18 jaar
A14: Overgangsregeling | C14: Projectgebonden! | H14: 19 jaar
A15: Gevarentoeslag (indien van toepassing) | H15: 20 jaar
A16: Bruto uurloon | E16: =SUM(E12:E15) -> 0 | H16: Vakvolwassen 0 dienstjaren
H17: Vakvolwassen 1 dienstjaar
A18: Vakantietoeslag | E18: =$C18*E16 -> 0 | H18: Vakvolwassen 2 dienstjaren
A19: Structurele eindejaarsuitkering | E19: =$C19*E16 -> 0 | H19: Vakvolwassen 3 dienstjaren
A20: Bruto uurloon inclusief toeslagen | E20: =SUM(E16:E19) -> 0 | F20: =IF(E20=0,0,E20/E$48) -> 0 | H20: Vakvolwassen 4 dienstjaren
A22: SV-loon grondslag voor berekening sociale verzekeringen | E22: =E20*0.96 -> 0 | H22: Medewerker | I22: Percentage per loongroep voor gemiddeld tarief
A23: Premies Sociale Verzekeringen | C23: [zie premies en opslagen] | E23: =E22*'4-Premies en opslagen'!$C25 -> #DIV/0! | I23: 1 | J23: 2 | K23: 3 | L23: 4 | M23: 5 | N23: 6
A24: Subtotaal loonkosten per uur inclusief sociale verzekeringen | E24: =E23+E20 -> #DIV/0! | F24: =IF(E24=0,0,E24/E$48) -> #DIV/0! | H24: 17 jaar en jonger
H25: 18 jaar
A26: Opslag niet werkbare dagen | C26: [zie premies en opslagen] | E26: =E24*'4-Premies en opslagen'!$B54 -> #DIV/0! | H26: 19 jaar
A27: Totaal loonkosten per uur | E27: =SUM(E24:E26) -> #DIV/0! | F27: =IF(E27=0,0,E27/E$48) -> #DIV/0! | H27: 20 jaar
H28: Vakvolwassen 0 dienstjaren
A29: Materiaal/- en middelen | C29: Projectgebonden! | F29: 0 | H29: Vakvolwassen 1 dienstjaar
A30: Werkkleding en uitrusting | C30: Projectgebonden! | F30: 0 | H30: Vakvolwassen 2 dienstjaren
A31: Machinekosten | E31: p.o. | H31: Vakvolwassen 3 dienstjaren
H32: Vakvolwassen 4 dienstjaren
A33: Totaal directe kosten | E33: =SUM(E27:E32) -> #DIV/0! | F33: =IF(E33=0,0,E33/E$48) -> #DIV/0! | H33: Totaal per loongroepen | I33: =SUM(I24:I32) -> 0 | J33: =SUM(J24:J32) -> 0 | K33: =SUM(K24:K32) -> 0 | L33: =SUM(L24:L32) -> 0 | M33: =SUM(M24:M32) -> 0 | N33: =SUM(N24:N32) -> 0 | O33: =SUM(I33:N33) -> 0
A35: Indirect toezicht | F35: =E35/$E$48 -> #DIV/0! | H35: Medewerker | I35: Opbouw gemiddeld tarief
A36: Managementkosten | F36: =E36/$E$48 -> #DIV/0! | I36: 1 | J36: 2 | K36: 3 | L36: 4 | M36: 5 | N36: 6
A37: P.Z. kosten | F37: =E37/$E$48 -> #DIV/0! | H37: 17 jaar en jonger | I37: =I24*I12 -> 0 | J37: =J24*J12 -> 0 | K37: =K24*K12 -> 0 | L37: =L24*L12 -> 0 | M37: =M24*M12 -> 0 | N37: =N24*N12 -> 0
A38: Opleiding | F38: =E38/$E$48 -> #DIV/0! | H38: 18 jaar | I38: =I25*I13 -> 0 | J38: =J25*J13 -> 0 | K38: =K25*K13 -> 0 | L38: =L25*L13 -> 0 | M38: =M25*M13 -> 0 | N38: =N25*N13 -> 0
A39: Administratiekosten | F39: =E39/$E$48 -> #DIV/0! | H39: 19 jaar | I39: =I26*I14 -> 0 | J39: =J26*J14 -> 0 | K39: =K26*K14 -> 0 | L39: =L26*L14 -> 0 | M39: =M26*M14 -> 0 | N39: =N26*N14 -> 0
A40: Huisvestingskosten | F40: =E40/$E$48 -> #DIV/0! | H40: 20 jaar | I40: =I27*I15 -> 0 | J40: =J27*J15 -> 0 | K40: =K27*K15 -> 0 | L40: =L27*L15 -> 0 | M40: =M27*M15 -> 0 | N40: =N27*N15 -> 0
A41: Reiskosten/autokosten | C41: Projectgebonden! | F41: =E41/$E$48 -> #DIV/0! | H41: Vakvolwassen 0 dienstjaren | I41: =I28*I16 -> 0 | J41: =J28*J16 -> 0 | K41: =K28*K16 -> 0 | L41: =L28*L16 -> 0 | M41: =M28*M16 -> 0 | N41: =N28*N16 -> 0
A42: Kosten verzuimbegeleiding | F42: =E42/$E$48 -> #DIV/0! | H42: Vakvolwassen 1 dienstjaar | I42: =I29*I17 -> 0 | J42: =J29*J17 -> 0 | K42: =K29*K17 -> 0 | L42: =L29*L17 -> 0 | M42: =M29*M17 -> 0 | N42: =N29*N17 -> 0
F43: =E43/$E$48 -> #DIV/0! | H43: Vakvolwassen 2 dienstjaren | I43: =I30*I18 -> 0 | J43: =J30*J18 -> 0 | K43: =K30*K18 -> 0 | L43: =L30*L18 -> 0 | M43: =M30*M18 -> 0 | N43: =N30*N18 -> 0
A44: Totaal indirecte kosten | E44: =SUM(E33:E43) -> #DIV/0! | F44: =IF(E44=0,0,E44/E$48) -> #DIV/0! | H44: Vakvolwassen 3 dienstjaren | I44: =I31*I19 -> 0 | J44: =J31*J19 -> 0 | K44: =K31*K19 -> 0 | L44: =L31*L19 -> 0 | M44: =M31*M19 -> 0 | N44: =N31*N19 -> 0
...

Sheet 6-Opbouw uurtarief toezicht
A1: Invoervelden
A3: ='1-Contractblad totaal'!A3 -> Naam opdrachtgever | B3: ='1-Contractblad totaal'!B3 -> Gerrit Rietveld Academie
A4: ='1-Contractblad totaal'!A4 -> Calculatie onderdeel | B4: =MID(CELL("bestandsnaam",$C$9),SEARCH("]",CELL("bestandsnaam",$C$9),1)+1,256) -> 6-Opbouw uurtarief toezicht
A5: ='1-Contractblad totaal'!A5 -> Gebouw/plaats | B5: ='1-Contractblad totaal'!B5 -> Amsterdam
A6: ='1-Contractblad totaal'!A6 -> Referentie nummer | B6: ='1-Contractblad totaal'!B6 -> GRA-EA-RT.ID-2020
A7: ='1-Contractblad totaal'!A8 -> Naam dienstverlener | B7: ='1-Contractblad totaal'!B8 -> 0
A8: ='1-Contractblad totaal'!A9 -> Prijspeil | B8: ='1-Contractblad totaal'!B9 -> 44348
A10: Tariefopbouw toezicht | E10: Gemiddeld tarief ma t/m vr | H10: Medewerker | I10: Uurlonen per 1 juni 2021
I11: 1 | J11: 2 | K11: 3 | L11: 4 | M11: 5 | N11: 6
A12: Basisuurloon | E12: =SUM(I34:N34) -> 0 | H12: Vakvolwassen 0 dienstjaren
A13: Specialistentoeslag | C13: Projectgebonden! | H13: Vakvolwassen 1 dienstjaar
A14: Overgangsregeling | C14: Projectgebonden! | H14: Vakvolwassen 2 dienstjaren
A15: Gevarentoeslag (indien van toepassing) | H15: Vakvolwassen 3 dienstjaren
A16: Bruto uurloon | E16: =SUM(E12:E15) -> 0 | H16: Vakvolwassen 4 dienstjaren
A18: Vakantietoeslag | E18: =$C18*E16 -> 0 | H18: Medewerker | I18: Percentage per loongroep voor gemiddeld tarief
A19: Structurele eindejaarsuitkering | E19: =$C19*E16 -> 0 | I19: 1 | J19: 2 | K19: 3 | L19: 4 | M19: 5 | N19: 6
A20: Bruto uurloon inclusief toeslagen | E20: =SUM(E16:E19) -> 0 | F20: =IF(E20=0,0,E20/E$48) -> 0 | H20: Vakvolwassen 0 dienstjaren
H21: Vakvolwassen 1 dienstjaar
A22: SV-loon grondslag voor berekening sociale verzekeringen | E22: =E20*0.96 -> 0 | H22: Vakvolwassen 2 dienstjaren
A23: Premies Sociale Verzekeringen | C23: [zie premies en opslagen] | E23: =E22*'4-Premies en opslagen'!$C25 -> #DIV/0! | H23: Vakvolwassen 3 dienstjaren
A24: Subtotaal loonkosten per uur inclusief sociale verzekeringen | E24: =E23+E20 -> #DIV/0! | F24: =IF(E24=0,0,E24/E$48) -> #DIV/0! | H24: Vakvolwassen 4 dienstjaren
H25: Totaal per loongroepen | I25: =SUM(I20:I24) -> 0 | J25: =SUM(J20:J24) -> 0 | K25: =SUM(K20:K24) -> 0 | L25: =SUM(L20:L24) -> 0 | M25: =SUM(M20:M24) -> 0 | N25: =SUM(N20:N24) -> 0 | O25: =SUM(I25:N25) -> 0
A26: Opslag niet werkbare dagen | C26: [zie premies en opslagen] | E26: =E24*'4-Premies en opslagen'!$B54 -> #DIV/0!
A27: Totaal loonkosten per uur | E27: =SUM(E24:E26) -> #DIV/0! | F27: =IF(E27=0,0,E27/E$48) -> #DIV/0! | H27: Medewerker | I27: Opbouw gemiddeld tarief
I28: 1 | J28: 2 | K28: 3 | L28: 4 | M28: 5 | N28: 6
A29: Materiaal/- en middelen | C29: Projectgebonden! | F29: 0
A30: Werkkleding en uitrusting | C30: Projectgebonden! | F30: 0
A31: Machinekosten | E31: p.o.
A33: Totaal directe kosten | E33: =SUM(E27:E32) -> #DIV/0! | F33: =IF(E33=0,0,E33/E$48) -> #DIV/0! | H33: Vakvolwassen 4 dienstjaren | I33: =I24*I16 -> 0 | J33: =J24*J16 -> 0 | K33: =K24*K16 -> 0 | L33: =L24*L16 -> 0 | M33: =M24*M16 -> 0 | N33: =N24*N16 -> 0
H34: Totaal per loongroepen | I34: =SUM(I29:I33) -> 0 | J34: =SUM(J29:J33) -> 0 | K34: =SUM(K29:K33) -> 0 | L34: =SUM(L29:L33) -> 0 | M34: =SUM(M29:M33) -> 0 | N34: =SUM(N29:N33) -> 0
A35: Indirect toezicht | F35: =E35/$E$48 -> #DIV/0!
A36: Managementkosten | F36: =E36/$E$48 -> #DIV/0!
A37: P.Z. kosten | F37: =E37/$E$48 -> #DIV/0!
A38: Opleiding | F38: =E38/$E$48 -> #DIV/0!
A39: Administratiekosten | F39: =E39/$E$48 -> #DIV/0!
A40: Huisvestingskosten | F40: =E40/$E$48 -> #DIV/0!
A41: Reiskosten/autokosten | C41: Projectgebonden! | F41: =E41/$E$48 -> #DIV/0!
A42: Kosten verzuimbegeleiding | F42: =E42/$E$48 -> #DIV/0!
A44: Totaal indirecte kosten | E44: =SUM(E33:E43) -> #DIV/0! | F44: =IF(E44=0,0,E44/E$48) -> #DIV/0!
A46: Risico en winst | F46: =(IF(E46=0,0,E46/E$48)) -> 0
...

Sheet 7-Additionele werkzaamheden
A1: Invoervelden
A3: ='1-Contractblad totaal'!A3 -> Naam opdrachtgever | B3: ='1-Contractblad totaal'!B3 -> Gerrit Rietveld Academie
A4: ='1-Contractblad totaal'!A4 -> Calculatie onderdeel | B4: =MID(CELL("bestandsnaam",$C$9),SEARCH("]",CELL("bestandsnaam",$C$9),1)+1,256) -> 7-Additionele werkzaamheden
A5: ='1-Contractblad totaal'!A5 -> Gebouw/plaats | B5: ='1-Contractblad totaal'!B5 -> Amsterdam
A6: ='1-Contractblad totaal'!A6 -> Referentie nummer | B6: ='1-Contractblad totaal'!B6 -> GRA-EA-RT.ID-2020
A7: ='1-Contractblad totaal'!A8 -> Naam dienstverlener | B7: ='1-Contractblad totaal'!B8 -> 0
A8: ='1-Contractblad totaal'!A9 -> Prijspeil | B8: ='1-Contractblad totaal'!B9 -> 44348
A10: Locatie | B10: Omschrijving werkzaamheden | C10: Aantal of m2 | D10: Eenheid | E10: frequentie per jaar | F10: uren per beurt | G10: uren per jaar | H10: uurtarief | I10: kosten per jaar
A11: Gerrit Rietveld Academie | B11: Onderhoud buitenentree conform werkprogramma 15.240 | C11: 30 | D11: m2 | E11: 240 | G11: =F11*E11 -> 0 | I11: =H11*G11 -> 0
A12: Gerrit Rietveld Academie | B12: Vuilcontainers in- en uitwendig reinigen. Vuilcontainers zijn vrij van gehechte vervuiling. | C12: 110 | D12: stuks | E12: 3 | G12: =F12*E12 -> 0 | I12: =H12*G12 -> 0
A13: Gerrit Rietveld Academie | B13: Transporteren restafvalcontainers naar afvalstraat, ledigen restafvalcontainers, wegpersen afval en retourneren restafvalcontainers | C13: 40 | D13: stuks | E13: 240 | G13: =F13*E13 -> 0 | I13: =H13*G13 -> 0
A14: Gerrit Rietveld Academie | B14: Transporteren papiercontainers naar afvalstraat, ledigen papiercontainers, wegpersen afval en retourneren papiercontainers | C14: 40 | D14: stuks | E14: 240 | G14: =F14*E14 -> 0 | I14: =H14*G14 -> 0
A15: Gerrit Rietveld Academie | B15: Transporteren plasticcontainers naar afvalstraat, ledigen plasticcontainers, wegpersen afval en retourneren plasticcontainers | C15: 20 | D15: stuks | E15: 42 | G15: =F15*E15 -> 0 | I15: =H15*G15 -> 0
A16: Gerrit Rietveld Academie | B16: Omwisselen glascontainers | C16: 10 | D16: stuks | E16: 42 | G16: =F16*E16 -> 0 | I16: =H16*G16 -> 0
A17: Gerrit Rietveld Academie | B17: Reinigen lokaal houtbewerking. Alle elementen (incl hoge- en liggende delen langs plafonds) zijn vrij van stof, vlek en vingertasten | C17: 200 | D17: m2 | E17: 1 | G17: =F17*E17 -> 0 | I17: =H17*G17 -> 0
A18: Gerrit Rietveld Academie | B18: Inwendig reinigen van vitrines. Glas is vrij van stof, vlek en vingertasten. | C18: 36 | D18: m2 (12 stuks) | E18: 2 | G18: =F18*E18 -> 0 | I18: =H18*G18 -> 0
A19: Gerrit Rietveld Academie | B19: Bordes schoonspuiten. Bordes inclusief overkapping is vrij van stof, vlek en vingertasten | C19: 30 | D19: m2 | E19: 48 | G19: =F19*E19 -> 0 | I19: =H19*G19 -> 0
A20: Gerrit Rietveld Academie | B20: Grote schoonmaak serverruimtes in overleg met ICT | C20: 15 | D20: m2 | E20: 1 | G20: =F20*E20 -> 0 | I20: =H20*G20 -> 0
A21: Gerrit Rietveld Academie | B21: Editing - 2x per jaar grote schoonmaak hardware en gehele ruimte | C21: 75 | D21: m2 | E21: 2 | G21: =F21*E21 -> 0 | I21: =H21*G21 -> 0
A22: Gerrit Rietveld Academie | B22: Buitenterrein los vuil en bladeren verwijderen | C22: 1 | D22: uur | E22: 240 | F22: 1 | G22: =F22*E22 -> 240 | I22: =H22*G22 -> 0
A23: Gerrit Rietveld Academie | B23: Ruimte onder bordes reinigen. Ruimte is vrij van losliggende vervuiling en begroeiing. | C23: 10 | D23: m2 | E23: 4 | G23: =F23*E23 -> 0 | I23: =H23*G23 -> 0
A25: Totaal | G25: =SUM(G11:G23) -> 240 | I25: =SUM(I11:I23) -> 0

Sheet 8-Periodiek onderhoud
A1: Invoervelden
A3: ='1-Contractblad totaal'!A3 -> Naam opdrachtgever | B3: ='1-Contractblad totaal'!B3 -> Gerrit Rietveld Academie
A4: ='1-Contractblad totaal'!A4 -> Calculatie onderdeel | B4: =MID(CELL("bestandsnaam",$C$9),SEARCH("]",CELL("bestandsnaam",$C$9),1)+1,256) -> 8-Periodiek onderhoud
A5: ='1-Contractblad totaal'!A5 -> Gebouw/plaats | B5: ='1-Contractblad totaal'!B5 -> Amsterdam
A6: ='1-Contractblad totaal'!A6 -> Referentie nummer | B6: ='1-Contractblad totaal'!B6 -> GRA-EA-RT.ID-2020
A7: ='1-Contractblad totaal'!A8 -> Naam dienstverlener | B7: ='1-Contractblad totaal'!B8 -> 0
A8: ='1-Contractblad totaal'!A9 -> Prijspeil | B8: ='1-Contractblad totaal'!B9 -> 44348
A10: Prijs periodiek onderhoud reguliere ruimten
A11: Locatie | B11: Omschrijving werkzaamheden | C11: Ruimtecategorie | D11: M2 in pand | E11: Verwachtte freqentie | F11: m2 tarief | G11: verwachte jaarbudget
A12: Gerrit Rietveld Academie | B12: uitvoering van werkzaamheden conform programma A kantoor | C12: Administratieve ruimten | D12: =SUMIF('3-Basis ruimtestaat'!$G:$G,'8-Periodiek onderhoud'!C12,'3-Basis ruimtestaat'!$I:$I) -> 2161.13 | E12: 1 | G12: =D12*F12*E12 -> 0
A13: Gerrit Rietveld Academie | B13: uitvoering van werkzaamheden conform programma A gangen en hallen | C13: Gangen en hallen | D13: =SUMIF('3-Basis ruimtestaat'!$G:$G,'8-Periodiek onderhoud'!C13,'3-Basis ruimtestaat'!$I:$I) -> 2101.94 | E13: 2 | G13: =D13*F13*E13 -> 0
A14: Gerrit Rietveld Academie | B14: uitvoering van werkzaamheden conform programma A gedeelde onderwijsruimten | C14: Gedeelde onderwijsruimten | D14: =SUMIF('3-Basis ruimtestaat'!$G:$G,'8-Periodiek onderhoud'!C14,'3-Basis ruimtestaat'!$I:$I) -> 1509.15 | E14: 2 | G14: =D14*F14*E14 -> 0
A15: Gerrit Rietveld Academie | B15: uitvoering van werkzaamheden conform programma A entree/ hal | C15: Entrée/hal | D15: =SUMIF('3-Basis ruimtestaat'!$G:$G,'8-Periodiek onderhoud'!C15,'3-Basis ruimtestaat'!$I:$I) -> 262.08 | E15: 2 | G15: =D15*F15*E15 -> 0
A16: Gerrit Rietveld Academie | B16: uitvoering van werkzaamheden conform programma A trappenhuizen | C16: Trappenhuizen | D16: =SUMIF('3-Basis ruimtestaat'!$G:$G,'8-Periodiek onderhoud'!C16,'3-Basis ruimtestaat'!$I:$I) -> 943.94 | E16: 2 | G16: =D16*F16*E16 -> 0
A17: Gerrit Rietveld Academie | B17: uitvoering van werkzaamheden conform programma A kantine | C17: Kantine/algemene ruimte | D17: =SUMIF('3-Basis ruimtestaat'!$G:$G,'8-Periodiek onderhoud'!C17,'3-Basis ruimtestaat'!$I:$I) -> 438.08 | E17: 1 | G17: =D17*F17*E17 -> 0
A18: Gerrit Rietveld Academie | B18: uitvoering van werkzaamheden conform programma A bibliotheek | C18: Bibliotheek | D18: =SUMIF('3-Basis ruimtestaat'!$G:$G,'8-Periodiek onderhoud'!C18,'3-Basis ruimtestaat'!$I:$I) -> 273 | E18: 1 | G18: =D18*F18*E18 -> 0
A20: Totaal periodiek onderhoud reguliere ruimten | G20: =SUM(G12:G18) -> 0
A22: Prijs periodiek onderhoud afdelings- en opslagruimten
A23: Programma | B23: Aantal m2 aanwezig | C23: Kosten per m2 | D23: Frequentie per jaar | E23: Frequentie per jaar
A24: P1 | B24: =SUMIF('3-Basis ruimtestaat'!J:J,'8-Periodiek onderhoud'!A24,'3-Basis ruimtestaat'!I:I) -> 431.98 | D24: 2 | E24: =C24*D24*B24 -> 0
A25: P2 | B25: =SUMIF('3-Basis ruimtestaat'!J:J,'8-Periodiek onderhoud'!A25,'3-Basis ruimtestaat'!I:I) -> 7218.82 | D25: 2 | E25: =C25*D25*B25 -> 0
A27: Totaal periodiek onderhoud afdelings- en opslagruimten | E27: =SUM(E24:E25) -> 0
A29: Totaal periodiek onderhoud reguliere ruimten, afdelings- en opslagruimten | G29: =E27+G20 -> 0

Sheet 9-Dependances
A1: Invoervelden
A3: ='1-Contractblad totaal'!A3 -> Naam opdrachtgever | B3: ='1-Contractblad totaal'!B3 -> Gerrit Rietveld Academie
A4: ='1-Contractblad totaal'!A4 -> Calculatie onderdeel | B4: =MID(CELL("bestandsnaam",$C$9),SEARCH("]",CELL("bestandsnaam",$C$9),1)+1,256) -> 9-Dependances
A5: ='1-Contractblad totaal'!A5 -> Gebouw/plaats | B5: ='1-Contractblad totaal'!B5 -> Amsterdam
A6: ='1-Contractblad totaal'!A6 -> Referentie nummer | B6: ='1-Contractblad totaal'!B6 -> GRA-EA-RT.ID-2020
A7: ='1-Contractblad totaal'!A8 -> Naam dienstverlener | B7: ='1-Contractblad totaal'!B8 -> 0
A8: ='1-Contractblad totaal'!A9 -> Prijspeil | B8: ='1-Contractblad totaal'!B9 -> 44348
A10: Locatie | B10: Omschrijving werkzaamheden | C10: Frequentie | D10: Uren per beurt | E10: uurtarief | F10: kosten per jaar
A11: Grey House | B11: wekelijks regulier onderhoud conform programma Guesthouses | C11: 40 | D11: 1.5 | F11: =C11*D11*E11 -> 0
A12: Guesthouse Sandberg | B12: dagelijks regulier onderhoud conform programma Guesthouses | C12: 200 | D12: 1 | F12: =C12*D12*E12 -> 0
A14: Totaal | F14: =SUM(F11:F12) -> 0

Sheet 10-Afroepprijs
A1: Invoervelden
A3: ='1-Contractblad totaal'!A3 -> Naam opdrachtgever | B3: ='1-Contractblad totaal'!B3 -> Gerrit Rietveld Academie
A4: ='1-Contractblad totaal'!A4 -> Calculatie onderdeel | B4: =MID(CELL("bestandsnaam",$C$9),SEARCH("]",CELL("bestandsnaam",$C$9),1)+1,256) -> 10-Afroepprijs
A5: ='1-Contractblad totaal'!A5 -> Gebouw/plaats | B5: ='1-Contractblad totaal'!B5 -> Amsterdam
A6: ='1-Contractblad totaal'!A6 -> Referentie nummer | B6: ='1-Contractblad totaal'!B6 -> GRA-EA-RT.ID-2020
A7: ='1-Contractblad totaal'!A8 -> Naam dienstverlener | B7: ='1-Contractblad totaal'!B8 -> 0
A8: ='1-Contractblad totaal'!A9 -> Prijspeil | B8: ='1-Contractblad totaal'!B9 -> 44348
A11: Vloerenonderhoud (inclusief uit-/inruimen van het meubilair)
C13: Prijs p/m² excl. btw
A14: Activiteit | B14: Toelichting | C14: 0-100m² | D14: 101-500m² | E14: 501-1000m² | F14: > 1000m²
A15: Lino-/marmoleum conserveren | B15: 2 lagen | C15: 0 | D15: 0 | E15: 0 | F15: 0
A16: Lino-/marmoleum sprayen | B16: geheel | C16: 0 | D16: 0 | E16: 0 | F16: 0
A17: Steen/PVC schrobben | C17: 0 | D17: 0 | E17: 0 | F17: 0
A18: Tapijt sproeiextraheren | C18: 0 | D18: 0 | E18: 0 | F18: 0
A20: Reinigen bureau-electronica reinigen
E21: Prijs p/stuk excl. btw
A22: Apparatuur/onderdeel | B22: Toelichting | E22: Aantal stuks 0-50 | F22: Aantal stuks > 50
A23: Systeemkast | B23: Methode en eindresultaat omschrijven. | E23: 0 | F23: 0
A24: Monitor | B24: Methode en eindresultaat omschrijven. | E24: 0 | F24: 0
A25: Toetsenbord inclusief muis | B25: Methode en eindresultaat omschrijven. | E25: 0 | F25: 0
A26: Printer klein | B26: Methode en eindresultaat omschrijven. | E26: 0 | F26: 0
A27: Printer groot | B27: Methode en eindresultaat omschrijven. | E27: 0 | F27: 0
A29: Reinigen raambekleding
A31: Activiteit | B31: Toelichting | E31: Prijs p/m² onder 100m² excl. btw | F31: Prijs p/m² boven 100m² excl. btw
A32: Vitrage | B32: Methode en eindresultaat omschrijven. | E32: 0 | F32: 0
A33: Overgordijnen | B33: Methode en eindresultaat omschrijven. | E33: 0 | F33: 0
A34: Verticale lamellen stof | B34: Methode en eindresultaat omschrijven. | E34: 0 | F34: 0
A35: Verticale lamellen metaal/kunsstof | B35: Methode en eindresultaat omschrijven. | E35: 0 | F35: 0
A36: Horizontale lammellen | B36: Methode en eindresultaat omschrijven. | E36: 0 | F36: 0
A38: Regietarieven
A40: Activiteit | B40: Toelichting | F40: Prijs p/uur excl. btw
A41: Schoonmaakonderhoud | B41: Maandag - Vrijdag | F41: 0
A42: Schoonmaakonderhoud | B42: Zaterdag - zondag (incl. 50% toeslag conform cao) | F42: 0
A43: Schoonmaakonderhoud | B43: Feestdagen (incl. 150% toeslag conform cao) | F43: 0
A44: Glazenwasserswerkzaamheden | B44: Maandag - Vrijdag | F44: 0
A46: Gladheid bestrijding
A47: Tijdstip van uitvoering | B47: Prijs p/uur excl. btw
A48: tarief ma-vr (06.00-21.30 uur) | B48: 0
A49: tarief ma-vr nacht (21.30-06.00 uur) | B49: 0
A51: Opmerking:
...

Sheet 11-Glasbewassing
A1: Invoervelden
E2: Glassoort | F2: M² prijs
A3: ='1-Contractblad totaal'!A3 -> Naam opdrachtgever | B3: ='1-Contractblad totaal'!B3 -> Gerrit Rietveld Academie | E3: Buitenzijde
A4: ='1-Contractblad totaal'!A4 -> Calculatie onderdeel | B4: =MID(CELL("bestandsnaam",$D$9),SEARCH("]",CELL("bestandsnaam",$D$9),1)+1,256) -> 11-Glasbewassing | E4: Binnenzijde
A5: ='1-Contractblad totaal'!A5 -> Gebouw/plaats | B5: ='1-Contractblad totaal'!B5 -> Amsterdam | E5: Separatieglas enkelzijdig
A6: ='1-Contractblad totaal'!A6 -> Referentie nummer | B6: ='1-Contractblad totaal'!B6 -> GRA-EA-RT.ID-2020
A7: ='1-Contractblad totaal'!A8 -> Naam dienstverlener | B7: ='1-Contractblad totaal'!B8 -> 0
A8: ='1-Contractblad totaal'!A9 -> Prijspeil | B8: ='1-Contractblad totaal'!B9 -> 44348
A10: Locatie | B10: Glassoort | C10: Aanvullende omschrijving | D10: Aantal m2 | E10: Kosten per beurt | F10: Frequentie | G10: Kosten per m2 | H10: Kosten bewassing per jaar | I10: Kosten klimmateriaal per jaar | J10: Totaalkosten per jaar
A11: Gerrit Rietveld | B11: Separatieglas enkelzijdig | D11: =2328+254 -> 2582 | E11: =D11*G11 -> 0 | F11: 2 | G11: =VLOOKUP(B11,$E$3:$F$9,2,FALSE) -> 0 | H11: =F11*E11 -> 0 | J11: =H11+I11 -> 0
A12: Gerrit Rietveld | B12: Buitenzijde | D12: =3522+870 -> 4392 | E12: =D12*G12 -> 0 | F12: 2 | G12: =VLOOKUP(B12,$E$3:$F$9,2,FALSE) -> 0 | H12: =F12*E12 -> 0 | J12: =H12+I12 -> 0
A13: Gerrit Rietveld | B13: Binnenzijde | D13: =3522+870 -> 4392 | E13: =D13*G13 -> 0 | F13: 2 | G13: =VLOOKUP(B13,$E$3:$F$9,2,FALSE) -> 0 | H13: =F13*E13 -> 0 | J13: =H13+I13 -> 0
A14: Benthem Crouwel | B14: Separatieglas enkelzijdig | D14: 130 | E14: =D14*G14 -> 0 | F14: 2 | G14: =VLOOKUP(B14,$E$3:$F$9,2,FALSE) -> 0 | H14: =F14*E14 -> 0 | J14: =H14+I14 -> 0
A15: Benthem Crouwel | B15: Buitenzijde | D15: 1356 | E15: =D15*G15 -> 0 | F15: 2 | G15: =VLOOKUP(B15,$E$3:$F$9,2,FALSE) -> 0 | H15: =F15*E15 -> 0 | J15: =H15+I15 -> 0
A16: Benthem Crouwel | B16: Binnenzijde | D16: 1356 | E16: =D16*G16 -> 0 | F16: 2 | G16: =VLOOKUP(B16,$E$3:$F$9,2,FALSE) -> 0 | H16: =F16*E16 -> 0 | J16: =H16+I16 -> 0
A17: Fedlev | B17: Separatieglas enkelzijdig | D17: 1303 | E17: =D17*G17 -> 0 | F17: 2 | G17: =VLOOKUP(B17,$E$3:$F$9,2,FALSE) -> 0 | H17: =F17*E17 -> 0 | J17: =H17+I17 -> 0
A18: Fedlev | B18: Buitenzijde | D18: 1303 | E18: =D18*G18 -> 0 | F18: 2 | G18: =VLOOKUP(B18,$E$3:$F$9,2,FALSE) -> 0 | H18: =F18*E18 -> 0 | J18: =H18+I18 -> 0
A19: Fedlev | B19: Binnenzijde | D19: 1356 | E19: =D19*G19 -> 0 | F19: 1 | G19: =VLOOKUP(B19,$E$3:$F$9,2,FALSE) -> 0 | H19: =F19*E19 -> 0 | J19: =H19+I19 -> 0
A21: Totaal | D21: =SUM(D11:D19) -> 18170 | H21: =SUM(H11:H19) -> 0 | I21: =SUM(I11:I19) -> 0 | J21: =SUM(J11:J19) -> 0

Sheet 12-Machinekosten
A2: ='1-Contractblad totaal'!A3 -> Naam opdrachtgever | B2: ='1-Contractblad totaal'!B3 -> Gerrit Rietveld Academie
A3: ='1-Contractblad totaal'!A4 -> Calculatie onderdeel | B3: =MID(CELL("bestandsnaam",$D$9),SEARCH("]",CELL("bestandsnaam",$D$9),1)+1,256) -> 12-Machinekosten
A4: ='1-Contractblad totaal'!A5 -> Gebouw/plaats | B4: ='1-Contractblad totaal'!B5 -> Amsterdam
A5: ='1-Contractblad totaal'!A6 -> Referentie nummer | B5: ='1-Contractblad totaal'!B6 -> GRA-EA-RT.ID-2020
A6: ='1-Contractblad totaal'!A8 -> Naam dienstverlener | B6: ='1-Contractblad totaal'!B8 -> 0
A7: ='1-Contractblad totaal'!A9 -> Prijspeil | B7: ='1-Contractblad totaal'!B9 -> 44348
A10: Locatie | B10: Machine | C10: Omschrijving | D10: Catalogus prijs | E10: Korting | F10: Netto aanschaf prijs | G10: Afschrijvings termijn in jaren | H10: Restwaarde | I10: Afschrijvings kosten per jaar | J10: Onderhouds kosten per jaar | K10: Renteverlies per jaar | L10: Verzekerings kosten per jaar | N10: Totaal kosten per jaar per machine | P10: Inzet van het aantal machines [stuks] | Q10: Totaal kosten per jaar
J11: 0 | K11: 0 | L11: 0
D12: 0 | E12: 0 | F12: =D12-E12 -> 0 | G12: 0 | H12: 0 | I12: =IF(G12=0,0,(F12-H12)/G12) -> 0 | J12: =D12*$J$11 -> 0 | K12: =D12*$K$11 -> 0 | L12: =$L$11*D12 -> 0 | N12: =SUM(I12:L12) -> 0 | P12: 0 | Q12: =N12*P12 -> 0
D13: 0 | E13: 0 | F13: =D13-E13 -> 0 | G13: 0 | H13: 0 | I13: =IF(G13=0,0,(F13-H13)/G13) -> 0 | J13: =D13*$J$11 -> 0 | K13: =D13*$K$11 -> 0 | L13: =$L$11*D13 -> 0 | N13: =SUM(I13:L13) -> 0 | P13: 0 | Q13: =N13*P13 -> 0
D14: 0 | E14: 0 | F14: =D14-E14 -> 0 | G14: 0 | H14: 0 | I14: =IF(G14=0,0,(F14-H14)/G14) -> 0 | J14: =D14*$J$11 -> 0 | K14: =D14*$K$11 -> 0 | L14: =$L$11*D14 -> 0 | N14: =SUM(I14:L14) -> 0 | P14: 0 | Q14: =N14*P14 -> 0
D15: 0 | E15: 0 | F15: =D15-E15 -> 0 | G15: 0 | H15: 0 | I15: =IF(G15=0,0,(F15-H15)/G15) -> 0 | J15: =D15*$J$11 -> 0 | K15: =D15*$K$11 -> 0 | L15: =$L$11*D15 -> 0 | N15: =SUM(I15:L15) -> 0 | P15: 0 | Q15: =N15*P15 -> 0
D16: 0 | E16: 0 | F16: =D16-E16 -> 0 | G16: 0 | H16: 0 | I16: =IF(G16=0,0,(F16-H16)/G16) -> 0 | J16: =D16*$J$11 -> 0 | K16: =D16*$K$11 -> 0 | L16: =$L$11*D16 -> 0 | N16: =SUM(I16:L16) -> 0 | P16: 0 | Q16: =N16*P16 -> 0
D17: 0 | E17: 0 | F17: =D17-E17 -> 0 | G17: 0 | H17: 0 | I17: =IF(G17=0,0,(F17-H17)/G17) -> 0 | J17: =D17*$J$11 -> 0 | K17: =D17*$K$11 -> 0 | L17: =$L$11*D17 -> 0 | N17: =SUM(I17:L17) -> 0 | P17: 0 | Q17: =N17*P17 -> 0
D18: 0 | E18: 0 | F18: =D18-E18 -> 0 | G18: 0 | H18: 0 | I18: =IF(G18=0,0,(F18-H18)/G18) -> 0 | J18: =D18*$J$11 -> 0 | K18: =D18*$K$11 -> 0 | L18: =$L$11*D18 -> 0 | N18: =SUM(I18:L18) -> 0 | P18: 0 | Q18: =N18*P18 -> 0
D19: 0 | E19: 0 | F19: =D19-E19 -> 0 | G19: 0 | H19: 0 | I19: =IF(G19=0,0,(F19-H19)/G19) -> 0 | J19: =D19*$J$11 -> 0 | K19: =D19*$K$11 -> 0 | L19: =$L$11*D19 -> 0 | N19: =SUM(I19:L19) -> 0 | P19: 0 | Q19: =N19*P19 -> 0
D20: 0 | E20: 0 | F20: =D20-E20 -> 0 | G20: 0 | H20: 0 | I20: =IF(G20=0,0,(F20-H20)/G20) -> 0 | J20: =D20*$J$11 -> 0 | K20: =D20*$K$11 -> 0 | L20: =$L$11*D20 -> 0 | N20: =SUM(I20:L20) -> 0 | P20: 0 | Q20: =N20*P20 -> 0
D21: 0 | E21: 0 | F21: =D21-E21 -> 0 | G21: 0 | H21: 0 | I21: =IF(G21=0,0,(F21-H21)/G21) -> 0 | J21: =D21*$J$11 -> 0 | K21: =D21*$K$11 -> 0 | L21: =$L$11*D21 -> 0 | N21: =SUM(I21:L21) -> 0 | P21: 0 | Q21: =N21*P21 -> 0
D22: 0 | E22: 0 | F22: =D22-E22 -> 0 | G22: 0 | H22: 0 | I22: =IF(G22=0,0,(F22-H22)/G22) -> 0 | J22: =D22*$J$11 -> 0 | K22: =D22*$K$11 -> 0 | L22: =$L$11*D22 -> 0 | N22: =SUM(I22:L22) -> 0 | P22: 0 | Q22: =N22*P22 -> 0
D23: 0 | E23: 0 | F23: =D23-E23 -> 0 | G23: 0 | H23: 0 | I23: =IF(G23=0,0,(F23-H23)/G23) -> 0 | J23: =D23*$J$11 -> 0 | K23: =D23*$K$11 -> 0 | L23: =$L$11*D23 -> 0 | N23: =SUM(I23:L23) -> 0 | P23: 0 | Q23: =N23*P23 -> 0
... D27: 0 | E27: 0 | F27: =D27-E27 -> 0 | G27: 0 | H27: 0 | I27: =IF(G27=0,0,(F27-H27)/G27) -> 0 | J27: =D27*$J$11 -> 0 | K27: =D27*$K$11 -> 0 | L27: =$L$11*D27 -> 0 | N27: =SUM(I27:L27) -> 0 | P27: 0 | Q27: =N27*P27 -> 0
B29: Totaal | P29: =SUM(P12:P27) -> 0 | Q29: =SUM(Q12:Q28) -> 0

Sheet 13-Sanitaire voorzieningen
A1: Invoervelden
A3: ='1-Contractblad totaal'!A3 -> Naam opdrachtgever | B3: ='1-Contractblad totaal'!B3 -> Gerrit Rietveld Academie
A4: ='1-Contractblad totaal'!A4 -> Calculatie onderdeel | B4: =MID(CELL("bestandsnaam",$C$8),SEARCH("]",CELL("bestandsnaam",$C$8),1)+1,256) -> 13-Sanitaire voorzieningen
A5: ='1-Contractblad totaal'!A5 -> Gebouw/plaats | B5: ='1-Contractblad totaal'!B5 -> Amsterdam
A6: ='1-Contractblad totaal'!A6 -> Referentie nummer | B6: ='1-Contractblad totaal'!B6 -> GRA-EA-RT.ID-2020
A7: ='1-Contractblad totaal'!A8 -> Naam dienstverlener | B7: ='1-Contractblad totaal'!B8 -> 0
A8: ='1-Contractblad totaal'!A9 -> Prijspeil | B8: ='1-Contractblad totaal'!B9 -> 44348
A10: Omschrijving automaat /artikel | B10: Merk en productlijn | C10: Omschrijving verbruiksartikelen | D10: Aantal | E10: All-in tarief per maand, per stuk | F10: per jaar | H10: Verbruik 2019 | I10: Eenheid
A11: Handdoekautomaat | D11: 44 | F11: =D11*E11*12 -> 0 | H11: 1375 | I11: rol
A12: Handdoekjesdispenser | D12: 35 | F12: =D12*E12*12 -> 0 | H12: onbekend
A13: Zeepdispenser | D13: 42 | F13: =D13*E13*12 -> 0 | H13: 275 | I13: flacon 250 ml
A14: Luchtverfrisser dispenser | D14: 6 | F14: =D14*E14*12 -> 0 | H14: nvt
A15: Toiletrol dispenser | D15: 59 | F15: =D15*E15*12 -> 0 | H15: 300 | I15: Jumbo rol
A16: Damesverbandcontainer | D16: 41 | F16: =D16*E16*12 -> 0 | H16: nvt
A17: Toiletborstel met houder | D17: 59 | F17: =D17*E17*12 -> 0 | H17: onbekend
A18: Afvalbak | D18: 42 | F18: =D18*E18*12 -> 0 | H18: onbekend
A19: Inloopmat | D19: 2 | F19: =D19*E19*12 -> 0
A21: Totaal | F21: =SUM(F11:F20) -> 0
A23: Aan de opgegeven indicatie eenheden kunnen geen rechten worden ontleent.
A25: Alle prijzen zijn all-in, inclusief loonkosten, materiaal, reis- en verblijfskosten, sociale lasten, voorrijkosten, parkeerkosten, reserveringskosten, en (de)montagekosten, transportkosten, aflever- verpakkingen, milieubelastingen, administratie, andere belastingen dan btw, verzekeringpremies e.d.
