Workbook
Name a: '[6]2-Kengetal'!$A$10:$L$29
Name berichtok: [0]!berichtok
Name berichtoke: [0]!berichtoke
Name berichtoke1: [0]!berichtoke1
Name Berkt: [0]!Berkt
Name einde: [0]!einde
Name Gan_R: [0]!Gan_R
Name gebouw: '3-Basis ruimtestaat'!$B:$B
Name glas: [0]!glas
Name glassoort: '[8]10-Glasstaat'!$I$2:$J$14
Name Glassoort2: '[9]10-Glasstaat'!$I$2:$J$14
Name hjkjhkj: [10]Totaaloverzicht!$A$10:$L$37
Name KengCode: '[11]2-Kengetal'!$A$9:$M$56
Name Kengetal: '[8]4-Kengetal'!$A$12:$S$64
Name Kentalnvb: [12]Kengetal!$A$10:$H$58
Name Lijn: '[11]3-Basis ruimtestaat'!$C:$C
Name lll: '[13]3-Basis ruimtestaat'!$O:$O
Name mavr: '[14]3-Basis ruimtestaat'!$M:$M
Name naloop: '[14]3-Basis ruimtestaat'!$N:$N
Name uren_mavr: '3-Basis ruimtestaat'!$S:$S
Name uren_zazofe: '[15]4-Basis ruimtestaat'!$O:$O
Name uurt: [16]Uurtarieven!$F$57
Name VloerK: '[17]Basis ruimtestaat'!$W:$W
Name VloerM: '[17]Basis ruimtestaat'!$K:$V

Sheet Info blad
A1: Info Blad
A2: Instructies voor het invullen van het calculatie model
A4: Op de tabbladen zijn invoervelden opgenomen, deze zijn gekleurd zoals hiernaast afgebeeld | F4: invoerveld
A5: Het is de bedoeling dat de inschrijver alleen deze velden voorziet van informatie. De overige velden mogen niet worden overschreven omdat hier informatie over het project in staat dan wel voorzien zijn van formules.

Sheet 1-Contractblad totaal
A1: Invoervelden
A3: Naam opdrachtgever | B3: Gerrit Rietveld Academie
A4: Calculatie onderdeel | B4: =MID(CELL("bestandsnaam",$D$10),SEARCH("]",CELL("bestandsnaam",$D$10),1)+1,256) -> 1-Contractblad totaal
A5: Gebouw/plaats | B5: Amsterdam
A6: Referentie nummer | B6: GRA-EA-RT.ID-2020
A7: Versienummer | B7: Versie 1
A8: Naam dienstverlener
A9: Prijspeil | B9: 44348
A11: Jaarprijs regulier schoonmaakonderhoud
A13: Categorie/medewerker | E13: Percentage | F13: Aantal uren per jaar | G13: Gemiddeld tarief | H13: Prijs per jaar
A14: Medewerker schoonmaak | B14: maandag t/m vrijdag | C14: 06:00 - 21:30 uur | E14: 1 | F14: =SUM('3-Basis ruimtestaat'!S:T)*E14 -> #DIV/0! | G14: ='5-Opbouw uurtarief productie'!E48 -> #DIV/0! | H14: =G14*F14 -> #DIV/0!
A16: Medewerker leiding | B16: maandag t/m vrijdag | C16: 06:00 - 21:30 uur | F16: =SUM(F14:F14)*E16 -> #DIV/0! | G16: ='6-Opbouw uurtarief toezicht'!E48 -> #DIV/0! | H16: =G16*F16 -> #DIV/0!
A18: Gemiddeld tarief inclusief toezicht | B18: maandag t/m vrijdag | C18: 06:00 - 21:30 uur | G18: =(H16+H14)/F14 -> #DIV/0!
A19: TOTAAL KOSTEN PER JAAR EXCLUSIEF BTW (REGULIER ONDERHOUD) | H19: =SUM(H14:H18) -> #DIV/0!
A20: B.T.W. | G20: 0.21 | H20: =G20*H19 -> #DIV/0!
A21: Totale kosten per jaar inclusief B.T.W. | H21: =H20+H19 -> #DIV/0!
A23: Jaarprijs aanvullende werzaamheden / extra kosten
A25: ='7-Additionele werkzaamheden'!B4 -> 7-Additionele werkzaamheden | H25: ='7-Additionele werkzaamheden'!I25 -> 0
A27: 8-Periodiek onderhoud | H27: ='8-Periodiek onderhoud'!G29 -> 0
A29: 9a-Dependances | H29: ='9-Dependances'!F14 -> 0
A31: 11-Glasbewassing | H31: ='11-Glasbewassing'!J21 -> 0
A33: 12-Machinekosten | H33: ='12-Machinekosten'!Q29 -> 0
A35: TOTAAL KOSTEN PER JAAR EXCLUSIEF BTW (AANVULLENDE WERKZAAMHEDEN / EXTRA KOSTEN) | H35: =SUM(H24:H34) -> 0
A36: B.T.W. | G36: 0.21 | H36: =G36*H35 -> 0
A37: Totale kosten per jaar inclusief B.T.W. | H37: =H35+H36 -> 0
A39: SUPPLETIEKOSTEN OVERNAME PERSONEEL (maximum bedrag dat na gunning door de dienstverlener in rekening wordt gebracht)
A41: EINDTOTAAL KOSTEN PER JAAR SUBONDERDEEL A EXCLUSIEF BTW | F41: BEOORDELINGSBEDRAG | H41: =H35+H19+H39 -> #DIV/0!
A42: B.T.W. | G42: 0.21 | H42: =G42*H41 -> #DIV/0!
A43: Totale kosten per jaar inclusief B.T.W. subonderdeel A | H43: =H41+H42 -> #DIV/0!
A45: MAXIMALE BOVENGRENS PLAFONDBEDRAG SUBONDERDEEL A | H45: 270000
A46: MAXIMALE ONDERGRENS INSCHRIJVINGSBEDRAG * SUBONDERDEEL A | H46: 240000
A48: 13-Sanitaire voorzieningen | H48: ='13-Sanitaire voorzieningen'!F21 -> 0
A50: EINDTOTAAL KOSTEN PER JAAR SUBONDERDEEL B EXCLUSIEF BTW | F50: BEOORDELINGSBEDRAG | H50: =H44+H28+H48 -> 0
A51: B.T.W. | G51: 0.21 | H51: =G51*H50 -> 0
A52: Totale kosten per jaar inclusief B.T.W. subonderdeel B | H52: =H50+H51 -> 0
A54: * De inschrijver draagt er zorg voor dat de totstandkoming van het inschrijvingsbedrag overeenkomt met de onderliggende tabbladen. Indien dit niet het geval is wordt de inschrijving ongeldig verklaard.
A58: * Het door de inschrijver ingediende inschrijfbedrag is der maximale vergoeding voor het gevraagde in de aanbestedingsdocumenten.
A62: EINDTOTAAL KOSTEN PER JAAR SUBONDERDEEL A + B EXCLUSIEF BTW | H62: =H50+H41 -> #DIV/0!
A63: B.T.W. | G63: 0.21 | H63: =G63*H62 -> #DIV/0!
A64: Totale kosten per jaar inclusief B.T.W. subonderdeel A + B | H64: =H62+H63 -> #DIV/0!

Sheet 2-Productie normen
A1: Invoervelden
A3: Naam opdrachtgever | B3: ='1-Contractblad totaal'!B3 -> Gerrit Rietveld Academie
A4: Calculatie onderdeel | B4: =MID(CELL("bestandsnaam",$B$7),SEARCH("]",CELL("bestandsnaam",$B$7),1)+1,256) -> 2-Productie normen
A5: Gebouw/plaats | B5: ='1-Contractblad totaal'!B5 -> Amsterdam
A6: Naam leverancier | B6: ='1-Contractblad totaal'!B6 -> GRA-EA-RT.ID-2020 | F6: Gewogen prestatie | H6: =SUM('3-Basis ruimtestaat'!AE:AE)/SUM('3-Basis ruimtestaat'!S:U) -> #DIV/0!
A8: Frequentie van uitvoering (per jaar): | B8: 2 | C8: 24 | D8: 240 | I8: 1.25 | J8: 1.5
A9: Ruimtecategorie | B9: Prestatienorm in aantal m2 per uur | F9: ER KMS code | G9: M2 Totaal | H9: Naloop opslag | I9: Weekend opslag | J9: Feestdag opslag
A10: Administratieve ruimten | F10: 1 | G10: =SUMIF('3-Basis ruimtestaat'!G:G,'2-Productie normen'!A10,'3-Basis ruimtestaat'!I:I) -> 2161.13
A11: Aula | F11: 6 | G11: =SUMIF('3-Basis ruimtestaat'!G:G,'2-Productie normen'!A11,'3-Basis ruimtestaat'!I:I) -> 352.8 | L11: Freq | M11: Kolom | N11: Frequentie verklaring
A12: Bibliotheek | F12: 1 | G12: =SUMIF('3-Basis ruimtestaat'!G:G,'2-Productie normen'!A12,'3-Basis ruimtestaat'!I:I) -> 273 | L12: 2 | M12: 2 | N12: 2 x per jaar
A13: Entrée/hal | F13: 5 | G13: =SUMIF('3-Basis ruimtestaat'!G:G,'2-Productie normen'!A13,'3-Basis ruimtestaat'!I:I) -> 262.08 | L13: 24 | M13: 3 | N13: 1 x per twee weken
A14: Gangen en hallen | F14: 6 | G14: =SUMIF('3-Basis ruimtestaat'!G:G,'2-Productie normen'!A14,'3-Basis ruimtestaat'!I:I) -> 2101.94 | L14: 240 | M14: 4 | N14: 5 x per week (48 weken)
A15: Gedeelde onderwijsruimten | F15: 2 | G15: =SUMIF('3-Basis ruimtestaat'!G:G,'2-Productie normen'!A15,'3-Basis ruimtestaat'!I:I) -> 1509.15
A16: Kantine/algemene ruimte | F16: 3 | G16: =SUMIF('3-Basis ruimtestaat'!G:G,'2-Productie normen'!A16,'3-Basis ruimtestaat'!I:I) -> 438.08
A17: Liften | F17: 6 | G17: =SUMIF('3-Basis ruimtestaat'!G:G,'2-Productie normen'!A17,'3-Basis ruimtestaat'!I:I) -> 19.65
A18: Pantry | F18: 3 | G18: =SUMIF('3-Basis ruimtestaat'!G:G,'2-Productie normen'!A18,'3-Basis ruimtestaat'!I:I) -> 121.15
A19: Sanitaire ruimten | F19: 4 | G19: =SUMIF('3-Basis ruimtestaat'!G:G,'2-Productie normen'!A19,'3-Basis ruimtestaat'!I:I) -> 262.04
A20: Trappenhuizen | F20: 6 | G20: =SUMIF('3-Basis ruimtestaat'!G:G,'2-Productie normen'!A20,'3-Basis ruimtestaat'!I:I) -> 943.94
A21: vloer keuken | F21: 6 | G21: =SUMIF('3-Basis ruimtestaat'!G:G,'2-Productie normen'!A21,'3-Basis ruimtestaat'!I:I) -> 70.56
A22: Nio | G22: =SUMIF('3-Basis ruimtestaat'!G:G,'2-Productie normen'!A22,'3-Basis ruimtestaat'!I:I) -> 239.72
A24: Totaal | G24: =SUM(G10:G23) -> 8755.24
A27: Kolom voor matrix | B27: 2 | C27: 3 | D27: 4

Sheet 3-Basis ruimtestaat
B1: Invoervelden
A2: 2
A3: 3 | B3: ='1-Contractblad totaal'!A3 -> Naam opdrachtgever | C3: ='1-Contractblad totaal'!B3 -> Gerrit Rietveld Academie
A4: 4 | B4: ='1-Contractblad totaal'!A4 -> Calculatie onderdeel | C4: =MID(CELL("bestandsnaam",$D$9),SEARCH("]",CELL("bestandsnaam",$D$9),1)+1,256) -> 3-Basis ruimtestaat
A5: 5 | B5: ='1-Contractblad totaal'!A5 -> Gebouw/plaats | C5: ='1-Contractblad totaal'!B5 -> Amsterdam
A6: 6 | B6: ='1-Contractblad totaal'!A6 -> Referentie nummer | C6: ='1-Contractblad totaal'!B6 -> GRA-EA-RT.ID-2020 | Y6: % van reguliere norm
A7: 7 | B7: ='1-Contractblad totaal'!A8 -> Naam dienstverlener | C7: ='1-Contractblad totaal'!B8 -> 0
A8: 8 | Y8: ='2-Productie normen'!H8 -> 0 | Z8: ='2-Productie normen'!I8 -> 1.25 | AA8: ='2-Productie normen'!J8 -> 1.5
A9: 9 | B9: Gebouw | C9: Adres | D9: Verdieping | E9: Ruimte nummer | F9: Ruimteomschrijving opdrachtgever | G9: Ruimte categorie | H9: Vloer soort | I9: M2 vloer | J9: Periodiek onderhoud | K9: Correctie factor ma t/m vr | L9: Correctie factor naloop | M9: Correctie factor za/zo | N9: Correctie factor feestdag | O9: Freq. ma-vr | P9: Freq. ma-vr naloop | Q9: Freq zat - zon | R9: Freq zat - feestdag | S9: Uren p/j ma t/m vrij | T9: Uren p/j ma t/m vrij naloop | U9: Uren p/j zat - zon | V9: Uren p/j feestdag | X9: Norm ma t/m vr | Y9: Norm ma t/m vr naloop | Z9: Norm zat, zon | AA9: Norm feestdag | AB9: ER KMS code | AC9: Bijzonderheden / opmerkingen | AE9: M2 per jaar
A10: 10 | B10: Gerrit Rietveld | D10: Souterrain | E10: S00 | F10: Gang | G10: Gangen en hallen | H10: Gecoat beton | I10: 269.01 | J10: A gang & hal | M10: 1 | N10: 1 | O10: 240 | S10: =IF(O10="nio",0,IF(O10>0,O10*I10/X10,0))*K10 -> #DIV/0! | T10: =IF(P10>0,P10*I10/Y10,0)*L10 -> 0 | U10: =IF(Q10>0,Q10*I10/Z10,0)*M10 -> 0 | V10: =IF(R10>0,R10*I10/AA10,0)*N10 -> 0 | X10: =IF(O10="nio",0,IF(O10>0,VLOOKUP(G10,'2-Productie normen'!A:L,VLOOKUP(O10,'2-Productie normen'!L:M,2,FALSE),FALSE))) -> 0 | Y10: =IF(P10>0,X10*$Y$8,0) -> 0 | Z10: =IF(Q10>0,X10*$Z$8,0) -> 0 | AA10: =IF(R10>0,X10*$AA$8,0) -> 0 | AB10: =VLOOKUP(G10,'2-Productie normen'!A:L,6,FALSE) -> 6 | AE10: =SUM(O10:Q10)*I10 -> 64562.4
A11: 11 | B11: Gerrit Rietveld | D11: Souterrain | F11: Toiletten | G11: Sanitaire ruimten | H11: Tegelvloer | I11: 13.23 | J11: Resultaatgericht | M11: 1 | N11: 1 | O11: 240 | P11: 240 | S11: =IF(O11="nio",0,IF(O11>0,O11*I11/X11,0))*K11 -> #DIV/0! | T11: =IF(P11>0,P11*I11/Y11,0)*L11 -> #DIV/0! | U11: =IF(Q11>0,Q11*I11/Z11,0)*M11 -> 0 | V11: =IF(R11>0,R11*I11/AA11,0)*N11 -> 0 | X11: =IF(O11="nio",0,IF(O11>0,VLOOKUP(G11,'2-Productie normen'!A:L,VLOOKUP(O11,'2-Productie normen'!L:M,2,FALSE),FALSE))) -> 0 | Y11: =IF(P11>0,X11*$Y$8,0) -> 0 | Z11: =IF(Q11>0,X11*$Z$8,0) -> 0 | AA11: =IF(R11>0,X11*$AA$8,0) -> 0 | AB11: =VLOOKUP(G11,'2-Productie normen'!A:L,6,FALSE) -> 4 | AE11: =SUM(O11:Q11)*I11 -> 6350.4
A12: 12 | B12: Gerrit Rietveld | D12: Souterrain | E12: S02 | F12: Opslag | G12: nio | H12: Gecoat beton | I12: 17.64 | J12: n.v.t. | M12: 1 | N12: 1 | O12: nio | S12: =IF(O12="nio",0,IF(O12>0,O12*I12/X12,0))*K12 -> 0 | T12: =IF(P12>0,P12*I12/Y12,0)*L12 -> 0 | U12: =IF(Q12>0,Q12*I12/Z12,0)*M12 -> 0 | V12: =IF(R12>0,R12*I12/AA12,0)*N12 -> 0 | X12: =IF(O12="nio",0,IF(O12>0,VLOOKUP(G12,'2-Productie normen'!A:L,VLOOKUP(O12,'2-Productie normen'!L:M,2,FALSE),FALSE))) -> 0 | Y12: =IF(P12>0,X12*$Y$8,0) -> 0 | Z12: =IF(Q12>0,X12*$Z$8,0) -> 0 | AA12: =IF(R12>0,X12*$AA$8,0) -> 0 | AB12: =VLOOKUP(G12,'2-Productie normen'!A:L,6,FALSE) -> 0 | AE12: =SUM(O12:Q12)*I12 -> 0
A13: 13 | B13: Gerrit Rietveld | D13: Souterrain | E13: S03 | F13: Noodtrap* | G13: Trappenhuizen | H13: Gecoat beton | I13: 17.64 | J13: A trap | M13: 1 | N13: 1 | O13: 24 | S13: =IF(O13="nio",0,IF(O13>0,O13*I13/X13,0))*K13 -> #DIV/0! | T13: =IF(P13>0,P13*I13/Y13,0)*L13 -> 0 | U13: =IF(Q13>0,Q13*I13/Z13,0)*M13 -> 0 | V13: =IF(R13>0,R13*I13/AA13,0)*N13 -> 0 | X13: =IF(O13="nio",0,IF(O13>0,VLOOKUP(G13,'2-Productie normen'!A:L,VLOOKUP(O13,'2-Productie normen'!L:M,2,FALSE),FALSE))) -> 0 | Y13: =IF(P13>0,X13*$Y$8,0) -> 0 | Z13: =IF(Q13>0,X13*$Z$8,0) -> 0 | AA13: =IF(R13>0,X13*$AA$8,0) -> 0 | AB13: =VLOOKUP(G13,'2-Productie normen'!A:L,6,FALSE) -> 6 | AE13: =SUM(O13:Q13)*I13 -> 423.36
A14: 14 | B14: Gerrit Rietveld | D14: Souterrain | E14: S04 | F14: Noodgang | G14: Opslag/berging | H14: Gecoat beton | I14: 13.23 | J14: P1 | M14: 1 | N14: 1 | O14: 2 | U14: =IF(Q14>0,Q14*I14/Z14,0)*M14 -> 0 | V14: =IF(R14>0,R14*I14/AA14,0)*N14 -> 0 | Z14: =IF(Q14>0,X14*$Z$8,0) -> 0 | AA14: =IF(R14>0,X14*$AA$8,0) -> 0 | AB14: n.v.t. | AC14: Wordt afgeprijsd in tabblad 9-Periodiek onderhoud
A15: 15 | B15: Gerrit Rietveld | D15: Souterrain | E15: S05 | F15: Ketelhuis | G15: nio | H15: Gecoat beton | I15: 70.56 | J15: n.v.t. | M15: 1 | N15: 1 | O15: nio | S15: =IF(O15="nio",0,IF(O15>0,O15*I15/X15,0))*K15 -> 0 | T15: =IF(P15>0,P15*I15/Y15,0)*L15 -> 0 | U15: =IF(Q15>0,Q15*I15/Z15,0)*M15 -> 0 | V15: =IF(R15>0,R15*I15/AA15,0)*N15 -> 0 | X15: =IF(O15="nio",0,IF(O15>0,VLOOKUP(G15,'2-Productie normen'!A:L,VLOOKUP(O15,'2-Productie normen'!L:M,2,FALSE),FALSE))) -> 0 | Y15: =IF(P15>0,X15*$Y$8,0) -> 0 | Z15: =IF(Q15>0,X15*$Z$8,0) -> 0 | AA15: =IF(R15>0,X15*$AA$8,0) -> 0 | AB15: =VLOOKUP(G15,'2-Productie normen'!A:L,6,FALSE) -> 0 | AE15: =SUM(O15:Q15)*I15 -> 0
A16: 16 | B16: Gerrit Rietveld | D16: Souterrain | E16: S06 | F16: Zeefdrukwerkplaats | G16: Afdelingsruimten/overige ruimten | H16: Gecoat beton | I16: 105.84 | J16: P2 | M16: 1 | N16: 1 | O16: 2 | U16: 0 | V16: 0 | W16: 0 | Z16: 0 | AA16: =IF(R16>0,X16*$AA$8,0) -> 0 | AB16: n.v.t. | AC16: Wordt afgeprijsd in tabblad 9-Periodiek onderhoud
A17: 17 | B17: Gerrit Rietveld | D17: Souterrain | E17: S07 | F17: Technische ruimte | G17: nio | H17: Gecoat beton | I17: 17.64 | J17: n.v.t. | M17: 1 | N17: 1 | O17: nio | S17: =IF(O17="nio",0,IF(O17>0,O17*I17/X17,0))*K17 -> 0 | T17: =IF(P17>0,P17*I17/Y17,0)*L17 -> 0 | U17: =IF(Q17>0,Q17*I17/Z17,0)*M17 -> 0 | V17: =IF(R17>0,R17*I17/AA17,0)*N17 -> 0 | X17: =IF(O17="nio",0,IF(O17>0,VLOOKUP(G17,'2-Productie normen'!A:L,VLOOKUP(O17,'2-Productie normen'!L:M,2,FALSE),FALSE))) -> 0 | Y17: =IF(P17>0,X17*$Y$8,0) -> 0 | Z17: =IF(Q17>0,X17*$Z$8,0) -> 0 | AA17: =IF(R17>0,X17*$AA$8,0) -> 0 | AB17: =VLOOKUP(G17,'2-Productie normen'!A:L,6,FALSE) -> 0 | AE17: =SUM(O17:Q17)*I17 -> 0
A18: 18 | B18: Gerrit Rietveld | D18: Souterrain | E18: S08 | F18: Textielwerkplaats | G18: Afdelingsruimten/overige ruimten | H18: Gecoat beton | I18: 8.82 | J18: P2 | M18: 1 | N18: 1 | O18: 2 | U18: =IF(Q18>0,Q18*I18/Z18,0)*M18 -> 0 | V18: =IF(R18>0,R18*I18/AA18,0)*N18 -> 0 | Z18: =IF(Q18>0,X18*$Z$8,0) -> 0 | AA18: =IF(R18>0,X18*$AA$8,0) -> 0 | AB18: n.v.t. | AC18: Wordt afgeprijsd in tabblad 9-Periodiek onderhoud
A19: 19 | B19: Gerrit Rietveld | D19: Souterrain | E19: S09 | F19: Edelsmedenwerkplaats | G19: Afdelingsruimten/overige ruimten | H19: Gecoat beton | I19: 97.02 | J19: P2 | M19: 1 | N19: 1 | O19: 2 | U19: =IF(Q19>0,Q19*I19/Z19,0)*M19 -> 0 | V19: =IF(R19>0,R19*I19/AA19,0)*N19 -> 0 | Z19: =IF(Q19>0,X19*$Z$8,0) -> 0 | AA19: =IF(R19>0,X19*$AA$8,0) -> 0 | AB19: n.v.t. | AC19: Wordt afgeprijsd in tabblad 9-Periodiek onderhoud
A20: 20 | B20: Gerrit Rietveld | D20: Souterrain | E20: S10 | F20: Edelsmedenwerkplaats kantoor | G20: Administratieve ruimten | H20: Gecoat beton | I20: 17.64 | J20: A kantoor | M20: 1 | N20: 1 | O20: 240 | S20: =IF(O20="nio",0,IF(O20>0,O20*I20/X20,0))*K20 -> #DIV/0! | T20: =IF(P20>0,P20*I20/Y20,0)*L20 -> 0 | U20: =IF(Q20>0,Q20*I20/Z20,0)*M20 -> 0 | V20: =IF(R20>0,R20*I20/AA20,0)*N20 -> 0 | X20: =IF(O20="nio",0,IF(O20>0,VLOOKUP(G20,'2-Productie normen'!A:L,VLOOKUP(O20,'2-Productie normen'!L:M,2,FALSE),FALSE))) -> 0 | Y20: =IF(P20>0,X20*$Y$8,0) -> 0 | Z20: =IF(Q20>0,X20*$Z$8,0) -> 0 | AA20: =IF(R20>0,X20*$AA$8,0) -> 0 | AB20: =VLOOKUP(G20,'2-Productie normen'!A:L,6,FALSE) -> 1 | AE20: =SUM(O20:Q20)*I20 -> 4233.6
A21: 21 | B21: Gerrit Rietveld | D21: Souterrain | E21: S11 | F21: Hamerhok | G21: Afdelingsruimten/overige ruimten | H21: Gecoat beton | I21: 26.46 | J21: P2 | M21: 1 | N21: 1 | O21: 2 | U21: =IF(Q21>0,Q21*I21/Z21,0)*M21 -> 0 | V21: =IF(R21>0,R21*I21/AA21,0)*N21 -> 0 | Z21: =IF(Q21>0,X21*$Z$8,0) -> 0 | AA21: =IF(R21>0,X21*$AA$8,0) -> 0 | AB21: n.v.t. | AC21: Wordt afgeprijsd in tabblad 9-Periodiek onderhoud
A22: 22 | B22: Gerrit Rietveld | D22: Souterrain | E22: S12 | F22: Opslag | G22: Opslag/berging | H22: Gecoat beton | I22: 8.82 | J22: P1 | M22: 1 | N22: 1 | O22: 2 | U22: =IF(Q22>0,Q22*I22/Z22,0)*M22 -> 0 | V22: =IF(R22>0,R22*I22/AA22,0)*N22 -> 0 | Z22: =IF(Q22>0,X22*$Z$8,0) -> 0 | AA22: =IF(R22>0,X22*$AA$8,0) -> 0 | AB22: n.v.t. | AC22: Wordt afgeprijsd in tabblad 9-Periodiek onderhoud
A23: 23 | B23: Gerrit Rietveld | D23: Souterrain | E23: S13 | F23: BK | G23: Afdelingsruimten/overige ruimten | H23: Gecoat beton | I23: 66.15 | J23: P2 | M23: 1 | N23: 1 | O23: 2 | U23: =IF(Q23>0,Q23*I23/Z23,0)*M23 -> 0 | V23: =IF(R23>0,R23*I23/AA23,0)*N23 -> 0 | Z23: =IF(Q23>0,X23*$Z$8,0) -> 0 | AA23: =IF(R23>0,X23*$AA$8,0) -> 0 | AB23: n.v.t. | AC23: Wordt afgeprijsd in tabblad 9-Periodiek onderhoud
A24: 24 | B24: Gerrit Rietveld | D24: Souterrain | E24: S14 | F24: Spuitcabine | G24: nio | H24: Gecoat beton | I24: 26.46 | J24: n.v.t. | M24: 1 | N24: 1 | O24: nio | S24: =IF(O24="nio",0,IF(O24>0,O24*I24/X24,0))*K24 -> 0 | T24: =IF(P24>0,P24*I24/Y24,0)*L24 -> 0 | U24: =IF(Q24>0,Q24*I24/Z24,0)*M24 -> 0 | V24: =IF(R24>0,R24*I24/AA24,0)*N24 -> 0 | X24: =IF(O24="nio",0,IF(O24>0,VLOOKUP(G24,'2-Productie normen'!A:L,VLOOKUP(O24,'2-Productie normen'!L:M,2,FALSE),FALSE))) -> 0 | Y24: =IF(P24>0,X24*$Y$8,0) -> 0 | Z24: =IF(Q24>0,X24*$Z$8,0) -> 0 | AA24: =IF(R24>0,X24*$AA$8,0) -> 0 | AB24: =VLOOKUP(G24,'2-Productie normen'!A:L,6,FALSE) -> 0 | AE24: =SUM(O24:Q24)*I24 -> 0
A25: 25 | B25: Gerrit Rietveld | D25: Souterrain | E25: S15 | F25: Opslag | G25: Opslag/berging | H25: Gecoat beton | I25: 13.23 | J25: P1 | M25: 1 | N25: 1 | O25: 2 | U25: =IF(Q25>0,Q25*I25/Z25,0)*M25 -> 0 | V25: =IF(R25>0,R25*I25/AA25,0)*N25 -> 0 | Z25: =IF(Q25>0,X25*$Z$8,0) -> 0 | AA25: =IF(R25>0,X25*$AA$8,0) -> 0 | AB25: n.v.t. | AC25: Wordt afgeprijsd in tabblad 9-Periodiek onderhoud
A26: 26 | B26: Gerrit Rietveld | D26: Souterrain | E26: S16 | F26: Conciergewerkplaats | G26: Afdelingsruimten/overige ruimten | H26: Gecoat beton | I26: 26.46 | J26: P2 | M26: 1 | N26: 1 | O26: 2 | U26: =IF(Q26>0,Q26*I26/Z26,0)*M26 -> 0 | V26: =IF(R26>0,R26*I26/AA26,0)*N26 -> 0 | Z26: =IF(Q26>0,X26*$Z$8,0) -> 0 | AA26: =IF(R26>0,X26*$AA$8,0) -> 0 | AB26: n.v.t. | AC26: Wordt afgeprijsd in tabblad 9-Periodiek onderhoud
A27: 27 | B27: Gerrit Rietveld | D27: Souterrain | E27: S17 | F27: Vuilwaterinstallatie + opslag | G27: Opslag/berging | H27: Gecoat beton | I27: 44.1 | J27: P1 | M27: 1 | N27: 1 | O27: 2 | U27: =IF(Q27>0,Q27*I27/Z27,0)*M27 -> 0 | V27: =IF(R27>0,R27*I27/AA27,0)*N27 -> 0 | Z27: =IF(Q27>0,X27*$Z$8,0) -> 0 | AA27: =IF(R27>0,X27*$AA$8,0) -> 0 | AB27: n.v.t. | AC27: Wordt afgeprijsd in tabblad 9-Periodiek onderhoud
A28: 28 | B28: Gerrit Rietveld | D28: Souterrain | E28: S18 | F28: Opslag schoonmaak | G28: Opslag/berging | H28: Gecoat beton | I28: 13.23 | J28: P1 | M28: 1 | N28: 1 | O28: 2 | U28: =IF(Q28>0,Q28*I28/Z28,0)*M28 -> 0 | V28: =IF(R28>0,R28*I28/AA28,0)*N28 -> 0 | Z28: =IF(Q28>0,X28*$Z$8,0) -> 0 | AA28: =IF(R28>0,X28*$AA$8,0) -> 0 | AB28: n.v.t. | AC28: Wordt afgeprijsd in tabblad 9-Periodiek onderhoud
A29: 29 | B29: Gerrit Rietveld | D29: Souterrain | E29: S20 | F29: Zetterijwerkplaats | G29: Afdelingsruimten/overige ruimten | H29: Gecoat beton | I29: 88.2 | J29: P2 | M29: 1 | N29: 1 | O29: 2 | U29: =IF(Q29>0,Q29*I29/Z29,0)*M29 -> 0 | V29: =IF(R29>0,R29*I29/AA29,0)*N29 -> 0 | Z29: =IF(Q29>0,X29*$Z$8,0) -> 0 | AA29: =IF(R29>0,X29*$AA$8,0) -> 0 | AB29: n.v.t. | AC29: Wordt afgeprijsd in tabblad 9-Periodiek onderhoud
A30: 30 | B30: Gerrit Rietveld | D30: Souterrain | E30: S25 | F30: Gymzaal | G30: Aula | H30: Ruw beton | I30: 246.96 | J30: A gang & hal | M30: 1 | N30: 1 | O30: 24 | S30: =IF(O30="nio",0,IF(O30>0,O30*I30/X30,0))*K30 -> #DIV/0! | T30: =IF(P30>0,P30*I30/Y30,0)*L30 -> 0 | U30: =IF(Q30>0,Q30*I30/Z30,0)*M30 -> 0 | V30: =IF(R30>0,R30*I30/AA30,0)*N30 -> 0 | X30: =IF(O30="nio",0,IF(O30>0,VLOOKUP(G30,'2-Productie normen'!A:L,VLOOKUP(O30,'2-Productie normen'!L:M,2,FALSE),FALSE))) -> 0 | Y30: =IF(P30>0,X30*$Y$8,0) -> 0 | Z30: =IF(Q30>0,X30*$Z$8,0) -> 0 | AA30: =IF(R30>0,X30*$AA$8,0) -> 0 | AB30: =VLOOKUP(G30,'2-Productie normen'!A:L,6,FALSE) -> 6 | AE30: =SUM(O30:Q30)*I30 -> 5927.04
A31: 31 | B31: Gerrit Rietveld | D31: Souterrain | E31: S27 | F31: Binderijwerkplaats | G31: Afdelingsruimten/overige ruimten | H31: Gecoat beton | I31: 44.1 | J31: P2 | M31: 1 | N31: 1 | O31: 2 | U31: =IF(Q31>0,Q31*I31/Z31,0)*M31 -> 0 | V31: =IF(R31>0,R31*I31/AA31,0)*N31 -> 0 | Z31: =IF(Q31>0,X31*$Z$8,0) -> 0 | AA31: =IF(R31>0,X31*$AA$8,0) -> 0 | AB31: n.v.t. | AC31: Wordt afgeprijsd in tabblad 9-Periodiek onderhoud
A32: 32 | B32: Gerrit Rietveld | D32: Souterrain | E32: S28 | F32: Werkplaats kantoor | G32: Administratieve ruimten | H32: Gecoat beton | I32: 17.64 | J32: A kantoor | M32: 1 | N32: 1 | O32: 240 | S32: =IF(O32="nio",0,IF(O32>0,O32*I32/X32,0))*K32 -> #DIV/0! | T32: =IF(P32>0,P32*I32/Y32,0)*L32 -> 0 | U32: =IF(Q32>0,Q32*I32/Z32,0)*M32 -> 0 | V32: =IF(R32>0,R32*I32/AA32,0)*N32 -> 0 | X32: =IF(O32="nio",0,IF(O32>0,VLOOKUP(G32,'2-Productie normen'!A:L,VLOOKUP(O32,'2-Productie normen'!L:M,2,FALSE),FALSE))) -> 0 | Y32: =IF(P32>0,X32*$Y$8,0) -> 0 | Z32: =IF(Q32>0,X32*$Z$8,0) -> 0 | AA32: =IF(R32>0,X32*$AA$8,0) -> 0 | AB32: =VLOOKUP(G32,'2-Productie normen'!A:L,6,FALSE) -> 1 | AE32: =SUM(O32:Q32)*I32 -> 4233.6
A33: 33 | B33: Gerrit Rietveld | D33: Souterrain | E33: S29 | F33: Grafiekwerkplaats | G33: Afdelingsruimten/overige ruimten | H33: Gecoat beton | I33: 127.89 | J33: P2 | M33: 1 | N33: 1 | O33: 2 | U33: =IF(Q33>0,Q33*I33/Z33,0)*M33 -> 0 | V33: =IF(R33>0,R33*I33/AA33,0)*N33 -> 0 | Z33: =IF(Q33>0,X33*$Z$8,0) -> 0 | AA33: =IF(R33>0,X33*$AA$8,0) -> 0 | AB33: n.v.t. | AC33: Wordt afgeprijsd in tabblad 9-Periodiek onderhoud
A34: 34 | B34: Gerrit Rietveld | D34: Souterrain | E34: S30 | F34: Textielwerkplaats | G34: Afdelingsruimten/overige ruimten | H34: Gecoat beton | I34: 158.76 | J34: P2 | M34: 1 | N34: 1 | O34: 2 | U34: =IF(Q34>0,Q34*I34/Z34,0)*M34 -> 0 | V34: =IF(R34>0,R34*I34/AA34,0)*N34 -> 0 | Z34: =IF(Q34>0,X34*$Z$8,0) -> 0 | AA34: =IF(R34>0,X34*$AA$8,0) -> 0 | AB34: n.v.t. | AC34: Wordt afgeprijsd in tabblad 9-Periodiek onderhoud
A35: 35 | B35: Gerrit Rietveld | D35: Souterrain | E35: S32 | F35: Spuiterijwerkplaats | G35: Afdelingsruimten/overige ruimten | H35: Gecoat beton | I35: 35.28 | J35: P2 | M35: 1 | N35: 1 | O35: 2 | U35: =IF(Q35>0,Q35*I35/Z35,0)*M35 -> 0 | V35: =IF(R35>0,R35*I35/AA35,0)*N35 -> 0 | Z35: =IF(Q35>0,X35*$Z$8,0) -> 0 | AA35: =IF(R35>0,X35*$AA$8,0) -> 0 | AB35: n.v.t. | AC35: Wordt afgeprijsd in tabblad 9-Periodiek onderhoud
A36: 36 | B36: Gerrit Rietveld | D36: Souterrain | E36: S00 | F36: Lift | G36: Gangen en hallen | H36: Linoleum | I36: 4.41 | J36: A gang & hal | M36: 1 | N36: 1 | O36: 240 | S36: =IF(O36="nio",0,IF(O36>0,O36*I36/X36,0))*K36 -> #DIV/0! | T36: =IF(P36>0,P36*I36/Y36,0)*L36 -> 0 | U36: =IF(Q36>0,Q36*I36/Z36,0)*M36 -> 0 | V36: =IF(R36>0,R36*I36/AA36,0)*N36 -> 0 | X36: =IF(O36="nio",0,IF(O36>0,VLOOKUP(G36,'2-Productie normen'!A:L,VLOOKUP(O36,'2-Productie normen'!L:M,2,FALSE),FALSE))) -> 0 | Y36: =IF(P36>0,X36*$Y$8,0) -> 0 | Z36: =IF(Q36>0,X36*$Z$8,0) -> 0 | AA36: =IF(R36>0,X36*$AA$8,0) -> 0 | AB36: =VLOOKUP(G36,'2-Productie normen'!A:L,6,FALSE) -> 6 | AE36: =SUM(O36:Q36)*I36 -> 1058.4
A37: 37 | B37: Gerrit Rietveld | D37: Begane Grond | E37: 000 | F37: Hal (47 weken) | G37: Entrée/hal | H37: Linoleum | I37: 105.84 | J37: A entreehal | M37: 1 | N37: 1 | O37: 240 | S37: =IF(O37="nio",0,IF(O37>0,O37*I37/X37,0))*K37 -> #DIV/0! | T37: =IF(P37>0,P37*I37/Y37,0)*L37 -> 0 | U37: =IF(Q37>0,Q37*I37/Z37,0)*M37 -> 0 | V37: =IF(R37>0,R37*I37/AA37,0)*N37 -> 0 | X37: =IF(O37="nio",0,IF(O37>0,VLOOKUP(G37,'2-Productie normen'!A:L,VLOOKUP(O37,'2-Productie normen'!L:M,2,FALSE),FALSE))) -> 0 | Y37: =IF(P37>0,X37*$Y$8,0) -> 0 | Z37: =IF(Q37>0,X37*$Z$8,0) -> 0 | AA37: =IF(R37>0,X37*$AA$8,0) -> 0 | AB37: =VLOOKUP(G37,'2-Productie normen'!A:L,6,FALSE) -> 5 | AE37: =SUM(O37:Q37)*I37 -> 25401.6
A38: 38 | B38: Gerrit Rietveld | D38: Begane Grond | E38: 001 | F38: Herentoilet (47 weken) | G38: Sanitaire ruimten | H38: Tegelvloer | I38: 13.23 | J38: Resultaatgericht | M38: 1 | N38: 1 | O38: 240 | P38: 240 | S38: =IF(O38="nio",0,IF(O38>0,O38*I38/X38,0))*K38 -> #DIV/0! | T38: =IF(P38>0,P38*I38/Y38,0)*L38 -> #DIV/0! | U38: =IF(Q38>0,Q38*I38/Z38,0)*M38 -> 0 | V38: =IF(R38>0,R38*I38/AA38,0)*N38 -> 0 | X38: =IF(O38="nio",0,IF(O38>0,VLOOKUP(G38,'2-Productie normen'!A:L,VLOOKUP(O38,'2-Productie normen'!L:M,2,FALSE),FALSE))) -> 0 | Y38: =IF(P38>0,X38*$Y$8,0) -> 0 | Z38: =IF(Q38>0,X38*$Z$8,0) -> 0 | AA38: =IF(R38>0,X38*$AA$8,0) -> 0 | AB38: =VLOOKUP(G38,'2-Productie normen'!A:L,6,FALSE) -> 4 | AE38: =SUM(O38:Q38)*I38 -> 6350.4
A39: 39 | B39: Gerrit Rietveld | D39: Begane Grond | E39: 002 | F39: Damestoilet (47 weken) | G39: Sanitaire ruimten | H39: Tegelvloer | I39: 11.03 | J39: Resultaatgericht | M39: 1 | N39: 1 | O39: 240 | P39: 240 | S39: =IF(O39="nio",0,IF(O39>0,O39*I39/X39,0))*K39 -> #DIV/0! | T39: =IF(P39>0,P39*I39/Y39,0)*L39 -> #DIV/0! | U39: =IF(Q39>0,Q39*I39/Z39,0)*M39 -> 0 | V39: =IF(R39>0,R39*I39/AA39,0)*N39 -> 0 | X39: =IF(O39="nio",0,IF(O39>0,VLOOKUP(G39,'2-Productie normen'!A:L,VLOOKUP(O39,'2-Productie normen'!L:M,2,FALSE),FALSE))) -> 0 | Y39: =IF(P39>0,X39*$Y$8,0) -> 0 | Z39: =IF(Q39>0,X39*$Z$8,0) -> 0 | AA39: =IF(R39>0,X39*$AA$8,0) -> 0 | AB39: =VLOOKUP(G39,'2-Productie normen'!A:L,6,FALSE) -> 4 | AE39: =SUM(O39:Q39)*I39 -> 5294.4
A40: 40 | B40: Gerrit Rietveld | D40: Begane Grond | E40: 003 | F40: Noodtrap* | G40: Trappenhuizen | H40: Gecoat beton | I40: 26.46 | J40: A trap | M40: 1 | N40: 1 | O40: 24 | S40: =IF(O40="nio",0,IF(O40>0,O40*I40/X40,0))*K40 -> #DIV/0! | T40: =IF(P40>0,P40*I40/Y40,0)*L40 -> 0 | U40: =IF(Q40>0,Q40*I40/Z40,0)*M40 -> 0 | V40: =IF(R40>0,R40*I40/AA40,0)*N40 -> 0 | X40: =IF(O40="nio",0,IF(O40>0,VLOOKUP(G40,'2-Productie normen'!A:L,VLOOKUP(O40,'2-Productie normen'!L:M,2,FALSE),FALSE))) -> 0 | Y40: =IF(P40>0,X40*$Y$8,0) -> 0 | Z40: =IF(Q40>0,X40*$Z$8,0) -> 0 | AA40: =IF(R40>0,X40*$AA$8,0) -> 0 | AB40: =VLOOKUP(G40,'2-Productie normen'!A:L,6,FALSE) -> 6 | AE40: =SUM(O40:Q40)*I40 -> 635.04
A41: 41 | B41: Gerrit Rietveld | D41: Begane Grond | E41: 004 | F41: Entree | G41: Entrée/hal | H41: Rubberen inloop mat | I41: 35.28 | J41: A entreehal | M41: 1 | N41: 1 | O41: 240 | S41: =IF(O41="nio",0,IF(O41>0,O41*I41/X41,0))*K41 -> #DIV/0! | T41: =IF(P41>0,P41*I41/Y41,0)*L41 -> 0 | U41: =IF(Q41>0,Q41*I41/Z41,0)*M41 -> 0 | V41: =IF(R41>0,R41*I41/AA41,0)*N41 -> 0 | X41: =IF(O41="nio",0,IF(O41>0,VLOOKUP(G41,'2-Productie normen'!A:L,VLOOKUP(O41,'2-Productie normen'!L:M,2,FALSE),FALSE))) -> 0 | Y41: =IF(P41>0,X41*$Y$8,0) -> 0 | Z41: =IF(Q41>0,X41*$Z$8,0) -> 0 | AA41: =IF(R41>0,X41*$AA$8,0) -> 0 | AB41: =VLOOKUP(G41,'2-Productie normen'!A:L,6,FALSE) -> 5 | AE41: =SUM(O41:Q41)*I41 -> 8467.2
A42: 42 | B42: Gerrit Rietveld | D42: Begane Grond | E42: 005 | F42: Kantoor staf | G42: Administratieve ruimten | H42: Linoleum | I42: 35.28 | J42: A kantoor | M42: 1 | N42: 1 | O42: 240 | S42: =IF(O42="nio",0,IF(O42>0,O42*I42/X42,0))*K42 -> #DIV/0! | T42: =IF(P42>0,P42*I42/Y42,0)*L42 -> 0 | U42: =IF(Q42>0,Q42*I42/Z42,0)*M42 -> 0 | V42: =IF(R42>0,R42*I42/AA42,0)*N42 -> 0 | X42: =IF(O42="nio",0,IF(O42>0,VLOOKUP(G42,'2-Productie normen'!A:L,VLOOKUP(O42,'2-Productie normen'!L:M,2,FALSE),FALSE))) -> 0 | Y42: =IF(P42>0,X42*$Y$8,0) -> 0 | Z42: =IF(Q42>0,X42*$Z$8,0) -> 0 | AA42: =IF(R42>0,X42*$AA$8,0) -> 0 | AB42: =VLOOKUP(G42,'2-Productie normen'!A:L,6,FALSE) -> 1 | AE42: =SUM(O42:Q42)*I42 -> 8467.2
A43: 43 | B43: Gerrit Rietveld | D43: Begane Grond | E43: 006 | F43: Edelsmeden | G43: Afdelingsruimten/overige ruimten | H43: Linoleum | I43: 4.41 | J43: P2 | M43: 1 | N43: 1 | O43: 2 | U43: =IF(Q43>0,Q43*I43/Z43,0)*M43 -> 0 | V43: =IF(R43>0,R43*I43/AA43,0)*N43 -> 0 | Z43: =IF(Q43>0,X43*$Z$8,0) -> 0 | AA43: =IF(R43>0,X43*$AA$8,0) -> 0 | AB43: n.v.t. | AC43: Wordt afgeprijsd in tabblad 9-Periodiek onderhoud
A44: 44 | B44: Gerrit Rietveld | D44: Begane Grond | E44: 007 | F44: Edelsmeden | G44: Afdelingsruimten/overige ruimten | H44: Linoleum | I44: 154.35 | J44: P2 | M44: 1 | N44: 1 | O44: 2 | U44: =IF(Q44>0,Q44*I44/Z44,0)*M44 -> 0 | V44: =IF(R44>0,R44*I44/AA44,0)*N44 -> 0 | Z44: =IF(Q44>0,X44*$Z$8,0) -> 0 | AA44: =IF(R44>0,X44*$AA$8,0) -> 0 | AB44: n.v.t. | AC44: Wordt afgeprijsd in tabblad 9-Periodiek onderhoud
A45: 45 | B45: Gerrit Rietveld | D45: Begane Grond | E45: 008 | F45: Edelsmeden | G45: Afdelingsruimten/overige ruimten | H45: Linoleum | I45: 52.92 | J45: P2 | M45: 1 | N45: 1 | O45: 2 | U45: =IF(Q45>0,Q45*I45/Z45,0)*M45 -> 0 | V45: =IF(R45>0,R45*I45/AA45,0)*N45 -> 0 | Z45: =IF(Q45>0,X45*$Z$8,0) -> 0 | AA45: =IF(R45>0,X45*$AA$8,0) -> 0 | AB45: n.v.t. | AC45: Wordt afgeprijsd in tabblad 9-Periodiek onderhoud
A46: 46 | B46: Gerrit Rietveld | D46: Begane Grond | E46: 009 | F46: BK | G46: Afdelingsruimten/overige ruimten | H46: Linoleum | I46: 185.22 | J46: P2 | M46: 1 | N46: 1 | O46: 2 | U46: =IF(Q46>0,Q46*I46/Z46,0)*M46 -> 0 | V46: =IF(R46>0,R46*I46/AA46,0)*N46 -> 0 | Z46: =IF(Q46>0,X46*$Z$8,0) -> 0 | AA46: =IF(R46>0,X46*$AA$8,0) -> 0 | AB46: n.v.t. | AC46: Wordt afgeprijsd in tabblad 9-Periodiek onderhoud
A47: 47 | B47: Gerrit Rietveld | D47: Begane Grond | E47: 013 | F47: BK | G47: Afdelingsruimten/overige ruimten | H47: Linoleum | I47: 52.92 | J47: P2 | M47: 1 | N47: 1 | O47: 2 | U47: =IF(Q47>0,Q47*I47/Z47,0)*M47 -> 0 | V47: =IF(R47>0,R47*I47/AA47,0)*N47 -> 0 | Z47: =IF(Q47>0,X47*$Z$8,0) -> 0 | AA47: =IF(R47>0,X47*$AA$8,0) -> 0 | AB47: n.v.t. | AC47: Wordt afgeprijsd in tabblad 9-Periodiek onderhoud
A48: 48 | B48: Gerrit Rietveld | D48: Begane Grond | E48: 014 | F48: BK | G48: Afdelingsruimten/overige ruimten | H48: Linoleum | I48: 246.96 | J48: P2 | M48: 1 | N48: 1 | O48: 2 | U48: =IF(Q48>0,Q48*I48/Z48,0)*M48 -> 0 | V48: =IF(R48>0,R48*I48/AA48,0)*N48 -> 0 | Z48: =IF(Q48>0,X48*$Z$8,0) -> 0 | AA48: =IF(R48>0,X48*$AA$8,0) -> 0 | AB48: n.v.t. | AC48: Wordt afgeprijsd in tabblad 9-Periodiek onderhoud
A49: 49 | B49: Gerrit Rietveld | D49: Begane Grond | E49: 015 | F49: Metaalwerkplaats | G49: Afdelingsruimten/overige ruimten | H49: Linoleum | I49: 189.63 | J49: P2 | M49: 1 | N49: 1 | O49: 2 | U49: =IF(Q49>0,Q49*I49/Z49,0)*M49 -> 0 | V49: =IF(R49>0,R49*I49/AA49,0)*N49 -> 0 | Z49: =IF(Q49>0,X49*$Z$8,0) -> 0 | AA49: =IF(R49>0,X49*$AA$8,0) -> 0 | AB49: n.v.t. | AC49: Wordt afgeprijsd in tabblad 9-Periodiek onderhoud
A50: 50 | B50: Gerrit Rietveld | D50: Begane Grond | E50: 016 | F50: Metaalwerkplaats kantoor | G50: Administratieve ruimten | H50: Linoleum | I50: 26.46 | J50: A kantoor | M50: 1 | N50: 1 | O50: 240 | S50: =IF(O50="nio",0,IF(O50>0,O50*I50/X50,0))*K50 -> #DIV/0! | T50: =IF(P50>0,P50*I50/Y50,0)*L50 -> 0 | U50: =IF(Q50>0,Q50*I50/Z50,0)*M50 -> 0 | V50: =IF(R50>0,R50*I50/AA50,0)*N50 -> 0 | X50: =IF(O50="nio",0,IF(O50>0,VLOOKUP(G50,'2-Productie normen'!A:L,VLOOKUP(O50,'2-Productie normen'!L:M,2,FALSE),FALSE))) -> 0 | Y50: =IF(P50>0,X50*$Y$8,0) -> 0 | Z50: =IF(Q50>0,X50*$Z$8,0) -> 0 | AA50: =IF(R50>0,X50*$AA$8,0) -> 0 | AB50: =VLOOKUP(G50,'2-Productie normen'!A:L,6,FALSE) -> 1 | AE50: =SUM(O50:Q50)*I50 -> 6350.4
A51: 51 | B51: Gerrit Rietveld | D51: Begane Grond | E51: 019 | F51: BK | G51: Afdelingsruimten/overige ruimten | H51: Gecoat beton | I51: 105.84 | J51: P2 | M51: 1 | N51: 1 | O51: 2 | U51: =IF(Q51>0,Q51*I51/Z51,0)*M51 -> 0 | V51: =IF(R51>0,R51*I51/AA51,0)*N51 -> 0 | Z51: =IF(Q51>0,X51*$Z$8,0) -> 0 | AA51: =IF(R51>0,X51*$AA$8,0) -> 0 | AB51: n.v.t. | AC51: Wordt afgeprijsd in tabblad 9-Periodiek onderhoud
A52: 52 | B52: Gerrit Rietveld | D52: Begane Grond | E52: 020 | F52: Glas | G52: Afdelingsruimten/overige ruimten | H52: Gecoat beton | I52: 70.56 | J52: P2 | M52: 1 | N52: 1 | O52: 2 | U52: =IF(Q52>0,Q52*I52/Z52,0)*M52 -> 0 | V52: =IF(R52>0,R52*I52/AA52,0)*N52 -> 0 | Z52: =IF(Q52>0,X52*$Z$8,0) -> 0 | AA52: =IF(R52>0,X52*$AA$8,0) -> 0 | AB52: n.v.t. | AC52: Wordt afgeprijsd in tabblad 9-Periodiek onderhoud
A53: 53 | B53: Gerrit Rietveld | D53: Begane Grond | E53: 021 | F53: Glaswerkplaats | G53: Afdelingsruimten/overige ruimten | H53: Gecoat beton | I53: 154.35 | J53: P2 | M53: 1 | N53: 1 | O53: 2 | U53: =IF(Q53>0,Q53*I53/Z53,0)*M53 -> 0 | V53: =IF(R53>0,R53*I53/AA53,0)*N53 -> 0 | Z53: =IF(Q53>0,X53*$Z$8,0) -> 0 | AA53: =IF(R53>0,X53*$AA$8,0) -> 0 | AB53: n.v.t. | AC53: Wordt afgeprijsd in tabblad 9-Periodiek onderhoud
A54: 54 | B54: Gerrit Rietveld | D54: Begane Grond | E54: t0 | F54: Hoofdtrap(47 wkn) (van BG naar 1) | G54: Trappenhuizen | H54: Gecoat beton | I54: 52.92 | J54: A trap | M54: 1 | N54: 1 | O54: 240 | S54: =IF(O54="nio",0,IF(O54>0,O54*I54/X54,0))*K54 -> #DIV/0! | T54: =IF(P54>0,P54*I54/Y54,0)*L54 -> 0 | U54: =IF(Q54>0,Q54*I54/Z54,0)*M54 -> 0 | V54: =IF(R54>0,R54*I54/AA54,0)*N54 -> 0 | X54: =IF(O54="nio",0,IF(O54>0,VLOOKUP(G54,'2-Productie normen'!A:L,VLOOKUP(O54,'2-Productie normen'!L:M,2,FALSE),FALSE))) -> 0 | Y54: =IF(P54>0,X54*$Y$8,0) -> 0 | Z54: =IF(Q54>0,X54*$Z$8,0) -> 0 | AA54: =IF(R54>0,X54*$AA$8,0) -> 0 | AB54: =VLOOKUP(G54,'2-Productie normen'!A:L,6,FALSE) -> 6 | AE54: =SUM(O54:Q54)*I54 -> 12700.8
A55: 55 | B55: Gerrit Rietveld | D55: Begane Grond | E55: 027 | F55: Gang | G55: Gangen en hallen | H55: Linoleum | I55: 273.42 | J55: A gang & hal | M55: 1 | N55: 1 | O55: 240 | S55: =IF(O55="nio",0,IF(O55>0,O55*I55/X55,0))*K55 -> #DIV/0! | T55: =IF(P55>0,P55*I55/Y55,0)*L55 -> 0 | U55: =IF(Q55>0,Q55*I55/Z55,0)*M55 -> 0 | V55: =IF(R55>0,R55*I55/AA55,0)*N55 -> 0 | X55: =IF(O55="nio",0,IF(O55>0,VLOOKUP(G55,'2-Productie normen'!A:L,VLOOKUP(O55,'2-Productie normen'!L:M,2,FALSE),FALSE))) -> 0 | Y55: =IF(P55>0,X55*$Y$8,0) -> 0 | Z55: =IF(Q55>0,X55*$Z$8,0) -> 0 | AA55: =IF(R55>0,X55*$AA$8,0) -> 0 | AB55: =VLOOKUP(G55,'2-Productie normen'!A:L,6,FALSE) -> 6 | AE55: =SUM(O55:Q55)*I55 -> 65620.8
A56: 56 | B56: Gerrit Rietveld | D56: Begane Grond | E56: 030 | F56: Textielwerkplaats | G56: Afdelingsruimten/overige ruimten | H56: Linoleum | I56: 52.92 | J56: P2 | M56: 1 | N56: 1 | O56: 2 | U56: =IF(Q56>0,Q56*I56/Z56,0)*M56 -> 0 | V56: =IF(R56>0,R56*I56/AA56,0)*N56 -> 0 | Z56: =IF(Q56>0,X56*$Z$8,0) -> 0 | AA56: =IF(R56>0,X56*$AA$8,0) -> 0 | AB56: n.v.t. | AC56: Wordt afgeprijsd in tabblad 9-Periodiek onderhoud
A57: 57 | B57: Gerrit Rietveld | D57: Begane Grond | E57: 032 | F57: Textiel | G57: Afdelingsruimten/overige ruimten | H57: Linoleum | I57: 105.84 | J57: P2 | M57: 1 | N57: 1 | O57: 2 | U57: =IF(Q57>0,Q57*I57/Z57,0)*M57 -> 0 | V57: =IF(R57>0,R57*I57/AA57,0)*N57 -> 0 | Z57: =IF(Q57>0,X57*$Z$8,0) -> 0 | AA57: =IF(R57>0,X57*$AA$8,0) -> 0 | AB57: n.v.t. | AC57: Wordt afgeprijsd in tabblad 9-Periodiek onderhoud
A58: 58 | B58: Gerrit Rietveld | D58: Begane Grond | E58: 033 | F58: Textiel | G58: Afdelingsruimten/overige ruimten | H58: Linoleum | I58: 52.92 | J58: P2 | M58: 1 | N58: 1 | O58: 2 | U58: =IF(Q58>0,Q58*I58/Z58,0)*M58 -> 0 | V58: =IF(R58>0,R58*I58/AA58,0)*N58 -> 0 | Z58: =IF(Q58>0,X58*$Z$8,0) -> 0 | AA58: =IF(R58>0,X58*$AA$8,0) -> 0 | AB58: n.v.t. | AC58: Wordt afgeprijsd in tabblad 9-Periodiek onderhoud
A59: 59 | B59: Gerrit Rietveld | D59: Begane Grond | E59: 034 | F59: receptie | G59: Administratieve ruimten | H59: Linoleum | I59: 26.46 | J59: A kantoor | M59: 1 | N59: 1 | O59: 240 | S59: =IF(O59="nio",0,IF(O59>0,O59*I59/X59,0))*K59 -> #DIV/0! | T59: =IF(P59>0,P59*I59/Y59,0)*L59 -> 0 | U59: =IF(Q59>0,Q59*I59/Z59,0)*M59 -> 0 | V59: =IF(R59>0,R59*I59/AA59,0)*N59 -> 0 | X59: =IF(O59="nio",0,IF(O59>0,VLOOKUP(G59,'2-Productie normen'!A:L,VLOOKUP(O59,'2-Productie normen'!L:M,2,FALSE),FALSE))) -> 0 | Y59: =IF(P59>0,X59*$Y$8,0) -> 0 | Z59: =IF(Q59>0,X59*$Z$8,0) -> 0 | AA59: =IF(R59>0,X59*$AA$8,0) -> 0 | AB59: =VLOOKUP(G59,'2-Productie normen'!A:L,6,FALSE) -> 1 | AE59: =SUM(O59:Q59)*I59 -> 6350.4
A60: 60 | B60: Gerrit Rietveld | D60: Begane Grond | E60: 036 | F60: kantine | G60: Kantine/algemene ruimte | H60: Linoleum | I60: 167.58 | J60: A kantine | M60: 1 | N60: 1 | O60: 240 | S60: =IF(O60="nio",0,IF(O60>0,O60*I60/X60,0))*K60 -> #DIV/0! | T60: =IF(P60>0,P60*I60/Y60,0)*L60 -> 0 | U60: =IF(Q60>0,Q60*I60/Z60,0)*M60 -> 0 | V60: =IF(R60>0,R60*I60/AA60,0)*N60 -> 0 | X60: =IF(O60="nio",0,IF(O60>0,VLOOKUP(G60,'2-Productie normen'!A:L,VLOOKUP(O60,'2-Productie normen'!L:M,2,FALSE),FALSE))) -> 0 | Y60: =IF(P60>0,X60*$Y$8,0) -> 0 | Z60: =IF(Q60>0,X60*$Z$8,0) -> 0 | AA60: =IF(R60>0,X60*$AA$8,0) -> 0 | AB60: =VLOOKUP(G60,'2-Productie normen'!A:L,6,FALSE) -> 3 | AE60: =SUM(O60:Q60)*I60 -> 40219.2
A61: 61 | B61: Gerrit Rietveld | D61: Begane Grond | E61: 036 | F61: Keuken | G61: vloer keuken | H61: steen | I61: 70.56 | J61: n.v.t. | M61: 1 | N61: 1 | O61: 240 | S61: =IF(O61="nio",0,IF(O61>0,O61*I61/X61,0))*K61 -> #DIV/0! | T61: =IF(P61>0,P61*I61/Y61,0)*L61 -> 0 | U61: =IF(Q61>0,Q61*I61/Z61,0)*M61 -> 0 | V61: =IF(R61>0,R61*I61/AA61,0)*N61 -> 0 | X61: =IF(O61="nio",0,IF(O61>0,VLOOKUP(G61,'2-Productie normen'!A:L,VLOOKUP(O61,'2-Productie normen'!L:M,2,FALSE),FALSE))) -> 0 | Y61: =IF(P61>0,X61*$Y$8,0) -> 0 | Z61: =IF(Q61>0,X61*$Z$8,0) -> 0 | AA61: =IF(R61>0,X61*$AA$8,0) -> 0 | AB61: =VLOOKUP(G61,'2-Productie normen'!A:L,6,FALSE) -> 6 | AE61: =SUM(O61:Q61)*I61 -> 16934.4
A62: 62 | B62: Gerrit Rietveld | D62: Begane Grond | E62: 037 | F62: Trafo | G62: nio | H62: Tegelvloer | I62: 4.41 | J62: n.v.t. | M62: 1 | N62: 1 | O62: nio | S62: =IF(O62="nio",0,IF(O62>0,O62*I62/X62,0))*K62 -> 0 | T62: =IF(P62>0,P62*I62/Y62,0)*L62 -> 0 | U62: =IF(Q62>0,Q62*I62/Z62,0)*M62 -> 0 | V62: =IF(R62>0,R62*I62/AA62,0)*N62 -> 0 | X62: =IF(O62="nio",0,IF(O62>0,VLOOKUP(G62,'2-Productie normen'!A:L,VLOOKUP(O62,'2-Productie normen'!L:M,2,FALSE),FALSE))) -> 0 | Y62: =IF(P62>0,X62*$Y$8,0) -> 0 | Z62: =IF(Q62>0,X62*$Z$8,0) -> 0 | AA62: =IF(R62>0,X62*$AA$8,0) -> 0 | AB62: =VLOOKUP(G62,'2-Productie normen'!A:L,6,FALSE) -> 0 | AE62: =SUM(O62:Q62)*I62 -> 0
A63: 63 | B63: Gerrit Rietveld | D63: Begane Grond | E63: 038 | F63: Trafo | G63: nio | H63: Tegelvloer | I63: 6.62 | J63: n.v.t. | M63: 1 | N63: 1 | O63: nio | S63: =IF(O63="nio",0,IF(O63>0,O63*I63/X63,0))*K63 -> 0 | T63: =IF(P63>0,P63*I63/Y63,0)*L63 -> 0 | U63: =IF(Q63>0,Q63*I63/Z63,0)*M63 -> 0 | V63: =IF(R63>0,R63*I63/AA63,0)*N63 -> 0 | X63: =IF(O63="nio",0,IF(O63>0,VLOOKUP(G63,'2-Productie normen'!A:L,VLOOKUP(O63,'2-Productie normen'!L:M,2,FALSE),FALSE))) -> 0 | Y63: =IF(P63>0,X63*$Y$8,0) -> 0 | Z63: =IF(Q63>0,X63*$Z$8,0) -> 0 | AA63: =IF(R63>0,X63*$AA$8,0) -> 0 | AB63: =VLOOKUP(G63,'2-Productie normen'!A:L,6,FALSE) -> 0 | AE63: =SUM(O63:Q63)*I63 -> 0
A64: 64 | B64: Gerrit Rietveld | D64: Begane Grond | E64: 039 | F64: Paviljoen | G64: Afdelingsruimten/overige ruimten | H64: Tegelvloer | I64: 52.92 | J64: P2 | M64: 1 | N64: 1 | O64: 2 | U64: =IF(Q64>0,Q64*I64/Z64,0)*M64 -> 0 | V64: =IF(R64>0,R64*I64/AA64,0)*N64 -> 0 | Z64: =IF(Q64>0,X64*$Z$8,0) -> 0 | AA64: =IF(R64>0,X64*$AA$8,0) -> 0 | AB64: n.v.t. | AC64: Wordt afgeprijsd in tabblad 9-Periodiek onderhoud
A65: 65 | B65: Gerrit Rietveld | D65: 1e verdieping | E65: 100 | F65: Gang | G65: Gangen en hallen | H65: Linoleum | I65: 263 | J65: A gang & hal | M65: 1 | N65: 1 | O65: 240 | S65: =IF(O65="nio",0,IF(O65>0,O65*I65/X65,0))*K65 -> #DIV/0! | T65: =IF(P65>0,P65*I65/Y65,0)*L65 -> 0 | U65: =IF(Q65>0,Q65*I65/Z65,0)*M65 -> 0 | V65: =IF(R65>0,R65*I65/AA65,0)*N65 -> 0 | X65: =IF(O65="nio",0,IF(O65>0,VLOOKUP(G65,'2-Productie normen'!A:L,VLOOKUP(O65,'2-Productie normen'!L:M,2,FALSE),FALSE))) -> 0 | Y65: =IF(P65>0,X65*$Y$8,0) -> 0 | Z65: =IF(Q65>0,X65*$Z$8,0) -> 0 | AA65: =IF(R65>0,X65*$AA$8,0) -> 0 | AB65: =VLOOKUP(G65,'2-Productie normen'!A:L,6,FALSE) -> 6 | AE65: =SUM(O65:Q65)*I65 -> 63120
A66: 66 | B66: Gerrit Rietveld | D66: 1e verdieping | E66: 101 | F66: Herentoilet | G66: Sanitaire ruimten | H66: Tegelvloer | I66: 13.23 | J66: Resultaatgericht | M66: 1 | N66: 1 | O66: 240 | P66: 240 | S66: =IF(O66="nio",0,IF(O66>0,O66*I66/X66,0))*K66 -> #DIV/0! | T66: =IF(P66>0,P66*I66/Y66,0)*L66 -> #DIV/0! | U66: =IF(Q66>0,Q66*I66/Z66,0)*M66 -> 0 | V66: =IF(R66>0,R66*I66/AA66,0)*N66 -> 0 | X66: =IF(O66="nio",0,IF(O66>0,VLOOKUP(G66,'2-Productie normen'!A:L,VLOOKUP(O66,'2-Productie normen'!L:M,2,FALSE),FALSE))) -> 0 | Y66: =IF(P66>0,X66*$Y$8,0) -> 0 | Z66: =IF(Q66>0,X66*$Z$8,0) -> 0 | AA66: =IF(R66>0,X66*$AA$8,0) -> 0 | AB66: =VLOOKUP(G66,'2-Productie normen'!A:L,6,FALSE) -> 4 | AE66: =SUM(O66:Q66)*I66 -> 6350.4
A67: 67 | B67: Gerrit Rietveld | D67: 1e verdieping | E67: 102 | F67: Damestoilet | G67: Sanitaire ruimten | H67: Tegelvloer | I67: 13.23 | J67: Resultaatgericht | M67: 1 | N67: 1 | O67: 240 | P67: 240 | S67: =IF(O67="nio",0,IF(O67>0,O67*I67/X67,0))*K67 -> #DIV/0! | T67: =IF(P67>0,P67*I67/Y67,0)*L67 -> #DIV/0! | U67: =IF(Q67>0,Q67*I67/Z67,0)*M67 -> 0 | V67: =IF(R67>0,R67*I67/AA67,0)*N67 -> 0 | X67: =IF(O67="nio",0,IF(O67>0,VLOOKUP(G67,'2-Productie normen'!A:L,VLOOKUP(O67,'2-Productie normen'!L:M,2,FALSE),FALSE))) -> 0 | Y67: =IF(P67>0,X67*$Y$8,0) -> 0 | Z67: =IF(Q67>0,X67*$Z$8,0) -> 0 | AA67: =IF(R67>0,X67*$AA$8,0) -> 0 | AB67: =VLOOKUP(G67,'2-Productie normen'!A:L,6,FALSE) -> 4 | AE67: =SUM(O67:Q67)*I67 -> 6350.4
A68: 68 | B68: Gerrit Rietveld | D68: 1e verdieping | E68: nt1 | F68: Noodtrap* | G68: Trappenhuizen | H68: Gecoat beton | I68: 26.46 | J68: A trap | M68: 1 | N68: 1 | O68: 24 | S68: =IF(O68="nio",0,IF(O68>0,O68*I68/X68,0))*K68 -> #DIV/0! | T68: =IF(P68>0,P68*I68/Y68,0)*L68 -> 0 | U68: =IF(Q68>0,Q68*I68/Z68,0)*M68 -> 0 | V68: =IF(R68>0,R68*I68/AA68,0)*N68 -> 0 | X68: =IF(O68="nio",0,IF(O68>0,VLOOKUP(G68,'2-Productie normen'!A:L,VLOOKUP(O68,'2-Productie normen'!L:M,2,FALSE),FALSE))) -> 0 | Y68: =IF(P68>0,X68*$Y$8,0) -> 0 | Z68: =IF(Q68>0,X68*$Z$8,0) -> 0 | AA68: =IF(R68>0,X68*$AA$8,0) -> 0 | AB68: =VLOOKUP(G68,'2-Productie normen'!A:L,6,FALSE) -> 6 | AE68: =SUM(O68:Q68)*I68 -> 635.04
A69: 69 | B69: Gerrit Rietveld | D69: 1e verdieping | E69: 102 | F69: Kantoor | G69: Administratieve ruimten | H69: Linoleum | I69: 52.92 | J69: A kantoor | M69: 1 | N69: 1 | O69: 240 | S69: =IF(O69="nio",0,IF(O69>0,O69*I69/X69,0))*K69 -> #DIV/0! | T69: =IF(P69>0,P69*I69/Y69,0)*L69 -> 0 | U69: =IF(Q69>0,Q69*I69/Z69,0)*M69 -> 0 | V69: =IF(R69>0,R69*I69/AA69,0)*N69 -> 0 | X69: =IF(O69="nio",0,IF(O69>0,VLOOKUP(G69,'2-Productie normen'!A:L,VLOOKUP(O69,'2-Productie normen'!L:M,2,FALSE),FALSE))) -> 0 | Y69: =IF(P69>0,X69*$Y$8,0) -> 0 | Z69: =IF(Q69>0,X69*$Z$8,0) -> 0 | AA69: =IF(R69>0,X69*$AA$8,0) -> 0 | AB69: =VLOOKUP(G69,'2-Productie normen'!A:L,6,FALSE) -> 1 | AE69: =SUM(O69:Q69)*I69 -> 12700.8
A70: 70 | B70: Gerrit Rietveld | D70: 1e verdieping | E70: 103 | F70: Kantoor | G70: Administratieve ruimten | H70: Linoleum | I70: 35.28 | J70: A kantoor | M70: 1 | N70: 1 | O70: 240 | S70: =IF(O70="nio",0,IF(O70>0,O70*I70/X70,0))*K70 -> #DIV/0! | T70: =IF(P70>0,P70*I70/Y70,0)*L70 -> 0 | U70: =IF(Q70>0,Q70*I70/Z70,0)*M70 -> 0 | V70: =IF(R70>0,R70*I70/AA70,0)*N70 -> 0 | X70: =IF(O70="nio",0,IF(O70>0,VLOOKUP(G70,'2-Productie normen'!A:L,VLOOKUP(O70,'2-Productie normen'!L:M,2,FALSE),FALSE))) -> 0 | Y70: =IF(P70>0,X70*$Y$8,0) -> 0 | Z70: =IF(Q70>0,X70*$Z$8,0) -> 0 | AA70: =IF(R70>0,X70*$AA$8,0) -> 0 | AB70: =VLOOKUP(G70,'2-Productie normen'!A:L,6,FALSE) -> 1 | AE70: =SUM(O70:Q70)*I70 -> 8467.2
A71: 71 | B71: Gerrit Rietveld | D71: 1e verdieping | E71: 104 | F71: Kantoor BK | G71: Administratieve ruimten | H71: Linoleum | I71: 35.28 | J71: A kantoor | M71: 1 | N71: 1 | O71: 240 | S71: =IF(O71="nio",0,IF(O71>0,O71*I71/X71,0))*K71 -> #DIV/0! | T71: =IF(P71>0,P71*I71/Y71,0)*L71 -> 0 | U71: =IF(Q71>0,Q71*I71/Z71,0)*M71 -> 0 | V71: =IF(R71>0,R71*I71/AA71,0)*N71 -> 0 | X71: =IF(O71="nio",0,IF(O71>0,VLOOKUP(G71,'2-Productie normen'!A:L,VLOOKUP(O71,'2-Productie normen'!L:M,2,FALSE),FALSE))) -> 0 | Y71: =IF(P71>0,X71*$Y$8,0) -> 0 | Z71: =IF(Q71>0,X71*$Z$8,0) -> 0 | AA71: =IF(R71>0,X71*$AA$8,0) -> 0 | AB71: =VLOOKUP(G71,'2-Productie normen'!A:L,6,FALSE) -> 1 | AE71: =SUM(O71:Q71)*I71 -> 8467.2
A72: 72 | B72: Gerrit Rietveld | D72: 1e verdieping | E72: 107 | F72: BK | G72: Afdelingsruimten/overige ruimten | H72: Linoleum | I72: 22.05 | J72: P2 | M72: 1 | N72: 1 | O72: 2 | U72: =IF(Q72>0,Q72*I72/Z72,0)*M72 -> 0 | V72: =IF(R72>0,R72*I72/AA72,0)*N72 -> 0 | Z72: =IF(Q72>0,X72*$Z$8,0) -> 0 | AA72: =IF(R72>0,X72*$AA$8,0) -> 0 | AB72: n.v.t. | AC72: Wordt afgeprijsd in tabblad 9-Periodiek onderhoud
A73: 73 | B73: Gerrit Rietveld | D73: 1e verdieping | E73: 108 | F73: BK | G73: Afdelingsruimten/overige ruimten | H73: Linoleum | I73: 175.56 | J73: P2 | M73: 1 | N73: 1 | O73: 2 | U73: =IF(Q73>0,Q73*I73/Z73,0)*M73 -> 0 | V73: =IF(R73>0,R73*I73/AA73,0)*N73 -> 0 | Z73: =IF(Q73>0,X73*$Z$8,0) -> 0 | AA73: =IF(R73>0,X73*$AA$8,0) -> 0 | AB73: n.v.t. | AC73: Wordt afgeprijsd in tabblad 9-Periodiek onderhoud
A74: 74 | B74: Gerrit Rietveld | D74: 1e verdieping | E74: 109 | F74: BK | G74: Afdelingsruimten/overige ruimten | H74: Linoleum | I74: 13.23 | J74: P2 | M74: 1 | N74: 1 | O74: 2 | U74: =IF(Q74>0,Q74*I74/Z74,0)*M74 -> 0 | V74: =IF(R74>0,R74*I74/AA74,0)*N74 -> 0 | Z74: =IF(Q74>0,X74*$Z$8,0) -> 0 | AA74: =IF(R74>0,X74*$AA$8,0) -> 0 | AB74: n.v.t. | AC74: Wordt afgeprijsd in tabblad 9-Periodiek onderhoud
A75: 75 | B75: Gerrit Rietveld | D75: 1e verdieping | E75: 110 | F75: Theorie ruimte | G75: Gedeelde onderwijsruimten | H75: Linoleum | I75: 70.56 | J75: A gedeelde onderwijsruimten | M75: 1 | N75: 1 | O75: 240 | S75: =IF(O75="nio",0,IF(O75>0,O75*I75/X75,0))*K75 -> #DIV/0! | T75: =IF(P75>0,P75*I75/Y75,0)*L75 -> 0 | U75: =IF(Q75>0,Q75*I75/Z75,0)*M75 -> 0 | V75: =IF(R75>0,R75*I75/AA75,0)*N75 -> 0 | X75: =IF(O75="nio",0,IF(O75>0,VLOOKUP(G75,'2-Productie normen'!A:L,VLOOKUP(O75,'2-Productie normen'!L:M,2,FALSE),FALSE))) -> 0 | Y75: =IF(P75>0,X75*$Y$8,0) -> 0 | Z75: =IF(Q75>0,X75*$Z$8,0) -> 0 | AA75: =IF(R75>0,X75*$AA$8,0) -> 0 | AB75: =VLOOKUP(G75,'2-Productie normen'!A:L,6,FALSE) -> 2 | AE75: =SUM(O75:Q75)*I75 -> 16934.4
A76: 76 | B76: Gerrit Rietveld | D76: 1e verdieping | E76: 111 | F76: Textiel | G76: Afdelingsruimten/overige ruimten | H76: Linoleum | I76: 70.56 | J76: p2 | M76: 1 | N76: 1 | O76: 2 | U76: =IF(Q76>0,Q76*I76/Z76,0)*M76 -> 0 | V76: =IF(R76>0,R76*I76/AA76,0)*N76 -> 0 | Z76: =IF(Q76>0,X76*$Z$8,0) -> 0 | AA76: =IF(R76>0,X76*$AA$8,0) -> 0 | AB76: n.v.t. | AC76: Wordt afgeprijsd in tabblad 9-Periodiek onderhoud
A77: 77 | B77: Gerrit Rietveld | D77: 1e verdieping | E77: 115 | F77: Textiel | G77: Afdelingsruimten/overige ruimten | H77: Linoleum | I77: 35.28 | J77: p2 | M77: 1 | N77: 1 | O77: 2 | U77: =IF(Q77>0,Q77*I77/Z77,0)*M77 -> 0 | V77: =IF(R77>0,R77*I77/AA77,0)*N77 -> 0 | Z77: =IF(Q77>0,X77*$Z$8,0) -> 0 | AA77: =IF(R77>0,X77*$AA$8,0) -> 0 | AB77: n.v.t. | AC77: Wordt afgeprijsd in tabblad 9-Periodiek onderhoud
A78: 78 | B78: Gerrit Rietveld | D78: 1e verdieping | E78: 116 | F78: Architectural Design | G78: Gedeelde onderwijsruimten | H78: Linoleum | I78: 141.12 | J78: p2 | M78: 1 | N78: 1 | O78: 2 | U78: =IF(Q78>0,Q78*I78/Z78,0)*M78 -> 0 | V78: =IF(R78>0,R78*I78/AA78,0)*N78 -> 0 | X78: =IF(O78="nio",0,IF(O78>0,VLOOKUP(G78,'2-Productie normen'!A:L,VLOOKUP(O78,'2-Productie normen'!L:M,2,FALSE),FALSE))) -> 0 | Z78: =IF(Q78>0,X78*$Z$8,0) -> 0 | AA78: =IF(R78>0,X78*$AA$8,0) -> 0 | AB78: =VLOOKUP(G78,'2-Productie normen'!A:L,6,FALSE) -> 2 | AC78: Wordt afgeprijsd in tabblad 9-Periodiek onderhoud
A79: 79 | B79: Gerrit Rietveld | D79: 1e verdieping | F79: Keuken | G79: Pantry | H79: Hardsteen | J79: Resultaatgericht | M79: 1 | N79: 1 | O79: 240 | S79: =IF(O79="nio",0,IF(O79>0,O79*I79/X79,0))*K79 -> #DIV/0! | T79: =IF(P79>0,P79*I79/Y79,0)*L79 -> 0 | U79: =IF(Q79>0,Q79*I79/Z79,0)*M79 -> 0 | V79: =IF(R79>0,R79*I79/AA79,0)*N79 -> 0 | X79: =IF(O79="nio",0,IF(O79>0,VLOOKUP(G79,'2-Productie normen'!A:L,VLOOKUP(O79,'2-Productie normen'!L:M,2,FALSE),FALSE))) -> 0 | Y79: =IF(P79>0,X79*$Y$8,0) -> 0 | Z79: =IF(Q79>0,X79*$Z$8,0) -> 0 | AA79: =IF(R79>0,X79*$AA$8,0) -> 0 | AB79: =VLOOKUP(G79,'2-Productie normen'!A:L,6,FALSE) -> 3 | AE79: =SUM(O79:Q79)*I79 -> 0
A80: 80 | B80: Gerrit Rietveld | D80: 1e verdieping | E80: 114 | F80: Toiletten | G80: Sanitaire ruimten | H80: Tegelvloer | I80: 3.31 | J80: Resultaatgericht | M80: 1 | N80: 1 | O80: 240 | P80: 240 | S80: =IF(O80="nio",0,IF(O80>0,O80*I80/X80,0))*K80 -> #DIV/0! | T80: =IF(P80>0,P80*I80/Y80,0)*L80 -> #DIV/0! | U80: =IF(Q80>0,Q80*I80/Z80,0)*M80 -> 0 | V80: =IF(R80>0,R80*I80/AA80,0)*N80 -> 0 | X80: =IF(O80="nio",0,IF(O80>0,VLOOKUP(G80,'2-Productie normen'!A:L,VLOOKUP(O80,'2-Productie normen'!L:M,2,FALSE),FALSE))) -> 0 | Y80: =IF(P80>0,X80*$Y$8,0) -> 0 | Z80: =IF(Q80>0,X80*$Z$8,0) -> 0 | AA80: =IF(R80>0,X80*$AA$8,0) -> 0 | AB80: =VLOOKUP(G80,'2-Productie normen'!A:L,6,FALSE) -> 4 | AE80: =SUM(O80:Q80)*I80 -> 1588.8
A81: 81 | B81: Gerrit Rietveld | D81: 1e verdieping | E81: 113 | F81: Toiletten | G81: Sanitaire ruimten | H81: Tegelvloer | I81: 3.31 | J81: Resultaatgericht | M81: 1 | N81: 1 | O81: 240 | P81: 240 | S81: =IF(O81="nio",0,IF(O81>0,O81*I81/X81,0))*K81 -> #DIV/0! | T81: =IF(P81>0,P81*I81/Y81,0)*L81 -> #DIV/0! | U81: =IF(Q81>0,Q81*I81/Z81,0)*M81 -> 0 | V81: =IF(R81>0,R81*I81/AA81,0)*N81 -> 0 | X81: =IF(O81="nio",0,IF(O81>0,VLOOKUP(G81,'2-Productie normen'!A:L,VLOOKUP(O81,'2-Productie normen'!L:M,2,FALSE),FALSE))) -> 0 | Y81: =IF(P81>0,X81*$Y$8,0) -> 0 | Z81: =IF(Q81>0,X81*$Z$8,0) -> 0 | AA81: =IF(R81>0,X81*$AA$8,0) -> 0 | AB81: =VLOOKUP(G81,'2-Productie normen'!A:L,6,FALSE) -> 4 | AE81: =SUM(O81:Q81)*I81 -> 1588.8
A82: 82 | B82: Gerrit Rietveld | D82: 1e verdieping | F82: server | G82: Afdelingsruimten/overige ruimten | H82: Linoleum | I82: 4.41 | J82: p2 | M82: 1 | N82: 1 | O82: 2 | U82: =IF(Q82>0,Q82*I82/Z82,0)*M82 -> 0 | V82: =IF(R82>0,R82*I82/AA82,0)*N82 -> 0 | Z82: =IF(Q82>0,X82*$Z$8,0) -> 0 | AA82: =IF(R82>0,X82*$AA$8,0) -> 0 | AB82: n.v.t. | AC82: Wordt afgeprijsd in tabblad 9-Periodiek onderhoud
A83: 83 | B83: Gerrit Rietveld | D83: 1e verdieping | E83: 120 | F83: vav | G83: Afdelingsruimten/overige ruimten | H83: Linoleum | I83: 149.94 | J83: p2 | M83: 1 | N83: 1 | O83: 2 | U83: =IF(Q83>0,Q83*I83/Z83,0)*M83 -> 0 | V83: =IF(R83>0,R83*I83/AA83,0)*N83 -> 0 | Z83: =IF(Q83>0,X83*$Z$8,0) -> 0 | AA83: =IF(R83>0,X83*$AA$8,0) -> 0 | AB83: n.v.t. | AC83: Wordt afgeprijsd in tabblad 9-Periodiek onderhoud
A84: 84 | B84: Gerrit Rietveld | D84: 1e verdieping | E84: 123 | F84: vav | G84: Afdelingsruimten/overige ruimten | H84: Linoleum | I84: 52.92 | J84: p2 | M84: 1 | N84: 1 | O84: 2 | U84: =IF(Q84>0,Q84*I84/Z84,0)*M84 -> 0 | V84: =IF(R84>0,R84*I84/AA84,0)*N84 -> 0 | Z84: =IF(Q84>0,X84*$Z$8,0) -> 0 | AA84: =IF(R84>0,X84*$AA$8,0) -> 0 | AB84: n.v.t. | AC84: Wordt afgeprijsd in tabblad 9-Periodiek onderhoud
A85: 85 | B85: Gerrit Rietveld | D85: 1e verdieping | E85: 124 | F85: vav | G85: Afdelingsruimten/overige ruimten | H85: Linoleum | I85: 39.69 | J85: p2 | M85: 1 | N85: 1 | O85: 2 | U85: =IF(Q85>0,Q85*I85/Z85,0)*M85 -> 0 | V85: =IF(R85>0,R85*I85/AA85,0)*N85 -> 0 | Z85: =IF(Q85>0,X85*$Z$8,0) -> 0 | AA85: =IF(R85>0,X85*$AA$8,0) -> 0 | AB85: n.v.t. | AC85: Wordt afgeprijsd in tabblad 9-Periodiek onderhoud
A86: 86 | B86: Gerrit Rietveld | D86: 1e verdieping | E86: 125 | F86: vav | G86: Afdelingsruimten/overige ruimten | H86: Linoleum | I86: 26.46 | J86: p2 | M86: 1 | N86: 1 | O86: 2 | U86: =IF(Q86>0,Q86*I86/Z86,0)*M86 -> 0 | V86: =IF(R86>0,R86*I86/AA86,0)*N86 -> 0 | Z86: =IF(Q86>0,X86*$Z$8,0) -> 0 | AA86: =IF(R86>0,X86*$AA$8,0) -> 0 | AB86: n.v.t. | AC86: Wordt afgeprijsd in tabblad 9-Periodiek onderhoud
A87: 87 | B87: Gerrit Rietveld | D87: 1e verdieping | E87: 126 | F87: vav | G87: Afdelingsruimten/overige ruimten | H87: Linoleum | I87: 105.84 | J87: p2 | M87: 1 | N87: 1 | O87: 2 | U87: =IF(Q87>0,Q87*I87/Z87,0)*M87 -> 0 | V87: =IF(R87>0,R87*I87/AA87,0)*N87 -> 0 | Z87: =IF(Q87>0,X87*$Z$8,0) -> 0 | AA87: =IF(R87>0,X87*$AA$8,0) -> 0 | AB87: n.v.t. | AC87: Wordt afgeprijsd in tabblad 9-Periodiek onderhoud
A88: 88 | B88: Gerrit Rietveld | D88: 1e verdieping | E88: 128 | F88: Kantoor Vav | G88: Administratieve ruimten | H88: Linoleum | I88: 35.28 | J88: A kantoor | M88: 1 | N88: 1 | O88: 240 | S88: =IF(O88="nio",0,IF(O88>0,O88*I88/X88,0))*K88 -> #DIV/0! | T88: =IF(P88>0,P88*I88/Y88,0)*L88 -> 0 | U88: =IF(Q88>0,Q88*I88/Z88,0)*M88 -> 0 | V88: =IF(R88>0,R88*I88/AA88,0)*N88 -> 0 | X88: =IF(O88="nio",0,IF(O88>0,VLOOKUP(G88,'2-Productie normen'!A:L,VLOOKUP(O88,'2-Productie normen'!L:M,2,FALSE),FALSE))) -> 0 | Y88: =IF(P88>0,X88*$Y$8,0) -> 0 | Z88: =IF(Q88>0,X88*$Z$8,0) -> 0 | AA88: =IF(R88>0,X88*$AA$8,0) -> 0 | AB88: =VLOOKUP(G88,'2-Productie normen'!A:L,6,FALSE) -> 1 | AE88: =SUM(O88:Q88)*I88 -> 8467.2
A89: 89 | B89: Gerrit Rietveld | D89: 1e verdieping | E89: t1 | F89: Hoofdtrap (van 1 naar 2) | G89: Trappenhuizen | H89: Gecoat beton | I89: 61.74 | J89: A trap | M89: 1 | N89: 1 | O89: 240 | S89: =IF(O89="nio",0,IF(O89>0,O89*I89/X89,0))*K89 -> #DIV/0! | T89: =IF(P89>0,P89*I89/Y89,0)*L89 -> 0 | U89: =IF(Q89>0,Q89*I89/Z89,0)*M89 -> 0 | V89: =IF(R89>0,R89*I89/AA89,0)*N89 -> 0 | X89: =IF(O89="nio",0,IF(O89>0,VLOOKUP(G89,'2-Productie normen'!A:L,VLOOKUP(O89,'2-Productie normen'!L:M,2,FALSE),FALSE))) -> 0 | Y89: =IF(P89>0,X89*$Y$8,0) -> 0 | Z89: =IF(Q89>0,X89*$Z$8,0) -> 0 | AA89: =IF(R89>0,X89*$AA$8,0) -> 0 | AB89: =VLOOKUP(G89,'2-Productie normen'!A:L,6,FALSE) -> 6 | AE89: =SUM(O89:Q89)*I89 -> 14817.6
A90: 90 | B90: Gerrit Rietveld | D90: 1e verdieping | F90: Geen bruikbare ruime | G90: nio | I90: 0 | J90: n.v.t. | M90: 1 | N90: 1 | O90: nio | S90: =IF(O90="nio",0,IF(O90>0,O90*I90/X90,0))*K90 -> 0 | T90: =IF(P90>0,P90*I90/Y90,0)*L90 -> 0 | U90: =IF(Q90>0,Q90*I90/Z90,0)*M90 -> 0 | V90: =IF(R90>0,R90*I90/AA90,0)*N90 -> 0 | X90: =IF(O90="nio",0,IF(O90>0,VLOOKUP(G90,'2-Productie normen'!A:L,VLOOKUP(O90,'2-Productie normen'!L:M,2,FALSE),FALSE))) -> 0 | Y90: =IF(P90>0,X90*$Y$8,0) -> 0 | Z90: =IF(Q90>0,X90*$Z$8,0) -> 0 | AA90: =IF(R90>0,X90*$AA$8,0) -> 0 | AB90: =VLOOKUP(G90,'2-Productie normen'!A:L,6,FALSE) -> 0 | AE90: =SUM(O90:Q90)*I90 -> 0
A91: 91 | B91: Gerrit Rietveld | D91: 2e verdieping | E91: 200 | F91: Gang | G91: Gangen en hallen | H91: Linoleum | I91: 264.6 | J91: A gang & hal | M91: 1 | N91: 1 | O91: 240 | S91: =IF(O91="nio",0,IF(O91>0,O91*I91/X91,0))*K91 -> #DIV/0! | T91: =IF(P91>0,P91*I91/Y91,0)*L91 -> 0 | U91: =IF(Q91>0,Q91*I91/Z91,0)*M91 -> 0 | V91: =IF(R91>0,R91*I91/AA91,0)*N91 -> 0 | X91: =IF(O91="nio",0,IF(O91>0,VLOOKUP(G91,'2-Productie normen'!A:L,VLOOKUP(O91,'2-Productie normen'!L:M,2,FALSE),FALSE))) -> 0 | Y91: =IF(P91>0,X91*$Y$8,0) -> 0 | Z91: =IF(Q91>0,X91*$Z$8,0) -> 0 | AA91: =IF(R91>0,X91*$AA$8,0) -> 0 | AB91: =VLOOKUP(G91,'2-Productie normen'!A:L,6,FALSE) -> 6 | AE91: =SUM(O91:Q91)*I91 -> 63504
A92: 92 | B92: Gerrit Rietveld | D92: 2e verdieping | E92: 201 | F92: Herentoilet | G92: Sanitaire ruimten | H92: Tegelvloer | I92: 13.23 | J92: Resultaatgericht | M92: 1 | N92: 1 | O92: 240 | P92: 240 | S92: =IF(O92="nio",0,IF(O92>0,O92*I92/X92,0))*K92 -> #DIV/0! | T92: =IF(P92>0,P92*I92/Y92,0)*L92 -> #DIV/0! | U92: =IF(Q92>0,Q92*I92/Z92,0)*M92 -> 0 | V92: =IF(R92>0,R92*I92/AA92,0)*N92 -> 0 | X92: =IF(O92="nio",0,IF(O92>0,VLOOKUP(G92,'2-Productie normen'!A:L,VLOOKUP(O92,'2-Productie normen'!L:M,2,FALSE),FALSE))) -> 0 | Y92: =IF(P92>0,X92*$Y$8,0) -> 0 | Z92: =IF(Q92>0,X92*$Z$8,0) -> 0 | AA92: =IF(R92>0,X92*$AA$8,0) -> 0 | AB92: =VLOOKUP(G92,'2-Productie normen'!A:L,6,FALSE) -> 4 | AE92: =SUM(O92:Q92)*I92 -> 6350.4
A93: 93 | B93: Gerrit Rietveld | D93: 2e verdieping | E93: 202 | F93: Damestoilet | G93: Sanitaire ruimten | H93: Tegelvloer | I93: 13.23 | J93: Resultaatgericht | M93: 1 | N93: 1 | O93: 240 | P93: 240 | S93: =IF(O93="nio",0,IF(O93>0,O93*I93/X93,0))*K93 -> #DIV/0! | T93: =IF(P93>0,P93*I93/Y93,0)*L93 -> #DIV/0! | U93: =IF(Q93>0,Q93*I93/Z93,0)*M93 -> 0 | V93: =IF(R93>0,R93*I93/AA93,0)*N93 -> 0 | X93: =IF(O93="nio",0,IF(O93>0,VLOOKUP(G93,'2-Productie normen'!A:L,VLOOKUP(O93,'2-Productie normen'!L:M,2,FALSE),FALSE))) -> 0 | Y93: =IF(P93>0,X93*$Y$8,0) -> 0 | Z93: =IF(Q93>0,X93*$Z$8,0) -> 0 | AA93: =IF(R93>0,X93*$AA$8,0) -> 0 | AB93: =VLOOKUP(G93,'2-Productie normen'!A:L,6,FALSE) -> 4 | AE93: =SUM(O93:Q93)*I93 -> 6350.4
A94: 94 | B94: Gerrit Rietveld | D94: 2e verdieping | E94: nt2 | F94: Noodtrap* | G94: Trappenhuizen | H94: Gecoat beton | I94: 26.46 | J94: A trap | M94: 1 | N94: 1 | O94: 24 | S94: =IF(O94="nio",0,IF(O94>0,O94*I94/X94,0))*K94 -> #DIV/0! | T94: =IF(P94>0,P94*I94/Y94,0)*L94 -> 0 | U94: =IF(Q94>0,Q94*I94/Z94,0)*M94 -> 0 | V94: =IF(R94>0,R94*I94/AA94,0)*N94 -> 0 | X94: =IF(O94="nio",0,IF(O94>0,VLOOKUP(G94,'2-Productie normen'!A:L,VLOOKUP(O94,'2-Productie normen'!L:M,2,FALSE),FALSE))) -> 0 | Y94: =IF(P94>0,X94*$Y$8,0) -> 0 | Z94: =IF(Q94>0,X94*$Z$8,0) -> 0 | AA94: =IF(R94>0,X94*$AA$8,0) -> 0 | AB94: =VLOOKUP(G94,'2-Productie normen'!A:L,6,FALSE) -> 6 | AE94: =SUM(O94:Q94)*I94 -> 635.04
A95: 95 | B95: Gerrit Rietveld | D95: 2e verdieping | E95: 203 | F95: Architectural Design | G95: Afdelingsruimten/overige ruimten | H95: Linoleum | I95: 35.28 | J95: P2 | M95: 1 | N95: 1 | O95: 2 | U95: =IF(Q95>0,Q95*I95/Z95,0)*M95 -> 0 | V95: =IF(R95>0,R95*I95/AA95,0)*N95 -> 0 | Z95: =IF(Q95>0,X95*$Z$8,0) -> 0 | AA95: =IF(R95>0,X95*$AA$8,0) -> 0 | AB95: n.v.t. | AC95: Wordt afgeprijsd in tabblad 9-Periodiek onderhoud
A96: 96 | B96: Gerrit Rietveld | D96: 2e verdieping | E96: 204 | F96: Fotografie | G96: Afdelingsruimten/overige ruimten | H96: Linoleum | I96: 35.28 | J96: P2 | M96: 1 | N96: 1 | O96: 2 | U96: =IF(Q96>0,Q96*I96/Z96,0)*M96 -> 0 | V96: =IF(R96>0,R96*I96/AA96,0)*N96 -> 0 | Z96: =IF(Q96>0,X96*$Z$8,0) -> 0 | AA96: =IF(R96>0,X96*$AA$8,0) -> 0 | AB96: n.v.t. | AC96: Wordt afgeprijsd in tabblad 9-Periodiek onderhoud
A97: 97 | B97: Gerrit Rietveld | D97: 2e verdieping | E97: 206 | F97: Mode | G97: Afdelingsruimten/overige ruimten | H97: Linoleum | I97: 35.28 | J97: P2 | M97: 1 | N97: 1 | O97: 2 | U97: =IF(Q97>0,Q97*I97/Z97,0)*M97 -> 0 | V97: =IF(R97>0,R97*I97/AA97,0)*N97 -> 0 | Z97: =IF(Q97>0,X97*$Z$8,0) -> 0 | AA97: =IF(R97>0,X97*$AA$8,0) -> 0 | AB97: n.v.t. | AC97: Wordt afgeprijsd in tabblad 9-Periodiek onderhoud
A98: 98 | B98: Gerrit Rietveld | D98: 2e verdieping | E98: 205 | F98: Compwerkpl 3(moet tijdens opening wp) | G98: Gedeelde onderwijsruimten | H98: Linoleum | I98: 70.56 | J98: A gedeelde onderwijsruimten | M98: 1 | N98: 1 | O98: 240 | S98: =IF(O98="nio",0,IF(O98>0,O98*I98/X98,0))*K98 -> #DIV/0! | T98: =IF(P98>0,P98*I98/Y98,0)*L98 -> 0 | U98: =IF(Q98>0,Q98*I98/Z98,0)*M98 -> 0 | V98: =IF(R98>0,R98*I98/AA98,0)*N98 -> 0 | X98: =IF(O98="nio",0,IF(O98>0,VLOOKUP(G98,'2-Productie normen'!A:L,VLOOKUP(O98,'2-Productie normen'!L:M,2,FALSE),FALSE))) -> 0 | Y98: =IF(P98>0,X98*$Y$8,0) -> 0 | Z98: =IF(Q98>0,X98*$Z$8,0) -> 0 | AA98: =IF(R98>0,X98*$AA$8,0) -> 0 | AB98: =VLOOKUP(G98,'2-Productie normen'!A:L,6,FALSE) -> 2 | AE98: =SUM(O98:Q98)*I98 -> 16934.4
A99: 99 | B99: Gerrit Rietveld | D99: 2e verdieping | E99: 207 | F99: Kantoor mode | G99: Administratieve ruimten | H99: Linoleum | I99: 8.82 | J99: A kantoor | M99: 1 | N99: 1 | O99: 240 | S99: =IF(O99="nio",0,IF(O99>0,O99*I99/X99,0))*K99 -> #DIV/0! | T99: =IF(P99>0,P99*I99/Y99,0)*L99 -> 0 | U99: =IF(Q99>0,Q99*I99/Z99,0)*M99 -> 0 | V99: =IF(R99>0,R99*I99/AA99,0)*N99 -> 0 | X99: =IF(O99="nio",0,IF(O99>0,VLOOKUP(G99,'2-Productie normen'!A:L,VLOOKUP(O99,'2-Productie normen'!L:M,2,FALSE),FALSE))) -> 0 | Y99: =IF(P99>0,X99*$Y$8,0) -> 0 | Z99: =IF(Q99>0,X99*$Z$8,0) -> 0 | AA99: =IF(R99>0,X99*$AA$8,0) -> 0 | AB99: =VLOOKUP(G99,'2-Productie normen'!A:L,6,FALSE) -> 1 | AE99: =SUM(O99:Q99)*I99 -> 2116.8
A100: 100 | B100: Gerrit Rietveld | D100: 2e verdieping | E100: 208 | F100: Werkplaats mode | G100: Afdelingsruimten/overige ruimten | H100: Linoleum | I100: 52.92 | J100: P2 | M100: 1 | N100: 1 | O100: 2 | U100: =IF(Q100>0,Q100*I100/Z100,0)*M100 -> 0 | V100: =IF(R100>0,R100*I100/AA100,0)*N100 -> 0 | Z100: =IF(Q100>0,X100*$Z$8,0) -> 0 | AA100: =IF(R100>0,X100*$AA$8,0) -> 0 | AB100: n.v.t. | AC100: Wordt afgeprijsd in tabblad 9-Periodiek onderhoud
...

Sheet 4-Premies en opslagen
A1: Invoervelden
A3: ='1-Contractblad totaal'!A3 -> Naam opdrachtgever | B3: ='1-Contractblad totaal'!B3 -> Gerrit Rietveld Academie
A4: ='1-Contractblad totaal'!A4 -> Calculatie onderdeel | B4: =MID(CELL("bestandsnaam",$C$9),SEARCH("]",CELL("bestandsnaam",$C$9),1)+1,256) -> 4-Premies en opslagen
A5: ='1-Contractblad totaal'!A5 -> Gebouw/plaats | B5: ='1-Contractblad totaal'!B5 -> Amsterdam
A6: ='1-Contractblad totaal'!A6 -> Referentie nummer | B6: ='1-Contractblad totaal'!B6 -> GRA-EA-RT.ID-2020
A7: ='1-Contractblad totaal'!A8 -> Naam dienstverlener | B7: ='1-Contractblad totaal'!B8 -> 0
A8: ='1-Contractblad totaal'!A9 -> Prijspeil | B8: ='1-Contractblad totaal'!B9 -> 44348
A10: Sociale verzekeringen
C12: Bedrijfsgemiddelde
A13: WIA Basispremie
A14: WGA
A15: ZW-flex
A16: Totaal | C16: =SUM(C13:C15) -> 0
A18: WW premie- Algemeen Werkeloosheidsfonds (Awf)
A19: Transitievergoeding
A20: Zorgverzekeringswet (Zvw)
A21: OP/NP | C21: =C35 -> #DIV/0!
A22: Pensioen overgangsregeling
A23: Kinderopvang
A24: RAS premie
A25: Totaal opslag sociale lasten | C25: =SUM(C16:C24) -> #DIV/0!
A27: Sociale verzekeringen - Ouderdomspensioen (OP/NP)
C29: werkgeversdeel
A30: SV uurloon inclusief toeslagen | C30: ='5-Opbouw uurtarief productie'!E22 -> 0
A31: Franchise OP-premie per uur | B31: Let op -/- bedrag
A32: Grondslag loon voor berekening OP premie | C32: =C30+C31 -> 0
A33: Premie Ouderdomspensioen (OP)
A35: Effectieve OP premie | C35: =(C32/C30)*C33 -> #DIV/0!
A37: Berekening werkbaredagen
B39: Schoonmaak
A40: Aantal kalenderdagen
A41: Weekenddagen
A42: Werkdagen per jaar | B42: =B40-B41 -> 0
A44: Nat. feestdagen, kort verzuim, bijz. CAO
A45: Vakantiedagen
A46: Ziektedagen
A47: Vorstverlet
A48: Werkbare dagen per jaar | B48: =B42-SUM(B44:B47) -> 0
A50: Nat. feestdagen, kort verzuim, bijz CAO | B50: =IF(B44=0,0,B44/$B$48) -> 0
A51: Vakantiedagen | B51: =IF(B45=0,0,B45/$B$48) -> 0
A52: Ziektedagen | B52: =IF(B46=0,0,B46/$B$48) -> 0
A53: Vorstverlet | B53: =IF(B47=0,0,B47/$B$48) -> 0
A54: Totaal % opslag werkbare dagen | B54: =SUM(B50:B53) -> 0

Sheet 5-Opbouw uurtarief productie
A1: Invoervelden
A3: ='1-Contractblad totaal'!A3 -> Naam opdrachtgever | B3: ='1-Contractblad totaal'!B3 -> Gerrit Rietveld Academie
A4: ='1-Contractblad totaal'!A4 -> Calculatie onderdeel | B4: =MID(CELL("bestandsnaam",$C$9),SEARCH("]",CELL("bestandsnaam",$C$9),1)+1,256) -> 5-Opbouw uurtarief productie
A5: ='1-Contractblad totaal'!A5 -> Gebouw/plaats | B5: ='1-Contractblad totaal'!B5 -> Amsterdam
A6: ='1-Contractblad totaal'!A6 -> Referentie nummer | B6: ='1-Contractblad totaal'!B6 -> GRA-EA-RT.ID-2020
A7: ='1-Contractblad totaal'!A8 -> Naam dienstverlener | B7: ='1-Contractblad totaal'!B8 -> 0
A8: ='1-Contractblad totaal'!A9 -> Prijspeil | B8: ='1-Contractblad totaal'!B9 -> 44348
A10: Tariefopbouw schoonmaak | E10: Gemiddeld tarief ma t/m vr | H10: Medewerker | I10: Uurlonen per 1 juni 2021
I11: 1 | J11: 2 | K11: 3 | L11: 4 | M11: 5 | N11: 6
A12: Basisuurloon | E12: =SUM(I46:N46) -> 0 | H12: 17 jaar en jonger
A13: Specialistentoeslag | C13: Projectgebonden! | H13: 18 jaar
A14: Overgangsregeling | C14: Projectgebonden! | H14: 19 jaar
A15: Gevarentoeslag (indien van toepassing) | H15: 20 jaar
A16: Bruto uurloon | E16: =SUM(E12:E15) -> 0 | H16: Vakvolwassen 0 dienstjaren
H17: Vakvolwassen 1 dienstjaar
A18: Vakantietoeslag | E18: =$C18*E16 -> 0 | H18: Vakvolwassen 2 dienstjaren
A19: Structurele eindejaarsuitkering | E19: =$C19*E16 -> 0 | H19: Vakvolwassen 3 dienstjaren
A20: Bruto uurloon inclusief toeslagen | E20: =SUM(E16:E19) -> 0 | F20: =IF(E20=0,0,E20/E$48) -> 0 | H20: Vakvolwassen 4 dienstjaren
A22: SV-loon grondslag voor berekening sociale verzekeringen | E22: =E20*0.96 -> 0 | H22: Medewerker | I22: Percentage per loongroep voor gemiddeld tarief
A23: Premies Sociale Verzekeringen | C23: [zie premies en opslagen] | E23: =E22*'4-Premies en opslagen'!$C25 -> #DIV/0! | I23: 1 | J23: 2 | K23: 3 | L23: 4 | M23: 5 | N23: 6
A24: Subtotaal loonkosten per uur inclusief sociale verzekeringen | E24: =E23+E20 -> #DIV/0! | F24: =IF(E24=0,0,E24/E$48) -> #DIV/0! | H24: 17 jaar en jonger
H25: 18 jaar
A26: Opslag niet werkbare dagen | C26: [zie premies en opslagen] | E26: =E24*'4-Premies en opslagen'!$B54 -> #DIV/0! | H26: 19 jaar
A27: Totaal loonkosten per uur | E27: =SUM(E24:E26) -> #DIV/0! | F27: =IF(E27=0,0,E27/E$48) -> #DIV/0! | H27: 20 jaar
H28: Vakvolwassen 0 dienstjaren
A29: Materiaal/- en middelen | C29: Projectgebonden! | F29: 0 | H29: Vakvolwassen 1 dienstjaar
A30: Werkkleding en uitrusting | C30: Projectgebonden! | F30: 0 | H30: Vakvolwassen 2 dienstjaren
A31: Machinekosten | E31: p.o. | H31: Vakvolwassen 3 dienstjaren
H32: Vakvolwassen 4 dienstjaren
A33: Totaal directe kosten | E33: =SUM(E27:E32) -> #DIV/0! | F33: =IF(E33=0,0,E33/E$48) -> #DIV/0! | H33: Totaal per loongroepen | I33: =SUM(I24:I32) -> 0 | J33: =SUM(J24:J32) -> 0 | K33: =SUM(K24:K32) -> 0 | L33: =SUM(L24:L32) -> 0 | M33: =SUM(M24:M32) -> 0 | N33: =SUM(N24:N32) -> 0 | O33: =SUM(I33:N33) -> 0
A35: Indirect toezicht | F35: =E35/$E$48 -> #DIV/0! | H35: Medewerker | I35: Opbouw gemiddeld tarief
A36: Managementkosten | F36: =E36/$E$48 -> #DIV/0! | I36: 1 | J36: 2 | K36: 3 | L36: 4 | M36: 5 | N36: 6
A37: P.Z. kosten | F37: =E37/$E$48 -> #DIV/0! | H37: 17 jaar en jonger | I37: =I24*I12 -> 0 | J37: =J24*J12 -> 0 | K37: =K24*K12 -> 0 | L37: =L24*L12 -> 0 | M37: =M24*M12 -> 0 | N37: =N24*N12 -> 0
A38: Opleiding | F38: =E38/$E$48 -> #DIV/0! | H38: 18 jaar | I38: =I25*I13 -> 0 | J38: =J25*J13 -> 0 | K38: =K25*K13 -> 0 | L38: =L25*L13 -> 0 | M38: =M25*M13 -> 0 | N38: =N25*N13 -> 0
A39: Administratiekosten | F39: =E39/$E$48 -> #DIV/0! | H39: 19 jaar | I39: =I26*I14 -> 0 | J39: =J26*J14 -> 0 | K39: =K26*K14 -> 0 | L39: =L26*L14 -> 0 | M39: =M26*M14 -> 0 | N39: =N26*N14 -> 0
A40: Huisvestingskosten | F40: =E40/$E$48 -> #DIV/0! | H40: 20 jaar | I40: =I27*I15 -> 0 | J40: =J27*J15 -> 0 | K40: =K27*K15 -> 0 | L40: =L27*L15 -> 0 | M40: =M27*M15 -> 0 | N40: =N27*N15 -> 0
A41: Reiskosten/autokosten | C41: Projectgebonden! | F41: =E41/$E$48 -> #DIV/0! | H41: Vakvolwassen 0 dienstjaren | I41: =I28*I16 -> 0 | J41: =J28*J16 -> 0 | K41: =K28*K16 -> 0 | L41: =L28*L16 -> 0 | M41: =M28*M16 -> 0 | N41: =N28*N16 -> 0
A42: Kosten verzuimbegeleiding | F42: =E42/$E$48 -> #DIV/0! | H42: Vakvolwassen 1 dienstjaar | I42: =I29*I17 -> 0 | J42: =J29*J17 -> 0 | K42: =K29*K17 -> 0 | L42: =L29*L17 -> 0 | M42: =M29*M17 -> 0 | N42: =N29*N17 -> 0
F43: =E43/$E$48 -> #DIV/0! | H43: Vakvolwassen 2 dienstjaren | I43: =I30*I18 -> 0 | J43: =J30*J18 -> 0 | K43: =K30*K18 -> 0 | L43: =L30*L18 -> 0 | M43: =M30*M18 -> 0 | N43: =N30*N18 -> 0
A44: Totaal indirecte kosten | E44: =SUM(E33:E43) -> #DIV/0! | F44: =IF(E44=0,0,E44/E$48) -> #DIV/0! | H44: Vakvolwassen 3 dienstjaren | I44: =I31*I19 -> 0 | J44: =J31*J19 -> 0 | K44: =K31*K19 -> 0 | L44: =L31*L19 -> 0 | M44: =M31*M19 -> 0 | N44: =N31*N19 -> 0
H45: Vakvolwassen 4 dienstjaren | I45: =I32*I20 -> 0 | J45: =J32*J20 -> 0 | K45: =K32*K20 -> 0 | L45: =L32*L20 -> 0 | M45: =M32*M20 -> 0 | N45: =N32*N20 -> 0
A46: Risico en winst | F46: =(IF(E46=0,0,E46/E$48)) -> 0 | H46: Totaal per loongroepen | I46: =SUM(I37:I45) -> 0 | J46: =SUM(J37:J45) -> 0 | K46: =SUM(K37:K45) -> 0 | L46: =SUM(L37:L45) -> 0 | M46: =SUM(M37:M45) -> 0 | N46: =SUM(N37:N45) -> 0
A48: Totaal eindtarief normale werktijden [06.00-21.30 uur] | E48: =SUM(E44:E47) -> #DIV/0! | F48: =SUM(F44:F47) -> #DIV/0!
A50: Totaal eindtarief [incl. 30% toeslag] | E50: =(E$27*1.3)+($E$48-$E$27) -> #DIV/0!
A52: Totaal eindtarief weekenden [incl. 50% toeslag] | E52: =(E$27*1.5)+($E$48-$E$27) -> #DIV/0!
A54: Totaal eindtarief feestdagen [incl. 150% toeslag] | E54: =(E$27*2.5)+($E$48-$E$27) -> #DIV/0!
A56: Gemiddeld voor za, zo en feestdagen | E56: =((E52*102)+(E54*9))/111 -> #DIV/0!

Sheet 6-Opbouw uurtarief toezicht
A1: Invoervelden
A3: ='1-Contractblad totaal'!A3 -> Naam opdrachtgever | B3: ='1-Contractblad totaal'!B3 -> Gerrit Rietveld Academie
A4: ='1-Contractblad totaal'!A4 -> Calculatie onderdeel | B4: =MID(CELL("bestandsnaam",$C$9),SEARCH("]",CELL("bestandsnaam",$C$9),1)+1,256) -> 6-Opbouw uurtarief toezicht
A5: ='1-Contractblad totaal'!A5 -> Gebouw/plaats | B5: ='1-Contractblad totaal'!B5 -> Amsterdam
A6: ='1-Contractblad totaal'!A6 -> Referentie nummer | B6: ='1-Contractblad totaal'!B6 -> GRA-EA-RT.ID-2020
A7: ='1-Contractblad totaal'!A8 -> Naam dienstverlener | B7: ='1-Contractblad totaal'!B8 -> 0
A8: ='1-Contractblad totaal'!A9 -> Prijspeil | B8: ='1-Contractblad totaal'!B9 -> 44348
A10: Tariefopbouw toezicht | E10: Gemiddeld tarief ma t/m vr | H10: Medewerker | I10: Uurlonen per 1 juni 2021
I11: 1 | J11: 2 | K11: 3 | L11: 4 | M11: 5 | N11: 6
A12: Basisuurloon | E12: =SUM(I34:N34) -> 0 | H12: Vakvolwassen 0 dienstjaren
A13: Specialistentoeslag | C13: Projectgebonden! | H13: Vakvolwassen 1 dienstjaar
A14: Overgangsregeling | C14: Projectgebonden! | H14: Vakvolwassen 2 dienstjaren
A15: Gevarentoeslag (indien van toepassing) | H15: Vakvolwassen 3 dienstjaren
A16: Bruto uurloon | E16: =SUM(E12:E15) -> 0 | H16: Vakvolwassen 4 dienstjaren
A18: Vakantietoeslag | E18: =$C18*E16 -> 0 | H18: Medewerker | I18: Percentage per loongroep voor gemiddeld tarief
A19: Structurele eindejaarsuitkering | E19: =$C19*E16 -> 0 | I19: 1 | J19: 2 | K19: 3 | L19: 4 | M19: 5 | N19: 6
A20: Bruto uurloon inclusief toeslagen | E20: =SUM(E16:E19) -> 0 | F20: =IF(E20=0,0,E20/E$48) -> 0 | H20: Vakvolwassen 0 dienstjaren
H21: Vakvolwassen 1 dienstjaar
A22: SV-loon grondslag voor berekening sociale verzekeringen | E22: =E20*0.96 -> 0 | H22: Vakvolwassen 2 dienstjaren
A23: Premies Sociale Verzekeringen | C23: [zie premies en opslagen] | E23: =E22*'4-Premies en opslagen'!$C25 -> #DIV/0! | H23: Vakvolwassen 3 dienstjaren
A24: Subtotaal loonkosten per uur inclusief sociale verzekeringen | E24: =E23+E20 -> #DIV/0! | F24: =IF(E24=0,0,E24/E$48) -> #DIV/0! | H24: Vakvolwassen 4 dienstjaren
H25: Totaal per loongroepen | I25: =SUM(I20:I24) -> 0 | J25: =SUM(J20:J24) -> 0 | K25: =SUM(K20:K24) -> 0 | L25: =SUM(L20:L24) -> 0 | M25: =SUM(M20:M24) -> 0 | N25: =SUM(N20:N24) -> 0 | O25: =SUM(I25:N25) -> 0
A26: Opslag niet werkbare dagen | C26: [zie premies en opslagen] | E26: =E24*'4-Premies en opslagen'!$B54 -> #DIV/0!
A27: Totaal loonkosten per uur | E27: =SUM(E24:E26) -> #DIV/0! | F27: =IF(E27=0,0,E27/E$48) -> #DIV/0! | H27: Medewerker | I27: Opbouw gemiddeld tarief
I28: 1 | J28: 2 | K28: 3 | L28: 4 | M28: 5 | N28: 6
A29: Materiaal/- en middelen | C29: Projectgebonden! | F29: 0
A30: Werkkleding en uitrusting | C30: Projectgebonden! | F30: 0
A31: Machinekosten | E31: p.o.
A33: Totaal directe kosten | E33: =SUM(E27:E32) -> #DIV/0! | F33: =IF(E33=0,0,E33/E$48) -> #DIV/0! | H33: Vakvolwassen 4 dienstjaren | I33: =I24*I16 -> 0 | J33: =J24*J16 -> 0 | K33: =K24*K16 -> 0 | L33: =L24*L16 -> 0 | M33: =M24*M16 -> 0 | N33: =N24*N16 -> 0
H34: Totaal per loongroepen | I34: =SUM(I29:I33) -> 0 | J34: =SUM(J29:J33) -> 0 | K34: =SUM(K29:K33) -> 0 | L34: =SUM(L29:L33) -> 0 | M34: =SUM(M29:M33) -> 0 | N34: =SUM(N29:N33) -> 0
A35: Indirect toezicht | F35: =E35/$E$48 -> #DIV/0!
A36: Managementkosten | F36: =E36/$E$48 -> #DIV/0!
A37: P.Z. kosten | F37: =E37/$E$48 -> #DIV/0!
A38: Opleiding | F38: =E38/$E$48 -> #DIV/0!
A39: Administratiekosten | F39: =E39/$E$48 -> #DIV/0!
A40: Huisvestingskosten | F40: =E40/$E$48 -> #DIV/0!
A41: Reiskosten/autokosten | C41: Projectgebonden! | F41: =E41/$E$48 -> #DIV/0!
A42: Kosten verzuimbegeleiding | F42: =E42/$E$48 -> #DIV/0!
A44: Totaal indirecte kosten | E44: =SUM(E33:E43) -> #DIV/0! | F44: =IF(E44=0,0,E44/E$48) -> #DIV/0!
A46: Risico en winst | F46: =(IF(E46=0,0,E46/E$48)) -> 0
A48: Totaal eindtarief normale werktijden [06.00-21.30 uur] | E48: =SUM(E44:E47) -> #DIV/0! | F48: =SUM(F44:F47) -> #DIV/0!
A50: Totaal eindtarief [incl. 30% toeslag] | E50: =(E$27*1.3)+($E$48-$E$27) -> #DIV/0!
A52: Totaal eindtarief weekenden [incl. 50% toeslag] | E52: =(E$27*1.5)+($E$48-$E$27) -> #DIV/0!
A54: Totaal eindtarief feestdagen [incl. 150% toeslag] | E54: =(E$27*2.5)+($E$48-$E$27) -> #DIV/0!
A56: Gemiddeld voor za, zo en feestdagen | E56: =((E52*102)+(E54*9))/111 -> #DIV/0!

Sheet 7-Additionele werkzaamheden
A1: Invoervelden
A3: ='1-Contractblad totaal'!A3 -> Naam opdrachtgever | B3: ='1-Contractblad totaal'!B3 -> Gerrit Rietveld Academie
A4: ='1-Contractblad totaal'!A4 -> Calculatie onderdeel | B4: =MID(CELL("bestandsnaam",$C$9),SEARCH("]",CELL("bestandsnaam",$C$9),1)+1,256) -> 7-Additionele werkzaamheden
A5: ='1-Contractblad totaal'!A5 -> Gebouw/plaats | B5: ='1-Contractblad totaal'!B5 -> Amsterdam
A6: ='1-Contractblad totaal'!A6 -> Referentie nummer | B6: ='1-Contractblad totaal'!B6 -> GRA-EA-RT.ID-2020
A7: ='1-Contractblad totaal'!A8 -> Naam dienstverlener | B7: ='1-Contractblad totaal'!B8 -> 0
A8: ='1-Contractblad totaal'!A9 -> Prijspeil | B8: ='1-Contractblad totaal'!B9 -> 44348
A10: Locatie | B10: Omschrijving werkzaamheden | C10: Aantal of m2 | D10: Eenheid | E10: frequentie per jaar | F10: uren per beurt | G10: uren per jaar | H10: uurtarief | I10: kosten per jaar
A11: Gerrit Rietveld Academie | B11: Onderhoud buitenentree conform werkprogramma 15.240 | C11: 30 | D11: m2 | E11: 240 | G11: =F11*E11 -> 0 | I11: =H11*G11 -> 0
A12: Gerrit Rietveld Academie | B12: Vuilcontainers in- en uitwendig reinigen. Vuilcontainers zijn vrij van gehechte vervuiling. | C12: 110 | D12: stuks | E12: 3 | G12: =F12*E12 -> 0 | I12: =H12*G12 -> 0
A13: Gerrit Rietveld Academie | B13: Transporteren restafvalcontainers naar afvalstraat, ledigen restafvalcontainers, wegpersen afval en retourneren restafvalcontainers | C13: 40 | D13: stuks | E13: 240 | G13: =F13*E13 -> 0 | I13: =H13*G13 -> 0
A14: Gerrit Rietveld Academie | B14: Transporteren papiercontainers naar afvalstraat, ledigen papiercontainers, wegpersen afval en retourneren papiercontainers | C14: 40 | D14: stuks | E14: 240 | G14: =F14*E14 -> 0 | I14: =H14*G14 -> 0
A15: Gerrit Rietveld Academie | B15: Transporteren plasticcontainers naar afvalstraat, ledigen plasticcontainers, wegpersen afval en retourneren plasticcontainers | C15: 20 | D15: stuks | E15: 42 | G15: =F15*E15 -> 0 | I15: =H15*G15 -> 0
A16: Gerrit Rietveld Academie | B16: Omwisselen glascontainers | C16: 10 | D16: stuks | E16: 42 | G16: =F16*E16 -> 0 | I16: =H16*G16 -> 0
A17: Gerrit Rietveld Academie | B17: Reinigen lokaal houtbewerking. Alle elementen (incl hoge- en liggende delen langs plafonds) zijn vrij van stof, vlek en vingertasten | C17: 200 | D17: m2 | E17: 1 | G17: =F17*E17 -> 0 | I17: =H17*G17 -> 0
A18: Gerrit Rietveld Academie | B18: Inwendig reinigen van vitrines. Glas is vrij van stof, vlek en vingertasten. | C18: 36 | D18: m2 (12 stuks) | E18: 2 | G18: =F18*E18 -> 0 | I18: =H18*G18 -> 0
A19: Gerrit Rietveld Academie | B19: Bordes schoonspuiten. Bordes inclusief overkapping is vrij van stof, vlek en vingertasten | C19: 30 | D19: m2 | E19: 48 | G19: =F19*E19 -> 0 | I19: =H19*G19 -> 0
A20: Gerrit Rietveld Academie | B20: Grote schoonmaak serverruimtes in overleg met ICT | C20: 15 | D20: m2 | E20: 1 | G20: =F20*E20 -> 0 | I20: =H20*G20 -> 0
A21: Gerrit Rietveld Academie | B21: Editing - 2x per jaar grote schoonmaak hardware en gehele ruimte | C21: 75 | D21: m2 | E21: 2 | G21: =F21*E21 -> 0 | I21: =H21*G21 -> 0
A22: Gerrit Rietveld Academie | B22: Buitenterrein los vuil en bladeren verwijderen | C22: 1 | D22: uur | E22: 240 | F22: 1 | G22: =F22*E22 -> 240 | I22: =H22*G22 -> 0
A23: Gerrit Rietveld Academie | B23: Ruimte onder bordes reinigen. Ruimte is vrij van losliggende vervuiling en begroeiing. | C23: 10 | D23: m2 | E23: 4 | G23: =F23*E23 -> 0 | I23: =H23*G23 -> 0
A25: Totaal | G25: =SUM(G11:G23) -> 240 | I25: =SUM(I11:I23) -> 0

Sheet 8-Periodiek onderhoud
A1: Invoervelden
A3: ='1-Contractblad totaal'!A3 -> Naam opdrachtgever | B3: ='1-Contractblad totaal'!B3 -> Gerrit Rietveld Academie
A4: ='1-Contractblad totaal'!A4 -> Calculatie onderdeel | B4: =MID(CELL("bestandsnaam",$C$9),SEARCH("]",CELL("bestandsnaam",$C$9),1)+1,256) -> 8-Periodiek onderhoud
A5: ='1-Contractblad totaal'!A5 -> Gebouw/plaats | B5: ='1-Contractblad totaal'!B5 -> Amsterdam
A6: ='1-Contractblad totaal'!A6 -> Referentie nummer | B6: ='1-Contractblad totaal'!B6 -> GRA-EA-RT.ID-2020
A7: ='1-Contractblad totaal'!A8 -> Naam dienstverlener | B7: ='1-Contractblad totaal'!B8 -> 0
A8: ='1-Contractblad totaal'!A9 -> Prijspeil | B8: ='1-Contractblad totaal'!B9 -> 44348
A10: Prijs periodiek onderhoud reguliere ruimten
A11: Locatie | B11: Omschrijving werkzaamheden | C11: Ruimtecategorie | D11: M2 in pand | E11: Verwachtte freqentie | F11: m2 tarief | G11: verwachte jaarbudget
A12: Gerrit Rietveld Academie | B12: uitvoering van werkzaamheden conform programma A kantoor | C12: Administratieve ruimten | D12: =SUMIF('3-Basis ruimtestaat'!$G:$G,'8-Periodiek onderhoud'!C12,'3-Basis ruimtestaat'!$I:$I) -> 2161.13 | E12: 1 | G12: =D12*F12*E12 -> 0
A13: Gerrit Rietveld Academie | B13: uitvoering van werkzaamheden conform programma A gangen en hallen | C13: Gangen en hallen | D13: =SUMIF('3-Basis ruimtestaat'!$G:$G,'8-Periodiek onderhoud'!C13,'3-Basis ruimtestaat'!$I:$I) -> 2101.94 | E13: 2 | G13: =D13*F13*E13 -> 0
A14: Gerrit Rietveld Academie | B14: uitvoering van werkzaamheden conform programma A gedeelde onderwijsruimten | C14: Gedeelde onderwijsruimten | D14: =SUMIF('3-Basis ruimtestaat'!$G:$G,'8-Periodiek onderhoud'!C14,'3-Basis ruimtestaat'!$I:$I) -> 1509.15 | E14: 2 | G14: =D14*F14*E14 -> 0
A15: Gerrit Rietveld Academie | B15: uitvoering van werkzaamheden conform programma A entree/ hal | C15: Entrée/hal | D15: =SUMIF('3-Basis ruimtestaat'!$G:$G,'8-Periodiek onderhoud'!C15,'3-Basis ruimtestaat'!$I:$I) -> 262.08 | E15: 2 | G15: =D15*F15*E15 -> 0
A16: Gerrit Rietveld Academie | B16: uitvoering van werkzaamheden conform programma A trappenhuizen | C16: Trappenhuizen | D16: =SUMIF('3-Basis ruimtestaat'!$G:$G,'8-Periodiek onderhoud'!C16,'3-Basis ruimtestaat'!$I:$I) -> 943.94 | E16: 2 | G16: =D16*F16*E16 -> 0
A17: Gerrit Rietveld Academie | B17: uitvoering van werkzaamheden conform programma A kantine | C17: Kantine/algemene ruimte | D17: =SUMIF('3-Basis ruimtestaat'!$G:$G,'8-Periodiek onderhoud'!C17,'3-Basis ruimtestaat'!$I:$I) -> 438.08 | E17: 1 | G17: =D17*F17*E17 -> 0
A18: Gerrit Rietveld Academie | B18: uitvoering van werkzaamheden conform programma A bibliotheek | C18: Bibliotheek | D18: =SUMIF('3-Basis ruimtestaat'!$G:$G,'8-Periodiek onderhoud'!C18,'3-Basis ruimtestaat'!$I:$I) -> 273 | E18: 1 | G18: =D18*F18*E18 -> 0
A20: Totaal periodiek onderhoud reguliere ruimten | G20: =SUM(G12:G18) -> 0
A22: Prijs periodiek onderhoud afdelings- en opslagruimten
A23: Programma | B23: Aantal m2 aanwezig | C23: Kosten per m2 | D23: Frequentie per jaar | E23: Frequentie per jaar
A24: P1 | B24: =SUMIF('3-Basis ruimtestaat'!J:J,'8-Periodiek onderhoud'!A24,'3-Basis ruimtestaat'!I:I) -> 431.98 | D24: 2 | E24: =C24*D24*B24 -> 0
A25: P2 | B25: =SUMIF('3-Basis ruimtestaat'!J:J,'8-Periodiek onderhoud'!A25,'3-Basis ruimtestaat'!I:I) -> 7218.82 | D25: 2 | E25: =C25*D25*B25 -> 0
A27: Totaal periodiek onderhoud afdelings- en opslagruimten | E27: =SUM(E24:E25) -> 0
A29: Totaal periodiek onderhoud reguliere ruimten, afdelings- en opslagruimten | G29: =E27+G20 -> 0

Sheet 9-Dependances
A1: Invoervelden
A3: ='1-Contractblad totaal'!A3 -> Naam opdrachtgever | B3: ='1-Contractblad totaal'!B3 -> Gerrit Rietveld Academie
A4: ='1-Contractblad totaal'!A4 -> Calculatie onderdeel | B4: =MID(CELL("bestandsnaam",$C$9),SEARCH("]",CELL("bestandsnaam",$C$9),1)+1,256) -> 9-Dependances
A5: ='1-Contractblad totaal'!A5 -> Gebouw/plaats | B5: ='1-Contractblad totaal'!B5 -> Amsterdam
A6: ='1-Contractblad totaal'!A6 -> Referentie nummer | B6: ='1-Contractblad totaal'!B6 -> GRA-EA-RT.ID-2020
A7: ='1-Contractblad totaal'!A8 -> Naam dienstverlener | B7: ='1-Contractblad totaal'!B8 -> 0
A8: ='1-Contractblad totaal'!A9 -> Prijspeil | B8: ='1-Contractblad totaal'!B9 -> 44348
A10: Locatie | B10: Omschrijving werkzaamheden | C10: Frequentie | D10: Uren per beurt | E10: uurtarief | F10: kosten per jaar
A11: Grey House | B11: wekelijks regulier onderhoud conform programma Guesthouses | C11: 40 | D11: 1.5 | F11: =C11*D11*E11 -> 0
A12: Guesthouse Sandberg | B12: dagelijks regulier onderhoud conform programma Guesthouses | C12: 200 | D12: 1 | F12: =C12*D12*E12 -> 0
A14: Totaal | F14: =SUM(F11:F12) -> 0

Sheet 10-Afroepprijs
A1: Invoervelden
A3: ='1-Contractblad totaal'!A3 -> Naam opdrachtgever | B3: ='1-Contractblad totaal'!B3 -> Gerrit Rietveld Academie
A4: ='1-Contractblad totaal'!A4 -> Calculatie onderdeel | B4: =MID(CELL("bestandsnaam",$C$9),SEARCH("]",CELL("bestandsnaam",$C$9),1)+1,256) -> 10-Afroepprijs
A5: ='1-Contractblad totaal'!A5 -> Gebouw/plaats | B5: ='1-Contractblad totaal'!B5 -> Amsterdam
A6: ='1-Contractblad totaal'!A6 -> Referentie nummer | B6: ='1-Contractblad totaal'!B6 -> GRA-EA-RT.ID-2020
A7: ='1-Contractblad totaal'!A8 -> Naam dienstverlener | B7: ='1-Contractblad totaal'!B8 -> 0
A8: ='1-Contractblad totaal'!A9 -> Prijspeil | B8: ='1-Contractblad totaal'!B9 -> 44348
A11: Vloerenonderhoud (inclusief uit-/inruimen van het meubilair)
C13: Prijs p/m² excl. btw
A14: Activiteit | B14: Toelichting | C14: 0-100m² | D14: 101-500m² | E14: 501-1000m² | F14: > 1000m²
A15: Lino-/marmoleum conserveren | B15: 2 lagen | C15: 0 | D15: 0 | E15: 0 | F15: 0
A16: Lino-/marmoleum sprayen | B16: geheel | C16: 0 | D16: 0 | E16: 0 | F16: 0
A17: Steen/PVC schrobben | C17: 0 | D17: 0 | E17: 0 | F17: 0
A18: Tapijt sproeiextraheren | C18: 0 | D18: 0 | E18: 0 | F18: 0
A20: Reinigen bureau-electronica reinigen
E21: Prijs p/stuk excl. btw
A22: Apparatuur/onderdeel | B22: Toelichting | E22: Aantal stuks 0-50 | F22: Aantal stuks > 50
A23: Systeemkast | B23: Methode en eindresultaat omschrijven. | E23: 0 | F23: 0
A24: Monitor | B24: Methode en eindresultaat omschrijven. | E24: 0 | F24: 0
A25: Toetsenbord inclusief muis | B25: Methode en eindresultaat omschrijven. | E25: 0 | F25: 0
A26: Printer klein | B26: Methode en eindresultaat omschrijven. | E26: 0 | F26: 0
A27: Printer groot | B27: Methode en eindresultaat omschrijven. | E27: 0 | F27: 0
A29: Reinigen raambekleding
A31: Activiteit | B31: Toelichting | E31: Prijs p/m² onder 100m² excl. btw | F31: Prijs p/m² boven 100m² excl. btw
A32: Vitrage | B32: Methode en eindresultaat omschrijven. | E32: 0 | F32: 0
A33: Overgordijnen | B33: Methode en eindresultaat omschrijven. | E33: 0 | F33: 0
A34: Verticale lamellen stof | B34: Methode en eindresultaat omschrijven. | E34: 0 | F34: 0
A35: Verticale lamellen metaal/kunsstof | B35: Methode en eindresultaat omschrijven. | E35: 0 | F35: 0
A36: Horizontale lammellen | B36: Methode en eindresultaat omschrijven. | E36: 0 | F36: 0
A38: Regietarieven
A40: Activiteit | B40: Toelichting | F40: Prijs p/uur excl. btw
A41: Schoonmaakonderhoud | B41: Maandag - Vrijdag | F41: 0
A42: Schoonmaakonderhoud | B42: Zaterdag - zondag (incl. 50% toeslag conform cao) | F42: 0
A43: Schoonmaakonderhoud | B43: Feestdagen (incl. 150% toeslag conform cao) | F43: 0
A44: Glazenwasserswerkzaamheden | B44: Maandag - Vrijdag | F44: 0
A46: Gladheid bestrijding
A47: Tijdstip van uitvoering | B47: Prijs p/uur excl. btw
A48: tarief ma-vr (06.00-21.30 uur) | B48: 0
A49: tarief ma-vr nacht (21.30-06.00 uur) | B49: 0
A51: Opmerking:
A52: Alle prijzen inclusief materialen en middelen, voorrijkosten en overige bijkomende kosten.
A53: Mits anders aangegeven is de uitvoering op reguliere werktijden: maandag t/m vrijdag [06.00 en 21.30 uur]

Sheet 11-Glasbewassing
A1: Invoervelden
E2: Glassoort | F2: M² prijs
A3: ='1-Contractblad totaal'!A3 -> Naam opdrachtgever | B3: ='1-Contractblad totaal'!B3 -> Gerrit Rietveld Academie | E3: Buitenzijde
A4: ='1-Contractblad totaal'!A4 -> Calculatie onderdeel | B4: =MID(CELL("bestandsnaam",$D$9),SEARCH("]",CELL("bestandsnaam",$D$9),1)+1,256) -> 11-Glasbewassing | E4: Binnenzijde
A5: ='1-Contractblad totaal'!A5 -> Gebouw/plaats | B5: ='1-Contractblad totaal'!B5 -> Amsterdam | E5: Separatieglas enkelzijdig
A6: ='1-Contractblad totaal'!A6 -> Referentie nummer | B6: ='1-Contractblad totaal'!B6 -> GRA-EA-RT.ID-2020
A7: ='1-Contractblad totaal'!A8 -> Naam dienstverlener | B7: ='1-Contractblad totaal'!B8 -> 0
A8: ='1-Contractblad totaal'!A9 -> Prijspeil | B8: ='1-Contractblad totaal'!B9 -> 44348
A10: Locatie | B10: Glassoort | C10: Aanvullende omschrijving | D10: Aantal m2 | E10: Kosten per beurt | F10: Frequentie | G10: Kosten per m2 | H10: Kosten bewassing per jaar | I10: Kosten klimmateriaal per jaar | J10: Totaalkosten per jaar
A11: Gerrit Rietveld | B11: Separatieglas enkelzijdig | D11: =2328+254 -> 2582 | E11: =D11*G11 -> 0 | F11: 2 | G11: =VLOOKUP(B11,$E$3:$F$9,2,FALSE) -> 0 | H11: =F11*E11 -> 0 | J11: =H11+I11 -> 0
A12: Gerrit Rietveld | B12: Buitenzijde | D12: =3522+870 -> 4392 | E12: =D12*G12 -> 0 | F12: 2 | G12: =VLOOKUP(B12,$E$3:$F$9,2,FALSE) -> 0 | H12: =F12*E12 -> 0 | J12: =H12+I12 -> 0
A13: Gerrit Rietveld | B13: Binnenzijde | D13: =3522+870 -> 4392 | E13: =D13*G13 -> 0 | F13: 2 | G13: =VLOOKUP(B13,$E$3:$F$9,2,FALSE) -> 0 | H13: =F13*E13 -> 0 | J13: =H13+I13 -> 0
A14: Benthem Crouwel | B14: Separatieglas enkelzijdig | D14: 130 | E14: =D14*G14 -> 0 | F14: 2 | G14: =VLOOKUP(B14,$E$3:$F$9,2,FALSE) -> 0 | H14: =F14*E14 -> 0 | J14: =H14+I14 -> 0
A15: Benthem Crouwel | B15: Buitenzijde | D15: 1356 | E15: =D15*G15 -> 0 | F15: 2 | G15: =VLOOKUP(B15,$E$3:$F$9,2,FALSE) -> 0 | H15: =F15*E15 -> 0 | J15: =H15+I15 -> 0
A16: Benthem Crouwel | B16: Binnenzijde | D16: 1356 | E16: =D16*G16 -> 0 | F16: 2 | G16: =VLOOKUP(B16,$E$3:$F$9,2,FALSE) -> 0 | H16: =F16*E16 -> 0 | J16: =H16+I16 -> 0
A17: Fedlev | B17: Separatieglas enkelzijdig | D17: 1303 | E17: =D17*G17 -> 0 | F17: 2 | G17: =VLOOKUP(B17,$E$3:$F$9,2,FALSE) -> 0 | H17: =F17*E17 -> 0 | J17: =H17+I17 -> 0
A18: Fedlev | B18: Buitenzijde | D18: 1303 | E18: =D18*G18 -> 0 | F18: 2 | G18: =VLOOKUP(B18,$E$3:$F$9,2,FALSE) -> 0 | H18: =F18*E18 -> 0 | J18: =H18+I18 -> 0
A19: Fedlev | B19: Binnenzijde | D19: 1356 | E19: =D19*G19 -> 0 | F19: 1 | G19: =VLOOKUP(B19,$E$3:$F$9,2,FALSE) -> 0 | H19: =F19*E19 -> 0 | J19: =H19+I19 -> 0
A21: Totaal | D21: =SUM(D11:D19) -> 18170 | H21: =SUM(H11:H19) -> 0 | I21: =SUM(I11:I19) -> 0 | J21: =SUM(J11:J19) -> 0

Sheet 12-Machinekosten
A2: ='1-Contractblad totaal'!A3 -> Naam opdrachtgever | B2: ='1-Contractblad totaal'!B3 -> Gerrit Rietveld Academie
A3: ='1-Contractblad totaal'!A4 -> Calculatie onderdeel | B3: =MID(CELL("bestandsnaam",$D$9),SEARCH("]",CELL("bestandsnaam",$D$9),1)+1,256) -> 12-Machinekosten
A4: ='1-Contractblad totaal'!A5 -> Gebouw/plaats | B4: ='1-Contractblad totaal'!B5 -> Amsterdam
A5: ='1-Contractblad totaal'!A6 -> Referentie nummer | B5: ='1-Contractblad totaal'!B6 -> GRA-EA-RT.ID-2020
A6: ='1-Contractblad totaal'!A8 -> Naam dienstverlener | B6: ='1-Contractblad totaal'!B8 -> 0
A7: ='1-Contractblad totaal'!A9 -> Prijspeil | B7: ='1-Contractblad totaal'!B9 -> 44348
A10: Locatie | B10: Machine | C10: Omschrijving | D10: Catalogus prijs | E10: Korting | F10: Netto aanschaf prijs | G10: Afschrijvings termijn in jaren | H10: Restwaarde | I10: Afschrijvings kosten per jaar | J10: Onderhouds kosten per jaar | K10: Renteverlies per jaar | L10: Verzekerings kosten per jaar | N10: Totaal kosten per jaar per machine | P10: Inzet van het aantal machines [stuks] | Q10: Totaal kosten per jaar
J11: 0 | K11: 0 | L11: 0
D12: 0 | E12: 0 | F12: =D12-E12 -> 0 | G12: 0 | H12: 0 | I12: =IF(G12=0,0,(F12-H12)/G12) -> 0 | J12: =D12*$J$11 -> 0 | K12: =D12*$K$11 -> 0 | L12: =$L$11*D12 -> 0 | N12: =SUM(I12:L12) -> 0 | P12: 0 | Q12: =N12*P12 -> 0
D13: 0 | E13: 0 | F13: =D13-E13 -> 0 | G13: 0 | H13: 0 | I13: =IF(G13=0,0,(F13-H13)/G13) -> 0 | J13: =D13*$J$11 -> 0 | K13: =D13*$K$11 -> 0 | L13: =$L$11*D13 -> 0 | N13: =SUM(I13:L13) -> 0 | P13: 0 | Q13: =N13*P13 -> 0
D14: 0 | E14: 0 | F14: =D14-E14 -> 0 | G14: 0 | H14: 0 | I14: =IF(G14=0,0,(F14-H14)/G14) -> 0 | J14: =D14*$J$11 -> 0 | K14: =D14*$K$11 -> 0 | L14: =$L$11*D14 -> 0 | N14: =SUM(I14:L14) -> 0 | P14: 0 | Q14: =N14*P14 -> 0
D15: 0 | E15: 0 | F15: =D15-E15 -> 0 | G15: 0 | H15: 0 | I15: =IF(G15=0,0,(F15-H15)/G15) -> 0 | J15: =D15*$J$11 -> 0 | K15: =D15*$K$11 -> 0 | L15: =$L$11*D15 -> 0 | N15: =SUM(I15:L15) -> 0 | P15: 0 | Q15: =N15*P15 -> 0
D16: 0 | E16: 0 | F16: =D16-E16 -> 0 | G16: 0 | H16: 0 | I16: =IF(G16=0,0,(F16-H16)/G16) -> 0 | J16: =D16*$J$11 -> 0 | K16: =D16*$K$11 -> 0 | L16: =$L$11*D16 -> 0 | N16: =SUM(I16:L16) -> 0 | P16: 0 | Q16: =N16*P16 -> 0
D17: 0 | E17: 0 | F17: =D17-E17 -> 0 | G17: 0 | H17: 0 | I17: =IF(G17=0,0,(F17-H17)/G17) -> 0 | J17: =D17*$J$11 -> 0 | K17: =D17*$K$11 -> 0 | L17: =$L$11*D17 -> 0 | N17: =SUM(I17:L17) -> 0 | P17: 0 | Q17: =N17*P17 -> 0
D18: 0 | E18: 0 | F18: =D18-E18 -> 0 | G18: 0 | H18: 0 | I18: =IF(G18=0,0,(F18-H18)/G18) -> 0 | J18: =D18*$J$11 -> 0 | K18: =D18*$K$11 -> 0 | L18: =$L$11*D18 -> 0 | N18: =SUM(I18:L18) -> 0 | P18: 0 | Q18: =N18*P18 -> 0
D19: 0 | E19: 0 | F19: =D19-E19 -> 0 | G19: 0 | H19: 0 | I19: =IF(G19=0,0,(F19-H19)/G19) -> 0 | J19: =D19*$J$11 -> 0 | K19: =D19*$K$11 -> 0 | L19: =$L$11*D19 -> 0 | N19: =SUM(I19:L19) -> 0 | P19: 0 | Q19: =N19*P19 -> 0
D20: 0 | E20: 0 | F20: =D20-E20 -> 0 | G20: 0 | H20: 0 | I20: =IF(G20=0,0,(F20-H20)/G20) -> 0 | J20: =D20*$J$11 -> 0 | K20: =D20*$K$11 -> 0 | L20: =$L$11*D20 -> 0 | N20: =SUM(I20:L20) -> 0 | P20: 0 | Q20: =N20*P20 -> 0
D21: 0 | E21: 0 | F21: =D21-E21 -> 0 | G21: 0 | H21: 0 | I21: =IF(G21=0,0,(F21-H21)/G21) -> 0 | J21: =D21*$J$11 -> 0 | K21: =D21*$K$11 -> 0 | L21: =$L$11*D21 -> 0 | N21: =SUM(I21:L21) -> 0 | P21: 0 | Q21: =N21*P21 -> 0
D22: 0 | E22: 0 | F22: =D22-E22 -> 0 | G22: 0 | H22: 0 | I22: =IF(G22=0,0,(F22-H22)/G22) -> 0 | J22: =D22*$J$11 -> 0 | K22: =D22*$K$11 -> 0 | L22: =$L$11*D22 -> 0 | N22: =SUM(I22:L22) -> 0 | P22: 0 | Q22: =N22*P22 -> 0
D23: 0 | E23: 0 | F23: =D23-E23 -> 0 | G23: 0 | H23: 0 | I23: =IF(G23=0,0,(F23-H23)/G23) -> 0 | J23: =D23*$J$11 -> 0 | K23: =D23*$K$11 -> 0 | L23: =$L$11*D23 -> 0 | N23: =SUM(I23:L23) -> 0 | P23: 0 | Q23: =N23*P23 -> 0
... D27: 0 | E27: 0 | F27: =D27-E27 -> 0 | G27: 0 | H27: 0 | I27: =IF(G27=0,0,(F27-H27)/G27) -> 0 | J27: =D27*$J$11 -> 0 | K27: =D27*$K$11 -> 0 | L27: =$L$11*D27 -> 0 | N27: =SUM(I27:L27) -> 0 | P27: 0 | Q27: =N27*P27 -> 0
B29: Totaal | P29: =SUM(P12:P27) -> 0 | Q29: =SUM(Q12:Q28) -> 0

Sheet 13-Sanitaire voorzieningen
A1: Invoervelden
A3: ='1-Contractblad totaal'!A3 -> Naam opdrachtgever | B3: ='1-Contractblad totaal'!B3 -> Gerrit Rietveld Academie
A4: ='1-Contractblad totaal'!A4 -> Calculatie onderdeel | B4: =MID(CELL("bestandsnaam",$C$8),SEARCH("]",CELL("bestandsnaam",$C$8),1)+1,256) -> 13-Sanitaire voorzieningen
A5: ='1-Contractblad totaal'!A5 -> Gebouw/plaats | B5: ='1-Contractblad totaal'!B5 -> Amsterdam
A6: ='1-Contractblad totaal'!A6 -> Referentie nummer | B6: ='1-Contractblad totaal'!B6 -> GRA-EA-RT.ID-2020
A7: ='1-Contractblad totaal'!A8 -> Naam dienstverlener | B7: ='1-Contractblad totaal'!B8 -> 0
A8: ='1-Contractblad totaal'!A9 -> Prijspeil | B8: ='1-Contractblad totaal'!B9 -> 44348
A10: Omschrijving automaat /artikel | B10: Merk en productlijn | C10: Omschrijving verbruiksartikelen | D10: Aantal | E10: All-in tarief per maand, per stuk | F10: per jaar | H10: Verbruik 2019 | I10: Eenheid
A11: Handdoekautomaat | D11: 44 | F11: =D11*E11*12 -> 0 | H11: 1375 | I11: rol
A12: Handdoekjesdispenser | D12: 35 | F12: =D12*E12*12 -> 0 | H12: onbekend
A13: Zeepdispenser | D13: 42 | F13: =D13*E13*12 -> 0 | H13: 275 | I13: flacon 250 ml
A14: Luchtverfrisser dispenser | D14: 6 | F14: =D14*E14*12 -> 0 | H14: nvt
A15: Toiletrol dispenser | D15: 59 | F15: =D15*E15*12 -> 0 | H15: 300 | I15: Jumbo rol
A16: Damesverbandcontainer | D16: 41 | F16: =D16*E16*12 -> 0 | H16: nvt
A17: Toiletborstel met houder | D17: 59 | F17: =D17*E17*12 -> 0 | H17: onbekend
A18: Afvalbak | D18: 42 | F18: =D18*E18*12 -> 0 | H18: onbekend
A19: Inloopmat | D19: 2 | F19: =D19*E19*12 -> 0
A21: Totaal | F21: =SUM(F11:F20) -> 0
A23: Aan de opgegeven indicatie eenheden kunnen geen rechten worden ontleent.
A25: Alle prijzen zijn all-in, inclusief loonkosten, materiaal, reis- en verblijfskosten, sociale lasten, voorrijkosten, parkeerkosten, reserveringskosten, en (de)montagekosten, transportkosten, aflever- verpakkingen, milieubelastingen, administratie, andere belastingen dan btw, verzekeringpremies e.d.
