Workbook

Sheet 1. Voorblad
C3: Bijlage - Prijzenblad
C6: Toelichting:
C7: In dit prijzenblad vult u uw definitieve prijzen in voor uw Inschrijving. De prijzen worden uiteindelijk gewogen op basis van Total Cost of Ownerschip voor de gemeente over 6 jaren. De genoemde aantallen zijn indicatief, hieraan kunnen geen rechten ontleend worden.
C9: Legenda:
C10: Tekst | D10: Invoer Gemeente. Niet wijzigen.
C11: Invoer | D11: Cellen bestemd voor uw invoer. Inschrijver dient deze cellen in dit Prijzenblad in te vullen. Het niet of niet op juiste wijze invullen van dit Prijzenblad leidt tot uitsluiting van de Inschrijving in deze Aanbesteding.
C12: Berekening | D12: Berekeningen in werkblad. Niet wijzigen.
C13: Opmerkingen | D13: Ruimte voor uw opmerkingen of toelichting.
C14: Totalen | D14: Berekeningen van totalen in werkblad. Niet wijzigen.
C15: Uw fictieve Inschrijfprijs | D15: Berekening van uw fictieve Inschrijfprijs. Niet wijzigen.
C17: Noten:
C18: (1) Inschrijver geeft prijzen op in Euro's (€) (op 2 decimalen) en exclusief BTW. (2) Schoonmaak van de vloeren van de garages gaat pas in vanaf 01-01-2022.
C20: Recapitulatie:
C21: CONTACTGEGEVENS INSCHRIJVER
C22: Onderneming:
C23: Functie:
C24: Naam rechtsgeldig ondertekenaar:
C25: Datum:
C26: Handtekening:
C28: TOTAAL KOSTEN
C29: Omschrijving | G29: Bedrag in €
C30: 1. Beheerskosten | G30: ='2. Invulblad'!H12 -> 0
C31: 2. Implementatiekosten | G31: ='2. Invulblad'!H19 -> 0
C32: 3. Dagelijkse schoonmaak | G32: ='2. Invulblad'!H25 -> 0
C33: 4. Schoonmaakkosten vloeren | G33: ='2. Invulblad'!I44 -> 0
C34: 5. Schoonmaakkosten divers | G34: ='2. Invulblad'!I76 -> 0
F35: TOTALE KOSTEN | G35: =G30+G31+G32+G33+G34 -> 0
C37: UW TOTALE FICTIEVE INSCHRIJFPRIJS (TCO 6 JAREN) | G37: =G35 -> 0

Sheet 2. Invulblad
C3: Bijlage - Prijzenblad Reprografische Dienstverlening - Invulblad
C5: 1. Beheerskosten
C6: nr. | D6: Omschrijving | E6: Specificatie | F6: Uren per jaar | G6: Prijs per uur | H6: Subtotaal per jaar
C7: 1.1 | D7: All-in prijs per uur voor bediening intercom/pms/cctv op externe locatie, incl verbinding | E7: Op basis van 24/7 externe bediening | F7: 8766 | G7: 0 | H7: =F7*G7 -> 0
C8: 1.2 | D8: Beheerder/schoonmaak aanwezig op locatie | E8: Op basis van 42 uur per week | F8: 2192 | G8: 0 | H8: =F8*G8 -> 0
C9: 1.3 | D9: Inzet beheerder buiten werktijden | E9: Op basis van een half uur per week | F9: 26 | G9: 0 | H9: =F9*G9 -> 0
C10: 1.4 | D10: Beschikbaarheid storingsdienst | E10: Op basis van ieder uur dat de beheerder niet aanwezig is | F10: 6574 | G10: 0 | H10: =F10*G10 -> 0
C11: 1.5 | D11: Inzet storingsdienst | E11: Op basis van geschat aantal uren | F11: 40 | G11: 0 | H11: =F11*G11 -> 0
F12: Totaalprijs o.b.v. 72 maanden | H12: =SUM(H7:H11)*6 -> 0
C15: 2. Implementatiekosten
C16: nr. | D16: Omschrijving | H16: Eenmalige all-in totaalprijs
C17: 2.1 | D17: Eenmalige all-in totaalprijs voor de koppeling externe meldkamer | H17: 0
C18: 2.2 | D18: Eenmalige all-in totaalprijs voor de overige eenmalige implementatiekosten | H18: 0
F19: Eenmalige totaalprijs | H19: =SUM(H17:H18) -> 0
C22: 3. Dagelijkse schoonmaakkosten
C23: nr. | D23: Omschrijving | F23: Dagen per jaar | G23: Prijs per dag | H23: Subtotaal per jaar
C24: 3.1 | D24: Dagelijkse schoonmaakkosten o.b.v. tabblad 'Specificatie dag. Schoonmaak' | F24: 313 | G24: 0 | H24: =G24*F24 -> 0
F25: Totaalprijs o.b.v. 72 maanden | H25: =H24*6 -> 0
C28: 4. Schoonmaak garagevloeren
C29: nr. | D29: Garage | E29: Dek | F29: Oppervlakte in m2 | G29: Geschatte frequentie per jaar | H29: Schoonmaakprijs per m2 | I29: Subtotaal per jaar
C30: 4.1 | D30: Stadhuis | E30: Stadhuis dek-1 incl. hellingbanen | F30: 3112 | G30: 2 | H30: 0 | I30: =H30*G30*F30 -> 0
C31: 4.2 | E31: Stadhuis dek-2 | F31: 3000 | G31: 2 | H31: 0 | I31: =H31*G31*F31 -> 0
C32: 4.3 | D32: Drents museum | E32: Alle dekken | F32: 6776 | G32: 3 | H32: 0 | I32: =H32*G32*F32 -> 0
C33: 4.4 | D33: Mercuris | E33: Alle dekken | F33: 9371 | G33: 3 | H33: 0 | I33: =H33*G33*F33 -> 0
C34: 4.5 | D34: Neptunes (Reinigen met hoge druk) | E34: Neptunes begaande grond | F34: 4308 | G34: 1 | H34: 0 | I34: =H34*G34*F34 -> 0
C35: 4.6 | E35: Neptunes +1 | F35: 4200 | G35: 1 | H35: 0 | I35: =H35*G35*F35 -> 0
C36: 4.7 | D36: DNK | E36: DNK dek -1 incl. hellingbanen | F36: 7500 | G36: 4 | H36: 0 | I36: =H36*G36*F36 -> 0
C37: 4.8 | E37: DNK dek -2 incl. hellingbanen | F37: 7442 | G37: 4 | H37: 0 | I37: =H37*G37*F37 -> 0
C38: 4.9 | D38: Triade | E38: Triade dek +1 incl. Hellingbanen | F38: 5313 | G38: 6 | H38: 0 | I38: =H38*G38*F38 -> 0
C39: 4.10 | E39: Triade dek +2 | F39: 5000 | G39: 4 | H39: 0 | I39: =H39*G39*F39 -> 0
C40: 4.11 | E40: Triade dek+3 | F40: 5000 | G40: 2 | H40: 0 | I40: =H40*G40*F40 -> 0
C41: 4.12 | D41: Citadel | E41: Citadel begaande grond | F41: 5500 | G41: 4 | H41: 0 | I41: =H41*G41*F41 -> 0
C42: 4.13 | E42: Citadel dek-1 incl. hellingen | F42: 6500 | G42: 4 | H42: 0 | I42: =H42*G42*F42 -> 0
C43: 4.14 | E43: Citadel dek-2 incl. hellingen | F43: 6250 | G43: 4 | H43: 0 | I43: =H43*G43*F43 -> 0
G44: Totaalprijs o.b.v. 66 maanden (2) | I44: =(SUM(I30:I43))/12*66 -> 0
C47: 5. Schoonmaak garage diversen
C48: nr. | D48: Garage | E48: Omschrijving | F48: Aantal | G48: Geschatte frequentie per jaar | H48: Prijs per keer | I48: Subtotaal per jaar
C49: 5.1 | D49: Stadhuis | E49: Trappenhuis voetgangersingang incl. hal en opstelruimte | F49: 1 | G49: 26 | H49: 0 | I49: =H49*G49 -> 0
C50: 5.2 | E50: Trappenhuis tussen -1 en -2 | F50: 1 | G50: 4 | H50: 0 | I50: =H50*G50 -> 0
C51: 5.3 | E51: Lift | F51: 2 | G51: 26 | H51: 0 | I51: =H51*G51 -> 0
C52: 5.4 | D52: Drents Museum | E52: Trappenhuis zijde Torenlaan incl. hal en vloer bij betaalautomaat | F52: 1 | G52: 26 | H52: 0 | I52: =H52*G52 -> 0
C53: 5.5 | E53: Trappenhuis zijde Markt incl. hal en ruimte betaalautomaat | F53: 1 | G53: 26 | H53: 0 | I53: =H53*G53 -> 0
C54: 5.6 | E54: Lift | F54: 1 | G54: 26 | H54: 0 | I54: =H54*G54 -> 0
C55: 5.7 | D55: Mercurius | E55: Trappenhuis voorzijde | F55: 1 | G55: 26 | H55: 0 | I55: =H55*G55 -> 0
C56: 5.8 | E56: Trappenhuis achterzijde | F56: 1 | G56: 1 | H56: 0 | I56: =H56*G56 -> 0
C57: 5.9 | E57: Lift | F57: 1 | G57: 26 | H57: 0 | I57: =H57*G57 -> 0
C58: 5.10 | E58: Toiletten (incl. openen v.d deuren om 08.00 uur) | F58: 2 | G58: 313 | H58: 0 | I58: =H58*G58 -> 0
C59: 5.11 | E59: Hal incl. vloer bij betaalautomaten | F59: 1 | G59: 26 | H59: 0 | I59: =H59*G59 -> 0
C60: 5.12 | D60: Neptunus | E60: Trap bij Apollopad | F60: 1 | G60: 12 | H60: 0 | I60: =H60*G60 -> 0
C61: 5.13 | E61: Trap bij winkelcentrum Triade | F61: 1 | G61: 12 | H61: 0 | I61: =H61*G61 -> 0
C62: 5.14 | E62: Lift | F62: 2 | G62: 26 | H62: 0 | I62: =H62*G62 -> 0
C63: 5.15 | E63: Gang tussen garage en winkelcentrum Triade | F63: 1 | G63: 26 | H63: 0 | I63: =H63*G63 -> 0
C64: 5.16 | E64: Gang tussen garage en Apollopad | F64: 1 | G64: 26 | H64: 0 | I64: =H64*G64 -> 0
C65: 5.17 | D65: DNK | E65: Trappenhuis | F65: 1 | G65: 26 | H65: 0 | I65: =H65*G65 -> 0
C66: 5.18 | E66: Opstelruimte betaalautomaten | F66: 2 | G66: 26 | H66: 0 | I66: =H66*G66 -> 0
C67: 5.19 | D67: Triade | E67: Trappenhuis zijde Korenmolen | F67: 1 | G67: 26 | H67: 0 | I67: =H67*G67 -> 0
C68: 5.20 | E68: Opstelruimte betaalautomaten op +1 en +2 | F68: 2 | G68: 26 | H68: 0 | I68: =H68*G68 -> 0
C69: 5.21 | E69: Opstelruimte betaalautomaat op +3 | F69: 1 | G69: 2 | H69: 0 | I69: =H69*G69 -> 0
C70: 5.22 | D70: Citadel | E70: Noodtrappenhuizen | F70: 3 | G70: 1 | H70: 0 | I70: =H70*G70 -> 0
C71: 5.23 | E71: Trappenhuis voetgangersingang Groningerstraat | F71: 1 | G71: 12 | H71: 0 | I71: =H71*G71 -> 0
C72: 5.24 | E72: Opstelruimte betaalautomaten | F72: 3 | G72: 26 | H72: 0 | I72: =H72*G72 -> 0
C73: 5.25 | D73: Algemene stelposten | E73: Schoonmaak met hogedrukreiniger voorrijdkosten | G73: 5 | H73: 0 | I73: =H73*G73 -> 0
C74: 5.26 | E74: Schoonmaak met hogedrukreiniger per m2 | G74: 50 | H74: 0 | I74: =H74*G74 -> 0
C75: 5.27 | E75: Extra inzet schoonmaker per uur | G75: 10 | H75: 0 | I75: =H75*G75 -> 0
G76: Totaalprijs o.b.v. 72 maanden | I76: =SUM(I49:I75)*6 -> 0

Sheet Specificatie dag. Schoonmaak
C4: Specificatie dagelijkse schoonmaakwerkzaamheden
C5: Garage | D5: Werkzaamheden | E5: Aantal
C6: Alle garages | D6: Verwijderen en afvoeren van los vuil bij alle onderdelen.
D7: Stofvrij houden garage
D8: Toegangsdeuren en speedgates schoonhouden
D9: Spinnen raggen verwijderen
D10: Schoonmaken parkeerapparatuur
D11: Schoonhouden verlichting/luchtbehandeling/CO-LPG/Kabels-Leidingen
C12: Stadhuis | D12: Opstelruimte slagbomen/terminals | E12: 2
D13: Loge | E13: 1
D14: Prullenbakken (ledigen - afvoer vuil - schoonmaak) | E14: 2
C15: Dr. Museum | D15: Opstelruimte slagbomen/terminals | E15: 1
D16: Toilet personeel | E16: 1
D17: Loge | E17: 1
D18: Prullenbakken (ledigen - afvoer vuil - schoonmaak) | E18: 2
C19: Mercurius | D19: Opstelruimte slagbomen/terminals | E19: 1
D20: Loge | E20: 1
D21: Prullenbakken (ledigen - afvoer vuil - schoonmaak) | E21: 2
C22: Neptunus | D22: Opstelruimte slagbomen/terminals | E22: 1
D23: Prullenbakken (ledigen - afvoer vuil - schoonmaak) | E23: 4
C24: DNK | D24: Opstelruimte slagbomen/terminals | E24: 4
D25: Loge | E25: 1
D26: Prullenbakken (ledigen - afvoer vuil - schoonmaak) | E26: 2
C27: Triade | D27: Opstelruimte slagbomen/terminals | E27: 2
D28: Prullenbakken (ledigen - afvoer vuil - schoonmaak) | E28: 4
C29: Citadel | D29: Opstelruimte slagbomen/terminals | E29: 4
D30: Toilet personeel | E30: 1
D31: Loge | E31: 1
D32: Prullenbakken (ledigen - afvoer vuil - schoonmaak) | E32: 3
