Workbook

Sheet 1. Voorblad
C3: Bijlage - Prijzenblad
C6: Toelichting:
C7: In dit prijzenblad vult u uw definitieve prijzen in voor uw Inschrijving. De prijzen worden uiteindelijk gewogen op basis van Total Cost of Ownerschip voor de gemeente over 6 jaren. De genoemde aantallen zijn indicatief, hieraan kunnen geen rechten ontleend worden.
C9: Legenda:
C10: Tekst | D10: Invoer Gemeente. Niet wijzigen.
C11: Invoer | D11: Cellen bestemd voor uw invoer. Inschrijver dient deze cellen in dit Prijzenblad in te vullen. Het niet of niet op juiste wijze invullen van dit Prijzenblad leidt tot uitsluiting van de Inschrijving in deze Aanbesteding.
C12: Berekening | D12: Berekeningen in werkblad. Niet wijzigen.
C13: Opmerkingen | D13: Ruimte voor uw opmerkingen of toelichting.
C14: Totalen | D14: Berekeningen van totalen in werkblad. Niet wijzigen.
C15: Uw fictieve Inschrijfprijs | D15: Berekening van uw fictieve Inschrijfprijs. Niet wijzigen.
C17: Noten:
C18: (1) Inschrijver geeft prijzen op in Euro's (€) (op 2 decimalen) en exclusief BTW. (2) Schoonmaak van de vloeren van de garages gaat pas in vanaf 01-01-2022.
C20: Recapitulatie:
C21: CONTACTGEGEVENS INSCHRIJVER
C22: Onderneming:
C23: Functie:
C24: Naam rechtsgeldig ondertekenaar:
C25: Datum:
C26: Handtekening:
C28: TOTAAL KOSTEN
C29: Omschrijving | G29: Bedrag in €
C30: 1. Beheerskosten | G30: ='2. Invulblad'!H12 -> 0
C31: 2. Implementatiekosten | G31: ='2. Invulblad'!H19 -> 0
C32: 3. Dagelijkse schoonmaak | G32: ='2. Invulblad'!H25 -> 0
C33: 4. Schoonmaakkosten vloeren | G33: ='2. Invulblad'!I44 -> 0
C34: 5. Schoonmaakkosten divers | G34: ='2. Invulblad'!I76 -> 0
F35: TOTALE KOSTEN | G35: =G30+G31+G32+G33+G34 -> 0
C37: UW TOTALE FICTIEVE INSCHRIJFPRIJS (TCO 6 JAREN) | G37: =G35 -> 0

Sheet 2. Invulblad
C3: Bijlage - Prijzenblad Reprografische Dienstverlening - Invulblad
C5: 1. Beheerskosten
C6: nr. | D6: Omschrijving | E6: Specificatie | F6: Uren per jaar | G6: Prijs per uur | H6: Subtotaal per jaar
C7: 1.1 | D7: All-in prijs per uur voor bediening intercom/pms/cctv op externe locatie, incl verbinding | E7: Op basis van 24/7 externe bediening | F7: 8766 | G7: 0 | H7: =F7*G7 -> 0
C8: 1.2 | D8: Beheerder/schoonmaak aanwezig op locatie | E8: Op basis van 42 uur per week | F8: 2192 | G8: 0 | H8: =F8*G8 -> 0
C9: 1.3 | D9: Inzet beheerder buiten werktijden | E9: Op basis van een half uur per week | F9: 26 | G9: 0 | H9: =F9*G9 -> 0
C10: 1.4 | D10: Beschikbaarheid storingsdienst | E10: Op basis van ieder uur dat de beheerder niet aanwezig is | F10: 6574 | G10: 0 | H10: =F10*G10 -> 0
C11: 1.5 | D11: Inzet storingsdienst | E11: Op basis van geschat aantal uren | F11: 40 | G11: 0 | H11: =F11*G11 -> 0
F12: Totaalprijs o.b.v. 72 maanden | H12: =SUM(H7:H11)*6 -> 0
C15: 2. Implementatiekosten
C16: nr. | D16: Omschrijving | H16: Eenmalige all-in totaalprijs
C17: 2.1 | D17: Eenmalige all-in totaalprijs voor de koppeling externe meldkamer | H17: 0
C18: 2.2 | D18: Eenmalige all-in totaalprijs voor de overige eenmalige implementatiekosten | H18: 0
F19: Eenmalige totaalprijs | H19: =SUM(H17:H18) -> 0
C22: 3. Dagelijkse schoonmaakkosten
C23: nr. | D23: Omschrijving | F23: Dagen per jaar | G23: Prijs per dag | H23: Subtotaal per jaar
C24: 3.1 | D24: Dagelijkse schoonmaakkosten o.b.v. tabblad 'Specificatie dag. Schoonmaak' | F24: 313 | G24: 0 | H24: =G24*F24 -> 0
F25: Totaalprijs o.b.v. 72 maanden | H25: =H24*6 -> 0
C28: 4. Schoonmaak garagevloeren
C29: nr. | D29: Garage | E29: Dek | F29: Oppervlakte in m2 | G29: Geschatte frequentie per jaar | H29: Schoonmaakprijs per m2 | I29: Subtotaal per jaar
C30: 4.1 | D30: Stadhuis | E30: Stadhuis dek-1 incl. hellingbanen | F30: 3112 | G30: 2 | H30: 0 | I30: =H30*G30*F30 -> 0
C31: 4.2 | E31: Stadhuis dek-2 | F31: 3000 | G31: 2 | H31: 0 | I31: =H31*G31*F31 -> 0
C32: 4.3 | D32: Drents museum | E32: Alle dekken | F32: 6776 | G32: 3 | H32: 0 | I32: =H32*G32*F32 -> 0
C33: 4.4 | D33: Mercuris | E33: Alle dekken | F33: 9371 | G33: 3 | H33: 0 | I33: =H33*G33*F33 -> 0
C34: 4.5 | D34: Neptunes (Reinigen met hoge druk) | E34: Neptunes begaande grond | F34: 4308 | G34: 1 | H34: 0 | I34: =H34*G34*F34 -> 0
C35: 4.6 | E35: Neptunes +1 | F35: 4200 | G35: 1 | H35: 0 | I35: =H35*G35*F35 -> 0
C36: 4.7 | D36: DNK | E36: DNK dek -1 incl. hellingbanen | F36: 7500 | G36: 4 | H36: 0 | I36: =H36*G36*F36 -> 0
C37: 4.8 | E37: DNK dek -2 incl. hellingbanen | F37: 7442 | G37: 4 | H37: 0 | I37: =H37*G37*F37 -> 0
C38: 4.9 | D38: Triade | E38: Triade dek +1 incl. Hellingbanen | F38: 5313 | G38: 6 | H38: 0 | I38: =H38*G38*F38 -> 0
C39: 4.10 | E39: Triade dek +2 | F39: 5000 | G39: 4 | H39: 0 | I39: =H39*G39*F39 -> 0
C40: 4.11 | E40: Triade dek+3 | F40: 5000 | G40: 2 | H40: 0 | I40: =H40*G40*F40 -> 0
C41: 4.12 | D41: Citadel | E41: Citadel begaande grond | F41: 5500 | G41: 4 | H41: 0 | I41: =H41*G41*F41 -> 0
C42: 4.13 | E42: Citadel dek-1 incl. hellingen | F42: 6500 | G42: 4 | H42: 0 | I42: =H42*G42*F42 -> 0
C43: 4.14 | E43: Citadel dek-2 incl. hellingen | F43: 6250 | G43: 4 | H43: 0 | I43: =H43*G43*F43 -> 0
G44: Totaalprijs o.b.v. 66 maanden (2) | I44: =(SUM(I30:I43))/12*66 -> 0
C47: 5. Schoonmaak garage diversen
C48: nr. | D48: Garage | E48: Omschrijving | F48: Aantal | G48: Geschatte frequentie per jaar | H48: Prijs per keer | I48: Subtotaal per jaar
C49: 5.1 | D49: Stadhuis | E49: Trappenhuis voetgangersingang incl. hal en opstelruimte | F49: 1 | G49: 26 | H49: 0 | I49: =H49*G49 -> 0
C50: 5.2 | E50: Trappenhuis tussen -1 en -2 | F50: 1 | G50: 4 | H50: 0 | I50: =H50*G50 -> 0
C51: 5.3 | E51: Lift | F51: 2 | G51: 26 | H51: 0 | I51: =H51*G51 -> 0
...

Sheet Specificatie dag. Schoonmaak
C4: Specificatie dagelijkse schoonmaakwerkzaamheden
C5: Garage | D5: Werkzaamheden | E5: Aantal
C6: Alle garages | D6: Verwijderen en afvoeren van los vuil bij alle onderdelen.
D7: Stofvrij houden garage
D8: Toegangsdeuren en speedgates schoonhouden
D9: Spinnen raggen verwijderen
D10: Schoonmaken parkeerapparatuur
D11: Schoonhouden verlichting/luchtbehandeling/CO-LPG/Kabels-Leidingen
C12: Stadhuis | D12: Opstelruimte slagbomen/terminals | E12: 2
D13: Loge | E13: 1
D14: Prullenbakken (ledigen - afvoer vuil - schoonmaak) | E14: 2
C15: Dr. Museum | D15: Opstelruimte slagbomen/terminals | E15: 1
D16: Toilet personeel | E16: 1
D17: Loge | E17: 1
D18: Prullenbakken (ledigen - afvoer vuil - schoonmaak) | E18: 2
C19: Mercurius | D19: Opstelruimte slagbomen/terminals | E19: 1
D20: Loge | E20: 1
D21: Prullenbakken (ledigen - afvoer vuil - schoonmaak) | E21: 2
C22: Neptunus | D22: Opstelruimte slagbomen/terminals | E22: 1
D23: Prullenbakken (ledigen - afvoer vuil - schoonmaak) | E23: 4
C24: DNK | D24: Opstelruimte slagbomen/terminals | E24: 4
D25: Loge | E25: 1
D26: Prullenbakken (ledigen - afvoer vuil - schoonmaak) | E26: 2
C27: Triade | D27: Opstelruimte slagbomen/terminals | E27: 2
D28: Prullenbakken (ledigen - afvoer vuil - schoonmaak) | E28: 4
C29: Citadel | D29: Opstelruimte slagbomen/terminals | E29: 4
D30: Toilet personeel | E30: 1
D31: Loge | E31: 1
D32: Prullenbakken (ledigen - afvoer vuil - schoonmaak) | E32: 3
