Workbook

Sheet Prijsblad
B1: Bijlage A9 Prijsblad EA enquêteonderzoeken SBB
B2: Let op dat je de voorwaarden voor het invullen goed in de leidraad meegeeft, dan is hier geen nadere instructie nodig
B3: Invulinstructie:
B4: Inschrijver dient alleen de licht groene cellen van het prijsblad in te vullen met tarieven in Euro's afgerond op 2 decimalen. Het is niet toegestaan om met nultarieven, negatieve tarieven en/of lege (groene) cellen in te schrijven. De witte cellen zijn niet door inschrijver in te vullen. De uurtarieven zijn bindend voor de initiële looptijd van de overeenkomst. De inschrijfprijs en alle overige bij inschrijving aangeboden (onderliggende) tarieven en prijzen (al dan niet ontstaan na toepassing van het uurtarief) zijn all-in prijzen (exclusief btw) waaronder wordt verstaan, inclusief alle kosten, maar niet beperkt tot reiskosten, administratiekosten, overheadkosten, kantoorkosten, kosten voor verzekeringen, leges, heffingen etc. Inschrijver vult op het tabblad 'Uurtarieven + eenmalige kosten' haar prijzen in. Op basis van de door inschrijver ingevulde tarieven en prijzen wordt een fictieve prijs voor diverse onderzoeken berekend in de daarop volgende tabbladen 'Enquête KOW fictief', 'Enquête BPV monitor fictief', 'Enquête MBO werknemer fictief', 'Enquête klantwaardering fictief'.
B16: I Vaste kosten 1e jaar (fictieve prijzen enquêtes)
B17: Omschrijving | C17: Eenheid | D17: Aantal | E17: Prijs per eenheid excl. btw max. 2 decimalen | F17: Kosten per jaar excl. btw
B18: ='Enquête KOW (fictief)'!B9 -> Enquête KOW (fictief) | C18: per jaar | D18: 1 | E18: ='Enquête KOW (fictief)'!L19 -> 0 | F18: =D18*E18 -> 0
B19: ='Enquête BPV monitor (fictief)'!B9 -> Enquête BPV monitor (fictief) | C19: per jaar | D19: 1 | E19: ='Enquête BPV monitor (fictief)'!L18 -> 0 | F19: =D19*E19 -> 0
B20: ='Enquête MBO werknemer (fictief)'!B9 -> Enquête MBO werknemer (fictief) | C20: per jaar | D20: 1 | E20: ='Enquête MBO werknemer (fictief)'!L19 -> 0 | F20: =D20*E20 -> 0
B21: ='Enquête Klantwaardering fictief'!B9 -> Enquête Klantwaardering (fictief) | C21: per jaar | D21: 1 | E21: ='Enquête Klantwaardering fictief'!L21 -> 0 | F21: =D21*E21 -> 0
B22: I Totaal vaste kosten 1e jaar (fictieve prijzen enquêtes) | F22: =SUM(F18:F21) -> 0
B24: II Eenmalige kosten
B25: Omschrijving | C25: Aantal | E25: Prijs per eenheid excl. btw max. 2 decimalen | F25: Eenmalige kosten gehele looptijd excl. btw
B26: ='Uurtarieven + eenmalige kosten'!B29 -> Kick-off en voortzetting, inrichten lopende projecten en dienstverlening (implementatie) | C26: 1 | E26: ='Uurtarieven + eenmalige kosten'!D29 -> 0 | F26: =C26*E26 -> 0
B27: ='Uurtarieven + eenmalige kosten'!B30 -> Bouwen, inrichten en testen koppeling met datawarehouse SBB | C27: 1 | E27: ='Uurtarieven + eenmalige kosten'!D30 -> 0 | F27: =C27*E27 -> 0
B28: II Totaal eenmalige kosten | F28: =SUM(F26:F27) -> 0
B30: Inschrijfprijs
B31: Omschrijving | C31: Kosten 1e jaar excl. btw
B32: =B22 -> I Totaal vaste kosten 1e jaar (fictieve prijzen enquêtes) | C32: =F22 -> 0
B33: =B28 -> II Totaal eenmalige kosten | C33: =F28 -> 0
B34: Totale inschrijfprijs excl. btw | C34: =SUM(C32:C33) -> 0
B37: Voor akkoord
B38: Organisatie
B39: Naam rechtsgeldig vertegenwoordiger
B40: Functie rechtsgeldig vertegenwoordiger
B41: Datum
B42: Handtekening

Sheet Uurtarieven + eenmalige kosten
B3: Invulinstructie:
B4: Inschrijver dient alleen de licht groene cellen van het prijsblad in te vullen met tarieven in Euro's afgerond op 2 decimalen. Het is niet toegestaan om met nultarieven, negatieve tarieven en/of lege (groene) cellen in te schrijven. De witte cellen zijn niet door inschrijver in te vullen. De uurtarieven zijn bindend voor de initiële contractperiode. De inschrijfprijs en alle overige bij inschrijving aangeboden (onderliggende) tarieven, percentage en prijzen (al dan niet ontstaan na toepassing van het uurtarief) zijn all-in prijzen (exclusief btw) waaronder wordt verstaan, inclusief alle kosten, maar niet beperkt tot reiskosten, administratiekosten, overheadkosten, kantoorkosten, kosten voor verzekeringen, leges, heffingen etc. Op basis van de door inschrijver ingevulde uurtarieven wordt een fictieve prijs voor diverse onderzoeken berekend op de tabbladen 'Enquête KOW fictief', 'Enquête BPV monitor fictief', 'Enquête MBO werknemer fictief', 'Enquête klantwaardering fictief'. Deze 'fictieve' prijzen vormen de inschrijfprijs van inschrijver.
B15: Uurtarieven
B16: Omschrijving | C16: Eenheid | D16: Prijs per eenheid excl. btw max. 2 decimalen
B17: Senior Projectleider/ Onderzoeker | C17: per uur
B18: Medior Projectleider/ Onderzoeker | C18: per uur
B19: Junior Projectleider/ Onderzoeker | C19: per uur
B20: Senior Programmeur | C20: per uur
B21: Medior Programmeur | C21: per uur
B22: Junior Programmeur | C22: per uur
B23: Senior Data-analist | C23: per uur
B24: Medior Data-analist | C24: per uur
B25: Junior Data-analist | C25: per uur
B27: Eenmalige kosten
B28: Omschrijving | C28: Eenheid | D28: Prijs per eenheid excl. btw max. 2 decimalen
B29: Kick-off en voortzetting, inrichten lopende projecten en dienstverlening (implementatie) | C29: 1
B30: Bouwen, inrichten en testen koppeling met datawarehouse SBB | C30: 1

Sheet Enquête KOW (fictief)
B9: Enquête KOW (fictief) | C9: ='Uurtarieven + eenmalige kosten'!B17 -> Senior Projectleider/ Onderzoeker | D9: ='Uurtarieven + eenmalige kosten'!B18 -> Medior Projectleider/ Onderzoeker | E9: ='Uurtarieven + eenmalige kosten'!B19 -> Junior Projectleider/ Onderzoeker | F9: ='Uurtarieven + eenmalige kosten'!B20 -> Senior Programmeur | G9: ='Uurtarieven + eenmalige kosten'!B21 -> Medior Programmeur | H9: ='Uurtarieven + eenmalige kosten'!B22 -> Junior Programmeur | I9: ='Uurtarieven + eenmalige kosten'!B23 -> Senior Data-analist | J9: ='Uurtarieven + eenmalige kosten'!B24 -> Medior Data-analist | K9: ='Uurtarieven + eenmalige kosten'!B25 -> Junior Data-analist | L9: Totaal excl. btw
B10: Uurtarieven | C10: ='Uurtarieven + eenmalige kosten'!D17 -> 0 | D10: ='Uurtarieven + eenmalige kosten'!D18 -> 0 | E10: ='Uurtarieven + eenmalige kosten'!D19 -> 0 | F10: ='Uurtarieven + eenmalige kosten'!D20 -> 0 | G10: ='Uurtarieven + eenmalige kosten'!D21 -> 0 | H10: ='Uurtarieven + eenmalige kosten'!D22 -> 0 | I10: ='Uurtarieven + eenmalige kosten'!D23 -> 0 | J10: ='Uurtarieven + eenmalige kosten'!D24 -> 0 | K10: ='Uurtarieven + eenmalige kosten'!D25 -> 0
B12: opstellen vragenlijst, uitnodigings e-mail en remindermail | C12: 2 | E12: 4 | L12: =$C12*$C$10+$D12*$D$10+$E12*$E$10+$F12*$F$10+$G12*$G$10+$H12*$H$10+$I12*$I$10+$J12*$J$10+$K12*$K$10 -> 0
B13: programmeren vragenlijst en inrichten database kwalificaties | I13: 4 | J13: 8 | K13: 12 | L13: =$C13*$C$10+$D13*$D$10+$E13*$E$10+$F13*$F$10+$G13*$G$10+$H13*$H$10+$I13*$I$10+$J13*$J$10+$K13*$K$10 -> 0
B14: handling steekproeven, wekelijkse uitstuur (46 weken) | I14: 3 | J14: 8 | K14: 12 | L14: =$C14*$C$10+$D14*$D$10+$E14*$E$10+$F14*$F$10+$G14*$G$10+$H14*$H$10+$I14*$I$10+$J14*$J$10+$K14*$K$10 -> 0
B15: opzetten geautomatiseerd maandelijks rapport en onderzoeksverantwoording | C15: 20 | E15: 20 | I15: 4 | J15: 8 | K15: 12 | L15: =$C15*$C$10+$D15*$D$10+$E15*$E$10+$F15*$F$10+$G15*$G$10+$H15*$H$10+$I15*$I$10+$J15*$J$10+$K15*$K$10 -> 0
B16: maandelijkse rapportage (12 keer, geautomatiseerd) | C16: 4 | E16: 20 | G16: 4 | H16: 8 | L16: =$C16*$C$10+$D16*$D$10+$E16*$E$10+$F16*$F$10+$G16*$G$10+$H16*$H$10+$I16*$I$10+$J16*$J$10+$K16*$K$10 -> 0
B17: dataverwerking tot spss-bestanden (maandelijks) | E17: 12 | I17: 4 | J17: 8 | K17: 12 | L17: =$C17*$C$10+$D17*$D$10+$E17*$E$10+$F17*$F$10+$G17*$G$10+$H17*$H$10+$I17*$I$10+$J17*$J$10+$K17*$K$10 -> 0
B18: upload databestanden naar datawarehouse (maandelijks) | G18: 2 | H18: 4 | L18: =$C18*$C$10+$D18*$D$10+$E18*$E$10+$F18*$F$10+$G18*$G$10+$H18*$H$10+$I18*$I$10+$J18*$J$10+$K18*$K$10 -> 0
B19: Totaal | C19: =SUM(C12:C18) -> 26 | D19: =SUM(D12:D18) -> 0 | E19: =SUM(E12:E18) -> 56 | F19: =SUM(F12:F18) -> 0 | G19: =SUM(G12:G18) -> 6 | H19: =SUM(H12:H18) -> 12 | I19: =SUM(I12:I18) -> 15 | J19: =SUM(J12:J18) -> 32 | ... L19: =SUM(L12:L18) -> 0

Sheet Enquête BPV monitor (fictief)
B9: Enquête BPV monitor (fictief) | C9: ='Uurtarieven + eenmalige kosten'!B17 -> Senior Projectleider/ Onderzoeker | D9: ='Uurtarieven + eenmalige kosten'!B18 -> Medior Projectleider/ Onderzoeker | E9: ='Uurtarieven + eenmalige kosten'!B19 -> Junior Projectleider/ Onderzoeker | F9: ='Uurtarieven + eenmalige kosten'!B20 -> Senior Programmeur | G9: ='Uurtarieven + eenmalige kosten'!B21 -> Medior Programmeur | H9: ='Uurtarieven + eenmalige kosten'!B22 -> Junior Programmeur | I9: ='Uurtarieven + eenmalige kosten'!B23 -> Senior Data-analist | J9: ='Uurtarieven + eenmalige kosten'!B24 -> Medior Data-analist | K9: ='Uurtarieven + eenmalige kosten'!B25 -> Junior Data-analist | L9: Totaal excl. btw
B10: Uurtarieven | C10: ='Uurtarieven + eenmalige kosten'!D17 -> 0 | D10: ='Uurtarieven + eenmalige kosten'!D18 -> 0 | E10: ='Uurtarieven + eenmalige kosten'!D19 -> 0 | F10: ='Uurtarieven + eenmalige kosten'!D20 -> 0 | G10: ='Uurtarieven + eenmalige kosten'!D21 -> 0 | H10: ='Uurtarieven + eenmalige kosten'!D22 -> 0 | I10: ='Uurtarieven + eenmalige kosten'!D23 -> 0 | J10: ='Uurtarieven + eenmalige kosten'!D24 -> 0 | K10: ='Uurtarieven + eenmalige kosten'!D25 -> 0
B12: opstellen vragenlijst, uitnodigings e-mail en remindermail | C12: 4 | E12: 10 | L12: =$C12*$C$10+$D12*$D$10+$E12*$E$10+$F12*$F$10+$G12*$G$10+$H12*$H$10+$I12*$I$10+$J12*$J$10+$K12*$K$10 -> 0
B13: programmeren vragenlijst | E13: 6 | J13: 8 | L13: =$C13*$C$10+$D13*$D$10+$E13*$E$10+$F13*$F$10+$G13*$G$10+$H13*$H$10+$I13*$I$10+$J13*$J$10+$K13*$K$10 -> 0
B14: handling steekproeven, dagelijkse uitstuur (230 dagen) | C14: 3 | E14: 20 | I14: 2 | J14: 6 | K14: 15 | L14: =$C14*$C$10+$D14*$D$10+$E14*$E$10+$F14*$F$10+$G14*$G$10+$H14*$H$10+$I14*$I$10+$J14*$J$10+$K14*$K$10 -> 0
B15: reponsmonitoring via portal (wekelijkse update) | C15: 12 | E15: 23 | I15: 2 | J15: 6 | K15: 15 | L15: =$C15*$C$10+$D15*$D$10+$E15*$E$10+$F15*$F$10+$G15*$G$10+$H15*$H$10+$I15*$I$10+$J15*$J$10+$K15*$K$10 -> 0
B16: online feedbackrapportage met benchmark | C16: 20 | E16: 20 | I16: 4 | J16: 8 | K16: 12 | L16: =$C16*$C$10+$D16*$D$10+$E16*$E$10+$F16*$F$10+$G16*$G$10+$H16*$H$10+$I16*$I$10+$J16*$J$10+$K16*$K$10 -> 0
B17: Upload data naar datawarehouse | G17: 2 | H17: 4 | L17: =$C17*$C$10+$D17*$D$10+$E17*$E$10+$F17*$F$10+$G17*$G$10+$H17*$H$10+$I17*$I$10+$J17*$J$10+$K17*$K$10 -> 0
B18: Totaal | C18: =SUM(C12:C17) -> 39 | D18: =SUM(D12:D17) -> 0 | E18: =SUM(E12:E17) -> 79 | F18: =SUM(F12:F17) -> 0 | G18: =SUM(G12:G17) -> 2 | H18: =SUM(H12:H17) -> 4 | I18: =SUM(I12:I17) -> 8 | J18: =SUM(J12:J17) -> 28 | ... L18: =SUM(L12:L17) -> 0

Sheet Enquête MBO werknemer (fictief)
B9: Enquête MBO werknemer (fictief) | C9: ='Uurtarieven + eenmalige kosten'!B17 -> Senior Projectleider/ Onderzoeker | D9: ='Uurtarieven + eenmalige kosten'!B18 -> Medior Projectleider/ Onderzoeker | E9: ='Uurtarieven + eenmalige kosten'!B19 -> Junior Projectleider/ Onderzoeker | F9: ='Uurtarieven + eenmalige kosten'!B20 -> Senior Programmeur | G9: ='Uurtarieven + eenmalige kosten'!B21 -> Medior Programmeur | H9: ='Uurtarieven + eenmalige kosten'!B22 -> Junior Programmeur | I9: ='Uurtarieven + eenmalige kosten'!B23 -> Senior Data-analist | J9: ='Uurtarieven + eenmalige kosten'!B24 -> Medior Data-analist | K9: ='Uurtarieven + eenmalige kosten'!B25 -> Junior Data-analist | L9: Totaal excl. btw
B10: Uurtarieven | C10: ='Uurtarieven + eenmalige kosten'!D17 -> 0 | D10: ='Uurtarieven + eenmalige kosten'!D18 -> 0 | E10: ='Uurtarieven + eenmalige kosten'!D19 -> 0 | F10: ='Uurtarieven + eenmalige kosten'!D20 -> 0 | G10: ='Uurtarieven + eenmalige kosten'!D21 -> 0 | H10: ='Uurtarieven + eenmalige kosten'!D22 -> 0 | I10: ='Uurtarieven + eenmalige kosten'!D23 -> 0 | J10: ='Uurtarieven + eenmalige kosten'!D24 -> 0 | K10: ='Uurtarieven + eenmalige kosten'!D25 -> 0
B12: opstellen vragenlijst, uitnodigings e-mail en remindermail | C12: 2 | E12: 4 | L12: =$C12*$C$10+$D12*$D$10+$E12*$E$10+$F12*$F$10+$G12*$G$10+$H12*$H$10+$I12*$I$10+$J12*$J$10+$K12*$K$10 -> 0
B13: programmeren vragenlijst en koppeling met database kwalificaties | C13: 1 | E13: 2 | G13: 2 | I13: 2 | K13: 4 | L13: =$C13*$C$10+$D13*$D$10+$E13*$E$10+$F13*$F$10+$G13*$G$10+$H13*$H$10+$I13*$I$10+$J13*$J$10+$K13*$K$10 -> 0
B14: trekken steekproef | E14: 2 | K14: 4 | L14: =$C14*$C$10+$D14*$D$10+$E14*$E$10+$F14*$F$10+$G14*$G$10+$H14*$H$10+$I14*$I$10+$J14*$J$10+$K14*$K$10 -> 0
B15: uitnodigen respondenten: soft en full launch | E15: 1 | K15: 1 | L15: =$C15*$C$10+$D15*$D$10+$E15*$E$10+$F15*$F$10+$G15*$G$10+$H15*$H$10+$I15*$I$10+$J15*$J$10+$K15*$K$10 -> 0
B16: responsmonitoring en upload responsdata | C16: 2 | E16: 4 | I16: 1 | K16: 1 | L16: =$C16*$C$10+$D16*$D$10+$E16*$E$10+$F16*$F$10+$G16*$G$10+$H16*$H$10+$I16*$I$10+$J16*$J$10+$K16*$K$10 -> 0
B17: dataverwerking | C17: 2 | E17: 4 | I17: 2 | K17: 4 | L17: =$C17*$C$10+$D17*$D$10+$E17*$E$10+$F17*$F$10+$G17*$G$10+$H17*$H$10+$I17*$I$10+$J17*$J$10+$K17*$K$10 -> 0
B18: upload databestanden naar datawarehouse | E18: 1 | G18: 1 | L18: =$C18*$C$10+$D18*$D$10+$E18*$E$10+$F18*$F$10+$G18*$G$10+$H18*$H$10+$I18*$I$10+$J18*$J$10+$K18*$K$10 -> 0
B19: Totaal | C19: =SUM(C12:C18) -> 7 | D19: =SUM(D12:D18) -> 0 | E19: =SUM(E12:E18) -> 18 | F19: =SUM(F12:F18) -> 0 | G19: =SUM(G12:G18) -> 3 | H19: =SUM(H12:H18) -> 0 | I19: =SUM(I12:I18) -> 5 | J19: =SUM(J12:J18) -> 0 | ... L19: =SUM(L12:L18) -> 0

Sheet Enquête Klantwaardering fictief
B9: Enquête Klantwaardering (fictief) | C9: ='Uurtarieven + eenmalige kosten'!B17 -> Senior Projectleider/ Onderzoeker | D9: ='Uurtarieven + eenmalige kosten'!B18 -> Medior Projectleider/ Onderzoeker | E9: ='Uurtarieven + eenmalige kosten'!B19 -> Junior Projectleider/ Onderzoeker | F9: ='Uurtarieven + eenmalige kosten'!B20 -> Senior Programmeur | G9: ='Uurtarieven + eenmalige kosten'!B21 -> Medior Programmeur | H9: ='Uurtarieven + eenmalige kosten'!B22 -> Junior Programmeur | I9: ='Uurtarieven + eenmalige kosten'!B23 -> Senior Data-analist | J9: ='Uurtarieven + eenmalige kosten'!B24 -> Medior Data-analist | K9: ='Uurtarieven + eenmalige kosten'!B25 -> Junior Data-analist | L9: Totaal excl. btw
B10: Uurtarieven | C10: ='Uurtarieven + eenmalige kosten'!D17 -> 0 | D10: ='Uurtarieven + eenmalige kosten'!D18 -> 0 | E10: ='Uurtarieven + eenmalige kosten'!D19 -> 0 | F10: ='Uurtarieven + eenmalige kosten'!D20 -> 0 | G10: ='Uurtarieven + eenmalige kosten'!D21 -> 0 | H10: ='Uurtarieven + eenmalige kosten'!D22 -> 0 | I10: ='Uurtarieven + eenmalige kosten'!D23 -> 0 | J10: ='Uurtarieven + eenmalige kosten'!D24 -> 0 | K10: ='Uurtarieven + eenmalige kosten'!D25 -> 0
B12: input verzamelen en opstellen vragenlijst klantwaardering | C12: 12 | E12: 4 | L12: =$C12*$C$10+$D12*$D$10+$E12*$E$10+$F12*$F$10+$G12*$G$10+$H12*$H$10+$I12*$I$10+$J12*$J$10+$K12*$K$10 -> 0
B13: programmeren vragenlijst | E13: 2 | I13: 2 | J13: 2 | L13: =$C13*$C$10+$D13*$D$10+$E13*$E$10+$F13*$F$10+$G13*$G$10+$H13*$H$10+$I13*$I$10+$J13*$J$10+$K13*$K$10 -> 0
B14: handling steekproeven, wekelijkse uitstuur (46 weken) | I14: 4 | J14: 6 | K14: 12 | L14: =$C14*$C$10+$D14*$D$10+$E14*$E$10+$F14*$F$10+$G14*$G$10+$H14*$H$10+$I14*$I$10+$J14*$J$10+$K14*$K$10 -> 0
B15: wekelijkse responsrapportage via portal | C15: 8 | E15: 24 | F15: 4 | H15: 8 | I15: 2 | J15: 4 | K15: 24 | L15: =$C15*$C$10+$D15*$D$10+$E15*$E$10+$F15*$F$10+$G15*$G$10+$H15*$H$10+$I15*$I$10+$J15*$J$10+$K15*$K$10 -> 0
B16: maken databestand en tabellenboek (4x) | C16: 8 | E16: 16 | I16: 2 | K16: 22 | L16: =$C16*$C$10+$D16*$D$10+$E16*$E$10+$F16*$F$10+$G16*$G$10+$H16*$H$10+$I16*$I$10+$J16*$J$10+$K16*$K$10 -> 0
B17: kwartaalrapportages (4x) | C17: 40 | E17: 70 | I17: 12 | K17: 12 | L17: =$C17*$C$10+$D17*$D$10+$E17*$E$10+$F17*$F$10+$G17*$G$10+$H17*$H$10+$I17*$I$10+$J17*$J$10+$K17*$K$10 -> 0
B18: Upload databestand naar datawarehouse | F18: 2 | H18: 4 | L18: =$C18*$C$10+$D18*$D$10+$E18*$E$10+$F18*$F$10+$G18*$G$10+$H18*$H$10+$I18*$I$10+$J18*$J$10+$K18*$K$10 -> 0
B19: Helpdesk | L19: =$C19*$C$10+$D19*$D$10+$E19*$E$10+$F19*$F$10+$G19*$G$10+$H19*$H$10+$I19*$I$10+$J19*$J$10+$K19*$K$10 -> 0
B20: Versturen feedbackrapportages (geautomatiseerd) aan respondenten | F20: 2 | H20: 4 | L20: =$C20*$C$10+$D20*$D$10+$E20*$E$10+$F20*$F$10+$G20*$G$10+$H20*$H$10+$I20*$I$10+$J20*$J$10+$K20*$K$10 -> 0
B21: Totaal | C21: =SUM(C12:C20) -> 68 | D21: =SUM(D12:D20) -> 0 | E21: =SUM(E12:E20) -> 116 | F21: =SUM(F12:F20) -> 8 | G21: =SUM(G12:G20) -> 0 | H21: =SUM(H12:H20) -> 16 | I21: =SUM(I12:I20) -> 22 | J21: =SUM(J12:J20) -> 12 | ... L21: =SUM(L12:L20) -> 0
