Workbook

Sheet Calculatie schoonmaak invulblad
A2: Uurtarief vrijgesteld toezicht direct leidinggevende | E2: VUL S.V.P ALLE GELE VLAKKEN IN OP DEZE PAGINA. DE OVERIGE BLADEN WORDEN DAN AUTOMATISCH INGEVULD. P.S.: DE UURTARIEVEN DIENEN OVEREEN TE KOMEN MET DE CALCULATIEBLADEN VOOR DE UURTARIEVEN
A4: Uurtarief schoonmaakmedewerker
A6: Percentage t.b.v. inzet vrijgesteld toezicht direct leidinggevende | D6: %
A8: Vermenigvuldigingsfactor voor bewerkelijkheid vanwege locatiespecifieke verontreiniging of afwerking. (1,00 = geen afwijking, voorbeeld 1,15 is een verrekening met 15%)
A9: BC Broekhin Roermond | C9: 1 | H9: Bedrijfsnaam Inschrijver
A10: Connect College Echt | C10: 1 | H10: Plaats
A11: Grescollege Echt | C11: 1 | H11: Datum
A12: Niekée Reormond | C12: 1 | H12: Handtekening
A13: NT2 Roermond | C13: 1
A14: ROER College Schöndeln Roermond | C14: 1
A15: SG St. Ursula Heythuysen | C15: 1
A16: SG St. Ursula Horn | C16: 1
A17: Stafbureau SOML | C17: 1
A19: Ruimtegroep | B19: Vloerafwerking | C19: Vloersoort | D19: Werkprogramma | E19: Prestatienorm | G19: Ruimtegroep | H19: Vloerafwerking | I19: Vloersoort | J19: Werkprogramma | K19: Prestatienorm
A20: Bureaukamer | B20: Tarkett | C20: Homogeen Vinyl | D20: WP 1 | G20: Praktijklokaal | H20: Tarkett | I20: Homogeen Vinyl | J20: WP 4
A21: Bureaukamer | B21: Steen/Beton/Tegels/Coating | C21: Steen | D21: WP 1 | G21: Praktijklokaal | H21: Steen/Beton/Tegels/Coating | I21: Steen | J21: WP 4
A22: Bureaukamer | B22: Vast Tapijt/Tapijt/Vilt/Tapijttegels | C22: Tapijt | D22: WP 1 | G22: Praktijklokaal | H22: Marmoleum/Linoleum | I22: Lino | J22: WP 4
A23: Bureaukamer | B23: Marmoleum/Linoleum | C23: Lino | D23: WP 1 | G23: Praktijklokaal | H23: PVC | I23: Heterogeen Vinyl | J23: WP 4
A24: Bureaukamer | B24: PVC | C24: Heterogeen Vinyl | D24: WP 1 | G24: Praktijklokaal | H24: Anti-slip Coating | I24: Steen | J24: WP 4
A25: Bureaukamer | B25: Hout | C25: Hout | D25: WP 1 | G25: Praktijklokaal | H25: Rubbertegels gelast | I25: Rubber | J25: WP 4
A26: Bureaukamer | B26: Tarkett | C26: Homogeen Vinyl | D26: WP 13 | G26: Praktijklokaal | H26: Hout | I26: Hout | J26: WP 4
A27: Bureaukamer | B27: Steen/Beton/Tegels/Coating | C27: Steen | D27: WP 13 | G27: Praktijklokaal | H27: Vast Tapijt/Tapijt/Vilt/Tapijttegels | I27: Tapijt | J27: WP 4
A28: Bureaukamer | B28: Vast Tapijt/Tapijt/Vilt/Tapijttegels | C28: Tapijt | D28: WP 13 | G28: Praktijklokaal | H28: Kunststof tegel | I28: PVC | J28: WP 4
A29: Bureaukamer | B29: Marmoleum/Linoleum | C29: Lino | D29: WP 13 | G29: Praktijklokaal | H29: OSB-platen | I29: Hout | J29: WP 4
A30: Bureaukamer | B30: PVC | C30: Heterogeen Vinyl | D30: WP 13 | G30: Praktijklokaal Keuken | H30: Steen/Beton/Tegels/Coating | I30: Steen | J30: WP 5
A31: Bureaukamer | B31: Hout | C31: Hout | D31: WP 13 | G31: Praktijklokaal Keuken | H31: PVC | I31: Heterogeen Vinyl | J31: WP 5
... A65: Leslokaal | B65: PVC | C65: Heterogeen Vinyl | D65: WP 2 | G65: Verkeersruimte | H65: Rubber | I65: Rubber | J65: WP 6
A66: Leslokaal | B66: Kunststof tegel | C66: PVC | D66: WP 2
A67: Lift | B67: Marmoleum/Linoleum | C67: Lino | D67: WP 6
A68: Lift | B68: Noppenvloer | C68: Rubber | D68: WP 6
A69: Lift | B69: PVC | C69: Heterogeen Vinyl | D69: WP 6
A70: Lift | B70: Tarkett | C70: Homogeen Vinyl | D70: WP 6
A71: Lift | B71: Anti-slip coating | C71: Steen | D71: WP 6
A72: Mediatheek | B72: Vast Tapijt | C72: Tapijt | D72: WP 2
A73: Mediatheek | B73: Marmoleum/Linoleum | C73: Lino | D73: WP 2
A74: Overige ruimte | B74: Steen/Beton/Tegels/Coating | C74: Steen | D74: WP 12
A75: Overige ruimte | B75: Marmoleum/Linoleum | C75: Lino | D75: WP 12
A76: Overige ruimte | B76: Vast Tapijt/Tapijt/Vilt/Tapijttegels | C76: Tapijt | D76: WP 12
A77: Overige ruimte | B77: PVC | C77: Heterogeen Vinyl | D77: WP 12
A78: Overige ruimte | B78: Hout | C78: Hout | D78: WP 12

Sheet BC Broekhin Roermond
A2: Klant | B2: SOML | D2: Totaal m² in onderhoud (i.o) | E2: =I260 -> 10818.8 | G2: Kosten inzet vrijgesteld toezicht per dag | J2: =E6*'Calculatie schoonmaak invulblad'!C2 -> #DIV/0! | L2: Bedrijfsnaam Inschrijver | M2: ='Calculatie schoonmaak invulblad'!I9 -> 0
A3: Locatie | B3: BC Broekhin | D3: Totaal m² per jaar in onderhoud | E3: =M260 -> 1561865 | G3: Kosten schoonmaak per dag | J3: =E4*'Calculatie schoonmaak invulblad'!C4 -> #DIV/0! | L3: Datum | M3: ='Calculatie schoonmaak invulblad'!I10 -> 0
A4: Adres locatie | B4: Bob Boumanstraat 30-32 6042 EH Roermond | D4: Uren per dag schoonmaak | E4: =N260 -> #DIV/0! | G4: Kosten inzet vrijgesteld toezicht per jaar | J4: =E7*'Calculatie schoonmaak invulblad'!C2 -> #DIV/0! | L4: Plaats | M4: ='Calculatie schoonmaak invulblad'!I11 -> 0
D5: Uren per jaar schoonmaak | E5: =O260 -> #DIV/0! | G5: Kosten schoonmaak per jaar | J5: =E5*'Calculatie schoonmaak invulblad'!C4 -> #DIV/0! | L5: Handtekening | M5: ='Calculatie schoonmaak invulblad'!I12 -> 0
D6: Uren per dag vrijgesteld toezicht | E6: ='Calculatie schoonmaak invulblad'!C6*'BC Broekhin Roermond'!E4/100 -> #DIV/0! | G6: Contractjaarprijs locatie BC Broekhin | J6: =J4+J5 -> #DIV/0!
D7: Uren per jaar vrijgesteld toezicht | E7: ='Calculatie schoonmaak invulblad'!C6*'BC Broekhin Roermond'!E5/100 -> #DIV/0!
A10: Verdieping | B10: Ruimtenummer | C10: Omschrijving | D10: Ruimtesoort | E10: Vloersoort | F10: Vloergroep | G10: Werkprogramma | H10: Totaal m² | I10: In onderhoud (i.o.) | J10: Niet in onderhoud (n.i.o.) | K10: Prestatienorm | L10: Dagen per jaar | M10: Totaal m² per jaar | N10: Uren per dag | O10: Uren per jaar
A11: Souterrain | B11: 122 | C11: Verkeersruimte | D11: Verkeersruimte | E11: Steen | F11: Steen | G11: WP 6 | H11: 25 | I11: 25 | K11: ='Calculatie schoonmaak invulblad'!K58 -> 0 | L11: 200 | M11: =I11*L11 -> 5000 | N11: =((I11/K11)*L11)/200*'Calculatie schoonmaak invulblad'!C9 -> #DIV/0! | O11: =(I11/K11*L11)*'Calculatie schoonmaak invulblad'!C9 -> #DIV/0!
A12: Souterrain | B12: Souterain 1 | C12: Trap(penhuis) | D12: Trap(penhuis) | E12: Steen | F12: Steen | G12: WP 6 | H12: 10 | I12: 10 | K12: ='Calculatie schoonmaak invulblad'!K49 -> 0 | L12: 200 | M12: =I12*L12 -> 2000 | N12: =((I12/K12)*L12)/200*'Calculatie schoonmaak invulblad'!C9 -> #DIV/0! | O12: =(I12/K12*L12)*'Calculatie schoonmaak invulblad'!C9 -> #DIV/0!
A13: Souterrain | B13: Souterain 0 | C13: Trap(penhuis | D13: Trap(penhuis) | E13: Steen | F13: Steen | G13: WP 6 | H13: 10 | I13: 10 | K13: ='Calculatie schoonmaak invulblad'!K49 -> 0 | L13: 200 | M13: =I13*L13 -> 2000 | N13: =((I13/K13)*L13)/200*'Calculatie schoonmaak invulblad'!C9 -> #DIV/0! | O13: =(I13/K13*L13)*'Calculatie schoonmaak invulblad'!C9 -> #DIV/0!
A14: Souterrain | B14: Souterain 3 | C14: Kleedruimte | D14: Kleedruimte | E14: Steen | F14: Steen | G14: WP 9 | H14: 35 | I14: 35 | K14: ='Calculatie schoonmaak invulblad'!E56 -> 0 | L14: 200 | M14: =I14*L14 -> 7000 | N14: =((I14/K14)*L14)/200*'Calculatie schoonmaak invulblad'!C9 -> #DIV/0! | O14: =(I14/K14*L14)*'Calculatie schoonmaak invulblad'!C9 -> #DIV/0!
A15: Souterrain | B15: Souterain 2 | C15: Kleedruimte | D15: Kleedruimte | E15: Steen | F15: Steen | G15: WP 9 | H15: 35 | I15: 35 | K15: ='Calculatie schoonmaak invulblad'!E56 -> 0 | L15: 200 | M15: =I15*L15 -> 7000 | N15: =((I15/K15)*L15)/200*'Calculatie schoonmaak invulblad'!C9 -> #DIV/0! | O15: =(I15/K15*L15)*'Calculatie schoonmaak invulblad'!C9 -> #DIV/0!
A16: Souterrain | B16: Souterain 4 | C16: Doorgang | D16: Verkeersruimte | E16: Steen | F16: Steen | G16: WP 6 | H16: 8 | I16: 8 | K16: ='Calculatie schoonmaak invulblad'!K58 -> 0 | L16: 200 | M16: =I16*L16 -> 1600 | N16: =((I16/K16)*L16)/200*'Calculatie schoonmaak invulblad'!C9 -> #DIV/0! | O16: =(I16/K16*L16)*'Calculatie schoonmaak invulblad'!C9 -> #DIV/0!
A17: Souterrain | B17: 101 | C17: Hal | D17: Verkeersruimte | E17: Steen | F17: Steen | G17: WP 6 | H17: 63 | I17: 63 | K17: ='Calculatie schoonmaak invulblad'!K58 -> 0 | L17: 200 | M17: =I17*L17 -> 12600 | N17: =((I17/K17)*L17)/200*'Calculatie schoonmaak invulblad'!C9 -> #DIV/0! | O17: =(I17/K17*L17)*'Calculatie schoonmaak invulblad'!C9 -> #DIV/0!
A18: Souterrain | B18: Souterain 5 | C18: Trap(penhuis) | D18: Trap(penhuis) | E18: Steen | F18: Steen | G18: WP 6 | H18: 32 | I18: 32 | K18: ='Calculatie schoonmaak invulblad'!K49 -> 0 | L18: 200 | M18: =I18*L18 -> 6400 | N18: =((I18/K18)*L18)/200*'Calculatie schoonmaak invulblad'!C9 -> #DIV/0! | O18: =(I18/K18*L18)*'Calculatie schoonmaak invulblad'!C9 -> #DIV/0!
A19: Souterrain | B19: 103 | C19: Garderobe | D19: Verkeersruimte | E19: Steen | F19: Steen | G19: WP 6 | H19: 43 | I19: 43 | K19: ='Calculatie schoonmaak invulblad'!K58 -> 0 | L19: 200 | M19: =I19*L19 -> 8600 | N19: =((I19/K19)*L19)/200*'Calculatie schoonmaak invulblad'!C9 -> #DIV/0! | O19: =(I19/K19*L19)*'Calculatie schoonmaak invulblad'!C9 -> #DIV/0!
A20: Souterrain | B20: 115 | C20: Kantoor | D20: Bureaukamer | E20: Tarkett | F20: Homogeen Vinyl | G20: WP 1 | H20: 23 | I20: 0 | J20: 23 | K20: ='Calculatie schoonmaak invulblad'!E20 -> 0 | L20: 40 | M20: =I20*L20 -> 0 | N20: =((I20/K20)*L20)/200*'Calculatie schoonmaak invulblad'!C9 -> #DIV/0! | O20: =(I20/K20*L20)*'Calculatie schoonmaak invulblad'!C9 -> #DIV/0!
A21: Souterrain | B21: 116 | C21: Kantoor | D21: Bureaukamer | E21: Tarkett | F21: Homogeen Vinyl | G21: WP 1 | H21: 23 | I21: 0 | J21: 23 | K21: ='Calculatie schoonmaak invulblad'!E20 -> 0 | L21: 40 | M21: =I21*L21 -> 0 | N21: =((I21/K21)*L21)/200*'Calculatie schoonmaak invulblad'!C9 -> #DIV/0! | O21: =(I21/K21*L21)*'Calculatie schoonmaak invulblad'!C9 -> #DIV/0!
A22: Souterrain | B22: 117 | C22: Kantoor | D22: Bureaukamer | E22: Tarkett | F22: Homogeen Vinyl | G22: WP 1 | H22: 23 | I22: 0 | J22: 23 | K22: ='Calculatie schoonmaak invulblad'!E20 -> 0 | L22: 40 | M22: =I22*L22 -> 0 | N22: =((I22/K22)*L22)/200*'Calculatie schoonmaak invulblad'!C9 -> #DIV/0! | O22: =(I22/K22*L22)*'Calculatie schoonmaak invulblad'!C9 -> #DIV/0!
A23: Souterrain | B23: 118 | C23: Kantoor | D23: Bureaukamer | E23: Tarkett | F23: Homogeen Vinyl | G23: WP 1 | H23: 28 | I23: 0 | J23: 28 | K23: ='Calculatie schoonmaak invulblad'!E20 -> 0 | L23: 40 | M23: =I23*L23 -> 0 | N23: =((I23/K23)*L23)/200*'Calculatie schoonmaak invulblad'!C9 -> #DIV/0! | O23: =(I23/K23*L23)*'Calculatie schoonmaak invulblad'!C9 -> #DIV/0!
A24: Souterrain | B24: Souterain 6 | C24: Verkeersruimte | D24: Verkeersruimte | E24: Steen | F24: Steen | G24: WP 6 | H24: 38 | I24: 38 | K24: ='Calculatie schoonmaak invulblad'!K58 -> 0 | L24: 200 | M24: =I24*L24 -> 7600 | N24: =((I24/K24)*L24)/200*'Calculatie schoonmaak invulblad'!C9 -> #DIV/0! | O24: =(I24/K24*L24)*'Calculatie schoonmaak invulblad'!C9 -> #DIV/0!
A25: Souterrain | B25: Souterain 7 | C25: Toiletruimte | D25: Sanitaire ruimte | E25: Steen | F25: Steen | G25: WP 7 | H25: 9 | I25: 9 | K25: ='Calculatie schoonmaak invulblad'!K37 -> 0 | L25: 200 | M25: =I25*L25 -> 1800 | N25: =((I25/K25)*L25)/200*'Calculatie schoonmaak invulblad'!C9 -> #DIV/0! | O25: =(I25/K25*L25)*'Calculatie schoonmaak invulblad'!C9 -> #DIV/0!
A26: Souterrain | B26: Souterain 8 | C26: Toiletruimte | D26: Sanitaire ruimte | E26: Steen | F26: Steen | G26: WP 7 | H26: 13 | I26: 13 | K26: ='Calculatie schoonmaak invulblad'!K37 -> 0 | L26: 200 | M26: =I26*L26 -> 2600 | N26: =((I26/K26)*L26)/200*'Calculatie schoonmaak invulblad'!C9 -> #DIV/0! | O26: =(I26/K26*L26)*'Calculatie schoonmaak invulblad'!C9 -> #DIV/0!
A27: Souterrain | B27: Souterain 9 | C27: Opslag | D27: Overige ruimte | E27: Steen | F27: Steen | G27: WP 12 | H27: 31 | I27: 31 | K27: ='Calculatie schoonmaak invulblad'!E74 -> 0 | L27: 10 | M27: =I27*L27 -> 310 | N27: =((I27/K27)*L27)/200*'Calculatie schoonmaak invulblad'!C9 -> #DIV/0! | O27: =(I27/K27*L27)*'Calculatie schoonmaak invulblad'!C9 -> #DIV/0!
A28: Souterrain | B28: Souterain 10 | C28: Portaal | D28: Verkeersruimte | E28: Steen | F28: Steen | G28: WP 6 | H28: 13 | I28: 13 | K28: ='Calculatie schoonmaak invulblad'!K58 -> 0 | L28: 200 | M28: =I28*L28 -> 2600 | N28: =((I28/K28)*L28)/200*'Calculatie schoonmaak invulblad'!C9 -> #DIV/0! | O28: =(I28/K28*L28)*'Calculatie schoonmaak invulblad'!C9 -> #DIV/0!
A29: Souterrain | B29: 120 | C29: L.O.R. | D29: Horecaruimte | E29: PVC | F29: Heterogeen Vinyl | G29: WP 3 | H29: 285 | I29: 285 | K29: ='Calculatie schoonmaak invulblad'!E46 -> 0 | L29: 200 | M29: =I29*L29 -> 57000 | N29: =((I29/K29)*L29)/200*'Calculatie schoonmaak invulblad'!C9 -> #DIV/0! | O29: =(I29/K29*L29)*'Calculatie schoonmaak invulblad'!C9 -> #DIV/0!
A30: Souterrain | B30: Souterain 11 | C30: Uitgifte | D30: Keuken/Pantry | E30: Steen | F30: Steen | G30: WP 3 | H30: 11 | I30: 11 | K30: ='Calculatie schoonmaak invulblad'!E51 -> 0 | L30: 200 | M30: =I30*L30 -> 2200 | N30: =((I30/K30)*L30)/200*'Calculatie schoonmaak invulblad'!C9 -> #DIV/0! | O30: =(I30/K30*L30)*'Calculatie schoonmaak invulblad'!C9 -> #DIV/0!
A31: Souterrain | B31: 112 | C31: Miva-toilet | D31: Sanitaire ruimte | E31: Steen | F31: Steen | G31: WP 7 | H31: 5 | I31: 5 | K31: ='Calculatie schoonmaak invulblad'!K37 -> 0 | L31: 200 | M31: =I31*L31 -> 1000 | N31: =((I31/K31)*L31)/200*'Calculatie schoonmaak invulblad'!C9 -> #DIV/0! | O31: =(I31/K31*L31)*'Calculatie schoonmaak invulblad'!C9 -> #DIV/0!
A32: Souterrain | B32: Souterain 12 | C32: Lift | D32: Lift | E32: Tarkett | F32: Homogeen Vinyl | G32: WP 6 | H32: 2 | I32: 2 | K32: ='Calculatie schoonmaak invulblad'!E70 -> 0 | L32: 200 | M32: =I32*L32 -> 400 | N32: =((I32/K32)*L32)/200*'Calculatie schoonmaak invulblad'!C9 -> #DIV/0! | O32: =(I32/K32*L32)*'Calculatie schoonmaak invulblad'!C9 -> #DIV/0!
A33: Souterrain | B33: Souterain 13 | C33: Verkeersruimte | D33: Verkeersruimte | E33: Steen | F33: Steen | G33: WP 6 | H33: 100 | I33: 100 | K33: ='Calculatie schoonmaak invulblad'!K58 -> 0 | L33: 200 | M33: =I33*L33 -> 20000 | N33: =((I33/K33)*L33)/200*'Calculatie schoonmaak invulblad'!C9 -> #DIV/0! | O33: =(I33/K33*L33)*'Calculatie schoonmaak invulblad'!C9 -> #DIV/0!
A34: Souterrain | B34: Souterain 14 | C34: Entree | D34: Verkeersruimte | E34: Vast Tapijt | F34: Tapijt | G34: WP 6 | H34: 16 | I34: 16 | K34: ='Calculatie schoonmaak invulblad'!K59 -> 0 | L34: 200 | M34: =I34*L34 -> 3200 | N34: =((I34/K34)*L34)/200*'Calculatie schoonmaak invulblad'!C9 -> #DIV/0! | O34: =(I34/K34*L34)*'Calculatie schoonmaak invulblad'!C9 -> #DIV/0!
A35: Souterrain | B35: 121 | C35: Kantoor | D35: Bureaukamer | E35: Tarkett | F35: Homogeen Vinyl | G35: WP 1 | H35: 21 | I35: 0 | J35: 21 | K35: ='Calculatie schoonmaak invulblad'!E20 -> 0 | L35: 40 | M35: =I35*L35 -> 0 | N35: =((I35/K35)*L35)/200*'Calculatie schoonmaak invulblad'!C9 -> #DIV/0! | O35: =(I35/K35*L35)*'Calculatie schoonmaak invulblad'!C9 -> #DIV/0!
A36: Souterrain | B36: 122 | C36: Kantoor | D36: Bureaukamer | E36: Tarkett | F36: Homogeen Vinyl | G36: WP 1 | H36: 21 | I36: 0 | J36: 21 | K36: ='Calculatie schoonmaak invulblad'!E20 -> 0 | L36: 40 | M36: =I36*L36 -> 0 | N36: =((I36/K36)*L36)/200*'Calculatie schoonmaak invulblad'!C9 -> #DIV/0! | O36: =(I36/K36*L36)*'Calculatie schoonmaak invulblad'!C9 -> #DIV/0!
A37: Souterrain | B37: 123 | C37: Kantoor | D37: Bureaukamer | E37: Tarkett | F37: Homogeen Vinyl | G37: WP 1 | H37: 21 | I37: 0 | J37: 21 | K37: ='Calculatie schoonmaak invulblad'!E20 -> 0 | L37: 40 | M37: =I37*L37 -> 0 | N37: =((I37/K37)*L37)/200*'Calculatie schoonmaak invulblad'!C9 -> #DIV/0! | O37: =(I37/K37*L37)*'Calculatie schoonmaak invulblad'!C9 -> #DIV/0!
A38: Souterrain | B38: 124 | C38: Kantoor | D38: Bureaukamer | E38: Tarkett | F38: Homogeen Vinyl | G38: WP 1 | H38: 21 | I38: 0 | J38: 21 | K38: ='Calculatie schoonmaak invulblad'!E20 -> 0 | L38: 40 | M38: =I38*L38 -> 0 | N38: =((I38/K38)*L38)/200*'Calculatie schoonmaak invulblad'!C9 -> #DIV/0! | O38: =(I38/K38*L38)*'Calculatie schoonmaak invulblad'!C9 -> #DIV/0!
A39: Souterrain | B39: 125 | C39: Kantoor | D39: Bureaukamer | E39: Tarkett | F39: Homogeen Vinyl | G39: WP 1 | H39: 21 | I39: 0 | J39: 21 | K39: ='Calculatie schoonmaak invulblad'!E20 -> 0 | L39: 40 | M39: =I39*L39 -> 0 | N39: =((I39/K39)*L39)/200*'Calculatie schoonmaak invulblad'!C9 -> #DIV/0! | O39: =(I39/K39*L39)*'Calculatie schoonmaak invulblad'!C9 -> #DIV/0!
A40: Souterrain | B40: 126 | C40: Kantoor | D40: Bureaukamer | E40: Tarkett | F40: Homogeen Vinyl | G40: WP 1 | H40: 21 | I40: 0 | J40: 21 | K40: ='Calculatie schoonmaak invulblad'!E20 -> 0 | L40: 40 | M40: =I40*L40 -> 0 | N40: =((I40/K40)*L40)/200*'Calculatie schoonmaak invulblad'!C9 -> #DIV/0! | O40: =(I40/K40*L40)*'Calculatie schoonmaak invulblad'!C9 -> #DIV/0!
A41: Souterrain | B41: Souterain 15 | C41: Entree | D41: Verkeersruimte | E41: Vast Tapijt | F41: Tapijt | G41: WP 6 | H41: 13 | I41: 13 | K41: ='Calculatie schoonmaak invulblad'!K59 -> 0 | L41: 200 | M41: =I41*L41 -> 2600 | N41: =((I41/K41)*L41)/200*'Calculatie schoonmaak invulblad'!C9 -> #DIV/0! | O41: =(I41/K41*L41)*'Calculatie schoonmaak invulblad'!C9 -> #DIV/0!
A42: Souterrain | B42: Souterain 16 | C42: Hal | D42: Verkeersruimte | E42: Tarkett | F42: Homogeen Vinyl | G42: WP 6 | H42: 19 | I42: 19 | K42: ='Calculatie schoonmaak invulblad'!K60 -> 0 | L42: 200 | M42: =I42*L42 -> 3800 | N42: =((I42/K42)*L42)/200*'Calculatie schoonmaak invulblad'!C9 -> #DIV/0! | O42: =(I42/K42*L42)*'Calculatie schoonmaak invulblad'!C9 -> #DIV/0!
A43: Souterrain | B43: Souterain 17 | C43: Verkeersruimte | D43: Verkeersruimte | E43: Tarkett | F43: Homogeen Vinyl | G43: WP 6 | H43: 75 | I43: 75 | K43: ='Calculatie schoonmaak invulblad'!K60 -> 0 | L43: 200 | M43: =I43*L43 -> 15000 | N43: =((I43/K43)*L43)/200*'Calculatie schoonmaak invulblad'!C9 -> #DIV/0! | O43: =(I43/K43*L43)*'Calculatie schoonmaak invulblad'!C9 -> #DIV/0!
...

Sheet Connect College Echt
A2: Klant | B2: SOML | D2: Totaal m² in onderhoud (i.o) | E2: =I265 -> 8939.65 | G2: Kosten inzet vrijgesteld toezicht per dag | J2: =E6*'Calculatie schoonmaak invulblad'!C2 -> #DIV/0! | L2: Bedrijfsnaam Inschrijver | M2: ='Calculatie schoonmaak invulblad'!I9 -> 0
A3: Locatie | B3: Connect College Echt | D3: Totaal m² per jaar in onderhoud | E3: =M265 -> 1197158 | G3: Kosten schoonmaak per dag | J3: =E4*'Calculatie schoonmaak invulblad'!C4 -> #DIV/0! | L3: Datum | M3: ='Calculatie schoonmaak invulblad'!I10 -> 0
A4: Adres locatie | B4: Populierlaan 1 6101 BA Echt | D4: Uren per dag schoonmaak | E4: =N265 -> #DIV/0! | G4: Kosten inzet vrijgesteld toezicht per jaar | J4: =E7*'Calculatie schoonmaak invulblad'!C2 -> #DIV/0! | L4: Plaats | M4: ='Calculatie schoonmaak invulblad'!I11 -> 0
D5: Uren per jaar schoonmaak | E5: =O265 -> #DIV/0! | G5: Kosten schoonmaak per jaar | J5: =E5*'Calculatie schoonmaak invulblad'!C4 -> #DIV/0! | L5: Handtekening | M5: ='Calculatie schoonmaak invulblad'!I12 -> 0
D6: Uren per dag vrijgesteld toezicht | E6: ='Calculatie schoonmaak invulblad'!C6*'Connect College Echt'!E4/100 -> #DIV/0! | G6: Contractjaarprijs locatie BC Broekhin | J6: =J4+J5 -> #DIV/0!
D7: Uren per jaar vrijgesteld toezicht | E7: ='Calculatie schoonmaak invulblad'!C6*'Connect College Echt'!E5/100 -> #DIV/0!
A10: Verdieping | B10: Ruimtenummer | C10: Omschrijving | D10: Ruimtesoort | E10: Vloersoort | F10: Vloergroep | G10: Werkprogramma | H10: Totaal m² | I10: In onderhoud (i.o.) | J10: Niet in onderhoud (n.i.o.) | K10: Prestatienorm | L10: Dagen per jaar | M10: Totaal m² per jaar | N10: Uren per dag | O10: Uren per jaar
A11: Begane grond | B11: 0-A | C11: Entree Maasbrachterweg | D11: Verkeersruimte | E11: Vast Tapijt | F11: Tapijt | G11: WP 6 | H11: 30 | I11: 30 | K11: ='Calculatie schoonmaak invulblad'!K59 -> 0 | L11: 200 | M11: =I11*L11 -> 6000 | N11: =((I11/K11)*L11)/200*'Calculatie schoonmaak invulblad'!$C$10 -> #DIV/0! | O11: =(I11/K11)*L11*'Calculatie schoonmaak invulblad'!$C$10 -> #DIV/0!
A12: Begane grond | B12: 0-B | C12: Aula / Kantine | D12: Horecaruimte | E12: Marmoleum | F12: Lino | G12: WP 3 | H12: 402 | I12: 402 | K12: ='Calculatie schoonmaak invulblad'!E45 -> 0 | L12: 200 | M12: =I12*L12 -> 80400 | N12: =((I12/K12)*L12)/200*'Calculatie schoonmaak invulblad'!$C$10 -> #DIV/0! | O12: =(I12/K12)*L12*'Calculatie schoonmaak invulblad'!$C$10 -> #DIV/0!
A13: Begane grond | B13: 0-C | C13: Entree (Aula) | D13: Verkeersruimte | E13: Vast Tapijt | F13: Tapijt | G13: WP 6 | H13: 41 | I13: 41 | K13: ='Calculatie schoonmaak invulblad'!K59 -> 0 | L13: 200 | M13: =I13*L13 -> 8200 | N13: =((I13/K13)*L13)/200*'Calculatie schoonmaak invulblad'!$C$10 -> #DIV/0! | O13: =(I13/K13)*L13*'Calculatie schoonmaak invulblad'!$C$10 -> #DIV/0!
A14: Begane grond | B14: 0-1-D | C14: Trap(penhuis) | D14: Trap(penhuis) | E14: Anti-slip Coating | F14: Steen | G14: WP 6 | H14: 89 | I14: 89 | K14: ='Calculatie schoonmaak invulblad'!K51 -> 0 | L14: 200 | M14: =I14*L14 -> 17800 | N14: =((I14/K14)*L14)/200*'Calculatie schoonmaak invulblad'!$C$10 -> #DIV/0! | O14: =(I14/K14)*L14*'Calculatie schoonmaak invulblad'!$C$10 -> #DIV/0!
A15: Begane grond | B15: 0-E | C15: Gang west | D15: Verkeersruimte | E15: Marmoleum | F15: Lino | G15: WP 6 | H15: 136 | I15: 136 | K15: ='Calculatie schoonmaak invulblad'!K62 -> 0 | L15: 200 | M15: =I15*L15 -> 27200 | N15: =((I15/K15)*L15)/200*'Calculatie schoonmaak invulblad'!$C$10 -> #DIV/0! | O15: =(I15/K15)*L15*'Calculatie schoonmaak invulblad'!$C$10 -> #DIV/0!
A16: Begane grond | B16: 0-F | C16: Gang oost | D16: Verkeersruimte | E16: Marmoleum | F16: Lino | G16: WP 6 | H16: 90 | I16: 90 | K16: ='Calculatie schoonmaak invulblad'!K62 -> 0 | L16: 200 | M16: =I16*L16 -> 18000 | N16: =((I16/K16)*L16)/200*'Calculatie schoonmaak invulblad'!$C$10 -> #DIV/0! | O16: =(I16/K16)*L16*'Calculatie schoonmaak invulblad'!$C$10 -> #DIV/0!
A17: Begane grond | B17: 0-E03 | C17: Lift | D17: Lift | E17: Noppenvloer | F17: Rubber | G17: WP 6 | H17: 2 | I17: 2 | K17: ='Calculatie schoonmaak invulblad'!E68 -> 0 | L17: 200 | M17: =I17*L17 -> 400 | N17: =((I17/K17)*L17)/200*'Calculatie schoonmaak invulblad'!$C$10 -> #DIV/0! | O17: =(I17/K17)*L17*'Calculatie schoonmaak invulblad'!$C$10 -> #DIV/0!
A18: Begane grond | B18: 0-E04 | C18: Miva-toilet | D18: Sanitaire ruimte | E18: Steen/Coating | F18: Steen | G18: WP 7 | H18: 4 | I18: 4 | K18: ='Calculatie schoonmaak invulblad'!K37 -> 0 | L18: 200 | M18: =I18*L18 -> 800 | N18: =((I18/K18)*L18)/200*'Calculatie schoonmaak invulblad'!$C$10 -> #DIV/0! | O18: =(I18/K18)*L18*'Calculatie schoonmaak invulblad'!$C$10 -> #DIV/0!
A19: Begane grond | B19: 0-E05 | C19: Expo-ruimte | D19: Expo-ruimte | E19: Marmoleum | F19: Lino | G19: WP 12 | H19: 8 | I19: 0 | J19: 8 | K19: ='Calculatie schoonmaak invulblad'!E40 -> 0 | L19: 10 | M19: =I19*L19 -> 0 | N19: =((I19/K19)*L19)/200*'Calculatie schoonmaak invulblad'!$C$10 -> #DIV/0! | O19: =(I19/K19)*L19*'Calculatie schoonmaak invulblad'!$C$10 -> #DIV/0!
A20: Begane grond | B20: 0-E06 | C20: Receptie | D20: Bureaukamer | E20: Marmoleum | F20: Lino | G20: WP 1 | H20: 7 | I20: 0 | J20: 7 | K20: ='Calculatie schoonmaak invulblad'!E23 -> 0 | L20: 40 | M20: =I20*L20 -> 0 | N20: =((I20/K20)*L20)/200*'Calculatie schoonmaak invulblad'!$C$10 -> #DIV/0! | O20: =(I20/K20)*L20*'Calculatie schoonmaak invulblad'!$C$10 -> #DIV/0!
A21: Begane grond | B21: 0-E07 | C21: Administratie | D21: Bureaukamer | E21: Marmoleum | F21: Lino | G21: WP 1 | H21: 25 | I21: 0 | J21: 25 | K21: ='Calculatie schoonmaak invulblad'!E23 -> 0 | L21: 40 | M21: =I21*L21 -> 0 | N21: =((I21/K21)*L21)/200*'Calculatie schoonmaak invulblad'!$C$10 -> #DIV/0! | O21: =(I21/K21)*L21*'Calculatie schoonmaak invulblad'!$C$10 -> #DIV/0!
A22: Begane grond | B22: 0-E08 | C22: Spreekkamer | D22: Bureaukamer | E22: Marmoleum | F22: Lino | G22: WP 1 | H22: 18 | I22: 0 | J22: 18 | K22: ='Calculatie schoonmaak invulblad'!E23 -> 0 | L22: 40 | M22: =I22*L22 -> 0 | N22: =((I22/K22)*L22)/200*'Calculatie schoonmaak invulblad'!$C$10 -> #DIV/0! | O22: =(I22/K22)*L22*'Calculatie schoonmaak invulblad'!$C$10 -> #DIV/0!
A23: Begane grond | B23: 0-E09 | C23: Coördinatoren | D23: Bureaukamer | E23: Marmoleum | F23: Lino | G23: WP 1 | H23: 18 | I23: 0 | J23: 18 | K23: ='Calculatie schoonmaak invulblad'!E23 -> 0 | L23: 40 | M23: =I23*L23 -> 0 | N23: =((I23/K23)*L23)/200*'Calculatie schoonmaak invulblad'!$C$10 -> #DIV/0! | O23: =(I23/K23)*L23*'Calculatie schoonmaak invulblad'!$C$10 -> #DIV/0!
A24: Begane grond | B24: 0-E10 | C24: Decanen | D24: Bureaukamer | E24: Marmoleum | F24: Lino | G24: WP 1 | H24: 18 | I24: 0 | J24: 18 | K24: ='Calculatie schoonmaak invulblad'!E23 -> 0 | L24: 40 | M24: =I24*L24 -> 0 | N24: =((I24/K24)*L24)/200*'Calculatie schoonmaak invulblad'!$C$10 -> #DIV/0! | O24: =(I24/K24)*L24*'Calculatie schoonmaak invulblad'!$C$10 -> #DIV/0!
A25: Begane grond | B25: 0-E11 | C25: Coördinatoren | D25: Bureaukamer | E25: Marmoleum | F25: Lino | G25: WP 1 | H25: 24 | I25: 0 | J25: 24 | K25: ='Calculatie schoonmaak invulblad'!E23 -> 0 | L25: 40 | M25: =I25*L25 -> 0 | N25: =((I25/K25)*L25)/200*'Calculatie schoonmaak invulblad'!$C$10 -> #DIV/0! | O25: =(I25/K25)*L25*'Calculatie schoonmaak invulblad'!$C$10 -> #DIV/0!
A26: Begane grond | B26: 0-E12 | C26: Lokalen talen | D26: Leslokaal | E26: Marmoleum | F26: Lino | G26: WP 2 | H26: 50 | I26: 50 | K26: ='Calculatie schoonmaak invulblad'!E62 -> 0 | L26: 100 | M26: =I26*L26 -> 5000 | N26: =((I26/K26)*L26)/200*'Calculatie schoonmaak invulblad'!$C$10 -> #DIV/0! | O26: =(I26/K26)*L26*'Calculatie schoonmaak invulblad'!$C$10 -> #DIV/0!
A27: Begane grond | B27: 0-E13a | C27: Leerwerkhuis talen | D27: Leslokaal | E27: Marmoleum | F27: Lino | G27: WP 2 | H27: 58 | I27: 58 | K27: ='Calculatie schoonmaak invulblad'!E62 -> 0 | L27: 100 | M27: =I27*L27 -> 5800 | N27: =((I27/K27)*L27)/200*'Calculatie schoonmaak invulblad'!$C$10 -> #DIV/0! | O27: =(I27/K27)*L27*'Calculatie schoonmaak invulblad'!$C$10 -> #DIV/0!
A28: Begane grond | B28: 0-E13b | C28: Leerwerkhuis talen | D28: Leslokaal | E28: Marmoleum | F28: Lino | G28: WP 2 | H28: 50 | I28: 50 | K28: ='Calculatie schoonmaak invulblad'!E62 -> 0 | L28: 100 | M28: =I28*L28 -> 5000 | N28: =((I28/K28)*L28)/200*'Calculatie schoonmaak invulblad'!$C$10 -> #DIV/0! | O28: =(I28/K28)*L28*'Calculatie schoonmaak invulblad'!$C$10 -> #DIV/0!
A29: Begane grond | B29: 0-E14 | C29: Lokaal talen | D29: Leslokaal | E29: Marmoleum | F29: Lino | G29: WP 2 | H29: 53 | I29: 53 | K29: ='Calculatie schoonmaak invulblad'!E62 -> 0 | L29: 100 | M29: =I29*L29 -> 5300 | N29: =((I29/K29)*L29)/200*'Calculatie schoonmaak invulblad'!$C$10 -> #DIV/0! | O29: =(I29/K29)*L29*'Calculatie schoonmaak invulblad'!$C$10 -> #DIV/0!
A30: Begane grond | B30: 0-E16 | C30: H en A | D30: Leslokaal | E30: Marmoleum | F30: Lino | G30: WP 2 | H30: 97 | I30: 97 | K30: ='Calculatie schoonmaak invulblad'!E62 -> 0 | L30: 100 | M30: =I30*L30 -> 9700 | N30: =((I30/K30)*L30)/200*'Calculatie schoonmaak invulblad'!$C$10 -> #DIV/0! | O30: =(I30/K30)*L30*'Calculatie schoonmaak invulblad'!$C$10 -> #DIV/0!
A31: Begane grond | B31: 0-E17 | C31: H en A | D31: Leslokaal | E31: Marmoleum | F31: Lino | G31: WP 2 | H31: 108.5 | I31: 108.5 | K31: ='Calculatie schoonmaak invulblad'!E62 -> 0 | L31: 100 | M31: =I31*L31 -> 10850 | N31: =((I31/K31)*L31)/200*'Calculatie schoonmaak invulblad'!$C$10 -> #DIV/0! | O31: =(I31/K31)*L31*'Calculatie schoonmaak invulblad'!$C$10 -> #DIV/0!
A32: Begane grond | B32: 0-E18 | C32: Theorielokaal | D32: Leslokaal | E32: Marmoleum | F32: Lino | G32: WP 2 | H32: 48 | I32: 48 | K32: ='Calculatie schoonmaak invulblad'!E62 -> 0 | L32: 100 | M32: =I32*L32 -> 4800 | N32: =((I32/K32)*L32)/200*'Calculatie schoonmaak invulblad'!$C$10 -> #DIV/0! | O32: =(I32/K32)*L32*'Calculatie schoonmaak invulblad'!$C$10 -> #DIV/0!
A33: Begane grond | B33: 0-E19 | C33: Beeldende vorming | D33: Praktijklokaal | E33: Marmoleum | F33: Lino | G33: WP 4 | H33: 101 | I33: 101 | K33: ='Calculatie schoonmaak invulblad'!K22 -> 0 | L33: 200 | M33: =I33*L33 -> 20200 | N33: =((I33/K33)*L33)/200*'Calculatie schoonmaak invulblad'!$C$10 -> #DIV/0! | O33: =(I33/K33)*L33*'Calculatie schoonmaak invulblad'!$C$10 -> #DIV/0!
A34: Begane grond | B34: 0-E21 | C34: Beeldende vorming | D34: Praktijklokaal | E34: Marmoleum | F34: Lino | G34: WP 4 | H34: 111 | I34: 111 | K34: ='Calculatie schoonmaak invulblad'!K22 -> 0 | L34: 200 | M34: =I34*L34 -> 22200 | N34: =((I34/K34)*L34)/200*'Calculatie schoonmaak invulblad'!$C$10 -> #DIV/0! | O34: =(I34/K34)*L34*'Calculatie schoonmaak invulblad'!$C$10 -> #DIV/0!
A35: Begane grond | B35: 0-E22 | C35: Personeelstoilet heren | D35: Sanitaire ruimte | E35: Anti-slip Coating | F35: Steen | G35: WP 7 | H35: 10 | I35: 10 | K35: ='Calculatie schoonmaak invulblad'!K38 -> 0 | L35: 200 | M35: =I35*L35 -> 2000 | N35: =((I35/K35)*L35)/200*'Calculatie schoonmaak invulblad'!$C$10 -> #DIV/0! | O35: =(I35/K35)*L35*'Calculatie schoonmaak invulblad'!$C$10 -> #DIV/0!
A36: Begane grond | B36: 0-G | C36: Verkeersruimte | D36: Verkeersruimte | E36: Marmoleum | F36: Lino | G36: WP 6 | H36: 55 | I36: 55 | K36: ='Calculatie schoonmaak invulblad'!K62 -> 0 | L36: 200 | M36: =I36*L36 -> 11000 | N36: =((I36/K36)*L36)/200*'Calculatie schoonmaak invulblad'!$C$10 -> #DIV/0! | O36: =(I36/K36)*L36*'Calculatie schoonmaak invulblad'!$C$10 -> #DIV/0!
A37: Begane grond | B37: 0-E28 | C37: Sportzaal | D37: Sportzaal | E37: Sportvloer | F37: PVC | G37: WP 10/11 | H37: 257 | I37: 257 | K37: =(('Calculatie schoonmaak invulblad'!K42*50)/65)+(('Calculatie schoonmaak invulblad'!K43*15)/65) -> 0 | L37: 65 | M37: =I37*L37 -> 16705 | N37: =((I37/K37)*L37)/200*'Calculatie schoonmaak invulblad'!$C$10 -> #DIV/0! | O37: =(I37/K37)*L37*'Calculatie schoonmaak invulblad'!$C$10 -> #DIV/0!
A38: Begane grond | B38: 0-E29 | C38: Sportzaal | D38: Sportzaal | E38: Sportvloer | F38: PVC | G38: WP 10/11 | H38: 257 | I38: 257 | K38: =(('Calculatie schoonmaak invulblad'!K42*50)/65)+(('Calculatie schoonmaak invulblad'!K43*15)/65) -> 0 | L38: 65 | M38: =I38*L38 -> 16705 | N38: =((I38/K38)*L38)/200*'Calculatie schoonmaak invulblad'!$C$10 -> #DIV/0! | O38: =(I38/K38)*L38*'Calculatie schoonmaak invulblad'!$C$10 -> #DIV/0!
A39: Begane grond | B39: 0-E30 | C39: Toestelberging | D39: Toestelberging | E39: Sportvloer | F39: PVC | G39: WP 10/11 | H39: 36 | I39: 36 | K39: =('Calculatie schoonmaak invulblad'!K45+'Calculatie schoonmaak invulblad'!K46)/2 -> 0 | L39: 2 | M39: =I39*L39 -> 72 | N39: =((I39/K39)*L39)/200*'Calculatie schoonmaak invulblad'!$C$10 -> #DIV/0! | O39: =(I39/K39)*L39*'Calculatie schoonmaak invulblad'!$C$10 -> #DIV/0!
A40: Begane grond | B40: 0-E31 | C40: Kleedruimte | D40: Kleedruimte | E40: Anti-slip Coating | F40: Steen | G40: WP 9 | H40: 21 | I40: 21 | K40: ='Calculatie schoonmaak invulblad'!E57 -> 0 | L40: 200 | M40: =I40*L40 -> 4200 | N40: =((I40/K40)*L40)/200*'Calculatie schoonmaak invulblad'!$C$10 -> #DIV/0! | O40: =(I40/K40)*L40*'Calculatie schoonmaak invulblad'!$C$10 -> #DIV/0!
A41: Begane grond | B41: 0-E32 | C41: Kleedruimte | D41: Kleedruimte | E41: Anti-slip Coating | F41: Steen | G41: WP 9 | H41: 16 | I41: 16 | K41: ='Calculatie schoonmaak invulblad'!E57 -> 0 | L41: 200 | M41: =I41*L41 -> 3200 | N41: =((I41/K41)*L41)/200*'Calculatie schoonmaak invulblad'!$C$10 -> #DIV/0! | O41: =(I41/K41)*L41*'Calculatie schoonmaak invulblad'!$C$10 -> #DIV/0!
A42: Begane grond | B42: 0-E33 | C42: Toilet dames | D42: Sanitaire ruimte | E42: Anti-slip Coating | F42: Steen | G42: WP 7 | H42: 2 | I42: 2 | K42: ='Calculatie schoonmaak invulblad'!K38 -> 0 | L42: 200 | M42: =I42*L42 -> 400 | N42: =((I42/K42)*L42)/200*'Calculatie schoonmaak invulblad'!$C$10 -> #DIV/0! | O42: =(I42/K42)*L42*'Calculatie schoonmaak invulblad'!$C$10 -> #DIV/0!
A43: Begane grond | B43: 0-E34 | C43: Toilet heren | D43: Sanitaire ruimte | E43: Anti-slip Coating | F43: Steen | G43: WP 7 | H43: 2 | I43: 2 | K43: ='Calculatie schoonmaak invulblad'!K38 -> 0 | L43: 200 | M43: =I43*L43 -> 400 | N43: =((I43/K43)*L43)/200*'Calculatie schoonmaak invulblad'!$C$10 -> #DIV/0! | O43: =(I43/K43)*L43*'Calculatie schoonmaak invulblad'!$C$10 -> #DIV/0!
...

Sheet Grescollege Reuver
A2: Klant | B2: SOML | D2: Totaal m² in onderhoud (i.o) | E2: =I122 -> 1082.49 | G2: Kosten inzet vrijgesteld toezicht per dag | J2: =E6*'Calculatie schoonmaak invulblad'!C2 -> #DIV/0! | L2: Bedrijfsnaam Inschrijver | M2: ='Calculatie schoonmaak invulblad'!I9 -> 0
A3: Locatie | B3: Grescollege Reuver | D3: Totaal m² per jaar in onderhoud | E3: =M122 -> 162322 | G3: Kosten schoonmaak per dag | J3: =E4*'Calculatie schoonmaak invulblad'!C4 -> #DIV/0! | L3: Datum | M3: ='Calculatie schoonmaak invulblad'!I10 -> 0
A4: Adres locatie | B4: Keulseweg 36 5953HL Reuver | D4: Uren per dag schoonmaak | E4: =N122 -> #DIV/0! | G4: Kosten inzet vrijgesteld toezicht per jaar | J4: =E7*'Calculatie schoonmaak invulblad'!C2 -> #DIV/0! | L4: Plaats | M4: ='Calculatie schoonmaak invulblad'!I11 -> 0
D5: Uren per jaar schoonmaak | E5: =O122 -> #DIV/0! | G5: Kosten schoonmaak per jaar | J5: =E5*'Calculatie schoonmaak invulblad'!C4 -> #DIV/0! | L5: Handtekening | M5: ='Calculatie schoonmaak invulblad'!I12 -> 0
D6: Uren per dag vrijgesteld toezicht | E6: =('Calculatie schoonmaak invulblad'!C6*'Grescollege Reuver'!E4)/100 -> #DIV/0! | G6: Contractjaarprijs locatie BC Broekhin | J6: =J4+J5 -> #DIV/0!
D7: Uren per jaar vrijgesteld toezicht | E7: =('Calculatie schoonmaak invulblad'!C6*'Grescollege Reuver'!E5)/100 -> #DIV/0!
A10: Verdieping | B10: Ruimtenummer | C10: Omschrijving | D10: Ruimtesoort | E10: Vloersoort | F10: Vloergroep | G10: Werkprogramma | H10: Totaal m² | I10: In onderhoud (i.o.) | J10: Niet in onderhoud (n.i.o.) | K10: Prestatienorm | L10: Dagen per jaar | M10: Totaal m² per jaar | N10: Uren per dag | O10: Uren per jaar
A11: Begane grond | B11: A01 | C11: Instructielokaal | D11: Leslokaal | E11: Beton | F11: Steen | G11: WP 2 | H11: 89.04 | I11: 0 | J11: 89.04 | K11: ='Calculatie schoonmaak invulblad'!E64 -> 0 | L11: 100 | M11: =I11*L11 -> 0 | N11: =((I11/K11)*L11)/200*'Calculatie schoonmaak invulblad'!$C$11 -> #DIV/0! | O11: =I11/K11*L11*'Calculatie schoonmaak invulblad'!$C$11 -> #DIV/0!
A12: Begane grond | B12: A02 | C12: Receptie | D12: Bureaukamer | E12: Beton | F12: Steen | G12: WP 1 | H12: 51.18 | I12: 0 | J12: 51.18 | K12: ='Calculatie schoonmaak invulblad'!E21 -> 0 | L12: 40 | M12: =I12*L12 -> 0 | N12: =((I12/K12)*L12)/200*'Calculatie schoonmaak invulblad'!$C$11 -> #DIV/0! | O12: =I12/K12*L12*'Calculatie schoonmaak invulblad'!$C$11 -> #DIV/0!
A13: Begane grond | B13: A03 | C13: E.H.B.O.-ruimte | D13: E.H.B.O.-ruimte | E13: Beton | F13: Steen | G13: WP 1 | H13: 8.46 | I13: 0 | J13: 8.46 | K13: ='Calculatie schoonmaak invulblad'!E38 -> 0 | L13: 40 | M13: =I13*L13 -> 0 | N13: =((I13/K13)*L13)/200*'Calculatie schoonmaak invulblad'!$C$11 -> #DIV/0! | O13: =I13/K13*L13*'Calculatie schoonmaak invulblad'!$C$11 -> #DIV/0!
A14: Begane grond | B14: A04/05/06 | C14: Techniekplein | D14: Praktijklokaal | E14: Beton | F14: Steen | G14: WP 4 | H14: 378.25 | I14: 0 | J14: 378.25 | K14: ='Calculatie schoonmaak invulblad'!K21 -> 0 | L14: 200 | M14: =I14*L14 -> 0 | N14: =((I14/K14)*L14)/200*'Calculatie schoonmaak invulblad'!$C$11 -> #DIV/0! | O14: =I14/K14*L14*'Calculatie schoonmaak invulblad'!$C$11 -> #DIV/0!
A15: Begane grond | C15: Techniekplein docentenbordes | D15: Bureaukamer | E15: PVC | F15: Heterogeen Vinyl | G15: WP 1 | H15: 23.65 | I15: 0 | J15: 23.65 | K15: ='Calculatie schoonmaak invulblad'!E24 -> 0 | L15: 40 | M15: =I15*L15 -> 0 | N15: =((I15/K15)*L15)/200*'Calculatie schoonmaak invulblad'!$C$11 -> #DIV/0! | O15: =I15/K15*L15*'Calculatie schoonmaak invulblad'!$C$11 -> #DIV/0!
A16: Begane grond | C16: Techniekplein bordes techniek | D16: Praktijklokaal | E16: Hout | F16: Hout | G16: WP 4 | H16: 26.48 | I16: 0 | J16: 26.48 | K16: ='Calculatie schoonmaak invulblad'!K26 -> 0 | L16: 200 | M16: =I16*L16 -> 0 | N16: =((I16/K16)*L16)/200*'Calculatie schoonmaak invulblad'!$C$11 -> #DIV/0! | O16: =I16/K16*L16*'Calculatie schoonmaak invulblad'!$C$11 -> #DIV/0!
A17: Begane grond | C17: Trap metaal techniekplein | D17: Trap(penhuis) | E17: Metaal | F17: Metaal | G17: WP 6 | H17: 1.01 | I17: 0 | J17: 1.01 | K17: ='Calculatie schoonmaak invulblad'!K54 -> 0 | L17: 200 | M17: =I17*L17 -> 0 | N17: =((I17/K17)*L17)/200*'Calculatie schoonmaak invulblad'!$C$11 -> #DIV/0! | O17: =I17/K17*L17*'Calculatie schoonmaak invulblad'!$C$11 -> #DIV/0!
A18: Begane grond | C18: Techniek Houtbewerking | D18: Praktijklokaal | E18: Beton | F18: Steen | G18: WP 4 | H18: 76.03 | I18: 0 | J18: 76.03 | K18: ='Calculatie schoonmaak invulblad'!K21 -> 0 | L18: 200 | M18: =I18*L18 -> 0 | N18: =((I18/K18)*L18)/200*'Calculatie schoonmaak invulblad'!$C$11 -> #DIV/0! | O18: =I18/K18*L18*'Calculatie schoonmaak invulblad'!$C$11 -> #DIV/0!
A19: Begane grond | B19: A08 | C19: Magazijn Techniek | D19: Overige ruimte | E19: Beton | F19: Steen | G19: WP 12 | H19: 62.03 | I19: 0 | J19: 62.03 | K19: ='Calculatie schoonmaak invulblad'!E74 -> 0 | L19: 10 | M19: =I19*L19 -> 0 | N19: =((I19/K19)*L19)/200*'Calculatie schoonmaak invulblad'!$C$11 -> #DIV/0! | O19: =I19/K19*L19*'Calculatie schoonmaak invulblad'!$C$11 -> #DIV/0!
A20: Begane grond | B20: A09 | C20: Gedeeld Magazijn Restaurant | D20: Overige ruimte | E20: Beton | F20: Steen | G20: WP 12 | H20: 20.62 | I20: 0 | J20: 20.62 | K20: ='Calculatie schoonmaak invulblad'!E74 -> 0 | L20: 10 | M20: =I20*L20 -> 0 | N20: =((I20/K20)*L20)/200*'Calculatie schoonmaak invulblad'!$C$11 -> #DIV/0! | O20: =I20/K20*L20*'Calculatie schoonmaak invulblad'!$C$11 -> #DIV/0!
A21: Begane grond | B21: AU01 | C21: Entree | D21: Verkeersruimte | E21: Tapijt | F21: Tapijt | G21: WP 6 | H21: 14.23 | I21: 14.23 | K21: ='Calculatie schoonmaak invulblad'!K59 -> 0 | L21: 200 | M21: =I21*L21 -> 2846 | N21: =((I21/K21)*L21)/200*'Calculatie schoonmaak invulblad'!$C$11 -> #DIV/0! | O21: =I21/K21*L21*'Calculatie schoonmaak invulblad'!$C$11 -> #DIV/0!
A22: Begane grond | C22: Hal receptie | D22: Verkeersruimte | E22: Beton | F22: Steen | G22: WP 6 | H22: 61.92 | I22: 61.92 | K22: ='Calculatie schoonmaak invulblad'!K58 -> 0 | L22: 200 | M22: =I22*L22 -> 12384 | N22: =((I22/K22)*L22)/200*'Calculatie schoonmaak invulblad'!$C$11 -> #DIV/0! | O22: =I22/K22*L22*'Calculatie schoonmaak invulblad'!$C$11 -> #DIV/0!
A23: Begane grond | B23: AU02 | C23: Verdeler Procestechniek | D23: Overige ruimte | E23: Beton | F23: Steen | G23: WP 12 | H23: 1.17 | I23: 0 | J23: 1.17 | K23: ='Calculatie schoonmaak invulblad'!E74 -> 0 | L23: 10 | M23: =I23*L23 -> 0 | N23: =((I23/K23)*L23)/200*'Calculatie schoonmaak invulblad'!$C$11 -> #DIV/0! | O23: =I23/K23*L23*'Calculatie schoonmaak invulblad'!$C$11 -> #DIV/0!
A24: Begane grond | B24: AU03 | C24: Verdeler Techniek | D24: Overige ruimte | E24: Beton | F24: Steen | G24: WP 12 | H24: 0.8 | I24: 0 | J24: 0.8 | K24: ='Calculatie schoonmaak invulblad'!E74 -> 0 | L24: 10 | M24: =I24*L24 -> 0 | N24: =((I24/K24)*L24)/200*'Calculatie schoonmaak invulblad'!$C$11 -> #DIV/0! | O24: =I24/K24*L24*'Calculatie schoonmaak invulblad'!$C$11 -> #DIV/0!
A25: Begane grond | B25: AU04 | C25: Zolder Magazijn Techniek | D25: Overige ruimte | E25: Hout | F25: Hout | G25: WP 12 | H25: 24.61 | I25: 0 | J25: 24.61 | K25: ='Calculatie schoonmaak invulblad'!E78 -> 0 | L25: 10 | M25: =I25*L25 -> 0 | N25: =((I25/K25)*L25)/200*'Calculatie schoonmaak invulblad'!$C$11 -> #DIV/0! | O25: =I25/K25*L25*'Calculatie schoonmaak invulblad'!$C$11 -> #DIV/0!
A26: Begane grond | B26: AU05 | C26: C.V-ruimte Palletkachel | D26: Overige ruimte | E26: Beton | F26: Steen | G26: WP 12 | H26: 21.18 | I26: 0 | J26: 21.18 | K26: ='Calculatie schoonmaak invulblad'!E74 -> 0 | L26: 10 | M26: =I26*L26 -> 0 | N26: =((I26/K26)*L26)/200*'Calculatie schoonmaak invulblad'!$C$11 -> #DIV/0! | O26: =I26/K26*L26*'Calculatie schoonmaak invulblad'!$C$11 -> #DIV/0!
A27: Begane grond | B27: AU06 | C27: Poetkast | D27: Overige ruimte | E27: Beton | F27: Steen | G27: WP 12 | H27: 3.87 | I27: 0 | J27: 3.87 | K27: ='Calculatie schoonmaak invulblad'!E74 -> 0 | L27: 10 | M27: =I27*L27 -> 0 | N27: =((I27/K27)*L27)/200*'Calculatie schoonmaak invulblad'!$C$11 -> #DIV/0! | O27: =I27/K27*L27*'Calculatie schoonmaak invulblad'!$C$11 -> #DIV/0!
A28: Begane grond | C28: Gang lockers | D28: Verkeersruimte | E28: Beton | F28: Steen | G28: WP 6 | H28: 105 | I28: 105 | K28: ='Calculatie schoonmaak invulblad'!K58 -> 0 | L28: 200 | M28: =I28*L28 -> 21000 | N28: =((I28/K28)*L28)/200*'Calculatie schoonmaak invulblad'!$C$11 -> #DIV/0! | O28: =I28/K28*L28*'Calculatie schoonmaak invulblad'!$C$11 -> #DIV/0!
A29: Begane grond | C29: Gang lift restaurant | D29: Verkeersruimte | E29: Beton | F29: Steen | G29: WP 6 | H29: 84.35 | I29: 84.35 | K29: ='Calculatie schoonmaak invulblad'!K58 -> 0 | L29: 200 | M29: =I29*L29 -> 16870 | N29: =((I29/K29)*L29)/200*'Calculatie schoonmaak invulblad'!$C$11 -> #DIV/0! | O29: =I29/K29*L29*'Calculatie schoonmaak invulblad'!$C$11 -> #DIV/0!
A30: Begane grond | C30: Hoofdtrap spoorzijde | D30: Trap(penhuis) | E30: Beton | F30: Steen | G30: WP 6 | H30: 51.09 | I30: 51.09 | K30: ='Calculatie schoonmaak invulblad'!K49 -> 0 | L30: 200 | M30: =I30*L30 -> 10218 | N30: =((I30/K30)*L30)/200*'Calculatie schoonmaak invulblad'!$C$11 -> #DIV/0! | O30: =I30/K30*L30*'Calculatie schoonmaak invulblad'!$C$11 -> #DIV/0!
A31: Begane grond | C31: Hoofdtrap liftzijde | D31: Trap(penhuis) | E31: Beton | F31: Steen | G31: WP 6 | H31: 52.1 | I31: 52.1 | K31: ='Calculatie schoonmaak invulblad'!K49 -> 0 | L31: 200 | M31: =I31*L31 -> 10420 | N31: =((I31/K31)*L31)/200*'Calculatie schoonmaak invulblad'!$C$11 -> #DIV/0! | O31: =I31/K31*L31*'Calculatie schoonmaak invulblad'!$C$11 -> #DIV/0!
A32: Begane grond | C32: Trap palletkachel | D32: Trap(penhuis) | E32: Hout | F32: Hout | G32: WP 6 | H32: 4.34 | I32: 0 | J32: 4.34 | K32: ='Calculatie schoonmaak invulblad'!K57 -> 0 | L32: 200 | M32: =I32*L32 -> 0 | N32: =((I32/K32)*L32)/200*'Calculatie schoonmaak invulblad'!$C$11 -> #DIV/0! | O32: =I32/K32*L32*'Calculatie schoonmaak invulblad'!$C$11 -> #DIV/0!
A33: Begane grond | B33: B01 | C33: Zorg en Welzijn | D33: Praktijklokaal | E33: Beton | F33: Steen | G33: WP 4 | H33: 126.11 | I33: 0 | J33: 126.11 | K33: ='Calculatie schoonmaak invulblad'!K21 -> 0 | L33: 200 | M33: =I33*L33 -> 0 | N33: =((I33/K33)*L33)/200*'Calculatie schoonmaak invulblad'!$C$11 -> #DIV/0! | O33: =I33/K33*L33*'Calculatie schoonmaak invulblad'!$C$11 -> #DIV/0!
A34: Begane grond | B34: B02 | C34: Leerlingkeuken | D34: Praktijklokaal Keuken | E34: Beton | F34: Steen | G34: WP 5 | H34: 89.16 | I34: 0 | J34: 89.16 | K34: ='Calculatie schoonmaak invulblad'!K30 -> 0 | L34: 200 | M34: =I34*L34 -> 0 | N34: =((I34/K34)*L34)/200*'Calculatie schoonmaak invulblad'!$C$11 -> #DIV/0! | O34: =I34/K34*L34*'Calculatie schoonmaak invulblad'!$C$11 -> #DIV/0!
A35: Begane grond | B35: B03 | C35: Activityroom | D35: Horecaruimte | E35: Beton | F35: Steen | G35: WP 3 | H35: 183.25 | I35: 0 | J35: 183.25 | K35: ='Calculatie schoonmaak invulblad'!E42 -> 0 | L35: 200 | M35: =I35*L35 -> 0 | N35: =((I35/K35)*L35)/200*'Calculatie schoonmaak invulblad'!$C$11 -> #DIV/0! | O35: =I35/K35*L35*'Calculatie schoonmaak invulblad'!$C$11 -> #DIV/0!
A36: Begane grond | B36: B04 | C36: Restaurantkeuken | D36: Keuken/Pantry | E36: Beton | F36: Steen | G36: WP 5 | H36: 62.1 | I36: 0 | J36: 62.1 | K36: ='Calculatie schoonmaak invulblad'!K30 -> 0 | L36: 200 | M36: =I36*L36 -> 0 | N36: =((I36/K36)*L36)/200*'Calculatie schoonmaak invulblad'!$C$11 -> #DIV/0! | O36: =I36/K36*L36*'Calculatie schoonmaak invulblad'!$C$11 -> #DIV/0!
A37: Begane grond | B37: BU01 | C37: Herentoilet | D37: Sanitaire ruimte | E37: Beton | F37: Steen | G37: WP 7 | H37: 7.87 | I37: 0 | J37: 7.87 | K37: ='Calculatie schoonmaak invulblad'!K37 -> 0 | L37: 400 | M37: =I37*L37 -> 0 | N37: =((I37/K37)*L37)/200*'Calculatie schoonmaak invulblad'!$C$11 -> #DIV/0! | O37: =I37/K37*L37*'Calculatie schoonmaak invulblad'!$C$11 -> #DIV/0!
A38: Begane grond | B38: BU02 | C38: Mivatoilet | D38: Sanitaire ruimte | E38: Beton | F38: Steen | G38: WP 7 | H38: 6.41 | I38: 0 | J38: 6.41 | K38: ='Calculatie schoonmaak invulblad'!K37 -> 0 | L38: 400 | M38: =I38*L38 -> 0 | N38: =((I38/K38)*L38)/200*'Calculatie schoonmaak invulblad'!$C$11 -> #DIV/0! | O38: =I38/K38*L38*'Calculatie schoonmaak invulblad'!$C$11 -> #DIV/0!
A39: Begane grond | B39: BU03 | C39: Lift | D39: Lift | E39: Anti-slip coating | F39: Steen | G39: WP 6 | H39: 1.56 | I39: 0 | J39: 1.56 | K39: ='Calculatie schoonmaak invulblad'!E71 -> 0 | L39: 200 | M39: =I39*L39 -> 0 | N39: =((I39/K39)*L39)/200*'Calculatie schoonmaak invulblad'!$C$11 -> #DIV/0! | O39: =I39/K39*L39*'Calculatie schoonmaak invulblad'!$C$11 -> #DIV/0!
A40: Begane grond | B40: BU04 | C40: Damestoilet | D40: Sanitaire ruimte | E40: Beton | F40: Steen | G40: WP 7 | H40: 11.83 | I40: 0 | J40: 11.83 | K40: ='Calculatie schoonmaak invulblad'!K37 -> 0 | L40: 400 | M40: =I40*L40 -> 0 | N40: =((I40/K40)*L40)/200*'Calculatie schoonmaak invulblad'!$C$11 -> #DIV/0! | O40: =I40/K40*L40*'Calculatie schoonmaak invulblad'!$C$11 -> #DIV/0!
A41: Begane grond | B41: BU05 | C41: Verdeler bij lift | D41: Overige ruimte | E41: Beton | F41: Steen | G41: WP 12 | H41: 2.24 | I41: 0 | J41: 2.24 | K41: ='Calculatie schoonmaak invulblad'!E74 -> 0 | L41: 10 | M41: =I41*L41 -> 0 | N41: =((I41/K41)*L41)/200*'Calculatie schoonmaak invulblad'!$C$11 -> #DIV/0! | O41: =I41/K41*L41*'Calculatie schoonmaak invulblad'!$C$11 -> #DIV/0!
A42: Begane grond | B42: BU06 | C42: Magazijn leerlingenkeuken / boiler | D42: Overige ruimte | E42: Beton | F42: Steen | G42: WP 12 | H42: 9.42 | I42: 0 | J42: 9.42 | K42: ='Calculatie schoonmaak invulblad'!E74 -> 0 | L42: 10 | M42: =I42*L42 -> 0 | N42: =((I42/K42)*L42)/200*'Calculatie schoonmaak invulblad'!$C$11 -> #DIV/0! | O42: =I42/K42*L42*'Calculatie schoonmaak invulblad'!$C$11 -> #DIV/0!
A43: Begane grond | B43: BU07 | C43: Magazijn koelcel | D43: Overige ruimte | E43: Beton | F43: Steen | G43: WP 12 | H43: 18.33 | I43: 0 | J43: 18.33 | K43: ='Calculatie schoonmaak invulblad'!E74 -> 0 | L43: 10 | M43: =I43*L43 -> 0 | N43: =((I43/K43)*L43)/200*'Calculatie schoonmaak invulblad'!$C$11 -> #DIV/0! | O43: =I43/K43*L43*'Calculatie schoonmaak invulblad'!$C$11 -> #DIV/0!
...

Sheet Niekée Roermond
A2: Klant | B2: SOML | D2: Totaal m² in onderhoud (i.o) | E2: =I146 -> 6896 | G2: Kosten inzet vrijgesteld toezicht per dag | J2: ='Calculatie schoonmaak invulblad'!C2*'Niekée Roermond'!E6 -> #DIV/0! | L2: Bedrijfsnaam Inschrijver | M2: ='Calculatie schoonmaak invulblad'!I9 -> 0
A3: Locatie | B3: Niekée | D3: Totaal m² per jaar in onderhoud | E3: =M146 -> 1107180 | G3: Kosten schoonmaak per dag | J3: ='Calculatie schoonmaak invulblad'!C4*'Niekée Roermond'!E4 -> #DIV/0! | L3: Datum | M3: ='Calculatie schoonmaak invulblad'!I10 -> 0
A4: Adres locatie | B4: Oranjelaan 300 6043 GL Roermond | D4: Uren per dag schoonmaak | E4: =N146 -> #DIV/0! | G4: Kosten inzet vrijgesteld toezicht per jaar | J4: ='Calculatie schoonmaak invulblad'!C2*'Niekée Roermond'!E7 -> #DIV/0! | L4: Plaats | M4: ='Calculatie schoonmaak invulblad'!I11 -> 0
D5: Uren per jaar schoonmaak | E5: =O146 -> #DIV/0! | G5: Kosten schoonmaak per jaar | J5: =E5*'Calculatie schoonmaak invulblad'!C4 -> #DIV/0! | L5: Handtekening | M5: ='Calculatie schoonmaak invulblad'!I12 -> 0
D6: Uren per dag vrijgesteld toezicht | E6: =('Calculatie schoonmaak invulblad'!C6*'Niekée Roermond'!E4)/100 -> #DIV/0! | G6: Contractjaarprijs locatie BC Broekhin | J6: =J4+J5 -> #DIV/0!
D7: Uren per jaar vrijgesteld toezicht | E7: =('Calculatie schoonmaak invulblad'!C6*'Niekée Roermond'!E5)/100 -> #DIV/0!
A10: Verdieping | B10: Ruimtenummer | C10: Omschrijving | D10: Ruimtesoort | E10: Vloersoort | F10: Vloergroep | G10: Werkprogramma | H10: Totaal m² | I10: In onderhoud (i.o.) | J10: Niet in onderhoud (n.i.o.) | K10: Prestatienorm | L10: Dagen per jaar | M10: Totaal m² per jaar | N10: Uren per dag | O10: Uren per jaar
A11: Begane grond | B11: V1A | C11: Tourniquette | D11: Verkeersruimte | E11: Coral | F11: Tapijt | G11: WP 6 | H11: 5 | I11: 5 | K11: ='Calculatie schoonmaak invulblad'!K59 -> 0 | L11: 200 | M11: =I11*L11 -> 1000 | N11: =((I11/K11)*L11)/200*'Calculatie schoonmaak invulblad'!$C$12 -> #DIV/0! | O11: =(I11/K11)*L11*'Calculatie schoonmaak invulblad'!$C$12 -> #DIV/0!
A12: Begane grond | B12: V1B | C12: Tourniquette | D12: Verkeersruimte | E12: Coral | F12: Tapijt | G12: WP 6 | H12: 5 | I12: 5 | K12: ='Calculatie schoonmaak invulblad'!K59 -> 0 | L12: 200 | M12: =I12*L12 -> 1000 | N12: =((I12/K12)*L12)/200*'Calculatie schoonmaak invulblad'!$C$12 -> #DIV/0! | O12: =(I12/K12)*L12*'Calculatie schoonmaak invulblad'!$C$12 -> #DIV/0!
A13: Begane grond | B13: V1 | C13: Hal | D13: Verkeersruimte | E13: Coating | F13: Steen | G13: WP 6 | H13: 50 | I13: 50 | K13: ='Calculatie schoonmaak invulblad'!K58 -> 0 | L13: 200 | M13: =I13*L13 -> 10000 | N13: =((I13/K13)*L13)/200*'Calculatie schoonmaak invulblad'!$C$12 -> #DIV/0! | O13: =(I13/K13)*L13*'Calculatie schoonmaak invulblad'!$C$12 -> #DIV/0!
A14: Begane grond | B14: V1C | C14: Lockerruimte | D14: Verkeersruimte | E14: Coating | F14: Steen | G14: WP 6 | H14: 18 | I14: 18 | K14: ='Calculatie schoonmaak invulblad'!K58 -> 0 | L14: 200 | M14: =I14*L14 -> 3600 | N14: =((I14/K14)*L14)/200*'Calculatie schoonmaak invulblad'!$C$12 -> #DIV/0! | O14: =(I14/K14)*L14*'Calculatie schoonmaak invulblad'!$C$12 -> #DIV/0!
A15: Begane grond | B15: V2 | C15: Lockerruimte | D15: Verkeersruimte | E15: Coating | F15: Steen | G15: WP 6 | H15: 54 | I15: 54 | K15: ='Calculatie schoonmaak invulblad'!K58 -> 0 | L15: 200 | M15: =I15*L15 -> 10800 | N15: =((I15/K15)*L15)/200*'Calculatie schoonmaak invulblad'!$C$12 -> #DIV/0! | O15: =(I15/K15)*L15*'Calculatie schoonmaak invulblad'!$C$12 -> #DIV/0!
A16: Begane grond | B16: 1 | C16: Atrium | D16: Horecaruimte | E16: Coating | F16: Steen | G16: WP 3 | H16: 607 | I16: 607 | K16: ='Calculatie schoonmaak invulblad'!E42 -> 0 | L16: 200 | M16: =I16*L16 -> 121400 | N16: =((I16/K16)*L16)/200*'Calculatie schoonmaak invulblad'!$C$12 -> #DIV/0! | O16: =(I16/K16)*L16*'Calculatie schoonmaak invulblad'!$C$12 -> #DIV/0!
A17: Begane grond | B17: V1D | C17: Mediatheek/Receptie | D17: Bureaukamer | E17: Coating | F17: Steen | G17: WP 1 | H17: 95 | I17: 95 | K17: ='Calculatie schoonmaak invulblad'!E21 -> 0 | L17: 40 | M17: =I17*L17 -> 3800 | N17: =((I17/K17)*L17)/200*'Calculatie schoonmaak invulblad'!$C$12 -> #DIV/0! | O17: =(I17/K17)*L17*'Calculatie schoonmaak invulblad'!$C$12 -> #DIV/0!
A18: Begane grond | B18: V1E | C18: Trap(penhuis) | D18: Trap(penhuis) | E18: Beton | F18: Steen | G18: WP 6 | H18: 72 | I18: 72 | K18: ='Calculatie schoonmaak invulblad'!K49 -> 0 | L18: 200 | M18: =I18*L18 -> 14400 | N18: =((I18/K18)*L18)/200*'Calculatie schoonmaak invulblad'!$C$12 -> #DIV/0! | O18: =(I18/K18)*L18*'Calculatie schoonmaak invulblad'!$C$12 -> #DIV/0!
A19: Begane grond | B19: 2 | C19: Leslokaal | D19: Leslokaal | E19: Tapijt | F19: Tapijt | G19: WP 2 | H19: 284 | I19: 284 | K19: ='Calculatie schoonmaak invulblad'!E61 -> 0 | L19: 100 | M19: =I19*L19 -> 28400 | N19: =((I19/K19)*L19)/200*'Calculatie schoonmaak invulblad'!$C$12 -> #DIV/0! | O19: =(I19/K19)*L19*'Calculatie schoonmaak invulblad'!$C$12 -> #DIV/0!
A20: Begane grond | B20: V4 | C20: Verkeersruimte | D20: Verkeersruimte | E20: Rubber | F20: Rubber | G20: WP 6 | H20: 38 | I20: 38 | K20: ='Calculatie schoonmaak invulblad'!K65 -> 0 | L20: 200 | M20: =I20*L20 -> 7600 | N20: =((I20/K20)*L20)/200*'Calculatie schoonmaak invulblad'!$C$12 -> #DIV/0! | O20: =(I20/K20)*L20*'Calculatie schoonmaak invulblad'!$C$12 -> #DIV/0!
A21: Begane grond | B21: V3 | C21: Trap(penhuis) | D21: Trap(penhuis) | E21: Beton | F21: Steen | G21: WP 6 | H21: 12.5 | I21: 12.5 | K21: ='Calculatie schoonmaak invulblad'!K49 -> 0 | L21: 200 | M21: =I21*L21 -> 2500 | N21: =((I21/K21)*L21)/200*'Calculatie schoonmaak invulblad'!$C$12 -> #DIV/0! | O21: =(I21/K21)*L21*'Calculatie schoonmaak invulblad'!$C$12 -> #DIV/0!
A22: Begane grond | B22: 3 | C22: Praktijklokaal | D22: Praktijklokaal | E22: Rubber | F22: Rubber | G22: WP 4 | H22: 335 | I22: 335 | K22: ='Calculatie schoonmaak invulblad'!K25 -> 0 | L22: 200 | M22: =I22*L22 -> 67000 | N22: =((I22/K22)*L22)/200*'Calculatie schoonmaak invulblad'!$C$12 -> #DIV/0! | O22: =(I22/K22)*L22*'Calculatie schoonmaak invulblad'!$C$12 -> #DIV/0!
A23: Begane grond | B23: V5 | C23: Ronde trap | D23: Trap(penhuis) | E23: Natuursteen | F23: Steen | G23: WP 6 | H23: 5 | I23: 5 | K23: ='Calculatie schoonmaak invulblad'!K49 -> 0 | L23: 200 | M23: =I23*L23 -> 1000 | N23: =((I23/K23)*L23)/200*'Calculatie schoonmaak invulblad'!$C$12 -> #DIV/0! | O23: =(I23/K23)*L23*'Calculatie schoonmaak invulblad'!$C$12 -> #DIV/0!
A24: Begane grond | B24: 004A | C24: Verkeersruimte | D24: Horecaruimte | E24: Coating | F24: Steen | G24: WP 3 | H24: 64 | I24: 64 | K24: ='Calculatie schoonmaak invulblad'!E42 -> 0 | L24: 200 | M24: =I24*L24 -> 12800 | N24: =((I24/K24)*L24)/200*'Calculatie schoonmaak invulblad'!$C$12 -> #DIV/0! | O24: =(I24/K24)*L24*'Calculatie schoonmaak invulblad'!$C$12 -> #DIV/0!
A25: Begane grond | B25: 004B | C25: Verkeersruimte | D25: Horecaruimte | E25: Coating | F25: Steen | G25: WP 3 | H25: 64 | I25: 64 | K25: ='Calculatie schoonmaak invulblad'!E42 -> 0 | L25: 200 | M25: =I25*L25 -> 12800 | N25: =((I25/K25)*L25)/200*'Calculatie schoonmaak invulblad'!$C$12 -> #DIV/0! | O25: =(I25/K25)*L25*'Calculatie schoonmaak invulblad'!$C$12 -> #DIV/0!
A26: Begane grond | B26: 11 | C26: Collegezaal | D26: Leslokaal | E26: Coating | F26: Steen | G26: WP 2 | H26: 64 | I26: 64 | K26: ='Calculatie schoonmaak invulblad'!E64 -> 0 | L26: 100 | M26: =I26*L26 -> 6400 | N26: =((I26/K26)*L26)/200*'Calculatie schoonmaak invulblad'!$C$12 -> #DIV/0! | O26: =(I26/K26)*L26*'Calculatie schoonmaak invulblad'!$C$12 -> #DIV/0!
A27: Begane grond | B27: 12 | C27: Collegezaal 1 | D27: Leslokaal | E27: Coating | F27: Steen | G27: WP 2 | H27: 64 | I27: 64 | K27: ='Calculatie schoonmaak invulblad'!E64 -> 0 | L27: 100 | M27: =I27*L27 -> 6400 | N27: =((I27/K27)*L27)/200*'Calculatie schoonmaak invulblad'!$C$12 -> #DIV/0! | O27: =(I27/K27)*L27*'Calculatie schoonmaak invulblad'!$C$12 -> #DIV/0!
A28: Begane grond | B28: V6 | C28: Verkeersruimte | D28: Verkeersruimte | E28: Coating | F28: Steen | G28: WP 6 | H28: 35 | I28: 35 | K28: ='Calculatie schoonmaak invulblad'!K58 -> 0 | L28: 200 | M28: =I28*L28 -> 7000 | N28: =((I28/K28)*L28)/200*'Calculatie schoonmaak invulblad'!$C$12 -> #DIV/0! | O28: =(I28/K28)*L28*'Calculatie schoonmaak invulblad'!$C$12 -> #DIV/0!
A29: Begane grond | B29: S1 | C29: Toiletruimte | D29: Sanitaire ruimte | E29: Anti-slip Coating | F29: Steen | G29: WP 7 | H29: 14 | I29: 14 | K29: ='Calculatie schoonmaak invulblad'!K38 -> 0 | L29: 200 | M29: =I29*L29 -> 2800 | N29: =((I29/K29)*L29)/200*'Calculatie schoonmaak invulblad'!$C$12 -> #DIV/0! | O29: =(I29/K29)*L29*'Calculatie schoonmaak invulblad'!$C$12 -> #DIV/0!
A30: Begane grond | B30: S2 | C30: Toiletruimte | D30: Sanitaire ruimte | E30: Anti-slip Coating | F30: Steen | G30: WP 7 | H30: 14 | I30: 14 | K30: ='Calculatie schoonmaak invulblad'!K38 -> 0 | L30: 200 | M30: =I30*L30 -> 2800 | N30: =((I30/K30)*L30)/200*'Calculatie schoonmaak invulblad'!$C$12 -> #DIV/0! | O30: =(I30/K30)*L30*'Calculatie schoonmaak invulblad'!$C$12 -> #DIV/0!
A31: Begane grond | B31: 5 | C31: Praktijklokaal | D31: Praktijklokaal | E31: Hout | F31: Hout | G31: WP 4 | H31: 204 | I31: 204 | K31: ='Calculatie schoonmaak invulblad'!K26 -> 0 | L31: 200 | M31: =I31*L31 -> 40800 | N31: =((I31/K31)*L31)/200*'Calculatie schoonmaak invulblad'!$C$12 -> #DIV/0! | O31: =(I31/K31)*L31*'Calculatie schoonmaak invulblad'!$C$12 -> #DIV/0!
A32: Begane grond | B32: V7 | C32: Trapportaal | D32: Trap(penhuis) | E32: Coating | F32: Steen | G32: WP 6 | H32: 10 | I32: 10 | K32: ='Calculatie schoonmaak invulblad'!K49 -> 0 | L32: 200 | M32: =I32*L32 -> 2000 | N32: =((I32/K32)*L32)/200*'Calculatie schoonmaak invulblad'!$C$12 -> #DIV/0! | O32: =(I32/K32)*L32*'Calculatie schoonmaak invulblad'!$C$12 -> #DIV/0!
A33: Begane grond | B33: V8 | C33: Trap(penhuis) | D33: Trap(penhuis) | E33: Beton | F33: Steen | G33: WP 6 | H33: 10 | I33: 10 | K33: ='Calculatie schoonmaak invulblad'!K49 -> 0 | L33: 200 | M33: =I33*L33 -> 2000 | N33: =((I33/K33)*L33)/200*'Calculatie schoonmaak invulblad'!$C$12 -> #DIV/0! | O33: =(I33/K33)*L33*'Calculatie schoonmaak invulblad'!$C$12 -> #DIV/0!
A34: Begane grond | B34: 6 | C34: Praktijklokaal | D34: Praktijklokaal | E34: Coating | F34: Steen | G34: WP 4 | H34: 85 | I34: 85 | K34: ='Calculatie schoonmaak invulblad'!K21 -> 0 | L34: 200 | M34: =I34*L34 -> 17000 | N34: =((I34/K34)*L34)/200*'Calculatie schoonmaak invulblad'!$C$12 -> #DIV/0! | O34: =(I34/K34)*L34*'Calculatie schoonmaak invulblad'!$C$12 -> #DIV/0!
A35: Begane grond | B35: 6 | C35: Praktijklokaal | D35: Praktijklokaal | E35: Vast tapijt | F35: Tapijt | G35: WP 4 | H35: 175 | I35: 175 | K35: ='Calculatie schoonmaak invulblad'!K27 -> 0 | L35: 200 | M35: =I35*L35 -> 35000 | N35: =((I35/K35)*L35)/200*'Calculatie schoonmaak invulblad'!$C$12 -> #DIV/0! | O35: =(I35/K35)*L35*'Calculatie schoonmaak invulblad'!$C$12 -> #DIV/0!
A36: Begane grond | B36: 7 | C36: Praktijklokaal | D36: Praktijklokaal | E36: Coating | F36: Steen | G36: WP 4 | H36: 160 | I36: 160 | K36: ='Calculatie schoonmaak invulblad'!K21 -> 0 | L36: 200 | M36: =I36*L36 -> 32000 | N36: =((I36/K36)*L36)/200*'Calculatie schoonmaak invulblad'!$C$12 -> #DIV/0! | O36: =(I36/K36)*L36*'Calculatie schoonmaak invulblad'!$C$12 -> #DIV/0!
A37: Begane grond | B37: V9 | C37: Verkeersruimte | D37: Verkeersruimte | E37: Coating | F37: Steen | G37: WP 6 | H37: 63 | I37: 63 | K37: ='Calculatie schoonmaak invulblad'!K58 -> 0 | L37: 200 | M37: =I37*L37 -> 12600 | N37: =((I37/K37)*L37)/200*'Calculatie schoonmaak invulblad'!$C$12 -> #DIV/0! | O37: =(I37/K37)*L37*'Calculatie schoonmaak invulblad'!$C$12 -> #DIV/0!
A38: Begane grond | B38: S3 | C38: Toiletruimte | D38: Sanitaire ruimte | E38: Anti-slip Coating | F38: Steen | G38: WP 7 | H38: 14 | I38: 14 | K38: ='Calculatie schoonmaak invulblad'!K38 -> 0 | L38: 200 | M38: =I38*L38 -> 2800 | N38: =((I38/K38)*L38)/200*'Calculatie schoonmaak invulblad'!$C$12 -> #DIV/0! | O38: =(I38/K38)*L38*'Calculatie schoonmaak invulblad'!$C$12 -> #DIV/0!
A39: Begane grond | B39: S4 | C39: Toiletruimte | D39: Sanitaire ruimte | E39: Anti-slip Coating | F39: Steen | G39: WP 7 | H39: 14 | I39: 14 | K39: ='Calculatie schoonmaak invulblad'!K38 -> 0 | L39: 200 | M39: =I39*L39 -> 2800 | N39: =((I39/K39)*L39)/200*'Calculatie schoonmaak invulblad'!$C$12 -> #DIV/0! | O39: =(I39/K39)*L39*'Calculatie schoonmaak invulblad'!$C$12 -> #DIV/0!
A40: Begane grond | B40: 13 | C40: Lift | D40: Lift | E40: Linoleum | F40: Lino | G40: WP 6 | H40: 1 | I40: 1 | K40: ='Calculatie schoonmaak invulblad'!E67 -> 0 | L40: 200 | M40: =I40*L40 -> 200 | N40: =((I40/K40)*L40)/200*'Calculatie schoonmaak invulblad'!$C$12 -> #DIV/0! | O40: =(I40/K40)*L40*'Calculatie schoonmaak invulblad'!$C$12 -> #DIV/0!
A41: Begane grond | B41: V10 | C41: Trapportaal | D41: Trap(penhuis) | E41: Beton | F41: Steen | G41: WP 6 | H41: 20 | I41: 20 | K41: ='Calculatie schoonmaak invulblad'!K49 -> 0 | L41: 200 | M41: =I41*L41 -> 4000 | N41: =((I41/K41)*L41)/200*'Calculatie schoonmaak invulblad'!$C$12 -> #DIV/0! | O41: =(I41/K41)*L41*'Calculatie schoonmaak invulblad'!$C$12 -> #DIV/0!
A42: Begane grond | B42: V10 | C42: Trapportaal | D42: Trap(penhuis) | E42: Linoleum | F42: Lino | G42: WP 6 | H42: 10 | I42: 10 | K42: ='Calculatie schoonmaak invulblad'!K52 -> 0 | L42: 200 | M42: =I42*L42 -> 2000 | N42: =((I42/K42)*L42)/200*'Calculatie schoonmaak invulblad'!$C$12 -> #DIV/0! | O42: =(I42/K42)*L42*'Calculatie schoonmaak invulblad'!$C$12 -> #DIV/0!
A43: Begane grond | B43: S5 | C43: Toiletruimte | D43: Sanitaire ruimte | E43: Anti-slip Coating | F43: Steen | G43: WP 7 | H43: 4 | I43: 4 | K43: ='Calculatie schoonmaak invulblad'!K38 -> 0 | L43: 200 | M43: =I43*L43 -> 800 | N43: =((I43/K43)*L43)/200*'Calculatie schoonmaak invulblad'!$C$12 -> #DIV/0! | O43: =(I43/K43)*L43*'Calculatie schoonmaak invulblad'!$C$12 -> #DIV/0!
...

Sheet NT 2 Roermond
