Workbook

Sheet Calculatie schoonmaak invulblad
A2: Uurtarief vrijgesteld toezicht direct leidinggevende | E2: VUL S.V.P ALLE GELE VLAKKEN IN OP DEZE PAGINA. DE OVERIGE BLADEN WORDEN DAN AUTOMATISCH INGEVULD. P.S.: DE UURTARIEVEN DIENEN OVEREEN TE KOMEN MET DE CALCULATIEBLADEN VOOR DE UURTARIEVEN
A4: Uurtarief schoonmaakmedewerker
A6: Percentage t.b.v. inzet vrijgesteld toezicht direct leidinggevende | D6: %
A8: Vermenigvuldigingsfactor voor bewerkelijkheid vanwege locatiespecifieke verontreiniging of afwerking. (1,00 = geen afwijking, voorbeeld 1,15 is een verrekening met 15%)
A9: BC Broekhin Roermond | C9: 1 | H9: Bedrijfsnaam Inschrijver
A10: Connect College Echt | C10: 1 | H10: Plaats
A11: Grescollege Echt | C11: 1 | H11: Datum
A12: Niekée Reormond | C12: 1 | H12: Handtekening
A13: NT2 Roermond | C13: 1
A14: ROER College Schöndeln Roermond | C14: 1
A15: SG St. Ursula Heythuysen | C15: 1
A16: SG St. Ursula Horn | C16: 1
A17: Stafbureau SOML | C17: 1
A19: Ruimtegroep | B19: Vloerafwerking | C19: Vloersoort | D19: Werkprogramma | E19: Prestatienorm | G19: Ruimtegroep | H19: Vloerafwerking | I19: Vloersoort | J19: Werkprogramma | K19: Prestatienorm
A20: Bureaukamer | B20: Tarkett | C20: Homogeen Vinyl | D20: WP 1 | G20: Praktijklokaal | H20: Tarkett | I20: Homogeen Vinyl | J20: WP 4
A21: Bureaukamer | B21: Steen/Beton/Tegels/Coating | C21: Steen | D21: WP 1 | G21: Praktijklokaal | H21: Steen/Beton/Tegels/Coating | I21: Steen | J21: WP 4
A22: Bureaukamer | B22: Vast Tapijt/Tapijt/Vilt/Tapijttegels | C22: Tapijt | D22: WP 1 | G22: Praktijklokaal | H22: Marmoleum/Linoleum | I22: Lino | J22: WP 4
A23: Bureaukamer | B23: Marmoleum/Linoleum | C23: Lino | D23: WP 1 | G23: Praktijklokaal | H23: PVC | I23: Heterogeen Vinyl | J23: WP 4
A24: Bureaukamer | B24: PVC | C24: Heterogeen Vinyl | D24: WP 1 | G24: Praktijklokaal | H24: Anti-slip Coating | I24: Steen | J24: WP 4
A25: Bureaukamer | B25: Hout | C25: Hout | D25: WP 1 | G25: Praktijklokaal | H25: Rubbertegels gelast | I25: Rubber | J25: WP 4
A26: Bureaukamer | B26: Tarkett | C26: Homogeen Vinyl | D26: WP 13 | G26: Praktijklokaal | H26: Hout | I26: Hout | J26: WP 4
A27: Bureaukamer | B27: Steen/Beton/Tegels/Coating | C27: Steen | D27: WP 13 | G27: Praktijklokaal | H27: Vast Tapijt/Tapijt/Vilt/Tapijttegels | I27: Tapijt | J27: WP 4
A28: Bureaukamer | B28: Vast Tapijt/Tapijt/Vilt/Tapijttegels | C28: Tapijt | D28: WP 13 | G28: Praktijklokaal | H28: Kunststof tegel | I28: PVC | J28: WP 4
A29: Bureaukamer | B29: Marmoleum/Linoleum | C29: Lino | D29: WP 13 | G29: Praktijklokaal | H29: OSB-platen | I29: Hout | J29: WP 4
A30: Bureaukamer | B30: PVC | C30: Heterogeen Vinyl | D30: WP 13 | G30: Praktijklokaal Keuken | H30: Steen/Beton/Tegels/Coating | I30: Steen | J30: WP 5
A31: Bureaukamer | B31: Hout | C31: Hout | D31: WP 13 | G31: Praktijklokaal Keuken | H31: PVC | I31: Heterogeen Vinyl | J31: WP 5
... A65: Leslokaal | B65: PVC | C65: Heterogeen Vinyl | D65: WP 2 | G65: Verkeersruimte | H65: Rubber | I65: Rubber | J65: WP 6
A66: Leslokaal | B66: Kunststof tegel | C66: PVC | D66: WP 2
A67: Lift | B67: Marmoleum/Linoleum | C67: Lino | D67: WP 6
A68: Lift | B68: Noppenvloer | C68: Rubber | D68: WP 6
A69: Lift | B69: PVC | C69: Heterogeen Vinyl | D69: WP 6
A70: Lift | B70: Tarkett | C70: Homogeen Vinyl | D70: WP 6
A71: Lift | B71: Anti-slip coating | C71: Steen | D71: WP 6
A72: Mediatheek | B72: Vast Tapijt | C72: Tapijt | D72: WP 2
A73: Mediatheek | B73: Marmoleum/Linoleum | C73: Lino | D73: WP 2
A74: Overige ruimte | B74: Steen/Beton/Tegels/Coating | C74: Steen | D74: WP 12
A75: Overige ruimte | B75: Marmoleum/Linoleum | C75: Lino | D75: WP 12
A76: Overige ruimte | B76: Vast Tapijt/Tapijt/Vilt/Tapijttegels | C76: Tapijt | D76: WP 12
A77: Overige ruimte | B77: PVC | C77: Heterogeen Vinyl | D77: WP 12
A78: Overige ruimte | B78: Hout | C78: Hout | D78: WP 12

Sheet BC Broekhin Roermond
A2: Klant | B2: SOML | D2: Totaal m² in onderhoud (i.o) | E2: =I260 -> 10818.8 | G2: Kosten inzet vrijgesteld toezicht per dag | J2: =E6*'Calculatie schoonmaak invulblad'!C2 -> #DIV/0! | L2: Bedrijfsnaam Inschrijver | M2: ='Calculatie schoonmaak invulblad'!I9 -> 0
A3: Locatie | B3: BC Broekhin | D3: Totaal m² per jaar in onderhoud | E3: =M260 -> 1561865 | G3: Kosten schoonmaak per dag | J3: =E4*'Calculatie schoonmaak invulblad'!C4 -> #DIV/0! | L3: Datum | M3: ='Calculatie schoonmaak invulblad'!I10 -> 0
A4: Adres locatie | B4: Bob Boumanstraat 30-32 6042 EH Roermond | D4: Uren per dag schoonmaak | E4: =N260 -> #DIV/0! | G4: Kosten inzet vrijgesteld toezicht per jaar | J4: =E7*'Calculatie schoonmaak invulblad'!C2 -> #DIV/0! | L4: Plaats | M4: ='Calculatie schoonmaak invulblad'!I11 -> 0
D5: Uren per jaar schoonmaak | E5: =O260 -> #DIV/0! | G5: Kosten schoonmaak per jaar | J5: =E5*'Calculatie schoonmaak invulblad'!C4 -> #DIV/0! | L5: Handtekening | M5: ='Calculatie schoonmaak invulblad'!I12 -> 0
D6: Uren per dag vrijgesteld toezicht | E6: ='Calculatie schoonmaak invulblad'!C6*'BC Broekhin Roermond'!E4/100 -> #DIV/0! | G6: Contractjaarprijs locatie BC Broekhin | J6: =J4+J5 -> #DIV/0!
D7: Uren per jaar vrijgesteld toezicht | E7: ='Calculatie schoonmaak invulblad'!C6*'BC Broekhin Roermond'!E5/100 -> #DIV/0!
A10: Verdieping | B10: Ruimtenummer | C10: Omschrijving | D10: Ruimtesoort | E10: Vloersoort | F10: Vloergroep | G10: Werkprogramma | H10: Totaal m² | I10: In onderhoud (i.o.) | J10: Niet in onderhoud (n.i.o.) | K10: Prestatienorm | L10: Dagen per jaar | M10: Totaal m² per jaar | N10: Uren per dag | O10: Uren per jaar
A11: Souterrain | B11: 122 | C11: Verkeersruimte | D11: Verkeersruimte | E11: Steen | F11: Steen | G11: WP 6 | H11: 25 | I11: 25 | K11: ='Calculatie schoonmaak invulblad'!K58 -> 0 | L11: 200 | M11: =I11*L11 -> 5000 | N11: =((I11/K11)*L11)/200*'Calculatie schoonmaak invulblad'!C9 -> #DIV/0! | O11: =(I11/K11*L11)*'Calculatie schoonmaak invulblad'!C9 -> #DIV/0!
A12: Souterrain | B12: Souterain 1 | C12: Trap(penhuis) | D12: Trap(penhuis) | E12: Steen | F12: Steen | G12: WP 6 | H12: 10 | I12: 10 | K12: ='Calculatie schoonmaak invulblad'!K49 -> 0 | L12: 200 | M12: =I12*L12 -> 2000 | N12: =((I12/K12)*L12)/200*'Calculatie schoonmaak invulblad'!C9 -> #DIV/0! | O12: =(I12/K12*L12)*'Calculatie schoonmaak invulblad'!C9 -> #DIV/0!
A13: Souterrain | B13: Souterain 0 | C13: Trap(penhuis | D13: Trap(penhuis) | E13: Steen | F13: Steen | G13: WP 6 | H13: 10 | I13: 10 | K13: ='Calculatie schoonmaak invulblad'!K49 -> 0 | L13: 200 | M13: =I13*L13 -> 2000 | N13: =((I13/K13)*L13)/200*'Calculatie schoonmaak invulblad'!C9 -> #DIV/0! | O13: =(I13/K13*L13)*'Calculatie schoonmaak invulblad'!C9 -> #DIV/0!
A14: Souterrain | B14: Souterain 3 | C14: Kleedruimte | D14: Kleedruimte | E14: Steen | F14: Steen | G14: WP 9 | H14: 35 | I14: 35 | K14: ='Calculatie schoonmaak invulblad'!E56 -> 0 | L14: 200 | M14: =I14*L14 -> 7000 | N14: =((I14/K14)*L14)/200*'Calculatie schoonmaak invulblad'!C9 -> #DIV/0! | O14: =(I14/K14*L14)*'Calculatie schoonmaak invulblad'!C9 -> #DIV/0!
A15: Souterrain | B15: Souterain 2 | C15: Kleedruimte | D15: Kleedruimte | E15: Steen | F15: Steen | G15: WP 9 | H15: 35 | I15: 35 | K15: ='Calculatie schoonmaak invulblad'!E56 -> 0 | L15: 200 | M15: =I15*L15 -> 7000 | N15: =((I15/K15)*L15)/200*'Calculatie schoonmaak invulblad'!C9 -> #DIV/0! | O15: =(I15/K15*L15)*'Calculatie schoonmaak invulblad'!C9 -> #DIV/0!
A16: Souterrain | B16: Souterain 4 | C16: Doorgang | D16: Verkeersruimte | E16: Steen | F16: Steen | G16: WP 6 | H16: 8 | I16: 8 | K16: ='Calculatie schoonmaak invulblad'!K58 -> 0 | L16: 200 | M16: =I16*L16 -> 1600 | N16: =((I16/K16)*L16)/200*'Calculatie schoonmaak invulblad'!C9 -> #DIV/0! | O16: =(I16/K16*L16)*'Calculatie schoonmaak invulblad'!C9 -> #DIV/0!
A17: Souterrain | B17: 101 | C17: Hal | D17: Verkeersruimte | E17: Steen | F17: Steen | G17: WP 6 | H17: 63 | I17: 63 | K17: ='Calculatie schoonmaak invulblad'!K58 -> 0 | L17: 200 | M17: =I17*L17 -> 12600 | N17: =((I17/K17)*L17)/200*'Calculatie schoonmaak invulblad'!C9 -> #DIV/0! | O17: =(I17/K17*L17)*'Calculatie schoonmaak invulblad'!C9 -> #DIV/0!
A18: Souterrain | B18: Souterain 5 | C18: Trap(penhuis) | D18: Trap(penhuis) | E18: Steen | F18: Steen | G18: WP 6 | H18: 32 | I18: 32 | K18: ='Calculatie schoonmaak invulblad'!K49 -> 0 | L18: 200 | M18: =I18*L18 -> 6400 | N18: =((I18/K18)*L18)/200*'Calculatie schoonmaak invulblad'!C9 -> #DIV/0! | O18: =(I18/K18*L18)*'Calculatie schoonmaak invulblad'!C9 -> #DIV/0!
A19: Souterrain | B19: 103 | C19: Garderobe | D19: Verkeersruimte | E19: Steen | F19: Steen | G19: WP 6 | H19: 43 | I19: 43 | K19: ='Calculatie schoonmaak invulblad'!K58 -> 0 | L19: 200 | M19: =I19*L19 -> 8600 | N19: =((I19/K19)*L19)/200*'Calculatie schoonmaak invulblad'!C9 -> #DIV/0! | O19: =(I19/K19*L19)*'Calculatie schoonmaak invulblad'!C9 -> #DIV/0!
A20: Souterrain | B20: 115 | C20: Kantoor | D20: Bureaukamer | E20: Tarkett | F20: Homogeen Vinyl | G20: WP 1 | H20: 23 | I20: 0 | J20: 23 | K20: ='Calculatie schoonmaak invulblad'!E20 -> 0 | L20: 40 | M20: =I20*L20 -> 0 | N20: =((I20/K20)*L20)/200*'Calculatie schoonmaak invulblad'!C9 -> #DIV/0! | O20: =(I20/K20*L20)*'Calculatie schoonmaak invulblad'!C9 -> #DIV/0!
A21: Souterrain | B21: 116 | C21: Kantoor | D21: Bureaukamer | E21: Tarkett | F21: Homogeen Vinyl | G21: WP 1 | H21: 23 | I21: 0 | J21: 23 | K21: ='Calculatie schoonmaak invulblad'!E20 -> 0 | L21: 40 | M21: =I21*L21 -> 0 | N21: =((I21/K21)*L21)/200*'Calculatie schoonmaak invulblad'!C9 -> #DIV/0! | O21: =(I21/K21*L21)*'Calculatie schoonmaak invulblad'!C9 -> #DIV/0!
A22: Souterrain | B22: 117 | C22: Kantoor | D22: Bureaukamer | E22: Tarkett | F22: Homogeen Vinyl | G22: WP 1 | H22: 23 | I22: 0 | J22: 23 | K22: ='Calculatie schoonmaak invulblad'!E20 -> 0 | L22: 40 | M22: =I22*L22 -> 0 | N22: =((I22/K22)*L22)/200*'Calculatie schoonmaak invulblad'!C9 -> #DIV/0! | O22: =(I22/K22*L22)*'Calculatie schoonmaak invulblad'!C9 -> #DIV/0!
A23: Souterrain | B23: 118 | C23: Kantoor | D23: Bureaukamer | E23: Tarkett | F23: Homogeen Vinyl | G23: WP 1 | H23: 28 | I23: 0 | J23: 28 | K23: ='Calculatie schoonmaak invulblad'!E20 -> 0 | L23: 40 | M23: =I23*L23 -> 0 | N23: =((I23/K23)*L23)/200*'Calculatie schoonmaak invulblad'!C9 -> #DIV/0! | O23: =(I23/K23*L23)*'Calculatie schoonmaak invulblad'!C9 -> #DIV/0!
A24: Souterrain | B24: Souterain 6 | C24: Verkeersruimte | D24: Verkeersruimte | E24: Steen | F24: Steen | G24: WP 6 | H24: 38 | I24: 38 | K24: ='Calculatie schoonmaak invulblad'!K58 -> 0 | L24: 200 | M24: =I24*L24 -> 7600 | N24: =((I24/K24)*L24)/200*'Calculatie schoonmaak invulblad'!C9 -> #DIV/0! | O24: =(I24/K24*L24)*'Calculatie schoonmaak invulblad'!C9 -> #DIV/0!
A25: Souterrain | B25: Souterain 7 | C25: Toiletruimte | D25: Sanitaire ruimte | E25: Steen | F25: Steen | G25: WP 7 | H25: 9 | I25: 9 | K25: ='Calculatie schoonmaak invulblad'!K37 -> 0 | L25: 200 | M25: =I25*L25 -> 1800 | N25: =((I25/K25)*L25)/200*'Calculatie schoonmaak invulblad'!C9 -> #DIV/0! | O25: =(I25/K25*L25)*'Calculatie schoonmaak invulblad'!C9 -> #DIV/0!
A26: Souterrain | B26: Souterain 8 | C26: Toiletruimte | D26: Sanitaire ruimte | E26: Steen | F26: Steen | G26: WP 7 | H26: 13 | I26: 13 | K26: ='Calculatie schoonmaak invulblad'!K37 -> 0 | L26: 200 | M26: =I26*L26 -> 2600 | N26: =((I26/K26)*L26)/200*'Calculatie schoonmaak invulblad'!C9 -> #DIV/0! | O26: =(I26/K26*L26)*'Calculatie schoonmaak invulblad'!C9 -> #DIV/0!
A27: Souterrain | B27: Souterain 9 | C27: Opslag | D27: Overige ruimte | E27: Steen | F27: Steen | G27: WP 12 | H27: 31 | I27: 31 | K27: ='Calculatie schoonmaak invulblad'!E74 -> 0 | L27: 10 | M27: =I27*L27 -> 310 | N27: =((I27/K27)*L27)/200*'Calculatie schoonmaak invulblad'!C9 -> #DIV/0! | O27: =(I27/K27*L27)*'Calculatie schoonmaak invulblad'!C9 -> #DIV/0!
A28: Souterrain | B28: Souterain 10 | C28: Portaal | D28: Verkeersruimte | E28: Steen | F28: Steen | G28: WP 6 | H28: 13 | I28: 13 | K28: ='Calculatie schoonmaak invulblad'!K58 -> 0 | L28: 200 | M28: =I28*L28 -> 2600 | N28: =((I28/K28)*L28)/200*'Calculatie schoonmaak invulblad'!C9 -> #DIV/0! | O28: =(I28/K28*L28)*'Calculatie schoonmaak invulblad'!C9 -> #DIV/0!
A29: Souterrain | B29: 120 | C29: L.O.R. | D29: Horecaruimte | E29: PVC | F29: Heterogeen Vinyl | G29: WP 3 | H29: 285 | I29: 285 | K29: ='Calculatie schoonmaak invulblad'!E46 -> 0 | L29: 200 | M29: =I29*L29 -> 57000 | N29: =((I29/K29)*L29)/200*'Calculatie schoonmaak invulblad'!C9 -> #DIV/0! | O29: =(I29/K29*L29)*'Calculatie schoonmaak invulblad'!C9 -> #DIV/0!
A30: Souterrain | B30: Souterain 11 | C30: Uitgifte | D30: Keuken/Pantry | E30: Steen | F30: Steen | G30: WP 3 | H30: 11 | I30: 11 | K30: ='Calculatie schoonmaak invulblad'!E51 -> 0 | L30: 200 | M30: =I30*L30 -> 2200 | N30: =((I30/K30)*L30)/200*'Calculatie schoonmaak invulblad'!C9 -> #DIV/0! | O30: =(I30/K30*L30)*'Calculatie schoonmaak invulblad'!C9 -> #DIV/0!
A31: Souterrain | B31: 112 | C31: Miva-toilet | D31: Sanitaire ruimte | E31: Steen | F31: Steen | G31: WP 7 | H31: 5 | I31: 5 | K31: ='Calculatie schoonmaak invulblad'!K37 -> 0 | L31: 200 | M31: =I31*L31 -> 1000 | N31: =((I31/K31)*L31)/200*'Calculatie schoonmaak invulblad'!C9 -> #DIV/0! | O31: =(I31/K31*L31)*'Calculatie schoonmaak invulblad'!C9 -> #DIV/0!
A32: Souterrain | B32: Souterain 12 | C32: Lift | D32: Lift | E32: Tarkett | F32: Homogeen Vinyl | G32: WP 6 | H32: 2 | I32: 2 | K32: ='Calculatie schoonmaak invulblad'!E70 -> 0 | L32: 200 | M32: =I32*L32 -> 400 | N32: =((I32/K32)*L32)/200*'Calculatie schoonmaak invulblad'!C9 -> #DIV/0! | O32: =(I32/K32*L32)*'Calculatie schoonmaak invulblad'!C9 -> #DIV/0!
A33: Souterrain | B33: Souterain 13 | C33: Verkeersruimte | D33: Verkeersruimte | E33: Steen | F33: Steen | G33: WP 6 | H33: 100 | I33: 100 | K33: ='Calculatie schoonmaak invulblad'!K58 -> 0 | L33: 200 | M33: =I33*L33 -> 20000 | N33: =((I33/K33)*L33)/200*'Calculatie schoonmaak invulblad'!C9 -> #DIV/0! | O33: =(I33/K33*L33)*'Calculatie schoonmaak invulblad'!C9 -> #DIV/0!
A34: Souterrain | B34: Souterain 14 | C34: Entree | D34: Verkeersruimte | E34: Vast Tapijt | F34: Tapijt | G34: WP 6 | H34: 16 | I34: 16 | K34: ='Calculatie schoonmaak invulblad'!K59 -> 0 | L34: 200 | M34: =I34*L34 -> 3200 | N34: =((I34/K34)*L34)/200*'Calculatie schoonmaak invulblad'!C9 -> #DIV/0! | O34: =(I34/K34*L34)*'Calculatie schoonmaak invulblad'!C9 -> #DIV/0!
A35: Souterrain | B35: 121 | C35: Kantoor | D35: Bureaukamer | E35: Tarkett | F35: Homogeen Vinyl | G35: WP 1 | H35: 21 | I35: 0 | J35: 21 | K35: ='Calculatie schoonmaak invulblad'!E20 -> 0 | L35: 40 | M35: =I35*L35 -> 0 | N35: =((I35/K35)*L35)/200*'Calculatie schoonmaak invulblad'!C9 -> #DIV/0! | O35: =(I35/K35*L35)*'Calculatie schoonmaak invulblad'!C9 -> #DIV/0!
A36: Souterrain | B36: 122 | C36: Kantoor | D36: Bureaukamer | E36: Tarkett | F36: Homogeen Vinyl | G36: WP 1 | H36: 21 | I36: 0 | J36: 21 | K36: ='Calculatie schoonmaak invulblad'!E20 -> 0 | L36: 40 | M36: =I36*L36 -> 0 | N36: =((I36/K36)*L36)/200*'Calculatie schoonmaak invulblad'!C9 -> #DIV/0! | O36: =(I36/K36*L36)*'Calculatie schoonmaak invulblad'!C9 -> #DIV/0!
A37: Souterrain | B37: 123 | C37: Kantoor | D37: Bureaukamer | E37: Tarkett | F37: Homogeen Vinyl | G37: WP 1 | H37: 21 | I37: 0 | J37: 21 | K37: ='Calculatie schoonmaak invulblad'!E20 -> 0 | L37: 40 | M37: =I37*L37 -> 0 | N37: =((I37/K37)*L37)/200*'Calculatie schoonmaak invulblad'!C9 -> #DIV/0! | O37: =(I37/K37*L37)*'Calculatie schoonmaak invulblad'!C9 -> #DIV/0!
A38: Souterrain | B38: 124 | C38: Kantoor | D38: Bureaukamer | E38: Tarkett | F38: Homogeen Vinyl | G38: WP 1 | H38: 21 | I38: 0 | J38: 21 | K38: ='Calculatie schoonmaak invulblad'!E20 -> 0 | L38: 40 | M38: =I38*L38 -> 0 | N38: =((I38/K38)*L38)/200*'Calculatie schoonmaak invulblad'!C9 -> #DIV/0! | O38: =(I38/K38*L38)*'Calculatie schoonmaak invulblad'!C9 -> #DIV/0!
A39: Souterrain | B39: 125 | C39: Kantoor | D39: Bureaukamer | E39: Tarkett | F39: Homogeen Vinyl | G39: WP 1 | H39: 21 | I39: 0 | J39: 21 | K39: ='Calculatie schoonmaak invulblad'!E20 -> 0 | L39: 40 | M39: =I39*L39 -> 0 | N39: =((I39/K39)*L39)/200*'Calculatie schoonmaak invulblad'!C9 -> #DIV/0! | O39: =(I39/K39*L39)*'Calculatie schoonmaak invulblad'!C9 -> #DIV/0!
A40: Souterrain | B40: 126 | C40: Kantoor | D40: Bureaukamer | E40: Tarkett | F40: Homogeen Vinyl | G40: WP 1 | H40: 21 | I40: 0 | J40: 21 | K40: ='Calculatie schoonmaak invulblad'!E20 -> 0 | L40: 40 | M40: =I40*L40 -> 0 | N40: =((I40/K40)*L40)/200*'Calculatie schoonmaak invulblad'!C9 -> #DIV/0! | O40: =(I40/K40*L40)*'Calculatie schoonmaak invulblad'!C9 -> #DIV/0!
A41: Souterrain | B41: Souterain 15 | C41: Entree | D41: Verkeersruimte | E41: Vast Tapijt | F41: Tapijt | G41: WP 6 | H41: 13 | I41: 13 | K41: ='Calculatie schoonmaak invulblad'!K59 -> 0 | L41: 200 | M41: =I41*L41 -> 2600 | N41: =((I41/K41)*L41)/200*'Calculatie schoonmaak invulblad'!C9 -> #DIV/0! | O41: =(I41/K41*L41)*'Calculatie schoonmaak invulblad'!C9 -> #DIV/0!
A42: Souterrain | B42: Souterain 16 | C42: Hal | D42: Verkeersruimte | E42: Tarkett | F42: Homogeen Vinyl | G42: WP 6 | H42: 19 | I42: 19 | K42: ='Calculatie schoonmaak invulblad'!K60 -> 0 | L42: 200 | M42: =I42*L42 -> 3800 | N42: =((I42/K42)*L42)/200*'Calculatie schoonmaak invulblad'!C9 -> #DIV/0! | O42: =(I42/K42*L42)*'Calculatie schoonmaak invulblad'!C9 -> #DIV/0!
A43: Souterrain | B43: Souterain 17 | C43: Verkeersruimte | D43: Verkeersruimte | E43: Tarkett | F43: Homogeen Vinyl | G43: WP 6 | H43: 75 | I43: 75 | K43: ='Calculatie schoonmaak invulblad'!K60 -> 0 | L43: 200 | M43: =I43*L43 -> 15000 | N43: =((I43/K43)*L43)/200*'Calculatie schoonmaak invulblad'!C9 -> #DIV/0! | O43: =(I43/K43*L43)*'Calculatie schoonmaak invulblad'!C9 -> #DIV/0!
A44: Souterrain | B44: 128 | C44: Handvaardigheidslokaal | D44: Praktijklokaal | E44: Tarkett | F44: Homogeen Vinyl | G44: WP 4 | H44: 70 | I44: 70 | K44: ='Calculatie schoonmaak invulblad'!K20 -> 0 | L44: 200 | M44: =I44*L44 -> 14000 | N44: =((I44/K44)*L44)/200*'Calculatie schoonmaak invulblad'!C9 -> #DIV/0! | O44: =(I44/K44*L44)*'Calculatie schoonmaak invulblad'!C9 -> #DIV/0!
A45: Souterrain | B45: 128A | C45: Handvaardigheidslokaal | D45: Praktijklokaal | E45: Tarkett | F45: Homogeen Vinyl | G45: WP 4 | H45: 30 | I45: 30 | K45: ='Calculatie schoonmaak invulblad'!K20 -> 0 | L45: 200 | M45: =I45*L45 -> 6000 | N45: =((I45/K45)*L45)/200*'Calculatie schoonmaak invulblad'!C9 -> #DIV/0! | O45: =(I45/K45*L45)*'Calculatie schoonmaak invulblad'!C9 -> #DIV/0!
A46: Souterrain | B46: 129 | C46: Handvaardigheidslokaal | D46: Praktijklokaal | E46: Tarkett | F46: Homogeen Vinyl | G46: WP 4 | H46: 77.7 | I46: 77.7 | K46: ='Calculatie schoonmaak invulblad'!K20 -> 0 | L46: 200 | M46: =I46*L46 -> 15540 | N46: =((I46/K46)*L46)/200*'Calculatie schoonmaak invulblad'!C9 -> #DIV/0! | O46: =(I46/K46*L46)*'Calculatie schoonmaak invulblad'!C9 -> #DIV/0!
A47: Souterrain | B47: 130 | C47: Handvaardigheidslokaal | D47: Praktijklokaal | E47: Tarkett | F47: Homogeen Vinyl | G47: WP 4 | H47: 93 | I47: 93 | K47: ='Calculatie schoonmaak invulblad'!K20 -> 0 | L47: 200 | M47: =I47*L47 -> 18600 | N47: =((I47/K47)*L47)/200*'Calculatie schoonmaak invulblad'!C9 -> #DIV/0! | O47: =(I47/K47*L47)*'Calculatie schoonmaak invulblad'!C9 -> #DIV/0!
A48: Souterrain | B48: Souterain 18 | C48: Portaal praktijklokaal | D48: Verkeersruimte | E48: Tarkett | F48: Homogeen Vinyl | G48: WP 6 | H48: 12 | I48: 12 | K48: ='Calculatie schoonmaak invulblad'!K60 -> 0 | L48: 200 | M48: =I48*L48 -> 2400 | N48: =((I48/K48)*L48)/200*'Calculatie schoonmaak invulblad'!C9 -> #DIV/0! | O48: =(I48/K48*L48)*'Calculatie schoonmaak invulblad'!C9 -> #DIV/0!
A49: Souterrain | B49: 131a | C49: Praktijklokaal | D49: Praktijklokaal | E49: Tarkett | F49: Homogeen Vinyl | G49: WP 4 | H49: 33 | I49: 33 | K49: ='Calculatie schoonmaak invulblad'!K20 -> 0 | L49: 200 | M49: =I49*L49 -> 6600 | N49: =((I49/K49)*L49)/200*'Calculatie schoonmaak invulblad'!C9 -> #DIV/0! | O49: =(I49/K49*L49)*'Calculatie schoonmaak invulblad'!C9 -> #DIV/0!
A50: Souterrain | B50: 131 | C50: Tekenen | D50: Praktijklokaal | E50: Tarkett | F50: Homogeen Vinyl | G50: WP 4 | H50: 92 | I50: 92 | K50: ='Calculatie schoonmaak invulblad'!K20 -> 0 | L50: 200 | M50: =I50*L50 -> 18400 | N50: =((I50/K50)*L50)/200*'Calculatie schoonmaak invulblad'!C9 -> #DIV/0! | O50: =(I50/K50*L50)*'Calculatie schoonmaak invulblad'!C9 -> #DIV/0!
A51: Souterrain | B51: Souterain 19 | C51: Hal | D51: Verkeersruimte | E51: Steen | F51: Steen | G51: WP 6 | H51: 34 | I51: 34 | K51: ='Calculatie schoonmaak invulblad'!K58 -> 0 | L51: 200 | M51: =I51*L51 -> 6800 | N51: =((I51/K51)*L51)/200*'Calculatie schoonmaak invulblad'!C9 -> #DIV/0! | O51: =(I51/K51*L51)*'Calculatie schoonmaak invulblad'!C9 -> #DIV/0!
A52: Souterrain | B52: Souterain 20 | C52: Entree | D52: Verkeersruimte | E52: Steen | F52: Steen | G52: WP 6 | H52: 16 | I52: 16 | K52: ='Calculatie schoonmaak invulblad'!K58 -> 0 | L52: 200 | M52: =I52*L52 -> 3200 | N52: =((I52/K52)*L52)/200*'Calculatie schoonmaak invulblad'!C9 -> #DIV/0! | O52: =(I52/K52*L52)*'Calculatie schoonmaak invulblad'!C9 -> #DIV/0!
A53: Souterrain | B53: Souterain 21 | C53: Trap(penhuis) | D53: Trap(penhuis) | E53: Steen | F53: Steen | G53: WP 6 | H53: 7 | I53: 7 | K53: ='Calculatie schoonmaak invulblad'!K49 -> 0 | L53: 200 | M53: =I53*L53 -> 1400 | N53: =((I53/K53)*L53)/200*'Calculatie schoonmaak invulblad'!C9 -> #DIV/0! | O53: =(I53/K53*L53)*'Calculatie schoonmaak invulblad'!C9 -> #DIV/0!
A54: Souterrain | B54: Souterain 22 | C54: Trap(penhuis) | D54: Trap(penhuis) | E54: Steen | F54: Steen | G54: WP 6 | H54: 7 | I54: 7 | K54: ='Calculatie schoonmaak invulblad'!K49 -> 0 | L54: 200 | M54: =I54*L54 -> 1400 | N54: =((I54/K54)*L54)/200*'Calculatie schoonmaak invulblad'!C9 -> #DIV/0! | O54: =(I54/K54*L54)*'Calculatie schoonmaak invulblad'!C9 -> #DIV/0!
A55: Souterrain | B55: 131a | C55: Opslag biologie | D55: Overige ruimte | E55: Steen | F55: Steen | G55: WP 12 | H55: 17 | I55: 0 | J55: 17 | K55: ='Calculatie schoonmaak invulblad'!E74 -> 0 | L55: 10 | M55: =I55*L55 -> 0 | N55: =((I55/K55)*L55)/200*'Calculatie schoonmaak invulblad'!C9 -> #DIV/0! | O55: =(I55/K55*L55)*'Calculatie schoonmaak invulblad'!C9 -> #DIV/0!
A56: Souterrain | B56: Souterain 23 | C56: Verkeersruimte | D56: Verkeersruimte | E56: Steen | F56: Steen | G56: WP 6 | H56: 30 | I56: 30 | K56: ='Calculatie schoonmaak invulblad'!K58 -> 0 | L56: 200 | M56: =I56*L56 -> 6000 | N56: =((I56/K56)*L56)/200*'Calculatie schoonmaak invulblad'!C9 -> #DIV/0! | O56: =(I56/K56*L56)*'Calculatie schoonmaak invulblad'!C9 -> #DIV/0!
A57: Souterrain | B57: 134 | C57: Biologie | D57: Leslokaal | E57: Tarkett | F57: Homogeen Vinyl | G57: WP 2 | H57: 52 | I57: 52 | K57: ='Calculatie schoonmaak invulblad'!E60 -> 0 | L57: 100 | M57: =I57*L57 -> 5200 | N57: =((I57/K57)*L57)/200*'Calculatie schoonmaak invulblad'!C9 -> #DIV/0! | O57: =(I57/K57*L57)*'Calculatie schoonmaak invulblad'!C9 -> #DIV/0!
A58: Souterrain | B58: 135 | C58: Biologie | D58: Leslokaal | E58: Tarkett | F58: Homogeen Vinyl | G58: WP 2 | H58: 84 | I58: 84 | K58: ='Calculatie schoonmaak invulblad'!E60 -> 0 | L58: 100 | M58: =I58*L58 -> 8400 | N58: =((I58/K58)*L58)/200*'Calculatie schoonmaak invulblad'!C9 -> #DIV/0! | O58: =(I58/K58*L58)*'Calculatie schoonmaak invulblad'!C9 -> #DIV/0!
A59: Souterrain | B59: 136 | C59: TOA | D59: Kabinet | E59: Tarkett | F59: Homogeen Vinyl | G59: WP 15 | H59: 44 | I59: 44 | K59: ='Calculatie schoonmaak invulblad'!E49 -> 0 | L59: 40 | M59: =I59*L59 -> 1760 | N59: =((I59/K59)*L59)/200*'Calculatie schoonmaak invulblad'!C9 -> #DIV/0! | O59: =(I59/K59*L59)*'Calculatie schoonmaak invulblad'!C9 -> #DIV/0!
A60: Souterrain | B60: Souterain 24 | C60: Ronde trap | D60: Trap(penhuis) | E60: Staal | F60: Steen | G60: WP 6 | H60: 2 | I60: 2 | K60: ='Calculatie schoonmaak invulblad'!K58 -> 0 | L60: 200 | M60: =I60*L60 -> 400 | N60: =((I60/K60)*L60)/200*'Calculatie schoonmaak invulblad'!C9 -> #DIV/0! | O60: =(I60/K60*L60)*'Calculatie schoonmaak invulblad'!C9 -> #DIV/0!
A61: Begane grond | B61: Begane grond 0 | C61: Entree | D61: Verkeersruimte | E61: Vast Tapijt | F61: Tapijt | G61: WP 6 | H61: 4 | I61: 4 | K61: ='Calculatie schoonmaak invulblad'!K59 -> 0 | L61: 200 | M61: =I61*L61 -> 800 | N61: =((I61/K61)*L61)/200*'Calculatie schoonmaak invulblad'!C9 -> #DIV/0! | O61: =(I61/K61*L61)*'Calculatie schoonmaak invulblad'!C9 -> #DIV/0!
A62: Begane grond | B62: 201 | C62: Centrale hal | D62: Verkeersruimte | E62: Tarkett | F62: Homogeen Vinyl | G62: WP 6 | H62: 253 | I62: 253 | K62: ='Calculatie schoonmaak invulblad'!K60 -> 0 | L62: 200 | M62: =I62*L62 -> 50600 | N62: =((I62/K62)*L62)/200*'Calculatie schoonmaak invulblad'!C9 -> #DIV/0! | O62: =(I62/K62*L62)*'Calculatie schoonmaak invulblad'!C9 -> #DIV/0!
A63: Begane grond | B63: Begane grond 1 | C63: Trap(penhuis) | D63: Trap(penhuis) | E63: Steen | F63: Steen | G63: WP 6 | H63: 32 | I63: 32 | K63: ='Calculatie schoonmaak invulblad'!K49 -> 0 | L63: 200 | M63: =I63*L63 -> 6400 | N63: =((I63/K63)*L63)/200*'Calculatie schoonmaak invulblad'!C9 -> #DIV/0! | O63: =(I63/K63*L63)*'Calculatie schoonmaak invulblad'!C9 -> #DIV/0!
A64: Begane grond | B64: Begane grond 2 | C64: Toestelberging | D64: Toestelberging | E64: Sportvloer | F64: Lino | G64: WP 10/11 | H64: 27.5 | I64: 27.5 | K64: =('Calculatie schoonmaak invulblad'!K47+'Calculatie schoonmaak invulblad'!K48)/2 -> 0 | L64: 2 | M64: =I64*L64 -> 55 | N64: =((I64/K64)*L64)/200*'Calculatie schoonmaak invulblad'!C9 -> #DIV/0! | O64: =(I64/K64*L64)*'Calculatie schoonmaak invulblad'!C9 -> #DIV/0!
A65: Begane grond | B65: 203 | C65: Sportzaal | D65: Sportzaal | E65: Sportvloer | F65: Lino | G65: WP 10/11 | H65: 260 | I65: 260 | K65: =(('Calculatie schoonmaak invulblad'!K40*50)/65)+(('Calculatie schoonmaak invulblad'!K41*15)/65) -> 0 | L65: 65 | M65: =I65*L65 -> 16900 | N65: =((I65/K65)*L65)/200*'Calculatie schoonmaak invulblad'!C9 -> #DIV/0! | O65: =(I65/K65*L65)*'Calculatie schoonmaak invulblad'!C9 -> #DIV/0!
A66: Begane grond | B66: 203.1 | C66: Kleedruimte | D66: Kleedruimte | E66: Steen | F66: Steen | G66: WP 9 | H66: 7.1 | I66: 7.1 | K66: ='Calculatie schoonmaak invulblad'!E56 -> 0 | L66: 200 | M66: =I66*L66 -> 1420 | N66: =((I66/K66)*L66)/200*'Calculatie schoonmaak invulblad'!C9 -> #DIV/0! | O66: =(I66/K66*L66)*'Calculatie schoonmaak invulblad'!C9 -> #DIV/0!
A67: Begane grond | B67: Begane grond 3 | C67: Doucheruimte | D67: Doucheruimte | E67: Steen | F67: Steen | G67: WP 14 | H67: 15.8 | I67: 15.8 | K67: ='Calculatie schoonmaak invulblad'!E35 -> 0 | L67: 20 | M67: =I67*L67 -> 316 | N67: =((I67/K67)*L67)/200*'Calculatie schoonmaak invulblad'!C9 -> #DIV/0! | O67: =(I67/K67*L67)*'Calculatie schoonmaak invulblad'!C9 -> #DIV/0!
A68: Begane grond | B68: Begane grond 4a | C68: Portaal | D68: Verkeersruimte | E68: Steen | F68: Steen | G68: WP 6 | H68: 4 | I68: 4 | K68: ='Calculatie schoonmaak invulblad'!K58 -> 0 | L68: 200 | M68: =I68*L68 -> 800 | N68: =((I68/K68)*L68)/200*'Calculatie schoonmaak invulblad'!C9 -> #DIV/0! | O68: =(I68/K68*L68)*'Calculatie schoonmaak invulblad'!C9 -> #DIV/0!
A69: Begane grond | B69: Begane grond 5a | C69: Toiletruimte | D69: Sanitaire ruimte | E69: Steen | F69: Steen | G69: WP 7 | H69: 1 | I69: 1 | K69: ='Calculatie schoonmaak invulblad'!K37 -> 0 | L69: 200 | M69: =I69*L69 -> 200 | N69: =((I69/K69)*L69)/200*'Calculatie schoonmaak invulblad'!C9 -> #DIV/0! | O69: =(I69/K69*L69)*'Calculatie schoonmaak invulblad'!C9 -> #DIV/0!
A70: Begane grond | C70: Docent | D70: Bureaukamer | E70: Steen | F70: Steen | G70: WP 1 | H70: 15 | I70: 15 | K70: ='Calculatie schoonmaak invulblad'!E21 -> 0 | L70: 40 | M70: =I70*L70 -> 600 | N70: =((I70/K70)*L70)/200*'Calculatie schoonmaak invulblad'!C9 -> #DIV/0! | O70: =(I70/K70*L70)*'Calculatie schoonmaak invulblad'!C9 -> #DIV/0!
A71: Begane grond | C71: Doucheruimte | D71: Doucheruimte | E71: Steen | F71: Steen | G71: WP 14 | H71: 2 | I71: 2 | K71: ='Calculatie schoonmaak invulblad'!E35 -> 0 | L71: 20 | M71: =I71*L71 -> 40 | N71: =((I71/K71)*L71)/200*'Calculatie schoonmaak invulblad'!C9 -> #DIV/0! | O71: =(I71/K71*L71)*'Calculatie schoonmaak invulblad'!C9 -> #DIV/0!
A72: Begane grond | B72: 215 | C72: Administratie | D72: Bureaukamer | E72: Tarkett | F72: Homogeen Vinyl | G72: WP 1 | H72: 25 | I72: 25 | K72: ='Calculatie schoonmaak invulblad'!E20 -> 0 | L72: 40 | M72: =I72*L72 -> 1000 | N72: =((I72/K72)*L72)/200*'Calculatie schoonmaak invulblad'!C9 -> #DIV/0! | O72: =(I72/K72*L72)*'Calculatie schoonmaak invulblad'!C9 -> #DIV/0!
A73: Begane grond | B73: 214 | C73: Administratie | D73: Bureaukamer | E73: Tarkett | F73: Homogeen Vinyl | G73: WP 1 | H73: 50 | I73: 0 | J73: 50 | K73: ='Calculatie schoonmaak invulblad'!E20 -> 0 | L73: 40 | M73: =I73*L73 -> 0 | N73: =((I73/K73)*L73)/200*'Calculatie schoonmaak invulblad'!C9 -> #DIV/0! | O73: =(I73/K73*L73)*'Calculatie schoonmaak invulblad'!C9 -> #DIV/0!
A74: Begane grond | B74: BG201 | C74: Conciërge | D74: Bureaukamer | E74: Tarkett | F74: Homogeen Vinyl | G74: WP 1 | H74: 8 | I74: 8 | K74: ='Calculatie schoonmaak invulblad'!E20 -> 0 | L74: 40 | M74: =I74*L74 -> 320 | N74: =((I74/K74)*L74)/200*'Calculatie schoonmaak invulblad'!C9 -> #DIV/0! | O74: =(I74/K74*L74)*'Calculatie schoonmaak invulblad'!C9 -> #DIV/0!
A75: Begane grond | B75: Begane grond 6a | C75: Repro | D75: Repro | E75: Tarkett | F75: Homogeen Vinyl | G75: WP 1 | H75: 16 | I75: 16 | K75: ='Calculatie schoonmaak invulblad'!K32 -> 0 | L75: 40 | M75: =I75*L75 -> 640 | N75: =((I75/K75)*L75)/200*'Calculatie schoonmaak invulblad'!C9 -> #DIV/0! | O75: =(I75/K75*L75)*'Calculatie schoonmaak invulblad'!C9 -> #DIV/0!
A76: Begane grond | B76: Begane grond 7a | C76: Overblijflokaal | D76: Horecaruimte | E76: Tarkett | F76: Homogeen Vinyl | G76: WP 3 | H76: 278 | I76: 278 | K76: ='Calculatie schoonmaak invulblad'!E43 -> 0 | L76: 200 | M76: =I76*L76 -> 55600 | N76: =((I76/K76)*L76)/200*'Calculatie schoonmaak invulblad'!C9 -> #DIV/0! | O76: =(I76/K76*L76)*'Calculatie schoonmaak invulblad'!C9 -> #DIV/0!
A77: Begane grond | B77: Begane grond 8a | C77: Toneel | D77: Verkeersruimte | E77: Plankenvloer | F77: Hout | G77: WP 6 | H77: 119 | I77: 119 | K77: ='Calculatie schoonmaak invulblad'!K61 -> 0 | L77: 200 | M77: =I77*L77 -> 23800 | N77: =((I77/K77)*L77)/200*'Calculatie schoonmaak invulblad'!C9 -> #DIV/0! | O77: =(I77/K77*L77)*'Calculatie schoonmaak invulblad'!C9 -> #DIV/0!
A78: Begane grond | B78: 212 | C78: Keuken | D78: Keuken/Pantry | E78: Steen | F78: Steen | G78: WP 3 | H78: 15 | I78: 15 | K78: ='Calculatie schoonmaak invulblad'!E51 -> 0 | L78: 200 | M78: =I78*L78 -> 3000 | N78: =((I78/K78)*L78)/200*'Calculatie schoonmaak invulblad'!C9 -> #DIV/0! | O78: =(I78/K78*L78)*'Calculatie schoonmaak invulblad'!C9 -> #DIV/0!
A79: Begane grond | B79: 208 | C79: Toiletruimte | D79: Sanitaire ruimte | E79: Steen | F79: Steen | G79: WP 7 | H79: 15 | I79: 15 | K79: ='Calculatie schoonmaak invulblad'!K37 -> 0 | L79: 200 | M79: =I79*L79 -> 3000 | N79: =((I79/K79)*L79)/200*'Calculatie schoonmaak invulblad'!C9 -> #DIV/0! | O79: =(I79/K79*L79)*'Calculatie schoonmaak invulblad'!C9 -> #DIV/0!
A80: Begane grond | B80: 217 | C80: Muzieklokaal | D80: Leslokaal | E80: Tarkett | F80: Homogeen Vinyl | G80: WP 2 | H80: 73 | I80: 73 | K80: ='Calculatie schoonmaak invulblad'!E60 -> 0 | L80: 100 | M80: =I80*L80 -> 7300 | N80: =((I80/K80)*L80)/200*'Calculatie schoonmaak invulblad'!C9 -> #DIV/0! | O80: =(I80/K80*L80)*'Calculatie schoonmaak invulblad'!C9 -> #DIV/0!
A81: Begane grond | B81: 221 | C81: Theorielokaal | D81: Leslokaal | E81: Tarkett | F81: Homogeen Vinyl | G81: WP 2 | H81: 50 | I81: 50 | K81: ='Calculatie schoonmaak invulblad'!E60 -> 0 | L81: 100 | M81: =I81*L81 -> 5000 | N81: =((I81/K81)*L81)/200*'Calculatie schoonmaak invulblad'!C9 -> #DIV/0! | O81: =(I81/K81*L81)*'Calculatie schoonmaak invulblad'!C9 -> #DIV/0!
A82: Begane grond | B82: 222 | C82: Theorielokaal | D82: Leslokaal | E82: Tarkett | F82: Homogeen Vinyl | G82: WP 2 | H82: 50 | I82: 50 | K82: ='Calculatie schoonmaak invulblad'!E60 -> 0 | L82: 100 | M82: =I82*L82 -> 5000 | N82: =((I82/K82)*L82)/200*'Calculatie schoonmaak invulblad'!C9 -> #DIV/0! | O82: =(I82/K82*L82)*'Calculatie schoonmaak invulblad'!C9 -> #DIV/0!
A83: Begane grond | B83: 223 | C83: Theorielokaal | D83: Leslokaal | E83: Tarkett | F83: Homogeen Vinyl | G83: WP 2 | H83: 50 | I83: 50 | K83: ='Calculatie schoonmaak invulblad'!E60 -> 0 | L83: 100 | M83: =I83*L83 -> 5000 | N83: =((I83/K83)*L83)/200*'Calculatie schoonmaak invulblad'!C9 -> #DIV/0! | O83: =(I83/K83*L83)*'Calculatie schoonmaak invulblad'!C9 -> #DIV/0!
A84: Begane grond | B84: 224 | C84: Theorielokaal | D84: Leslokaal | E84: Tarkett | F84: Homogeen Vinyl | G84: WP 2 | H84: 50 | I84: 50 | K84: ='Calculatie schoonmaak invulblad'!E60 -> 0 | L84: 100 | M84: =I84*L84 -> 5000 | N84: =((I84/K84)*L84)/200*'Calculatie schoonmaak invulblad'!C9 -> #DIV/0! | O84: =(I84/K84*L84)*'Calculatie schoonmaak invulblad'!C9 -> #DIV/0!
A85: Begane grond | B85: 225 | C85: Kantoor | D85: Bureaukamer | E85: Vast Tapijt | F85: Tapijt | G85: WP 1 | H85: 50 | I85: 0 | J85: 50 | K85: ='Calculatie schoonmaak invulblad'!E22 -> 0 | L85: 40 | M85: =I85*L85 -> 0 | N85: =((I85/K85)*L85)/200*'Calculatie schoonmaak invulblad'!C9 -> #DIV/0! | O85: =(I85/K85*L85)*'Calculatie schoonmaak invulblad'!C9 -> #DIV/0!
A86: Begane grond | B86: 225 | C86: Vergaderruimte | D86: Bureaukamer | E86: Vast Tapijt | F86: Tapijt | G86: WP 1 | H86: 25 | I86: 0 | J86: 25 | K86: ='Calculatie schoonmaak invulblad'!E22 -> 0 | L86: 40 | M86: =I86*L86 -> 0 | N86: =((I86/K86)*L86)/200*'Calculatie schoonmaak invulblad'!C9 -> #DIV/0! | O86: =(I86/K86*L86)*'Calculatie schoonmaak invulblad'!C9 -> #DIV/0!
A87: Begane grond | B87: 200 | C87: Verkeersruimte | D87: Verkeersruimte | E87: Tarkett | F87: Homogeen Vinyl | G87: WP 6 | H87: 130 | I87: 130 | K87: ='Calculatie schoonmaak invulblad'!K60 -> 0 | L87: 200 | M87: =I87*L87 -> 26000 | N87: =((I87/K87)*L87)/200*'Calculatie schoonmaak invulblad'!C9 -> #DIV/0! | O87: =(I87/K87*L87)*'Calculatie schoonmaak invulblad'!C9 -> #DIV/0!
A88: Begane grond | B88: 226 | C88: Mediatheek | D88: Mediatheek | E88: Vast Tapijt | F88: Tapijt | G88: WP 2 | H88: 307 | I88: 307 | K88: ='Calculatie schoonmaak invulblad'!E72 -> 0 | L88: 100 | M88: =I88*L88 -> 30700 | N88: =((I88/K88)*L88)/200*'Calculatie schoonmaak invulblad'!C9 -> #DIV/0! | O88: =(I88/K88*L88)*'Calculatie schoonmaak invulblad'!C9 -> #DIV/0!
A89: Begane grond | B89: 227 | C89: Computerruimte | D89: Leslokaal | E89: Vast Tapijt | F89: Tapijt | G89: WP 2 | H89: 19 | I89: 19 | K89: ='Calculatie schoonmaak invulblad'!E61 -> 0 | L89: 100 | M89: =I89*L89 -> 1900 | N89: =((I89/K89)*L89)/200*'Calculatie schoonmaak invulblad'!C9 -> #DIV/0! | O89: =(I89/K89*L89)*'Calculatie schoonmaak invulblad'!C9 -> #DIV/0!
A90: Begane grond | B90: 228 | C90: ICT | D90: Bureaukamer | E90: Vast Tapijt | F90: Tapijt | G90: WP 1 | H90: 28 | I90: 28 | K90: ='Calculatie schoonmaak invulblad'!E22 -> 0 | L90: 40 | M90: =I90*L90 -> 1120 | N90: =((I90/K90)*L90)/200*'Calculatie schoonmaak invulblad'!C9 -> #DIV/0! | O90: =(I90/K90*L90)*'Calculatie schoonmaak invulblad'!C9 -> #DIV/0!
A91: Begane grond | B91: Begane grond 9a | C91: Hal | D91: Verkeersruimte | E91: Steen | F91: Steen | G91: WP 6 | H91: 49 | I91: 49 | K91: ='Calculatie schoonmaak invulblad'!K58 -> 0 | L91: 200 | M91: =I91*L91 -> 9800 | N91: =((I91/K91)*L91)/200*'Calculatie schoonmaak invulblad'!C9 -> #DIV/0! | O91: =(I91/K91*L91)*'Calculatie schoonmaak invulblad'!C9 -> #DIV/0!
A92: Begane grond | B92: Begane grond 10a | C92: Trap(penhuis) | D92: Trap(penhuis) | E92: Steen | F92: Steen | G92: WP 6 | H92: 39 | I92: 39 | K92: ='Calculatie schoonmaak invulblad'!K49 -> 0 | L92: 200 | M92: =I92*L92 -> 7800 | N92: =((I92/K92)*L92)/200*'Calculatie schoonmaak invulblad'!C9 -> #DIV/0! | O92: =(I92/K92*L92)*'Calculatie schoonmaak invulblad'!C9 -> #DIV/0!
A93: Begane grond | B93: 231 | C93: Toiletruimte | D93: Sanitaire ruimte | E93: Steen | F93: Steen | G93: WP 7 | H93: 16 | I93: 16 | K93: ='Calculatie schoonmaak invulblad'!K37 -> 0 | L93: 200 | M93: =I93*L93 -> 3200 | N93: =((I93/K93)*L93)/200*'Calculatie schoonmaak invulblad'!C9 -> #DIV/0! | O93: =(I93/K93*L93)*'Calculatie schoonmaak invulblad'!C9 -> #DIV/0!
A94: Begane grond | B94: 233 | C94: Toiletruimte | D94: Sanitaire ruimte | E94: Steen | F94: Steen | G94: WP 7 | H94: 16 | I94: 16 | K94: ='Calculatie schoonmaak invulblad'!K37 -> 0 | L94: 200 | M94: =I94*L94 -> 3200 | N94: =((I94/K94)*L94)/200*'Calculatie schoonmaak invulblad'!C9 -> #DIV/0! | O94: =(I94/K94*L94)*'Calculatie schoonmaak invulblad'!C9 -> #DIV/0!
A95: Begane grond | B95: Begane grond 11a | C95: Verkeersruimte | D95: Verkeersruimte | E95: Tarkett | F95: Homogeen Vinyl | G95: WP 6 | H95: 30.6 | I95: 30.6 | K95: ='Calculatie schoonmaak invulblad'!K60 -> 0 | L95: 200 | M95: =I95*L95 -> 6120 | N95: =((I95/K95)*L95)/200*'Calculatie schoonmaak invulblad'!C9 -> #DIV/0! | O95: =(I95/K95*L95)*'Calculatie schoonmaak invulblad'!C9 -> #DIV/0!
A96: Begane grond | B96: 234 | C96: Natuurkunde | D96: Leslokaal | E96: Tarkett | F96: Homogeen Vinyl | G96: WP 2 | H96: 68.7 | I96: 68.7 | K96: ='Calculatie schoonmaak invulblad'!E60 -> 0 | L96: 100 | M96: =I96*L96 -> 6870 | N96: =((I96/K96)*L96)/200*'Calculatie schoonmaak invulblad'!C9 -> #DIV/0! | O96: =(I96/K96*L96)*'Calculatie schoonmaak invulblad'!C9 -> #DIV/0!
A97: Begane grond | B97: 234a | C97: Tussenruimte | D97: Leslokaal | E97: Tarkett | F97: Homogeen Vinyl | G97: WP 2 | H97: 12.4 | I97: 12.4 | K97: ='Calculatie schoonmaak invulblad'!E60 -> 0 | L97: 100 | M97: =I97*L97 -> 1240 | N97: =((I97/K97)*L97)/200*'Calculatie schoonmaak invulblad'!C9 -> #DIV/0! | O97: =(I97/K97*L97)*'Calculatie schoonmaak invulblad'!C9 -> #DIV/0!
A98: Begane grond | B98: 235 | C98: Natuurkunde | D98: Leslokaal | E98: Tarkett | F98: Homogeen Vinyl | G98: WP 2 | H98: 95 | I98: 95 | K98: ='Calculatie schoonmaak invulblad'!E60 -> 0 | L98: 100 | M98: =I98*L98 -> 9500 | N98: =((I98/K98)*L98)/200*'Calculatie schoonmaak invulblad'!C9 -> #DIV/0! | O98: =(I98/K98*L98)*'Calculatie schoonmaak invulblad'!C9 -> #DIV/0!
A99: Begane grond | B99: Begane grond 12a | C99: Portaal | D99: Verkeersruimte | E99: Marmoleum | F99: Lino | G99: WP 6 | H99: 3 | I99: 3 | K99: ='Calculatie schoonmaak invulblad'!K62 -> 0 | L99: 200 | M99: =I99*L99 -> 600 | N99: =((I99/K99)*L99)/200*'Calculatie schoonmaak invulblad'!C9 -> #DIV/0! | O99: =(I99/K99*L99)*'Calculatie schoonmaak invulblad'!C9 -> #DIV/0!
A100: Begane grond | C100: Ronde trap | D100: Trap(penhuis) | E100: Staal | F100: Steen | G100: WP 6 | H100: 2 | I100: 2 | K100: ='Calculatie schoonmaak invulblad'!K49 -> 0 | L100: 200 | M100: =I100*L100 -> 400 | N100: =((I100/K100)*L100)/200*'Calculatie schoonmaak invulblad'!C9 -> #DIV/0! | O100: =(I100/K100*L100)*'Calculatie schoonmaak invulblad'!C9 -> #DIV/0!
A101: 1e Verdieping | B101: 1e Verdieping 0 | C101: Ronde trap | D101: Trap(penhuis) | E101: Staal | F101: Steen | G101: WP 6 | H101: 2 | I101: 2 | K101: ='Calculatie schoonmaak invulblad'!K49 -> 0 | L101: 200 | M101: =I101*L101 -> 400 | N101: =((I101/K101)*L101)/200*'Calculatie schoonmaak invulblad'!C9 -> #DIV/0! | O101: =(I101/K101*L101)*'Calculatie schoonmaak invulblad'!C9 -> #DIV/0!
A102: Begane grond | B102: 15 | C102: Entree | D102: Verkeersruimte | E102: Vast Tapijt | F102: Tapijt | G102: WP 6 | H102: 3 | I102: 3 | K102: ='Calculatie schoonmaak invulblad'!K59 -> 0 | L102: 200 | M102: =I102*L102 -> 600 | N102: =((I102/K102)*L102)/200*'Calculatie schoonmaak invulblad'!C9 -> #DIV/0! | O102: =(I102/K102*L102)*'Calculatie schoonmaak invulblad'!C9 -> #DIV/0!
A103: Begane grond | B103: 16 | C103: Verkeersruimte | D103: Verkeersruimte | E103: Steen | F103: Steen | G103: WP 6 | H103: 19 | I103: 19 | K103: ='Calculatie schoonmaak invulblad'!K58 -> 0 | L103: 200 | M103: =I103*L103 -> 3800 | N103: =((I103/K103)*L103)/200*'Calculatie schoonmaak invulblad'!C9 -> #DIV/0! | O103: =(I103/K103*L103)*'Calculatie schoonmaak invulblad'!C9 -> #DIV/0!
...

Sheet Connect College Echt
A2: Klant | B2: SOML | D2: Totaal m² in onderhoud (i.o) | E2: =I265 -> 8939.65 | G2: Kosten inzet vrijgesteld toezicht per dag | J2: =E6*'Calculatie schoonmaak invulblad'!C2 -> #DIV/0! | L2: Bedrijfsnaam Inschrijver | M2: ='Calculatie schoonmaak invulblad'!I9 -> 0
A3: Locatie | B3: Connect College Echt | D3: Totaal m² per jaar in onderhoud | E3: =M265 -> 1197158 | G3: Kosten schoonmaak per dag | J3: =E4*'Calculatie schoonmaak invulblad'!C4 -> #DIV/0! | L3: Datum | M3: ='Calculatie schoonmaak invulblad'!I10 -> 0
A4: Adres locatie | B4: Populierlaan 1 6101 BA Echt | D4: Uren per dag schoonmaak | E4: =N265 -> #DIV/0! | G4: Kosten inzet vrijgesteld toezicht per jaar | J4: =E7*'Calculatie schoonmaak invulblad'!C2 -> #DIV/0! | L4: Plaats | M4: ='Calculatie schoonmaak invulblad'!I11 -> 0
D5: Uren per jaar schoonmaak | E5: =O265 -> #DIV/0! | G5: Kosten schoonmaak per jaar | J5: =E5*'Calculatie schoonmaak invulblad'!C4 -> #DIV/0! | L5: Handtekening | M5: ='Calculatie schoonmaak invulblad'!I12 -> 0
D6: Uren per dag vrijgesteld toezicht | E6: ='Calculatie schoonmaak invulblad'!C6*'Connect College Echt'!E4/100 -> #DIV/0! | G6: Contractjaarprijs locatie BC Broekhin | J6: =J4+J5 -> #DIV/0!
D7: Uren per jaar vrijgesteld toezicht | E7: ='Calculatie schoonmaak invulblad'!C6*'Connect College Echt'!E5/100 -> #DIV/0!
A10: Verdieping | B10: Ruimtenummer | C10: Omschrijving | D10: Ruimtesoort | E10: Vloersoort | F10: Vloergroep | G10: Werkprogramma | H10: Totaal m² | I10: In onderhoud (i.o.) | J10: Niet in onderhoud (n.i.o.) | K10: Prestatienorm | L10: Dagen per jaar | M10: Totaal m² per jaar | N10: Uren per dag | O10: Uren per jaar
A11: Begane grond | B11: 0-A | C11: Entree Maasbrachterweg | D11: Verkeersruimte | E11: Vast Tapijt | F11: Tapijt | G11: WP 6 | H11: 30 | I11: 30 | K11: ='Calculatie schoonmaak invulblad'!K59 -> 0 | L11: 200 | M11: =I11*L11 -> 6000 | N11: =((I11/K11)*L11)/200*'Calculatie schoonmaak invulblad'!$C$10 -> #DIV/0! | O11: =(I11/K11)*L11*'Calculatie schoonmaak invulblad'!$C$10 -> #DIV/0!
A12: Begane grond | B12: 0-B | C12: Aula / Kantine | D12: Horecaruimte | E12: Marmoleum | F12: Lino | G12: WP 3 | H12: 402 | I12: 402 | K12: ='Calculatie schoonmaak invulblad'!E45 -> 0 | L12: 200 | M12: =I12*L12 -> 80400 | N12: =((I12/K12)*L12)/200*'Calculatie schoonmaak invulblad'!$C$10 -> #DIV/0! | O12: =(I12/K12)*L12*'Calculatie schoonmaak invulblad'!$C$10 -> #DIV/0!
A13: Begane grond | B13: 0-C | C13: Entree (Aula) | D13: Verkeersruimte | E13: Vast Tapijt | F13: Tapijt | G13: WP 6 | H13: 41 | I13: 41 | K13: ='Calculatie schoonmaak invulblad'!K59 -> 0 | L13: 200 | M13: =I13*L13 -> 8200 | N13: =((I13/K13)*L13)/200*'Calculatie schoonmaak invulblad'!$C$10 -> #DIV/0! | O13: =(I13/K13)*L13*'Calculatie schoonmaak invulblad'!$C$10 -> #DIV/0!
A14: Begane grond | B14: 0-1-D | C14: Trap(penhuis) | D14: Trap(penhuis) | E14: Anti-slip Coating | F14: Steen | G14: WP 6 | H14: 89 | I14: 89 | K14: ='Calculatie schoonmaak invulblad'!K51 -> 0 | L14: 200 | M14: =I14*L14 -> 17800 | N14: =((I14/K14)*L14)/200*'Calculatie schoonmaak invulblad'!$C$10 -> #DIV/0! | O14: =(I14/K14)*L14*'Calculatie schoonmaak invulblad'!$C$10 -> #DIV/0!
A15: Begane grond | B15: 0-E | C15: Gang west | D15: Verkeersruimte | E15: Marmoleum | F15: Lino | G15: WP 6 | H15: 136 | I15: 136 | K15: ='Calculatie schoonmaak invulblad'!K62 -> 0 | L15: 200 | M15: =I15*L15 -> 27200 | N15: =((I15/K15)*L15)/200*'Calculatie schoonmaak invulblad'!$C$10 -> #DIV/0! | O15: =(I15/K15)*L15*'Calculatie schoonmaak invulblad'!$C$10 -> #DIV/0!
A16: Begane grond | B16: 0-F | C16: Gang oost | D16: Verkeersruimte | E16: Marmoleum | F16: Lino | G16: WP 6 | H16: 90 | I16: 90 | K16: ='Calculatie schoonmaak invulblad'!K62 -> 0 | L16: 200 | M16: =I16*L16 -> 18000 | N16: =((I16/K16)*L16)/200*'Calculatie schoonmaak invulblad'!$C$10 -> #DIV/0! | O16: =(I16/K16)*L16*'Calculatie schoonmaak invulblad'!$C$10 -> #DIV/0!
A17: Begane grond | B17: 0-E03 | C17: Lift | D17: Lift | E17: Noppenvloer | F17: Rubber | G17: WP 6 | H17: 2 | I17: 2 | K17: ='Calculatie schoonmaak invulblad'!E68 -> 0 | L17: 200 | M17: =I17*L17 -> 400 | N17: =((I17/K17)*L17)/200*'Calculatie schoonmaak invulblad'!$C$10 -> #DIV/0! | O17: =(I17/K17)*L17*'Calculatie schoonmaak invulblad'!$C$10 -> #DIV/0!
A18: Begane grond | B18: 0-E04 | C18: Miva-toilet | D18: Sanitaire ruimte | E18: Steen/Coating | F18: Steen | G18: WP 7 | H18: 4 | I18: 4 | K18: ='Calculatie schoonmaak invulblad'!K37 -> 0 | L18: 200 | M18: =I18*L18 -> 800 | N18: =((I18/K18)*L18)/200*'Calculatie schoonmaak invulblad'!$C$10 -> #DIV/0! | O18: =(I18/K18)*L18*'Calculatie schoonmaak invulblad'!$C$10 -> #DIV/0!
A19: Begane grond | B19: 0-E05 | C19: Expo-ruimte | D19: Expo-ruimte | E19: Marmoleum | F19: Lino | G19: WP 12 | H19: 8 | I19: 0 | J19: 8 | K19: ='Calculatie schoonmaak invulblad'!E40 -> 0 | L19: 10 | M19: =I19*L19 -> 0 | N19: =((I19/K19)*L19)/200*'Calculatie schoonmaak invulblad'!$C$10 -> #DIV/0! | O19: =(I19/K19)*L19*'Calculatie schoonmaak invulblad'!$C$10 -> #DIV/0!
A20: Begane grond | B20: 0-E06 | C20: Receptie | D20: Bureaukamer | E20: Marmoleum | F20: Lino | G20: WP 1 | H20: 7 | I20: 0 | J20: 7 | K20: ='Calculatie schoonmaak invulblad'!E23 -> 0 | L20: 40 | M20: =I20*L20 -> 0 | N20: =((I20/K20)*L20)/200*'Calculatie schoonmaak invulblad'!$C$10 -> #DIV/0! | O20: =(I20/K20)*L20*'Calculatie schoonmaak invulblad'!$C$10 -> #DIV/0!
A21: Begane grond | B21: 0-E07 | C21: Administratie | D21: Bureaukamer | E21: Marmoleum | F21: Lino | G21: WP 1 | H21: 25 | I21: 0 | J21: 25 | K21: ='Calculatie schoonmaak invulblad'!E23 -> 0 | L21: 40 | M21: =I21*L21 -> 0 | N21: =((I21/K21)*L21)/200*'Calculatie schoonmaak invulblad'!$C$10 -> #DIV/0! | O21: =(I21/K21)*L21*'Calculatie schoonmaak invulblad'!$C$10 -> #DIV/0!
A22: Begane grond | B22: 0-E08 | C22: Spreekkamer | D22: Bureaukamer | E22: Marmoleum | F22: Lino | G22: WP 1 | H22: 18 | I22: 0 | J22: 18 | K22: ='Calculatie schoonmaak invulblad'!E23 -> 0 | L22: 40 | M22: =I22*L22 -> 0 | N22: =((I22/K22)*L22)/200*'Calculatie schoonmaak invulblad'!$C$10 -> #DIV/0! | O22: =(I22/K22)*L22*'Calculatie schoonmaak invulblad'!$C$10 -> #DIV/0!
A23: Begane grond | B23: 0-E09 | C23: Coördinatoren | D23: Bureaukamer | E23: Marmoleum | F23: Lino | G23: WP 1 | H23: 18 | I23: 0 | J23: 18 | K23: ='Calculatie schoonmaak invulblad'!E23 -> 0 | L23: 40 | M23: =I23*L23 -> 0 | N23: =((I23/K23)*L23)/200*'Calculatie schoonmaak invulblad'!$C$10 -> #DIV/0! | O23: =(I23/K23)*L23*'Calculatie schoonmaak invulblad'!$C$10 -> #DIV/0!
A24: Begane grond | B24: 0-E10 | C24: Decanen | D24: Bureaukamer | E24: Marmoleum | F24: Lino | G24: WP 1 | H24: 18 | I24: 0 | J24: 18 | K24: ='Calculatie schoonmaak invulblad'!E23 -> 0 | L24: 40 | M24: =I24*L24 -> 0 | N24: =((I24/K24)*L24)/200*'Calculatie schoonmaak invulblad'!$C$10 -> #DIV/0! | O24: =(I24/K24)*L24*'Calculatie schoonmaak invulblad'!$C$10 -> #DIV/0!
A25: Begane grond | B25: 0-E11 | C25: Coördinatoren | D25: Bureaukamer | E25: Marmoleum | F25: Lino | G25: WP 1 | H25: 24 | I25: 0 | J25: 24 | K25: ='Calculatie schoonmaak invulblad'!E23 -> 0 | L25: 40 | M25: =I25*L25 -> 0 | N25: =((I25/K25)*L25)/200*'Calculatie schoonmaak invulblad'!$C$10 -> #DIV/0! | O25: =(I25/K25)*L25*'Calculatie schoonmaak invulblad'!$C$10 -> #DIV/0!
A26: Begane grond | B26: 0-E12 | C26: Lokalen talen | D26: Leslokaal | E26: Marmoleum | F26: Lino | G26: WP 2 | H26: 50 | I26: 50 | K26: ='Calculatie schoonmaak invulblad'!E62 -> 0 | L26: 100 | M26: =I26*L26 -> 5000 | N26: =((I26/K26)*L26)/200*'Calculatie schoonmaak invulblad'!$C$10 -> #DIV/0! | O26: =(I26/K26)*L26*'Calculatie schoonmaak invulblad'!$C$10 -> #DIV/0!
A27: Begane grond | B27: 0-E13a | C27: Leerwerkhuis talen | D27: Leslokaal | E27: Marmoleum | F27: Lino | G27: WP 2 | H27: 58 | I27: 58 | K27: ='Calculatie schoonmaak invulblad'!E62 -> 0 | L27: 100 | M27: =I27*L27 -> 5800 | N27: =((I27/K27)*L27)/200*'Calculatie schoonmaak invulblad'!$C$10 -> #DIV/0! | O27: =(I27/K27)*L27*'Calculatie schoonmaak invulblad'!$C$10 -> #DIV/0!
A28: Begane grond | B28: 0-E13b | C28: Leerwerkhuis talen | D28: Leslokaal | E28: Marmoleum | F28: Lino | G28: WP 2 | H28: 50 | I28: 50 | K28: ='Calculatie schoonmaak invulblad'!E62 -> 0 | L28: 100 | M28: =I28*L28 -> 5000 | N28: =((I28/K28)*L28)/200*'Calculatie schoonmaak invulblad'!$C$10 -> #DIV/0! | O28: =(I28/K28)*L28*'Calculatie schoonmaak invulblad'!$C$10 -> #DIV/0!
A29: Begane grond | B29: 0-E14 | C29: Lokaal talen | D29: Leslokaal | E29: Marmoleum | F29: Lino | G29: WP 2 | H29: 53 | I29: 53 | K29: ='Calculatie schoonmaak invulblad'!E62 -> 0 | L29: 100 | M29: =I29*L29 -> 5300 | N29: =((I29/K29)*L29)/200*'Calculatie schoonmaak invulblad'!$C$10 -> #DIV/0! | O29: =(I29/K29)*L29*'Calculatie schoonmaak invulblad'!$C$10 -> #DIV/0!
A30: Begane grond | B30: 0-E16 | C30: H en A | D30: Leslokaal | E30: Marmoleum | F30: Lino | G30: WP 2 | H30: 97 | I30: 97 | K30: ='Calculatie schoonmaak invulblad'!E62 -> 0 | L30: 100 | M30: =I30*L30 -> 9700 | N30: =((I30/K30)*L30)/200*'Calculatie schoonmaak invulblad'!$C$10 -> #DIV/0! | O30: =(I30/K30)*L30*'Calculatie schoonmaak invulblad'!$C$10 -> #DIV/0!
A31: Begane grond | B31: 0-E17 | C31: H en A | D31: Leslokaal | E31: Marmoleum | F31: Lino | G31: WP 2 | H31: 108.5 | I31: 108.5 | K31: ='Calculatie schoonmaak invulblad'!E62 -> 0 | L31: 100 | M31: =I31*L31 -> 10850 | N31: =((I31/K31)*L31)/200*'Calculatie schoonmaak invulblad'!$C$10 -> #DIV/0! | O31: =(I31/K31)*L31*'Calculatie schoonmaak invulblad'!$C$10 -> #DIV/0!
A32: Begane grond | B32: 0-E18 | C32: Theorielokaal | D32: Leslokaal | E32: Marmoleum | F32: Lino | G32: WP 2 | H32: 48 | I32: 48 | K32: ='Calculatie schoonmaak invulblad'!E62 -> 0 | L32: 100 | M32: =I32*L32 -> 4800 | N32: =((I32/K32)*L32)/200*'Calculatie schoonmaak invulblad'!$C$10 -> #DIV/0! | O32: =(I32/K32)*L32*'Calculatie schoonmaak invulblad'!$C$10 -> #DIV/0!
A33: Begane grond | B33: 0-E19 | C33: Beeldende vorming | D33: Praktijklokaal | E33: Marmoleum | F33: Lino | G33: WP 4 | H33: 101 | I33: 101 | K33: ='Calculatie schoonmaak invulblad'!K22 -> 0 | L33: 200 | M33: =I33*L33 -> 20200 | N33: =((I33/K33)*L33)/200*'Calculatie schoonmaak invulblad'!$C$10 -> #DIV/0! | O33: =(I33/K33)*L33*'Calculatie schoonmaak invulblad'!$C$10 -> #DIV/0!
A34: Begane grond | B34: 0-E21 | C34: Beeldende vorming | D34: Praktijklokaal | E34: Marmoleum | F34: Lino | G34: WP 4 | H34: 111 | I34: 111 | K34: ='Calculatie schoonmaak invulblad'!K22 -> 0 | L34: 200 | M34: =I34*L34 -> 22200 | N34: =((I34/K34)*L34)/200*'Calculatie schoonmaak invulblad'!$C$10 -> #DIV/0! | O34: =(I34/K34)*L34*'Calculatie schoonmaak invulblad'!$C$10 -> #DIV/0!
A35: Begane grond | B35: 0-E22 | C35: Personeelstoilet heren | D35: Sanitaire ruimte | E35: Anti-slip Coating | F35: Steen | G35: WP 7 | H35: 10 | I35: 10 | K35: ='Calculatie schoonmaak invulblad'!K38 -> 0 | L35: 200 | M35: =I35*L35 -> 2000 | N35: =((I35/K35)*L35)/200*'Calculatie schoonmaak invulblad'!$C$10 -> #DIV/0! | O35: =(I35/K35)*L35*'Calculatie schoonmaak invulblad'!$C$10 -> #DIV/0!
A36: Begane grond | B36: 0-G | C36: Verkeersruimte | D36: Verkeersruimte | E36: Marmoleum | F36: Lino | G36: WP 6 | H36: 55 | I36: 55 | K36: ='Calculatie schoonmaak invulblad'!K62 -> 0 | L36: 200 | M36: =I36*L36 -> 11000 | N36: =((I36/K36)*L36)/200*'Calculatie schoonmaak invulblad'!$C$10 -> #DIV/0! | O36: =(I36/K36)*L36*'Calculatie schoonmaak invulblad'!$C$10 -> #DIV/0!
A37: Begane grond | B37: 0-E28 | C37: Sportzaal | D37: Sportzaal | E37: Sportvloer | F37: PVC | G37: WP 10/11 | H37: 257 | I37: 257 | K37: =(('Calculatie schoonmaak invulblad'!K42*50)/65)+(('Calculatie schoonmaak invulblad'!K43*15)/65) -> 0 | L37: 65 | M37: =I37*L37 -> 16705 | N37: =((I37/K37)*L37)/200*'Calculatie schoonmaak invulblad'!$C$10 -> #DIV/0! | O37: =(I37/K37)*L37*'Calculatie schoonmaak invulblad'!$C$10 -> #DIV/0!
A38: Begane grond | B38: 0-E29 | C38: Sportzaal | D38: Sportzaal | E38: Sportvloer | F38: PVC | G38: WP 10/11 | H38: 257 | I38: 257 | K38: =(('Calculatie schoonmaak invulblad'!K42*50)/65)+(('Calculatie schoonmaak invulblad'!K43*15)/65) -> 0 | L38: 65 | M38: =I38*L38 -> 16705 | N38: =((I38/K38)*L38)/200*'Calculatie schoonmaak invulblad'!$C$10 -> #DIV/0! | O38: =(I38/K38)*L38*'Calculatie schoonmaak invulblad'!$C$10 -> #DIV/0!
A39: Begane grond | B39: 0-E30 | C39: Toestelberging | D39: Toestelberging | E39: Sportvloer | F39: PVC | G39: WP 10/11 | H39: 36 | I39: 36 | K39: =('Calculatie schoonmaak invulblad'!K45+'Calculatie schoonmaak invulblad'!K46)/2 -> 0 | L39: 2 | M39: =I39*L39 -> 72 | N39: =((I39/K39)*L39)/200*'Calculatie schoonmaak invulblad'!$C$10 -> #DIV/0! | O39: =(I39/K39)*L39*'Calculatie schoonmaak invulblad'!$C$10 -> #DIV/0!
A40: Begane grond | B40: 0-E31 | C40: Kleedruimte | D40: Kleedruimte | E40: Anti-slip Coating | F40: Steen | G40: WP 9 | H40: 21 | I40: 21 | K40: ='Calculatie schoonmaak invulblad'!E57 -> 0 | L40: 200 | M40: =I40*L40 -> 4200 | N40: =((I40/K40)*L40)/200*'Calculatie schoonmaak invulblad'!$C$10 -> #DIV/0! | O40: =(I40/K40)*L40*'Calculatie schoonmaak invulblad'!$C$10 -> #DIV/0!
A41: Begane grond | B41: 0-E32 | C41: Kleedruimte | D41: Kleedruimte | E41: Anti-slip Coating | F41: Steen | G41: WP 9 | H41: 16 | I41: 16 | K41: ='Calculatie schoonmaak invulblad'!E57 -> 0 | L41: 200 | M41: =I41*L41 -> 3200 | N41: =((I41/K41)*L41)/200*'Calculatie schoonmaak invulblad'!$C$10 -> #DIV/0! | O41: =(I41/K41)*L41*'Calculatie schoonmaak invulblad'!$C$10 -> #DIV/0!
A42: Begane grond | B42: 0-E33 | C42: Toilet dames | D42: Sanitaire ruimte | E42: Anti-slip Coating | F42: Steen | G42: WP 7 | H42: 2 | I42: 2 | K42: ='Calculatie schoonmaak invulblad'!K38 -> 0 | L42: 200 | M42: =I42*L42 -> 400 | N42: =((I42/K42)*L42)/200*'Calculatie schoonmaak invulblad'!$C$10 -> #DIV/0! | O42: =(I42/K42)*L42*'Calculatie schoonmaak invulblad'!$C$10 -> #DIV/0!
A43: Begane grond | B43: 0-E34 | C43: Toilet heren | D43: Sanitaire ruimte | E43: Anti-slip Coating | F43: Steen | G43: WP 7 | H43: 2 | I43: 2 | K43: ='Calculatie schoonmaak invulblad'!K38 -> 0 | L43: 200 | M43: =I43*L43 -> 400 | N43: =((I43/K43)*L43)/200*'Calculatie schoonmaak invulblad'!$C$10 -> #DIV/0! | O43: =(I43/K43)*L43*'Calculatie schoonmaak invulblad'!$C$10 -> #DIV/0!
A44: Begane grond | B44: 0-E35 | C44: Personeelsruimte | D44: Bureaukamer | E44: Marmoleum | F44: Lino | G44: WP 1 | H44: 8.5 | I44: 8.5 | K44: ='Calculatie schoonmaak invulblad'!E23 -> 0 | L44: 40 | M44: =I44*L44 -> 340 | N44: =((I44/K44)*L44)/200*'Calculatie schoonmaak invulblad'!$C$10 -> #DIV/0! | O44: =(I44/K44)*L44*'Calculatie schoonmaak invulblad'!$C$10 -> #DIV/0!
A45: Begane grond | B45: 0-E36 | C45: Douche docenten | D45: Doucheruimte | E45: Anti-slip Coating | F45: Steen | G45: WP 8 | H45: 2 | I45: 2 | K45: ='Calculatie schoonmaak invulblad'!E32 -> 0 | L45: 200 | M45: =I45*L45 -> 400 | N45: =((I45/K45)*L45)/200*'Calculatie schoonmaak invulblad'!$C$10 -> #DIV/0! | O45: =(I45/K45)*L45*'Calculatie schoonmaak invulblad'!$C$10 -> #DIV/0!
A46: Begane grond | B46: 0-E39 | C46: Kleedruimte | D46: Kleedruimte | E46: Anti-slip Coating | F46: Steen | G46: WP 9 | H46: 22 | I46: 22 | K46: ='Calculatie schoonmaak invulblad'!E57 -> 0 | L46: 200 | M46: =I46*L46 -> 4400 | N46: =((I46/K46)*L46)/200*'Calculatie schoonmaak invulblad'!$C$10 -> #DIV/0! | O46: =(I46/K46)*L46*'Calculatie schoonmaak invulblad'!$C$10 -> #DIV/0!
A47: Begane grond | B47: 0-E39a | C47: Wastafels | D47: Sanitaire ruimte | E47: Anti-slip Coating | F47: Steen | G47: WP 14 | H47: 5 | I47: 5 | K47: ='Calculatie schoonmaak invulblad'!E34 -> 0 | L47: 20 | M47: =I47*L47 -> 100 | N47: =((I47/K47)*L47)/200*'Calculatie schoonmaak invulblad'!$C$10 -> #DIV/0! | O47: =(I47/K47)*L47*'Calculatie schoonmaak invulblad'!$C$10 -> #DIV/0!
A48: Begane grond | B48: 0-E39b | C48: Douches | D48: Doucheruimte | E48: Anti-slip Coating | F48: Steen | G48: WP 14 | H48: 7 | I48: 7 | K48: ='Calculatie schoonmaak invulblad'!E34 -> 0 | L48: 20 | M48: =I48*L48 -> 140 | N48: =((I48/K48)*L48)/200*'Calculatie schoonmaak invulblad'!$C$10 -> #DIV/0! | O48: =(I48/K48)*L48*'Calculatie schoonmaak invulblad'!$C$10 -> #DIV/0!
A49: Begane grond | B49: 0-E38 | C49: Kleedruimte | D49: Kleedruimte | E49: Anti-slip Coating | F49: Steen | G49: WP 9 | H49: 28 | I49: 28 | K49: ='Calculatie schoonmaak invulblad'!E57 -> 0 | L49: 200 | M49: =I49*L49 -> 5600 | N49: =((I49/K49)*L49)/200*'Calculatie schoonmaak invulblad'!$C$10 -> #DIV/0! | O49: =(I49/K49)*L49*'Calculatie schoonmaak invulblad'!$C$10 -> #DIV/0!
A50: Begane grond | B50: 0-E38a | C50: Wastafels | D50: Sanitaire ruimte | E50: Anti-slip Coating | F50: Steen | G50: WP 14 | H50: 5 | I50: 5 | K50: ='Calculatie schoonmaak invulblad'!E34 -> 0 | L50: 20 | M50: =I50*L50 -> 100 | N50: =((I50/K50)*L50)/200*'Calculatie schoonmaak invulblad'!$C$10 -> #DIV/0! | O50: =(I50/K50)*L50*'Calculatie schoonmaak invulblad'!$C$10 -> #DIV/0!
A51: Begane grond | B51: 0-E38b | C51: Douches | D51: Doucheruimte | E51: Anti-slip Coating | F51: Steen | G51: WP 14 | H51: 11 | I51: 11 | K51: ='Calculatie schoonmaak invulblad'!E34 -> 0 | L51: 20 | M51: =I51*L51 -> 220 | N51: =((I51/K51)*L51)/200*'Calculatie schoonmaak invulblad'!$C$10 -> #DIV/0! | O51: =(I51/K51)*L51*'Calculatie schoonmaak invulblad'!$C$10 -> #DIV/0!
A52: Begane grond | B52: 0-E40 | C52: Toilet heren | D52: Sanitaire ruimte | E52: Anti-slip Coating | F52: Steen | G52: WP 7 | H52: 2 | I52: 2 | K52: ='Calculatie schoonmaak invulblad'!K38 -> 0 | L52: 200 | M52: =I52*L52 -> 400 | N52: =((I52/K52)*L52)/200*'Calculatie schoonmaak invulblad'!$C$10 -> #DIV/0! | O52: =(I52/K52)*L52*'Calculatie schoonmaak invulblad'!$C$10 -> #DIV/0!
A53: Begane grond | B53: 0-E41 | C53: Toilet docenten | D53: Sanitaire ruimte | E53: Anti-slip Coating | F53: Steen | G53: WP 7 | H53: 2 | I53: 2 | K53: ='Calculatie schoonmaak invulblad'!K38 -> 0 | L53: 200 | M53: =I53*L53 -> 400 | N53: =((I53/K53)*L53)/200*'Calculatie schoonmaak invulblad'!$C$10 -> #DIV/0! | O53: =(I53/K53)*L53*'Calculatie schoonmaak invulblad'!$C$10 -> #DIV/0!
A54: Begane grond | B54: 0-E42 | C54: Toestelberging | D54: Toestelberging | E54: Sportvloer | F54: PVC | G54: WP 10/11 | H54: 23 | I54: 23 | K54: =('Calculatie schoonmaak invulblad'!K45+'Calculatie schoonmaak invulblad'!K46)/2 -> 0 | L54: 2 | M54: =I54*L54 -> 46 | N54: =((I54/K54)*L54)/200*'Calculatie schoonmaak invulblad'!$C$10 -> #DIV/0! | O54: =(I54/K54)*L54*'Calculatie schoonmaak invulblad'!$C$10 -> #DIV/0!
A55: Begane grond | B55: 0-E45 | C55: Keuken | D55: Keuken/Pantry | E55: Bolidt | F55: Steen | G55: WP 3 | H55: 19 | I55: 19 | K55: ='Calculatie schoonmaak invulblad'!E51 -> 0 | L55: 200 | M55: =I55*L55 -> 3800 | N55: =((I55/K55)*L55)/200*'Calculatie schoonmaak invulblad'!$C$10 -> #DIV/0! | O55: =(I55/K55)*L55*'Calculatie schoonmaak invulblad'!$C$10 -> #DIV/0!
A56: 1e Verdieping | B56: 1-A | C56: Gang oost | D56: Verkeersruimte | E56: Marmoleum | F56: Lino | G56: WP 6 | H56: 153 | I56: 153 | K56: ='Calculatie schoonmaak invulblad'!K62 -> 0 | L56: 200 | M56: =I56*L56 -> 30600 | N56: =((I56/K56)*L56)/200*'Calculatie schoonmaak invulblad'!$C$10 -> #DIV/0! | O56: =(I56/K56)*L56*'Calculatie schoonmaak invulblad'!$C$10 -> #DIV/0!
A57: 1e Verdieping | B57: 1-B | C57: Optrede | D57: Trap(penhuis) | E57: Coating | F57: Steen | G57: WP 6 | H57: 10 | I57: 10 | K57: ='Calculatie schoonmaak invulblad'!K51 -> 0 | L57: 200 | M57: =I57*L57 -> 2000 | N57: =((I57/K57)*L57)/200*'Calculatie schoonmaak invulblad'!$C$10 -> #DIV/0! | O57: =(I57/K57)*L57*'Calculatie schoonmaak invulblad'!$C$10 -> #DIV/0!
A58: 1e Verdieping | B58: 1-F01 | C58: Collegezaal | D58: Leslokaal | E58: Marmoleum | F58: Lino | G58: WP 2 | H58: 22 | I58: 22 | K58: ='Calculatie schoonmaak invulblad'!E62 -> 0 | L58: 100 | M58: =I58*L58 -> 2200 | N58: =((I58/K58)*L58)/200*'Calculatie schoonmaak invulblad'!$C$10 -> #DIV/0! | O58: =(I58/K58)*L58*'Calculatie schoonmaak invulblad'!$C$10 -> #DIV/0!
A59: 1e Verdieping | B59: 1-F01 | C59: Collegezaal | D59: Leslokaal | E59: Anti-slip Coating | F59: Steen | G59: WP 2 | H59: 22 | I59: 22 | K59: ='Calculatie schoonmaak invulblad'!E63 -> 0 | L59: 100 | M59: =I59*L59 -> 2200 | N59: =((I59/K59)*L59)/200*'Calculatie schoonmaak invulblad'!$C$10 -> #DIV/0! | O59: =(I59/K59)*L59*'Calculatie schoonmaak invulblad'!$C$10 -> #DIV/0!
A60: 1e Verdieping | B60: 1-F04 | C60: Kabinet | D60: Kabinet | E60: Marmoleum | F60: Lino | G60: WP 15 | H60: 18 | I60: 0 | J60: 18 | K60: ='Calculatie schoonmaak invulblad'!E50 -> 0 | L60: 40 | M60: =I60*L60 -> 0 | N60: =((I60/K60)*L60)/200*'Calculatie schoonmaak invulblad'!$C$10 -> #DIV/0! | O60: =(I60/K60)*L60*'Calculatie schoonmaak invulblad'!$C$10 -> #DIV/0!
A61: 1e Verdieping | B61: 1-F05 | C61: Science | D61: Leslokaal | E61: Marmoleum | F61: Lino | G61: WP 2 | H61: 72 | I61: 72 | K61: ='Calculatie schoonmaak invulblad'!E62 -> 0 | L61: 100 | M61: =I61*L61 -> 7200 | N61: =((I61/K61)*L61)/200*'Calculatie schoonmaak invulblad'!$C$10 -> #DIV/0! | O61: =(I61/K61)*L61*'Calculatie schoonmaak invulblad'!$C$10 -> #DIV/0!
A62: 1e Verdieping | B62: 1-F06 | C62: Leslokaal | D62: Leslokaal | E62: Marmoleum | F62: Lino | G62: WP 2 | H62: 82 | I62: 82 | K62: ='Calculatie schoonmaak invulblad'!E62 -> 0 | L62: 100 | M62: =I62*L62 -> 8200 | N62: =((I62/K62)*L62)/200*'Calculatie schoonmaak invulblad'!$C$10 -> #DIV/0! | O62: =(I62/K62)*L62*'Calculatie schoonmaak invulblad'!$C$10 -> #DIV/0!
A63: 1e Verdieping | B63: 1-F07 | C63: Berging | D63: Overige ruimte | E63: Marmoleum | F63: Lino | G63: WP 12 | H63: 12 | I63: 0 | J63: 12 | K63: ='Calculatie schoonmaak invulblad'!E75 -> 0 | L63: 10 | M63: =I63*L63 -> 0 | N63: =((I63/K63)*L63)/200*'Calculatie schoonmaak invulblad'!$C$10 -> #DIV/0! | O63: =(I63/K63)*L63*'Calculatie schoonmaak invulblad'!$C$10 -> #DIV/0!
A64: 1e Verdieping | B64: 1-F08 | C64: Garderobe docenten | D64: Verkeersruimte | E64: Marmoleum | F64: Lino | G64: WP 6 | H64: 5 | I64: 0 | J64: 5 | K64: ='Calculatie schoonmaak invulblad'!K62 -> 0 | L64: 200 | M64: =I64*L64 -> 0 | N64: =((I64/K64)*L64)/200*'Calculatie schoonmaak invulblad'!$C$10 -> #DIV/0! | O64: =(I64/K64)*L64*'Calculatie schoonmaak invulblad'!$C$10 -> #DIV/0!
A65: 1e Verdieping | B65: 1-F09 | C65: Locatiedirecteur | D65: Bureaukamer | E65: Marmoleum | F65: Lino | G65: WP 1 | H65: 25 | I65: 0 | J65: 25 | K65: ='Calculatie schoonmaak invulblad'!E23 -> 0 | L65: 40 | M65: =I65*L65 -> 0 | N65: =((I65/K65)*L65)/200*'Calculatie schoonmaak invulblad'!$C$10 -> #DIV/0! | O65: =(I65/K65)*L65*'Calculatie schoonmaak invulblad'!$C$10 -> #DIV/0!
A66: 1e Verdieping | B66: 1-F10 | C66: Centrale directie | D66: Bureaukamer | E66: Marmoleum | F66: Lino | G66: WP 1 | H66: 25 | I66: 0 | J66: 25 | K66: ='Calculatie schoonmaak invulblad'!E23 -> 0 | L66: 40 | M66: =I66*L66 -> 0 | N66: =((I66/K66)*L66)/200*'Calculatie schoonmaak invulblad'!$C$10 -> #DIV/0! | O66: =(I66/K66)*L66*'Calculatie schoonmaak invulblad'!$C$10 -> #DIV/0!
A67: 1e Verdieping | B67: 1-F11 | C67: Zorgcoördinator | D67: Bureaukamer | E67: Marmoleum | F67: Lino | G67: WP 1 | H67: 25 | I67: 0 | J67: 25 | K67: ='Calculatie schoonmaak invulblad'!E23 -> 0 | L67: 40 | M67: =I67*L67 -> 0 | N67: =((I67/K67)*L67)/200*'Calculatie schoonmaak invulblad'!$C$10 -> #DIV/0! | O67: =(I67/K67)*L67*'Calculatie schoonmaak invulblad'!$C$10 -> #DIV/0!
A68: 1e Verdieping | B68: 1-C | C68: Dwarsgang | D68: Verkeersruimte | E68: Marmoleum | F68: Lino | G68: WP 6 | H68: 62 | I68: 62 | K68: ='Calculatie schoonmaak invulblad'!K62 -> 0 | L68: 200 | M68: =I68*L68 -> 12400 | N68: =((I68/K68)*L68)/200*'Calculatie schoonmaak invulblad'!$C$10 -> #DIV/0! | O68: =(I68/K68)*L68*'Calculatie schoonmaak invulblad'!$C$10 -> #DIV/0!
A69: 1e Verdieping | B69: 1-F12 | C69: Coördinatoren | D69: Bureaukamer | E69: Marmoleum | F69: Lino | G69: WP 1 | H69: 25 | I69: 0 | J69: 25 | K69: ='Calculatie schoonmaak invulblad'!E23 -> 0 | L69: 40 | M69: =I69*L69 -> 0 | N69: =((I69/K69)*L69)/200*'Calculatie schoonmaak invulblad'!$C$10 -> #DIV/0! | O69: =(I69/K69)*L69*'Calculatie schoonmaak invulblad'!$C$10 -> #DIV/0!
A70: 1e Verdieping | B70: 1-F13 | C70: Zorg en welzijn | D70: Leslokaal | E70: Marmoleum | F70: Lino | G70: WP 2 | H70: 132 | I70: 132 | K70: ='Calculatie schoonmaak invulblad'!E62 -> 0 | L70: 100 | M70: =I70*L70 -> 13200 | N70: =((I70/K70)*L70)/200*'Calculatie schoonmaak invulblad'!$C$10 -> #DIV/0! | O70: =(I70/K70)*L70*'Calculatie schoonmaak invulblad'!$C$10 -> #DIV/0!
A71: 1e Verdieping | B71: 1-F14 | C71: Zorg en welzijn | D71: Leslokaal | E71: Marmoleum | F71: Lino | G71: WP 2 | H71: 114 | I71: 114 | K71: ='Calculatie schoonmaak invulblad'!E62 -> 0 | L71: 100 | M71: =I71*L71 -> 11400 | N71: =((I71/K71)*L71)/200*'Calculatie schoonmaak invulblad'!$C$10 -> #DIV/0! | O71: =(I71/K71)*L71*'Calculatie schoonmaak invulblad'!$C$10 -> #DIV/0!
A72: 1e Verdieping | B72: 1-F15 | C72: Zorg en welzijn, keuken | D72: Praktijklokaal keuken | E72: Bolidt | F72: Steen | G72: WP 5 | H72: 112 | I72: 0 | J72: 112 | K72: ='Calculatie schoonmaak invulblad'!K30 -> 0 | L72: 200 | M72: =I72*L72 -> 0 | N72: =((I72/K72)*L72)/200*'Calculatie schoonmaak invulblad'!$C$10 -> #DIV/0! | O72: =(I72/K72)*L72*'Calculatie schoonmaak invulblad'!$C$10 -> #DIV/0!
A73: 1e Verdieping | B73: 1-F16 | C73: Restaurant | D73: Horecaruimte | E73: Bolidt | F73: Steen | G73: WP 3 | H73: 74 | I73: 0 | J73: 74 | K73: ='Calculatie schoonmaak invulblad'!E42 -> 0 | L73: 200 | M73: =I73*L73 -> 0 | N73: =((I73/K73)*L73)/200*'Calculatie schoonmaak invulblad'!$C$10 -> #DIV/0! | O73: =(I73/K73)*L73*'Calculatie schoonmaak invulblad'!$C$10 -> #DIV/0!
A74: 1e Verdieping | B74: 1-F18 | C74: Waskeuken | D74: Waskeuken | E74: Bolidt | F74: Steen | G74: WP 2 | H74: 21 | I74: 0 | J74: 21 | K74: ='Calculatie schoonmaak invulblad'!E64 -> 0 | L74: 100 | M74: =I74*L74 -> 0 | N74: =((I74/K74)*L74)/200*'Calculatie schoonmaak invulblad'!$C$10 -> #DIV/0! | O74: =(I74/K74)*L74*'Calculatie schoonmaak invulblad'!$C$10 -> #DIV/0!
A75: 1e Verdieping | B75: 1-F19 | C75: Zorg en welzijn, keuken | D75: Praktijklokaal keuken | E75: Bolidt | F75: Steen | G75: WP 5 | H75: 112 | I75: 0 | J75: 112 | K75: ='Calculatie schoonmaak invulblad'!K30 -> 0 | L75: 200 | M75: =I75*L75 -> 0 | N75: =((I75/K75)*L75)/200*'Calculatie schoonmaak invulblad'!$C$10 -> #DIV/0! | O75: =(I75/K75)*L75*'Calculatie schoonmaak invulblad'!$C$10 -> #DIV/0!
A76: 1e Verdieping | B76: 1-F20 | C76: Verzorging, keuken | D76: Praktijklokaal keuken | E76: Bolidt | F76: Steen | G76: WP 5 | H76: 130 | I76: 0 | J76: 130 | K76: ='Calculatie schoonmaak invulblad'!K30 -> 0 | L76: 200 | M76: =I76*L76 -> 0 | N76: =((I76/K76)*L76)/200*'Calculatie schoonmaak invulblad'!$C$10 -> #DIV/0! | O76: =(I76/K76)*L76*'Calculatie schoonmaak invulblad'!$C$10 -> #DIV/0!
A77: 1e Verdieping | B77: 1-F21 | C77: Muziek | D77: Leslokaal | E77: Marmoleum | F77: Lino | G77: WP 2 | H77: 71 | I77: 71 | K77: ='Calculatie schoonmaak invulblad'!E62 -> 0 | L77: 100 | M77: =I77*L77 -> 7100 | N77: =((I77/K77)*L77)/200*'Calculatie schoonmaak invulblad'!$C$10 -> #DIV/0! | O77: =(I77/K77)*L77*'Calculatie schoonmaak invulblad'!$C$10 -> #DIV/0!
A78: 1e Verdieping | B78: 1-F22 | C78: Mens en maatschappij | D78: Leslokaal | E78: Marmoleum | F78: Lino | G78: WP 2 | H78: 49 | I78: 49 | K78: ='Calculatie schoonmaak invulblad'!E62 -> 0 | L78: 100 | M78: =I78*L78 -> 4900 | N78: =((I78/K78)*L78)/200*'Calculatie schoonmaak invulblad'!$C$10 -> #DIV/0! | O78: =(I78/K78)*L78*'Calculatie schoonmaak invulblad'!$C$10 -> #DIV/0!
A79: 1e Verdieping | B79: 1-F23 | C79: Leerwerkhuis talen | D79: Leslokaal | E79: Marmoleum | F79: Lino | G79: WP 2 | H79: 75 | I79: 75 | K79: ='Calculatie schoonmaak invulblad'!E62 -> 0 | L79: 100 | M79: =I79*L79 -> 7500 | N79: =((I79/K79)*L79)/200*'Calculatie schoonmaak invulblad'!$C$10 -> #DIV/0! | O79: =(I79/K79)*L79*'Calculatie schoonmaak invulblad'!$C$10 -> #DIV/0!
A80: 1e Verdieping | B80: 1-F24 | C80: Mens en maatschappij | D80: Leslokaal | E80: Marmoleum | F80: Lino | G80: WP 2 | H80: 50 | I80: 50 | K80: ='Calculatie schoonmaak invulblad'!E62 -> 0 | L80: 100 | M80: =I80*L80 -> 5000 | N80: =((I80/K80)*L80)/200*'Calculatie schoonmaak invulblad'!$C$10 -> #DIV/0! | O80: =(I80/K80)*L80*'Calculatie schoonmaak invulblad'!$C$10 -> #DIV/0!
A81: 1e Verdieping | B81: 1-F25 | C81: Mens en maatschappij | D81: Leslokaal | E81: Marmoleum | F81: Lino | G81: WP 2 | H81: 50 | I81: 50 | K81: ='Calculatie schoonmaak invulblad'!E62 -> 0 | L81: 100 | M81: =I81*L81 -> 5000 | N81: =((I81/K81)*L81)/200*'Calculatie schoonmaak invulblad'!$C$10 -> #DIV/0! | O81: =(I81/K81)*L81*'Calculatie schoonmaak invulblad'!$C$10 -> #DIV/0!
A82: 1e Verdieping | B82: 1-F26 | C82: Collegezaal | D82: Leslokaal | E82: Marmoleum | F82: Lino | G82: WP 2 | H82: 29 | I82: 29 | K82: ='Calculatie schoonmaak invulblad'!E62 -> 0 | L82: 100 | M82: =I82*L82 -> 2900 | N82: =((I82/K82)*L82)/200*'Calculatie schoonmaak invulblad'!$C$10 -> #DIV/0! | O82: =(I82/K82)*L82*'Calculatie schoonmaak invulblad'!$C$10 -> #DIV/0!
A83: 1e Verdieping | B83: 1-F26 | C83: Collegezaal | D83: Leslokaal | E83: Coating | F83: Steen | G83: WP 2 | H83: 29 | I83: 29 | K83: ='Calculatie schoonmaak invulblad'!E64 -> 0 | L83: 100 | M83: =I83*L83 -> 2900 | N83: =((I83/K83)*L83)/200*'Calculatie schoonmaak invulblad'!$C$10 -> #DIV/0! | O83: =(I83/K83)*L83*'Calculatie schoonmaak invulblad'!$C$10 -> #DIV/0!
A84: 1e Verdieping | B84: 1-1-D | C84: Gang oost | D84: Verkeersruimte | E84: Marmoleum | F84: Lino | G84: WP 6 | H84: 139 | I84: 139 | K84: ='Calculatie schoonmaak invulblad'!K62 -> 0 | L84: 200 | M84: =I84*L84 -> 27800 | N84: =((I84/K84)*L84)/200*'Calculatie schoonmaak invulblad'!$C$10 -> #DIV/0! | O84: =(I84/K84)*L84*'Calculatie schoonmaak invulblad'!$C$10 -> #DIV/0!
A85: 1e Verdieping | B85: 1-E | C85: Optrede | D85: Trap(penhuis) | E85: Anti-slip Coating | F85: Steen | G85: WP 6 | H85: 10 | I85: 10 | K85: ='Calculatie schoonmaak invulblad'!K51 -> 0 | L85: 200 | M85: =I85*L85 -> 2000 | N85: =((I85/K85)*L85)/200*'Calculatie schoonmaak invulblad'!$C$10 -> #DIV/0! | O85: =(I85/K85)*L85*'Calculatie schoonmaak invulblad'!$C$10 -> #DIV/0!
A86: 1e Verdieping | B86: 1-F26 | C86: Toilet docenten dames | D86: Sanitaire ruimte | E86: Anti-slip Coating | F86: Steen | G86: WP 7 | H86: 9 | I86: 9 | K86: ='Calculatie schoonmaak invulblad'!K38 -> 0 | L86: 200 | M86: =I86*L86 -> 1800 | N86: =((I86/K86)*L86)/200*'Calculatie schoonmaak invulblad'!$C$10 -> #DIV/0! | O86: =(I86/K86)*L86*'Calculatie schoonmaak invulblad'!$C$10 -> #DIV/0!
A87: 1e Verdieping | B87: 1-F28 | C87: Toilet leerlingen dames | D87: Sanitaire ruimte | E87: Anti-slip Coating | F87: Steen | G87: WP 7 | H87: 11 | I87: 11 | K87: ='Calculatie schoonmaak invulblad'!K38 -> 0 | L87: 200 | M87: =I87*L87 -> 2200 | N87: =((I87/K87)*L87)/200*'Calculatie schoonmaak invulblad'!$C$10 -> #DIV/0! | O87: =(I87/K87)*L87*'Calculatie schoonmaak invulblad'!$C$10 -> #DIV/0!
A88: 1e Verdieping | B88: 1-F29 | C88: Toilet leerlingen heren | D88: Sanitaire ruimte | E88: Anti-slip Coating | F88: Steen | G88: WP 7 | H88: 11 | I88: 11 | K88: ='Calculatie schoonmaak invulblad'!K38 -> 0 | L88: 200 | M88: =I88*L88 -> 2200 | N88: =((I88/K88)*L88)/200*'Calculatie schoonmaak invulblad'!$C$10 -> #DIV/0! | O88: =(I88/K88)*L88*'Calculatie schoonmaak invulblad'!$C$10 -> #DIV/0!
A89: 1e Verdieping | B89: 1-F30 | C89: Copyruimte | D89: Repro | E89: Marmoleum | F89: Lino | G89: WP 1 | H89: 7 | I89: 0 | J89: 7 | K89: ='Calculatie schoonmaak invulblad'!K33 -> 0 | L89: 40 | M89: =I89*L89 -> 0 | N89: =((I89/K89)*L89)/200*'Calculatie schoonmaak invulblad'!$C$10 -> #DIV/0! | O89: =(I89/K89)*L89*'Calculatie schoonmaak invulblad'!$C$10 -> #DIV/0!
A90: 1e Verdieping | B90: 1-F31 | C90: Berging | D90: Overige ruimte | E90: Marmoleum | F90: Lino | G90: WP 12 | H90: 8 | I90: 0 | J90: 8 | K90: ='Calculatie schoonmaak invulblad'!E75 -> 0 | L90: 10 | M90: =I90*L90 -> 0 | N90: =((I90/K90)*L90)/200*'Calculatie schoonmaak invulblad'!$C$10 -> #DIV/0! | O90: =(I90/K90)*L90*'Calculatie schoonmaak invulblad'!$C$10 -> #DIV/0!
A91: 1e Verdieping | B91: 1-F32 | C91: Trap | D91: Trap(penhuis) | E91: Linoleum | F91: Lino | G91: WP 6 | H91: 2 | I91: 2 | K91: ='Calculatie schoonmaak invulblad'!K52 -> 0 | L91: 200 | M91: =I91*L91 -> 400 | N91: =((I91/K91)*L91)/200*'Calculatie schoonmaak invulblad'!$C$10 -> #DIV/0! | O91: =(I91/K91)*L91*'Calculatie schoonmaak invulblad'!$C$10 -> #DIV/0!
A92: 1e Verdieping | B92: 1-F | C92: Gang techniek west | D92: Verkeersruimte | E92: Marmoleum | F92: Lino | G92: WP 6 | H92: 140 | I92: 140 | K92: ='Calculatie schoonmaak invulblad'!K62 -> 0 | L92: 200 | M92: =I92*L92 -> 28000 | N92: =((I92/K92)*L92)/200*'Calculatie schoonmaak invulblad'!$C$10 -> #DIV/0! | O92: =(I92/K92)*L92*'Calculatie schoonmaak invulblad'!$C$10 -> #DIV/0!
A93: 1e Verdieping | B93: 1-G01 | C93: Techniek onderbouw | D93: Praktijklokaal | E93: Bolidt | F93: Steen | G93: WP 4 | H93: 99 | I93: 99 | K93: ='Calculatie schoonmaak invulblad'!K21 -> 0 | L93: 200 | M93: =I93*L93 -> 19800 | N93: =((I93/K93)*L93)/200*'Calculatie schoonmaak invulblad'!$C$10 -> #DIV/0! | O93: =(I93/K93)*L93*'Calculatie schoonmaak invulblad'!$C$10 -> #DIV/0!
A94: 1e Verdieping | B94: 1-G02 | C94: Computerruimte | D94: Leslokaal | E94: PVC | F94: Heterogeen Vinyl | G94: WP 2 | H94: 49 | I94: 49 | K94: ='Calculatie schoonmaak invulblad'!E65 -> 0 | L94: 100 | M94: =I94*L94 -> 4900 | N94: =((I94/K94)*L94)/200*'Calculatie schoonmaak invulblad'!$C$10 -> #DIV/0! | O94: =(I94/K94)*L94*'Calculatie schoonmaak invulblad'!$C$10 -> #DIV/0!
A95: 1e Verdieping | B95: 1-G05 | C95: Techniek onderbouw | D95: Praktijklokaal | E95: Bolidt | F95: Steen | G95: WP 4 | H95: 98 | I95: 98 | K95: ='Calculatie schoonmaak invulblad'!K21 -> 0 | L95: 200 | M95: =I95*L95 -> 19600 | N95: =((I95/K95)*L95)/200*'Calculatie schoonmaak invulblad'!$C$10 -> #DIV/0! | O95: =(I95/K95)*L95*'Calculatie schoonmaak invulblad'!$C$10 -> #DIV/0!
A96: 1e Verdieping | B96: 1-G06 | C96: Toilet leerlingen dames | D96: Sanitaire ruimte | E96: Anti-slip Coating | F96: Steen | G96: WP 7 | H96: 21 | I96: 21 | K96: ='Calculatie schoonmaak invulblad'!K38 -> 0 | L96: 200 | M96: =I96*L96 -> 4200 | N96: =((I96/K96)*L96)/200*'Calculatie schoonmaak invulblad'!$C$10 -> #DIV/0! | O96: =(I96/K96)*L96*'Calculatie schoonmaak invulblad'!$C$10 -> #DIV/0!
A97: 1e Verdieping | B97: 1-G09 | C97: Werkruimte docenten | D97: Bureaukamer | E97: Marmoleum | F97: Lino | G97: WP 1 | H97: 29 | I97: 0 | J97: 29 | K97: ='Calculatie schoonmaak invulblad'!E23 -> 0 | L97: 40 | M97: =I97*L97 -> 0 | N97: =((I97/K97)*L97)/200*'Calculatie schoonmaak invulblad'!$C$10 -> #DIV/0! | O97: =(I97/K97)*L97*'Calculatie schoonmaak invulblad'!$C$10 -> #DIV/0!
A98: 1e Verdieping | B98: 1-G10 | C98: Technohal | D98: Praktijklokaal | E98: Bolidt | F98: Steen | G98: WP 4 | H98: 633 | I98: 0 | J98: 633 | K98: ='Calculatie schoonmaak invulblad'!K21 -> 0 | L98: 200 | M98: =I98*L98 -> 0 | N98: =((I98/K98)*L98)/200*'Calculatie schoonmaak invulblad'!$C$10 -> #DIV/0! | O98: =(I98/K98)*L98*'Calculatie schoonmaak invulblad'!$C$10 -> #DIV/0!
A99: 1e Verdieping | B99: 1-G17 | C99: Schilderen | D99: Praktijklokaal | E99: Anti-slip Coating | F99: Steen | G99: WP 4 | H99: 16 | I99: 0 | J99: 16 | K99: ='Calculatie schoonmaak invulblad'!K24 -> 0 | L99: 200 | M99: =I99*L99 -> 0 | N99: =((I99/K99)*L99)/200*'Calculatie schoonmaak invulblad'!$C$10 -> #DIV/0! | O99: =(I99/K99)*L99*'Calculatie schoonmaak invulblad'!$C$10 -> #DIV/0!
A100: 1e Verdieping | B100: 1-G18 | C100: Mach. Houtbewerking | D100: Praktijklokaal | E100: Marmoleum | F100: Lino | G100: WP 4 | H100: 73 | I100: 0 | J100: 73 | K100: ='Calculatie schoonmaak invulblad'!K22 -> 0 | L100: 200 | M100: =I100*L100 -> 0 | N100: =((I100/K100)*L100)/200*'Calculatie schoonmaak invulblad'!$C$10 -> #DIV/0! | O100: =(I100/K100)*L100*'Calculatie schoonmaak invulblad'!$C$10 -> #DIV/0!
A101: 1e Verdieping | B101: 1-G21 | C101: Leerhuis Techniek | D101: Praktijklokaal | E101: Marmoleum | F101: Lino | G101: WP 4 | H101: 50 | I101: 50 | K101: ='Calculatie schoonmaak invulblad'!K22 -> 0 | L101: 200 | M101: =I101*L101 -> 10000 | N101: =((I101/K101)*L101)/200*'Calculatie schoonmaak invulblad'!$C$10 -> #DIV/0! | O101: =(I101/K101)*L101*'Calculatie schoonmaak invulblad'!$C$10 -> #DIV/0!
A102: 1e Verdieping | B102: 1-G22 | C102: Leerhuis Techniek | D102: Praktijklokaal | E102: Marmoleum | F102: Lino | G102: WP 4 | H102: 50 | I102: 50 | K102: ='Calculatie schoonmaak invulblad'!K22 -> 0 | L102: 200 | M102: =I102*L102 -> 10000 | N102: =((I102/K102)*L102)/200*'Calculatie schoonmaak invulblad'!$C$10 -> #DIV/0! | O102: =(I102/K102)*L102*'Calculatie schoonmaak invulblad'!$C$10 -> #DIV/0!
A103: 1e Verdieping | C103: Gang | D103: Verkeersruimte | E103: Bolidt | F103: Steen | G103: WP 6 | H103: 37 | I103: 37 | K103: ='Calculatie schoonmaak invulblad'!K58 -> 0 | L103: 200 | M103: =I103*L103 -> 7400 | N103: =((I103/K103)*L103)/200*'Calculatie schoonmaak invulblad'!$C$10 -> #DIV/0! | O103: =(I103/K103)*L103*'Calculatie schoonmaak invulblad'!$C$10 -> #DIV/0!
...

Sheet Grescollege Reuver
A2: Klant | B2: SOML | D2: Totaal m² in onderhoud (i.o) | E2: =I122 -> 1082.49 | G2: Kosten inzet vrijgesteld toezicht per dag | J2: =E6*'Calculatie schoonmaak invulblad'!C2 -> #DIV/0! | L2: Bedrijfsnaam Inschrijver | M2: ='Calculatie schoonmaak invulblad'!I9 -> 0
A3: Locatie | B3: Grescollege Reuver | D3: Totaal m² per jaar in onderhoud | E3: =M122 -> 162322 | G3: Kosten schoonmaak per dag | J3: =E4*'Calculatie schoonmaak invulblad'!C4 -> #DIV/0! | L3: Datum | M3: ='Calculatie schoonmaak invulblad'!I10 -> 0
A4: Adres locatie | B4: Keulseweg 36 5953HL Reuver | D4: Uren per dag schoonmaak | E4: =N122 -> #DIV/0! | G4: Kosten inzet vrijgesteld toezicht per jaar | J4: =E7*'Calculatie schoonmaak invulblad'!C2 -> #DIV/0! | L4: Plaats | M4: ='Calculatie schoonmaak invulblad'!I11 -> 0
D5: Uren per jaar schoonmaak | E5: =O122 -> #DIV/0! | G5: Kosten schoonmaak per jaar | J5: =E5*'Calculatie schoonmaak invulblad'!C4 -> #DIV/0! | L5: Handtekening | M5: ='Calculatie schoonmaak invulblad'!I12 -> 0
D6: Uren per dag vrijgesteld toezicht | E6: =('Calculatie schoonmaak invulblad'!C6*'Grescollege Reuver'!E4)/100 -> #DIV/0! | G6: Contractjaarprijs locatie BC Broekhin | J6: =J4+J5 -> #DIV/0!
D7: Uren per jaar vrijgesteld toezicht | E7: =('Calculatie schoonmaak invulblad'!C6*'Grescollege Reuver'!E5)/100 -> #DIV/0!
A10: Verdieping | B10: Ruimtenummer | C10: Omschrijving | D10: Ruimtesoort | E10: Vloersoort | F10: Vloergroep | G10: Werkprogramma | H10: Totaal m² | I10: In onderhoud (i.o.) | J10: Niet in onderhoud (n.i.o.) | K10: Prestatienorm | L10: Dagen per jaar | M10: Totaal m² per jaar | N10: Uren per dag | O10: Uren per jaar
A11: Begane grond | B11: A01 | C11: Instructielokaal | D11: Leslokaal | E11: Beton | F11: Steen | G11: WP 2 | H11: 89.04 | I11: 0 | J11: 89.04 | K11: ='Calculatie schoonmaak invulblad'!E64 -> 0 | L11: 100 | M11: =I11*L11 -> 0 | N11: =((I11/K11)*L11)/200*'Calculatie schoonmaak invulblad'!$C$11 -> #DIV/0! | O11: =I11/K11*L11*'Calculatie schoonmaak invulblad'!$C$11 -> #DIV/0!
A12: Begane grond | B12: A02 | C12: Receptie | D12: Bureaukamer | E12: Beton | F12: Steen | G12: WP 1 | H12: 51.18 | I12: 0 | J12: 51.18 | K12: ='Calculatie schoonmaak invulblad'!E21 -> 0 | L12: 40 | M12: =I12*L12 -> 0 | N12: =((I12/K12)*L12)/200*'Calculatie schoonmaak invulblad'!$C$11 -> #DIV/0! | O12: =I12/K12*L12*'Calculatie schoonmaak invulblad'!$C$11 -> #DIV/0!
A13: Begane grond | B13: A03 | C13: E.H.B.O.-ruimte | D13: E.H.B.O.-ruimte | E13: Beton | F13: Steen | G13: WP 1 | H13: 8.46 | I13: 0 | J13: 8.46 | K13: ='Calculatie schoonmaak invulblad'!E38 -> 0 | L13: 40 | M13: =I13*L13 -> 0 | N13: =((I13/K13)*L13)/200*'Calculatie schoonmaak invulblad'!$C$11 -> #DIV/0! | O13: =I13/K13*L13*'Calculatie schoonmaak invulblad'!$C$11 -> #DIV/0!
A14: Begane grond | B14: A04/05/06 | C14: Techniekplein | D14: Praktijklokaal | E14: Beton | F14: Steen | G14: WP 4 | H14: 378.25 | I14: 0 | J14: 378.25 | K14: ='Calculatie schoonmaak invulblad'!K21 -> 0 | L14: 200 | M14: =I14*L14 -> 0 | N14: =((I14/K14)*L14)/200*'Calculatie schoonmaak invulblad'!$C$11 -> #DIV/0! | O14: =I14/K14*L14*'Calculatie schoonmaak invulblad'!$C$11 -> #DIV/0!
A15: Begane grond | C15: Techniekplein docentenbordes | D15: Bureaukamer | E15: PVC | F15: Heterogeen Vinyl | G15: WP 1 | H15: 23.65 | I15: 0 | J15: 23.65 | K15: ='Calculatie schoonmaak invulblad'!E24 -> 0 | L15: 40 | M15: =I15*L15 -> 0 | N15: =((I15/K15)*L15)/200*'Calculatie schoonmaak invulblad'!$C$11 -> #DIV/0! | O15: =I15/K15*L15*'Calculatie schoonmaak invulblad'!$C$11 -> #DIV/0!
A16: Begane grond | C16: Techniekplein bordes techniek | D16: Praktijklokaal | E16: Hout | F16: Hout | G16: WP 4 | H16: 26.48 | I16: 0 | J16: 26.48 | K16: ='Calculatie schoonmaak invulblad'!K26 -> 0 | L16: 200 | M16: =I16*L16 -> 0 | N16: =((I16/K16)*L16)/200*'Calculatie schoonmaak invulblad'!$C$11 -> #DIV/0! | O16: =I16/K16*L16*'Calculatie schoonmaak invulblad'!$C$11 -> #DIV/0!
A17: Begane grond | C17: Trap metaal techniekplein | D17: Trap(penhuis) | E17: Metaal | F17: Metaal | G17: WP 6 | H17: 1.01 | I17: 0 | J17: 1.01 | K17: ='Calculatie schoonmaak invulblad'!K54 -> 0 | L17: 200 | M17: =I17*L17 -> 0 | N17: =((I17/K17)*L17)/200*'Calculatie schoonmaak invulblad'!$C$11 -> #DIV/0! | O17: =I17/K17*L17*'Calculatie schoonmaak invulblad'!$C$11 -> #DIV/0!
A18: Begane grond | C18: Techniek Houtbewerking | D18: Praktijklokaal | E18: Beton | F18: Steen | G18: WP 4 | H18: 76.03 | I18: 0 | J18: 76.03 | K18: ='Calculatie schoonmaak invulblad'!K21 -> 0 | L18: 200 | M18: =I18*L18 -> 0 | N18: =((I18/K18)*L18)/200*'Calculatie schoonmaak invulblad'!$C$11 -> #DIV/0! | O18: =I18/K18*L18*'Calculatie schoonmaak invulblad'!$C$11 -> #DIV/0!
A19: Begane grond | B19: A08 | C19: Magazijn Techniek | D19: Overige ruimte | E19: Beton | F19: Steen | G19: WP 12 | H19: 62.03 | I19: 0 | J19: 62.03 | K19: ='Calculatie schoonmaak invulblad'!E74 -> 0 | L19: 10 | M19: =I19*L19 -> 0 | N19: =((I19/K19)*L19)/200*'Calculatie schoonmaak invulblad'!$C$11 -> #DIV/0! | O19: =I19/K19*L19*'Calculatie schoonmaak invulblad'!$C$11 -> #DIV/0!
A20: Begane grond | B20: A09 | C20: Gedeeld Magazijn Restaurant | D20: Overige ruimte | E20: Beton | F20: Steen | G20: WP 12 | H20: 20.62 | I20: 0 | J20: 20.62 | K20: ='Calculatie schoonmaak invulblad'!E74 -> 0 | L20: 10 | M20: =I20*L20 -> 0 | N20: =((I20/K20)*L20)/200*'Calculatie schoonmaak invulblad'!$C$11 -> #DIV/0! | O20: =I20/K20*L20*'Calculatie schoonmaak invulblad'!$C$11 -> #DIV/0!
A21: Begane grond | B21: AU01 | C21: Entree | D21: Verkeersruimte | E21: Tapijt | F21: Tapijt | G21: WP 6 | H21: 14.23 | I21: 14.23 | K21: ='Calculatie schoonmaak invulblad'!K59 -> 0 | L21: 200 | M21: =I21*L21 -> 2846 | N21: =((I21/K21)*L21)/200*'Calculatie schoonmaak invulblad'!$C$11 -> #DIV/0! | O21: =I21/K21*L21*'Calculatie schoonmaak invulblad'!$C$11 -> #DIV/0!
A22: Begane grond | C22: Hal receptie | D22: Verkeersruimte | E22: Beton | F22: Steen | G22: WP 6 | H22: 61.92 | I22: 61.92 | K22: ='Calculatie schoonmaak invulblad'!K58 -> 0 | L22: 200 | M22: =I22*L22 -> 12384 | N22: =((I22/K22)*L22)/200*'Calculatie schoonmaak invulblad'!$C$11 -> #DIV/0! | O22: =I22/K22*L22*'Calculatie schoonmaak invulblad'!$C$11 -> #DIV/0!
A23: Begane grond | B23: AU02 | C23: Verdeler Procestechniek | D23: Overige ruimte | E23: Beton | F23: Steen | G23: WP 12 | H23: 1.17 | I23: 0 | J23: 1.17 | K23: ='Calculatie schoonmaak invulblad'!E74 -> 0 | L23: 10 | M23: =I23*L23 -> 0 | N23: =((I23/K23)*L23)/200*'Calculatie schoonmaak invulblad'!$C$11 -> #DIV/0! | O23: =I23/K23*L23*'Calculatie schoonmaak invulblad'!$C$11 -> #DIV/0!
A24: Begane grond | B24: AU03 | C24: Verdeler Techniek | D24: Overige ruimte | E24: Beton | F24: Steen | G24: WP 12 | H24: 0.8 | I24: 0 | J24: 0.8 | K24: ='Calculatie schoonmaak invulblad'!E74 -> 0 | L24: 10 | M24: =I24*L24 -> 0 | N24: =((I24/K24)*L24)/200*'Calculatie schoonmaak invulblad'!$C$11 -> #DIV/0! | O24: =I24/K24*L24*'Calculatie schoonmaak invulblad'!$C$11 -> #DIV/0!
A25: Begane grond | B25: AU04 | C25: Zolder Magazijn Techniek | D25: Overige ruimte | E25: Hout | F25: Hout | G25: WP 12 | H25: 24.61 | I25: 0 | J25: 24.61 | K25: ='Calculatie schoonmaak invulblad'!E78 -> 0 | L25: 10 | M25: =I25*L25 -> 0 | N25: =((I25/K25)*L25)/200*'Calculatie schoonmaak invulblad'!$C$11 -> #DIV/0! | O25: =I25/K25*L25*'Calculatie schoonmaak invulblad'!$C$11 -> #DIV/0!
A26: Begane grond | B26: AU05 | C26: C.V-ruimte Palletkachel | D26: Overige ruimte | E26: Beton | F26: Steen | G26: WP 12 | H26: 21.18 | I26: 0 | J26: 21.18 | K26: ='Calculatie schoonmaak invulblad'!E74 -> 0 | L26: 10 | M26: =I26*L26 -> 0 | N26: =((I26/K26)*L26)/200*'Calculatie schoonmaak invulblad'!$C$11 -> #DIV/0! | O26: =I26/K26*L26*'Calculatie schoonmaak invulblad'!$C$11 -> #DIV/0!
A27: Begane grond | B27: AU06 | C27: Poetkast | D27: Overige ruimte | E27: Beton | F27: Steen | G27: WP 12 | H27: 3.87 | I27: 0 | J27: 3.87 | K27: ='Calculatie schoonmaak invulblad'!E74 -> 0 | L27: 10 | M27: =I27*L27 -> 0 | N27: =((I27/K27)*L27)/200*'Calculatie schoonmaak invulblad'!$C$11 -> #DIV/0! | O27: =I27/K27*L27*'Calculatie schoonmaak invulblad'!$C$11 -> #DIV/0!
A28: Begane grond | C28: Gang lockers | D28: Verkeersruimte | E28: Beton | F28: Steen | G28: WP 6 | H28: 105 | I28: 105 | K28: ='Calculatie schoonmaak invulblad'!K58 -> 0 | L28: 200 | M28: =I28*L28 -> 21000 | N28: =((I28/K28)*L28)/200*'Calculatie schoonmaak invulblad'!$C$11 -> #DIV/0! | O28: =I28/K28*L28*'Calculatie schoonmaak invulblad'!$C$11 -> #DIV/0!
A29: Begane grond | C29: Gang lift restaurant | D29: Verkeersruimte | E29: Beton | F29: Steen | G29: WP 6 | H29: 84.35 | I29: 84.35 | K29: ='Calculatie schoonmaak invulblad'!K58 -> 0 | L29: 200 | M29: =I29*L29 -> 16870 | N29: =((I29/K29)*L29)/200*'Calculatie schoonmaak invulblad'!$C$11 -> #DIV/0! | O29: =I29/K29*L29*'Calculatie schoonmaak invulblad'!$C$11 -> #DIV/0!
A30: Begane grond | C30: Hoofdtrap spoorzijde | D30: Trap(penhuis) | E30: Beton | F30: Steen | G30: WP 6 | H30: 51.09 | I30: 51.09 | K30: ='Calculatie schoonmaak invulblad'!K49 -> 0 | L30: 200 | M30: =I30*L30 -> 10218 | N30: =((I30/K30)*L30)/200*'Calculatie schoonmaak invulblad'!$C$11 -> #DIV/0! | O30: =I30/K30*L30*'Calculatie schoonmaak invulblad'!$C$11 -> #DIV/0!
A31: Begane grond | C31: Hoofdtrap liftzijde | D31: Trap(penhuis) | E31: Beton | F31: Steen | G31: WP 6 | H31: 52.1 | I31: 52.1 | K31: ='Calculatie schoonmaak invulblad'!K49 -> 0 | L31: 200 | M31: =I31*L31 -> 10420 | N31: =((I31/K31)*L31)/200*'Calculatie schoonmaak invulblad'!$C$11 -> #DIV/0! | O31: =I31/K31*L31*'Calculatie schoonmaak invulblad'!$C$11 -> #DIV/0!
A32: Begane grond | C32: Trap palletkachel | D32: Trap(penhuis) | E32: Hout | F32: Hout | G32: WP 6 | H32: 4.34 | I32: 0 | J32: 4.34 | K32: ='Calculatie schoonmaak invulblad'!K57 -> 0 | L32: 200 | M32: =I32*L32 -> 0 | N32: =((I32/K32)*L32)/200*'Calculatie schoonmaak invulblad'!$C$11 -> #DIV/0! | O32: =I32/K32*L32*'Calculatie schoonmaak invulblad'!$C$11 -> #DIV/0!
A33: Begane grond | B33: B01 | C33: Zorg en Welzijn | D33: Praktijklokaal | E33: Beton | F33: Steen | G33: WP 4 | H33: 126.11 | I33: 0 | J33: 126.11 | K33: ='Calculatie schoonmaak invulblad'!K21 -> 0 | L33: 200 | M33: =I33*L33 -> 0 | N33: =((I33/K33)*L33)/200*'Calculatie schoonmaak invulblad'!$C$11 -> #DIV/0! | O33: =I33/K33*L33*'Calculatie schoonmaak invulblad'!$C$11 -> #DIV/0!
A34: Begane grond | B34: B02 | C34: Leerlingkeuken | D34: Praktijklokaal Keuken | E34: Beton | F34: Steen | G34: WP 5 | H34: 89.16 | I34: 0 | J34: 89.16 | K34: ='Calculatie schoonmaak invulblad'!K30 -> 0 | L34: 200 | M34: =I34*L34 -> 0 | N34: =((I34/K34)*L34)/200*'Calculatie schoonmaak invulblad'!$C$11 -> #DIV/0! | O34: =I34/K34*L34*'Calculatie schoonmaak invulblad'!$C$11 -> #DIV/0!
A35: Begane grond | B35: B03 | C35: Activityroom | D35: Horecaruimte | E35: Beton | F35: Steen | G35: WP 3 | H35: 183.25 | I35: 0 | J35: 183.25 | K35: ='Calculatie schoonmaak invulblad'!E42 -> 0 | L35: 200 | M35: =I35*L35 -> 0 | N35: =((I35/K35)*L35)/200*'Calculatie schoonmaak invulblad'!$C$11 -> #DIV/0! | O35: =I35/K35*L35*'Calculatie schoonmaak invulblad'!$C$11 -> #DIV/0!
A36: Begane grond | B36: B04 | C36: Restaurantkeuken | D36: Keuken/Pantry | E36: Beton | F36: Steen | G36: WP 5 | H36: 62.1 | I36: 0 | J36: 62.1 | K36: ='Calculatie schoonmaak invulblad'!K30 -> 0 | L36: 200 | M36: =I36*L36 -> 0 | N36: =((I36/K36)*L36)/200*'Calculatie schoonmaak invulblad'!$C$11 -> #DIV/0! | O36: =I36/K36*L36*'Calculatie schoonmaak invulblad'!$C$11 -> #DIV/0!
A37: Begane grond | B37: BU01 | C37: Herentoilet | D37: Sanitaire ruimte | E37: Beton | F37: Steen | G37: WP 7 | H37: 7.87 | I37: 0 | J37: 7.87 | K37: ='Calculatie schoonmaak invulblad'!K37 -> 0 | L37: 400 | M37: =I37*L37 -> 0 | N37: =((I37/K37)*L37)/200*'Calculatie schoonmaak invulblad'!$C$11 -> #DIV/0! | O37: =I37/K37*L37*'Calculatie schoonmaak invulblad'!$C$11 -> #DIV/0!
A38: Begane grond | B38: BU02 | C38: Mivatoilet | D38: Sanitaire ruimte | E38: Beton | F38: Steen | G38: WP 7 | H38: 6.41 | I38: 0 | J38: 6.41 | K38: ='Calculatie schoonmaak invulblad'!K37 -> 0 | L38: 400 | M38: =I38*L38 -> 0 | N38: =((I38/K38)*L38)/200*'Calculatie schoonmaak invulblad'!$C$11 -> #DIV/0! | O38: =I38/K38*L38*'Calculatie schoonmaak invulblad'!$C$11 -> #DIV/0!
A39: Begane grond | B39: BU03 | C39: Lift | D39: Lift | E39: Anti-slip coating | F39: Steen | G39: WP 6 | H39: 1.56 | I39: 0 | J39: 1.56 | K39: ='Calculatie schoonmaak invulblad'!E71 -> 0 | L39: 200 | M39: =I39*L39 -> 0 | N39: =((I39/K39)*L39)/200*'Calculatie schoonmaak invulblad'!$C$11 -> #DIV/0! | O39: =I39/K39*L39*'Calculatie schoonmaak invulblad'!$C$11 -> #DIV/0!
A40: Begane grond | B40: BU04 | C40: Damestoilet | D40: Sanitaire ruimte | E40: Beton | F40: Steen | G40: WP 7 | H40: 11.83 | I40: 0 | J40: 11.83 | K40: ='Calculatie schoonmaak invulblad'!K37 -> 0 | L40: 400 | M40: =I40*L40 -> 0 | N40: =((I40/K40)*L40)/200*'Calculatie schoonmaak invulblad'!$C$11 -> #DIV/0! | O40: =I40/K40*L40*'Calculatie schoonmaak invulblad'!$C$11 -> #DIV/0!
A41: Begane grond | B41: BU05 | C41: Verdeler bij lift | D41: Overige ruimte | E41: Beton | F41: Steen | G41: WP 12 | H41: 2.24 | I41: 0 | J41: 2.24 | K41: ='Calculatie schoonmaak invulblad'!E74 -> 0 | L41: 10 | M41: =I41*L41 -> 0 | N41: =((I41/K41)*L41)/200*'Calculatie schoonmaak invulblad'!$C$11 -> #DIV/0! | O41: =I41/K41*L41*'Calculatie schoonmaak invulblad'!$C$11 -> #DIV/0!
A42: Begane grond | B42: BU06 | C42: Magazijn leerlingenkeuken / boiler | D42: Overige ruimte | E42: Beton | F42: Steen | G42: WP 12 | H42: 9.42 | I42: 0 | J42: 9.42 | K42: ='Calculatie schoonmaak invulblad'!E74 -> 0 | L42: 10 | M42: =I42*L42 -> 0 | N42: =((I42/K42)*L42)/200*'Calculatie schoonmaak invulblad'!$C$11 -> #DIV/0! | O42: =I42/K42*L42*'Calculatie schoonmaak invulblad'!$C$11 -> #DIV/0!
A43: Begane grond | B43: BU07 | C43: Magazijn koelcel | D43: Overige ruimte | E43: Beton | F43: Steen | G43: WP 12 | H43: 18.33 | I43: 0 | J43: 18.33 | K43: ='Calculatie schoonmaak invulblad'!E74 -> 0 | L43: 10 | M43: =I43*L43 -> 0 | N43: =((I43/K43)*L43)/200*'Calculatie schoonmaak invulblad'!$C$11 -> #DIV/0! | O43: =I43/K43*L43*'Calculatie schoonmaak invulblad'!$C$11 -> #DIV/0!
A44: Begane grond | B44: BU08 | C44: Verdeler Activityroom | D44: Overige ruimte | E44: Beton | F44: Steen | G44: WP 12 | H44: 1.53 | I44: 0 | J44: 1.53 | K44: ='Calculatie schoonmaak invulblad'!E74 -> 0 | L44: 10 | M44: =I44*L44 -> 0 | N44: =((I44/K44)*L44)/200*'Calculatie schoonmaak invulblad'!$C$11 -> #DIV/0! | O44: =I44/K44*L44*'Calculatie schoonmaak invulblad'!$C$11 -> #DIV/0!
A45: Begane grond | B45: C01/02 | C45: Restaurant leerlingen | D45: Horecaruimte | E45: Beton | F45: Steen | G45: WP 3 | H45: 271.01 | I45: 0 | J45: 271.01 | K45: ='Calculatie schoonmaak invulblad'!E42 -> 0 | L45: 200 | M45: =I45*L45 -> 0 | N45: =((I45/K45)*L45)/200*'Calculatie schoonmaak invulblad'!$C$11 -> #DIV/0! | O45: =I45/K45*L45*'Calculatie schoonmaak invulblad'!$C$11 -> #DIV/0!
A46: Begane grond | B46: C02/03/04 | C46: Restaurant ovens | D46: Horecaruimte | E46: Beton | F46: Steen | G46: WP 3 | H46: 310.82 | I46: 0 | J46: 310.82 | K46: ='Calculatie schoonmaak invulblad'!E42 -> 0 | L46: 400 | M46: =I46*L46 -> 0 | N46: =((I46/K46)*L46)/200*'Calculatie schoonmaak invulblad'!$C$11 -> #DIV/0! | O46: =I46/K46*L46*'Calculatie schoonmaak invulblad'!$C$11 -> #DIV/0!
A47: Begane grond | B47: C03 | C47: Buffet van restaurant | D47: Keuken/Pantry | E47: Beton | F47: Steen | G47: WP 3 | H47: 32.17 | I47: 0 | J47: 32.17 | K47: ='Calculatie schoonmaak invulblad'!E51 -> 0 | L47: 200 | M47: =I47*L47 -> 0 | N47: =((I47/K47)*L47)/200*'Calculatie schoonmaak invulblad'!$C$11 -> #DIV/0! | O47: =I47/K47*L47*'Calculatie schoonmaak invulblad'!$C$11 -> #DIV/0!
A48: 1e Verdieping | B48: A1.1 | C48: ICT | D48: Bureaukamer | E48: Tapijt | F48: Tapijt | G48: WP 1 | H48: 18.63 | I48: 0 | J48: 18.63 | K48: ='Calculatie schoonmaak invulblad'!E22 -> 0 | L48: 40 | M48: =I48*L48 -> 0 | N48: =((I48/K48)*L48)/200*'Calculatie schoonmaak invulblad'!$C$11 -> #DIV/0! | O48: =I48/K48*L48*'Calculatie schoonmaak invulblad'!$C$11 -> #DIV/0!
A49: 1e Verdieping | B49: A1.2 | C49: Administratie | D49: Bureaukamer | E49: Tapijt | F49: Tapijt | G49: WP 1 | H49: 33.49 | I49: 0 | J49: 33.49 | K49: ='Calculatie schoonmaak invulblad'!E22 -> 0 | L49: 40 | M49: =I49*L49 -> 0 | N49: =((I49/K49)*L49)/200*'Calculatie schoonmaak invulblad'!$C$11 -> #DIV/0! | O49: =I49/K49*L49*'Calculatie schoonmaak invulblad'!$C$11 -> #DIV/0!
A50: 1e Verdieping | B50: A1.3 | C50: Kantoor Gebroeders Teeuwen | D50: Bureaukamer | E50: Tapijt | F50: Tapijt | G50: WP 1 | H50: 11.46 | I50: 0 | J50: 11.46 | K50: ='Calculatie schoonmaak invulblad'!E22 -> 0 | L50: 40 | M50: =I50*L50 -> 0 | N50: =((I50/K50)*L50)/200*'Calculatie schoonmaak invulblad'!$C$11 -> #DIV/0! | O50: =I50/K50*L50*'Calculatie schoonmaak invulblad'!$C$11 -> #DIV/0!
A51: 1e Verdieping | B51: A1.4 | C51: Kantoor Epica | D51: Bureaukamer | E51: Tapijt | F51: Tapijt | G51: WP 1 | H51: 15.46 | I51: 0 | J51: 15.46 | K51: ='Calculatie schoonmaak invulblad'!E22 -> 0 | L51: 40 | M51: =I51*L51 -> 0 | N51: =((I51/K51)*L51)/200*'Calculatie schoonmaak invulblad'!$C$11 -> #DIV/0! | O51: =I51/K51*L51*'Calculatie schoonmaak invulblad'!$C$11 -> #DIV/0!
A52: 1e Verdieping | B52: A1.5 | C52: Conferentieruimte Greswaren | D52: Bureaukamer | E52: Tapijt | F52: Tapijt | G52: WP 1 | H52: 19.88 | I52: 0 | J52: 19.88 | K52: ='Calculatie schoonmaak invulblad'!E22 -> 0 | L52: 40 | M52: =I52*L52 -> 0 | N52: =((I52/K52)*L52)/200*'Calculatie schoonmaak invulblad'!$C$11 -> #DIV/0! | O52: =I52/K52*L52*'Calculatie schoonmaak invulblad'!$C$11 -> #DIV/0!
A53: 1e Verdieping | B53: A1.6 | C53: Conferentieruimte Draaksteker | D53: Bureaukamer | E53: Tapijt | F53: Tapijt | G53: WP 1 | H53: 25.9 | I53: 0 | J53: 25.9 | K53: ='Calculatie schoonmaak invulblad'!E22 -> 0 | L53: 40 | M53: =I53*L53 -> 0 | N53: =((I53/K53)*L53)/200*'Calculatie schoonmaak invulblad'!$C$11 -> #DIV/0! | O53: =I53/K53*L53*'Calculatie schoonmaak invulblad'!$C$11 -> #DIV/0!
A54: 1e Verdieping | B54: A1.7 | C54: Conferentieruimte De Roover | D54: Bureaukamer | E54: PVC | F54: Heterogeen Vinyl | G54: WP 1 | H54: 85.48 | I54: 0 | J54: 85.48 | K54: ='Calculatie schoonmaak invulblad'!E24 -> 0 | L54: 40 | M54: =I54*L54 -> 0 | N54: =((I54/K54)*L54)/200*'Calculatie schoonmaak invulblad'!$C$11 -> #DIV/0! | O54: =I54/K54*L54*'Calculatie schoonmaak invulblad'!$C$11 -> #DIV/0!
A55: 1e Verdieping | B55: A1.8 | C55: Kantoortuin | D55: Bureaukamer | E55: Tapijt | F55: Tapijt | G55: WP 1 | H55: 211.88 | I55: 0 | J55: 211.88 | K55: ='Calculatie schoonmaak invulblad'!E22 -> 0 | L55: 40 | M55: =I55*L55 -> 0 | N55: =((I55/K55)*L55)/200*'Calculatie schoonmaak invulblad'!$C$11 -> #DIV/0! | O55: =I55/K55*L55*'Calculatie schoonmaak invulblad'!$C$11 -> #DIV/0!
A56: 1e Verdieping | B56: A1.8 | C56: Kantoortuin | D56: Bureaukamer | E56: PVC | F56: Heterogeen Vinyl | G56: WP 1 | H56: 16 | I56: 0 | J56: 16 | K56: ='Calculatie schoonmaak invulblad'!E24 -> 0 | L56: 40 | M56: =I56*L56 -> 0 | N56: =((I56/K56)*L56)/200*'Calculatie schoonmaak invulblad'!$C$11 -> #DIV/0! | O56: =I56/K56*L56*'Calculatie schoonmaak invulblad'!$C$11 -> #DIV/0!
A57: 1e Verdieping | B57: A1.9 | C57: Community ruimte treintje | D57: Bureaukamer | E57: Hout/PVC | F57: Hout/PVC | G57: WP 1 | H57: 38.09 | I57: 38.09 | K57: ='Calculatie schoonmaak invulblad'!E25 -> 0 | L57: 40 | M57: =I57*L57 -> 1523.6 | N57: =((I57/K57)*L57)/200*'Calculatie schoonmaak invulblad'!$C$11 -> #DIV/0! | O57: =I57/K57*L57*'Calculatie schoonmaak invulblad'!$C$11 -> #DIV/0!
A58: 1e Verdieping | B58: A1.10 | C58: Communityruimte de apenrots | D58: Bureaukamer | E58: Hout | F58: Hout | G58: WP 1 | H58: 44.37 | I58: 44.37 | K58: ='Calculatie schoonmaak invulblad'!E25 -> 0 | L58: 40 | M58: =I58*L58 -> 1774.8 | N58: =((I58/K58)*L58)/200*'Calculatie schoonmaak invulblad'!$C$11 -> #DIV/0! | O58: =I58/K58*L58*'Calculatie schoonmaak invulblad'!$C$11 -> #DIV/0!
A59: 1e Verdieping | B59: A1.11 | C59: Communityruimte kantoren midden | D59: Bureaukamer | E59: Hout | F59: Hout | G59: WP 1 | H59: 10.85 | I59: 10.85 | K59: ='Calculatie schoonmaak invulblad'!E25 -> 0 | L59: 40 | M59: =I59*L59 -> 434 | N59: =((I59/K59)*L59)/200*'Calculatie schoonmaak invulblad'!$C$11 -> #DIV/0! | O59: =I59/K59*L59*'Calculatie schoonmaak invulblad'!$C$11 -> #DIV/0!
A60: 1e Verdieping | B60: A1.12 | C60: Communityruimte kantoren midden | D60: Bureaukamer | E60: Hout | F60: Hout | G60: WP 1 | H60: 22.41 | I60: 22.41 | K60: ='Calculatie schoonmaak invulblad'!E25 -> 0 | L60: 40 | M60: =I60*L60 -> 896.4 | N60: =((I60/K60)*L60)/200*'Calculatie schoonmaak invulblad'!$C$11 -> #DIV/0! | O60: =I60/K60*L60*'Calculatie schoonmaak invulblad'!$C$11 -> #DIV/0!
A61: 1e Verdieping | B61: A1.13 | C61: Communityruimte kantoren liftzijde | D61: Bureaukamer | E61: Hout | F61: Hout | G61: WP 1 | H61: 17.8 | I61: 17.8 | K61: ='Calculatie schoonmaak invulblad'!E25 -> 0 | L61: 40 | M61: =I61*L61 -> 712 | N61: =((I61/K61)*L61)/200*'Calculatie schoonmaak invulblad'!$C$11 -> #DIV/0! | O61: =I61/K61*L61*'Calculatie schoonmaak invulblad'!$C$11 -> #DIV/0!
A62: 1e Verdieping | B62: A1.14 | C62: Communityruimte kantoren liftzijde | D62: Bureaukamer | E62: Hout | F62: Hout | G62: WP 1 | H62: 10.96 | I62: 10.96 | K62: ='Calculatie schoonmaak invulblad'!E25 -> 0 | L62: 40 | M62: =I62*L62 -> 438.4 | N62: =((I62/K62)*L62)/200*'Calculatie schoonmaak invulblad'!$C$11 -> #DIV/0! | O62: =I62/K62*L62*'Calculatie schoonmaak invulblad'!$C$11 -> #DIV/0!
A63: 1e Verdieping | B63: A1.15 | C63: Communityruimte kantoren spoorzijde | D63: Bureaukamer | E63: PVC | F63: Heterogeen Vinyl | G63: WP 1 | H63: 194.12 | I63: 194.12 | K63: ='Calculatie schoonmaak invulblad'!E24 -> 0 | L63: 40 | M63: =I63*L63 -> 7764.8 | N63: =((I63/K63)*L63)/200*'Calculatie schoonmaak invulblad'!$C$11 -> #DIV/0! | O63: =I63/K63*L63*'Calculatie schoonmaak invulblad'!$C$11 -> #DIV/0!
A64: 1e Verdieping | C64: WC kantoortuin | D64: Sanitaire ruimte | E64: Bolith | F64: Steen | G64: WP 7 | H64: 14.26 | I64: 0 | J64: 14.26 | K64: ='Calculatie schoonmaak invulblad'!K37 -> 0 | L64: 200 | M64: =I64*L64 -> 0 | N64: =((I64/K64)*L64)/200*'Calculatie schoonmaak invulblad'!$C$11 -> #DIV/0! | O64: =I64/K64*L64*'Calculatie schoonmaak invulblad'!$C$11 -> #DIV/0!
A65: 1e Verdieping | C65: Gang Communityruimte | D65: Verkeersruimte | E65: PVC | F65: Heterogeen Vinyl | G65: WP 6 | H65: 74.65 | I65: 74.65 | K65: ='Calculatie schoonmaak invulblad'!K63 -> 0 | L65: 200 | M65: =I65*L65 -> 14930 | N65: =((I65/K65)*L65)/200*'Calculatie schoonmaak invulblad'!$C$11 -> #DIV/0! | O65: =I65/K65*L65*'Calculatie schoonmaak invulblad'!$C$11 -> #DIV/0!
A66: 1e Verdieping | C66: Gang liftzijde 1e verdieping | D66: Verkeersruimte | E66: PVC | F66: Heterogeen Vinyl | G66: WP 6 | H66: 87.17 | I66: 87.17 | K66: ='Calculatie schoonmaak invulblad'!K63 -> 0 | L66: 200 | M66: =I66*L66 -> 17434 | N66: =((I66/K66)*L66)/200*'Calculatie schoonmaak invulblad'!$C$11 -> #DIV/0! | O66: =I66/K66*L66*'Calculatie schoonmaak invulblad'!$C$11 -> #DIV/0!
A67: 1e Verdieping | C67: Gang spoorzijde 1e etage | D67: Verkeersruimte | E67: PVC | F67: Heterogeen Vinyl | G67: WP 6 | H67: 67.16 | I67: 67.16 | K67: ='Calculatie schoonmaak invulblad'!K63 -> 0 | L67: 200 | M67: =I67*L67 -> 13432 | N67: =((I67/K67)*L67)/200*'Calculatie schoonmaak invulblad'!$C$11 -> #DIV/0! | O67: =I67/K67*L67*'Calculatie schoonmaak invulblad'!$C$11 -> #DIV/0!
A68: 1e Verdieping | B68: AU1.1 | C68: Archief administratie muurkast | D68: Overige ruimte | E68: Tapijt | F68: Tapijt | G68: WP 12 | H68: 5.87 | I68: 0 | J68: 5.87 | K68: ='Calculatie schoonmaak invulblad'!E76 -> 0 | L68: 10 | M68: =I68*L68 -> 0 | N68: =((I68/K68)*L68)/200*'Calculatie schoonmaak invulblad'!$C$11 -> #DIV/0! | O68: =I68/K68*L68*'Calculatie schoonmaak invulblad'!$C$11 -> #DIV/0!
A69: 1e Verdieping | B69: AU1.3 | C69: Verdeelkast kantorentuin | D69: Overige ruimte | E69: Beton | F69: Steen | G69: WP 12 | H69: 0.8 | I69: 0 | J69: 0.8 | K69: ='Calculatie schoonmaak invulblad'!E74 -> 0 | L69: 10 | M69: =I69*L69 -> 0 | N69: =((I69/K69)*L69)/200*'Calculatie schoonmaak invulblad'!$C$11 -> #DIV/0! | O69: =I69/K69*L69*'Calculatie schoonmaak invulblad'!$C$11 -> #DIV/0!
A70: 1e Verdieping | B70: AU1.4 | C70: Magazijn onder trap kantoortuin | D70: Overige ruimte | E70: Tapijt | F70: Tapijt | G70: WP 12 | H70: 5 | I70: 0 | J70: 5 | K70: ='Calculatie schoonmaak invulblad'!E76 -> 0 | L70: 10 | M70: =I70*L70 -> 0 | N70: =((I70/K70)*L70)/200*'Calculatie schoonmaak invulblad'!$C$11 -> #DIV/0! | O70: =I70/K70*L70*'Calculatie schoonmaak invulblad'!$C$11 -> #DIV/0!
A71: 1e Verdieping | B71: B1.1 | C71: Examenlokaal | D71: Leslokaal | E71: PVC | F71: Heterogeen Vinyl | G71: WP 2 | H71: 63.78 | I71: 0 | J71: 63.78 | K71: ='Calculatie schoonmaak invulblad'!E65 -> 0 | L71: 100 | M71: =I71*L71 -> 0 | N71: =((I71/K71)*L71)/200*'Calculatie schoonmaak invulblad'!$C$11 -> #DIV/0! | O71: =I71/K71*L71*'Calculatie schoonmaak invulblad'!$C$11 -> #DIV/0!
A72: 1e Verdieping | B72: B1.2 | C72: Examenlokaal | D72: Leslokaal | E72: PVC | F72: Heterogeen Vinyl | G72: WP 2 | H72: 61.18 | I72: 0 | J72: 61.18 | K72: ='Calculatie schoonmaak invulblad'!E65 -> 0 | L72: 100 | M72: =I72*L72 -> 0 | N72: =((I72/K72)*L72)/200*'Calculatie schoonmaak invulblad'!$C$11 -> #DIV/0! | O72: =I72/K72*L72*'Calculatie schoonmaak invulblad'!$C$11 -> #DIV/0!
A73: 1e Verdieping | B73: B1.3 | C73: Orthopedagoog | D73: Bureaukamer | E73: PVC | F73: Heterogeen Vinyl | G73: WP 1 | H73: 45.54 | I73: 0 | J73: 45.54 | K73: ='Calculatie schoonmaak invulblad'!E24 -> 0 | L73: 40 | M73: =I73*L73 -> 0 | N73: =((I73/K73)*L73)/200*'Calculatie schoonmaak invulblad'!$C$11 -> #DIV/0! | O73: =I73/K73*L73*'Calculatie schoonmaak invulblad'!$C$11 -> #DIV/0!
A74: 1e Verdieping | B74: B1.4 | C74: Rust en stilteruimte | D74: Horecaruimte | E74: PVC | F74: Heterogeen Vinyl | G74: WP 3 | H74: 68.81 | I74: 0 | J74: 68.81 | K74: ='Calculatie schoonmaak invulblad'!E46 -> 0 | L74: 200 | M74: =I74*L74 -> 0 | N74: =((I74/K74)*L74)/200*'Calculatie schoonmaak invulblad'!$C$11 -> #DIV/0! | O74: =I74/K74*L74*'Calculatie schoonmaak invulblad'!$C$11 -> #DIV/0!
A75: 1e Verdieping | B75: BU1.1 | C75: Herentoilet | D75: Sanitaire ruimte | E75: Bolith | F75: Steen | G75: WP 7 | H75: 10.23 | I75: 0 | J75: 10.23 | K75: ='Calculatie schoonmaak invulblad'!K37 -> 0 | L75: 200 | M75: =I75*L75 -> 0 | N75: =((I75/K75)*L75)/200*'Calculatie schoonmaak invulblad'!$C$11 -> #DIV/0! | O75: =I75/K75*L75*'Calculatie schoonmaak invulblad'!$C$11 -> #DIV/0!
A76: 1e Verdieping | B76: BU1.2 | C76: Mivatoilet | D76: Sanitaire ruimte | E76: Bolith | F76: Steen | G76: WP 7 | H76: 5.18 | I76: 0 | J76: 5.18 | K76: ='Calculatie schoonmaak invulblad'!K37 -> 0 | L76: 200 | M76: =I76*L76 -> 0 | N76: =((I76/K76)*L76)/200*'Calculatie schoonmaak invulblad'!$C$11 -> #DIV/0! | O76: =I76/K76*L76*'Calculatie schoonmaak invulblad'!$C$11 -> #DIV/0!
A77: 1e Verdieping | B77: BU1.3 | C77: Damestoilet | D77: Sanitaire ruimte | E77: Bolith | F77: Steen | G77: WP 7 | H77: 12.28 | I77: 0 | J77: 12.28 | K77: ='Calculatie schoonmaak invulblad'!K37 -> 0 | L77: 200 | M77: =I77*L77 -> 0 | N77: =((I77/K77)*L77)/200*'Calculatie schoonmaak invulblad'!$C$11 -> #DIV/0! | O77: =I77/K77*L77*'Calculatie schoonmaak invulblad'!$C$11 -> #DIV/0!
A78: 1e Verdieping | B78: BU1.4 | C78: Poetskast | D78: Overige ruimte | E78: Bolith | F78: Steen | G78: WP 12 | H78: 9.25 | I78: 0 | J78: 9.25 | K78: ='Calculatie schoonmaak invulblad'!E74 -> 0 | L78: 10 | M78: =I78*L78 -> 0 | N78: =((I78/K78)*L78)/200*'Calculatie schoonmaak invulblad'!$C$11 -> #DIV/0! | O78: =I78/K78*L78*'Calculatie schoonmaak invulblad'!$C$11 -> #DIV/0!
A79: 1e Verdieping | B79: BU1.5 | C79: Luchtbehandelingskamer | D79: Overige ruimte | E79: Beton | F79: Steen | G79: WP 12 | H79: 115.89 | I79: 0 | J79: 115.89 | K79: ='Calculatie schoonmaak invulblad'!E74 -> 0 | L79: 10 | M79: =I79*L79 -> 0 | N79: =((I79/K79)*L79)/200*'Calculatie schoonmaak invulblad'!$C$11 -> #DIV/0! | O79: =I79/K79*L79*'Calculatie schoonmaak invulblad'!$C$11 -> #DIV/0!
A80: 1e Verdieping | B80: BU1.6 | C80: Verdelerkast | D80: Overige ruimte | E80: Beton | F80: Steen | G80: WP 12 | H80: 1.39 | I80: 0 | J80: 1.39 | K80: ='Calculatie schoonmaak invulblad'!E74 -> 0 | L80: 10 | M80: =I80*L80 -> 0 | N80: =((I80/K80)*L80)/200*'Calculatie schoonmaak invulblad'!$C$11 -> #DIV/0! | O80: =I80/K80*L80*'Calculatie schoonmaak invulblad'!$C$11 -> #DIV/0!
A81: 1e Verdieping | B81: BU1.7 | C81: Patchkast | D81: Overige ruimte | E81: PVC | F81: Heterogeen Vinyl | G81: WP 12 | H81: 6.35 | I81: 0 | J81: 6.35 | K81: ='Calculatie schoonmaak invulblad'!E77 -> 0 | L81: 10 | M81: =I81*L81 -> 0 | N81: =((I81/K81)*L81)/200*'Calculatie schoonmaak invulblad'!$C$11 -> #DIV/0! | O81: =I81/K81*L81*'Calculatie schoonmaak invulblad'!$C$11 -> #DIV/0!
A82: 1e Verdieping | B82: C1.1 | C82: Instructieruimte m&m | D82: Leslokaal | E82: PVC | F82: Heterogeen Vinyl | G82: WP 2 | H82: 26.25 | I82: 0 | J82: 26.25 | K82: ='Calculatie schoonmaak invulblad'!E65 -> 0 | L82: 100 | M82: =I82*L82 -> 0 | N82: =((I82/K82)*L82)/200*'Calculatie schoonmaak invulblad'!$C$11 -> #DIV/0! | O82: =I82/K82*L82*'Calculatie schoonmaak invulblad'!$C$11 -> #DIV/0!
A83: 1e Verdieping | B83: C1.2 | C83: Paviljoen m&m | D83: Leslokaal | E83: PVC | F83: Heterogeen Vinyl | G83: WP 2 | H83: 233.27 | I83: 0 | J83: 233.27 | K83: ='Calculatie schoonmaak invulblad'!E65 -> 0 | L83: 100 | M83: =I83*L83 -> 0 | N83: =((I83/K83)*L83)/200*'Calculatie schoonmaak invulblad'!$C$11 -> #DIV/0! | O83: =I83/K83*L83*'Calculatie schoonmaak invulblad'!$C$11 -> #DIV/0!
A84: 1e Verdieping | B84: C1.3 | C84: Instructieruimte m&m | D84: Leslokaal | E84: PVC | F84: Heterogeen Vinyl | G84: WP 2 | H84: 52.88 | I84: 0 | J84: 52.88 | K84: ='Calculatie schoonmaak invulblad'!E65 -> 0 | L84: 100 | M84: =I84*L84 -> 0 | N84: =((I84/K84)*L84)/200*'Calculatie schoonmaak invulblad'!$C$11 -> #DIV/0! | O84: =I84/K84*L84*'Calculatie schoonmaak invulblad'!$C$11 -> #DIV/0!
A85: 1e Verdieping | B85: C1.4 | C85: Instructieruimte talen | D85: Leslokaal | E85: PVC | F85: Heterogeen Vinyl | G85: WP 2 | H85: 52.88 | I85: 0 | J85: 52.88 | K85: ='Calculatie schoonmaak invulblad'!E65 -> 0 | L85: 100 | M85: =I85*L85 -> 0 | N85: =((I85/K85)*L85)/200*'Calculatie schoonmaak invulblad'!$C$11 -> #DIV/0! | O85: =I85/K85*L85*'Calculatie schoonmaak invulblad'!$C$11 -> #DIV/0!
A86: 1e Verdieping | B86: C1.5 | C86: Paviljoen talen | D86: Leslokaal | E86: PVC | F86: Heterogeen Vinyl | G86: WP 2 | H86: 172.65 | I86: 0 | J86: 172.65 | K86: ='Calculatie schoonmaak invulblad'!E65 -> 0 | L86: 100 | M86: =I86*L86 -> 0 | N86: =((I86/K86)*L86)/200*'Calculatie schoonmaak invulblad'!$C$11 -> #DIV/0! | O86: =I86/K86*L86*'Calculatie schoonmaak invulblad'!$C$11 -> #DIV/0!
A87: 1e Verdieping | B87: C1.6 | C87: Instructieruimte talen | D87: Leslokaal | E87: PVC | F87: Heterogeen Vinyl | G87: WP 2 | H87: 25 | I87: 0 | J87: 25 | K87: ='Calculatie schoonmaak invulblad'!E65 -> 0 | L87: 100 | M87: =I87*L87 -> 0 | N87: =((I87/K87)*L87)/200*'Calculatie schoonmaak invulblad'!$C$11 -> #DIV/0! | O87: =I87/K87*L87*'Calculatie schoonmaak invulblad'!$C$11 -> #DIV/0!
A88: 1e Verdieping | C88: Hoofdtrap Liftzijde 1e verdieping | D88: Trap(penhuis) | E88: Metaal | F88: Metaal | G88: WP 6 | H88: 11.69 | I88: 11.69 | K88: ='Calculatie schoonmaak invulblad'!K54 -> 0 | L88: 200 | M88: =I88*L88 -> 2338 | N88: =((I88/K88)*L88)/200*'Calculatie schoonmaak invulblad'!$C$11 -> #DIV/0! | O88: =I88/K88*L88*'Calculatie schoonmaak invulblad'!$C$11 -> #DIV/0!
A89: 1e Verdieping | C89: Hoofdtrap Spoorzijde 1e verdieping | D89: Trap(penhuis) | E89: Metaal | F89: Metaal | G89: WP 6 | H89: 11.71 | I89: 11.71 | K89: ='Calculatie schoonmaak invulblad'!K54 -> 0 | L89: 200 | M89: =I89*L89 -> 2342 | N89: =((I89/K89)*L89)/200*'Calculatie schoonmaak invulblad'!$C$11 -> #DIV/0! | O89: =I89/K89*L89*'Calculatie schoonmaak invulblad'!$C$11 -> #DIV/0!
A90: 1e Verdieping | C90: Noodtrap 1e verdieping | D90: Trap(penhuis) | E90: Tapijt | F90: Tapijt | G90: WP 6 | H90: 11.5 | I90: 0 | J90: 11.5 | K90: ='Calculatie schoonmaak invulblad'!K55 -> 0 | L90: 200 | M90: =I90*L90 -> 0 | N90: =((I90/K90)*L90)/200*'Calculatie schoonmaak invulblad'!$C$11 -> #DIV/0! | O90: =I90/K90*L90*'Calculatie schoonmaak invulblad'!$C$11 -> #DIV/0!
A91: 1e Verdieping | C91: Trap naar personeelsruimte | D91: Trap(penhuis) | E91: Tapijt | F91: Tapijt | G91: WP 6 | H91: 8.53 | I91: 0 | J91: 8.53 | K91: ='Calculatie schoonmaak invulblad'!K55 -> 0 | L91: 200 | M91: =I91*L91 -> 0 | N91: =((I91/K91)*L91)/200*'Calculatie schoonmaak invulblad'!$C$11 -> #DIV/0! | O91: =I91/K91*L91*'Calculatie schoonmaak invulblad'!$C$11 -> #DIV/0!
A92: 2e Verdieping | C92: Gang liftzijde 2e etage | D92: Verkeersruimte | E92: PVC | F92: Heterogeen Vinyl | G92: WP 6 | H92: 63.55 | I92: 63.55 | K92: ='Calculatie schoonmaak invulblad'!K63 -> 0 | L92: 200 | M92: =I92*L92 -> 12710 | N92: =((I92/K92)*L92)/200*'Calculatie schoonmaak invulblad'!$C$11 -> #DIV/0! | O92: =I92/K92*L92*'Calculatie schoonmaak invulblad'!$C$11 -> #DIV/0!
A93: 2e Verdieping | C93: Gang spoorzijde 2e etage | D93: Verkeersruimte | E93: PVC | F93: Heterogeen Vinyl | G93: WP 6 | H93: 59.27 | I93: 59.27 | K93: ='Calculatie schoonmaak invulblad'!K63 -> 0 | L93: 200 | M93: =I93*L93 -> 11854 | N93: =((I93/K93)*L93)/200*'Calculatie schoonmaak invulblad'!$C$11 -> #DIV/0! | O93: =I93/K93*L93*'Calculatie schoonmaak invulblad'!$C$11 -> #DIV/0!
A94: 2e Verdieping | B94: A2.1 | C94: Gespreksruimte in de personeelsruimte | D94: Bureaukamer | E94: Tapijt | F94: Tapijt | G94: WP 1 | H94: 10 | I94: 0 | J94: 10 | K94: ='Calculatie schoonmaak invulblad'!E22 -> 0 | L94: 40 | M94: =I94*L94 -> 0 | N94: =((I94/K94)*L94)/200*'Calculatie schoonmaak invulblad'!$C$11 -> #DIV/0! | O94: =I94/K94*L94*'Calculatie schoonmaak invulblad'!$C$11 -> #DIV/0!
A95: 2e Verdieping | B95: A2.2 | C95: Personeelsruimte | D95: Horecaruimte | E95: Tapijt | F95: Tapijt | G95: WP 3 | H95: 129.6 | I95: 0 | J95: 129.6 | K95: ='Calculatie schoonmaak invulblad'!E44 -> 0 | L95: 200 | M95: =I95*L95 -> 0 | N95: =((I95/K95)*L95)/200*'Calculatie schoonmaak invulblad'!$C$11 -> #DIV/0! | O95: =I95/K95*L95*'Calculatie schoonmaak invulblad'!$C$11 -> #DIV/0!
A96: 2e Verdieping | B96: A2.3 | C96: Gespreksruimte personeelsruimte spoorzijde | D96: Bureaukamer | E96: Tapijt | F96: Tapijt | G96: WP 1 | H96: 16.15 | I96: 0 | J96: 16.15 | K96: ='Calculatie schoonmaak invulblad'!E22 -> 0 | L96: 40 | M96: =I96*L96 -> 0 | N96: =((I96/K96)*L96)/200*'Calculatie schoonmaak invulblad'!$C$11 -> #DIV/0! | O96: =I96/K96*L96*'Calculatie schoonmaak invulblad'!$C$11 -> #DIV/0!
A97: 2e Verdieping | B97: AU2.1 | C97: Archief | D97: Overige ruimte | E97: PVC | F97: Heterogeen Vinyl | G97: WP 12 | H97: 126.52 | I97: 0 | J97: 126.52 | K97: ='Calculatie schoonmaak invulblad'!E77 -> 0 | L97: 10 | M97: =I97*L97 -> 0 | N97: =((I97/K97)*L97)/200*'Calculatie schoonmaak invulblad'!$C$11 -> #DIV/0! | O97: =I97/K97*L97*'Calculatie schoonmaak invulblad'!$C$11 -> #DIV/0!
A98: 2e Verdieping | B98: BU2.1 | C98: Poetskast | D98: Overige ruimte | E98: PVC | F98: Heterogeen Vinyl | G98: WP 12 | H98: 10.11 | I98: 0 | J98: 10.11 | K98: ='Calculatie schoonmaak invulblad'!E77 -> 0 | L98: 10 | M98: =I98*L98 -> 0 | N98: =((I98/K98)*L98)/200*'Calculatie schoonmaak invulblad'!$C$11 -> #DIV/0! | O98: =I98/K98*L98*'Calculatie schoonmaak invulblad'!$C$11 -> #DIV/0!
A99: 2e Verdieping | B99: BU2.2 | C99: Opslag liftzijde | D99: Overige ruimte | E99: Hout | F99: Hout | G99: WP 12 | H99: 38.66 | I99: 0 | J99: 38.66 | K99: ='Calculatie schoonmaak invulblad'!E78 -> 0 | L99: 10 | M99: =I99*L99 -> 0 | N99: =((I99/K99)*L99)/200*'Calculatie schoonmaak invulblad'!$C$11 -> #DIV/0! | O99: =I99/K99*L99*'Calculatie schoonmaak invulblad'!$C$11 -> #DIV/0!
A100: 2e Verdieping | B100: BU2.3 | C100: Herentoilet | D100: Sanitaire ruimte | E100: PVC | F100: Heterogeen Vinyl | G100: WP 7 | H100: 8.08 | I100: 0 | J100: 8.08 | K100: ='Calculatie schoonmaak invulblad'!K36 -> 0 | L100: 200 | M100: =I100*L100 -> 0 | N100: =((I100/K100)*L100)/200*'Calculatie schoonmaak invulblad'!$C$11 -> #DIV/0! | O100: =I100/K100*L100*'Calculatie schoonmaak invulblad'!$C$11 -> #DIV/0!
A101: 2e Verdieping | B101: BU2.4 | C101: Damestoilet | D101: Sanitaire ruimte | E101: PVC | F101: Heterogeen Vinyl | G101: WP 7 | H101: 8.87 | I101: 0 | J101: 8.87 | K101: ='Calculatie schoonmaak invulblad'!K36 -> 0 | L101: 200 | M101: =I101*L101 -> 0 | N101: =((I101/K101)*L101)/200*'Calculatie schoonmaak invulblad'!$C$11 -> #DIV/0! | O101: =I101/K101*L101*'Calculatie schoonmaak invulblad'!$C$11 -> #DIV/0!
A102: 2e Verdieping | B102: BU2.5 | C102: Vleermuiszolder | D102: Overige ruimte | E102: Hout | F102: Hout | G102: WP 12 | H102: 124.16 | I102: 0 | J102: 124.16 | K102: ='Calculatie schoonmaak invulblad'!E78 -> 0 | L102: 10 | M102: =I102*L102 -> 0 | N102: =((I102/K102)*L102)/200*'Calculatie schoonmaak invulblad'!$C$11 -> #DIV/0! | O102: =I102/K102*L102*'Calculatie schoonmaak invulblad'!$C$11 -> #DIV/0!
A103: 2e Verdieping | B103: BU2.6 | C103: Opslag Gresbuus | D103: Overige ruimte | E103: Hout | F103: Hout | G103: WP 12 | H103: 23.48 | I103: 0 | J103: 23.48 | K103: ='Calculatie schoonmaak invulblad'!E78 -> 0 | L103: 10 | M103: =I103*L103 -> 0 | N103: =((I103/K103)*L103)/200*'Calculatie schoonmaak invulblad'!$C$11 -> #DIV/0! | O103: =I103/K103*L103*'Calculatie schoonmaak invulblad'!$C$11 -> #DIV/0!
...

Sheet Niekée Roermond
A2: Klant | B2: SOML | D2: Totaal m² in onderhoud (i.o) | E2: =I146 -> 6896 | G2: Kosten inzet vrijgesteld toezicht per dag | J2: ='Calculatie schoonmaak invulblad'!C2*'Niekée Roermond'!E6 -> #DIV/0! | L2: Bedrijfsnaam Inschrijver | M2: ='Calculatie schoonmaak invulblad'!I9 -> 0
A3: Locatie | B3: Niekée | D3: Totaal m² per jaar in onderhoud | E3: =M146 -> 1107180 | G3: Kosten schoonmaak per dag | J3: ='Calculatie schoonmaak invulblad'!C4*'Niekée Roermond'!E4 -> #DIV/0! | L3: Datum | M3: ='Calculatie schoonmaak invulblad'!I10 -> 0
A4: Adres locatie | B4: Oranjelaan 300 6043 GL Roermond | D4: Uren per dag schoonmaak | E4: =N146 -> #DIV/0! | G4: Kosten inzet vrijgesteld toezicht per jaar | J4: ='Calculatie schoonmaak invulblad'!C2*'Niekée Roermond'!E7 -> #DIV/0! | L4: Plaats | M4: ='Calculatie schoonmaak invulblad'!I11 -> 0
D5: Uren per jaar schoonmaak | E5: =O146 -> #DIV/0! | G5: Kosten schoonmaak per jaar | J5: =E5*'Calculatie schoonmaak invulblad'!C4 -> #DIV/0! | L5: Handtekening | M5: ='Calculatie schoonmaak invulblad'!I12 -> 0
D6: Uren per dag vrijgesteld toezicht | E6: =('Calculatie schoonmaak invulblad'!C6*'Niekée Roermond'!E4)/100 -> #DIV/0! | G6: Contractjaarprijs locatie BC Broekhin | J6: =J4+J5 -> #DIV/0!
D7: Uren per jaar vrijgesteld toezicht | E7: =('Calculatie schoonmaak invulblad'!C6*'Niekée Roermond'!E5)/100 -> #DIV/0!
A10: Verdieping | B10: Ruimtenummer | C10: Omschrijving | D10: Ruimtesoort | E10: Vloersoort | F10: Vloergroep | G10: Werkprogramma | H10: Totaal m² | I10: In onderhoud (i.o.) | J10: Niet in onderhoud (n.i.o.) | K10: Prestatienorm | L10: Dagen per jaar | M10: Totaal m² per jaar | N10: Uren per dag | O10: Uren per jaar
A11: Begane grond | B11: V1A | C11: Tourniquette | D11: Verkeersruimte | E11: Coral | F11: Tapijt | G11: WP 6 | H11: 5 | I11: 5 | K11: ='Calculatie schoonmaak invulblad'!K59 -> 0 | L11: 200 | M11: =I11*L11 -> 1000 | N11: =((I11/K11)*L11)/200*'Calculatie schoonmaak invulblad'!$C$12 -> #DIV/0! | O11: =(I11/K11)*L11*'Calculatie schoonmaak invulblad'!$C$12 -> #DIV/0!
A12: Begane grond | B12: V1B | C12: Tourniquette | D12: Verkeersruimte | E12: Coral | F12: Tapijt | G12: WP 6 | H12: 5 | I12: 5 | K12: ='Calculatie schoonmaak invulblad'!K59 -> 0 | L12: 200 | M12: =I12*L12 -> 1000 | N12: =((I12/K12)*L12)/200*'Calculatie schoonmaak invulblad'!$C$12 -> #DIV/0! | O12: =(I12/K12)*L12*'Calculatie schoonmaak invulblad'!$C$12 -> #DIV/0!
A13: Begane grond | B13: V1 | C13: Hal | D13: Verkeersruimte | E13: Coating | F13: Steen | G13: WP 6 | H13: 50 | I13: 50 | K13: ='Calculatie schoonmaak invulblad'!K58 -> 0 | L13: 200 | M13: =I13*L13 -> 10000 | N13: =((I13/K13)*L13)/200*'Calculatie schoonmaak invulblad'!$C$12 -> #DIV/0! | O13: =(I13/K13)*L13*'Calculatie schoonmaak invulblad'!$C$12 -> #DIV/0!
A14: Begane grond | B14: V1C | C14: Lockerruimte | D14: Verkeersruimte | E14: Coating | F14: Steen | G14: WP 6 | H14: 18 | I14: 18 | K14: ='Calculatie schoonmaak invulblad'!K58 -> 0 | L14: 200 | M14: =I14*L14 -> 3600 | N14: =((I14/K14)*L14)/200*'Calculatie schoonmaak invulblad'!$C$12 -> #DIV/0! | O14: =(I14/K14)*L14*'Calculatie schoonmaak invulblad'!$C$12 -> #DIV/0!
A15: Begane grond | B15: V2 | C15: Lockerruimte | D15: Verkeersruimte | E15: Coating | F15: Steen | G15: WP 6 | H15: 54 | I15: 54 | K15: ='Calculatie schoonmaak invulblad'!K58 -> 0 | L15: 200 | M15: =I15*L15 -> 10800 | N15: =((I15/K15)*L15)/200*'Calculatie schoonmaak invulblad'!$C$12 -> #DIV/0! | O15: =(I15/K15)*L15*'Calculatie schoonmaak invulblad'!$C$12 -> #DIV/0!
A16: Begane grond | B16: 1 | C16: Atrium | D16: Horecaruimte | E16: Coating | F16: Steen | G16: WP 3 | H16: 607 | I16: 607 | K16: ='Calculatie schoonmaak invulblad'!E42 -> 0 | L16: 200 | M16: =I16*L16 -> 121400 | N16: =((I16/K16)*L16)/200*'Calculatie schoonmaak invulblad'!$C$12 -> #DIV/0! | O16: =(I16/K16)*L16*'Calculatie schoonmaak invulblad'!$C$12 -> #DIV/0!
A17: Begane grond | B17: V1D | C17: Mediatheek/Receptie | D17: Bureaukamer | E17: Coating | F17: Steen | G17: WP 1 | H17: 95 | I17: 95 | K17: ='Calculatie schoonmaak invulblad'!E21 -> 0 | L17: 40 | M17: =I17*L17 -> 3800 | N17: =((I17/K17)*L17)/200*'Calculatie schoonmaak invulblad'!$C$12 -> #DIV/0! | O17: =(I17/K17)*L17*'Calculatie schoonmaak invulblad'!$C$12 -> #DIV/0!
A18: Begane grond | B18: V1E | C18: Trap(penhuis) | D18: Trap(penhuis) | E18: Beton | F18: Steen | G18: WP 6 | H18: 72 | I18: 72 | K18: ='Calculatie schoonmaak invulblad'!K49 -> 0 | L18: 200 | M18: =I18*L18 -> 14400 | N18: =((I18/K18)*L18)/200*'Calculatie schoonmaak invulblad'!$C$12 -> #DIV/0! | O18: =(I18/K18)*L18*'Calculatie schoonmaak invulblad'!$C$12 -> #DIV/0!
A19: Begane grond | B19: 2 | C19: Leslokaal | D19: Leslokaal | E19: Tapijt | F19: Tapijt | G19: WP 2 | H19: 284 | I19: 284 | K19: ='Calculatie schoonmaak invulblad'!E61 -> 0 | L19: 100 | M19: =I19*L19 -> 28400 | N19: =((I19/K19)*L19)/200*'Calculatie schoonmaak invulblad'!$C$12 -> #DIV/0! | O19: =(I19/K19)*L19*'Calculatie schoonmaak invulblad'!$C$12 -> #DIV/0!
A20: Begane grond | B20: V4 | C20: Verkeersruimte | D20: Verkeersruimte | E20: Rubber | F20: Rubber | G20: WP 6 | H20: 38 | I20: 38 | K20: ='Calculatie schoonmaak invulblad'!K65 -> 0 | L20: 200 | M20: =I20*L20 -> 7600 | N20: =((I20/K20)*L20)/200*'Calculatie schoonmaak invulblad'!$C$12 -> #DIV/0! | O20: =(I20/K20)*L20*'Calculatie schoonmaak invulblad'!$C$12 -> #DIV/0!
A21: Begane grond | B21: V3 | C21: Trap(penhuis) | D21: Trap(penhuis) | E21: Beton | F21: Steen | G21: WP 6 | H21: 12.5 | I21: 12.5 | K21: ='Calculatie schoonmaak invulblad'!K49 -> 0 | L21: 200 | M21: =I21*L21 -> 2500 | N21: =((I21/K21)*L21)/200*'Calculatie schoonmaak invulblad'!$C$12 -> #DIV/0! | O21: =(I21/K21)*L21*'Calculatie schoonmaak invulblad'!$C$12 -> #DIV/0!
A22: Begane grond | B22: 3 | C22: Praktijklokaal | D22: Praktijklokaal | E22: Rubber | F22: Rubber | G22: WP 4 | H22: 335 | I22: 335 | K22: ='Calculatie schoonmaak invulblad'!K25 -> 0 | L22: 200 | M22: =I22*L22 -> 67000 | N22: =((I22/K22)*L22)/200*'Calculatie schoonmaak invulblad'!$C$12 -> #DIV/0! | O22: =(I22/K22)*L22*'Calculatie schoonmaak invulblad'!$C$12 -> #DIV/0!
A23: Begane grond | B23: V5 | C23: Ronde trap | D23: Trap(penhuis) | E23: Natuursteen | F23: Steen | G23: WP 6 | H23: 5 | I23: 5 | K23: ='Calculatie schoonmaak invulblad'!K49 -> 0 | L23: 200 | M23: =I23*L23 -> 1000 | N23: =((I23/K23)*L23)/200*'Calculatie schoonmaak invulblad'!$C$12 -> #DIV/0! | O23: =(I23/K23)*L23*'Calculatie schoonmaak invulblad'!$C$12 -> #DIV/0!
A24: Begane grond | B24: 004A | C24: Verkeersruimte | D24: Horecaruimte | E24: Coating | F24: Steen | G24: WP 3 | H24: 64 | I24: 64 | K24: ='Calculatie schoonmaak invulblad'!E42 -> 0 | L24: 200 | M24: =I24*L24 -> 12800 | N24: =((I24/K24)*L24)/200*'Calculatie schoonmaak invulblad'!$C$12 -> #DIV/0! | O24: =(I24/K24)*L24*'Calculatie schoonmaak invulblad'!$C$12 -> #DIV/0!
A25: Begane grond | B25: 004B | C25: Verkeersruimte | D25: Horecaruimte | E25: Coating | F25: Steen | G25: WP 3 | H25: 64 | I25: 64 | K25: ='Calculatie schoonmaak invulblad'!E42 -> 0 | L25: 200 | M25: =I25*L25 -> 12800 | N25: =((I25/K25)*L25)/200*'Calculatie schoonmaak invulblad'!$C$12 -> #DIV/0! | O25: =(I25/K25)*L25*'Calculatie schoonmaak invulblad'!$C$12 -> #DIV/0!
A26: Begane grond | B26: 11 | C26: Collegezaal | D26: Leslokaal | E26: Coating | F26: Steen | G26: WP 2 | H26: 64 | I26: 64 | K26: ='Calculatie schoonmaak invulblad'!E64 -> 0 | L26: 100 | M26: =I26*L26 -> 6400 | N26: =((I26/K26)*L26)/200*'Calculatie schoonmaak invulblad'!$C$12 -> #DIV/0! | O26: =(I26/K26)*L26*'Calculatie schoonmaak invulblad'!$C$12 -> #DIV/0!
A27: Begane grond | B27: 12 | C27: Collegezaal 1 | D27: Leslokaal | E27: Coating | F27: Steen | G27: WP 2 | H27: 64 | I27: 64 | K27: ='Calculatie schoonmaak invulblad'!E64 -> 0 | L27: 100 | M27: =I27*L27 -> 6400 | N27: =((I27/K27)*L27)/200*'Calculatie schoonmaak invulblad'!$C$12 -> #DIV/0! | O27: =(I27/K27)*L27*'Calculatie schoonmaak invulblad'!$C$12 -> #DIV/0!
A28: Begane grond | B28: V6 | C28: Verkeersruimte | D28: Verkeersruimte | E28: Coating | F28: Steen | G28: WP 6 | H28: 35 | I28: 35 | K28: ='Calculatie schoonmaak invulblad'!K58 -> 0 | L28: 200 | M28: =I28*L28 -> 7000 | N28: =((I28/K28)*L28)/200*'Calculatie schoonmaak invulblad'!$C$12 -> #DIV/0! | O28: =(I28/K28)*L28*'Calculatie schoonmaak invulblad'!$C$12 -> #DIV/0!
A29: Begane grond | B29: S1 | C29: Toiletruimte | D29: Sanitaire ruimte | E29: Anti-slip Coating | F29: Steen | G29: WP 7 | H29: 14 | I29: 14 | K29: ='Calculatie schoonmaak invulblad'!K38 -> 0 | L29: 200 | M29: =I29*L29 -> 2800 | N29: =((I29/K29)*L29)/200*'Calculatie schoonmaak invulblad'!$C$12 -> #DIV/0! | O29: =(I29/K29)*L29*'Calculatie schoonmaak invulblad'!$C$12 -> #DIV/0!
A30: Begane grond | B30: S2 | C30: Toiletruimte | D30: Sanitaire ruimte | E30: Anti-slip Coating | F30: Steen | G30: WP 7 | H30: 14 | I30: 14 | K30: ='Calculatie schoonmaak invulblad'!K38 -> 0 | L30: 200 | M30: =I30*L30 -> 2800 | N30: =((I30/K30)*L30)/200*'Calculatie schoonmaak invulblad'!$C$12 -> #DIV/0! | O30: =(I30/K30)*L30*'Calculatie schoonmaak invulblad'!$C$12 -> #DIV/0!
A31: Begane grond | B31: 5 | C31: Praktijklokaal | D31: Praktijklokaal | E31: Hout | F31: Hout | G31: WP 4 | H31: 204 | I31: 204 | K31: ='Calculatie schoonmaak invulblad'!K26 -> 0 | L31: 200 | M31: =I31*L31 -> 40800 | N31: =((I31/K31)*L31)/200*'Calculatie schoonmaak invulblad'!$C$12 -> #DIV/0! | O31: =(I31/K31)*L31*'Calculatie schoonmaak invulblad'!$C$12 -> #DIV/0!
A32: Begane grond | B32: V7 | C32: Trapportaal | D32: Trap(penhuis) | E32: Coating | F32: Steen | G32: WP 6 | H32: 10 | I32: 10 | K32: ='Calculatie schoonmaak invulblad'!K49 -> 0 | L32: 200 | M32: =I32*L32 -> 2000 | N32: =((I32/K32)*L32)/200*'Calculatie schoonmaak invulblad'!$C$12 -> #DIV/0! | O32: =(I32/K32)*L32*'Calculatie schoonmaak invulblad'!$C$12 -> #DIV/0!
A33: Begane grond | B33: V8 | C33: Trap(penhuis) | D33: Trap(penhuis) | E33: Beton | F33: Steen | G33: WP 6 | H33: 10 | I33: 10 | K33: ='Calculatie schoonmaak invulblad'!K49 -> 0 | L33: 200 | M33: =I33*L33 -> 2000 | N33: =((I33/K33)*L33)/200*'Calculatie schoonmaak invulblad'!$C$12 -> #DIV/0! | O33: =(I33/K33)*L33*'Calculatie schoonmaak invulblad'!$C$12 -> #DIV/0!
A34: Begane grond | B34: 6 | C34: Praktijklokaal | D34: Praktijklokaal | E34: Coating | F34: Steen | G34: WP 4 | H34: 85 | I34: 85 | K34: ='Calculatie schoonmaak invulblad'!K21 -> 0 | L34: 200 | M34: =I34*L34 -> 17000 | N34: =((I34/K34)*L34)/200*'Calculatie schoonmaak invulblad'!$C$12 -> #DIV/0! | O34: =(I34/K34)*L34*'Calculatie schoonmaak invulblad'!$C$12 -> #DIV/0!
A35: Begane grond | B35: 6 | C35: Praktijklokaal | D35: Praktijklokaal | E35: Vast tapijt | F35: Tapijt | G35: WP 4 | H35: 175 | I35: 175 | K35: ='Calculatie schoonmaak invulblad'!K27 -> 0 | L35: 200 | M35: =I35*L35 -> 35000 | N35: =((I35/K35)*L35)/200*'Calculatie schoonmaak invulblad'!$C$12 -> #DIV/0! | O35: =(I35/K35)*L35*'Calculatie schoonmaak invulblad'!$C$12 -> #DIV/0!
A36: Begane grond | B36: 7 | C36: Praktijklokaal | D36: Praktijklokaal | E36: Coating | F36: Steen | G36: WP 4 | H36: 160 | I36: 160 | K36: ='Calculatie schoonmaak invulblad'!K21 -> 0 | L36: 200 | M36: =I36*L36 -> 32000 | N36: =((I36/K36)*L36)/200*'Calculatie schoonmaak invulblad'!$C$12 -> #DIV/0! | O36: =(I36/K36)*L36*'Calculatie schoonmaak invulblad'!$C$12 -> #DIV/0!
A37: Begane grond | B37: V9 | C37: Verkeersruimte | D37: Verkeersruimte | E37: Coating | F37: Steen | G37: WP 6 | H37: 63 | I37: 63 | K37: ='Calculatie schoonmaak invulblad'!K58 -> 0 | L37: 200 | M37: =I37*L37 -> 12600 | N37: =((I37/K37)*L37)/200*'Calculatie schoonmaak invulblad'!$C$12 -> #DIV/0! | O37: =(I37/K37)*L37*'Calculatie schoonmaak invulblad'!$C$12 -> #DIV/0!
A38: Begane grond | B38: S3 | C38: Toiletruimte | D38: Sanitaire ruimte | E38: Anti-slip Coating | F38: Steen | G38: WP 7 | H38: 14 | I38: 14 | K38: ='Calculatie schoonmaak invulblad'!K38 -> 0 | L38: 200 | M38: =I38*L38 -> 2800 | N38: =((I38/K38)*L38)/200*'Calculatie schoonmaak invulblad'!$C$12 -> #DIV/0! | O38: =(I38/K38)*L38*'Calculatie schoonmaak invulblad'!$C$12 -> #DIV/0!
A39: Begane grond | B39: S4 | C39: Toiletruimte | D39: Sanitaire ruimte | E39: Anti-slip Coating | F39: Steen | G39: WP 7 | H39: 14 | I39: 14 | K39: ='Calculatie schoonmaak invulblad'!K38 -> 0 | L39: 200 | M39: =I39*L39 -> 2800 | N39: =((I39/K39)*L39)/200*'Calculatie schoonmaak invulblad'!$C$12 -> #DIV/0! | O39: =(I39/K39)*L39*'Calculatie schoonmaak invulblad'!$C$12 -> #DIV/0!
A40: Begane grond | B40: 13 | C40: Lift | D40: Lift | E40: Linoleum | F40: Lino | G40: WP 6 | H40: 1 | I40: 1 | K40: ='Calculatie schoonmaak invulblad'!E67 -> 0 | L40: 200 | M40: =I40*L40 -> 200 | N40: =((I40/K40)*L40)/200*'Calculatie schoonmaak invulblad'!$C$12 -> #DIV/0! | O40: =(I40/K40)*L40*'Calculatie schoonmaak invulblad'!$C$12 -> #DIV/0!
A41: Begane grond | B41: V10 | C41: Trapportaal | D41: Trap(penhuis) | E41: Beton | F41: Steen | G41: WP 6 | H41: 20 | I41: 20 | K41: ='Calculatie schoonmaak invulblad'!K49 -> 0 | L41: 200 | M41: =I41*L41 -> 4000 | N41: =((I41/K41)*L41)/200*'Calculatie schoonmaak invulblad'!$C$12 -> #DIV/0! | O41: =(I41/K41)*L41*'Calculatie schoonmaak invulblad'!$C$12 -> #DIV/0!
A42: Begane grond | B42: V10 | C42: Trapportaal | D42: Trap(penhuis) | E42: Linoleum | F42: Lino | G42: WP 6 | H42: 10 | I42: 10 | K42: ='Calculatie schoonmaak invulblad'!K52 -> 0 | L42: 200 | M42: =I42*L42 -> 2000 | N42: =((I42/K42)*L42)/200*'Calculatie schoonmaak invulblad'!$C$12 -> #DIV/0! | O42: =(I42/K42)*L42*'Calculatie schoonmaak invulblad'!$C$12 -> #DIV/0!
A43: Begane grond | B43: S5 | C43: Toiletruimte | D43: Sanitaire ruimte | E43: Anti-slip Coating | F43: Steen | G43: WP 7 | H43: 4 | I43: 4 | K43: ='Calculatie schoonmaak invulblad'!K38 -> 0 | L43: 200 | M43: =I43*L43 -> 800 | N43: =((I43/K43)*L43)/200*'Calculatie schoonmaak invulblad'!$C$12 -> #DIV/0! | O43: =(I43/K43)*L43*'Calculatie schoonmaak invulblad'!$C$12 -> #DIV/0!
A44: Begane grond | B44: S6 | C44: Toiletruimte | D44: Sanitaire ruimte | E44: Anti-slip Coating | F44: Steen | G44: WP 7 | H44: 4 | I44: 4 | K44: ='Calculatie schoonmaak invulblad'!K38 -> 0 | L44: 200 | M44: =I44*L44 -> 800 | N44: =((I44/K44)*L44)/200*'Calculatie schoonmaak invulblad'!$C$12 -> #DIV/0! | O44: =(I44/K44)*L44*'Calculatie schoonmaak invulblad'!$C$12 -> #DIV/0!
A45: Begane grond | B45: 8 | C45: Opslag | D45: Overige ruimte | E45: Coating | F45: Steen | G45: WP 12 | H45: 34 | I45: 0 | J45: 34 | K45: ='Calculatie schoonmaak invulblad'!E74 -> 0 | L45: 10 | M45: =I45*L45 -> 0 | N45: =((I45/K45)*L45)/200*'Calculatie schoonmaak invulblad'!$C$12 -> #DIV/0! | O45: =(I45/K45)*L45*'Calculatie schoonmaak invulblad'!$C$12 -> #DIV/0!
A46: Begane grond | B46: 010A | C46: Conciërge | D46: Overige ruimte | E46: Coating | F46: Steen | G46: WP 12 | H46: 18 | I46: 0 | J46: 18 | K46: ='Calculatie schoonmaak invulblad'!E74 -> 0 | L46: 10 | M46: =I46*L46 -> 0 | N46: =((I46/K46)*L46)/200*'Calculatie schoonmaak invulblad'!$C$12 -> #DIV/0! | O46: =(I46/K46)*L46*'Calculatie schoonmaak invulblad'!$C$12 -> #DIV/0!
A47: Begane grond | B47: 9 | C47: Kantoor | D47: Bureaukamer | E47: Coating | F47: Steen | G47: WP 1 | H47: 14 | I47: 14 | K47: ='Calculatie schoonmaak invulblad'!E21 -> 0 | L47: 40 | M47: =I47*L47 -> 560 | N47: =((I47/K47)*L47)/200*'Calculatie schoonmaak invulblad'!$C$12 -> #DIV/0! | O47: =(I47/K47)*L47*'Calculatie schoonmaak invulblad'!$C$12 -> #DIV/0!
A48: Begane grond | B48: 10 | C48: Conciërge | D48: Bureaukamer | E48: Coating | F48: Steen | G48: WP 1 | H48: 29 | I48: 29 | K48: ='Calculatie schoonmaak invulblad'!E21 -> 0 | L48: 40 | M48: =I48*L48 -> 1160 | N48: =((I48/K48)*L48)/200*'Calculatie schoonmaak invulblad'!$C$12 -> #DIV/0! | O48: =(I48/K48)*L48*'Calculatie schoonmaak invulblad'!$C$12 -> #DIV/0!
A49: 1e Verdieping | B49: 101 | C49: Overblijfruimte | D49: Horecaruimte | E49: Coating | F49: Steen | G49: WP 3 | H49: 272 | I49: 272 | K49: ='Calculatie schoonmaak invulblad'!E42 -> 0 | L49: 200 | M49: =I49*L49 -> 54400 | N49: =((I49/K49)*L49)/200*'Calculatie schoonmaak invulblad'!$C$12 -> #DIV/0! | O49: =(I49/K49)*L49*'Calculatie schoonmaak invulblad'!$C$12 -> #DIV/0!
A50: 1e Verdieping | B50: 122 | C50: Keukenuitgifte | D50: Keuken/Pantry | E50: Coating | F50: Steen | G50: WP 3 | H50: 32 | I50: 32 | K50: ='Calculatie schoonmaak invulblad'!E51 -> 0 | L50: 200 | M50: =I50*L50 -> 6400 | N50: =((I50/K50)*L50)/200*'Calculatie schoonmaak invulblad'!$C$12 -> #DIV/0! | O50: =(I50/K50)*L50*'Calculatie schoonmaak invulblad'!$C$12 -> #DIV/0!
A51: 1e Verdieping | B51: 102 | C51: Restaurant | D51: Horecaruimte | E51: Coating | F51: Steen | G51: WP 3 | H51: 74 | I51: 74 | K51: ='Calculatie schoonmaak invulblad'!E42 -> 0 | L51: 200 | M51: =I51*L51 -> 14800 | N51: =((I51/K51)*L51)/200*'Calculatie schoonmaak invulblad'!$C$12 -> #DIV/0! | O51: =(I51/K51)*L51*'Calculatie schoonmaak invulblad'!$C$12 -> #DIV/0!
A52: 1e Verdieping | B52: 102A | C52: Garderobe | D52: Verkeersruimte | E52: Coating | F52: Steen | G52: WP 6 | H52: 8 | I52: 8 | K52: ='Calculatie schoonmaak invulblad'!K58 -> 0 | L52: 200 | M52: =I52*L52 -> 1600 | N52: =((I52/K52)*L52)/200*'Calculatie schoonmaak invulblad'!$C$12 -> #DIV/0! | O52: =(I52/K52)*L52*'Calculatie schoonmaak invulblad'!$C$12 -> #DIV/0!
A53: 1e Verdieping | B53: S7 | C53: Toiletruimte | D53: Sanitaire ruimte | E53: Anti-slip Coating | F53: Steen | G53: WP 7 | H53: 3 | I53: 3 | K53: ='Calculatie schoonmaak invulblad'!K38 -> 0 | L53: 200 | M53: =I53*L53 -> 600 | N53: =((I53/K53)*L53)/200*'Calculatie schoonmaak invulblad'!$C$12 -> #DIV/0! | O53: =(I53/K53)*L53*'Calculatie schoonmaak invulblad'!$C$12 -> #DIV/0!
A54: 1e Verdieping | B54: S8 | C54: Toiletruimte | D54: Sanitaire ruimte | E54: Anti-slip Coating | F54: Steen | G54: WP 7 | H54: 3 | I54: 3 | K54: ='Calculatie schoonmaak invulblad'!K38 -> 0 | L54: 200 | M54: =I54*L54 -> 600 | N54: =((I54/K54)*L54)/200*'Calculatie schoonmaak invulblad'!$C$12 -> #DIV/0! | O54: =(I54/K54)*L54*'Calculatie schoonmaak invulblad'!$C$12 -> #DIV/0!
A55: 1e Verdieping | B55: 103 | C55: Spoelkeuken | D55: Praktijklokaal Keuken | E55: Anti-slip Coating | F55: Steen | G55: WP 5 | H55: 25 | I55: 25 | K55: ='Calculatie schoonmaak invulblad'!K30 -> 0 | L55: 200 | M55: =I55*L55 -> 5000 | N55: =((I55/K55)*L55)/200*'Calculatie schoonmaak invulblad'!$C$12 -> #DIV/0! | O55: =(I55/K55)*L55*'Calculatie schoonmaak invulblad'!$C$12 -> #DIV/0!
A56: 1e Verdieping | B56: 104 | C56: Grootkeuken | D56: Praktijklokaal Keuken | E56: Anti-slip Coating | F56: Steen | G56: WP 5 | H56: 164 | I56: 164 | K56: ='Calculatie schoonmaak invulblad'!K30 -> 0 | L56: 200 | M56: =I56*L56 -> 32800 | N56: =((I56/K56)*L56)/200*'Calculatie schoonmaak invulblad'!$C$12 -> #DIV/0! | O56: =(I56/K56)*L56*'Calculatie schoonmaak invulblad'!$C$12 -> #DIV/0!
A57: 1e Verdieping | B57: 105 | C57: Portaal | D57: Verkeersruimte | E57: Anti-slip Coating | F57: Steen | G57: WP 6 | H57: 6 | I57: 6 | K57: ='Calculatie schoonmaak invulblad'!K58 -> 0 | L57: 200 | M57: =I57*L57 -> 1200 | N57: =((I57/K57)*L57)/200*'Calculatie schoonmaak invulblad'!$C$12 -> #DIV/0! | O57: =(I57/K57)*L57*'Calculatie schoonmaak invulblad'!$C$12 -> #DIV/0!
A58: 1e Verdieping | B58: 105A | C58: Opslag | D58: Overige ruimte | E58: Anti-slip Coating | F58: Steen | G58: WP 12 | H58: 12 | I58: 0 | J58: 12 | K58: ='Calculatie schoonmaak invulblad'!E74 -> 0 | L58: 10 | M58: =I58*L58 -> 0 | N58: =((I58/K58)*L58)/200*'Calculatie schoonmaak invulblad'!$C$12 -> #DIV/0! | O58: =(I58/K58)*L58*'Calculatie schoonmaak invulblad'!$C$12 -> #DIV/0!
A59: 1e Verdieping | B59: 105B | C59: Opslag | D59: Overige ruimte | E59: Anti-slip Coating | F59: Steen | G59: WP 12 | H59: 12 | I59: 0 | J59: 12 | K59: ='Calculatie schoonmaak invulblad'!E74 -> 0 | L59: 10 | M59: =I59*L59 -> 0 | N59: =((I59/K59)*L59)/200*'Calculatie schoonmaak invulblad'!$C$12 -> #DIV/0! | O59: =(I59/K59)*L59*'Calculatie schoonmaak invulblad'!$C$12 -> #DIV/0!
A60: 1e Verdieping | B60: V12 | C60: Verkeersruimte | D60: Verkeersruimte | E60: Linoleum | F60: Lino | G60: WP 6 | H60: 44 | I60: 44 | K60: ='Calculatie schoonmaak invulblad'!K62 -> 0 | L60: 200 | M60: =I60*L60 -> 8800 | N60: =((I60/K60)*L60)/200*'Calculatie schoonmaak invulblad'!$C$12 -> #DIV/0! | O60: =(I60/K60)*L60*'Calculatie schoonmaak invulblad'!$C$12 -> #DIV/0!
A61: 1e Verdieping | B61: V13 | C61: Verkeersruimte | D61: Verkeersruimte | E61: Linoleum | F61: Lino | G61: WP 6 | H61: 16 | I61: 16 | K61: ='Calculatie schoonmaak invulblad'!K62 -> 0 | L61: 200 | M61: =I61*L61 -> 3200 | N61: =((I61/K61)*L61)/200*'Calculatie schoonmaak invulblad'!$C$12 -> #DIV/0! | O61: =(I61/K61)*L61*'Calculatie schoonmaak invulblad'!$C$12 -> #DIV/0!
A62: 1e Verdieping | B62: V3 | C62: Trap(penhuis) | D62: Trap(penhuis) | E62: Beton | F62: Steen | G62: WP 6 | H62: 21 | I62: 21 | K62: ='Calculatie schoonmaak invulblad'!K49 -> 0 | L62: 200 | M62: =I62*L62 -> 4200 | N62: =((I62/K62)*L62)/200*'Calculatie schoonmaak invulblad'!$C$12 -> #DIV/0! | O62: =(I62/K62)*L62*'Calculatie schoonmaak invulblad'!$C$12 -> #DIV/0!
A63: 1e Verdieping | B63: V14 | C63: Verkeersruimte | D63: Verkeersruimte | E63: Linoleum | F63: Lino | G63: WP 6 | H63: 91 | I63: 91 | K63: ='Calculatie schoonmaak invulblad'!K62 -> 0 | L63: 200 | M63: =I63*L63 -> 18200 | N63: =((I63/K63)*L63)/200*'Calculatie schoonmaak invulblad'!$C$12 -> #DIV/0! | O63: =(I63/K63)*L63*'Calculatie schoonmaak invulblad'!$C$12 -> #DIV/0!
A64: 1e Verdieping | B64: 106 | C64: Golden box | D64: Leslokaal | E64: Linoleum | F64: Lino | G64: WP 2 | H64: 22 | I64: 22 | K64: ='Calculatie schoonmaak invulblad'!E62 -> 0 | L64: 100 | M64: =I64*L64 -> 2200 | N64: =((I64/K64)*L64)/200*'Calculatie schoonmaak invulblad'!$C$12 -> #DIV/0! | O64: =(I64/K64)*L64*'Calculatie schoonmaak invulblad'!$C$12 -> #DIV/0!
A65: 1e Verdieping | B65: S9 | C65: Toiletruimte | D65: Sanitaire ruimte | E65: Anti-slip Coating | F65: Steen | G65: WP 7 | H65: 7 | I65: 7 | K65: ='Calculatie schoonmaak invulblad'!K38 -> 0 | L65: 200 | M65: =I65*L65 -> 1400 | N65: =((I65/K65)*L65)/200*'Calculatie schoonmaak invulblad'!$C$12 -> #DIV/0! | O65: =(I65/K65)*L65*'Calculatie schoonmaak invulblad'!$C$12 -> #DIV/0!
A66: 1e Verdieping | B66: S10 | C66: Toiletruimte | D66: Sanitaire ruimte | E66: Anti-slip Coating | F66: Steen | G66: WP 7 | H66: 7 | I66: 7 | K66: ='Calculatie schoonmaak invulblad'!K38 -> 0 | L66: 200 | M66: =I66*L66 -> 1400 | N66: =((I66/K66)*L66)/200*'Calculatie schoonmaak invulblad'!$C$12 -> #DIV/0! | O66: =(I66/K66)*L66*'Calculatie schoonmaak invulblad'!$C$12 -> #DIV/0!
A67: 1e Verdieping | B67: 107 | C67: Docentenkamer | D67: Horecaruimte | E67: Vast tapijt | F67: Tapijt | G67: WP 3 | H67: 85 | I67: 85 | K67: ='Calculatie schoonmaak invulblad'!E44 -> 0 | L67: 200 | M67: =I67*L67 -> 17000 | N67: =((I67/K67)*L67)/200*'Calculatie schoonmaak invulblad'!$C$12 -> #DIV/0! | O67: =(I67/K67)*L67*'Calculatie schoonmaak invulblad'!$C$12 -> #DIV/0!
A68: 1e Verdieping | B68: 107B | C68: Pantry | D68: Keuken/Pantry | E68: Linoleum | F68: Lino | G68: WP 3 | H68: 7 | I68: 7 | K68: ='Calculatie schoonmaak invulblad'!E53 -> 0 | L68: 200 | M68: =I68*L68 -> 1400 | N68: =((I68/K68)*L68)/200*'Calculatie schoonmaak invulblad'!$C$12 -> #DIV/0! | O68: =(I68/K68)*L68*'Calculatie schoonmaak invulblad'!$C$12 -> #DIV/0!
A69: 1e Verdieping | B69: 107A | C69: Garderobe | D69: Verkeersruimte | E69: Linoleum | F69: Lino | G69: WP 6 | H69: 7 | I69: 7 | K69: ='Calculatie schoonmaak invulblad'!K62 -> 0 | L69: 200 | M69: =I69*L69 -> 1400 | N69: =((I69/K69)*L69)/200*'Calculatie schoonmaak invulblad'!$C$12 -> #DIV/0! | O69: =(I69/K69)*L69*'Calculatie schoonmaak invulblad'!$C$12 -> #DIV/0!
A70: 1e Verdieping | B70: S11 | C70: Doucheruimte | D70: Doucheruimte | E70: Anti-slip Coating | F70: Steen | G70: WP 14 | H70: 4 | I70: 4 | K70: ='Calculatie schoonmaak invulblad'!E34 -> 0 | L70: 200 | M70: =I70*L70 -> 800 | N70: =((I70/K70)*L70)/200*'Calculatie schoonmaak invulblad'!$C$12 -> #DIV/0! | O70: =(I70/K70)*L70*'Calculatie schoonmaak invulblad'!$C$12 -> #DIV/0!
A71: 1e Verdieping | B71: 14 | C71: Ronde trap | D71: Trap(penhuis) | E71: Natuursteen | F71: Steen | G71: WP 6 | H71: 5 | I71: 5 | K71: ='Calculatie schoonmaak invulblad'!K49 -> 0 | L71: 200 | M71: =I71*L71 -> 1000 | N71: =((I71/K71)*L71)/200*'Calculatie schoonmaak invulblad'!$C$12 -> #DIV/0! | O71: =(I71/K71)*L71*'Calculatie schoonmaak invulblad'!$C$12 -> #DIV/0!
A72: 1e Verdieping | B72: 108 | C72: Leslokaal | D72: Leslokaal | E72: Vast tapijt | F72: Tapijt | G72: WP 2 | H72: 309 | I72: 309 | K72: ='Calculatie schoonmaak invulblad'!E61 -> 0 | L72: 100 | M72: =I72*L72 -> 30900 | N72: =((I72/K72)*L72)/200*'Calculatie schoonmaak invulblad'!$C$12 -> #DIV/0! | O72: =(I72/K72)*L72*'Calculatie schoonmaak invulblad'!$C$12 -> #DIV/0!
A73: 1e Verdieping | B73: 109 | C73: Balkon | D73: Verkeersruimte | E73: Linoleum | F73: Lino | G73: WP 6 | H73: 62 | I73: 62 | K73: ='Calculatie schoonmaak invulblad'!K62 -> 0 | L73: 200 | M73: =I73*L73 -> 12400 | N73: =((I73/K73)*L73)/200*'Calculatie schoonmaak invulblad'!$C$12 -> #DIV/0! | O73: =(I73/K73)*L73*'Calculatie schoonmaak invulblad'!$C$12 -> #DIV/0!
A74: 1e Verdieping | B74: V15 | C74: Verkeersruimte | D74: Verkeersruimte | E74: Linoleum | F74: Lino | G74: WP 6 | H74: 11 | I74: 11 | K74: ='Calculatie schoonmaak invulblad'!K62 -> 0 | L74: 200 | M74: =I74*L74 -> 2200 | N74: =((I74/K74)*L74)/200*'Calculatie schoonmaak invulblad'!$C$12 -> #DIV/0! | O74: =(I74/K74)*L74*'Calculatie schoonmaak invulblad'!$C$12 -> #DIV/0!
A75: 1e Verdieping | B75: S11 | C75: Toiletruimte | D75: Sanitaire ruimte | E75: Anti-slip Coating | F75: Steen | G75: WP 7 | H75: 14 | I75: 14 | K75: ='Calculatie schoonmaak invulblad'!K38 -> 0 | L75: 200 | M75: =I75*L75 -> 2800 | N75: =((I75/K75)*L75)/200*'Calculatie schoonmaak invulblad'!$C$12 -> #DIV/0! | O75: =(I75/K75)*L75*'Calculatie schoonmaak invulblad'!$C$12 -> #DIV/0!
A76: 1e Verdieping | B76: S12 | C76: Toiletruimte | D76: Sanitaire ruimte | E76: Anti-slip Coating | F76: Steen | G76: WP 7 | H76: 14 | I76: 14 | K76: ='Calculatie schoonmaak invulblad'!K38 -> 0 | L76: 200 | M76: =I76*L76 -> 2800 | N76: =((I76/K76)*L76)/200*'Calculatie schoonmaak invulblad'!$C$12 -> #DIV/0! | O76: =(I76/K76)*L76*'Calculatie schoonmaak invulblad'!$C$12 -> #DIV/0!
A77: 1e Verdieping | B77: V8 | C77: Trap(penhuis) | D77: Trap(penhuis) | E77: Beton | F77: Steen | G77: WP 6 | H77: 20 | I77: 20 | K77: ='Calculatie schoonmaak invulblad'!K49 -> 0 | L77: 200 | M77: =I77*L77 -> 4000 | N77: =((I77/K77)*L77)/200*'Calculatie schoonmaak invulblad'!$C$12 -> #DIV/0! | O77: =(I77/K77)*L77*'Calculatie schoonmaak invulblad'!$C$12 -> #DIV/0!
A78: 1e Verdieping | B78: V8 | C78: Trap(penhuis) | D78: Trap(penhuis) | E78: Linoleum | F78: Lino | G78: WP 6 | H78: 10 | I78: 10 | K78: ='Calculatie schoonmaak invulblad'!K52 -> 0 | L78: 200 | M78: =I78*L78 -> 2000 | N78: =((I78/K78)*L78)/200*'Calculatie schoonmaak invulblad'!$C$12 -> #DIV/0! | O78: =(I78/K78)*L78*'Calculatie schoonmaak invulblad'!$C$12 -> #DIV/0!
A79: 1e Verdieping | B79: V16 | C79: Verkeersruimte | D79: Verkeersruimte | E79: Linoleum | F79: Lino | G79: WP 6 | H79: 138 | I79: 138 | K79: ='Calculatie schoonmaak invulblad'!K62 -> 0 | L79: 200 | M79: =I79*L79 -> 27600 | N79: =((I79/K79)*L79)/200*'Calculatie schoonmaak invulblad'!$C$12 -> #DIV/0! | O79: =(I79/K79)*L79*'Calculatie schoonmaak invulblad'!$C$12 -> #DIV/0!
A80: 1e Verdieping | B80: 110 | C80: Praktijklokaal | D80: Praktijklokaal | E80: Linoleum | F80: Lino | G80: WP 4 | H80: 193 | I80: 193 | K80: ='Calculatie schoonmaak invulblad'!K22 -> 0 | L80: 200 | M80: =I80*L80 -> 38600 | N80: =((I80/K80)*L80)/200*'Calculatie schoonmaak invulblad'!$C$12 -> #DIV/0! | O80: =(I80/K80)*L80*'Calculatie schoonmaak invulblad'!$C$12 -> #DIV/0!
A81: 1e Verdieping | B81: 115 | C81: Praktijklokaal | D81: Praktijklokaal | E81: Linoleum | F81: Lino | G81: WP 4 | H81: 106 | I81: 106 | K81: ='Calculatie schoonmaak invulblad'!K22 -> 0 | L81: 200 | M81: =I81*L81 -> 21200 | N81: =((I81/K81)*L81)/200*'Calculatie schoonmaak invulblad'!$C$12 -> #DIV/0! | O81: =(I81/K81)*L81*'Calculatie schoonmaak invulblad'!$C$12 -> #DIV/0!
A82: 1e Verdieping | B82: 112 | C82: Kantoor | D82: Bureaukamer | E82: Vast tapijt | F82: Tapijt | G82: WP 1 | H82: 16 | I82: 16 | K82: ='Calculatie schoonmaak invulblad'!E22 -> 0 | L82: 40 | M82: =I82*L82 -> 640 | N82: =((I82/K82)*L82)/200*'Calculatie schoonmaak invulblad'!$C$12 -> #DIV/0! | O82: =(I82/K82)*L82*'Calculatie schoonmaak invulblad'!$C$12 -> #DIV/0!
A83: 1e Verdieping | B83: 113 | C83: Kantoor | D83: Bureaukamer | E83: Vast tapijt | F83: Tapijt | G83: WP 1 | H83: 11 | I83: 11 | K83: ='Calculatie schoonmaak invulblad'!E22 -> 0 | L83: 40 | M83: =I83*L83 -> 440 | N83: =((I83/K83)*L83)/200*'Calculatie schoonmaak invulblad'!$C$12 -> #DIV/0! | O83: =(I83/K83)*L83*'Calculatie schoonmaak invulblad'!$C$12 -> #DIV/0!
A84: 1e Verdieping | B84: 114 | C84: Kantoor | D84: Bureaukamer | E84: Vast tapijt | F84: Tapijt | G84: WP 1 | H84: 18 | I84: 18 | K84: ='Calculatie schoonmaak invulblad'!E22 -> 0 | L84: 40 | M84: =I84*L84 -> 720 | N84: =((I84/K84)*L84)/200*'Calculatie schoonmaak invulblad'!$C$12 -> #DIV/0! | O84: =(I84/K84)*L84*'Calculatie schoonmaak invulblad'!$C$12 -> #DIV/0!
A85: 1e Verdieping | B85: 116 | C85: Leslokaal | D85: Leslokaal | E85: Vast tapijt | F85: Tapijt | G85: WP 2 | H85: 24 | I85: 24 | K85: ='Calculatie schoonmaak invulblad'!E61 -> 0 | L85: 100 | M85: =I85*L85 -> 2400 | N85: =((I85/K85)*L85)/200*'Calculatie schoonmaak invulblad'!$C$12 -> #DIV/0! | O85: =(I85/K85)*L85*'Calculatie schoonmaak invulblad'!$C$12 -> #DIV/0!
A86: 1e Verdieping | B86: 117 | C86: Gangetje | D86: Verkeersruimte | E86: Linoleum | F86: Lino | G86: WP 6 | H86: 5 | I86: 5 | K86: ='Calculatie schoonmaak invulblad'!K62 -> 0 | L86: 200 | M86: =I86*L86 -> 1000 | N86: =((I86/K86)*L86)/200*'Calculatie schoonmaak invulblad'!$C$12 -> #DIV/0! | O86: =(I86/K86)*L86*'Calculatie schoonmaak invulblad'!$C$12 -> #DIV/0!
A87: 1e Verdieping | B87: 117A | C87: Leslokaal | D87: Leslokaal | E87: Linoleum | F87: Lino | G87: WP 2 | H87: 23 | I87: 23 | K87: ='Calculatie schoonmaak invulblad'!E62 -> 0 | L87: 100 | M87: =I87*L87 -> 2300 | N87: =((I87/K87)*L87)/200*'Calculatie schoonmaak invulblad'!$C$12 -> #DIV/0! | O87: =(I87/K87)*L87*'Calculatie schoonmaak invulblad'!$C$12 -> #DIV/0!
A88: 1e Verdieping | B88: S13 | C88: Toiletruimte | D88: Sanitaire ruimte | E88: Anti-slip Coating | F88: Steen | G88: WP 7 | H88: 14 | I88: 14 | K88: ='Calculatie schoonmaak invulblad'!K38 -> 0 | L88: 200 | M88: =I88*L88 -> 2800 | N88: =((I88/K88)*L88)/200*'Calculatie schoonmaak invulblad'!$C$12 -> #DIV/0! | O88: =(I88/K88)*L88*'Calculatie schoonmaak invulblad'!$C$12 -> #DIV/0!
A89: 1e Verdieping | B89: S14 | C89: Toiletruimte | D89: Sanitaire ruimte | E89: Anti-slip Coating | F89: Steen | G89: WP 7 | H89: 14 | I89: 14 | K89: ='Calculatie schoonmaak invulblad'!K38 -> 0 | L89: 200 | M89: =I89*L89 -> 2800 | N89: =((I89/K89)*L89)/200*'Calculatie schoonmaak invulblad'!$C$12 -> #DIV/0! | O89: =(I89/K89)*L89*'Calculatie schoonmaak invulblad'!$C$12 -> #DIV/0!
A90: 1e Verdieping | B90: S15 | C90: Miva-toilet | D90: Sanitaire ruimte | E90: Anti-slip Coating | F90: Steen | G90: WP 7 | H90: 4 | I90: 4 | K90: ='Calculatie schoonmaak invulblad'!K38 -> 0 | L90: 200 | M90: =I90*L90 -> 800 | N90: =((I90/K90)*L90)/200*'Calculatie schoonmaak invulblad'!$C$12 -> #DIV/0! | O90: =(I90/K90)*L90*'Calculatie schoonmaak invulblad'!$C$12 -> #DIV/0!
A91: 1e Verdieping | B91: 118 | C91: Systeembeheerder | D91: Bureaukamer | E91: Linoleum | F91: Lino | G91: WP 1 | H91: 26 | I91: 26 | K91: ='Calculatie schoonmaak invulblad'!E23 -> 0 | L91: 40 | M91: =I91*L91 -> 1040 | N91: =((I91/K91)*L91)/200*'Calculatie schoonmaak invulblad'!$C$12 -> #DIV/0! | O91: =(I91/K91)*L91*'Calculatie schoonmaak invulblad'!$C$12 -> #DIV/0!
A92: 1e Verdieping | B92: 119 | C92: Theorielokaal | D92: Leslokaal | E92: Linoleum | F92: Lino | G92: WP 2 | H92: 45 | I92: 45 | K92: ='Calculatie schoonmaak invulblad'!E62 -> 0 | L92: 100 | M92: =I92*L92 -> 4500 | N92: =((I92/K92)*L92)/200*'Calculatie schoonmaak invulblad'!$C$12 -> #DIV/0! | O92: =(I92/K92)*L92*'Calculatie schoonmaak invulblad'!$C$12 -> #DIV/0!
A93: 1e Verdieping | B93: 120 | C93: Theorielokaal | D93: Leslokaal | E93: Linoleum | F93: Lino | G93: WP 2 | H93: 54 | I93: 54 | K93: ='Calculatie schoonmaak invulblad'!E62 -> 0 | L93: 100 | M93: =I93*L93 -> 5400 | N93: =((I93/K93)*L93)/200*'Calculatie schoonmaak invulblad'!$C$12 -> #DIV/0! | O93: =(I93/K93)*L93*'Calculatie schoonmaak invulblad'!$C$12 -> #DIV/0!
A94: 1e Verdieping | B94: 121 | C94: Praktijklokaal | D94: Praktijklokaal | E94: Linoleum | F94: Lino | G94: WP 4 | H94: 72 | I94: 72 | K94: ='Calculatie schoonmaak invulblad'!K22 -> 0 | L94: 200 | M94: =I94*L94 -> 14400 | N94: =((I94/K94)*L94)/200*'Calculatie schoonmaak invulblad'!$C$12 -> #DIV/0! | O94: =(I94/K94)*L94*'Calculatie schoonmaak invulblad'!$C$12 -> #DIV/0!
A95: 1e Verdieping | B95: V17 | C95: Verkeersruimte | D95: Verkeersruimte | E95: Linoleum | F95: Lino | G95: WP 6 | H95: 21 | I95: 21 | K95: ='Calculatie schoonmaak invulblad'!K62 -> 0 | L95: 200 | M95: =I95*L95 -> 4200 | N95: =((I95/K95)*L95)/200*'Calculatie schoonmaak invulblad'!$C$12 -> #DIV/0! | O95: =(I95/K95)*L95*'Calculatie schoonmaak invulblad'!$C$12 -> #DIV/0!
A96: 1e Verdieping | B96: V10 | C96: Trap(penhuis) | D96: Trap(penhuis) | E96: Beton | F96: Steen | G96: WP 6 | H96: 20 | I96: 20 | K96: ='Calculatie schoonmaak invulblad'!K49 -> 0 | L96: 200 | M96: =I96*L96 -> 4000 | N96: =((I96/K96)*L96)/200*'Calculatie schoonmaak invulblad'!$C$12 -> #DIV/0! | O96: =(I96/K96)*L96*'Calculatie schoonmaak invulblad'!$C$12 -> #DIV/0!
A97: 1e Verdieping | B97: V10 | C97: Trap(penhuis) | D97: Trap(penhuis) | E97: Linoleum | F97: Lino | G97: WP 6 | H97: 10 | I97: 10 | K97: ='Calculatie schoonmaak invulblad'!K52 -> 0 | L97: 200 | M97: =I97*L97 -> 2000 | N97: =((I97/K97)*L97)/200*'Calculatie schoonmaak invulblad'!$C$12 -> #DIV/0! | O97: =(I97/K97)*L97*'Calculatie schoonmaak invulblad'!$C$12 -> #DIV/0!
A98: 2e Verdieping | B98: V18 | C98: Verkeersruimte | D98: Verkeersruimte | E98: Linoleum | F98: Lino | G98: WP 6 | H98: 110 | I98: 110 | K98: ='Calculatie schoonmaak invulblad'!K62 -> 0 | L98: 200 | M98: =I98*L98 -> 22000 | N98: =((I98/K98)*L98)/200*'Calculatie schoonmaak invulblad'!$C$12 -> #DIV/0! | O98: =(I98/K98)*L98*'Calculatie schoonmaak invulblad'!$C$12 -> #DIV/0!
A99: 2e Verdieping | B99: V19 | C99: Verkeersruimte | D99: Verkeersruimte | E99: Linoleum | F99: Lino | G99: WP 6 | H99: 13 | I99: 13 | K99: ='Calculatie schoonmaak invulblad'!K62 -> 0 | L99: 200 | M99: =I99*L99 -> 2600 | N99: =((I99/K99)*L99)/200*'Calculatie schoonmaak invulblad'!$C$12 -> #DIV/0! | O99: =(I99/K99)*L99*'Calculatie schoonmaak invulblad'!$C$12 -> #DIV/0!
A100: 2e Verdieping | B100: 226 | C100: Leslokaal | D100: Leslokaal | E100: Vast tapijt | F100: Tapijt | G100: WP 2 | H100: 60 | I100: 60 | K100: ='Calculatie schoonmaak invulblad'!E61 -> 0 | L100: 100 | M100: =I100*L100 -> 6000 | N100: =((I100/K100)*L100)/200*'Calculatie schoonmaak invulblad'!$C$12 -> #DIV/0! | O100: =(I100/K100)*L100*'Calculatie schoonmaak invulblad'!$C$12 -> #DIV/0!
A101: 2e Verdieping | B101: 227 | C101: Kantoor | D101: Bureaukamer | E101: Vast tapijt | F101: Tapijt | G101: WP 1 | H101: 30 | I101: 30 | K101: ='Calculatie schoonmaak invulblad'!E22 -> 0 | L101: 40 | M101: =I101*L101 -> 1200 | N101: =((I101/K101)*L101)/200*'Calculatie schoonmaak invulblad'!$C$12 -> #DIV/0! | O101: =(I101/K101)*L101*'Calculatie schoonmaak invulblad'!$C$12 -> #DIV/0!
A102: 2e Verdieping | B102: 201 | C102: Leslokaal | D102: Leslokaal | E102: Vast tapijt | F102: Tapijt | G102: WP 2 | H102: 58 | I102: 58 | K102: ='Calculatie schoonmaak invulblad'!E61 -> 0 | L102: 100 | M102: =I102*L102 -> 5800 | N102: =((I102/K102)*L102)/200*'Calculatie schoonmaak invulblad'!$C$12 -> #DIV/0! | O102: =(I102/K102)*L102*'Calculatie schoonmaak invulblad'!$C$12 -> #DIV/0!
A103: 2e Verdieping | B103: 201.A | C103: Boekenfonds | D103: Bureaukamer | E103: Vast tapijt | F103: Tapijt | G103: WP 1 | H103: 39 | I103: 39 | K103: ='Calculatie schoonmaak invulblad'!E22 -> 0 | L103: 40 | M103: =I103*L103 -> 1560 | N103: =((I103/K103)*L103)/200*'Calculatie schoonmaak invulblad'!$C$12 -> #DIV/0! | O103: =(I103/K103)*L103*'Calculatie schoonmaak invulblad'!$C$12 -> #DIV/0!
...

Sheet NT 2 Roermond
A2: Klant | B2: SOML | D2: Totaal m² in onderhoud (i.o) | E2: =I170 -> 6843.5 | G2: Kosten inzet vrijgesteld toezicht per dag | J2: =E6*'Calculatie schoonmaak invulblad'!C2 -> #DIV/0! | L2: Bedrijfsnaam Inschrijver | M2: ='Calculatie schoonmaak invulblad'!I9 -> 0
A3: Locatie | B3: Nt2 | D3: Totaal m² per jaar in onderhoud | E3: =M170 -> 930084 | G3: Kosten schoonmaak per dag | J3: =E4*'Calculatie schoonmaak invulblad'!C4 -> #DIV/0! | L3: Datum | M3: ='Calculatie schoonmaak invulblad'!I10 -> 0
A4: Adres locatie | B4: Jagerstraat 2 6042 KA Roermond | D4: Uren per dag schoonmaak | E4: =N170 -> #DIV/0! | G4: Kosten inzet vrijgesteld toezicht per jaar | J4: =E7*'Calculatie schoonmaak invulblad'!C2 -> #DIV/0! | L4: Plaats | M4: ='Calculatie schoonmaak invulblad'!I11 -> 0
D5: Uren per jaar schoonmaak | E5: =O170 -> #DIV/0! | G5: Kosten schoonmaak per jaar | J5: =E5*'Calculatie schoonmaak invulblad'!C4 -> #DIV/0! | L5: Handtekening | M5: ='Calculatie schoonmaak invulblad'!I12 -> 0
D6: Uren per dag vrijgesteld toezicht | E6: =('Calculatie schoonmaak invulblad'!C6*'NT 2 Roermond'!E4)/100 -> #DIV/0! | G6: Contractjaarprijs locatie BC Broekhin | J6: =J4+J5 -> #DIV/0!
D7: Uren per jaar vrijgesteld toezicht | E7: =('Calculatie schoonmaak invulblad'!C6*'NT 2 Roermond'!E5)/100 -> #DIV/0!
A10: Verdieping | B10: Ruimtenummer | C10: Omschrijving | D10: Ruimtesoort | E10: Vloersoort | F10: Vloergroep | G10: Werkprogramma | H10: Totaal m² | I10: In onderhoud (i.o.) | J10: Niet in onderhoud (n.i.o.) | K10: Prestatienorm | L10: Dagen per jaar | M10: Totaal m² per jaar | N10: Uren per dag | O10: Uren per jaar
A11: Begane grond | B11: E 005 | C11: Trap(penhuis) | D11: Trap(penhuis) | E11: Linoleum | F11: Lino | G11: WP 6 | H11: 21 | I11: 21 | K11: ='Calculatie schoonmaak invulblad'!K52 -> 0 | L11: 200 | M11: =I11*L11 -> 4200 | N11: =((H11/K11)*L11)/200*'Calculatie schoonmaak invulblad'!$C$13 -> #DIV/0! | O11: =(I11/K11)*L11*'Calculatie schoonmaak invulblad'!$C$13 -> #DIV/0!
A12: Begane grond | B12: E 006 | C12: Sanitaire ruimte | D12: Sanitaire ruimte | E12: Steen | F12: Steen | G12: WP 7 | H12: 9 | I12: 9 | K12: ='Calculatie schoonmaak invulblad'!K37 -> 0 | L12: 200 | M12: =I12*L12 -> 1800 | N12: =((H12/K12)*L12)/200*'Calculatie schoonmaak invulblad'!$C$13 -> #DIV/0! | O12: =(I12/K12)*L12*'Calculatie schoonmaak invulblad'!$C$13 -> #DIV/0!
A13: Begane grond | B13: E 007 | C13: Sanitaire ruimte | D13: Sanitaire ruimte | E13: Steen | F13: Steen | G13: WP 7 | H13: 9 | I13: 9 | K13: ='Calculatie schoonmaak invulblad'!K37 -> 0 | L13: 200 | M13: =I13*L13 -> 1800 | N13: =((H13/K13)*L13)/200*'Calculatie schoonmaak invulblad'!$C$13 -> #DIV/0! | O13: =(I13/K13)*L13*'Calculatie schoonmaak invulblad'!$C$13 -> #DIV/0!
A14: Begane grond | B14: E 004 | C14: Gang | D14: Verkeersruimte | E14: PVC | F14: Heterogeen Vinyl | G14: WP 6 | H14: 30 | I14: 30 | K14: ='Calculatie schoonmaak invulblad'!K63 -> 0 | L14: 200 | M14: =I14*L14 -> 6000 | N14: =((H14/K14)*L14)/200*'Calculatie schoonmaak invulblad'!$C$13 -> #DIV/0! | O14: =(I14/K14)*L14*'Calculatie schoonmaak invulblad'!$C$13 -> #DIV/0!
A15: Begane grond | B15: A 001 a | C15: Portaal | D15: Verkeersruimte | E15: PVC | F15: Heterogeen Vinyl | G15: WP 6 | H15: 20 | I15: 20 | K15: ='Calculatie schoonmaak invulblad'!K63 -> 0 | L15: 200 | M15: =I15*L15 -> 4000 | N15: =((H15/K15)*L15)/200*'Calculatie schoonmaak invulblad'!$C$13 -> #DIV/0! | O15: =(I15/K15)*L15*'Calculatie schoonmaak invulblad'!$C$13 -> #DIV/0!
A16: Begane grond | B16: A 001 | C16: Hal | D16: Verkeersruimte | E16: Tapijt | F16: Tapijt | G16: WP 6 | H16: 84 | I16: 84 | K16: ='Calculatie schoonmaak invulblad'!K59 -> 0 | L16: 200 | M16: =I16*L16 -> 16800 | N16: =((H16/K16)*L16)/200*'Calculatie schoonmaak invulblad'!$C$13 -> #DIV/0! | O16: =(I16/K16)*L16*'Calculatie schoonmaak invulblad'!$C$13 -> #DIV/0!
A17: Begane grond | B17: A 007 | C17: Docentenkamer | D17: Horecaruimte | E17: Tapijt | F17: Tapijt | G17: WP 3 | H17: 85 | I17: 85 | K17: ='Calculatie schoonmaak invulblad'!E44 -> 0 | L17: 200 | M17: =I17*L17 -> 17000 | N17: =((H17/K17)*L17)/200*'Calculatie schoonmaak invulblad'!$C$13 -> #DIV/0! | O17: =(I17/K17)*L17*'Calculatie schoonmaak invulblad'!$C$13 -> #DIV/0!
A18: Begane grond | B18: A 006 | C18: Kantoor | D18: Bureaukamer | E18: Tapijt | F18: Tapijt | G18: WP 13 | H18: 42 | I18: 42 | K18: ='Calculatie schoonmaak invulblad'!E28 -> 0 | L18: 80 | M18: =I18*L18 -> 3360 | N18: =((H18/K18)*L18)/200*'Calculatie schoonmaak invulblad'!$C$13 -> #DIV/0! | O18: =(I18/K18)*L18*'Calculatie schoonmaak invulblad'!$C$13 -> #DIV/0!
A19: Begane grond | B19: A 005 | C19: Kantoor | D19: Bureaukamer | E19: Tapijt | F19: Tapijt | G19: WP 13 | H19: 34 | I19: 34 | K19: ='Calculatie schoonmaak invulblad'!E28 -> 0 | L19: 80 | M19: =I19*L19 -> 2720 | N19: =((H19/K19)*L19)/200*'Calculatie schoonmaak invulblad'!$C$13 -> #DIV/0! | O19: =(I19/K19)*L19*'Calculatie schoonmaak invulblad'!$C$13 -> #DIV/0!
A20: Begane grond | B20: A 004 | C20: Administratie | D20: Bureaukamer | E20: Tapijt | F20: Tapijt | G20: WP 13 | H20: 46 | I20: 46 | K20: ='Calculatie schoonmaak invulblad'!E28 -> 0 | L20: 80 | M20: =I20*L20 -> 3680 | N20: =((H20/K20)*L20)/200*'Calculatie schoonmaak invulblad'!$C$13 -> #DIV/0! | O20: =(I20/K20)*L20*'Calculatie schoonmaak invulblad'!$C$13 -> #DIV/0!
A21: Begane grond | B21: A 003 | C21: Berging | D21: Overige ruimte | E21: PVC | F21: Heterogeen Vinyl | G21: WP 12 | H21: 14 | I21: 0 | J21: 14 | K21: ='Calculatie schoonmaak invulblad'!E77 -> 0 | L21: 10 | M21: =I21*L21 -> 0 | N21: =((H21/K21)*L21)/200*'Calculatie schoonmaak invulblad'!$C$13 -> #DIV/0! | O21: =(I21/K21)*L21*'Calculatie schoonmaak invulblad'!$C$13 -> #DIV/0!
A22: Begane grond | B22: A 002 | C22: Kantoor | D22: Bureaukamer | E22: Tapijt | F22: Tapijt | G22: WP 13 | H22: 20 | I22: 20 | K22: ='Calculatie schoonmaak invulblad'!E28 -> 0 | L22: 80 | M22: =I22*L22 -> 1600 | N22: =((H22/K22)*L22)/200*'Calculatie schoonmaak invulblad'!$C$13 -> #DIV/0! | O22: =(I22/K22)*L22*'Calculatie schoonmaak invulblad'!$C$13 -> #DIV/0!
A23: Begane grond | B23: E012 | C23: Trap(penhuis) | D23: Trap(penhuis) | E23: Linoleum | F23: Lino | G23: WP 6 | H23: 21 | I23: 21 | K23: ='Calculatie schoonmaak invulblad'!K52 -> 0 | L23: 200 | M23: =I23*L23 -> 4200 | N23: =((H23/K23)*L23)/200*'Calculatie schoonmaak invulblad'!$C$13 -> #DIV/0! | O23: =(I23/K23)*L23*'Calculatie schoonmaak invulblad'!$C$13 -> #DIV/0!
A24: Begane grond | B24: E011 | C24: Miva-toilet | D24: Sanitaire ruimte | E24: Steen | F24: Steen | G24: WP 7 | H24: 5 | I24: 5 | K24: ='Calculatie schoonmaak invulblad'!K37 -> 0 | L24: 200 | M24: =I24*L24 -> 1000 | N24: =((H24/K24)*L24)/200*'Calculatie schoonmaak invulblad'!$C$13 -> #DIV/0! | O24: =(I24/K24)*L24*'Calculatie schoonmaak invulblad'!$C$13 -> #DIV/0!
A25: Begane grond | B25: E013 | C25: Sanitaire ruimte | D25: Sanitaire ruimte | E25: Steen | F25: Steen | G25: WP 7 | H25: 9 | I25: 9 | K25: ='Calculatie schoonmaak invulblad'!K37 -> 0 | L25: 200 | M25: =I25*L25 -> 1800 | N25: =((H25/K25)*L25)/200*'Calculatie schoonmaak invulblad'!$C$13 -> #DIV/0! | O25: =(I25/K25)*L25*'Calculatie schoonmaak invulblad'!$C$13 -> #DIV/0!
A26: Begane grond | B26: E010 | C26: Hal | D26: Verkeersruimte | E26: Linoleum | F26: Lino | G26: WP 6 | H26: 55 | I26: 55 | K26: ='Calculatie schoonmaak invulblad'!K62 -> 0 | L26: 200 | M26: =I26*L26 -> 11000 | N26: =((H26/K26)*L26)/200*'Calculatie schoonmaak invulblad'!$C$13 -> #DIV/0! | O26: =(I26/K26)*L26*'Calculatie schoonmaak invulblad'!$C$13 -> #DIV/0!
A27: Begane grond | B27: B001 | C27: Hal | D27: Verkeersruimte | E27: Linoleum | F27: Lino | G27: WP 6 | H27: 72 | I27: 72 | K27: ='Calculatie schoonmaak invulblad'!K62 -> 0 | L27: 200 | M27: =I27*L27 -> 14400 | N27: =((H27/K27)*L27)/200*'Calculatie schoonmaak invulblad'!$C$13 -> #DIV/0! | O27: =(I27/K27)*L27*'Calculatie schoonmaak invulblad'!$C$13 -> #DIV/0!
A28: Begane grond | B28: B008 | C28: Kantoor | D28: Bureaukamer | E28: Linoleum | F28: Lino | G28: WP 13 | H28: 33 | I28: 33 | K28: ='Calculatie schoonmaak invulblad'!E29 -> 0 | L28: 80 | M28: =I28*L28 -> 2640 | N28: =((H28/K28)*L28)/200*'Calculatie schoonmaak invulblad'!$C$13 -> #DIV/0! | O28: =(I28/K28)*L28*'Calculatie schoonmaak invulblad'!$C$13 -> #DIV/0!
A29: Begane grond | B29: B008 | C29: Kantoor | D29: Bureaukamer | E29: Linoleum | F29: Lino | G29: WP 13 | H29: 22 | I29: 22 | K29: ='Calculatie schoonmaak invulblad'!E29 -> 0 | L29: 80 | M29: =I29*L29 -> 1760 | N29: =((H29/K29)*L29)/200*'Calculatie schoonmaak invulblad'!$C$13 -> #DIV/0! | O29: =(I29/K29)*L29*'Calculatie schoonmaak invulblad'!$C$13 -> #DIV/0!
A30: Begane grond | C30: Berging | D30: Overige ruimte | E30: Linoleum | F30: Lino | G30: WP 12 | H30: 5 | I30: 0 | J30: 5 | K30: ='Calculatie schoonmaak invulblad'!E75 -> 0 | L30: 10 | M30: =I30*L30 -> 0 | N30: =((H30/K30)*L30)/200*'Calculatie schoonmaak invulblad'!$C$13 -> #DIV/0! | O30: =(I30/K30)*L30*'Calculatie schoonmaak invulblad'!$C$13 -> #DIV/0!
A31: Begane grond | B31: B007 | C31: Theorielokaal | D31: Leslokaal | E31: Linoleum | F31: Lino | G31: WP 2 | H31: 56 | I31: 56 | K31: ='Calculatie schoonmaak invulblad'!E62 -> 0 | L31: 100 | M31: =I31*L31 -> 5600 | N31: =((H31/K31)*L31)/200*'Calculatie schoonmaak invulblad'!$C$13 -> #DIV/0! | O31: =(I31/K31)*L31*'Calculatie schoonmaak invulblad'!$C$13 -> #DIV/0!
A32: Begane grond | B32: B006 | C32: Theorielokaal | D32: Leslokaal | E32: Linoleum | F32: Lino | G32: WP 2 | H32: 60 | I32: 60 | K32: ='Calculatie schoonmaak invulblad'!E62 -> 0 | L32: 100 | M32: =I32*L32 -> 6000 | N32: =((H32/K32)*L32)/200*'Calculatie schoonmaak invulblad'!$C$13 -> #DIV/0! | O32: =(I32/K32)*L32*'Calculatie schoonmaak invulblad'!$C$13 -> #DIV/0!
A33: Begane grond | B33: B005 | C33: Keuken | D33: Keuken/Pantry | E33: Linoleum | F33: Lino | G33: WP 3 | H33: 22 | I33: 22 | K33: ='Calculatie schoonmaak invulblad'!E53 -> 0 | L33: 200 | M33: =I33*L33 -> 4400 | N33: =((H33/K33)*L33)/200*'Calculatie schoonmaak invulblad'!$C$13 -> #DIV/0! | O33: =(I33/K33)*L33*'Calculatie schoonmaak invulblad'!$C$13 -> #DIV/0!
A34: Begane grond | B34: B004 | C34: Theorielokaal | D34: Leslokaal | E34: Linoleum | F34: Lino | G34: WP 2 | H34: 60 | I34: 60 | K34: ='Calculatie schoonmaak invulblad'!E62 -> 0 | L34: 100 | M34: =I34*L34 -> 6000 | N34: =((H34/K34)*L34)/200*'Calculatie schoonmaak invulblad'!$C$13 -> #DIV/0! | O34: =(I34/K34)*L34*'Calculatie schoonmaak invulblad'!$C$13 -> #DIV/0!
A35: Begane grond | B35: B003 | C35: Kantoor | D35: Bureaukamer | E35: Linoleum | F35: Lino | G35: WP 13 | H35: 33 | I35: 33 | K35: ='Calculatie schoonmaak invulblad'!E29 -> 0 | L35: 80 | M35: =I35*L35 -> 2640 | N35: =((H35/K35)*L35)/200*'Calculatie schoonmaak invulblad'!$C$13 -> #DIV/0! | O35: =(I35/K35)*L35*'Calculatie schoonmaak invulblad'!$C$13 -> #DIV/0!
A36: Begane grond | B36: B002 | C36: Kantoor | D36: Bureaukamer | E36: Linoleum | F36: Lino | G36: WP 13 | H36: 28 | I36: 28 | K36: ='Calculatie schoonmaak invulblad'!E29 -> 0 | L36: 80 | M36: =I36*L36 -> 2240 | N36: =((H36/K36)*L36)/200*'Calculatie schoonmaak invulblad'!$C$13 -> #DIV/0! | O36: =(I36/K36)*L36*'Calculatie schoonmaak invulblad'!$C$13 -> #DIV/0!
A37: Begane grond | B37: E 015 | C37: Trap(penhuis) | D37: Trap(penhuis) | E37: Linoleum | F37: Lino | G37: WP 6 | H37: 21 | I37: 21 | K37: ='Calculatie schoonmaak invulblad'!K52 -> 0 | L37: 200 | M37: =I37*L37 -> 4200 | N37: =((H37/K37)*L37)/200*'Calculatie schoonmaak invulblad'!$C$13 -> #DIV/0! | O37: =(I37/K37)*L37*'Calculatie schoonmaak invulblad'!$C$13 -> #DIV/0!
A38: Begane grond | B38: E 016 | C38: Sanitaire ruimte | D38: Sanitaire ruimte | E38: Steen | F38: Steen | G38: WP 7 | H38: 9 | I38: 9 | K38: ='Calculatie schoonmaak invulblad'!K37 -> 0 | L38: 200 | M38: =I38*L38 -> 1800 | N38: =((H38/K38)*L38)/200*'Calculatie schoonmaak invulblad'!$C$13 -> #DIV/0! | O38: =(I38/K38)*L38*'Calculatie schoonmaak invulblad'!$C$13 -> #DIV/0!
A39: Begane grond | B39: E 017 | C39: Sanitaire ruimte | D39: Sanitaire ruimte | E39: Steen | F39: Steen | G39: WP 7 | H39: 9 | I39: 9 | K39: ='Calculatie schoonmaak invulblad'!K37 -> 0 | L39: 200 | M39: =I39*L39 -> 1800 | N39: =((H39/K39)*L39)/200*'Calculatie schoonmaak invulblad'!$C$13 -> #DIV/0! | O39: =(I39/K39)*L39*'Calculatie schoonmaak invulblad'!$C$13 -> #DIV/0!
A40: Begane grond | B40: C 001 | C40: Hal | D40: Verkeersruimte | E40: PVC | F40: Heterogeen Vinyl | G40: WP 6 | H40: 45 | I40: 45 | K40: ='Calculatie schoonmaak invulblad'!K63 -> 0 | L40: 200 | M40: =I40*L40 -> 9000 | N40: =((H40/K40)*L40)/200*'Calculatie schoonmaak invulblad'!$C$13 -> #DIV/0! | O40: =(I40/K40)*L40*'Calculatie schoonmaak invulblad'!$C$13 -> #DIV/0!
A41: Begane grond | B41: C 002 | C41: Praktijklokaal | D41: Praktijklokaal | E41: PVC | F41: Heterogeen Vinyl | G41: WP 4 | H41: 72 | I41: 72 | K41: ='Calculatie schoonmaak invulblad'!K23 -> 0 | L41: 200 | M41: =I41*L41 -> 14400 | N41: =((H41/K41)*L41)/200*'Calculatie schoonmaak invulblad'!$C$13 -> #DIV/0! | O41: =(I41/K41)*L41*'Calculatie schoonmaak invulblad'!$C$13 -> #DIV/0!
A42: Begane grond | B42: C 003 | C42: Kooklokaal | D42: Praktijklokaal Keuken | E42: PVC | F42: Heterogeen Vinyl | G42: WP 5 | H42: 125 | I42: 125 | K42: ='Calculatie schoonmaak invulblad'!K31 -> 0 | L42: 200 | M42: =I42*L42 -> 25000 | N42: =((H42/K42)*L42)/200*'Calculatie schoonmaak invulblad'!$C$13 -> #DIV/0! | O42: =(I42/K42)*L42*'Calculatie schoonmaak invulblad'!$C$13 -> #DIV/0!
A43: Begane grond | B43: C004 | C43: Praktijklokaal | D43: Praktijklokaal | E43: PVC | F43: Heterogeen Vinyl | G43: WP 4 | H43: 65 | I43: 65 | K43: ='Calculatie schoonmaak invulblad'!K23 -> 0 | L43: 200 | M43: =I43*L43 -> 13000 | N43: =((H43/K43)*L43)/200*'Calculatie schoonmaak invulblad'!$C$13 -> #DIV/0! | O43: =(I43/K43)*L43*'Calculatie schoonmaak invulblad'!$C$13 -> #DIV/0!
A44: Begane grond | B44: C004A | C44: Berging | D44: Overige ruimte | E44: PVC | F44: Heterogeen Vinyl | G44: WP 12 | H44: 7.5 | I44: 0 | J44: 7.5 | K44: ='Calculatie schoonmaak invulblad'!E77 -> 0 | L44: 10 | M44: =I44*L44 -> 0 | N44: =((H44/K44)*L44)/200*'Calculatie schoonmaak invulblad'!$C$13 -> #DIV/0! | O44: =(I44/K44)*L44*'Calculatie schoonmaak invulblad'!$C$13 -> #DIV/0!
A45: Begane grond | B45: C005 | C45: Praktijklokaal | D45: Praktijklokaal | E45: PVC | F45: Heterogeen Vinyl | G45: WP 4 | H45: 80 | I45: 80 | K45: ='Calculatie schoonmaak invulblad'!K23 -> 0 | L45: 200 | M45: =I45*L45 -> 16000 | N45: =((H45/K45)*L45)/200*'Calculatie schoonmaak invulblad'!$C$13 -> #DIV/0! | O45: =(I45/K45)*L45*'Calculatie schoonmaak invulblad'!$C$13 -> #DIV/0!
A46: Begane grond | B46: E 008 | C46: Aula incl. zitkuil | D46: Horecaruimte | E46: PVC | F46: Heterogeen Vinyl | G46: WP 3 | H46: 255 | I46: 255 | K46: ='Calculatie schoonmaak invulblad'!E46 -> 0 | L46: 200 | M46: =I46*L46 -> 51000 | N46: =((H46/K46)*L46)/200*'Calculatie schoonmaak invulblad'!$C$13 -> #DIV/0! | O46: =(I46/K46)*L46*'Calculatie schoonmaak invulblad'!$C$13 -> #DIV/0!
A47: Begane grond | B47: E 018 | C47: Aula | D47: Horecaruimte | E47: PVC | F47: Heterogeen Vinyl | G47: WP 3 | H47: 245 | I47: 245 | K47: ='Calculatie schoonmaak invulblad'!E46 -> 0 | L47: 200 | M47: =I47*L47 -> 49000 | N47: =((H47/K47)*L47)/200*'Calculatie schoonmaak invulblad'!$C$13 -> #DIV/0! | O47: =(I47/K47)*L47*'Calculatie schoonmaak invulblad'!$C$13 -> #DIV/0!
A48: Begane grond | B48: E 018A | C48: Keuken | D48: Keuken/Pantry | E48: Steen | F48: Steen | G48: WP 3 | H48: 9 | I48: 9 | K48: ='Calculatie schoonmaak invulblad'!E51 -> 0 | L48: 200 | M48: =I48*L48 -> 1800 | N48: =((H48/K48)*L48)/200*'Calculatie schoonmaak invulblad'!$C$13 -> #DIV/0! | O48: =(I48/K48)*L48*'Calculatie schoonmaak invulblad'!$C$13 -> #DIV/0!
A49: Begane grond | B49: E 001 | C49: Tochtportaal | D49: Verkeersruimte | E49: Tapijt | F49: Tapijt | G49: WP 6 | H49: 4 | I49: 4 | K49: ='Calculatie schoonmaak invulblad'!K59 -> 0 | L49: 200 | M49: =I49*L49 -> 800 | N49: =((H49/K49)*L49)/200*'Calculatie schoonmaak invulblad'!$C$13 -> #DIV/0! | O49: =(I49/K49)*L49*'Calculatie schoonmaak invulblad'!$C$13 -> #DIV/0!
A50: Begane grond | B50: E 002 | C50: Entree | D50: Verkeersruimte | E50: PVC | F50: Heterogeen Vinyl | G50: WP 6 | H50: 85 | I50: 85 | K50: ='Calculatie schoonmaak invulblad'!K63 -> 0 | L50: 200 | M50: =I50*L50 -> 17000 | N50: =((H50/K50)*L50)/200*'Calculatie schoonmaak invulblad'!$C$13 -> #DIV/0! | O50: =(I50/K50)*L50*'Calculatie schoonmaak invulblad'!$C$13 -> #DIV/0!
A51: Begane grond | B51: E 002A | C51: Garderobe | D51: Verkeersruimte | E51: PVC | F51: Heterogeen Vinyl | G51: WP 6 | H51: 60 | I51: 60 | K51: ='Calculatie schoonmaak invulblad'!K63 -> 0 | L51: 200 | M51: =I51*L51 -> 12000 | N51: =((H51/K51)*L51)/200*'Calculatie schoonmaak invulblad'!$C$13 -> #DIV/0! | O51: =(I51/K51)*L51*'Calculatie schoonmaak invulblad'!$C$13 -> #DIV/0!
A52: Begane grond | B52: E 003 | C52: Ontvangstruimte | D52: Verkeersruimte | E52: Tapijt | F52: Tapijt | G52: WP 6 | H52: 57 | I52: 57 | K52: ='Calculatie schoonmaak invulblad'!K59 -> 0 | L52: 200 | M52: =I52*L52 -> 11400 | N52: =((H52/K52)*L52)/200*'Calculatie schoonmaak invulblad'!$C$13 -> #DIV/0! | O52: =(I52/K52)*L52*'Calculatie schoonmaak invulblad'!$C$13 -> #DIV/0!
A53: Begane grond | B53: E 003A | C53: Spreekkamer | D53: Bureaukamer | E53: Tapijt | F53: Tapijt | G53: WP 13 | H53: 12 | I53: 12 | K53: ='Calculatie schoonmaak invulblad'!E28 -> 0 | L53: 80 | M53: =I53*L53 -> 960 | N53: =((H53/K53)*L53)/200*'Calculatie schoonmaak invulblad'!$C$13 -> #DIV/0! | O53: =(I53/K53)*L53*'Calculatie schoonmaak invulblad'!$C$13 -> #DIV/0!
A54: Begane grond | B54: E 003B | C54: Receptie | D54: Bureaukamer | E54: Tapijt | F54: Tapijt | G54: WP 13 | H54: 50 | I54: 50 | K54: ='Calculatie schoonmaak invulblad'!E28 -> 0 | L54: 80 | M54: =I54*L54 -> 4000 | N54: =((H54/K54)*L54)/200*'Calculatie schoonmaak invulblad'!$C$13 -> #DIV/0! | O54: =(I54/K54)*L54*'Calculatie schoonmaak invulblad'!$C$13 -> #DIV/0!
A55: Begane grond | B55: E 003C | C55: E.H.B.O.-ruimte | D55: E.H.B.O.-ruimte | E55: PVC | F55: Heterogeen Vinyl | G55: WP 1 | H55: 8 | I55: 8 | K55: ='Calculatie schoonmaak invulblad'!E39 -> 0 | L55: 40 | M55: =I55*L55 -> 320 | N55: =((H55/K55)*L55)/200*'Calculatie schoonmaak invulblad'!$C$13 -> #DIV/0! | O55: =(I55/K55)*L55*'Calculatie schoonmaak invulblad'!$C$13 -> #DIV/0!
A56: Begane grond | B56: F001 | C56: Sportzaal | D56: Sportzaal | E56: Sportvloer | F56: Sportvloer | G56: WP 10/11 | H56: 252 | I56: 252 | K56: =(('Calculatie schoonmaak invulblad'!K40*50)/65)+(('Calculatie schoonmaak invulblad'!K41*15)/65) -> 0 | L56: 65 | M56: =I56*L56 -> 16380 | N56: =((H56/K56)*L56)/200*'Calculatie schoonmaak invulblad'!$C$13 -> #DIV/0! | O56: =(I56/K56)*L56*'Calculatie schoonmaak invulblad'!$C$13 -> #DIV/0!
A57: Begane grond | B57: F002 | C57: Sportzaal | D57: Sportzaal | E57: Sportvloer | F57: Sportvloer | G57: WP 10/11 | H57: 252 | I57: 252 | K57: =(('Calculatie schoonmaak invulblad'!K40*50)/65)+(('Calculatie schoonmaak invulblad'!K41*15)/65) -> 0 | L57: 65 | M57: =I57*L57 -> 16380 | N57: =((H57/K57)*L57)/200*'Calculatie schoonmaak invulblad'!$C$13 -> #DIV/0! | O57: =(I57/K57)*L57*'Calculatie schoonmaak invulblad'!$C$13 -> #DIV/0!
A58: Begane grond | B58: F003 | C58: Sportzaal | D58: Sportzaal | E58: Sportvloer | F58: Sportvloer | G58: WP 10/11 | H58: 252 | I58: 252 | K58: =(('Calculatie schoonmaak invulblad'!K40*50)/65)+(('Calculatie schoonmaak invulblad'!K41*15)/65) -> 0 | L58: 65 | M58: =I58*L58 -> 16380 | N58: =((H58/K58)*L58)/200*'Calculatie schoonmaak invulblad'!$C$13 -> #DIV/0! | O58: =(I58/K58)*L58*'Calculatie schoonmaak invulblad'!$C$13 -> #DIV/0!
A59: Begane grond | B59: F007 | C59: Toestelberging | D59: Toestelberging | E59: Sportvloer | F59: Sportvloer | G59: WP 10/11 | H59: 24 | I59: 24 | K59: =('Calculatie schoonmaak invulblad'!K47+'Calculatie schoonmaak invulblad'!K48)/2 -> 0 | L59: 2 | M59: =I59*L59 -> 48 | N59: =((H59/K59)*L59)/200*'Calculatie schoonmaak invulblad'!$C$13 -> #DIV/0! | O59: =(I59/K59)*L59*'Calculatie schoonmaak invulblad'!$C$13 -> #DIV/0!
A60: Begane grond | B60: F008 | C60: Toestelberging | D60: Toestelberging | E60: Sportvloer | F60: Sportvloer | G60: WP 10/11 | H60: 24 | I60: 24 | K60: =('Calculatie schoonmaak invulblad'!K47+'Calculatie schoonmaak invulblad'!K48)/2 -> 0 | L60: 2 | M60: =I60*L60 -> 48 | N60: =((H60/K60)*L60)/200*'Calculatie schoonmaak invulblad'!$C$13 -> #DIV/0! | O60: =(I60/K60)*L60*'Calculatie schoonmaak invulblad'!$C$13 -> #DIV/0!
A61: Begane grond | B61: F01A | C61: Kleedruimte dames | D61: Kleedruimte | E61: Linoleum | F61: Lino | G61: WP 9 | H61: 16 | I61: 16 | K61: ='Calculatie schoonmaak invulblad'!E59 -> 0 | L61: 200 | M61: =I61*L61 -> 3200 | N61: =((H61/K61)*L61)/200*'Calculatie schoonmaak invulblad'!$C$13 -> #DIV/0! | O61: =(I61/K61)*L61*'Calculatie schoonmaak invulblad'!$C$13 -> #DIV/0!
A62: Begane grond | B62: F02A | C62: Kleedruimte dames | D62: Kleedruimte | E62: Linoleum | F62: Lino | G62: WP 9 | H62: 16 | I62: 16 | K62: ='Calculatie schoonmaak invulblad'!E59 -> 0 | L62: 200 | M62: =I62*L62 -> 3200 | N62: =((H62/K62)*L62)/200*'Calculatie schoonmaak invulblad'!$C$13 -> #DIV/0! | O62: =(I62/K62)*L62*'Calculatie schoonmaak invulblad'!$C$13 -> #DIV/0!
A63: Begane grond | B63: F03A | C63: Kleedruimte dames | D63: Kleedruimte | E63: Linoleum | F63: Lino | G63: WP 9 | H63: 16 | I63: 16 | K63: ='Calculatie schoonmaak invulblad'!E59 -> 0 | L63: 200 | M63: =I63*L63 -> 3200 | N63: =((H63/K63)*L63)/200*'Calculatie schoonmaak invulblad'!$C$13 -> #DIV/0! | O63: =(I63/K63)*L63*'Calculatie schoonmaak invulblad'!$C$13 -> #DIV/0!
A64: Begane grond | B64: F01B | C64: Kleedruimte heren | D64: Kleedruimte | E64: Linoleum | F64: Lino | G64: WP 9 | H64: 16 | I64: 16 | K64: ='Calculatie schoonmaak invulblad'!E59 -> 0 | L64: 200 | M64: =I64*L64 -> 3200 | N64: =((H64/K64)*L64)/200*'Calculatie schoonmaak invulblad'!$C$13 -> #DIV/0! | O64: =(I64/K64)*L64*'Calculatie schoonmaak invulblad'!$C$13 -> #DIV/0!
A65: Begane grond | B65: F02B | C65: Kleedruimte heren | D65: Kleedruimte | E65: Linoleum | F65: Lino | G65: WP 9 | H65: 16 | I65: 16 | K65: ='Calculatie schoonmaak invulblad'!E59 -> 0 | L65: 200 | M65: =I65*L65 -> 3200 | N65: =((H65/K65)*L65)/200*'Calculatie schoonmaak invulblad'!$C$13 -> #DIV/0! | O65: =(I65/K65)*L65*'Calculatie schoonmaak invulblad'!$C$13 -> #DIV/0!
A66: Begane grond | B66: F03B | C66: Kleedruimte heren | D66: Kleedruimte | E66: Linoleum | F66: Lino | G66: WP 9 | H66: 16 | I66: 16 | K66: ='Calculatie schoonmaak invulblad'!E59 -> 0 | L66: 200 | M66: =I66*L66 -> 3200 | N66: =((H66/K66)*L66)/200*'Calculatie schoonmaak invulblad'!$C$13 -> #DIV/0! | O66: =(I66/K66)*L66*'Calculatie schoonmaak invulblad'!$C$13 -> #DIV/0!
A67: Begane grond | B67: F01C | C67: Toiletruimte | D67: Sanitaire ruimte | E67: Steen | F67: Steen | G67: WP 7 | H67: 5 | I67: 5 | K67: ='Calculatie schoonmaak invulblad'!K37 -> 0 | L67: 200 | M67: =I67*L67 -> 1000 | N67: =((H67/K67)*L67)/200*'Calculatie schoonmaak invulblad'!$C$13 -> #DIV/0! | O67: =(I67/K67)*L67*'Calculatie schoonmaak invulblad'!$C$13 -> #DIV/0!
A68: Begane grond | B68: F01D | C68: Toiletruimte | D68: Sanitaire ruimte | E68: Steen | F68: Steen | G68: WP 7 | H68: 2 | I68: 2 | K68: ='Calculatie schoonmaak invulblad'!K37 -> 0 | L68: 200 | M68: =I68*L68 -> 400 | N68: =((H68/K68)*L68)/200*'Calculatie schoonmaak invulblad'!$C$13 -> #DIV/0! | O68: =(I68/K68)*L68*'Calculatie schoonmaak invulblad'!$C$13 -> #DIV/0!
A69: Begane grond | B69: F11 | C69: Werkplaats | D69: Overige ruimte | E69: Linoleum | F69: Lino | G69: WP 12 | H69: 8 | I69: 0 | J69: 8 | K69: ='Calculatie schoonmaak invulblad'!E75 -> 0 | L69: 10 | M69: =I69*L69 -> 0 | N69: =((H69/K69)*L69)/200*'Calculatie schoonmaak invulblad'!$C$13 -> #DIV/0! | O69: =(I69/K69)*L69*'Calculatie schoonmaak invulblad'!$C$13 -> #DIV/0!
A70: Begane grond | B70: F02C | C70: Toiletruimte | D70: Sanitaire ruimte | E70: Steen | F70: Steen | G70: WP 7 | H70: 5 | I70: 5 | K70: ='Calculatie schoonmaak invulblad'!K37 -> 0 | L70: 200 | M70: =I70*L70 -> 1000 | N70: =((H70/K70)*L70)/200*'Calculatie schoonmaak invulblad'!$C$13 -> #DIV/0! | O70: =(I70/K70)*L70*'Calculatie schoonmaak invulblad'!$C$13 -> #DIV/0!
A71: Begane grond | B71: F02D | C71: Toiletruimte | D71: Sanitaire ruimte | E71: Steen | F71: Steen | G71: WP 7 | H71: 2 | I71: 2 | K71: ='Calculatie schoonmaak invulblad'!K37 -> 0 | L71: 200 | M71: =I71*L71 -> 400 | N71: =((H71/K71)*L71)/200*'Calculatie schoonmaak invulblad'!$C$13 -> #DIV/0! | O71: =(I71/K71)*L71*'Calculatie schoonmaak invulblad'!$C$13 -> #DIV/0!
A72: Begane grond | B72: F03C | C72: Toiletruimte | D72: Sanitaire ruimte | E72: Steen | F72: Steen | G72: WP 7 | H72: 5 | I72: 5 | K72: ='Calculatie schoonmaak invulblad'!K37 -> 0 | L72: 200 | M72: =I72*L72 -> 1000 | N72: =((H72/K72)*L72)/200*'Calculatie schoonmaak invulblad'!$C$13 -> #DIV/0! | O72: =(I72/K72)*L72*'Calculatie schoonmaak invulblad'!$C$13 -> #DIV/0!
A73: Begane grond | B73: F03D | C73: Toiletruimte | D73: Sanitaire ruimte | E73: Steen | F73: Steen | G73: WP 7 | H73: 2 | I73: 2 | K73: ='Calculatie schoonmaak invulblad'!K37 -> 0 | L73: 200 | M73: =I73*L73 -> 400 | N73: =((H73/K73)*L73)/200*'Calculatie schoonmaak invulblad'!$C$13 -> #DIV/0! | O73: =(I73/K73)*L73*'Calculatie schoonmaak invulblad'!$C$13 -> #DIV/0!
A74: Begane grond | B74: F04 | C74: Gang | D74: Verkeersruimte | E74: Linoleum | F74: Lino | G74: WP 6 | H74: 71 | I74: 71 | K74: ='Calculatie schoonmaak invulblad'!K62 -> 0 | L74: 200 | M74: =I74*L74 -> 14200 | N74: =((H74/K74)*L74)/200*'Calculatie schoonmaak invulblad'!$C$13 -> #DIV/0! | O74: =(I74/K74)*L74*'Calculatie schoonmaak invulblad'!$C$13 -> #DIV/0!
A75: Begane grond | B75: F09 | C75: Toestelberging | D75: Toestelberging | E75: Sportvloer | F75: Sportvloer | G75: WP 10/11 | H75: 24 | I75: 24 | K75: =('Calculatie schoonmaak invulblad'!K47+'Calculatie schoonmaak invulblad'!K48)/2 -> 0 | L75: 2 | M75: =I75*L75 -> 48 | N75: =((H75/K75)*L75)/200*'Calculatie schoonmaak invulblad'!$C$13 -> #DIV/0! | O75: =(I75/K75)*L75*'Calculatie schoonmaak invulblad'!$C$13 -> #DIV/0!
A76: 1e Verdieping | B76: E 1.1 | C76: Trap(penhuis) | D76: Trap(penhuis) | E76: PVC | F76: Heterogeen Vinyl | G76: WP 6 | H76: 21 | I76: 21 | K76: ='Calculatie schoonmaak invulblad'!K56 -> 0 | L76: 200 | M76: =I76*L76 -> 4200 | N76: =((H76/K76)*L76)/200*'Calculatie schoonmaak invulblad'!$C$13 -> #DIV/0! | O76: =(I76/K76)*L76*'Calculatie schoonmaak invulblad'!$C$13 -> #DIV/0!
A77: 1e Verdieping | B77: E 1.2 | C77: Sanitaire ruimte | D77: Sanitaire ruimte | E77: Steen | F77: Steen | G77: WP 7 | H77: 9 | I77: 9 | K77: ='Calculatie schoonmaak invulblad'!K37 -> 0 | L77: 200 | M77: =I77*L77 -> 1800 | N77: =((H77/K77)*L77)/200*'Calculatie schoonmaak invulblad'!$C$13 -> #DIV/0! | O77: =(I77/K77)*L77*'Calculatie schoonmaak invulblad'!$C$13 -> #DIV/0!
A78: 1e Verdieping | B78: E 1.3 | C78: Sanitaire ruimte | D78: Sanitaire ruimte | E78: Steen | F78: Steen | G78: WP 7 | H78: 9 | I78: 9 | K78: ='Calculatie schoonmaak invulblad'!K37 -> 0 | L78: 200 | M78: =I78*L78 -> 1800 | N78: =((H78/K78)*L78)/200*'Calculatie schoonmaak invulblad'!$C$13 -> #DIV/0! | O78: =(I78/K78)*L78*'Calculatie schoonmaak invulblad'!$C$13 -> #DIV/0!
A79: 1e Verdieping | B79: E 1.4 | C79: Hal | D79: Verkeersruimte | E79: PVC | F79: Heterogeen Vinyl | G79: WP 6 | H79: 185 | I79: 185 | K79: ='Calculatie schoonmaak invulblad'!K63 -> 0 | L79: 200 | M79: =I79*L79 -> 37000 | N79: =((H79/K79)*L79)/200*'Calculatie schoonmaak invulblad'!$C$13 -> #DIV/0! | O79: =(I79/K79)*L79*'Calculatie schoonmaak invulblad'!$C$13 -> #DIV/0!
A80: 1e Verdieping | B80: A 1.1 | C80: Hal | D80: Verkeersruimte | E80: Tapijt | F80: Tapijt | G80: WP 6 | H80: 89 | I80: 89 | K80: ='Calculatie schoonmaak invulblad'!K59 -> 0 | L80: 200 | M80: =I80*L80 -> 17800 | N80: =((H80/K80)*L80)/200*'Calculatie schoonmaak invulblad'!$C$13 -> #DIV/0! | O80: =(I80/K80)*L80*'Calculatie schoonmaak invulblad'!$C$13 -> #DIV/0!
A81: 1e Verdieping | B81: A1.9 | C81: Talenpraktikum | D81: Leslokaal | E81: Tapijt | F81: Tapijt | G81: WP 2 | H81: 67 | I81: 67 | K81: ='Calculatie schoonmaak invulblad'!E61 -> 0 | L81: 100 | M81: =I81*L81 -> 6700 | N81: =((H81/K81)*L81)/200*'Calculatie schoonmaak invulblad'!$C$13 -> #DIV/0! | O81: =(I81/K81)*L81*'Calculatie schoonmaak invulblad'!$C$13 -> #DIV/0!
A82: 1e Verdieping | B82: A1.8 + A 1.7 | C82: Informaticalokaal | D82: Leslokaal | E82: Tapijt | F82: Tapijt | G82: WP 2 | H82: 108 | I82: 108 | K82: ='Calculatie schoonmaak invulblad'!E61 -> 0 | L82: 100 | M82: =I82*L82 -> 10800 | N82: =((H82/K82)*L82)/200*'Calculatie schoonmaak invulblad'!$C$13 -> #DIV/0! | O82: =(I82/K82)*L82*'Calculatie schoonmaak invulblad'!$C$13 -> #DIV/0!
A83: 1e Verdieping | B83: A1.6 | C83: Kantoor | D83: Bureaukamer | E83: Tapijt | F83: Tapijt | G83: WP 13 | H83: 20 | I83: 20 | K83: ='Calculatie schoonmaak invulblad'!E28 -> 0 | L83: 80 | M83: =I83*L83 -> 1600 | N83: =((H83/K83)*L83)/200*'Calculatie schoonmaak invulblad'!$C$13 -> #DIV/0! | O83: =(I83/K83)*L83*'Calculatie schoonmaak invulblad'!$C$13 -> #DIV/0!
A84: 1e Verdieping | B84: A1.5 | C84: Kantoor | D84: Bureaukamer | E84: Tapijt | F84: Tapijt | G84: WP 13 | H84: 20 | I84: 20 | K84: ='Calculatie schoonmaak invulblad'!E28 -> 0 | L84: 80 | M84: =I84*L84 -> 1600 | N84: =((H84/K84)*L84)/200*'Calculatie schoonmaak invulblad'!$C$13 -> #DIV/0! | O84: =(I84/K84)*L84*'Calculatie schoonmaak invulblad'!$C$13 -> #DIV/0!
A85: 1e Verdieping | B85: A1.4 | C85: Theorielokaal | D85: Leslokaal | E85: Tapijt | F85: Tapijt | G85: WP 2 | H85: 56 | I85: 56 | K85: ='Calculatie schoonmaak invulblad'!E61 -> 0 | L85: 100 | M85: =I85*L85 -> 5600 | N85: =((H85/K85)*L85)/200*'Calculatie schoonmaak invulblad'!$C$13 -> #DIV/0! | O85: =(I85/K85)*L85*'Calculatie schoonmaak invulblad'!$C$13 -> #DIV/0!
A86: 1e Verdieping | B86: A1.3 | C86: Theorielokaal | D86: Leslokaal | E86: Tapijt | F86: Tapijt | G86: WP 2 | H86: 52 | I86: 52 | K86: ='Calculatie schoonmaak invulblad'!E61 -> 0 | L86: 100 | M86: =I86*L86 -> 5200 | N86: =((H86/K86)*L86)/200*'Calculatie schoonmaak invulblad'!$C$13 -> #DIV/0! | O86: =(I86/K86)*L86*'Calculatie schoonmaak invulblad'!$C$13 -> #DIV/0!
A87: 1e Verdieping | B87: A.1.2 | C87: Theorielokaal | D87: Leslokaal | E87: Tapijt | F87: Tapijt | G87: WP 2 | H87: 67 | I87: 67 | K87: ='Calculatie schoonmaak invulblad'!E61 -> 0 | L87: 100 | M87: =I87*L87 -> 6700 | N87: =((H87/K87)*L87)/200*'Calculatie schoonmaak invulblad'!$C$13 -> #DIV/0! | O87: =(I87/K87)*L87*'Calculatie schoonmaak invulblad'!$C$13 -> #DIV/0!
A88: 1e Verdieping | B88: E1.7 | C88: Trap(penhuis) | D88: Trap(penhuis) | E88: PVC | F88: Heterogeen Vinyl | G88: WP 6 | H88: 21 | I88: 21 | K88: ='Calculatie schoonmaak invulblad'!K56 -> 0 | L88: 200 | M88: =I88*L88 -> 4200 | N88: =((H88/K88)*L88)/200*'Calculatie schoonmaak invulblad'!$C$13 -> #DIV/0! | O88: =(I88/K88)*L88*'Calculatie schoonmaak invulblad'!$C$13 -> #DIV/0!
A89: 1e Verdieping | B89: E1.6 | C89: Sanitaire ruimte | D89: Sanitaire ruimte | E89: Steen | F89: Steen | G89: WP 7 | H89: 10 | I89: 10 | K89: ='Calculatie schoonmaak invulblad'!K37 -> 0 | L89: 200 | M89: =I89*L89 -> 2000 | N89: =((H89/K89)*L89)/200*'Calculatie schoonmaak invulblad'!$C$13 -> #DIV/0! | O89: =(I89/K89)*L89*'Calculatie schoonmaak invulblad'!$C$13 -> #DIV/0!
A90: 1e Verdieping | B90: E1.5 | C90: Sanitaire ruimte | D90: Sanitaire ruimte | E90: Steen | F90: Steen | G90: WP 7 | H90: 10 | I90: 10 | K90: ='Calculatie schoonmaak invulblad'!K37 -> 0 | L90: 200 | M90: =I90*L90 -> 2000 | N90: =((H90/K90)*L90)/200*'Calculatie schoonmaak invulblad'!$C$13 -> #DIV/0! | O90: =(I90/K90)*L90*'Calculatie schoonmaak invulblad'!$C$13 -> #DIV/0!
A91: 1e Verdieping | B91: B1.1 | C91: Gang | D91: Verkeersruimte | E91: Tapijt | F91: Tapijt | G91: WP 6 | H91: 89 | I91: 89 | K91: ='Calculatie schoonmaak invulblad'!K59 -> 0 | L91: 200 | M91: =I91*L91 -> 17800 | N91: =((H91/K91)*L91)/200*'Calculatie schoonmaak invulblad'!$C$13 -> #DIV/0! | O91: =(I91/K91)*L91*'Calculatie schoonmaak invulblad'!$C$13 -> #DIV/0!
A92: 1e Verdieping | B92: B 1.1A | C92: Gang | D92: Verkeersruimte | E92: Linoleum | F92: Lino | G92: WP 6 | H92: 30 | I92: 30 | K92: ='Calculatie schoonmaak invulblad'!K62 -> 0 | L92: 200 | M92: =I92*L92 -> 6000 | N92: =((H92/K92)*L92)/200*'Calculatie schoonmaak invulblad'!$C$13 -> #DIV/0! | O92: =(I92/K92)*L92*'Calculatie schoonmaak invulblad'!$C$13 -> #DIV/0!
A93: 1e Verdieping | B93: B1.9 | C93: Theorielokaal | D93: Leslokaal | E93: Tapijt | F93: Tapijt | G93: WP 2 | H93: 52 | I93: 52 | K93: ='Calculatie schoonmaak invulblad'!E61 -> 0 | L93: 100 | M93: =I93*L93 -> 5200 | N93: =((H93/K93)*L93)/200*'Calculatie schoonmaak invulblad'!$C$13 -> #DIV/0! | O93: =(I93/K93)*L93*'Calculatie schoonmaak invulblad'!$C$13 -> #DIV/0!
A94: 1e Verdieping | B94: B1.8 | C94: Theorielokaal | D94: Leslokaal | E94: Tapijt | F94: Tapijt | G94: WP 2 | H94: 52 | I94: 52 | K94: ='Calculatie schoonmaak invulblad'!E61 -> 0 | L94: 100 | M94: =I94*L94 -> 5200 | N94: =((H94/K94)*L94)/200*'Calculatie schoonmaak invulblad'!$C$13 -> #DIV/0! | O94: =(I94/K94)*L94*'Calculatie schoonmaak invulblad'!$C$13 -> #DIV/0!
A95: 1e Verdieping | B95: B1.7 | C95: Theorielokaal | D95: Leslokaal | E95: Tapijt | F95: Tapijt | G95: WP 2 | H95: 55 | I95: 55 | K95: ='Calculatie schoonmaak invulblad'!E61 -> 0 | L95: 100 | M95: =I95*L95 -> 5500 | N95: =((H95/K95)*L95)/200*'Calculatie schoonmaak invulblad'!$C$13 -> #DIV/0! | O95: =(I95/K95)*L95*'Calculatie schoonmaak invulblad'!$C$13 -> #DIV/0!
A96: 1e Verdieping | B96: B1.6 | C96: Kantoor | D96: Bureaukamer | E96: Tapijt | F96: Tapijt | G96: WP 13 | H96: 20 | I96: 20 | K96: ='Calculatie schoonmaak invulblad'!E28 -> 0 | L96: 80 | M96: =I96*L96 -> 1600 | N96: =((H96/K96)*L96)/200*'Calculatie schoonmaak invulblad'!$C$13 -> #DIV/0! | O96: =(I96/K96)*L96*'Calculatie schoonmaak invulblad'!$C$13 -> #DIV/0!
A97: 1e Verdieping | B97: B1.5 | C97: Kantoor | D97: Bureaukamer | E97: Tapijt | F97: Tapijt | G97: WP 13 | H97: 20 | I97: 20 | K97: ='Calculatie schoonmaak invulblad'!E28 -> 0 | L97: 80 | M97: =I97*L97 -> 1600 | N97: =((H97/K97)*L97)/200*'Calculatie schoonmaak invulblad'!$C$13 -> #DIV/0! | O97: =(I97/K97)*L97*'Calculatie schoonmaak invulblad'!$C$13 -> #DIV/0!
A98: 1e Verdieping | B98: B1.4 | C98: Theorielokaal | D98: Leslokaal | E98: Tapijt | F98: Tapijt | G98: WP 2 | H98: 54 | I98: 54 | K98: ='Calculatie schoonmaak invulblad'!E61 -> 0 | L98: 100 | M98: =I98*L98 -> 5400 | N98: =((H98/K98)*L98)/200*'Calculatie schoonmaak invulblad'!$C$13 -> #DIV/0! | O98: =(I98/K98)*L98*'Calculatie schoonmaak invulblad'!$C$13 -> #DIV/0!
A99: 1e Verdieping | B99: B1.3 | C99: Theorielokaal | D99: Leslokaal | E99: Tapijt | F99: Tapijt | G99: WP 2 | H99: 54 | I99: 54 | K99: ='Calculatie schoonmaak invulblad'!E61 -> 0 | L99: 100 | M99: =I99*L99 -> 5400 | N99: =((H99/K99)*L99)/200*'Calculatie schoonmaak invulblad'!$C$13 -> #DIV/0! | O99: =(I99/K99)*L99*'Calculatie schoonmaak invulblad'!$C$13 -> #DIV/0!
A100: 1e Verdieping | B100: B1.2 | C100: Sportzaal | D100: Sportzaal | E100: Linoleum | F100: Lino | G100: WP 10 | H100: 72 | I100: 72 | K100: ='Calculatie schoonmaak invulblad'!K40 -> 0 | L100: 80 | M100: =I100*L100 -> 5760 | N100: =((H100/K100)*L100)/200*'Calculatie schoonmaak invulblad'!$C$13 -> #DIV/0! | O100: =(I100/K100)*L100*'Calculatie schoonmaak invulblad'!$C$13 -> #DIV/0!
A101: 1e Verdieping | B101: B1.18 | C101: Keuken | D101: Keuken/Pantry | E101: Tapijt | F101: Tapijt | G101: WP 3 | H101: 17 | I101: 17 | K101: ='Calculatie schoonmaak invulblad'!E55 -> 0 | L101: 200 | M101: =I101*L101 -> 3400 | N101: =((H101/K101)*L101)/200*'Calculatie schoonmaak invulblad'!$C$13 -> #DIV/0! | O101: =(I101/K101)*L101*'Calculatie schoonmaak invulblad'!$C$13 -> #DIV/0!
A102: 1e Verdieping | B102: E1.8 | C102: Trap(penhuis) | D102: Trap(penhuis) | E102: Linoleum | F102: Lino | G102: WP 6 | H102: 21 | I102: 21 | K102: ='Calculatie schoonmaak invulblad'!K52 -> 0 | L102: 200 | M102: =I102*L102 -> 4200 | N102: =((H102/K102)*L102)/200*'Calculatie schoonmaak invulblad'!$C$13 -> #DIV/0! | O102: =(I102/K102)*L102*'Calculatie schoonmaak invulblad'!$C$13 -> #DIV/0!
A103: 1e Verdieping | B103: E1.9 | C103: Sanitaire ruimte | D103: Sanitaire ruimte | E103: Steen | F103: Steen | G103: WP 7 | H103: 9 | I103: 9 | K103: ='Calculatie schoonmaak invulblad'!K37 -> 0 | L103: 200 | M103: =I103*L103 -> 1800 | N103: =((H103/K103)*L103)/200*'Calculatie schoonmaak invulblad'!$C$13 -> #DIV/0! | O103: =(I103/K103)*L103*'Calculatie schoonmaak invulblad'!$C$13 -> #DIV/0!
...

Sheet ROER College Schöndeln Roermond
A2: Klant | B2: SOML | D2: Totaal m² in onderhoud (i.o) | E2: =I230 -> 9959.67 | G2: Kosten inzet vrijgesteld toezicht per dag | J2: =E6*'Calculatie schoonmaak invulblad'!C2 -> #DIV/0! | L2: Bedrijfsnaam Inschrijver | M2: ='Calculatie schoonmaak invulblad'!I9 -> 0
A3: Locatie | B3: ROER College Schöndeln | D3: Totaal m² per jaar in onderhoud | E3: =M230 -> 1421828 | G3: Kosten schoonmaak per dag | J3: =E4*'Calculatie schoonmaak invulblad'!C4 -> #DIV/0! | L3: Datum | M3: ='Calculatie schoonmaak invulblad'!I10 -> 0
A4: Adres locatie | B4: Heinsbergerweg 180 6045 CK Roermond | D4: Uren per dag schoonmaak | E4: =N230 -> #DIV/0! | G4: Kosten inzet vrijgesteld toezicht per jaar | J4: =E7*'Calculatie schoonmaak invulblad'!C2 -> #DIV/0! | L4: Plaats | M4: ='Calculatie schoonmaak invulblad'!I11 -> 0
D5: Uren per jaar schoonmaak | E5: =O230 -> #DIV/0! | G5: Kosten schoonmaak per jaar | J5: =E5*'Calculatie schoonmaak invulblad'!C4 -> #DIV/0! | L5: Handtekening | M5: ='Calculatie schoonmaak invulblad'!I12 -> 0
D6: Uren per dag vrijgesteld toezicht | E6: =('Calculatie schoonmaak invulblad'!C6*'ROER College Schöndeln Roermond'!E4)/100 -> #DIV/0! | G6: Contractjaarprijs locatie BC Broekhin | J6: =J4+J5 -> #DIV/0!
D7: Uren per jaar vrijgesteld toezicht | E7: =('Calculatie schoonmaak invulblad'!C6*'ROER College Schöndeln Roermond'!E5)/100 -> #DIV/0!
A10: Verdieping | B10: Ruimtenummer | C10: Omschrijving | D10: Ruimtesoort | E10: Vloersoort | F10: Vloergroep | G10: Werkprogramma | H10: Totaal m² | I10: In onderhoud (i.o.) | J10: Niet in onderhoud (n.i.o.) | K10: Prestatienorm | L10: Dagen per jaar | M10: Totaal m² per jaar | N10: Uren per dag | O10: Uren per jaar
A11: Kelder | B11: K15 | C11: Trap(penhuis) | D11: Trap(penhuis) | E11: Steen | F11: Steen | G11: WP 6 | H11: 30 | I11: 30 | K11: ='Calculatie schoonmaak invulblad'!K49 -> 0 | L11: 200 | M11: =I11*L11 -> 6000 | N11: =((I11/K11)*L11)/200*'Calculatie schoonmaak invulblad'!$C$14 -> #DIV/0! | O11: =I11/K11*L11*'Calculatie schoonmaak invulblad'!$C$14 -> #DIV/0!
A12: Kelder | B12: K14 | C12: Lockerkelder | D12: Verkeersruimte | E12: Steen | F12: Steen | G12: WP 6 | H12: 309 | I12: 309 | K12: ='Calculatie schoonmaak invulblad'!K58 -> 0 | L12: 200 | M12: =I12*L12 -> 61800 | N12: =((I12/K12)*L12)/200*'Calculatie schoonmaak invulblad'!$C$14 -> #DIV/0! | O12: =I12/K12*L12*'Calculatie schoonmaak invulblad'!$C$14 -> #DIV/0!
A13: Kelder | B13: K13 | C13: Kantine | D13: Horecaruimte | E13: Epoxy | F13: Steen | G13: WP 3 | H13: 370 | I13: 370 | K13: ='Calculatie schoonmaak invulblad'!E42 -> 0 | L13: 200 | M13: =I13*L13 -> 74000 | N13: =((I13/K13)*L13)/200*'Calculatie schoonmaak invulblad'!$C$14 -> #DIV/0! | O13: =I13/K13*L13*'Calculatie schoonmaak invulblad'!$C$14 -> #DIV/0!
A14: Kelder | B14: K8 | C14: Gang voor toiletten | D14: Verkeersruimte | E14: Steen | F14: Steen | G14: WP 6 | H14: 19 | I14: 19 | K14: ='Calculatie schoonmaak invulblad'!K58 -> 0 | L14: 200 | M14: =I14*L14 -> 3800 | N14: =((I14/K14)*L14)/200*'Calculatie schoonmaak invulblad'!$C$14 -> #DIV/0! | O14: =I14/K14*L14*'Calculatie schoonmaak invulblad'!$C$14 -> #DIV/0!
A15: Kelder | B15: K7A | C15: Sanitaire ruimte | D15: Sanitaire ruimte | E15: Steen | F15: Steen | G15: WP 7 | H15: 10 | I15: 10 | K15: ='Calculatie schoonmaak invulblad'!K37 -> 0 | L15: 200 | M15: =I15*L15 -> 2000 | N15: =((I15/K15)*L15)/200*'Calculatie schoonmaak invulblad'!$C$14 -> #DIV/0! | O15: =I15/K15*L15*'Calculatie schoonmaak invulblad'!$C$14 -> #DIV/0!
A16: Kelder | B16: K7B | C16: Sanitaire ruimte | D16: Sanitaire ruimte | E16: Steen | F16: Steen | G16: WP 7 | H16: 10 | I16: 10 | K16: ='Calculatie schoonmaak invulblad'!K37 -> 0 | L16: 200 | M16: =I16*L16 -> 2000 | N16: =((I16/K16)*L16)/200*'Calculatie schoonmaak invulblad'!$C$14 -> #DIV/0! | O16: =I16/K16*L16*'Calculatie schoonmaak invulblad'!$C$14 -> #DIV/0!
A17: Kelder | B17: K6 | C17: Hal voor kantine | D17: Verkeersruimte | E17: Steen | F17: Steen | G17: WP 6 | H17: 10 | I17: 10 | K17: ='Calculatie schoonmaak invulblad'!K58 -> 0 | L17: 200 | M17: =I17*L17 -> 2000 | N17: =((I17/K17)*L17)/200*'Calculatie schoonmaak invulblad'!$C$14 -> #DIV/0! | O17: =I17/K17*L17*'Calculatie schoonmaak invulblad'!$C$14 -> #DIV/0!
A18: Kelder | B18: K5 | C18: Trappenhal | D18: Trap(penhuis) | E18: Steen | F18: Steen | G18: WP 6 | H18: 18 | I18: 18 | K18: ='Calculatie schoonmaak invulblad'!K49 -> 0 | L18: 200 | M18: =I18*L18 -> 3600 | N18: =((I18/K18)*L18)/200*'Calculatie schoonmaak invulblad'!$C$14 -> #DIV/0! | O18: =I18/K18*L18*'Calculatie schoonmaak invulblad'!$C$14 -> #DIV/0!
A19: Kelder | B19: K19 | C19: Kantoor ICT | D19: Bureaukamer | E19: Linoleum | F19: Lino | G19: WP 13 | H19: 48 | I19: 48 | K19: ='Calculatie schoonmaak invulblad'!E29 -> 0 | L19: 80 | M19: =I19*L19 -> 3840 | N19: =((I19/K19)*L19)/200*'Calculatie schoonmaak invulblad'!$C$14 -> #DIV/0! | O19: =I19/K19*L19*'Calculatie schoonmaak invulblad'!$C$14 -> #DIV/0!
A20: Kelder | B20: K19A | C20: Serverruimte | D20: Overige ruimte | E20: Linoleum | F20: Lino | G20: WP 12 | H20: 24 | I20: 0 | J20: 24 | K20: ='Calculatie schoonmaak invulblad'!E75 -> 0 | L20: 10 | M20: =I20*L20 -> 0 | N20: =((I20/K20)*L20)/200*'Calculatie schoonmaak invulblad'!$C$14 -> #DIV/0! | O20: =I20/K20*L20*'Calculatie schoonmaak invulblad'!$C$14 -> #DIV/0!
A21: Kelder | B21: K20 | C21: Docentenwerkplek | D21: Bureaukamer | E21: Vast Tapijt | F21: Tapijt | G21: WP 1 | H21: 24 | I21: 24 | K21: ='Calculatie schoonmaak invulblad'!E22 -> 0 | L21: 40 | M21: =I21*L21 -> 960 | N21: =((I21/K21)*L21)/200*'Calculatie schoonmaak invulblad'!$C$14 -> #DIV/0! | O21: =I21/K21*L21*'Calculatie schoonmaak invulblad'!$C$14 -> #DIV/0!
A22: Kelder | B22: K21 | C22: Decanaat | D22: Bureaukamer | E22: Vast Tapijt | F22: Tapijt | G22: WP 13 | H22: 24 | I22: 24 | K22: ='Calculatie schoonmaak invulblad'!E28 -> 0 | L22: 80 | M22: =I22*L22 -> 1920 | N22: =((I22/K22)*L22)/200*'Calculatie schoonmaak invulblad'!$C$14 -> #DIV/0! | O22: =I22/K22*L22*'Calculatie schoonmaak invulblad'!$C$14 -> #DIV/0!
A23: Kelder | B23: K22 | C23: Decanaat | D23: Bureaukamer | E23: Vast Tapijt | F23: Tapijt | G23: WP 1 | H23: 24 | I23: 24 | K23: ='Calculatie schoonmaak invulblad'!E22 -> 0 | L23: 40 | M23: =I23*L23 -> 960 | N23: =((I23/K23)*L23)/200*'Calculatie schoonmaak invulblad'!$C$14 -> #DIV/0! | O23: =I23/K23*L23*'Calculatie schoonmaak invulblad'!$C$14 -> #DIV/0!
A24: Kelder | B24: K23 | C24: Counceling | D24: Bureaukamer | E24: Vast Tapijt | F24: Tapijt | G24: WP 1 | H24: 24 | I24: 24 | K24: ='Calculatie schoonmaak invulblad'!E22 -> 0 | L24: 40 | M24: =I24*L24 -> 960 | N24: =((I24/K24)*L24)/200*'Calculatie schoonmaak invulblad'!$C$14 -> #DIV/0! | O24: =I24/K24*L24*'Calculatie schoonmaak invulblad'!$C$14 -> #DIV/0!
A25: Kelder | B25: K24 | C25: Counceling | D25: Bureaukamer | E25: Vast Tapijt | F25: Tapijt | G25: WP 1 | H25: 8 | I25: 8 | K25: ='Calculatie schoonmaak invulblad'!E22 -> 0 | L25: 40 | M25: =I25*L25 -> 320 | N25: =((I25/K25)*L25)/200*'Calculatie schoonmaak invulblad'!$C$14 -> #DIV/0! | O25: =I25/K25*L25*'Calculatie schoonmaak invulblad'!$C$14 -> #DIV/0!
A26: Kelder | B26: K24a | C26: Counceling | D26: Bureaukamer | E26: Vast Tapijt | F26: Tapijt | G26: WP 1 | H26: 12 | I26: 12 | K26: ='Calculatie schoonmaak invulblad'!E22 -> 0 | L26: 40 | M26: =I26*L26 -> 480 | N26: =((I26/K26)*L26)/200*'Calculatie schoonmaak invulblad'!$C$14 -> #DIV/0! | O26: =I26/K26*L26*'Calculatie schoonmaak invulblad'!$C$14 -> #DIV/0!
A27: Kelder | B27: K24b | C27: Gang kelder | D27: Verkeersruimte | E27: Steen | F27: Steen | G27: WP 6 | H27: 30 | I27: 30 | K27: ='Calculatie schoonmaak invulblad'!K58 -> 0 | L27: 200 | M27: =I27*L27 -> 6000 | N27: =((I27/K27)*L27)/200*'Calculatie schoonmaak invulblad'!$C$14 -> #DIV/0! | O27: =I27/K27*L27*'Calculatie schoonmaak invulblad'!$C$14 -> #DIV/0!
A28: Kelder | B28: K30a | C28: Portaal lift | D28: Verkeersruimte | E28: Steen | F28: Steen | G28: WP 6 | H28: 45 | I28: 45 | K28: ='Calculatie schoonmaak invulblad'!K58 -> 0 | L28: 200 | M28: =I28*L28 -> 9000 | N28: =((I28/K28)*L28)/200*'Calculatie schoonmaak invulblad'!$C$14 -> #DIV/0! | O28: =I28/K28*L28*'Calculatie schoonmaak invulblad'!$C$14 -> #DIV/0!
A29: Kelder | B29: K30 | C29: Trap(penhuis) | D29: Trap(penhuis) | E29: Steen | F29: Steen | G29: WP 6 | H29: 42 | I29: 42 | K29: ='Calculatie schoonmaak invulblad'!K49 -> 0 | L29: 200 | M29: =I29*L29 -> 8400 | N29: =((I29/K29)*L29)/200*'Calculatie schoonmaak invulblad'!$C$14 -> #DIV/0! | O29: =I29/K29*L29*'Calculatie schoonmaak invulblad'!$C$14 -> #DIV/0!
A30: Kelder | B30: K31A | C30: Technasium | D30: Praktijklokaal | E30: Tarkett | F30: Homogeen Vinyl | G30: WP 4 | H30: 130 | I30: 130 | K30: ='Calculatie schoonmaak invulblad'!K20 -> 0 | L30: 200 | M30: =I30*L30 -> 26000 | N30: =((I30/K30)*L30)/200*'Calculatie schoonmaak invulblad'!$C$14 -> #DIV/0! | O30: =I30/K30*L30*'Calculatie schoonmaak invulblad'!$C$14 -> #DIV/0!
A31: Kelder | C31: Technasium trap | D31: Trap(penhuis) | E31: Metaal | F31: Metaal | G31: WP 6 | H31: 5.56 | I31: 5.56 | K31: ='Calculatie schoonmaak invulblad'!K54 -> 0 | L31: 200 | M31: =I31*L31 -> 1112 | N31: =((I31/K31)*L31)/200*'Calculatie schoonmaak invulblad'!$C$14 -> #DIV/0! | O31: =I31/K31*L31*'Calculatie schoonmaak invulblad'!$C$14 -> #DIV/0!
A32: Kelder | B32: K31B | C32: Werkplaats | D32: Praktijklokaal | E32: Tarkett | F32: Homogeen Vinyl | G32: WP 4 | H32: 30 | I32: 30 | K32: ='Calculatie schoonmaak invulblad'!K20 -> 0 | L32: 200 | M32: =I32*L32 -> 6000 | N32: =((I32/K32)*L32)/200*'Calculatie schoonmaak invulblad'!$C$14 -> #DIV/0! | O32: =I32/K32*L32*'Calculatie schoonmaak invulblad'!$C$14 -> #DIV/0!
A33: Kelder | B33: K31 | C33: Studio | D33: Leslokaal | E33: Vast Tapijt | F33: Tapijt | G33: WP 2 | H33: 10 | I33: 10 | K33: ='Calculatie schoonmaak invulblad'!E61 -> 0 | L33: 100 | M33: =I33*L33 -> 1000 | N33: =((I33/K33)*L33)/200*'Calculatie schoonmaak invulblad'!$C$14 -> #DIV/0! | O33: =I33/K33*L33*'Calculatie schoonmaak invulblad'!$C$14 -> #DIV/0!
A34: Kelder | B34: K31d | C34: Hi-Tech | D34: Leslokaal | E34: Vast Tapijt | F34: Tapijt | G34: WP 2 | H34: 10 | I34: 10 | K34: ='Calculatie schoonmaak invulblad'!E61 -> 0 | L34: 100 | M34: =I34*L34 -> 1000 | N34: =((I34/K34)*L34)/200*'Calculatie schoonmaak invulblad'!$C$14 -> #DIV/0! | O34: =I34/K34*L34*'Calculatie schoonmaak invulblad'!$C$14 -> #DIV/0!
A35: Begane grond | B35: 35 | C35: Aula | D35: Horecaruimte | E35: Linoleum | F35: Lino | G35: WP 3 | H35: 285 | I35: 285 | K35: ='Calculatie schoonmaak invulblad'!E45 -> 0 | L35: 200 | M35: =I35*L35 -> 57000 | N35: =((I35/K35)*L35)/200*'Calculatie schoonmaak invulblad'!$C$14 -> #DIV/0! | O35: =I35/K35*L35*'Calculatie schoonmaak invulblad'!$C$14 -> #DIV/0!
A36: Begane grond | B36: 36 | C36: Portaal toneelkelder | D36: Verkeersruimte | E36: Linoleum | F36: Lino | G36: WP 6 | H36: 12 | I36: 12 | K36: ='Calculatie schoonmaak invulblad'!K62 -> 0 | L36: 200 | M36: =I36*L36 -> 2400 | N36: =((I36/K36)*L36)/200*'Calculatie schoonmaak invulblad'!$C$14 -> #DIV/0! | O36: =I36/K36*L36*'Calculatie schoonmaak invulblad'!$C$14 -> #DIV/0!
A37: Begane grond | B37: 036a | C37: Toneelkelder | D37: Leslokaal | E37: Linoleum | F37: Lino | G37: WP 2 | H37: 68 | I37: 68 | K37: ='Calculatie schoonmaak invulblad'!E62 -> 0 | L37: 100 | M37: =I37*L37 -> 6800 | N37: =((I37/K37)*L37)/200*'Calculatie schoonmaak invulblad'!$C$14 -> #DIV/0! | O37: =I37/K37*L37*'Calculatie schoonmaak invulblad'!$C$14 -> #DIV/0!
A38: Begane grond | B38: 036b | C38: Portaal trappenhuis R | D38: Trap(penhuis) | E38: Linoleum | F38: Lino | G38: WP 6 | H38: 2 | I38: 2 | K38: ='Calculatie schoonmaak invulblad'!K52 -> 0 | L38: 200 | M38: =I38*L38 -> 400 | N38: =((I38/K38)*L38)/200*'Calculatie schoonmaak invulblad'!$C$14 -> #DIV/0! | O38: =I38/K38*L38*'Calculatie schoonmaak invulblad'!$C$14 -> #DIV/0!
A39: Begane grond | B39: 036c | C39: Sanitair trappenhuis | D39: Sanitaire ruimte | E39: Steen | F39: Steen | G39: WP 7 | H39: 4 | I39: 4 | K39: ='Calculatie schoonmaak invulblad'!K37 -> 0 | L39: 200 | M39: =I39*L39 -> 800 | N39: =((I39/K39)*L39)/200*'Calculatie schoonmaak invulblad'!$C$14 -> #DIV/0! | O39: =I39/K39*L39*'Calculatie schoonmaak invulblad'!$C$14 -> #DIV/0!
A40: Begane grond | B40: 036d | C40: Portaal trappenhuis L | D40: Trap(penhuis) | E40: Linoleum | F40: Lino | G40: WP 6 | H40: 4 | I40: 4 | K40: ='Calculatie schoonmaak invulblad'!K52 -> 0 | L40: 200 | M40: =I40*L40 -> 800 | N40: =((I40/K40)*L40)/200*'Calculatie schoonmaak invulblad'!$C$14 -> #DIV/0! | O40: =I40/K40*L40*'Calculatie schoonmaak invulblad'!$C$14 -> #DIV/0!
A41: Begane grond | B41: 036e | C41: Sanitair trappenhuis | D41: Sanitaire ruimte | E41: Steen | F41: Steen | G41: WP 7 | H41: 2 | I41: 2 | K41: ='Calculatie schoonmaak invulblad'!K37 -> 0 | L41: 200 | M41: =I41*L41 -> 400 | N41: =((I41/K41)*L41)/200*'Calculatie schoonmaak invulblad'!$C$14 -> #DIV/0! | O41: =I41/K41*L41*'Calculatie schoonmaak invulblad'!$C$14 -> #DIV/0!
