Workbook
Name _Toc350346840: 'Invullen door inschrijver'!#REF!

Sheet  Niet invullen
F1: Omschrijving | G1: Evaluatie | H1: Waardering
F2: Minimaal of slecht | G2: Toelichting van wens is naar het oordeel van de beoordelaar niet realistisch, voldoet minimaal of slecht aan alle of de meeste van de elementen en aspecten van de wens en voorziet er minimaal of niet in de wens te realiseren | H2: 0
F3: Voldoende | G3: Toelichting van wens is naar het oordeel van de beoordelaar voldoende realistisch, voldoet voldoende aan alle of de meeste van de elementen en aspecten van de wens en voorziet er voldoende in de wens te realiseren | H3: 0.4
F4: Goed | G4: Toelichting van wens is naar het oordeel van de beoordelaar realistisch, voldoet goed aan alle of de meeste van de elementen en aspecten van de wens en voorziet er goed in de wens te realiseren | H4: 0.7
F5: Uitstekend | G5: Toelichting van wens is naar het oordeel van de beoordelaar realistisch, voldoet uitstekend aan alle of de meeste van de elementen en aspecten van de wens en voorziet er optimaal in de wens te realiseren | H5: 1
F7: Keuzelijst inschrijver
F9: Volledig
F10: Gedeeltelijk
F11: Niet

Sheet Invullen door inschrijver
A1: Aanbesteding Raadsinformatiesysteem gemeente Lisse - Responsformulier Programma van Wensen
A3: Wens nr | B3: Wensen gebruikers | C3: Mate van voldoen aan wens volgens inschrijver | D3: Toelichting door inschrijver | E3: Waardering toelichting door beoordelingsteamlid | F3: Toelichting beoordelingsteamlid | G3: % | H3: Toegekende punten | I3: Maximaal haalbare punten
A4: 1 | B4: Via de gegenereerde lijst kan direct via de titel worden doorgeklikt naar het achterliggende document. | C4: Volledig | D4: Typ hier uw toelichting. Als u meer ruimte nodig heeft, voegt u eventueel een aparte bijlage toe (maximaal een halve pagina A4, lettertype Verdana 11 punts) | E4: Uitstekend | G4: =VLOOKUP($E4,' Niet invullen'!$F$2:$H$5,3,) -> 1 | H4: =G4*I4 -> 8 | I4: 8
A5: 2 | B5: De inwoner kan op de website via één toegang uitgebreid en eenvoudig zoeken in alle openbare stukken die betrekking hebben op de gemeenteraad en de commissies. Hij kan alle openbare agenda’s bekijken en de bijbehorende bijlagen en geluidsfragmenten beluisteren en videofragmenten inzien. | C5: Volledig | D5: Typ hier uw toelichting. Als u meer ruimte nodig heeft, voegt u eventueel een aparte bijlage toe (maximaal een halve pagina A4, lettertype Verdana 11 punts) | E5: Uitstekend | G5: =VLOOKUP($E5,' Niet invullen'!$F$2:$H$5,3,) -> 1 | H5: =G5*I5 -> 8 | I5: 8
A6: 3 | B6: Gebruiker kan de annotaties op een groter vlak invoeren en uitlezen (A4) | C6: Volledig | D6: Typ hier uw toelichting. Als u meer ruimte nodig heeft, voegt u eventueel een aparte bijlage toe (maximaal een halve pagina A4, lettertype Verdana 11 punts) | E6: Uitstekend | G6: =VLOOKUP($E6,' Niet invullen'!$F$2:$H$5,3,) -> 1 | H6: =G6*I6 -> 6 | I6: 6
A7: 4 | B7: Deelnemers aan de vergadering (raadsleden, insprekers, ambtenaren) kunnen tijdens de vergadering op het scherm presentaties en beeldmateriaal delen. | C7: Volledig | D7: Typ hier uw toelichting. Als u meer ruimte nodig heeft, voegt u eventueel een aparte bijlage toe (maximaal een halve pagina A4, lettertype Verdana 11 punts) | E7: Uitstekend | G7: =VLOOKUP($E7,' Niet invullen'!$F$2:$H$5,3,) -> 1 | H7: =G7*I7 -> 6 | I7: 6
A8: 5 | B8: Het systeem biedt tijdens vergaderingen, per fractie, een onderlinge chatmogelijkheid. | C8: Volledig | D8: Typ hier uw toelichting. Als u meer ruimte nodig heeft, voegt u eventueel een aparte bijlage toe (maximaal een halve pagina A4, lettertype Verdana 11 punts) | E8: Uitstekend | G8: =VLOOKUP($E8,' Niet invullen'!$F$2:$H$5,3,) -> 1 | H8: =G8*I8 -> 7 | I8: 7
A9: 6 | B9: De chatfunctie is alleen zichtbaar voor deelnemers aan de vergadering. | C9: Volledig | D9: Typ hier uw toelichting. Als u meer ruimte nodig heeft, voegt u eventueel een aparte bijlage toe (maximaal een halve pagina A4, lettertype Verdana 11 punts) | E9: Uitstekend | G9: =VLOOKUP($E9,' Niet invullen'!$F$2:$H$5,3,) -> 1 | H9: =G9*I9 -> 8 | I9: 8
A10: 7 | B10: Schermindeling is per individu aanpasbaar en instellingen worden per gebruiker bewaard. | C10: Volledig | D10: Typ hier uw toelichting. Als u meer ruimte nodig heeft, voegt u eventueel een aparte bijlage toe (maximaal een halve pagina A4, lettertype Verdana 11 punts) | E10: Uitstekend | G10: =VLOOKUP($E10,' Niet invullen'!$F$2:$H$5,3,) -> 1 | H10: =G10*I10 -> 7 | I10: 7
A11: 8 | B11: Op de kalender is een soort regelknop om altijd weer direct terug naar de dag van vandaag te kunnen gaan. | C11: Volledig | D11: Typ hier uw toelichting. Als u meer ruimte nodig heeft, voegt u eventueel een aparte bijlage toe (maximaal een halve pagina A4, lettertype Verdana 11 punts) | E11: Uitstekend | G11: =VLOOKUP($E11,' Niet invullen'!$F$2:$H$5,3,) -> 1 | H11: =G11*I11 -> 6 | I11: 6
A12: Wens nr | B12: Wensen beheer | C12: Mate van voldoen aan wens volgens inschrijver | D12: Toelichting door inschrijver | E12: Waardering toelichting door beoordelingsteamlid | F12: Toelichting beoordelingsteamlid | G12: % | H12: Toegekende punten | I12: Maximaal haalbare punten
A13: 9 | B13: De beheerders hebben de mogelijkheid nieuwe informatie in de vergadervoorziening per direct te verversen (pushen), ook tijdens de vergaderingen. | C13: Volledig | D13: Typ hier uw toelichting. Als u meer ruimte nodig heeft, voegt u eventueel een aparte bijlage toe (maximaal een halve pagina A4, lettertype Verdana 11 punts) | E13: Uitstekend | G13: =VLOOKUP($E13,' Niet invullen'!$F$2:$H$5,3,) -> 1 | H13: =G13*I13 -> 9 | I13: 9
A14: 10 | B14: Er bestaat een mogelijkheid tot het resetten van een wachtwoord door de functioneel beheerder en de gebruiker. | C14: Volledig | D14: Typ hier uw toelichting. Als u meer ruimte nodig heeft, voegt u eventueel een aparte bijlage toe (maximaal een halve pagina A4, lettertype Verdana 11 punts) | E14: Uitstekend | G14: =VLOOKUP($E14,' Niet invullen'!$F$2:$H$5,3,) -> 1 | H14: =G14*I14 -> 9 | I14: 9
A15: 11 | B15: De lijsten van toezeggingen, moties en schriftelijke vragen zijn op één plek beschikbaar en kunnen dagelijks worden aangevuld en/of bewerkt. | C15: Volledig | D15: Typ hier uw toelichting. Als u meer ruimte nodig heeft, voegt u eventueel een aparte bijlage toe (maximaal een halve pagina A4, lettertype Verdana 11 punts) | E15: Uitstekend | G15: =VLOOKUP($E15,' Niet invullen'!$F$2:$H$5,3,) -> 1 | H15: =G15*I15 -> 8 | I15: 8
A16: 12 | B16: Aan-en afwezigheid van personen bij vergaderingen kunnen op elk gewenst moment per agendapunt en per tijdseenheid worden aangegeven. | C16: Volledig | D16: Typ hier uw toelichting. Als u meer ruimte nodig heeft, voegt u eventueel een aparte bijlage toe (maximaal een halve pagina A4, lettertype Verdana 11 punts) | E16: Uitstekend | G16: =VLOOKUP($E16,' Niet invullen'!$F$2:$H$5,3,) -> 1 | H16: =G16*I16 -> 4 | I16: 4
A17: 13 | B17: Het is mogelijk meerdere bijeenkomsten tegelijkertijd live uit te zenden. Voor tegelijkertijd uitzenden geldt dezelfde standaard, zoals live volgen via internet en een halfuur na afloop van de vergadering raadpleegbaar/terugkijken op elk gewenst device en elke gewenste browser. | C17: Volledig | D17: Typ hier uw toelichting. Als u meer ruimte nodig heeft, voegt u eventueel een aparte bijlage toe (maximaal een halve pagina A4, lettertype Verdana 11 punts) | E17: Uitstekend | G17: =VLOOKUP($E17,' Niet invullen'!$F$2:$H$5,3,) -> 1 | H17: =G17*I17 -> 4 | I17: 4
A18: 14 | B18: Het moet mogelijk zijn om de kalender in de applicatie te koppelen met persoonlijke agenda’s van geautoriseerde personen zodat de voor die persoon toegankelijke raadsinformatie items in de betreffende persoonlijke agenda getoond kunnen worden. | C18: Volledig | D18: Typ hier uw toelichting. Als u meer ruimte nodig heeft, voegt u eventueel een aparte bijlage toe (maximaal een halve pagina A4, lettertype Verdana 11 punts) | E18: Uitstekend | G18: =VLOOKUP($E18,' Niet invullen'!$F$2:$H$5,3,) -> 1 | H18: =G18*I18 -> 6 | I18: 6
A19: 15 | B19: Het moet mogelijk zijn om stemuitslagen als machine-leesbare open data beschikbaar te stellen en per partij/raadslid/wethouder een overzicht van stukken/ moties/ amendementen/voorstellen weer te geven. | C19: Volledig | D19: Typ hier uw toelichting. Als u meer ruimte nodig heeft, voegt u eventueel een aparte bijlage toe (maximaal een halve pagina A4, lettertype Verdana 11 punts) | E19: Uitstekend | G19: =VLOOKUP($E19,' Niet invullen'!$F$2:$H$5,3,) -> 1 | H19: =G19*I19 -> 4 | I19: 4
A20: Totaalscore | H20: =SUM(H4:H19) -> 100 | I20: =SUM(I4:I19) -> 100
