Workbook
Name afschrijvingC: '[1]Key param'!$C$16
Name afschrijvingMemb: '[1]Key param'!$C$18
Name afschrijvingsmethode: '[1]Key param'!$D$19
Name afschrijvingWE: '[1]Key param'!$C$17
Name onderhoudC: '[1]Key param'!$C$20
Name onderhoudme: '[1]Key param'!$C$21
Name rente: [2]kapitaalslasten!$B$2

Sheet Inschrijfsom
B1: =#REF! -> #REF!
B2: INSCHRIJVER | C2: Inschrijfsom (60%) inclusief BTW | D2: rangorde | E2: Extra kwaliteit, gescoorde cijfers (40%)
E3: Milieu | F3: Demo besteltool | G3: Pieken en garantie | H3: Casussen
B4: A | C4: 1000000 | D4: =IF(C4<0.1," ",RANK(C4,C$4:C$8,1)) -> 1 | E4: =Kwaliteit!D7 -> 10 | F4: =Kwaliteit!D8 -> 6 | G4: =Kwaliteit!D9 -> 8 | H4: =Kwaliteit!D10 -> 6
B5: B | C5: 1000000 | D5: =IF(C5<0.1," ",RANK(C5,C$4:C$8,1)) -> 1 | E5: =Kwaliteit!F7 -> 6 | F5: =Kwaliteit!F8 -> 10 | G5: =Kwaliteit!F9 -> 8 | H5: =Kwaliteit!F10 -> 6
B6: C | C6: 1200000 | D6: =IF(C6<0.1," ",RANK(C6,C$4:C$8,1)) -> 4 | E6: =Kwaliteit!H7 -> 10 | F6: =Kwaliteit!H8 -> 8 | G6: =Kwaliteit!H9 -> 6 | H6: =Kwaliteit!H10 -> 8
B7: D | C7: 1500000 | D7: =IF(C7<0.1," ",RANK(C7,C$4:C$8,1)) -> 5 | E7: =Kwaliteit!J7 -> 10 | F7: =Kwaliteit!J8 -> 10 | G7: =Kwaliteit!J9 -> 10 | H7: =Kwaliteit!J10 -> 4
B8: E | C8: 1100000 | D8: =IF(C8<0.1," ",RANK(C8,C$4:C$8,1)) -> 3 | E8: =Kwaliteit!L7 -> 8 | F8: =Kwaliteit!L8 -> 6 | G8: =Kwaliteit!L9 -> 10 | H8: =Kwaliteit!L10 -> 8
E10: Meerwaarde bij het scoren van een 10: | I10: Totaal extra kwaliteit | K10: De laagste Evaluatie-prijs wint
D11: Belang in € ==> | E11: 40000 | F11: 133333.33 | G11: 53333.333 | H11: 40000 | I11: =SUM(E11:H11) -> 266666.67 | K11: V
K12: V
B13: INSCHRIJVER | C13: BEREKENING meerwaarde ==> | E13: Score in € voor extra presaties en kwaliteit | I13: Totaal v/d berekende meerwaarde in € | J13: rangorde | K13: Evaluatie-prijs (Inschrijfsom minus meerwaarde) | L13: rangorde
B14: =+B4 -> A | E14: =(E4-6)*E$11/4 -> 40000 | F14: =(F4-6)*F$11/4 -> 0 | G14: =(G4-6)*G$11/4 -> 26666.667 | H14: =(H4-6)*H$11/4 -> 0 | I14: =SUM(E14:H14) -> 66666.667 | J14: =RANK(I14,I$14:I$18,0) -> 5 | K14: =C4-I14 -> 933333.33 | L14: =RANK(K14,K$14:K$18,1) -> 2
B15: =+B5 -> B | E15: =(E5-6)*E$11/4 -> 0 | F15: =(F5-6)*F$11/4 -> 133333.33 | G15: =(G5-6)*G$11/4 -> 26666.667 | H15: =(H5-6)*H$11/4 -> 0 | I15: =SUM(E15:H15) -> 160000 | J15: =RANK(I15,I$14:I$18,0) -> 2 | K15: =C5-I15 -> 840000 | L15: =RANK(K15,K$14:K$18,1) -> 1
B16: =+B6 -> C | E16: =(E6-6)*E$11/4 -> 40000 | F16: =(F6-6)*F$11/4 -> 66666.667 | G16: =(G6-6)*G$11/4 -> 0 | H16: =(H6-6)*H$11/4 -> 20000 | I16: =SUM(E16:H16) -> 126666.67 | J16: =RANK(I16,I$14:I$18,0) -> 3 | K16: =C6-I16 -> 1073333.3 | L16: =RANK(K16,K$14:K$18,1) -> 4
B17: =+B7 -> D | E17: =(E7-6)*E$11/4 -> 40000 | F17: =(F7-6)*F$11/4 -> 133333.33 | G17: =(G7-6)*G$11/4 -> 53333.333 | H17: =(H7-6)*H$11/4 -> -20000 | I17: =SUM(E17:H17) -> 206666.67 | J17: =RANK(I17,I$14:I$18,0) -> 1 | K17: =C7-I17 -> 1293333.3 | L17: =RANK(K17,K$14:K$18,1) -> 5
B18: =+B8 -> E | E18: =(E8-6)*E$11/4 -> 20000 | F18: =(F8-6)*F$11/4 -> 0 | G18: =(G8-6)*G$11/4 -> 53333.333 | H18: =(H8-6)*H$11/4 -> 20000 | I18: =SUM(E18:H18) -> 93333.333 | J18: =RANK(I18,I$14:I$18,0) -> 4 | K18: =C8-I18 -> 1006666.7 | L18: =RANK(K18,K$14:K$18,1) -> 3

Sheet Kwaliteit
D2: Inschrijvers
D3: =Inschrijfsom!B4 -> A | F3: =Inschrijfsom!B5 -> B | H3: =Inschrijfsom!B6 -> C | J3: =Inschrijfsom!B7 -> D | L3: =Inschrijfsom!B8 -> E
B4: BEOORDELINGSFACTOREN: | D4: (2,4,6,8,10) | E4: Toelichting | F4: (2,4,6,8,10) | G4: Toelichting | H4: (2,4,6,8,10) | I4: Toelichting | J4: (2,4,6,8,10) | K4: Toelichting | L4: (2,4,6,8,10) | M4: Toelichting
C6: Gunningscriteria | E6: Motivatie | G6: Motivatie | I6: Motivatie | K6: Motivatie | M6: Motivatie
C7: =Inschrijfsom!E3 -> Milieu | D7: 10 | E7: hier de motivatie | F7: 6 | H7: 10 | J7: 10 | L7: 8
C8: =Inschrijfsom!F3 -> Demo besteltool | D8: 6 | E8: vergelijk wat is er | F8: 10 | H8: 8 | J8: 10 | L8: 6
C9: =Inschrijfsom!G3 -> Pieken en garantie | D9: 8 | E9: gevraagd en wat wordt | F9: 8 | H9: 6 | J9: 10 | L9: 10
C10: =Inschrijfsom!H3 -> Casussen | D10: 6 | E10: er aangeboden. | F10: 6 | H10: 8 | J10: 4 | L10: 8
