Workbook
Name SCORE: 'Beoordelen open vragen'!$A$15:$A$20

Sheet Beoordelen open vragen
A1: 7.1 Schriftelijke beantwoording open vragen
A2: Om de kwaliteit en toegevoegde waarde van de inschrijver(s) te kunnen beoordelen dient inschrijver haar kwaliteit aan te tonen en meerwaarde uit te werken conform onderstaande open vragen.
A3: 7.1.1 BELEVING SCHONE WERKOMGEVING (MAX. 3 A4)
A4: Schoon is een beleving! De dag beginnen met een schone werkomgeving voor medewerkers en gasten, iedere dag weer, dat is waar de aanbestedende dienst naar streeft. Met deze aanbesteding wil de aanbestedende dienst een partij selecteren die als geen ander begrijpt dat schoonmaak meer is dan alleen een schoonmaakprogramma uitvoeren en afvinken. Bij een schone werkomgeving hoort een fris gevoel en een prettige geur! Inschrijver dient te beschrijven op maximaal 3 A4 wat zij verstaat onder schoon. Inschrijver beschrijft daarbij minimaal; - Welke invulling gaat inschrijver geven aan de beleving van schoon? - Op welke wijze zorgt inschrijver ervoor dat dit dagelijkse praktijk is gedurende de gehele looptijd van de overeenkomst? - Welke meerwaarde (wat bij de inschrijfprijs in zit!) biedt inschrijver naast het afwerken van alleen het geëiste schoonmaakprogramma? - Welke extra structurele maatregelen treft de inschrijver om het verspreiden van virussen aan deurknoppen, deurgrepen en andere contactelementen te minimaliseren? Welke desinfectie past inschrijver permanent toe? - Op welke wijze geeft inschrijver invulling aan diverse seizoensinvloeden zoals de herfst en winter wanneer er extra aandacht aan het inlopen van vuil en vocht moet worden gegeven?
A5: 7.1.2 GOED WERKGEVERSCHAP (MAX. 3 A4)
A6: Inschrijver dient te beschrijven op maximaal 3 A4 op welke wijze zij invulling geef aan goed werkgeverschap gericht op haar werknemers en beschrijft daarbij minimaal; - Hoe de vaste en flexibele werknemers worden zij gestimuleerd en gemotiveerd in hun werken ten einde een goede schoonmaakkwaliteit te realiseren en wat de rol van de direct leidinggevende hier in is; - Hoe zorgt inschrijver er voor dat de betrokkenheid van de schoonmakers bij de organisatie van de aanbestedende dienst stijgt, zodat de medewerkers van het schoonmaakbedrijf blij en trots zijn om bij de aanbestedende dienst te mogen werken en trots zijn op een schone werkomgeving; - Hoe en in welke mate laat zij de eventueel te verkrijgen bonus toekomen aan de medewerkers die de schoonmaakwerkzaamheden op de locaties van de aanbestedende dienst uitvoeren, zodat zij beloont worden voor hun meerwaarde hierin; - Welke trainingen en opleidingen krijgen medewerkers van de inschrijver, gericht op communicatie, vakkennis en veiligheid.
A7: 7.1.3 INVULLING WERKZAAMHEDEN LEIDINGGEVENDE (MAX. 1 A4)
A8: De aanbestedende dienst wil van inschrijver weten op welke wijze zij een invulling geeft aan de dagelijkse leiding van de schoonmaak. Inschrijver dient het volgende te beschrijven op maximaal 1 A4; - Hoe borgt inschrijver de drie taken die juist thuishoren bij een leidinggevende van de schoonmaakwerkzaamheden? De drie taken zijn (1) het uitvoeren van de controles en het rapporteren hiervan, (2) het leidinggeven aan de schoonmakers en (3) het eventueel meewerken/ mede schoonmaken; - Op welke wijze inschrijver invulling geeft op iedere locatie aan de functie leidinggevende waarbij minimaal beschreven wordt (a) hoeveel uur deze per locatie ingezet gaat worden en (b) welke extra aanvullende diensten er geboden worden bovenop de uitvoering van het werkprogramma?
A9: 7.1.4 KWALITEITSVERBETERING (MAX. 2 A4)
A10: Inschrijvers hebben de mogelijkheid om de locaties te bezoeken tijdens de aanbestedingsprocedure (zie hiervoor het aanbestedingsdocument). Hoe kan de kwaliteit van de schoonmaak omhoog op wat u heeft waargenomen tijdens het locatiebezoek? Wat is u concreet opgevallen aan verbeterpunten? Wat is uw visie hierop? Inschrijver dient dit te beschrijven op maximaal 2 A4.
A11: 7.1.5 FLEXIBILITEIT (MAX. 1 A4)
A12: Inschrijvers dienen er rekening mee te houden dat de situatie van Avalex in het voorjaar van 2021 wijzigt en in 2022 de beide kantooromgevingen samengevoegd in Delft worden gevestigd (zie hiervoor het aanbestedingsdocument). Inschrijver beschrijft hier in welke mate zij mee kan denken met de opdrachtgever met betrekking tot de schoonmaak en het schoonmaakprogramma, hoe flexibel zij hiermee omgaat en hoe zij opdrachtgever kan garanderen/ waarborgen dat opdrachtgever met betrekking tot de nieuwe situaties een “fair price” zal gaan betalen? Inschrijver dient dit te beschrijven op maximaal 1 A4.
... A14: Inschrijver beschrijft op maximaal 1 A4 op welke wijze zij bijdraagt aan een beter milieu en duurzaamheid en geeft antwoord op de volgende vragen.; - Hoe ecologisch verantwoord zijn de schoonmaakmiddelen die door inschrijver gebruikt worden ten behoeve van een lagere milieu impact? - Het scheiden van afval is de core business van de aanbestedende dienst. Hoe draagt inschrijver zorg dat de medewerkers minimaal werken conform de wijze (4 afvalstromen) waarop de aanbestedende dienst werkt? Per beantwoording van de open vraag zal een score een waarde vertegenwoordigen, deze waarde is te vinden in bijlage 13. Daar waar in bijlage 13 KO staat zal die score naar oordeel van de beoordelingscommissie leiden tot uitsluiting (KNOCK-OUT) van deze aanbesteding.
A15: Score: | B15: 7.1.1 | C15: 7.1.2 | D15: 7.1.3 | E15: 7.1.4 | F15: 7.1.5 | G15: 7.1.6
A16: Uitmuntend | B16: 4000 | C16: 4000 | D16: 3000 | E16: 3000 | F16: 1000 | G16: 1000
A17: Goed | B17: 2000 | C17: 2000 | D17: 1500 | E17: 1500 | F17: 500 | G17: 500
A18: Voldoende | B18: 800 | C18: 800 | D18: 600 | E18: 600 | F18: 200 | G18: 200
A19: Matig | B19: 0 | C19: 0 | D19: 0 | E19: 0 | F19: 0 | G19: 0
A20: Onvoldoende | B20: KO | C20: KO | D20: KO | E20: KO | F20: KO | G20: KO
A21: 7.2 Persoonlijke toelichting beantwoording van de schriftelijk ingediende open vragen
A22: Dit onderdeel kent dus GEEN eigen beoordelingskader, maar kan leiden tot een aanpassing van een beoordeling van de beantwoording van de open vragen.

Sheet Beoordelen interview
A1: 7.3 Interviewvragen sleutelfunctionarissen
A2: De inschrijver zal vier vragen gesteld krijgen die op voorhand zijn vastgesteld en voor iedere inschrijver gelijk zijn. Deze vragen zijn opgesteld VOOR publicatie van deze aanbesteding en in bewaring gesteld bij het begeleidende adviesbureau.
A3: De vastgestelde interviewvragen (niet bekend bij de inschrijver): | B3: Te behalen waarde bij Uitmuntend | C3: Te behalen waarde bij Goed | D3: Te behalen waarde bij Voldoende | E3: Te behalen waarde bij Matig | F3: Te behalen waarde bij Onvoldoende
A4: Vraag 1 | B4: 1000 | C4: 500 | D4: 200 | E4: 0 | F4: KO
A5: Vraag 2 | B5: 1000 | C5: 500 | D5: 200 | E5: 0 | F5: KO
A6: Vraag 3 | B6: 1000 | C6: 500 | D6: 200 | E6: 0 | F6: KO
A7: Vraag 4 | B7: 1000 | C7: 500 | D7: 200 | E7: 0 | F7: KO

Sheet Coördinator Facilitair
A1: Beoordelaar 1: Coördinator Facilitair | C1: <NAAM INSCHRIJVER> | F1: <NAAM INSCHRIJVER> | I1: <NAAM INSCHRIJVER>
A2: Open vragen | C2: Scores en motivaties | F2: Scores en motivaties | I2: Scores en motivaties
A3: ='Beoordelen open vragen'!A3 -> 7.1.1 BELEVING SCHONE WERKOMGEVING (MAX. 3 A4) | C3: Score: | F3: Score: | I3: Score:
A4: ='Beoordelen open vragen'!A4 -> Schoon is een beleving! De dag beginnen met een schone werkomgeving voor medewerkers en gasten, iedere dag weer, dat is waar de aanbestedende dienst naar streeft. Met deze aanbesteding wil de aanbestedende dienst een partij selecteren die als geen ander begrijpt dat schoonmaak meer is dan alleen een schoonmaakprogramma uitvoeren en afvinken. Bij een schone werkomgeving hoort een fris gevoel en een prettige geur! Inschrijver dient te beschrijven op maximaal 3 A4 wat zij verstaat onder schoon. Inschrijver beschrijft daarbij minimaal; - Welke invulling gaat inschrijver geven aan de beleving van schoon? - Op welke wijze zorgt inschrijver ervoor dat dit dagelijkse praktijk is gedurende de gehele looptijd van de overeenkomst? - Welke meerwaarde (wat bij de inschrijfprijs in zit!) biedt inschrijver naast het afwerken van alleen het geëiste schoonmaakprogramma? - Welke extra structurele maatregelen treft de inschrijver om het verspreiden van virussen aan deurknoppen, deurgrepen en andere contactelementen te minimaliseren? Welke desinfectie past inschrijver permanent toe? - Op welke wijze geeft inschrijver invulling aan diverse seizoensinvloeden zoals de herfst en winter wanneer er extra aandacht aan het inlopen van vuil en vocht moet worden gegeven? | C4: <MOTIVATIE> | F4: <MOTIVATIE> | I4: <MOTIVATIE>
A5: ='Beoordelen open vragen'!A5 -> 7.1.2 GOED WERKGEVERSCHAP (MAX. 3 A4) | C5: Score: | F5: Score: | I5: Score:
A6: ='Beoordelen open vragen'!A6 -> Inschrijver dient te beschrijven op maximaal 3 A4 op welke wijze zij invulling geef aan goed werkgeverschap gericht op haar werknemers en beschrijft daarbij minimaal; - Hoe de vaste en flexibele werknemers worden zij gestimuleerd en gemotiveerd in hun werken ten einde een goede schoonmaakkwaliteit te realiseren en wat de rol van de direct leidinggevende hier in is; - Hoe zorgt inschrijver er voor dat de betrokkenheid van de schoonmakers bij de organisatie van de aanbestedende dienst stijgt, zodat de medewerkers van het schoonmaakbedrijf blij en trots zijn om bij de aanbestedende dienst te mogen werken en trots zijn op een schone werkomgeving; - Hoe en in welke mate laat zij de eventueel te verkrijgen bonus toekomen aan de medewerkers die de schoonmaakwerkzaamheden op de locaties van de aanbestedende dienst uitvoeren, zodat zij beloont worden voor hun meerwaarde hierin; - Welke trainingen en opleidingen krijgen medewerkers van de inschrijver, gericht op communicatie, vakkennis en veiligheid. | C6: <MOTIVATIE> | F6: <MOTIVATIE> | I6: <MOTIVATIE>
A7: ='Beoordelen open vragen'!A7 -> 7.1.3 INVULLING WERKZAAMHEDEN LEIDINGGEVENDE (MAX. 1 A4) | C7: Score: | F7: Score: | I7: Score:
A8: ='Beoordelen open vragen'!A8 -> De aanbestedende dienst wil van inschrijver weten op welke wijze zij een invulling geeft aan de dagelijkse leiding van de schoonmaak. Inschrijver dient het volgende te beschrijven op maximaal 1 A4; - Hoe borgt inschrijver de drie taken die juist thuishoren bij een leidinggevende van de schoonmaakwerkzaamheden? De drie taken zijn (1) het uitvoeren van de controles en het rapporteren hiervan, (2) het leidinggeven aan de schoonmakers en (3) het eventueel meewerken/ mede schoonmaken; - Op welke wijze inschrijver invulling geeft op iedere locatie aan de functie leidinggevende waarbij minimaal beschreven wordt (a) hoeveel uur deze per locatie ingezet gaat worden en (b) welke extra aanvullende diensten er geboden worden bovenop de uitvoering van het werkprogramma? | C8: <MOTIVATIE> | F8: <MOTIVATIE> | I8: <MOTIVATIE>
A9: ='Beoordelen open vragen'!A9 -> 7.1.4 KWALITEITSVERBETERING (MAX. 2 A4) | C9: Score: | F9: Score: | I9: Score:
A10: ='Beoordelen open vragen'!A10 -> Inschrijvers hebben de mogelijkheid om de locaties te bezoeken tijdens de aanbestedingsprocedure (zie hiervoor het aanbestedingsdocument). Hoe kan de kwaliteit van de schoonmaak omhoog op wat u heeft waargenomen tijdens het locatiebezoek? Wat is u concreet opgevallen aan verbeterpunten? Wat is uw visie hierop? Inschrijver dient dit te beschrijven op maximaal 2 A4. | C10: <MOTIVATIE> | F10: <MOTIVATIE> | I10: <MOTIVATIE>
A11: ='Beoordelen open vragen'!A11 -> 7.1.5 FLEXIBILITEIT (MAX. 1 A4) | C11: Score: | F11: Score: | I11: Score:
A12: ='Beoordelen open vragen'!A12 -> Inschrijvers dienen er rekening mee te houden dat de situatie van Avalex in het voorjaar van 2021 wijzigt en in 2022 de beide kantooromgevingen samengevoegd in Delft worden gevestigd (zie hiervoor het aanbestedingsdocument). Inschrijver beschrijft hier in welke mate zij mee kan denken met de opdrachtgever met betrekking tot de schoonmaak en het schoonmaakprogramma, hoe flexibel zij hiermee omgaat en hoe zij opdrachtgever kan garanderen/ waarborgen dat opdrachtgever met betrekking tot de nieuwe situaties een “fair price” zal gaan betalen? Inschrijver dient dit te beschrijven op maximaal 1 A4. | C12: <MOTIVATIE> | F12: <MOTIVATIE> | I12: <MOTIVATIE>
A13: ='Beoordelen open vragen'!A13 -> 7.1.6 MILIEU EN DUURZAAMHEID (MAX. 1 A4) | C13: Score: | F13: Score: | I13: Score:
A14: ='Beoordelen open vragen'!A14 -> Inschrijver beschrijft op maximaal 1 A4 op welke wijze zij bijdraagt aan een beter milieu en duurzaamheid en geeft antwoord op de volgende vragen.; - Hoe ecologisch verantwoord zijn de schoonmaakmiddelen die door inschrijver gebruikt worden ten behoeve van een lagere milieu impact? - Het scheiden van afval is de core business van de aanbestedende dienst. Hoe draagt inschrijver zorg dat de medewerkers minimaal werken conform de wijze (4 afvalstromen) waarop de aanbestedende dienst werkt? Per beantwoording van de open vraag zal een score een waarde vertegenwoordigen, deze waarde is te vinden in bijlage 13. Daar waar in bijlage 13 KO staat zal die score naar oordeel van de beoordelingscommissie leiden tot uitsluiting (KNOCK-OUT) van deze aanbesteding. | C14: <MOTIVATIE> | F14: <MOTIVATIE> | I14: <MOTIVATIE>
A17: ='Beoordelen interview'!A1 -> 7.3 Interviewvragen sleutelfunctionarissen
A18: ='Beoordelen interview'!A4:A4 -> Vraag 1 | C18: Score: | F18: Score: | I18: Score:
C19: <MOTIVATIE> | F19: <MOTIVATIE> | I19: <MOTIVATIE>
A20: ='Beoordelen interview'!A5:A5 -> Vraag 2 | C20: Score: | F20: Score: | I20: Score:
C21: <MOTIVATIE> | F21: <MOTIVATIE> | I21: <MOTIVATIE>
A22: ='Beoordelen interview'!A6:A6 -> Vraag 3 | C22: Score: | F22: Score: | I22: Score:
C23: <MOTIVATIE> | F23: <MOTIVATIE> | I23: <MOTIVATIE>
A24: ='Beoordelen interview'!A7:A7 -> Vraag 4 | C24: Score: | F24: Score: | I24: Score:
C25: <MOTIVATIE> | F25: <MOTIVATIE> | I25: <MOTIVATIE>

Sheet Secretaris Directeur
A1: Beoordelaar 2: Secretaris Directeur | C1: <NAAM INSCHRIJVER> | F1: <NAAM INSCHRIJVER> | I1: <NAAM INSCHRIJVER>
A2: Open vragen | C2: Scores en motivaties | F2: Scores en motivaties | I2: Scores en motivaties
A3: ='Beoordelen open vragen'!A3 -> 7.1.1 BELEVING SCHONE WERKOMGEVING (MAX. 3 A4) | C3: Score: | F3: Score: | I3: Score:
A4: ='Beoordelen open vragen'!A4 -> Schoon is een beleving! De dag beginnen met een schone werkomgeving voor medewerkers en gasten, iedere dag weer, dat is waar de aanbestedende dienst naar streeft. Met deze aanbesteding wil de aanbestedende dienst een partij selecteren die als geen ander begrijpt dat schoonmaak meer is dan alleen een schoonmaakprogramma uitvoeren en afvinken. Bij een schone werkomgeving hoort een fris gevoel en een prettige geur! Inschrijver dient te beschrijven op maximaal 3 A4 wat zij verstaat onder schoon. Inschrijver beschrijft daarbij minimaal; - Welke invulling gaat inschrijver geven aan de beleving van schoon? - Op welke wijze zorgt inschrijver ervoor dat dit dagelijkse praktijk is gedurende de gehele looptijd van de overeenkomst? - Welke meerwaarde (wat bij de inschrijfprijs in zit!) biedt inschrijver naast het afwerken van alleen het geëiste schoonmaakprogramma? - Welke extra structurele maatregelen treft de inschrijver om het verspreiden van virussen aan deurknoppen, deurgrepen en andere contactelementen te minimaliseren? Welke desinfectie past inschrijver permanent toe? - Op welke wijze geeft inschrijver invulling aan diverse seizoensinvloeden zoals de herfst en winter wanneer er extra aandacht aan het inlopen van vuil en vocht moet worden gegeven? | C4: <MOTIVATIE> | F4: <MOTIVATIE> | I4: <MOTIVATIE>
A5: ='Beoordelen open vragen'!A5 -> 7.1.2 GOED WERKGEVERSCHAP (MAX. 3 A4) | C5: Score: | F5: Score: | I5: Score:
A6: ='Beoordelen open vragen'!A6 -> Inschrijver dient te beschrijven op maximaal 3 A4 op welke wijze zij invulling geef aan goed werkgeverschap gericht op haar werknemers en beschrijft daarbij minimaal; - Hoe de vaste en flexibele werknemers worden zij gestimuleerd en gemotiveerd in hun werken ten einde een goede schoonmaakkwaliteit te realiseren en wat de rol van de direct leidinggevende hier in is; - Hoe zorgt inschrijver er voor dat de betrokkenheid van de schoonmakers bij de organisatie van de aanbestedende dienst stijgt, zodat de medewerkers van het schoonmaakbedrijf blij en trots zijn om bij de aanbestedende dienst te mogen werken en trots zijn op een schone werkomgeving; - Hoe en in welke mate laat zij de eventueel te verkrijgen bonus toekomen aan de medewerkers die de schoonmaakwerkzaamheden op de locaties van de aanbestedende dienst uitvoeren, zodat zij beloont worden voor hun meerwaarde hierin; - Welke trainingen en opleidingen krijgen medewerkers van de inschrijver, gericht op communicatie, vakkennis en veiligheid. | C6: <MOTIVATIE> | F6: <MOTIVATIE> | I6: <MOTIVATIE>
A7: ='Beoordelen open vragen'!A7 -> 7.1.3 INVULLING WERKZAAMHEDEN LEIDINGGEVENDE (MAX. 1 A4) | C7: Score: | F7: Score: | I7: Score:
A8: ='Beoordelen open vragen'!A8 -> De aanbestedende dienst wil van inschrijver weten op welke wijze zij een invulling geeft aan de dagelijkse leiding van de schoonmaak. Inschrijver dient het volgende te beschrijven op maximaal 1 A4; - Hoe borgt inschrijver de drie taken die juist thuishoren bij een leidinggevende van de schoonmaakwerkzaamheden? De drie taken zijn (1) het uitvoeren van de controles en het rapporteren hiervan, (2) het leidinggeven aan de schoonmakers en (3) het eventueel meewerken/ mede schoonmaken; - Op welke wijze inschrijver invulling geeft op iedere locatie aan de functie leidinggevende waarbij minimaal beschreven wordt (a) hoeveel uur deze per locatie ingezet gaat worden en (b) welke extra aanvullende diensten er geboden worden bovenop de uitvoering van het werkprogramma? | C8: <MOTIVATIE> | F8: <MOTIVATIE> | I8: <MOTIVATIE>
A9: ='Beoordelen open vragen'!A9 -> 7.1.4 KWALITEITSVERBETERING (MAX. 2 A4) | C9: Score: | F9: Score: | I9: Score:
A10: ='Beoordelen open vragen'!A10 -> Inschrijvers hebben de mogelijkheid om de locaties te bezoeken tijdens de aanbestedingsprocedure (zie hiervoor het aanbestedingsdocument). Hoe kan de kwaliteit van de schoonmaak omhoog op wat u heeft waargenomen tijdens het locatiebezoek? Wat is u concreet opgevallen aan verbeterpunten? Wat is uw visie hierop? Inschrijver dient dit te beschrijven op maximaal 2 A4. | C10: <MOTIVATIE> | F10: <MOTIVATIE> | I10: <MOTIVATIE>
A11: ='Beoordelen open vragen'!A11 -> 7.1.5 FLEXIBILITEIT (MAX. 1 A4) | C11: Score: | F11: Score: | I11: Score:
A12: ='Beoordelen open vragen'!A12 -> Inschrijvers dienen er rekening mee te houden dat de situatie van Avalex in het voorjaar van 2021 wijzigt en in 2022 de beide kantooromgevingen samengevoegd in Delft worden gevestigd (zie hiervoor het aanbestedingsdocument). Inschrijver beschrijft hier in welke mate zij mee kan denken met de opdrachtgever met betrekking tot de schoonmaak en het schoonmaakprogramma, hoe flexibel zij hiermee omgaat en hoe zij opdrachtgever kan garanderen/ waarborgen dat opdrachtgever met betrekking tot de nieuwe situaties een “fair price” zal gaan betalen? Inschrijver dient dit te beschrijven op maximaal 1 A4. | C12: <MOTIVATIE> | F12: <MOTIVATIE> | I12: <MOTIVATIE>
A13: ='Beoordelen open vragen'!A13 -> 7.1.6 MILIEU EN DUURZAAMHEID (MAX. 1 A4) | C13: Score: | F13: Score: | I13: Score:
A14: ='Beoordelen open vragen'!A14 -> Inschrijver beschrijft op maximaal 1 A4 op welke wijze zij bijdraagt aan een beter milieu en duurzaamheid en geeft antwoord op de volgende vragen.; - Hoe ecologisch verantwoord zijn de schoonmaakmiddelen die door inschrijver gebruikt worden ten behoeve van een lagere milieu impact? - Het scheiden van afval is de core business van de aanbestedende dienst. Hoe draagt inschrijver zorg dat de medewerkers minimaal werken conform de wijze (4 afvalstromen) waarop de aanbestedende dienst werkt? Per beantwoording van de open vraag zal een score een waarde vertegenwoordigen, deze waarde is te vinden in bijlage 13. Daar waar in bijlage 13 KO staat zal die score naar oordeel van de beoordelingscommissie leiden tot uitsluiting (KNOCK-OUT) van deze aanbesteding. | C14: <MOTIVATIE> | F14: <MOTIVATIE> | I14: <MOTIVATIE>
A17: ='Beoordelen interview'!A1 -> 7.3 Interviewvragen sleutelfunctionarissen
A18: ='Beoordelen interview'!A4:A4 -> Vraag 1 | C18: Score: | F18: Score: | I18: Score:
C19: <MOTIVATIE> | F19: <MOTIVATIE> | I19: <MOTIVATIE>
A20: ='Beoordelen interview'!A5:A5 -> Vraag 2 | C20: Score: | F20: Score: | I20: Score:
C21: <MOTIVATIE> | F21: <MOTIVATIE> | I21: <MOTIVATIE>
A22: ='Beoordelen interview'!A6:A6 -> Vraag 3 | C22: Score: | F22: Score: | I22: Score:
C23: <MOTIVATIE> | F23: <MOTIVATIE> | I23: <MOTIVATIE>
A24: ='Beoordelen interview'!A7:A7 -> Vraag 4 | C24: Score: | F24: Score: | I24: Score:
C25: <MOTIVATIE> | F25: <MOTIVATIE> | I25: <MOTIVATIE>

Sheet Teamleider 
A1: Beoordelaar 3: Teamleider | C1: <NAAM INSCHRIJVER> | F1: <NAAM INSCHRIJVER> | I1: <NAAM INSCHRIJVER>
A2: Open vragen | C2: Scores en motivaties | F2: Scores en motivaties | I2: Scores en motivaties
A3: ='Beoordelen open vragen'!A3 -> 7.1.1 BELEVING SCHONE WERKOMGEVING (MAX. 3 A4) | C3: Score: | F3: Score: | I3: Score:
A4: ='Beoordelen open vragen'!A4 -> Schoon is een beleving! De dag beginnen met een schone werkomgeving voor medewerkers en gasten, iedere dag weer, dat is waar de aanbestedende dienst naar streeft. Met deze aanbesteding wil de aanbestedende dienst een partij selecteren die als geen ander begrijpt dat schoonmaak meer is dan alleen een schoonmaakprogramma uitvoeren en afvinken. Bij een schone werkomgeving hoort een fris gevoel en een prettige geur! Inschrijver dient te beschrijven op maximaal 3 A4 wat zij verstaat onder schoon. Inschrijver beschrijft daarbij minimaal; - Welke invulling gaat inschrijver geven aan de beleving van schoon? - Op welke wijze zorgt inschrijver ervoor dat dit dagelijkse praktijk is gedurende de gehele looptijd van de overeenkomst? - Welke meerwaarde (wat bij de inschrijfprijs in zit!) biedt inschrijver naast het afwerken van alleen het geëiste schoonmaakprogramma? - Welke extra structurele maatregelen treft de inschrijver om het verspreiden van virussen aan deurknoppen, deurgrepen en andere contactelementen te minimaliseren? Welke desinfectie past inschrijver permanent toe? - Op welke wijze geeft inschrijver invulling aan diverse seizoensinvloeden zoals de herfst en winter wanneer er extra aandacht aan het inlopen van vuil en vocht moet worden gegeven? | C4: <MOTIVATIE> | F4: <MOTIVATIE> | I4: <MOTIVATIE>
A5: ='Beoordelen open vragen'!A5 -> 7.1.2 GOED WERKGEVERSCHAP (MAX. 3 A4) | C5: Score: | F5: Score: | I5: Score:
A6: ='Beoordelen open vragen'!A6 -> Inschrijver dient te beschrijven op maximaal 3 A4 op welke wijze zij invulling geef aan goed werkgeverschap gericht op haar werknemers en beschrijft daarbij minimaal; - Hoe de vaste en flexibele werknemers worden zij gestimuleerd en gemotiveerd in hun werken ten einde een goede schoonmaakkwaliteit te realiseren en wat de rol van de direct leidinggevende hier in is; - Hoe zorgt inschrijver er voor dat de betrokkenheid van de schoonmakers bij de organisatie van de aanbestedende dienst stijgt, zodat de medewerkers van het schoonmaakbedrijf blij en trots zijn om bij de aanbestedende dienst te mogen werken en trots zijn op een schone werkomgeving; - Hoe en in welke mate laat zij de eventueel te verkrijgen bonus toekomen aan de medewerkers die de schoonmaakwerkzaamheden op de locaties van de aanbestedende dienst uitvoeren, zodat zij beloont worden voor hun meerwaarde hierin; - Welke trainingen en opleidingen krijgen medewerkers van de inschrijver, gericht op communicatie, vakkennis en veiligheid. | C6: <MOTIVATIE> | F6: <MOTIVATIE> | I6: <MOTIVATIE>
A7: ='Beoordelen open vragen'!A7 -> 7.1.3 INVULLING WERKZAAMHEDEN LEIDINGGEVENDE (MAX. 1 A4) | C7: Score: | F7: Score: | I7: Score:
A8: ='Beoordelen open vragen'!A8 -> De aanbestedende dienst wil van inschrijver weten op welke wijze zij een invulling geeft aan de dagelijkse leiding van de schoonmaak. Inschrijver dient het volgende te beschrijven op maximaal 1 A4; - Hoe borgt inschrijver de drie taken die juist thuishoren bij een leidinggevende van de schoonmaakwerkzaamheden? De drie taken zijn (1) het uitvoeren van de controles en het rapporteren hiervan, (2) het leidinggeven aan de schoonmakers en (3) het eventueel meewerken/ mede schoonmaken; - Op welke wijze inschrijver invulling geeft op iedere locatie aan de functie leidinggevende waarbij minimaal beschreven wordt (a) hoeveel uur deze per locatie ingezet gaat worden en (b) welke extra aanvullende diensten er geboden worden bovenop de uitvoering van het werkprogramma? | C8: <MOTIVATIE> | F8: <MOTIVATIE> | I8: <MOTIVATIE>
A9: ='Beoordelen open vragen'!A9 -> 7.1.4 KWALITEITSVERBETERING (MAX. 2 A4) | C9: Score: | F9: Score: | I9: Score:
A10: ='Beoordelen open vragen'!A10 -> Inschrijvers hebben de mogelijkheid om de locaties te bezoeken tijdens de aanbestedingsprocedure (zie hiervoor het aanbestedingsdocument). Hoe kan de kwaliteit van de schoonmaak omhoog op wat u heeft waargenomen tijdens het locatiebezoek? Wat is u concreet opgevallen aan verbeterpunten? Wat is uw visie hierop? Inschrijver dient dit te beschrijven op maximaal 2 A4. | C10: <MOTIVATIE> | F10: <MOTIVATIE> | I10: <MOTIVATIE>
A11: ='Beoordelen open vragen'!A11 -> 7.1.5 FLEXIBILITEIT (MAX. 1 A4) | C11: Score: | F11: Score: | I11: Score:
A12: ='Beoordelen open vragen'!A12 -> Inschrijvers dienen er rekening mee te houden dat de situatie van Avalex in het voorjaar van 2021 wijzigt en in 2022 de beide kantooromgevingen samengevoegd in Delft worden gevestigd (zie hiervoor het aanbestedingsdocument). Inschrijver beschrijft hier in welke mate zij mee kan denken met de opdrachtgever met betrekking tot de schoonmaak en het schoonmaakprogramma, hoe flexibel zij hiermee omgaat en hoe zij opdrachtgever kan garanderen/ waarborgen dat opdrachtgever met betrekking tot de nieuwe situaties een “fair price” zal gaan betalen? Inschrijver dient dit te beschrijven op maximaal 1 A4. | C12: <MOTIVATIE> | F12: <MOTIVATIE> | I12: <MOTIVATIE>
A13: ='Beoordelen open vragen'!A13 -> 7.1.6 MILIEU EN DUURZAAMHEID (MAX. 1 A4) | C13: Score: | F13: Score: | I13: Score:
A14: ='Beoordelen open vragen'!A14 -> Inschrijver beschrijft op maximaal 1 A4 op welke wijze zij bijdraagt aan een beter milieu en duurzaamheid en geeft antwoord op de volgende vragen.; - Hoe ecologisch verantwoord zijn de schoonmaakmiddelen die door inschrijver gebruikt worden ten behoeve van een lagere milieu impact? - Het scheiden van afval is de core business van de aanbestedende dienst. Hoe draagt inschrijver zorg dat de medewerkers minimaal werken conform de wijze (4 afvalstromen) waarop de aanbestedende dienst werkt? Per beantwoording van de open vraag zal een score een waarde vertegenwoordigen, deze waarde is te vinden in bijlage 13. Daar waar in bijlage 13 KO staat zal die score naar oordeel van de beoordelingscommissie leiden tot uitsluiting (KNOCK-OUT) van deze aanbesteding. | C14: <MOTIVATIE> | F14: <MOTIVATIE> | I14: <MOTIVATIE>
A17: ='Beoordelen interview'!A1 -> 7.3 Interviewvragen sleutelfunctionarissen
A18: ='Beoordelen interview'!A4:A4 -> Vraag 1 | C18: Score: | F18: Score: | I18: Score:
C19: <MOTIVATIE> | F19: <MOTIVATIE> | I19: <MOTIVATIE>
A20: ='Beoordelen interview'!A5:A5 -> Vraag 2 | C20: Score: | F20: Score: | I20: Score:
C21: <MOTIVATIE> | F21: <MOTIVATIE> | I21: <MOTIVATIE>
A22: ='Beoordelen interview'!A6:A6 -> Vraag 3 | C22: Score: | F22: Score: | I22: Score:
C23: <MOTIVATIE> | F23: <MOTIVATIE> | I23: <MOTIVATIE>
A24: ='Beoordelen interview'!A7:A7 -> Vraag 4 | C24: Score: | F24: Score: | I24: Score:
C25: <MOTIVATIE> | F25: <MOTIVATIE> | I25: <MOTIVATIE>

Sheet Medewerker Overlaad
A1: Beoordelaar 4: Medewerker Overlaad/ OR lid | C1: <NAAM INSCHRIJVER> | F1: <NAAM INSCHRIJVER> | I1: <NAAM INSCHRIJVER>
A2: Open vragen | C2: Scores en motivaties | F2: Scores en motivaties | I2: Scores en motivaties
A3: ='Beoordelen open vragen'!A3 -> 7.1.1 BELEVING SCHONE WERKOMGEVING (MAX. 3 A4) | C3: Score: | F3: Score: | I3: Score:
A4: ='Beoordelen open vragen'!A4 -> Schoon is een beleving! De dag beginnen met een schone werkomgeving voor medewerkers en gasten, iedere dag weer, dat is waar de aanbestedende dienst naar streeft. Met deze aanbesteding wil de aanbestedende dienst een partij selecteren die als geen ander begrijpt dat schoonmaak meer is dan alleen een schoonmaakprogramma uitvoeren en afvinken. Bij een schone werkomgeving hoort een fris gevoel en een prettige geur! Inschrijver dient te beschrijven op maximaal 3 A4 wat zij verstaat onder schoon. Inschrijver beschrijft daarbij minimaal; - Welke invulling gaat inschrijver geven aan de beleving van schoon? - Op welke wijze zorgt inschrijver ervoor dat dit dagelijkse praktijk is gedurende de gehele looptijd van de overeenkomst? - Welke meerwaarde (wat bij de inschrijfprijs in zit!) biedt inschrijver naast het afwerken van alleen het geëiste schoonmaakprogramma? - Welke extra structurele maatregelen treft de inschrijver om het verspreiden van virussen aan deurknoppen, deurgrepen en andere contactelementen te minimaliseren? Welke desinfectie past inschrijver permanent toe? - Op welke wijze geeft inschrijver invulling aan diverse seizoensinvloeden zoals de herfst en winter wanneer er extra aandacht aan het inlopen van vuil en vocht moet worden gegeven? | C4: <MOTIVATIE> | F4: <MOTIVATIE> | I4: <MOTIVATIE>
A5: ='Beoordelen open vragen'!A5 -> 7.1.2 GOED WERKGEVERSCHAP (MAX. 3 A4) | C5: Score: | F5: Score: | I5: Score:
A6: ='Beoordelen open vragen'!A6 -> Inschrijver dient te beschrijven op maximaal 3 A4 op welke wijze zij invulling geef aan goed werkgeverschap gericht op haar werknemers en beschrijft daarbij minimaal; - Hoe de vaste en flexibele werknemers worden zij gestimuleerd en gemotiveerd in hun werken ten einde een goede schoonmaakkwaliteit te realiseren en wat de rol van de direct leidinggevende hier in is; - Hoe zorgt inschrijver er voor dat de betrokkenheid van de schoonmakers bij de organisatie van de aanbestedende dienst stijgt, zodat de medewerkers van het schoonmaakbedrijf blij en trots zijn om bij de aanbestedende dienst te mogen werken en trots zijn op een schone werkomgeving; - Hoe en in welke mate laat zij de eventueel te verkrijgen bonus toekomen aan de medewerkers die de schoonmaakwerkzaamheden op de locaties van de aanbestedende dienst uitvoeren, zodat zij beloont worden voor hun meerwaarde hierin; - Welke trainingen en opleidingen krijgen medewerkers van de inschrijver, gericht op communicatie, vakkennis en veiligheid. | C6: <MOTIVATIE> | F6: <MOTIVATIE> | I6: <MOTIVATIE>
A7: ='Beoordelen open vragen'!A7 -> 7.1.3 INVULLING WERKZAAMHEDEN LEIDINGGEVENDE (MAX. 1 A4) | C7: Score: | F7: Score: | I7: Score:
A8: ='Beoordelen open vragen'!A8 -> De aanbestedende dienst wil van inschrijver weten op welke wijze zij een invulling geeft aan de dagelijkse leiding van de schoonmaak. Inschrijver dient het volgende te beschrijven op maximaal 1 A4; - Hoe borgt inschrijver de drie taken die juist thuishoren bij een leidinggevende van de schoonmaakwerkzaamheden? De drie taken zijn (1) het uitvoeren van de controles en het rapporteren hiervan, (2) het leidinggeven aan de schoonmakers en (3) het eventueel meewerken/ mede schoonmaken; - Op welke wijze inschrijver invulling geeft op iedere locatie aan de functie leidinggevende waarbij minimaal beschreven wordt (a) hoeveel uur deze per locatie ingezet gaat worden en (b) welke extra aanvullende diensten er geboden worden bovenop de uitvoering van het werkprogramma? | C8: <MOTIVATIE> | F8: <MOTIVATIE> | I8: <MOTIVATIE>
A9: ='Beoordelen open vragen'!A9 -> 7.1.4 KWALITEITSVERBETERING (MAX. 2 A4) | C9: Score: | F9: Score: | I9: Score:
A10: ='Beoordelen open vragen'!A10 -> Inschrijvers hebben de mogelijkheid om de locaties te bezoeken tijdens de aanbestedingsprocedure (zie hiervoor het aanbestedingsdocument). Hoe kan de kwaliteit van de schoonmaak omhoog op wat u heeft waargenomen tijdens het locatiebezoek? Wat is u concreet opgevallen aan verbeterpunten? Wat is uw visie hierop? Inschrijver dient dit te beschrijven op maximaal 2 A4. | C10: <MOTIVATIE> | F10: <MOTIVATIE> | I10: <MOTIVATIE>
A11: ='Beoordelen open vragen'!A11 -> 7.1.5 FLEXIBILITEIT (MAX. 1 A4) | C11: Score: | F11: Score: | I11: Score:
A12: ='Beoordelen open vragen'!A12 -> Inschrijvers dienen er rekening mee te houden dat de situatie van Avalex in het voorjaar van 2021 wijzigt en in 2022 de beide kantooromgevingen samengevoegd in Delft worden gevestigd (zie hiervoor het aanbestedingsdocument). Inschrijver beschrijft hier in welke mate zij mee kan denken met de opdrachtgever met betrekking tot de schoonmaak en het schoonmaakprogramma, hoe flexibel zij hiermee omgaat en hoe zij opdrachtgever kan garanderen/ waarborgen dat opdrachtgever met betrekking tot de nieuwe situaties een “fair price” zal gaan betalen? Inschrijver dient dit te beschrijven op maximaal 1 A4. | C12: <MOTIVATIE> | F12: <MOTIVATIE> | I12: <MOTIVATIE>
A13: ='Beoordelen open vragen'!A13 -> 7.1.6 MILIEU EN DUURZAAMHEID (MAX. 1 A4) | C13: Score: | F13: Score: | I13: Score:
A14: ='Beoordelen open vragen'!A14 -> Inschrijver beschrijft op maximaal 1 A4 op welke wijze zij bijdraagt aan een beter milieu en duurzaamheid en geeft antwoord op de volgende vragen.; - Hoe ecologisch verantwoord zijn de schoonmaakmiddelen die door inschrijver gebruikt worden ten behoeve van een lagere milieu impact? - Het scheiden van afval is de core business van de aanbestedende dienst. Hoe draagt inschrijver zorg dat de medewerkers minimaal werken conform de wijze (4 afvalstromen) waarop de aanbestedende dienst werkt? Per beantwoording van de open vraag zal een score een waarde vertegenwoordigen, deze waarde is te vinden in bijlage 13. Daar waar in bijlage 13 KO staat zal die score naar oordeel van de beoordelingscommissie leiden tot uitsluiting (KNOCK-OUT) van deze aanbesteding. | C14: <MOTIVATIE> | F14: <MOTIVATIE> | I14: <MOTIVATIE>
A17: ='Beoordelen interview'!A1 -> 7.3 Interviewvragen sleutelfunctionarissen
A18: ='Beoordelen interview'!A4:A4 -> Vraag 1 | C18: Score: | F18: Score: | I18: Score:
C19: <MOTIVATIE> | F19: <MOTIVATIE> | I19: <MOTIVATIE>
A20: ='Beoordelen interview'!A5:A5 -> Vraag 2 | C20: Score: | F20: Score: | I20: Score:
C21: <MOTIVATIE> | F21: <MOTIVATIE> | I21: <MOTIVATIE>
A22: ='Beoordelen interview'!A6:A6 -> Vraag 3 | C22: Score: | F22: Score: | I22: Score:
C23: <MOTIVATIE> | F23: <MOTIVATIE> | I23: <MOTIVATIE>
A24: ='Beoordelen interview'!A7:A7 -> Vraag 4 | C24: Score: | F24: Score: | I24: Score:
C25: <MOTIVATIE> | F25: <MOTIVATIE> | I25: <MOTIVATIE>

Sheet Medewerker Financiële administr
A1: Beoordelaar 5: Medewerker Financiële Administratie | C1: <NAAM INSCHRIJVER> | F1: <NAAM INSCHRIJVER> | I1: <NAAM INSCHRIJVER>
A2: Open vragen | C2: Scores en motivaties | F2: Scores en motivaties | I2: Scores en motivaties
A3: ='Beoordelen open vragen'!A3 -> 7.1.1 BELEVING SCHONE WERKOMGEVING (MAX. 3 A4) | C3: Score: | F3: Score: | I3: Score:
A4: ='Beoordelen open vragen'!A4 -> Schoon is een beleving! De dag beginnen met een schone werkomgeving voor medewerkers en gasten, iedere dag weer, dat is waar de aanbestedende dienst naar streeft. Met deze aanbesteding wil de aanbestedende dienst een partij selecteren die als geen ander begrijpt dat schoonmaak meer is dan alleen een schoonmaakprogramma uitvoeren en afvinken. Bij een schone werkomgeving hoort een fris gevoel en een prettige geur! Inschrijver dient te beschrijven op maximaal 3 A4 wat zij verstaat onder schoon. Inschrijver beschrijft daarbij minimaal; - Welke invulling gaat inschrijver geven aan de beleving van schoon? - Op welke wijze zorgt inschrijver ervoor dat dit dagelijkse praktijk is gedurende de gehele looptijd van de overeenkomst? - Welke meerwaarde (wat bij de inschrijfprijs in zit!) biedt inschrijver naast het afwerken van alleen het geëiste schoonmaakprogramma? - Welke extra structurele maatregelen treft de inschrijver om het verspreiden van virussen aan deurknoppen, deurgrepen en andere contactelementen te minimaliseren? Welke desinfectie past inschrijver permanent toe? - Op welke wijze geeft inschrijver invulling aan diverse seizoensinvloeden zoals de herfst en winter wanneer er extra aandacht aan het inlopen van vuil en vocht moet worden gegeven? | C4: <MOTIVATIE> | F4: <MOTIVATIE> | I4: <MOTIVATIE>
A5: ='Beoordelen open vragen'!A5 -> 7.1.2 GOED WERKGEVERSCHAP (MAX. 3 A4) | C5: Score: | F5: Score: | I5: Score:
A6: ='Beoordelen open vragen'!A6 -> Inschrijver dient te beschrijven op maximaal 3 A4 op welke wijze zij invulling geef aan goed werkgeverschap gericht op haar werknemers en beschrijft daarbij minimaal; - Hoe de vaste en flexibele werknemers worden zij gestimuleerd en gemotiveerd in hun werken ten einde een goede schoonmaakkwaliteit te realiseren en wat de rol van de direct leidinggevende hier in is; - Hoe zorgt inschrijver er voor dat de betrokkenheid van de schoonmakers bij de organisatie van de aanbestedende dienst stijgt, zodat de medewerkers van het schoonmaakbedrijf blij en trots zijn om bij de aanbestedende dienst te mogen werken en trots zijn op een schone werkomgeving; - Hoe en in welke mate laat zij de eventueel te verkrijgen bonus toekomen aan de medewerkers die de schoonmaakwerkzaamheden op de locaties van de aanbestedende dienst uitvoeren, zodat zij beloont worden voor hun meerwaarde hierin; - Welke trainingen en opleidingen krijgen medewerkers van de inschrijver, gericht op communicatie, vakkennis en veiligheid. | C6: <MOTIVATIE> | F6: <MOTIVATIE> | I6: <MOTIVATIE>
A7: ='Beoordelen open vragen'!A7 -> 7.1.3 INVULLING WERKZAAMHEDEN LEIDINGGEVENDE (MAX. 1 A4) | C7: Score: | F7: Score: | I7: Score:
A8: ='Beoordelen open vragen'!A8 -> De aanbestedende dienst wil van inschrijver weten op welke wijze zij een invulling geeft aan de dagelijkse leiding van de schoonmaak. Inschrijver dient het volgende te beschrijven op maximaal 1 A4; - Hoe borgt inschrijver de drie taken die juist thuishoren bij een leidinggevende van de schoonmaakwerkzaamheden? De drie taken zijn (1) het uitvoeren van de controles en het rapporteren hiervan, (2) het leidinggeven aan de schoonmakers en (3) het eventueel meewerken/ mede schoonmaken; - Op welke wijze inschrijver invulling geeft op iedere locatie aan de functie leidinggevende waarbij minimaal beschreven wordt (a) hoeveel uur deze per locatie ingezet gaat worden en (b) welke extra aanvullende diensten er geboden worden bovenop de uitvoering van het werkprogramma? | C8: <MOTIVATIE> | F8: <MOTIVATIE> | I8: <MOTIVATIE>
A9: ='Beoordelen open vragen'!A9 -> 7.1.4 KWALITEITSVERBETERING (MAX. 2 A4) | C9: Score: | F9: Score: | I9: Score:
A10: ='Beoordelen open vragen'!A10 -> Inschrijvers hebben de mogelijkheid om de locaties te bezoeken tijdens de aanbestedingsprocedure (zie hiervoor het aanbestedingsdocument). Hoe kan de kwaliteit van de schoonmaak omhoog op wat u heeft waargenomen tijdens het locatiebezoek? Wat is u concreet opgevallen aan verbeterpunten? Wat is uw visie hierop? Inschrijver dient dit te beschrijven op maximaal 2 A4. | C10: <MOTIVATIE> | F10: <MOTIVATIE> | I10: <MOTIVATIE>
A11: ='Beoordelen open vragen'!A11 -> 7.1.5 FLEXIBILITEIT (MAX. 1 A4) | C11: Score: | F11: Score: | I11: Score:
A12: ='Beoordelen open vragen'!A12 -> Inschrijvers dienen er rekening mee te houden dat de situatie van Avalex in het voorjaar van 2021 wijzigt en in 2022 de beide kantooromgevingen samengevoegd in Delft worden gevestigd (zie hiervoor het aanbestedingsdocument). Inschrijver beschrijft hier in welke mate zij mee kan denken met de opdrachtgever met betrekking tot de schoonmaak en het schoonmaakprogramma, hoe flexibel zij hiermee omgaat en hoe zij opdrachtgever kan garanderen/ waarborgen dat opdrachtgever met betrekking tot de nieuwe situaties een “fair price” zal gaan betalen? Inschrijver dient dit te beschrijven op maximaal 1 A4. | C12: <MOTIVATIE> | F12: <MOTIVATIE> | I12: <MOTIVATIE>
A13: ='Beoordelen open vragen'!A13 -> 7.1.6 MILIEU EN DUURZAAMHEID (MAX. 1 A4) | C13: Score: | F13: Score: | I13: Score:
A14: ='Beoordelen open vragen'!A14 -> Inschrijver beschrijft op maximaal 1 A4 op welke wijze zij bijdraagt aan een beter milieu en duurzaamheid en geeft antwoord op de volgende vragen.; - Hoe ecologisch verantwoord zijn de schoonmaakmiddelen die door inschrijver gebruikt worden ten behoeve van een lagere milieu impact? - Het scheiden van afval is de core business van de aanbestedende dienst. Hoe draagt inschrijver zorg dat de medewerkers minimaal werken conform de wijze (4 afvalstromen) waarop de aanbestedende dienst werkt? Per beantwoording van de open vraag zal een score een waarde vertegenwoordigen, deze waarde is te vinden in bijlage 13. Daar waar in bijlage 13 KO staat zal die score naar oordeel van de beoordelingscommissie leiden tot uitsluiting (KNOCK-OUT) van deze aanbesteding. | C14: <MOTIVATIE> | F14: <MOTIVATIE> | I14: <MOTIVATIE>
A17: ='Beoordelen interview'!A1 -> 7.3 Interviewvragen sleutelfunctionarissen
A18: ='Beoordelen interview'!A4:A4 -> Vraag 1 | C18: Score: | F18: Score: | I18: Score:
C19: <MOTIVATIE> | F19: <MOTIVATIE> | I19: <MOTIVATIE>
A20: ='Beoordelen interview'!A5:A5 -> Vraag 2 | C20: Score: | F20: Score: | I20: Score:
C21: <MOTIVATIE> | F21: <MOTIVATIE> | I21: <MOTIVATIE>
A22: ='Beoordelen interview'!A6:A6 -> Vraag 3 | C22: Score: | F22: Score: | I22: Score:
C23: <MOTIVATIE> | F23: <MOTIVATIE> | I23: <MOTIVATIE>
A24: ='Beoordelen interview'!A7:A7 -> Vraag 4 | C24: Score: | F24: Score: | I24: Score:
C25: <MOTIVATIE> | F25: <MOTIVATIE> | I25: <MOTIVATIE>

Sheet Consensus
A1: Totaalwaardes
A2: Open vraag | D2: ='Coördinator Facilitair'!C1 -> <NAAM INSCHRIJVER> | E2: MOTIVATIE CONSENSUS | G2: ='Coördinator Facilitair'!F1 -> <NAAM INSCHRIJVER> | H2: MOTIVATIE CONSENSUS | J2: ='Coördinator Facilitair'!I1 -> <NAAM INSCHRIJVER> | K2: MOTIVATIE CONSENSUS
A3: ='Beoordelen open vragen'!A3 -> 7.1.1 BELEVING SCHONE WERKOMGEVING (MAX. 3 A4) | B3: Beoordelaar 1 | D3: ='Coördinator Facilitair'!C3 -> Score: | E3: <<motivatie CONSENSUS>> | G3: ='Coördinator Facilitair'!F3 -> Score: | H3: <<motivatie CONSENSUS>> | J3: ='Coördinator Facilitair'!I3 -> Score: | K3: <<motivatie CONSENSUS>>
B4: Beoordelaar 2 | D4: ='Secretaris Directeur'!C3 -> Score: | G4: ='Secretaris Directeur'!F3 -> Score: | J4: ='Secretaris Directeur'!I3 -> Score:
B5: Beoordelaar 3 | D5: ='Teamleider '!C3 -> Score: | G5: ='Teamleider '!F3 -> Score: | J5: ='Teamleider '!I3 -> Score:
B6: Beoordelaar 4 | D6: ='Medewerker Overlaad'!C3 -> Score: | G6: ='Medewerker Overlaad'!F3 -> Score: | J6: ='Medewerker Overlaad'!I3 -> Score:
B7: Beoordelaar 5 | D7: ='Medewerker Financiële administr'!C3 -> Score: | G7: ='Medewerker Financiële administr'!F3 -> Score: | J7: ='Medewerker Financiële administr'!I3 -> Score:
A8: Consensus | D8: Score: | G8: Score: | J8: Score:
D9: =IF(D8="Uitmuntend","€ 4.000",IF(D8="Goed","€2.000",IF(D8="Voldoende","€ 800",IF(D8="Matig","€ 0",IF(D8="Onvoldoende","KO"," "))))) | G9: =IF(G8="Uitmuntend","€ 4.000",IF(G8="Goed","€2.000",IF(G8="Voldoende","€ 800",IF(G8="Matig","€ 0",IF(G8="Onvoldoende","KO"," "))))) | J9: =IF(J8="Uitmuntend","€ 4.000",IF(J8="Goed","€2.000",IF(J8="Voldoende","€ 800",IF(J8="Matig","€ 0",IF(J8="Onvoldoende","KO"," ")))))
A10: ='Beoordelen open vragen'!A5 -> 7.1.2 GOED WERKGEVERSCHAP (MAX. 3 A4) | B10: Beoordelaar 1 | D10: ='Coördinator Facilitair'!C5 -> Score: | E10: <<motivatie CONSENSUS>> | G10: ='Coördinator Facilitair'!F5 -> Score: | H10: <<motivatie CONSENSUS>> | J10: ='Coördinator Facilitair'!I5 -> Score: | K10: <<motivatie CONSENSUS>>
B11: Beoordelaar 2 | D11: ='Secretaris Directeur'!C5 -> Score: | G11: ='Secretaris Directeur'!F5 -> Score: | J11: ='Secretaris Directeur'!I5 -> Score:
B12: Beoordelaar 3 | D12: ='Teamleider '!C5 -> Score: | G12: ='Teamleider '!F5 -> Score: | J12: ='Teamleider '!I5 -> Score:
B13: Beoordelaar 4 | D13: ='Medewerker Overlaad'!C5 -> Score: | G13: ='Medewerker Overlaad'!F5 -> Score: | J13: ='Medewerker Overlaad'!I5 -> Score:
B14: Beoordelaar 5 | D14: ='Medewerker Financiële administr'!C5 -> Score: | G14: ='Medewerker Financiële administr'!F5 -> Score: | J14: ='Medewerker Financiële administr'!I5 -> Score:
A15: Consensus | D15: Score: | G15: Score: | J15: Score:
D16: =IF(D15="Uitmuntend","€ 4.000",IF(D15="Goed","€ 2.000",IF(D15="Voldoende","€ 800",IF(D15="Matig","€ 0",IF(D15="Onvoldoende","KO"," "))))) | G16: =IF(G15="Uitmuntend","€ 4.000",IF(G15="Goed","€ 2.000",IF(G15="Voldoende","€ 800",IF(G15="Matig","€ 0",IF(G15="Onvoldoende","KO"," "))))) | J16: =IF(J15="Uitmuntend","€ 4.000",IF(J15="Goed","€ 2.000",IF(J15="Voldoende","€ 800",IF(J15="Matig","€ 0",IF(J15="Onvoldoende","KO"," ")))))
A17: ='Beoordelen open vragen'!A7 -> 7.1.3 INVULLING WERKZAAMHEDEN LEIDINGGEVENDE (MAX. 1 A4) | B17: Beoordelaar 1 | D17: ='Coördinator Facilitair'!C7 -> Score: | E17: <<motivatie CONSENSUS>> | G17: ='Coördinator Facilitair'!F7 -> Score: | H17: <<motivatie CONSENSUS>> | J17: ='Coördinator Facilitair'!I7 -> Score: | K17: <<motivatie CONSENSUS>>
B18: Beoordelaar 2 | D18: ='Secretaris Directeur'!C7 -> Score: | G18: ='Secretaris Directeur'!F7 -> Score: | J18: ='Secretaris Directeur'!I7 -> Score:
B19: Beoordelaar 3 | D19: ='Teamleider '!C7 -> Score: | G19: ='Teamleider '!F7 -> Score: | J19: ='Teamleider '!I7 -> Score:
B20: Beoordelaar 4 | D20: ='Medewerker Overlaad'!C7 -> Score: | G20: ='Medewerker Overlaad'!F7 -> Score: | J20: ='Medewerker Overlaad'!I7 -> Score:
B21: Beoordelaar 5 | D21: ='Medewerker Financiële administr'!C7 -> Score: | G21: ='Medewerker Financiële administr'!F7 -> Score: | J21: ='Medewerker Financiële administr'!I7 -> Score:
A22: Consensus | D22: Score: | G22: Score: | J22: Score:
D23: =IF(D22="Uitmuntend","€ 3.000",IF(D22="Goed","€ 1.500",IF(D22="Voldoende","€ 600",IF(D22="Matig","€ 0",IF(D22="Onvoldoende","KO"," "))))) | G23: =IF(G22="Uitmuntend","€ 3.000",IF(G22="Goed","€ 1.500",IF(G22="Voldoende","€ 600",IF(G22="Matig","€ 0",IF(G22="Onvoldoende","KO"," "))))) | J23: =IF(J22="Uitmuntend","€ 3.000",IF(J22="Goed","€ 1.500",IF(J22="Voldoende","€ 600",IF(J22="Matig","€ 0",IF(J22="Onvoldoende","KO"," ")))))
A24: ='Beoordelen open vragen'!A9 -> 7.1.4 KWALITEITSVERBETERING (MAX. 2 A4) | B24: Beoordelaar 1 | D24: ='Coördinator Facilitair'!C9 -> Score: | E24: <<motivatie CONSENSUS>> | G24: ='Coördinator Facilitair'!F9 -> Score: | H24: <<motivatie CONSENSUS>> | J24: ='Coördinator Facilitair'!I9 -> Score: | K24: <<motivatie CONSENSUS>>
B25: Beoordelaar 2 | D25: ='Secretaris Directeur'!C9 -> Score: | G25: ='Secretaris Directeur'!F9 -> Score: | J25: ='Secretaris Directeur'!I9 -> Score:
B26: Beoordelaar 3 | D26: ='Teamleider '!C9 -> Score: | G26: ='Teamleider '!F9 -> Score: | J26: ='Teamleider '!I9 -> Score:
B27: Beoordelaar 4 | D27: ='Medewerker Overlaad'!C9 -> Score: | G27: ='Medewerker Overlaad'!F9 -> Score: | J27: ='Medewerker Overlaad'!I9 -> Score:
B28: Beoordelaar 5 | D28: ='Medewerker Financiële administr'!C9 -> Score: | G28: ='Medewerker Financiële administr'!F9 -> Score: | J28: ='Medewerker Financiële administr'!I9 -> Score:
A29: Consensus | D29: Score: | G29: Score: | J29: Score:
D30: =IF(D29="Uitmuntend","€ 3.000",IF(D29="Goed","€ 1.500",IF(D29="Voldoende","€ 600",IF(D29="Matig","€ 0",IF(D29="Onvoldoende","KO"," "))))) | G30: =IF(G29="Uitmuntend","€ 3.000",IF(G29="Goed","€ 1.500",IF(G29="Voldoende","€ 600",IF(G29="Matig","€ 0",IF(G29="Onvoldoende","KO"," "))))) | J30: =IF(J29="Uitmuntend","€ 3.000",IF(J29="Goed","€ 1.500",IF(J29="Voldoende","€ 600",IF(J29="Matig","€ 0",IF(J29="Onvoldoende","KO"," ")))))
A31: ='Beoordelen open vragen'!A11 -> 7.1.5 FLEXIBILITEIT (MAX. 1 A4) | B31: Beoordelaar 1 | D31: ='Coördinator Facilitair'!C11 -> Score: | E31: <<motivatie CONSENSUS>> | G31: ='Coördinator Facilitair'!F11 -> Score: | H31: <<motivatie CONSENSUS>> | J31: ='Coördinator Facilitair'!I11 -> Score: | K31: <<motivatie CONSENSUS>>
B32: Beoordelaar 2 | D32: ='Secretaris Directeur'!C11 -> Score: | G32: ='Secretaris Directeur'!F11 -> Score: | J32: ='Secretaris Directeur'!I11 -> Score:
B33: Beoordelaar 3 | D33: ='Teamleider '!C11 -> Score: | G33: ='Teamleider '!F11 -> Score: | J33: ='Teamleider '!I11 -> Score:
B34: Beoordelaar 4 | D34: ='Medewerker Overlaad'!C11 -> Score: | G34: ='Medewerker Overlaad'!F11 -> Score: | J34: ='Medewerker Overlaad'!I11 -> Score:
B35: Beoordelaar 5 | D35: ='Medewerker Financiële administr'!C11 -> Score: | G35: ='Medewerker Financiële administr'!F11 -> Score: | J35: ='Medewerker Financiële administr'!I11 -> Score:
A36: Consensus | D36: Score: | G36: Score: | J36: Score:
D37: =IF(D36="Uitmuntend","€ 1.000",IF(D36="Goed","€ 500",IF(D36="Voldoende","€ 200",IF(D36="Matig","€ 0",IF(D36="Onvoldoende","KO"," "))))) | G37: =IF(G36="Uitmuntend","€ 1.000",IF(G36="Goed","€ 500",IF(G36="Voldoende","€ 200",IF(G36="Matig","€ 0",IF(G36="Onvoldoende","KO"," "))))) | J37: =IF(J36="Uitmuntend","€ 1.000",IF(J36="Goed","€ 500",IF(J36="Voldoende","€ 200",IF(J36="Matig","€ 0",IF(J36="Onvoldoende","KO"," ")))))
A38: ='Beoordelen open vragen'!A13 -> 7.1.6 MILIEU EN DUURZAAMHEID (MAX. 1 A4) | B38: Beoordelaar 1 | D38: ='Coördinator Facilitair'!C13 -> Score: | E38: <<motivatie CONSENSUS>> | G38: ='Coördinator Facilitair'!F13 -> Score: | H38: <<motivatie CONSENSUS>> | J38: ='Coördinator Facilitair'!I13 -> Score: | K38: <<motivatie CONSENSUS>>
B39: Beoordelaar 2 | D39: ='Secretaris Directeur'!C13 -> Score: | G39: ='Secretaris Directeur'!F13 -> Score: | J39: ='Secretaris Directeur'!I13 -> Score:
B40: Beoordelaar 3 | D40: ='Teamleider '!C13 -> Score: | G40: ='Teamleider '!F13 -> Score: | J40: ='Teamleider '!I13 -> Score:
B41: Beoordelaar 4 | D41: ='Medewerker Overlaad'!C13 -> Score: | G41: ='Medewerker Overlaad'!F13 -> Score: | J41: ='Medewerker Overlaad'!I13 -> Score:
B42: Beoordelaar 5 | D42: ='Medewerker Financiële administr'!C13 -> Score: | G42: ='Medewerker Financiële administr'!F13 -> Score: | J42: ='Medewerker Financiële administr'!I13 -> Score:
A43: Consensus | D43: Score: | G43: Score: | J43: Score:
D44: =IF(D43="Uitmuntend","€ 1.000",IF(D43="Goed","€ 500",IF(D43="Voldoende","€ 200",IF(D43="Matig","€ 0",IF(D43="Onvoldoende","KO"," "))))) | G44: =IF(G43="Uitmuntend","€ 1.000",IF(G43="Goed","€ 500",IF(G43="Voldoende","€ 200",IF(G43="Matig","€ 0",IF(G43="Onvoldoende","KO"," "))))) | J44: =IF(J43="Uitmuntend","€ 1.000",IF(J43="Goed","€ 500",IF(J43="Voldoende","€ 200",IF(J43="Matig","€ 0",IF(J43="Onvoldoende","KO"," ")))))
A46: Totaal behaalde waarde open vragen: | D46: =D9+D16+D23+D30+D37+D44 -> #VALUE! | G46: =G9+G16+G23+G30+G37+G44 -> #VALUE! | J46: =J9+J16+J23+J30+J37+J44 -> #VALUE!
A48: ='Beoordelen interview'!A1 -> 7.3 Interviewvragen sleutelfunctionarissen | E48: Motivatie consensus: | H48: Motivatie consensus: | K48: Motivatie consensus:
A49: ='Beoordelen interview'!A4:A4 -> Vraag 1 | B49: Beoordelaar 1 | D49: ='Coördinator Facilitair'!C18 -> Score: | E49: <<motivatie CONSENSUS>> | G49: ='Coördinator Facilitair'!F18 -> Score: | H49: <<motivatie CONSENSUS>> | J49: ='Coördinator Facilitair'!I18 -> Score: | K49: <<motivatie CONSENSUS>>
B50: Beoordelaar 2 | D50: ='Secretaris Directeur'!C18 -> Score: | G50: ='Secretaris Directeur'!F18 -> Score: | J50: ='Secretaris Directeur'!I18 -> Score:
B51: Beoordelaar 3 | D51: ='Teamleider '!C18 -> Score: | G51: ='Teamleider '!F18 -> Score: | J51: ='Teamleider '!I18 -> Score:
B52: Beoordelaar 4 | D52: ='Medewerker Overlaad'!C18 -> Score: | G52: ='Medewerker Overlaad'!F18 -> Score: | J52: ='Medewerker Overlaad'!I18 -> Score:
B53: Beoordelaar 5 | D53: ='Medewerker Financiële administr'!C18 -> Score: | G53: ='Medewerker Financiële administr'!F18 -> Score: | J53: ='Medewerker Financiële administr'!I18 -> Score:
A54: Consensus | D54: Score: | G54: Score: | J54: Score:
D55: =IF(D54="Uitmuntend","€ 1.000",IF(D54="Goed","€ 500",IF(D54="Voldoende","€ 200",IF(D54="Matig","€ 0",IF(D54="Onvoldoende","KO"," "))))) | G55: =IF(G54="Uitmuntend","€ 1.000",IF(G54="Goed","€ 500",IF(G54="Voldoende","€ 200",IF(G54="Matig","€ 0",IF(G54="Onvoldoende","KO"," "))))) | J55: =IF(J54="Uitmuntend","€ 1.000",IF(J54="Goed","€ 500",IF(J54="Voldoende","€ 200",IF(J54="Matig","€ 0",IF(J54="Onvoldoende","KO"," ")))))
A56: ='Beoordelen interview'!A5:A5 -> Vraag 2 | B56: Beoordelaar 1 | D56: ='Coördinator Facilitair'!C20 -> Score: | E56: <<motivatie CONSENSUS>> | G56: ='Coördinator Facilitair'!F20 -> Score: | H56: <<motivatie CONSENSUS>> | J56: ='Coördinator Facilitair'!I20 -> Score: | K56: <<motivatie CONSENSUS>>
B57: Beoordelaar 2 | D57: ='Secretaris Directeur'!C20 -> Score: | G57: ='Secretaris Directeur'!F20 -> Score: | J57: ='Secretaris Directeur'!I20 -> Score:
B58: Beoordelaar 3 | D58: ='Teamleider '!C20 -> Score: | G58: ='Teamleider '!F20 -> Score: | J58: ='Teamleider '!I20 -> Score:
B59: Beoordelaar 4 | D59: ='Medewerker Overlaad'!C20 -> Score: | G59: ='Medewerker Overlaad'!F20 -> Score: | J59: ='Medewerker Overlaad'!I20 -> Score:
B60: Beoordelaar 5 | D60: ='Medewerker Financiële administr'!C20 -> Score: | G60: ='Medewerker Financiële administr'!F20 -> Score: | J60: ='Medewerker Financiële administr'!I20 -> Score:
A61: Consensus | D61: Score: | G61: Score: | J61: Score:
D62: =IF(D61="Uitmuntend","€ 1.000",IF(D61="Goed","€ 500",IF(D61="Voldoende","€ 200",IF(D61="Matig","€ 0",IF(D61="Onvoldoende","KO"," "))))) | G62: =IF(G61="Uitmuntend","€ 1.000",IF(G61="Goed","€ 500",IF(G61="Voldoende","€ 200",IF(G61="Matig","€ 0",IF(G61="Onvoldoende","KO"," "))))) | J62: =IF(J61="Uitmuntend","€ 1.000",IF(J61="Goed","€ 500",IF(J61="Voldoende","€ 200",IF(J61="Matig","€ 0",IF(J61="Onvoldoende","KO"," ")))))
A63: ='Beoordelen interview'!A6:A6 -> Vraag 3 | B63: Beoordelaar 1 | D63: ='Coördinator Facilitair'!C22 -> Score: | E63: <<motivatie CONSENSUS>> | G63: ='Coördinator Facilitair'!F22 -> Score: | H63: <<motivatie CONSENSUS>> | J63: ='Coördinator Facilitair'!I22 -> Score: | K63: <<motivatie CONSENSUS>>
B64: Beoordelaar 2 | D64: ='Secretaris Directeur'!C22 -> Score: | G64: ='Secretaris Directeur'!F22 -> Score: | J64: ='Secretaris Directeur'!I22 -> Score:
B65: Beoordelaar 3 | D65: ='Teamleider '!C22 -> Score: | G65: ='Teamleider '!F22 -> Score: | J65: ='Teamleider '!I22 -> Score:
B66: Beoordelaar 4 | D66: ='Medewerker Overlaad'!C22 -> Score: | G66: ='Medewerker Overlaad'!F22 -> Score: | J66: ='Medewerker Overlaad'!I22 -> Score:
B67: Beoordelaar 5 | D67: ='Medewerker Financiële administr'!C22 -> Score: | G67: ='Medewerker Financiële administr'!F22 -> Score: | J67: ='Medewerker Financiële administr'!I22 -> Score:
A68: Consensus | D68: Score: | G68: Score: | J68: Score:
D69: =IF(D68="Uitmuntend","€ 1.000",IF(D68="Goed","€ 500",IF(D68="Voldoende","€ 200",IF(D68="Matig","€ 0",IF(D68="Onvoldoende","KO"," "))))) | G69: =IF(G68="Uitmuntend","€ 1.000",IF(G68="Goed","€ 500",IF(G68="Voldoende","€ 200",IF(G68="Matig","€ 0",IF(G68="Onvoldoende","KO"," "))))) | J69: =IF(J68="Uitmuntend","€ 1.000",IF(J68="Goed","€ 500",IF(J68="Voldoende","€ 200",IF(J68="Matig","€ 0",IF(J68="Onvoldoende","KO"," ")))))
A70: ='Beoordelen interview'!A7:A7 -> Vraag 4 | B70: Beoordelaar 1 | D70: ='Coördinator Facilitair'!C24 -> Score: | E70: <<motivatie CONSENSUS>> | G70: ='Coördinator Facilitair'!F24 -> Score: | H70: <<motivatie CONSENSUS>> | J70: ='Coördinator Facilitair'!I24 -> Score: | K70: <<motivatie CONSENSUS>>
B71: Beoordelaar 2 | D71: ='Secretaris Directeur'!C24 -> Score: | G71: ='Secretaris Directeur'!F24 -> Score: | J71: ='Secretaris Directeur'!I24 -> Score:
B72: Beoordelaar 3 | D72: ='Teamleider '!C24 -> Score: | G72: ='Teamleider '!F24 -> Score: | J72: ='Teamleider '!I24 -> Score:
B73: Beoordelaar 4 | D73: ='Medewerker Overlaad'!C24 -> Score: | G73: ='Medewerker Overlaad'!F24 -> Score: | J73: ='Medewerker Overlaad'!I24 -> Score:
B74: Beoordelaar 5 | D74: ='Medewerker Financiële administr'!C24 -> Score: | G74: ='Medewerker Financiële administr'!F24 -> Score: | J74: ='Medewerker Financiële administr'!I24 -> Score:
A75: Consensus | D75: Score: | G75: Score: | J75: Score:
D76: =IF(D75="Uitmuntend","€ 1.000",IF(D75="Goed","€ 500",IF(D75="Voldoende","€ 200",IF(D75="Matig","€ 0",IF(D75="Onvoldoende","KO"," "))))) | G76: =IF(G75="Uitmuntend","€ 1.000",IF(G75="Goed","€ 500",IF(G75="Voldoende","€ 200",IF(G75="Matig","€ 0",IF(G75="Onvoldoende","KO"," "))))) | J76: =IF(J75="Uitmuntend","€ 1.000",IF(J75="Goed","€ 500",IF(J75="Voldoende","€ 200",IF(J75="Matig","€ 0",IF(J75="Onvoldoende","KO"," ")))))
A78: Totaal behaalde waarde interviewvragen sleutelfonctionarissen: | D78: =D55+D62+D69+D76 -> #VALUE! | G78: =G55+G62+G69+G76 -> #VALUE! | J78: =J55+J62+J69+J76 -> #VALUE!

Sheet Eindscores
A1: Totaalwaarde criterium kwaliteit
A2: Onderdeel | C2: ='Coördinator Facilitair'!C1:D1 -> <NAAM INSCHRIJVER> | E2: ='Coördinator Facilitair'!F1 -> <NAAM INSCHRIJVER> | G2: ='Coördinator Facilitair'!I1 -> <NAAM INSCHRIJVER>
A3: 6.1 Open vragen + toelichting | C3: =Consensus!D46 -> #VALUE! | E3: =Consensus!G46 -> #VALUE! | G3: =Consensus!J46 -> #VALUE!
A4: 6.3 Interview sleutelfunctionarissen | C4: =Consensus!D78 -> #VALUE! | E4: =Consensus!G78 -> #VALUE! | G4: =Consensus!J78 -> #VALUE!
A5: Totaal behaalde waarde criterium kwaliteit: | C5: =C3+C4 -> #VALUE! | E5: =E3+E4 -> #VALUE! | G5: =G3+G4 -> #VALUE!
A7: Totaal behaalde waarde criterium prijs: | C7: 0 | E7: 0 | G7: 0
A9: FICTIEVE EINDWAARDE (prijs -/- kwaliteit): | C9: =C7-C5 -> #VALUE! | E9: =E7-E5 -> #VALUE! | G9: =G7-G5 -> #VALUE!
