Workbook
Name bestekcontract: [1]verzamelblad!$A$2
Name bestekcontract: #REF!
Name besteknr: [1]verzamelblad!$A$3
Name besteknr: #REF!
Name directtoezicht: [1]uurtariefopbouw!$D$26
Name offertetarief: [1]uurtariefopbouw!$E$37
Name opdrachtgever: Basisgegevens!$B$4
Name opdrachtnemer: Basisgegevens!$B$17
Name opdrachtnemerplaats: Basisgegevens!$B$18
Name plaatsopdrnmr: Basisgegevens!$B$18
Name regietarief: [1]uurtariefopbouw!$G$37
Name spectarief: [1]uurtariefopbouw!$I$37

Sheet Basisgegevens
B1: Inschrijfbiljet
B3: Procedure | D3: Europese openbare aanbesteding Multifunctionals
B4: Besteknummer | D4: 2021-MF1701
B6: Naam opdrachtgever | D6: Stichting Allente onderwijs
B7: Vestigingsplaats opdrachtgever | D7: Noord Scharwoude
B8: KvK-nummer | D8: 37104980
B10: Volledige naam onderneming (Handelsnaam Kvk)
B11: Vestigingsplaats onderneming(Kvk)
B12: Kvk-nummer
B13: Tekenbevoegde voor contract
B14: Functie
B15: Tekenbevoegde wijzigingen
B16: Functie
B18: Contactpersoon offerte
B19: Functie
B20: Telefoonnummer kantoor
B21: Postadres kantoor
B22: PC + plaats postadres
... B24: E-mail adres contactpersoon offerte

Sheet Totaalblad 
B1: Totaalblad
B7: Prijzen vaste jaren
B8: Multifunctionals | C8: Aantal | D8: Prijs per maand o.b.v. 60 maanden | E8: Totaalprijs 60 maanden
B9: Apparaat 1 | C9: =Informatie!O22 -> 10 | D9: ='Prijzenblad Multifunctionals'!C13 -> 0 | E9: =C9*D9*60 -> 0
B10: Apparaat 2 | C10: =Informatie!P22 -> 4 | D10: ='Prijzenblad Multifunctionals'!F13 -> 0 | E10: =C10*D10*60 -> 0
B11: Apparaat 3 | C11: =Informatie!Q22 -> 5 | D11: ='Prijzenblad Multifunctionals'!I13 -> 0 | E11: =C11*D11*60 -> 0
B13: Prijzen optiejaren
B14: Multifunctionals | C14: Aantal | D14: Prijs per maand o.b.v. 12 maanden | E14: Totaalprijs 24 maanden
B15: Apparaat 1 | C15: =Informatie!O22 -> 10 | D15: ='Prijzenblad Multifunctionals'!C21 -> 0 | E15: =C15*D15*24 -> 0
B16: Apparaat 2 | C16: =Informatie!P22 -> 4 | D16: ='Prijzenblad Multifunctionals'!F21 -> 0 | E16: =C16*D16*24 -> 0
B17: Apparaat 3 | C17: =Informatie!Q22 -> 5 | D17: ='Prijzenblad Multifunctionals'!I21 -> 0 | E17: =C17*D17*24 -> 0
B19: Afdrukken
B20: Afdrukken | D20: Prijs per jaar | E20: Totaalprijs 7 jaren
B21: Afdrukken zwart/wit en kleur | D21: ='Prijzenblad verbruiksgoederen'!D33 -> 0 | E21: =D21*7 -> 0
B23: Overige prijzen
C24: Aantal | D24: Prijs per eenheid | E24: Totaalprijs
B25: Nietjes | C25: 500 | D25: ='Prijzenblad verbruiksgoederen'!G5 -> 0 | E25: =C25*D25 -> 0
B27: Verhuiskosten
C28: Aantal | D28: Prijs per eenheid | E28: Totaalprijs
B29: All-in verhuiskosten | C29: =Informatie!T22 -> 4 | D29: ='Prijzenblad verbruiksgoederen'!G11 -> 0 | E29: =C29*D29 -> 0
B31: Totaal inschrijfprijs | E31: =E9+E10+E11+E15+E16+E17+E21+E25+E29 -> 0

Sheet Prijzenblad Multifunctionals
B1: Prijzenblad Multifunctional
B3: Apparaat 1 | E3: Apparaat 2 | H3: Apparaat 3
B4: Minimaal aantal afdrukken per minuut | C4: 25 - 30 pagina's | E4: Minimaal aantal afdrukken per minuut | F4: 31 - 40 pagina's | H4: Minimaal aantal afdrukken per minuut | I4: 31 - 40 pagina's
B5: Maximaal aantal afdrukken per maand | C5: 0 - 17.500 | E5: Maximaal aantal afdrukken per maand | F5: 17.500 - 25.000 | H5: Maximaal aantal afdrukken per maand | I5: 25000 +
B6: Aangeboden machine | E6: Aangeboden machine | H6: Aangeboden machine
B8: Prijzen vaste jaren | C8: prijs per maand | E8: Prijzen vaste jaren | F8: prijs per maand | H8: Prijzen vaste jaren | I8: prijs per maand
B9: Huurprijs per maand, op basis van 60 maanden | C9: 0 | E9: Huurprijs per maand, op basis van 60 maanden | F9: 0 | H9: Huurprijs per maand, op basis van 60 maanden | I9: 0
B10: Service en onderhoud, op basis van 60 maanden | C10: 0 | E10: Service en onderhoud, op basis van 60 maanden | F10: 0 | H10: Service en onderhoud, op basis van 60 maanden | I10: 0
B11: Software licentie, op basis van 60 maanden | C11: 0 | E11: Software licentie, op basis van 60 maanden | F11: 0 | H11: Software licentie, op basis van 60 maanden | I11: 0
B12: Optioneel: Boekletmaker (inclusief nieten en vouwen) | C12: 0 | E12: Optioneel: Boekletmaker (inclusief nieten en vouwen) | F12: 0 | H12: Optioneel: Boekletmaker (inclusief nieten en vouwen) | I12: 0
B13: Totaal prijs per maand | C13: =SUM(C9:C12) -> 0 | E13: Totaal prijs per maand | F13: =SUM(F9:F12) -> 0 | H13: Totaal prijs per maand | I13: =SUM(I9:I12) -> 0
B16: Prijzen optie jaren | C16: prijs per maand | E16: Prijzen optie jaren | F16: prijs per maand | H16: Prijzen optie jaren | I16: prijs per maand
B17: Huurprijs per maand, op basis van 12 maanden | C17: 0 | E17: Huurprijs per maand, op basis van 12 maanden | F17: 0 | H17: Huurprijs per maand, op basis van 12 maanden | I17: 0
B18: Service en onderhoud, op basis van 12 maanden | C18: 0 | E18: Service en onderhoud, op basis van 12 maanden | F18: 0 | H18: Service en onderhoud, op basis van 12 maanden | I18: 0
B19: Software licentie, op basis van 12 maanden | C19: 0 | E19: Software licentie, op basis van 12 maanden | F19: 0 | H19: Software licentie, op basis van 12 maanden | I19: 0
B20: Optioneel: Boekletmaker (inclusief nieten en vouwen) | C20: 0 | E20: Optioneel: Boekletmaker (inclusief nieten en vouwen) | F20: 0 | H20: Optioneel: Boekletmaker (inclusief nieten en vouwen) | I20: 0
B21: Totaal prijs per maand | C21: =SUM(C17:C20) -> 0 | E21: Totaal prijs per maand | F21: =SUM(F17:F20) -> 0 | H21: Totaal prijs per maand | I21: =SUM(I17:I20) -> 0

Sheet Prijzenblad verbruiksgoederen
A1: Prijzenblad verbruiksgoederen
A3: Afdrukken | F3: Overige prijzen
A5: Prijs per tellertik Zwart Wit | B5: 0 | F5: Nietjes (prijs per 1000 stuks) | G5: 0
A6: Prijs per tellertik Kleur | B6: 0
F7: Verhuiskosten
F8: All-in prijsstelling voor het verplaatsen van 1 multifunctional, inclusief
F9: alle bijkomende handelingen in zowel oude als nieuwe opstelling.
F11: All-in verhuiskosten per multifunctional | G11: 0
A13: Locatie | B13: Gemiddeld aantal afdrukken zwart wit | C13: Gemiddeld aantal afdrukken kleur | D13: Totaal (inschrijfprijs)
A14: =Informatie!B3 -> De Wijde Veert | B14: =Informatie!L3 -> 259536 | C14: =Informatie!M3 -> 0 | D14: =SUM(B14*$B$5)+(C14*$B$6) -> 0
A15: =Informatie!B4 -> De Wijde Veert | B15: =Informatie!L4 -> 151752 | C15: =Informatie!M4 -> 93764 | D15: =SUM(B15*$B$5)+(C15*$B$6) -> 0
A16: =Informatie!B5 -> De Fonkelsteen | B16: =Informatie!L5 -> 204771 | C16: =Informatie!M5 -> 43041.7 | D16: =SUM(B16*$B$5)+(C16*$B$6) -> 0
A17: =Informatie!B6 -> De Helix | B17: =Informatie!L6 -> 162183 | C17: =Informatie!M6 -> 105263.1 | D17: =SUM(B17*$B$5)+(C17*$B$6) -> 0
A18: =Informatie!B7 -> De Carrousel | B18: =Informatie!L7 -> 116411.5 | C18: =Informatie!M7 -> 24045.5 | D18: =SUM(B18*$B$5)+(C18*$B$6) -> 0
A19: =Informatie!B8 -> Atalanta | B19: =Informatie!L8 -> 73508.5 | C19: =Informatie!M8 -> 26941 | D19: =SUM(B19*$B$5)+(C19*$B$6) -> 0
A20: =Informatie!B9 -> Atalanta | B20: =Informatie!L9 -> 181917 | C20: =Informatie!M9 -> 48029.5 | D20: =SUM(B20*$B$5)+(C20*$B$6) -> 0
A21: =Informatie!B10 -> De Kleine en Grote Beer | B21: =Informatie!L10 -> 106651.5 | C21: =Informatie!M10 -> 17732 | D21: =SUM(B21*$B$5)+(C21*$B$6) -> 0
A22: =Informatie!B11 -> De Phoenix | B22: =Informatie!L11 -> 166799 | C22: =Informatie!M11 -> 38263.5 | D22: =SUM(B22*$B$5)+(C22*$B$6) -> 0
A23: =Informatie!B12 -> Montessori Alkmaar | B23: =Informatie!L12 -> 43597 | C23: =Informatie!M12 -> 16097.5 | D23: =SUM(B23*$B$5)+(C23*$B$6) -> 0
A24: =Informatie!B13 -> Centraal Bureau | B24: =Informatie!L13 -> 15708 | C24: =Informatie!M13 -> 9656.5 | D24: =SUM(B24*$B$5)+(C24*$B$6) -> 0
A25: =Informatie!B14 -> De Hasselbraam | B25: =Informatie!L14 -> 142453.5 | C25: =Informatie!M14 -> 37595.5 | D25: =SUM(B25*$B$5)+(C25*$B$6) -> 0
... A32: =Informatie!B21 -> St. Josephschool | B32: =Informatie!L21 -> 51951 | C32: =Informatie!M21 -> 35149 | D32: =SUM(B32*$B$5)+(C32*$B$6) -> 0
A33: Totaal | B33: =SUM(B14:B32) -> 2798024.1 | C33: =SUM(C14:C32) -> 883754.9 | D33: =SUM(D14:D32) -> 0

Sheet Informatie
B1: Locatie | L1: Gemiddeld aantal afdrukken | M1: Gemiddeld aantal afdrukken | N1: Gemiddeld aantal afdrukken | O1: Apparaattype o.b.v. aantal afdrukken per maand (totaal) | R1: Expiratie datum huidige | S1: Bijzonderheden
B2: Naam | C2: Adres | D2: Nr | E2: Plaats | F2: Zwart wit 2019 | G2: Kleur 2019 | H2: sub/maand | I2: Zwart wit 2020 | J2: Kleur 2020 | K2: sub/maand | L2: zwart wit / per jaar | M2: kleur / per jaar | N2: (totaal) per maand | O2: tot 17.500 | P2: 17.500 / 25.000 | Q2: 25.000 + | R2: overeenkomst | T2: VH
A3: 1 | B3: De Wijde Veert | C3: Platte Ven | D3: 44 | E3: Noord-Scharwoude | F3: 271803 | G3: 0 | H3: =(F3+G3)/12 -> 22650.25 | I3: 247269 | J3: 0 | K3: =(I3+J3)/12 -> 20605.75 | L3: =(F3+I3)/2 -> 259536 | M3: =(G3+J3)/2 -> 0 | N3: =(L3+M3)/12 -> 21628 | P3: 1 | R3: 44500
A4: 2 | B4: De Wijde Veert | C4: Platte Ven | D4: 44 | E4: Noord-Scharwoude | F4: 102490 | G4: 44413 | H4: =(F4+G4)/12 -> 12241.917 | I4: 201014 | J4: 143115 | K4: =(I4+J4)/12 -> 28677.417 | L4: =(F4+I4)/2 -> 151752 | M4: =(G4+J4)/2 -> 93764 | N4: =(L4+M4)/12 -> 20459.667 | Q4: 1 | R4: 44500
A5: 3 | B5: De Fonkelsteen | C5: Onyx | D5: 89 | E5: Heerhugowaard | F5: 141582 | G5: 30083 | H5: =(F5+G5)/12 -> 14305.417 | I5: 267960 | J5: 56000.4 | K5: =(I5+J5)/12 -> 26996.7 | L5: =(F5+I5)/2 -> 204771 | M5: =(G5+J5)/2 -> 43041.7 | N5: =(L5+M5)/12 -> 20651.058 | Q5: 1 | R5: 44500
A6: 4 | B6: De Helix | C6: Oosterweg Noord | D6: 41 | E6: Heerhugowaard | F6: 100986 | G6: 64875 | H6: =(F6+G6)/12 -> 13821.75 | I6: 223380 | J6: 145651.2 | K6: =(I6+J6)/12 -> 30752.6 | L6: =(F6+I6)/2 -> 162183 | M6: =(G6+J6)/2 -> 105263.1 | N6: =(L6+M6)/12 -> 22287.175 | Q6: 1 | R6: 44500 | S6: Ingebruikname extra vleugel medio 08-2023. Mogelijk extra multifunctional (n.t.b.).
A7: 5 | B7: De Carrousel | C7: Smaragd | D7: 27 | E7: Heerhugowaard | F7: 114413 | G7: 22331 | H7: =(F7+G7)/12 -> 11395.333 | I7: 118410 | J7: 25760 | K7: =(I7+J7)/12 -> 12014.167 | L7: =(F7+I7)/2 -> 116411.5 | M7: =(G7+J7)/2 -> 24045.5 | N7: =(L7+M7)/12 -> 11704.75 | O7: 1 | R7: 44500
A8: 6 | B8: Atalanta | C8: Zonnegloren | D8: 1 | E8: Heerhugowaard | F8: 79436 | G8: 30184 | H8: =(F8+G8)/12 -> 9135 | I8: 67581 | J8: 23698 | K8: =(I8+J8)/12 -> 7606.5833 | L8: =(F8+I8)/2 -> 73508.5 | M8: =(G8+J8)/2 -> 26941 | N8: =(L8+M8)/12 -> 8370.7917 | O8: 1 | R8: 44500
A9: 7 | B9: Atalanta | C9: Zonnegloren | D9: 1 | E9: Heerhugowaard | F9: 208296 | G9: 49649 | H9: =(F9+G9)/12 -> 21495.417 | I9: 155538 | J9: 46410 | K9: =(I9+J9)/12 -> 16829 | L9: =(F9+I9)/2 -> 181917 | M9: =(G9+J9)/2 -> 48029.5 | N9: =(L9+M9)/12 -> 19162.208 | P9: 1 | R9: 44500
A10: 8 | B10: De Kleine en Grote Beer | C10: Plutolaan | D10: 2a | E10: Heerhugowaard | F10: 99344 | G10: 17990 | H10: =(F10+G10)/12 -> 9777.8333 | I10: 113959 | J10: 17474 | K10: =(I10+J10)/12 -> 10952.75 | L10: =(F10+I10)/2 -> 106651.5 | M10: =(G10+J10)/2 -> 17732 | N10: =(L10+M10)/12 -> 10365.292 | O10: 1 | R10: 44500
A11: 9 | B11: De Phoenix | C11: Pluvier | D11: 2 | E11: Sint Pancras | F11: 137554 | G11: 33634 | H11: =(F11+G11)/12 -> 14265.667 | I11: 196044 | J11: 42893 | K11: =(I11+J11)/12 -> 19911.417 | L11: =(F11+I11)/2 -> 166799 | M11: =(G11+J11)/2 -> 38263.5 | N11: =(L11+M11)/12 -> 17088.542 | P11: 1 | R11: 44500 | S11: Verhuizing naar nieuwbouw medio 08-2023. | T11: 1
A12: 10 | B12: Montessori Alkmaar | C12: Arkplein | D12: 123-124 | E12: Alkmaar | F12: 43374 | G12: 16141 | H12: =(F12+G12)/12 -> 4959.5833 | I12: 43820 | J12: 16054 | K12: =(I12+J12)/12 -> 4989.5 | L12: =(F12+I12)/2 -> 43597 | M12: =(G12+J12)/2 -> 16097.5 | N12: =(L12+M12)/12 -> 4974.5417 | O12: 1 | R12: 44500
A13: 11 | B13: Centraal Bureau | C13: Bogert | D13: 02-03 | E13: Broek op Langedijk | F13: 17561 | G13: 6327 | H13: =(F13+G13)/12 -> 1990.6667 | I13: 13855 | J13: 12986 | K13: =(I13+J13)/12 -> 2236.75 | L13: =(F13+I13)/2 -> 15708 | M13: =(G13+J13)/2 -> 9656.5 | N13: =(L13+M13)/12 -> 2113.7083 | O13: 1 | R13: 44500
A14: 12 | B14: De Hasselbraam | C14: Anna Polaktuin | D14: 26 | E14: Heerhugowaard | F14: 158390 | G14: 34338 | H14: =(F14+G14)/12 -> 16060.667 | I14: 126517 | J14: 40853 | K14: =(I14+J14)/12 -> 13947.5 | L14: =(F14+I14)/2 -> 142453.5 | M14: =(G14+J14)/2 -> 37595.5 | N14: =(L14+M14)/12 -> 15004.083 | O14: 1 | R14: 44500
A15: 13 | B15: De Phoenix | C15: Keppelsloot | D15: 6 | E15: Broek op Langedijk | F15: 291278 | G15: 75598 | H15: =(F15+G15)/12 -> 30573 | I15: 518323.2 | J15: 248125.2 | K15: =(I15+J15)/12 -> 63870.7 | L15: =(F15+I15)/2 -> 404800.6 | M15: =(G15+J15)/2 -> 161861.6 | N15: =(L15+M15)/12 -> 47221.85 | Q15: 1 | R15: 44500
A16: 14 | B16: Paus Johannesschool | C16: Sperwer | D16: 1 | E16: Sint Pancras | F16: 221231 | G16: 31234 | H16: =(F16+G16)/12 -> 21038.75 | I16: 201768 | J16: 34415 | K16: =(I16+J16)/12 -> 19681.917 | L16: =(F16+I16)/2 -> 211499.5 | M16: =(G16+J16)/2 -> 32824.5 | N16: =(L16+M16)/12 -> 20360.333 | P16: 1 | R16: 44500 | S16: Verhuizing naar tijdelijke locatie medio 01-2022, verhuizing naar nieuwbouw medio 08-2023. | T16: 2
A17: 15 | B17: IKC Oudkarspel | C17: Voorburggracht | D17: 425 | E17: Oudkarspel | F17: 130520 | G17: 34722 | H17: =(F17+G17)/12 -> 13770.167 | I17: 57406 | J17: 22228 | K17: =(I17+J17)/12 -> 6636.1667 | L17: =(F17+I17)/2 -> 93963 | M17: =(G17+J17)/2 -> 28475 | N17: =(L17+M17)/12 -> 10203.167 | O17: 1 | R17: 44500
A18: 16 | B18: IKC Oudkarspel | C18: Voorburggracht | D18: 425 | E18: Oudkarspel | F18: 66325 | G18: 20288 | H18: =(F18+G18)/12 -> 7217.75 | I18: 77478 | J18: 39569 | K18: =(I18+J18)/12 -> 9753.9167 | L18: =(F18+I18)/2 -> 71901.5 | M18: =(G18+J18)/2 -> 29928.5 | N18: =(L18+M18)/12 -> 8485.8333 | O18: 1 | R18: 44500
A19: 17 | B19: De Koolvlet | C19: Keppelsloot | D19: 8 | E19: Broek op Langedijk | F19: 146737 | G19: 48494 | H19: =(F19+G19)/12 -> 16269.25 | I19: 130849 | J19: 37503 | K19: =(I19+J19)/12 -> 14029.333 | L19: =(F19+I19)/2 -> 138793 | M19: =(G19+J19)/2 -> 42998.5 | N19: =(L19+M19)/12 -> 15149.292 | O19: 1 | R19: 44500
A20: 18 | B20: IKC Waterrijk | C20: Schoolstraat | D20: 29 | E20: Noord-Scharwoude | F20: =141744+91265 -> 233009 | G20: =27593+47712 -> 75305 | H20: =(F20+G20)/12 -> 25692.833 | I20: =90048+76598 -> 166646 | J20: =25944+82927 -> 108871 | K20: =(I20+J20)/12 -> 22959.75 | L20: =(F20+I20)/2 -> 199827.5 | M20: =(G20+J20)/2 -> 92088 | N20: =(L20+M20)/12 -> 24326.292 | Q20: 1 | R20: 44500 | S20: Mogelijk verhuizing medio 08-2025. | T20: 1
A21: 19 | B21: St. Josephschool | C21: Rozenhoutstraat | D21: 3 | E21: Heerhugowaard | F21: 60222 | G21: 37813 | H21: =(F21+G21)/12 -> 8169.5833 | I21: 43680 | J21: 32485 | K21: =(I21+J21)/12 -> 6347.0833 | L21: =(F21+I21)/2 -> 51951 | M21: =(G21+J21)/2 -> 35149 | N21: =(L21+M21)/12 -> 7258.3333 | O21: 1 | R21: 44500
B22: Totaal | F22: =SUM(F3:F21) -> 2624551 | G22: =SUM(G3:G21) -> 673419 | I22: =SUM(I3:I21) -> 2971497.2 | J22: =SUM(J3:J21) -> 1094090.8 | L22: =SUM(L3:L21) -> 2798024.1 | M22: =SUM(M3:M21) -> 883754.9 | O22: =SUM(O3:O21) -> 10 | P22: =SUM(P3:P21) -> 4 | Q22: =SUM(Q3:Q21) -> 5 | T22: =SUM(T3:T21) -> 4
