Workbook

Sheet voorblad
E5: ONTWIKKELPARIJ
E8: vul in
E11: GEMEENTE BARNEVELD EN GEMEENTE WAGENINGEN
E13: PRP® circulaire analyse | aanbesteding VERKEERSBORDEN ONTWIKKELPARTIJ
B20: PRP® circulaire analyse van | I20: PRP® circulaire analyse van | O20: PRP® circulaire analyse van
B23: ONTWIKKELVARIANT 1 | I23: ONTWIKKELVARIANT 2 | O23: ONTWIKKELVARIANT 3
B26: totaalscore | D26: ='ontwikkelvariant 1'!P30 -> 0 | I26: totaalscore | K26: ='ontwikkelvariant 1'!W30 -> 0 | O26: totaalscore | Q26: ='ontwikkelvariant 1'!AC30 -> 0
C30: eindscore: | E30: =D26+J26+P26+V26 -> 0 | J30: eindscore: | L30: ='ontwikkelvariant 2'!P34 -> 0 | P30: eindscore: | R30: ='ontwikkelvariant 3'!P34 -> 0

Sheet ontwikkelvariant 1
F2: ONTWIKKELPARTIJ | M2: PRP® circulaire analyse van Key-element:
F5: =voorblad!E8 -> vul in | M5: ONTWIKKELVARIANT 1
F9: GEMEENTE BARNEVELD EN GEMEENTE WAGINGEN
F12: PRP® circulaire analyse | aanbesteding VERKEERSBORDEN ONTWIKKELPARTIJ
E21: vul in | P21: score | R21: max score
C22: ITEMS | E22: 1 | F22: 1 | H22: RF | J22: Required Field | N22: ITEMS | P22: =S79+AM84+BL110+DD83 -> 0 | R22: 20460
C24: MATERIALS | E24: 1 | F24: 1 | N24: MATERIALS | P24: =S162+AM175+BL171+BY143+DD156 -> 0 | R24: 22550
H25: EF | J25: Extra Field
C26: RESOURCES | E26: 1 | F26: 1 | N26: RESOURCES | P26: =S214+AM212+BL236+BY207+DD214 -> 0 | R26: 32355
H28: BO | J28: Bonus
N30: totaal | P30: =P22+P24+P26 -> 0 | R30: =R22+R24+R26 -> 75365
H31: CP | J31: Circulair Potentieel
B43: ITEMS | V43: ITEMS | AP43: ITEMS | BO43: ITEMS | CB43: ITEMS
C47: Required Fields | E47: Item | F47: Bewijs | W47: Required Fields | Y47: Item | Z47: Bewijs | AQ47: Required Fields | AS47: Item | AT47: Bewijs | BP47: N.V.T.
CC48: gewicht (kg) | CE48: vul in het gewicht dat is ingevuld bij dit onderdeel in de PRP®-Tool
C49: extraction site | E49: RF | F49: RF | W49: energy use | Y49: RF | Z49: RF | AQ49: during first cycle
C50: supplier | E50: RF | F50: RF | W50: energy generating | Y50: RF | Z50: RF | AQ50: recycling | AS50: RF | AT50: RF
W51: social fairness self assessment | Y51: RF | Z51: RF | AQ51: downcycling | AS51: RF | AT51: RF | CC51: correctie (kg) | CE51: vul in het gecorrigeerde gewicht
W52: toxicity | Y52: RF | Z52: RF | AQ52: incinerate | AS52: RF | AT52: RF
AQ53: after first cycle
AQ54: recycling | AS54: RF | AT54: RF | CC54: Incinerate - gebruikt voor energieopwekking | CE54: vul in hoeveel kg van het gewicht ingevuld bij 'incinerate' gebruikt is voor energieopwekking
AQ55: downcycling | AS55: RF | AT55: RF
AQ56: incinerate | AS56: RF | AT56: EF
C59: ingevuld | D59: vul in het aantal ITEMS waar er bij dit onderdeel in de PRP®-Tool iets is ingevuld | W59: ingevuld | X59: vul in het aantal ITEMS waar er bij dit onderdeel in de PRP®-Tool iets is ingevuld | AQ59: ingevuld | AR59: vul in het aantal ITEMS waar er bij dit onderdeel in de PRP®-Tool iets is ingevuld ('0' geldt ook als iets ingevuld) | DJ59: totaal aantal velden
CC60: CP | CD60: data | CF60: after first cycle | CW60: verificatie | DH60: aantal ITEMS | DI60: aantal velden
C61: geüpload | D61: vul in het aantal ITEMS waar er bij dit onderdeel één of meer bewijsdocumenten geüpload zijn in de PRP®-Tool | W61: geüpload | X61: vul in het aantal ITEMS waar er bij dit onderdeel één of meer bewijsdocumenten geüpload zijn in de PRP®-Tool | AQ61: geüpload | AR61: vul in het aantal ITEMS waar er bij dit onderdeel één of meer bewijsdocumenten geüpload zijn in de PRP®-Tool | DH61: =E22 -> 1 | DI61: 12 | DJ61: =DH61*DI61 -> 12
CJ62: gewicht (kg) | CM62: correctie (kg) | CP62: behoud correctie % | CR62: punten per kg | CT62: score | CX62: totaal aantal velden | CZ62: totaal aantal velden bewezen | DB62: % | DD62: bonuspunten | DH62: score
C63: bewezen | D63: vul in het aantal ITEMS waar één of meer geüploade bewijsdocumenten samen bewezen hebben wat er is ingevuld in de PRP®-Tool voor dit onderdeel | W63: bewezen | X63: vul in het aantal ITEMS waar één of meer geüploade bewijsdocumenten samen bewezen hebben wat er is ingevuld in de PRP®-Tool voor dit onderdeel | AQ63: bewezen | AR63: vul in het aantal ITEMS waar één of meer geüploade bewijsdocumenten samen bewezen hebben wat er is ingevuld in de PRP®-Tool voor dit onderdeel | CE63: startgewicht (kg) | DG63: recycle | DH63: =CP64*CR64 -> 0
CH64: recycle (d.m.v. 100% hernieuwbare energie) | CJ64: 0 | CM64: 0 | CP64: =CM64/CE65*100 -> 0 | CR64: 100 | DG64: downcycke | DH64: =CP74*CR74 -> 0
AQ65: al verklaard | AR65: Vul in het aantal ITEMS waarbij het complete gewicht al verklaard en bewezen is bij één of twee andere categorie(ën) (zie voorbeeld*) | CE65: 1 | CT65: =DH72 -> 0 | CX65: =DJ61 -> 12 | CZ65: =Q74+Q76+AK74+AK76+AK78+AK81+BE86+BE88+BE90+BE93+BE95+BE107 -> 0 | DB65: =CZ65/CX65 -> 0 | DD65: =DB65*CT65 -> 0 | DG65: incinatare | DH65: =CP76*CR76 -> 0
CH66: recycle (d.m.v. > 75% hernieuwbare energie) | CJ66: 0 | CM66: 0 | CP66: =CM66/CE65*100 -> 0 | CR66: 75 | DG66: incinatar energie | DH66: =CP79*CR79 -> 0
AQ67: geüpload | AR67: vul in het aantal ITEMS waar er bij dit onderdeel één of meer bewijsdocumenten geüpload zijn in de PRP®-Tool
CH68: recycle (d.m.v. > 50% hernieuwbare energie) | CJ68: 0 | CM68: 0 | CP68: =CM68/CE65*100 -> 0 | CR68: 50 | DG68: r>75 | DH68: =CP66*CR66 -> 0
AQ69: bewezen | AR69: vul in het aantal ITEMS waar één of meer geüploade bewijsdocumenten samen bewezen hebben wat er is ingevuld in de PRP®-Tool voor dit onderdeel | DG69: r>50 | DH69: =CP68*CR68 -> 0
CH70: recycle (d.m.v. > 25% hernieuwbare energie) | CJ70: 0 | CM70: 0 | CP70: =CM70/CE65*100 -> 0 | CR70: 25 | DG70: r>25 | DH70: =CP70*CR70 -> 0
C71: RF | D71: data | L71: verificatie | W71: RF | X71: data | AF71: verificatie | AQ71: al verklaard | AR71: Vul in het aantal ITEMS waarbij het complete gewicht al verklaard en bewezen is bij één of twee andere categorie(ën) (zie voorbeeld*) | DG71: r>10 | DH71: =CP72*CR72 -> 0
CH72: recycle (d.m.v. > 10% hernieuwbare energie) | CJ72: 0 | CM72: 0 | CP72: =CM72/CE65*100 -> 0 | CR72: 10 | DH72: =DH63+DH64+DH65+DH66+DH68+DH69+DH70+DH71 -> 0
F73: max punten | G73: aangemaakt | H73: ingevuld | I73: % | J73: score | L73: max punten | M73: geüpload | N73: % | O73: score | P73: max punten | Q73: bewezen | R73: % | S73: score | Z73: max punten | AA73: aangemaakt | AB73: ingevuld | AC73: % | AD73: score | AF73: max punten | AG73: geüpload | AH73: % | AI73: score | AJ73: max punten | AK73: bewezen | AL73: % | AM73: score | AR73: *voorbeeld: | AS73: Het complete gewicht van het Item is in de PRP®-Tool ingevuld bij 'recyclen', er is hiervoor een bewijs geüpload, dit bewijs is akkoord en de inschrijver krijgt hier punten voor bij 'verificatie I'.
D74: extraction site | F74: 1 | G74: =E22 -> 1 | H74: 0 | I74: =(H74/E22) -> 0 | J74: =F74*I74 -> 0 | L74: 1 | M74: 0 | N74: =(M74/E22) -> 0 | O74: =L74*N74 -> 0 | P74: 1 | Q74: 0 | R74: =(Q74/E22) -> 0 | S74: =P74*R74 -> 0 | X74: energy use | Z74: 1 | AA74: =E22 -> 1 | AB74: 0 | AC74: =(AB74/E22) -> 0 | AD74: =Z74*AC74 -> 0 | AF74: 10 | AG74: 0 | AH74: =(AG74/E22) -> 0 | AI74: =AF74*AH74 -> 0 | AJ74: 100 | AK74: 0 | AL74: =(AK74/E22) -> 0 | AM74: =AJ74*AL74 -> 0 | AS74: Het kan zo zijn dat er dan geen (valide) bewijsdocumenten zijn geüpload bij 'downcyclen' en 'incinerate' (omdat het complete gewicht al ingevuld en bewezen is bij 'recyclen'), hierdoor zouden er bij 'verificatie I' voor de andere categorieën punten misgelopen worden. | CH74: downcycle | CJ74: 0 | CM74: 0 | CP74: =CM74/CE65*100 -> 0 | CR74: 5
AS75: In dit geval worden de andere categorieën ingevuld bij 'verificatie II' onder 'al verklaard'.
...

Sheet ontwikkelvariant 2
F2: ONTWIKKELPARTIJ | M2: PRP® circulaire analyse van Key-element:
F5: =voorblad!E8 -> vul in | M5: ONTWIKKELVARIANT 2
F9: GEMEENTE BARNEVELD EN GEMEENTE WAGINGEN
F12: PRP® circulaire analyse | aanbesteding VERKEERSBORDEN ONTWIKKELPARTIJ
E21: vul in | P21: score | R21: max score
C22: ITEMS | E22: 1 | F22: 1 | H22: RF | J22: Required Field | N22: ITEMS | P22: =S79+AM84+BL110+DD83 -> 0 | R22: 20460
C24: MATERIALS | E24: 1 | F24: 1 | N24: MATERIALS | P24: =S162+AM175+BL171+BY143+DD156 -> 0 | R24: 22550
H25: EF | J25: Extra Field
C26: RESOURCES | E26: 1 | F26: 1 | N26: RESOURCES | P26: =S214+AM212+BL236+BY207+DD214 -> 0 | R26: 32355
H28: BO | J28: Bonus
N30: totaal | P30: =P22+P24+P26 -> 0 | R30: =R22+R24+R26 -> 75365
H31: CP | J31: Circulair Potentieel
P34: =P30 -> 0
B43: ITEMS | V43: ITEMS | AP43: ITEMS | BO43: ITEMS | CB43: ITEMS
C47: Required Fields | E47: Item | F47: Bewijs | W47: Required Fields | Y47: Item | Z47: Bewijs | AQ47: Required Fields | AS47: Item | AT47: Bewijs | BP47: N.V.T.
CC48: gewicht (kg) | CE48: vul in het gewicht dat is ingevuld bij dit onderdeel in de PRP®-Tool
C49: extraction site | E49: RF | F49: RF | W49: energy use | Y49: RF | Z49: RF | AQ49: during first cycle
C50: supplier | E50: RF | F50: RF | W50: energy generating | Y50: RF | Z50: RF | AQ50: recycling | AS50: RF | AT50: RF
W51: social fairness self assessment | Y51: RF | Z51: RF | AQ51: downcycling | AS51: RF | AT51: RF | CC51: correctie (kg) | CE51: vul in het gecorrigeerde gewicht
W52: toxicity | Y52: RF | Z52: RF | AQ52: incinerate | AS52: RF | AT52: RF
AQ53: after first cycle
AQ54: recycling | AS54: RF | AT54: RF | CC54: Incinerate - gebruikt voor energieopwekking | CE54: vul in hoeveel kg van het gewicht ingevuld bij 'incinerate' gebruikt is voor energieopwekking
AQ55: downcycling | AS55: RF | AT55: RF
AQ56: incinerate | AS56: RF | AT56: EF
C59: ingevuld | D59: vul in het aantal ITEMS waar er bij dit onderdeel in de PRP®-Tool iets is ingevuld | W59: ingevuld | X59: vul in het aantal ITEMS waar er bij dit onderdeel in de PRP®-Tool iets is ingevuld | AQ59: ingevuld | AR59: vul in het aantal ITEMS waar er bij dit onderdeel in de PRP®-Tool iets is ingevuld ('0' geldt ook als iets ingevuld) | DJ59: totaal aantal velden
CC60: CP | CD60: data | CF60: after first cycle | CW60: verificatie | DH60: aantal ITEMS | DI60: aantal velden
C61: geüpload | D61: vul in het aantal ITEMS waar er bij dit onderdeel één of meer bewijsdocumenten geüpload zijn in de PRP®-Tool | W61: geüpload | X61: vul in het aantal ITEMS waar er bij dit onderdeel één of meer bewijsdocumenten geüpload zijn in de PRP®-Tool | AQ61: geüpload | AR61: vul in het aantal ITEMS waar er bij dit onderdeel één of meer bewijsdocumenten geüpload zijn in de PRP®-Tool | DH61: =E22 -> 1 | DI61: 12 | DJ61: =DH61*DI61 -> 12
CJ62: gewicht (kg) | CM62: correctie (kg) | CP62: behoud correctie % | CR62: punten per kg | CT62: score | CX62: totaal aantal velden | CZ62: totaal aantal velden bewezen | DB62: % | DD62: bonuspunten | DH62: score
C63: bewezen | D63: vul in het aantal ITEMS waar één of meer geüploade bewijsdocumenten samen bewezen hebben wat er is ingevuld in de PRP®-Tool voor dit onderdeel | W63: bewezen | X63: vul in het aantal ITEMS waar één of meer geüploade bewijsdocumenten samen bewezen hebben wat er is ingevuld in de PRP®-Tool voor dit onderdeel | AQ63: bewezen | AR63: vul in het aantal ITEMS waar één of meer geüploade bewijsdocumenten samen bewezen hebben wat er is ingevuld in de PRP®-Tool voor dit onderdeel | CE63: startgewicht (kg) | DG63: recycle | DH63: =CP64*CR64 -> 0
CH64: recycle (d.m.v. 100% hernieuwbare energie) | CJ64: 0 | CM64: 0 | CP64: =CM64/CE65*100 -> 0 | CR64: 100 | DG64: downcycke | DH64: =CP74*CR74 -> 0
AQ65: al verklaard | AR65: Vul in het aantal ITEMS waarbij het complete gewicht al verklaard en bewezen is bij één of twee andere categorie(ën) (zie voorbeeld*) | CE65: 1 | CT65: =DH72 -> 0 | CX65: =DJ61 -> 12 | CZ65: =Q74+Q76+AK74+AK76+AK78+AK81+BE86+BE88+BE90+BE93+BE95+BE107 -> 0 | DB65: =CZ65/CX65 -> 0 | DD65: =DB65*CT65 -> 0 | DG65: incinatare | DH65: =CP76*CR76 -> 0
CH66: recycle (d.m.v. > 75% hernieuwbare energie) | CJ66: 0 | CM66: 0 | CP66: =CM66/CE65*100 -> 0 | CR66: 75 | DG66: incinatar energie | DH66: =CP79*CR79 -> 0
AQ67: geüpload | AR67: vul in het aantal ITEMS waar er bij dit onderdeel één of meer bewijsdocumenten geüpload zijn in de PRP®-Tool
CH68: recycle (d.m.v. > 50% hernieuwbare energie) | CJ68: 0 | CM68: 0 | CP68: =CM68/CE65*100 -> 0 | CR68: 50 | DG68: r>75 | DH68: =CP66*CR66 -> 0
AQ69: bewezen | AR69: vul in het aantal ITEMS waar één of meer geüploade bewijsdocumenten samen bewezen hebben wat er is ingevuld in de PRP®-Tool voor dit onderdeel | DG69: r>50 | DH69: =CP68*CR68 -> 0
CH70: recycle (d.m.v. > 25% hernieuwbare energie) | CJ70: 0 | CM70: 0 | CP70: =CM70/CE65*100 -> 0 | CR70: 25 | DG70: r>25 | DH70: =CP70*CR70 -> 0
C71: RF | D71: data | L71: verificatie | W71: RF | X71: data | AF71: verificatie | AQ71: al verklaard | AR71: Vul in het aantal ITEMS waarbij het complete gewicht al verklaard en bewezen is bij één of twee andere categorie(ën) (zie voorbeeld*) | DG71: r>10 | DH71: =CP72*CR72 -> 0
CH72: recycle (d.m.v. > 10% hernieuwbare energie) | CJ72: 0 | CM72: 0 | CP72: =CM72/CE65*100 -> 0 | CR72: 10 | DH72: =DH63+DH64+DH65+DH66+DH68+DH69+DH70+DH71 -> 0
F73: max punten | G73: aangemaakt | H73: ingevuld | I73: % | J73: score | L73: max punten | M73: geüpload | N73: % | O73: score | P73: max punten | Q73: bewezen | R73: % | S73: score | Z73: max punten | AA73: aangemaakt | AB73: ingevuld | AC73: % | AD73: score | AF73: max punten | AG73: geüpload | AH73: % | AI73: score | AJ73: max punten | AK73: bewezen | AL73: % | AM73: score | AR73: *voorbeeld: | AS73: Het complete gewicht van het Item is in de PRP®-Tool ingevuld bij 'recyclen', er is hiervoor een bewijs geüpload, dit bewijs is akkoord en de inschrijver krijgt hier punten voor bij 'verificatie I'.
D74: extraction site | F74: 1 | G74: =E22 -> 1 | H74: 0 | I74: =(H74/E22) -> 0 | J74: =F74*I74 -> 0 | L74: 1 | M74: 0 | N74: =(M74/E22) -> 0 | O74: =L74*N74 -> 0 | P74: 1 | Q74: 0 | R74: =(Q74/E22) -> 0 | S74: =P74*R74 -> 0 | X74: energy use | Z74: 1 | AA74: =E22 -> 1 | AB74: 0 | AC74: =(AB74/E22) -> 0 | AD74: =Z74*AC74 -> 0 | AF74: 10 | AG74: 0 | AH74: =(AG74/E22) -> 0 | AI74: =AF74*AH74 -> 0 | AJ74: 100 | AK74: 0 | AL74: =(AK74/E22) -> 0 | AM74: =AJ74*AL74 -> 0 | AS74: Het kan zo zijn dat er dan geen (valide) bewijsdocumenten zijn geüpload bij 'downcyclen' en 'incinerate' (omdat het complete gewicht al ingevuld en bewezen is bij 'recyclen'), hierdoor zouden er bij 'verificatie I' voor de andere categorieën punten misgelopen worden. | CH74: downcycle | CJ74: 0 | CM74: 0 | CP74: =CM74/CE65*100 -> 0 | CR74: 5
...

Sheet ontwikkelvariant 3
F2: ONTWIKKELPARTIJ | M2: PRP® circulaire analyse van Key-element:
F5: =voorblad!E8 -> vul in | M5: ONTWIKKEL VARIANT 3
F9: GEMEENTE BARNEVELD EN GEMEENTE WAGINGEN
F12: PRP® circulaire analyse | aanbesteding VERKEERSBORDEN ONTWIKKELPARTIJ
E21: vul in | P21: score | R21: max score
C22: ITEMS | E22: 1 | F22: 1 | H22: RF | J22: Required Field | N22: ITEMS | P22: =S79+AM84+BL110+DD83 -> 0 | R22: 20460
C24: MATERIALS | E24: 1 | F24: 1 | N24: MATERIALS | P24: =S162+AM175+BL171+BY143+DD156 -> 0 | R24: 22550
H25: EF | J25: Extra Field
C26: RESOURCES | E26: 1 | F26: 1 | N26: RESOURCES | P26: =S214+AM212+BL236+BY207+DD214 -> 0 | R26: 32355
H28: BO | J28: Bonus
N30: totaal | P30: =P22+P24+P26 -> 0 | R30: =R22+R24+R26 -> 75365
H31: CP | J31: Circulair Potentieel
P34: =P30 -> 0
B43: ITEMS | V43: ITEMS | AP43: ITEMS | BO43: ITEMS | CB43: ITEMS
C47: Required Fields | E47: Item | F47: Bewijs | W47: Required Fields | Y47: Item | Z47: Bewijs | AQ47: Required Fields | AS47: Item | AT47: Bewijs | BP47: N.V.T.
CC48: gewicht (kg) | CE48: vul in het gewicht dat is ingevuld bij dit onderdeel in de PRP®-Tool
C49: extraction site | E49: RF | F49: RF | W49: energy use | Y49: RF | Z49: RF | AQ49: during first cycle
C50: supplier | E50: RF | F50: RF | W50: energy generating | Y50: RF | Z50: RF | AQ50: recycling | AS50: RF | AT50: RF
W51: social fairness self assessment | Y51: RF | Z51: RF | AQ51: downcycling | AS51: RF | AT51: RF | CC51: correctie (kg) | CE51: vul in het gecorrigeerde gewicht
W52: toxicity | Y52: RF | Z52: RF | AQ52: incinerate | AS52: RF | AT52: RF
AQ53: after first cycle
AQ54: recycling | AS54: RF | AT54: RF | CC54: Incinerate - gebruikt voor energieopwekking | CE54: vul in hoeveel kg van het gewicht ingevuld bij 'incinerate' gebruikt is voor energieopwekking
AQ55: downcycling | AS55: RF | AT55: RF
AQ56: incinerate | AS56: RF | AT56: EF
C59: ingevuld | D59: vul in het aantal ITEMS waar er bij dit onderdeel in de PRP®-Tool iets is ingevuld | W59: ingevuld | X59: vul in het aantal ITEMS waar er bij dit onderdeel in de PRP®-Tool iets is ingevuld | AQ59: ingevuld | AR59: vul in het aantal ITEMS waar er bij dit onderdeel in de PRP®-Tool iets is ingevuld ('0' geldt ook als iets ingevuld) | DJ59: totaal aantal velden
CC60: CP | CD60: data | CF60: after first cycle | CW60: verificatie | DH60: aantal ITEMS | DI60: aantal velden
C61: geüpload | D61: vul in het aantal ITEMS waar er bij dit onderdeel één of meer bewijsdocumenten geüpload zijn in de PRP®-Tool | W61: geüpload | X61: vul in het aantal ITEMS waar er bij dit onderdeel één of meer bewijsdocumenten geüpload zijn in de PRP®-Tool | AQ61: geüpload | AR61: vul in het aantal ITEMS waar er bij dit onderdeel één of meer bewijsdocumenten geüpload zijn in de PRP®-Tool | DH61: =E22 -> 1 | DI61: 12 | DJ61: =DH61*DI61 -> 12
CJ62: gewicht (kg) | CM62: correctie (kg) | CP62: behoud correctie % | CR62: punten per kg | CT62: score | CX62: totaal aantal velden | CZ62: totaal aantal velden bewezen | DB62: % | DD62: bonuspunten | DH62: score
C63: bewezen | D63: vul in het aantal ITEMS waar één of meer geüploade bewijsdocumenten samen bewezen hebben wat er is ingevuld in de PRP®-Tool voor dit onderdeel | W63: bewezen | X63: vul in het aantal ITEMS waar één of meer geüploade bewijsdocumenten samen bewezen hebben wat er is ingevuld in de PRP®-Tool voor dit onderdeel | AQ63: bewezen | AR63: vul in het aantal ITEMS waar één of meer geüploade bewijsdocumenten samen bewezen hebben wat er is ingevuld in de PRP®-Tool voor dit onderdeel | CE63: startgewicht (kg) | DG63: recycle | DH63: =CP64*CR64 -> 0
CH64: recycle (d.m.v. 100% hernieuwbare energie) | CJ64: 0 | CM64: 0 | CP64: =CM64/CE65*100 -> 0 | CR64: 100 | DG64: downcycke | DH64: =CP74*CR74 -> 0
AQ65: al verklaard | AR65: Vul in het aantal ITEMS waarbij het complete gewicht al verklaard en bewezen is bij één of twee andere categorie(ën) (zie voorbeeld*) | CE65: 1 | CT65: =DH72 -> 0 | CX65: =DJ61 -> 12 | CZ65: =Q74+Q76+AK74+AK76+AK78+AK81+BE86+BE88+BE90+BE93+BE95+BE107 -> 0 | DB65: =CZ65/CX65 -> 0 | DD65: =DB65*CT65 -> 0 | DG65: incinatare | DH65: =CP76*CR76 -> 0
CH66: recycle (d.m.v. > 75% hernieuwbare energie) | CJ66: 0 | CM66: 0 | CP66: =CM66/CE65*100 -> 0 | CR66: 75 | DG66: incinatar energie | DH66: =CP79*CR79 -> 0
AQ67: geüpload | AR67: vul in het aantal ITEMS waar er bij dit onderdeel één of meer bewijsdocumenten geüpload zijn in de PRP®-Tool
CH68: recycle (d.m.v. > 50% hernieuwbare energie) | CJ68: 0 | CM68: 0 | CP68: =CM68/CE65*100 -> 0 | CR68: 50 | DG68: r>75 | DH68: =CP66*CR66 -> 0
AQ69: bewezen | AR69: vul in het aantal ITEMS waar één of meer geüploade bewijsdocumenten samen bewezen hebben wat er is ingevuld in de PRP®-Tool voor dit onderdeel | DG69: r>50 | DH69: =CP68*CR68 -> 0
CH70: recycle (d.m.v. > 25% hernieuwbare energie) | CJ70: 0 | CM70: 0 | CP70: =CM70/CE65*100 -> 0 | CR70: 25 | DG70: r>25 | DH70: =CP70*CR70 -> 0
C71: RF | D71: data | L71: verificatie | W71: RF | X71: data | AF71: verificatie | AQ71: al verklaard | AR71: Vul in het aantal ITEMS waarbij het complete gewicht al verklaard en bewezen is bij één of twee andere categorie(ën) (zie voorbeeld*) | DG71: r>10 | DH71: =CP72*CR72 -> 0
CH72: recycle (d.m.v. > 10% hernieuwbare energie) | CJ72: 0 | CM72: 0 | CP72: =CM72/CE65*100 -> 0 | CR72: 10 | DH72: =DH63+DH64+DH65+DH66+DH68+DH69+DH70+DH71 -> 0
F73: max punten | G73: aangemaakt | H73: ingevuld | I73: % | J73: score | L73: max punten | M73: geüpload | N73: % | O73: score | P73: max punten | Q73: bewezen | R73: % | S73: score | Z73: max punten | AA73: aangemaakt | AB73: ingevuld | AC73: % | AD73: score | AF73: max punten | AG73: geüpload | AH73: % | AI73: score | AJ73: max punten | AK73: bewezen | AL73: % | AM73: score | AR73: *voorbeeld: | AS73: Het complete gewicht van het Item is in de PRP®-Tool ingevuld bij 'recyclen', er is hiervoor een bewijs geüpload, dit bewijs is akkoord en de inschrijver krijgt hier punten voor bij 'verificatie I'.
D74: extraction site | F74: 1 | G74: =E22 -> 1 | H74: 0 | I74: =(H74/E22) -> 0 | J74: =F74*I74 -> 0 | L74: 1 | M74: 0 | N74: =(M74/E22) -> 0 | O74: =L74*N74 -> 0 | P74: 1 | Q74: 0 | R74: =(Q74/E22) -> 0 | S74: =P74*R74 -> 0 | X74: energy use | Z74: 1 | AA74: =E22 -> 1 | AB74: 0 | AC74: =(AB74/E22) -> 0 | AD74: =Z74*AC74 -> 0 | AF74: 10 | AG74: 0 | AH74: =(AG74/E22) -> 0 | AI74: =AF74*AH74 -> 0 | AJ74: 100 | AK74: 0 | AL74: =(AK74/E22) -> 0 | AM74: =AJ74*AL74 -> 0 | AS74: Het kan zo zijn dat er dan geen (valide) bewijsdocumenten zijn geüpload bij 'downcyclen' en 'incinerate' (omdat het complete gewicht al ingevuld en bewezen is bij 'recyclen'), hierdoor zouden er bij 'verificatie I' voor de andere categorieën punten misgelopen worden. | CH74: downcycle | CJ74: 0 | CM74: 0 | CP74: =CM74/CE65*100 -> 0 | CR74: 5
...
