Workbook

Sheet voorblad
E5: ONTWIKKELPARIJ
E8: vul in
E11: GEMEENTE BARNEVELD EN GEMEENTE WAGENINGEN
E13: PRP® circulaire analyse | aanbesteding VERKEERSBORDEN ONTWIKKELPARTIJ
B20: PRP® circulaire analyse van | I20: PRP® circulaire analyse van | O20: PRP® circulaire analyse van
B23: ONTWIKKELVARIANT 1 | I23: ONTWIKKELVARIANT 2 | O23: ONTWIKKELVARIANT 3
B26: totaalscore | D26: ='ontwikkelvariant 1'!P30 -> 0 | I26: totaalscore | K26: ='ontwikkelvariant 1'!W30 -> 0 | O26: totaalscore | Q26: ='ontwikkelvariant 1'!AC30 -> 0
C30: eindscore: | E30: =D26+J26+P26+V26 -> 0 | J30: eindscore: | L30: ='ontwikkelvariant 2'!P34 -> 0 | P30: eindscore: | R30: ='ontwikkelvariant 3'!P34 -> 0

Sheet ontwikkelvariant 1
F2: ONTWIKKELPARTIJ | M2: PRP® circulaire analyse van Key-element:
F5: =voorblad!E8 -> vul in | M5: ONTWIKKELVARIANT 1
F9: GEMEENTE BARNEVELD EN GEMEENTE WAGINGEN
F12: PRP® circulaire analyse | aanbesteding VERKEERSBORDEN ONTWIKKELPARTIJ
E21: vul in | P21: score | R21: max score
C22: ITEMS | E22: 1 | F22: 1 | H22: RF | J22: Required Field | N22: ITEMS | P22: =S79+AM84+BL110+DD83 -> 0 | R22: 20460
C24: MATERIALS | E24: 1 | F24: 1 | N24: MATERIALS | P24: =S162+AM175+BL171+BY143+DD156 -> 0 | R24: 22550
H25: EF | J25: Extra Field
C26: RESOURCES | E26: 1 | F26: 1 | N26: RESOURCES | P26: =S214+AM212+BL236+BY207+DD214 -> 0 | R26: 32355
H28: BO | J28: Bonus
N30: totaal | P30: =P22+P24+P26 -> 0 | R30: =R22+R24+R26 -> 75365
H31: CP | J31: Circulair Potentieel
B43: ITEMS | V43: ITEMS | AP43: ITEMS | BO43: ITEMS | CB43: ITEMS
C47: Required Fields | E47: Item | F47: Bewijs | W47: Required Fields | Y47: Item | Z47: Bewijs | AQ47: Required Fields | AS47: Item | AT47: Bewijs | BP47: N.V.T.
CC48: gewicht (kg) | CE48: vul in het gewicht dat is ingevuld bij dit onderdeel in de PRP®-Tool
C49: extraction site | E49: RF | F49: RF | W49: energy use | Y49: RF | Z49: RF | AQ49: during first cycle
C50: supplier | E50: RF | F50: RF | W50: energy generating | Y50: RF | Z50: RF | AQ50: recycling | AS50: RF | AT50: RF
W51: social fairness self assessment | Y51: RF | Z51: RF | AQ51: downcycling | AS51: RF | AT51: RF | CC51: correctie (kg) | CE51: vul in het gecorrigeerde gewicht
W52: toxicity | Y52: RF | Z52: RF | AQ52: incinerate | AS52: RF | AT52: RF
AQ53: after first cycle
AQ54: recycling | AS54: RF | AT54: RF | CC54: Incinerate - gebruikt voor energieopwekking | CE54: vul in hoeveel kg van het gewicht ingevuld bij 'incinerate' gebruikt is voor energieopwekking
AQ55: downcycling | AS55: RF | AT55: RF
AQ56: incinerate | AS56: RF | AT56: EF
C59: ingevuld | D59: vul in het aantal ITEMS waar er bij dit onderdeel in de PRP®-Tool iets is ingevuld | W59: ingevuld | X59: vul in het aantal ITEMS waar er bij dit onderdeel in de PRP®-Tool iets is ingevuld | AQ59: ingevuld | AR59: vul in het aantal ITEMS waar er bij dit onderdeel in de PRP®-Tool iets is ingevuld ('0' geldt ook als iets ingevuld) | DJ59: totaal aantal velden
CC60: CP | CD60: data | CF60: after first cycle | CW60: verificatie | DH60: aantal ITEMS | DI60: aantal velden
C61: geüpload | D61: vul in het aantal ITEMS waar er bij dit onderdeel één of meer bewijsdocumenten geüpload zijn in de PRP®-Tool | W61: geüpload | X61: vul in het aantal ITEMS waar er bij dit onderdeel één of meer bewijsdocumenten geüpload zijn in de PRP®-Tool | AQ61: geüpload | AR61: vul in het aantal ITEMS waar er bij dit onderdeel één of meer bewijsdocumenten geüpload zijn in de PRP®-Tool | DH61: =E22 -> 1 | DI61: 12 | DJ61: =DH61*DI61 -> 12
CJ62: gewicht (kg) | CM62: correctie (kg) | CP62: behoud correctie % | CR62: punten per kg | CT62: score | CX62: totaal aantal velden | CZ62: totaal aantal velden bewezen | DB62: % | DD62: bonuspunten | DH62: score
C63: bewezen | D63: vul in het aantal ITEMS waar één of meer geüploade bewijsdocumenten samen bewezen hebben wat er is ingevuld in de PRP®-Tool voor dit onderdeel | W63: bewezen | X63: vul in het aantal ITEMS waar één of meer geüploade bewijsdocumenten samen bewezen hebben wat er is ingevuld in de PRP®-Tool voor dit onderdeel | AQ63: bewezen | AR63: vul in het aantal ITEMS waar één of meer geüploade bewijsdocumenten samen bewezen hebben wat er is ingevuld in de PRP®-Tool voor dit onderdeel | CE63: startgewicht (kg) | DG63: recycle | DH63: =CP64*CR64 -> 0
CH64: recycle (d.m.v. 100% hernieuwbare energie) | CJ64: 0 | CM64: 0 | CP64: =CM64/CE65*100 -> 0 | CR64: 100 | DG64: downcycke | DH64: =CP74*CR74 -> 0
AQ65: al verklaard | AR65: Vul in het aantal ITEMS waarbij het complete gewicht al verklaard en bewezen is bij één of twee andere categorie(ën) (zie voorbeeld*) | CE65: 1 | CT65: =DH72 -> 0 | CX65: =DJ61 -> 12 | CZ65: =Q74+Q76+AK74+AK76+AK78+AK81+BE86+BE88+BE90+BE93+BE95+BE107 -> 0 | DB65: =CZ65/CX65 -> 0 | DD65: =DB65*CT65 -> 0 | DG65: incinatare | DH65: =CP76*CR76 -> 0
CH66: recycle (d.m.v. > 75% hernieuwbare energie) | CJ66: 0 | CM66: 0 | CP66: =CM66/CE65*100 -> 0 | CR66: 75 | DG66: incinatar energie | DH66: =CP79*CR79 -> 0
AQ67: geüpload | AR67: vul in het aantal ITEMS waar er bij dit onderdeel één of meer bewijsdocumenten geüpload zijn in de PRP®-Tool
CH68: recycle (d.m.v. > 50% hernieuwbare energie) | CJ68: 0 | CM68: 0 | CP68: =CM68/CE65*100 -> 0 | CR68: 50 | DG68: r>75 | DH68: =CP66*CR66 -> 0
AQ69: bewezen | AR69: vul in het aantal ITEMS waar één of meer geüploade bewijsdocumenten samen bewezen hebben wat er is ingevuld in de PRP®-Tool voor dit onderdeel | DG69: r>50 | DH69: =CP68*CR68 -> 0
CH70: recycle (d.m.v. > 25% hernieuwbare energie) | CJ70: 0 | CM70: 0 | CP70: =CM70/CE65*100 -> 0 | CR70: 25 | DG70: r>25 | DH70: =CP70*CR70 -> 0
C71: RF | D71: data | L71: verificatie | W71: RF | X71: data | AF71: verificatie | AQ71: al verklaard | AR71: Vul in het aantal ITEMS waarbij het complete gewicht al verklaard en bewezen is bij één of twee andere categorie(ën) (zie voorbeeld*) | DG71: r>10 | DH71: =CP72*CR72 -> 0
CH72: recycle (d.m.v. > 10% hernieuwbare energie) | CJ72: 0 | CM72: 0 | CP72: =CM72/CE65*100 -> 0 | CR72: 10 | DH72: =DH63+DH64+DH65+DH66+DH68+DH69+DH70+DH71 -> 0
F73: max punten | G73: aangemaakt | H73: ingevuld | I73: % | J73: score | L73: max punten | M73: geüpload | N73: % | O73: score | P73: max punten | Q73: bewezen | R73: % | S73: score | Z73: max punten | AA73: aangemaakt | AB73: ingevuld | AC73: % | AD73: score | AF73: max punten | AG73: geüpload | AH73: % | AI73: score | AJ73: max punten | AK73: bewezen | AL73: % | AM73: score | AR73: *voorbeeld: | AS73: Het complete gewicht van het Item is in de PRP®-Tool ingevuld bij 'recyclen', er is hiervoor een bewijs geüpload, dit bewijs is akkoord en de inschrijver krijgt hier punten voor bij 'verificatie I'.
D74: extraction site | F74: 1 | G74: =E22 -> 1 | H74: 0 | I74: =(H74/E22) -> 0 | J74: =F74*I74 -> 0 | L74: 1 | M74: 0 | N74: =(M74/E22) -> 0 | O74: =L74*N74 -> 0 | P74: 1 | Q74: 0 | R74: =(Q74/E22) -> 0 | S74: =P74*R74 -> 0 | X74: energy use | Z74: 1 | AA74: =E22 -> 1 | AB74: 0 | AC74: =(AB74/E22) -> 0 | AD74: =Z74*AC74 -> 0 | AF74: 10 | AG74: 0 | AH74: =(AG74/E22) -> 0 | AI74: =AF74*AH74 -> 0 | AJ74: 100 | AK74: 0 | AL74: =(AK74/E22) -> 0 | AM74: =AJ74*AL74 -> 0 | AS74: Het kan zo zijn dat er dan geen (valide) bewijsdocumenten zijn geüpload bij 'downcyclen' en 'incinerate' (omdat het complete gewicht al ingevuld en bewezen is bij 'recyclen'), hierdoor zouden er bij 'verificatie I' voor de andere categorieën punten misgelopen worden. | CH74: downcycle | CJ74: 0 | CM74: 0 | CP74: =CM74/CE65*100 -> 0 | CR74: 5
AS75: In dit geval worden de andere categorieën ingevuld bij 'verificatie II' onder 'al verklaard'.
D76: supplier | F76: 1 | G76: =E22 -> 1 | H76: 0 | I76: =(H76/E22) -> 0 | J76: =F76*I76 -> 0 | L76: 1 | M76: 0 | N76: =(M76/E22) -> 0 | O76: =L76*N76 -> 0 | P76: 1 | Q76: 0 | R76: =(Q76/E22) -> 0 | S76: =P76*R76 -> 0 | X76: energy generating | Z76: 1 | AA76: =E22 -> 1 | AB76: 0 | AC76: =(AB76/E22) -> 0 | AD76: =Z76*AC76 -> 0 | AF76: 10 | AG76: 0 | AH76: =(AG76/E22) -> 0 | AI76: =AF76*AH76 -> 0 | AJ76: 100 | AK76: 0 | AL76: =(AK76/E22) -> 0 | AM76: =AJ76*AL76 -> 0 | AS76: Let op: als een categorie (per Item) al is ingevuld bij 'verificatie I' kan deze categorie niet nogmaals ingevuld bij 'verificatie II'. | CH76: incinerate | CJ76: 0 | CM76: 0 | CP76: =CM76/CE65*100 -> 0 | CR76: -5
CH77: totaal | CJ77: =CJ64+CJ74+CJ76+CJ66+CJ68+CJ70+CJ72 -> 0 | CM77: =CM64+CM74+CM76+CM66+CM68+CM70+CM72 -> 0 | CP77: =CP64+CP74+CP76+CP66+CP68+CP70+CP72 -> 0
X78: social fairness self assessment | Z78: 1 | AA78: =E22 -> 1 | AB78: 0 | AC78: =(AB78/E22) -> 0 | AD78: =Z78*AC78 -> 0 | AF78: 1 | AG78: 0 | AH78: =(AG78/E22) -> 0 | AI78: =AF78*AH78 -> 0 | AJ78: 100 | AK78: 0 | AL78: =(AK78/E22) -> 0 | AM78: =AJ78*AL78 -> 0
R79: subtotaal | S79: =J74+J76+S74+S76+O74+O76 -> 0 | CH79: Incinerate - gebruikt voor energieopwekking | CJ79: 0 | CM79: 0 | CP79: 0 | CR79: 4
AQ80: RF | AR80: data | AZ80: verificatie I | BI80: verificatie II
X81: toxicity | Z81: 1 | AA81: =E22 -> 1 | AB81: 0 | AC81: =(AB81/E22) -> 0 | AD81: =Z81*AC81 -> 0 | AF81: 1 | AG81: 0 | AH81: =(AG81/E22) -> 0 | AI81: =AF81*AH81 -> 0 | AJ81: 100 | AK81: 0 | AL81: =(AK81/E22) -> 0 | AM81: =AJ81*AL81 -> 0
BI82: Vul in het aantal ITEMS waarbij het complete gewicht al verklaard en bewezen is bij een andere categorie(ën).
DB83: subtotaal | DD83: =CT65+DD65 -> 0
AL84: subtotaal | AM84: =AD74+AD76+AD78+AD81+AM74+AM76+AM78+AM81+AI74+AI76+AI78+AI81 -> 0 | AT84: max punten | AU84: aangemaakt | AV84: ingevuld | AW84: % | AX84: score | AZ84: max punten | BA84: geüpload | BB84: % | BC84: score | BD84: max punten | BE84: bewezen | BF84: % | BG84: score | BI84: max punten | BJ84: al verklaard | BK84: % | BL84: score
AR85: during first cycle
AR86: recycling | AT86: 1 | AU86: =E22 -> 1 | AV86: 0 | AW86: =(AV86/E22) -> 0 | AX86: =AT86*AW86 -> 0 | AZ86: 1 | BA86: 0 | BB86: =(BA86/E22) -> 0 | BC86: =AZ86*BB86 -> 0 | BD86: 1 | BE86: 0 | BF86: =(BE86/E22) -> 0 | BG86: =BD86*BF86 -> 0 | BI86: 2 | BJ86: 0 | BK86: =(BJ86/E22) -> 0 | BL86: =BI86*BK86 -> 0
AR88: downcycling | AT88: 1 | AU88: =E22 -> 1 | AV88: 0 | AW88: =(AV88/E22) -> 0 | AX88: =AT88*AW88 -> 0 | AZ88: 1 | BA88: 0 | BB88: =(BA88/E22) -> 0 | BC88: =AZ88*BB88 -> 0 | BD88: 1 | BE88: 0 | BF88: =(BE88/E22) -> 0 | BG88: =BD88*BF88 -> 0 | BI88: 2 | BJ88: 0 | BK88: =(BJ88/E22) -> 0 | BL88: =BI88*BK88 -> 0
AR90: incinerate | AT90: 1 | AU90: =E22 -> 1 | AV90: 0 | AW90: =(AV90/E22) -> 0 | AX90: =AT90*AW90 -> 0 | AZ90: 1 | BA90: 0 | BB90: =(BA90/E22) -> 0 | BC90: =AZ90*BB90 -> 0 | BD90: 1 | BE90: 0 | BF90: =(BE90/E22) -> 0 | BG90: =BD90*BF90 -> 0 | BI90: 2 | BJ90: 0 | BK90: =(BJ90/E22) -> 0 | BL90: =BI90*BK90 -> 0
AR92: after first cycle
AR93: recycling | AT93: 1 | AU93: =E22 -> 1 | AV93: 0 | AW93: =(AV93/E22) -> 0 | AX93: =AT93*AW93 -> 0 | AZ93: 1 | BA93: 0 | BB93: =(BA93/E22) -> 0 | BC93: =AZ93*BB93 -> 0 | BD93: 1 | BE93: 0 | BF93: =(BE93/E22) -> 0 | BG93: =BD93*BF93 -> 0 | BI93: 2 | BJ93: 0 | BK93: =(BJ93/E22) -> 0 | BL93: =BI93*BK93 -> 0
AR95: downcycling | AT95: 1 | AU95: =E22 -> 1 | AV95: 0 | AW95: =(AV95/E22) -> 0 | AX95: =AT95*AW95 -> 0 | AZ95: 1 | BA95: 0 | BB95: =(BA95/E22) -> 0 | BC95: =AZ95*BB95 -> 0 | BD95: 1 | BE95: 0 | BF95: =(BE95/E22) -> 0 | BG95: =BD95*BF95 -> 0 | BI95: 2 | BJ95: 0 | BK95: =(BJ95/E22) -> 0 | BL95: =BI95*BK95 -> 0
AR97: incinerate | AT97: 1 | AU97: =E22 -> 1 | AV97: 0 | AW97: =(AV97/E22) -> 0 | AX97: =AT97*AW97 -> 0
AQ102: EF | AR102: data | AZ102: verificatie I | BI102: verificatie II
BI104: Vul in het aantal ITEMS waarbij het complete gewicht al verklaard en bewezen is bij een andere categorie(ën).
AR106: after first cycle | AZ106: max punten | BA106: geüpload | BB106: % | BC106: score | BD106: max punten | BE106: bewezen | BF106: % | BG106: score | BI106: max punten | BJ106: al verklaard | BK106: % | BL106: score
AR107: incinerate | AZ107: 1 | BA107: 0 | BB107: =(BA107/E22) -> 0 | BC107: =AZ107*BB107 -> 0 | BD107: 1 | BE107: 0 | BF107: =(BE107/E22) -> 0 | BG107: =BD107*BF107 -> 0 | BI107: 2 | BJ107: 0 | BK107: =(BJ107/E22) -> 0 | BL107: =BI107*BK107 -> 0
BK110: subtotaal | BL110: =AX86+AX88+AX90+AX93+AX95+AX97+BG86+BG88+BG90+BG93+BG95+BG107+BC86+BC88+BC90+BC93+BC95+BC107+BL86+BL88+BL90+BL93+BL95+BL107 -> 0
B116: MATERIALS | V116: MATERIALS | AP116: MATERIALS | BO116: MATERIALS | CB116: MATERIALS
C120: Required Fields | E120: Material | F120: Bewijs | W120: Required Fields | Y120: Material | Z120: Bewijs | AQ120: Required Fields | AS120: Material | AT120: Bewijs | BP120: Is er een bewijs document geüpload dat bewijst dat de aangemaakte MATERIALS de complete set MATRIALS zijn die samen het ITEM vormen?
CC121: gewicht (kg) | CE121: vul in het gewicht dat is ingevuld bij dit onderdeel in de PRP®-Tool
C122: extraction site | E122: EF | F122: EF | W122: downcycled content | Y122: RF | AQ122: after first cycle
C123: supplier | E123: RF | F123: EF | W123: recycled content | Y123: RF | AQ123: recycling | AS123: RF | AT123: EF
W124: energy use | Y124: RF | Z124: EF | AQ124: downcycling | AS124: RF | AT124: EF | BP124: geüpload | BQ124: vul in het aantal ITEMS waar één of meer bewijsdocumenten geüpload zijn in de PRP®-Tool voor dit onderdeel | CC124: correctie (kg) | CE124: vul in het gecorrigeerde gewicht
W125: energy generating | Y125: RF | Z125: EF | AQ125: incinerate | AS125: RF | AT125: EF
W126: social fairness self assessment | Y126: RF | Z126: EF
W127: toxicity | Y127: RF | Z127: RF | BP127: bewezen | BQ127: vul in het aantal ITEMS waar één of meer geüploade bewijsdocumenten samen bewezen hebben dat de MATERIAL-keten compleet is | CC127: Incinerate - gebruikt voor energieopwekking | CE127: vul in hoeveel kg van het gewicht ingevuld bij 'incinerate' gebruikt is voor energieopwekking
DJ129: totaal aantal velden
C130: ingevuld | D130: vul in het aantal MATERIALS waar er bij dit onderdeel in de PRP®-Tool iets is ingevuld | W130: ingevuld | X130: vul in het aantal MATERIALS waar er bij dit onderdeel in de PRP®-Tool iets is ingevuld | AQ130: ingevuld | AR130: vul in het aantal MATERIALS waar er bij dit onderdeel in de PRP®-Tool iets is ingevuld | DH130: aantal ITEMS | DI130: aantal velden
DH131: =E24 -> 1 | DI131: 9 | DJ131: =DH131*DI131 -> 9
C132: ingevuld | D132: vul in het aantal MATERIALS waar er bij dit onderdeel in de PRP®-Tool iets is ingevuld | W132: geüpload | X132: vul in het aantal MATERIALS waar er bij dit onderdeel één of meer bewijsdocumenten geüpload zijn in de PRP®-Tool | AQ132: geüpload | AR132: vul in het aantal MATERIALS waar er bij dit onderdeel één of meer bewijsdocumenten geüpload zijn in de PRP®-Tool | DH132: score
BP133: B | BQ133: verificatie | CC133: CP | CD133: data | CF133: after first cycle | CW133: verificatie | DG133: recycle | DH133: =CP137*CR137 -> 0
C134: geüpload | D134: vul in het aantal MATERIALS waar er bij dit onderdeel één of meer bewijsdocumenten geüpload zijn in de PRP®-Tool | W134: bewezen | X134: vul in het aantal MATERIALS waar één of meer geüploade bewijsdocumenten samen bewezen hebben wat er is ingevuld in de PRP®-Tool voor dit onderdeel | AQ134: bewezen | AR134: vul in het aantal MATERIALS waar één of meer geüploade bewijsdocumenten samen bewezen hebben wat er is ingevuld in de PRP®-Tool voor dit onderdeel | DG134: downcycke | DH134: =CP147*CR147 -> 0
BQ135: punten | BR135: aantal ITEMS | BS135: geüpload | BT135: % | BU135: score | BV135: punten | BW135: bewezen | BX135: % | BY135: score | CJ135: gewicht (kg) | CM135: correctie (kg) | CP135: behoud correctie % | CR135: punten per kg | CT135: score | CX135: totaal aantal velden | CZ135: totaal aantal velden bewezen | DB135: % | DD135: bonuspunten | DG135: incinatare | DH135: =CP149*CR149 -> 0
C136: bewezen | D136: vul in het aantal MATERIALS waar één of meer geüploade bewijsdocumenten samen bewezen hebben wat er is ingevuld in de PRP®-Tool voor dit onderdeel | W136: geüpload | X136: vul in het aantal MATERIALS waar er bij dit onderdeel één of meer bewijsdocumenten geüpload zijn in de PRP®-Tool | AQ136: al verklaard | AR136: Vul in het aantal MATERIALS waarbij het complete gewicht al verklaard en bewezen is bij één of twee andere categorie(ën) (zie voorbeeld*) | CE136: startgewicht (kg) | DG136: incinatar energie | DH136: =CP152*CR152 -> 0
BQ137: 50 | BR137: =E22 -> 1 | BS137: 0 | BT137: =(BS137/E22) -> 0 | BU137: =BQ137*BT137 -> 0 | BV137: 500 | BW137: 0 | BX137: =(BW137/E22) -> 0 | BY137: =BV137*BX137 -> 0 | CH137: recycle (d.m.v. 100% hernieuwbare energie) | CJ137: 0 | CM137: 0 | CP137: =CM137/CE138*100 -> 0 | CR137: 100
W138: bewezen | X138: vul in het aantal MATERIALS waar één of meer geüploade bewijsdocumenten samen bewezen hebben wat er is ingevuld in de PRP®-Tool voor dit onderdeel | AR138: *voorbeeld: | AS138: Het complete gewicht van het Material is in de PRP®-Tool ingevuld bij 'recyclen', er is hiervoor een bewijs geüpload, dit bewijs is akkoord en de inschrijver krijgt hier punten voor bij 'verificatie I'. | CE138: 1 | CT138: =DH142 -> 0 | CX138: =DJ131 -> 9 | CZ138: =Q157+Q159+AK159+AK167+AK169+AK171+BE164+BE166+BE168 -> 0 | DB138: =CZ138/CX138 -> 0 | DD138: =DB138*CT138 -> 0 | DG138: r>75 | DH138: =CP139*CR139 -> 0
AS139: Het kan zo zijn dat er dan geen (valide) bewijsdocumenten zijn geüpload bij 'downcyclen' en 'incinerate' (omdat het complete gewicht al ingevuld en bewezen is bij 'recyclen'), hierdoor zouden er bij 'verificatie I' voor de andere categorieën punten misgelopen worden. | CH139: recycle (d.m.v. > 75% hernieuwbare energie) | CJ139: 0 | CM139: 0 | CP139: =CM139/CE138*100 -> 0 | CR139: 75 | DG139: r>50 | DH139: =CP141*CR141 -> 0
AS140: In dit geval worden de andere categorieën ingevuld bij 'verificatie II' onder 'al verklaard'. | DG140: r>25 | DH140: =CP143*CR143 -> 0
AS141: Let op: als een categorie (per Material) al is ingevuld bij 'verificatie I' kan deze categorie niet nogmaals ingevuld bij 'verificatie II'. | CH141: recycle (d.m.v. > 50% hernieuwbare energie) | CJ141: 0 | CM141: 0 | CP141: =CM141/CE138*100 -> 0 | CR141: 50 | DG141: r>10 | DH141: =CP145*CR145 -> 0
DH142: =DH134+DH135+DH133+DH136 -> 0
BX143: subtotaal | BY143: =BY137+BU137 -> 0 | CH143: recycle (d.m.v. > 25% hernieuwbare energie) | CJ143: 0 | CM143: 0 | CP143: =CM143/CE138*100 -> 0 | CR143: 25
C145: RF | D145: data | W145: RF | X145: data | AF145: verificatie | AQ145: RF | AR145: data | CH145: recycle (d.m.v. > 10% hernieuwbare energie) | CJ145: 0 | CM145: 0 | CP145: =CM145/CE138*100 -> 0 | CR145: 10
F147: max punten | G147: aangemaakt | H147: ingevuld | I147: % | J147: score | Z147: max punten | AA147: aangemaakt | AB147: ingevuld | AC147: % | AD147: score | AF147: max punten | AG147: geüpload | AH147: % | AI147: score | AJ147: max punten | AK147: bewezen | AL147: % | AM147: score | AT147: max punten | AU147: aangemaakt | AV147: ingevuld | AW147: % | AX147: score | CH147: downcycle | CJ147: 0 | CM147: 0 | CP147: =CM147/CE138*100 -> 0 | CR147: 5
D148: supplier | F148: 1 | G148: =E24 -> 1 | H148: 0 | I148: =(H148/E24) -> 0 | J148: =F148*I148 -> 0 | X148: downcycled content | Z148: 2 | AA148: =E24 -> 1 | AB148: 0 | AC148: =(AB148/E24) -> 0 | AD148: =Z148*AC148 -> 0 | AR148: after first cycle
AR149: recycling | AT149: 1 | AU149: =E24 -> 1 | AV149: 0 | AW149: =(AV149/E24) -> 0 | AX149: =AT149*AW149 -> 0 | CH149: incinerate | CJ149: 0 | CM149: 0 | CP149: =CM149/CE138*100 -> 0 | CR149: -5
X150: recycled content | Z150: 2 | AA150: =E24 -> 1 | AB150: 0 | AC150: =(AB150/E24) -> 0 | AD150: =Z150*AC150 -> 0 | CH150: totaal | CJ150: =CJ137+CJ147+CJ149+CJ139+CJ141+CJ143+CJ145 -> 0 | CM150: =CM137+CM147+CM149+CM139+CM141+CM143+CM145+CN15 -> 0 | CP150: =CP137+CP147+CP149+CP139+CP141+CP143+CP145 -> 0
AR151: downcycling | AT151: 1 | AU151: =E24 -> 1 | AV151: 0 | AW151: =(AV151/E24) -> 0 | AX151: =AT151*AW151 -> 0
X152: energy use | Z152: 2 | AA152: =E24 -> 1 | AB152: 0 | AC152: =(AB152/E24) -> 0 | AD152: =Z152*AC152 -> 0 | CH152: Incinerate - gebruikt voor energieopwekking | CJ152: 0 | CM152: 0 | CP152: 0 | CR152: 4
AR153: incinerate | AT153: 1 | AU153: =E24 -> 1 | AV153: 0 | AW153: =(AV153/E24) -> 0 | AX153: =AT153*AW153 -> 0
C154: EF | D154: data | L154: verificatie | X154: energy generating | Z154: 2 | AA154: =E24 -> 1 | AB154: 0 | AC154: =(AB154/E24) -> 0 | AD154: =Z154*AC154 -> 0
F156: max punten | G156: aangemaakt | H156: ingevuld | I156: % | J156: score | L156: max punten | M156: geüpload | N156: % | O156: score | P156: max punten | Q156: bewezen | R156: % | S156: score | X156: social fairness self assessment | Z156: 2 | AA156: =E24 -> 1 | AB156: 0 | AC156: =(AB156/E24) -> 0 | AD156: =Z156*AC156 -> 0 | DB156: subtotaal | DD156: =CT138+DD138 -> 0
D157: extraction site | F157: 10 | G157: =E24 -> 1 | H157: 0 | I157: =(H157/E24) -> 0 | J157: =F157*I157 -> 0 | L157: 10 | M157: 0 | N157: =(M157/E24) -> 0 | O157: =L157*N157 -> 0 | P157: 100 | Q157: 0 | R157: =(Q157/E24) -> 0 | S157: =P157*R157 -> 0
AQ158: EF | AR158: data | AZ158: verificatie I | BI158: verificatie II
D159: supplier | L159: 10 | M159: 0 | N159: =(M159/E24) -> 0 | O159: =L159*N159 -> 0 | P159: 10 | Q159: 0 | R159: =(Q159/E24) -> 0 | S159: =P159*R159 -> 0 | X159: toxicity | Z159: 2 | AA159: =E24 -> 1 | AB159: 0 | AC159: =(AB159/E24) -> 0 | AD159: =Z159*AC159 -> 0 | AF159: 1 | AG159: 0 | AH159: =(AG159/E24) -> 0 | AI159: =AF159*AH159 -> 0 | AJ159: 1 | AK159: 0 | AL159: =(AK159/E24) -> 0 | AM159: =AJ159*AL159 -> 0
BI160: Vul in het aantal MATERIALS waarbij het complete gewicht al verklaard en bewezen is bij een andere categorie(ën).
...

Sheet ontwikkelvariant 2
F2: ONTWIKKELPARTIJ | M2: PRP® circulaire analyse van Key-element:
F5: =voorblad!E8 -> vul in | M5: ONTWIKKELVARIANT 2
F9: GEMEENTE BARNEVELD EN GEMEENTE WAGINGEN
F12: PRP® circulaire analyse | aanbesteding VERKEERSBORDEN ONTWIKKELPARTIJ
E21: vul in | P21: score | R21: max score
C22: ITEMS | E22: 1 | F22: 1 | H22: RF | J22: Required Field | N22: ITEMS | P22: =S79+AM84+BL110+DD83 -> 0 | R22: 20460
C24: MATERIALS | E24: 1 | F24: 1 | N24: MATERIALS | P24: =S162+AM175+BL171+BY143+DD156 -> 0 | R24: 22550
H25: EF | J25: Extra Field
C26: RESOURCES | E26: 1 | F26: 1 | N26: RESOURCES | P26: =S214+AM212+BL236+BY207+DD214 -> 0 | R26: 32355
H28: BO | J28: Bonus
N30: totaal | P30: =P22+P24+P26 -> 0 | R30: =R22+R24+R26 -> 75365
H31: CP | J31: Circulair Potentieel
P34: =P30 -> 0
B43: ITEMS | V43: ITEMS | AP43: ITEMS | BO43: ITEMS | CB43: ITEMS
C47: Required Fields | E47: Item | F47: Bewijs | W47: Required Fields | Y47: Item | Z47: Bewijs | AQ47: Required Fields | AS47: Item | AT47: Bewijs | BP47: N.V.T.
CC48: gewicht (kg) | CE48: vul in het gewicht dat is ingevuld bij dit onderdeel in de PRP®-Tool
C49: extraction site | E49: RF | F49: RF | W49: energy use | Y49: RF | Z49: RF | AQ49: during first cycle
C50: supplier | E50: RF | F50: RF | W50: energy generating | Y50: RF | Z50: RF | AQ50: recycling | AS50: RF | AT50: RF
W51: social fairness self assessment | Y51: RF | Z51: RF | AQ51: downcycling | AS51: RF | AT51: RF | CC51: correctie (kg) | CE51: vul in het gecorrigeerde gewicht
W52: toxicity | Y52: RF | Z52: RF | AQ52: incinerate | AS52: RF | AT52: RF
AQ53: after first cycle
AQ54: recycling | AS54: RF | AT54: RF | CC54: Incinerate - gebruikt voor energieopwekking | CE54: vul in hoeveel kg van het gewicht ingevuld bij 'incinerate' gebruikt is voor energieopwekking
AQ55: downcycling | AS55: RF | AT55: RF
AQ56: incinerate | AS56: RF | AT56: EF
C59: ingevuld | D59: vul in het aantal ITEMS waar er bij dit onderdeel in de PRP®-Tool iets is ingevuld | W59: ingevuld | X59: vul in het aantal ITEMS waar er bij dit onderdeel in de PRP®-Tool iets is ingevuld | AQ59: ingevuld | AR59: vul in het aantal ITEMS waar er bij dit onderdeel in de PRP®-Tool iets is ingevuld ('0' geldt ook als iets ingevuld) | DJ59: totaal aantal velden
CC60: CP | CD60: data | CF60: after first cycle | CW60: verificatie | DH60: aantal ITEMS | DI60: aantal velden
C61: geüpload | D61: vul in het aantal ITEMS waar er bij dit onderdeel één of meer bewijsdocumenten geüpload zijn in de PRP®-Tool | W61: geüpload | X61: vul in het aantal ITEMS waar er bij dit onderdeel één of meer bewijsdocumenten geüpload zijn in de PRP®-Tool | AQ61: geüpload | AR61: vul in het aantal ITEMS waar er bij dit onderdeel één of meer bewijsdocumenten geüpload zijn in de PRP®-Tool | DH61: =E22 -> 1 | DI61: 12 | DJ61: =DH61*DI61 -> 12
CJ62: gewicht (kg) | CM62: correctie (kg) | CP62: behoud correctie % | CR62: punten per kg | CT62: score | CX62: totaal aantal velden | CZ62: totaal aantal velden bewezen | DB62: % | DD62: bonuspunten | DH62: score
C63: bewezen | D63: vul in het aantal ITEMS waar één of meer geüploade bewijsdocumenten samen bewezen hebben wat er is ingevuld in de PRP®-Tool voor dit onderdeel | W63: bewezen | X63: vul in het aantal ITEMS waar één of meer geüploade bewijsdocumenten samen bewezen hebben wat er is ingevuld in de PRP®-Tool voor dit onderdeel | AQ63: bewezen | AR63: vul in het aantal ITEMS waar één of meer geüploade bewijsdocumenten samen bewezen hebben wat er is ingevuld in de PRP®-Tool voor dit onderdeel | CE63: startgewicht (kg) | DG63: recycle | DH63: =CP64*CR64 -> 0
CH64: recycle (d.m.v. 100% hernieuwbare energie) | CJ64: 0 | CM64: 0 | CP64: =CM64/CE65*100 -> 0 | CR64: 100 | DG64: downcycke | DH64: =CP74*CR74 -> 0
AQ65: al verklaard | AR65: Vul in het aantal ITEMS waarbij het complete gewicht al verklaard en bewezen is bij één of twee andere categorie(ën) (zie voorbeeld*) | CE65: 1 | CT65: =DH72 -> 0 | CX65: =DJ61 -> 12 | CZ65: =Q74+Q76+AK74+AK76+AK78+AK81+BE86+BE88+BE90+BE93+BE95+BE107 -> 0 | DB65: =CZ65/CX65 -> 0 | DD65: =DB65*CT65 -> 0 | DG65: incinatare | DH65: =CP76*CR76 -> 0
CH66: recycle (d.m.v. > 75% hernieuwbare energie) | CJ66: 0 | CM66: 0 | CP66: =CM66/CE65*100 -> 0 | CR66: 75 | DG66: incinatar energie | DH66: =CP79*CR79 -> 0
AQ67: geüpload | AR67: vul in het aantal ITEMS waar er bij dit onderdeel één of meer bewijsdocumenten geüpload zijn in de PRP®-Tool
CH68: recycle (d.m.v. > 50% hernieuwbare energie) | CJ68: 0 | CM68: 0 | CP68: =CM68/CE65*100 -> 0 | CR68: 50 | DG68: r>75 | DH68: =CP66*CR66 -> 0
AQ69: bewezen | AR69: vul in het aantal ITEMS waar één of meer geüploade bewijsdocumenten samen bewezen hebben wat er is ingevuld in de PRP®-Tool voor dit onderdeel | DG69: r>50 | DH69: =CP68*CR68 -> 0
CH70: recycle (d.m.v. > 25% hernieuwbare energie) | CJ70: 0 | CM70: 0 | CP70: =CM70/CE65*100 -> 0 | CR70: 25 | DG70: r>25 | DH70: =CP70*CR70 -> 0
C71: RF | D71: data | L71: verificatie | W71: RF | X71: data | AF71: verificatie | AQ71: al verklaard | AR71: Vul in het aantal ITEMS waarbij het complete gewicht al verklaard en bewezen is bij één of twee andere categorie(ën) (zie voorbeeld*) | DG71: r>10 | DH71: =CP72*CR72 -> 0
CH72: recycle (d.m.v. > 10% hernieuwbare energie) | CJ72: 0 | CM72: 0 | CP72: =CM72/CE65*100 -> 0 | CR72: 10 | DH72: =DH63+DH64+DH65+DH66+DH68+DH69+DH70+DH71 -> 0
F73: max punten | G73: aangemaakt | H73: ingevuld | I73: % | J73: score | L73: max punten | M73: geüpload | N73: % | O73: score | P73: max punten | Q73: bewezen | R73: % | S73: score | Z73: max punten | AA73: aangemaakt | AB73: ingevuld | AC73: % | AD73: score | AF73: max punten | AG73: geüpload | AH73: % | AI73: score | AJ73: max punten | AK73: bewezen | AL73: % | AM73: score | AR73: *voorbeeld: | AS73: Het complete gewicht van het Item is in de PRP®-Tool ingevuld bij 'recyclen', er is hiervoor een bewijs geüpload, dit bewijs is akkoord en de inschrijver krijgt hier punten voor bij 'verificatie I'.
D74: extraction site | F74: 1 | G74: =E22 -> 1 | H74: 0 | I74: =(H74/E22) -> 0 | J74: =F74*I74 -> 0 | L74: 1 | M74: 0 | N74: =(M74/E22) -> 0 | O74: =L74*N74 -> 0 | P74: 1 | Q74: 0 | R74: =(Q74/E22) -> 0 | S74: =P74*R74 -> 0 | X74: energy use | Z74: 1 | AA74: =E22 -> 1 | AB74: 0 | AC74: =(AB74/E22) -> 0 | AD74: =Z74*AC74 -> 0 | AF74: 10 | AG74: 0 | AH74: =(AG74/E22) -> 0 | AI74: =AF74*AH74 -> 0 | AJ74: 100 | AK74: 0 | AL74: =(AK74/E22) -> 0 | AM74: =AJ74*AL74 -> 0 | AS74: Het kan zo zijn dat er dan geen (valide) bewijsdocumenten zijn geüpload bij 'downcyclen' en 'incinerate' (omdat het complete gewicht al ingevuld en bewezen is bij 'recyclen'), hierdoor zouden er bij 'verificatie I' voor de andere categorieën punten misgelopen worden. | CH74: downcycle | CJ74: 0 | CM74: 0 | CP74: =CM74/CE65*100 -> 0 | CR74: 5
AS75: In dit geval worden de andere categorieën ingevuld bij 'verificatie II' onder 'al verklaard'.
D76: supplier | F76: 1 | G76: =E22 -> 1 | H76: 0 | I76: =(H76/E22) -> 0 | J76: =F76*I76 -> 0 | L76: 1 | M76: 0 | N76: =(M76/E22) -> 0 | O76: =L76*N76 -> 0 | P76: 1 | Q76: 0 | R76: =(Q76/E22) -> 0 | S76: =P76*R76 -> 0 | X76: energy generating | Z76: 1 | AA76: =E22 -> 1 | AB76: 0 | AC76: =(AB76/E22) -> 0 | AD76: =Z76*AC76 -> 0 | AF76: 10 | AG76: 0 | AH76: =(AG76/E22) -> 0 | AI76: =AF76*AH76 -> 0 | AJ76: 100 | AK76: 0 | AL76: =(AK76/E22) -> 0 | AM76: =AJ76*AL76 -> 0 | AS76: Let op: als een categorie (per Item) al is ingevuld bij 'verificatie I' kan deze categorie niet nogmaals ingevuld bij 'verificatie II'. | CH76: incinerate | CJ76: 0 | CM76: 0 | CP76: =CM76/CE65*100 -> 0 | CR76: -5
CH77: totaal | CJ77: =CJ64+CJ74+CJ76+CJ66+CJ68+CJ70+CJ72 -> 0 | CM77: =CM64+CM74+CM76+CM66+CM68+CM70+CM72 -> 0 | CP77: =CP64+CP74+CP76+CP66+CP68+CP70+CP72 -> 0
X78: social fairness self assessment | Z78: 1 | AA78: =E22 -> 1 | AB78: 0 | AC78: =(AB78/E22) -> 0 | AD78: =Z78*AC78 -> 0 | AF78: 1 | AG78: 0 | AH78: =(AG78/E22) -> 0 | AI78: =AF78*AH78 -> 0 | AJ78: 100 | AK78: 0 | AL78: =(AK78/E22) -> 0 | AM78: =AJ78*AL78 -> 0
R79: subtotaal | S79: =J74+J76+S74+S76+O74+O76 -> 0 | CH79: Incinerate - gebruikt voor energieopwekking | CJ79: 0 | CM79: 0 | CP79: 0 | CR79: 4
AQ80: RF | AR80: data | AZ80: verificatie I | BI80: verificatie II
X81: toxicity | Z81: 1 | AA81: =E22 -> 1 | AB81: 0 | AC81: =(AB81/E22) -> 0 | AD81: =Z81*AC81 -> 0 | AF81: 1 | AG81: 0 | AH81: =(AG81/E22) -> 0 | AI81: =AF81*AH81 -> 0 | AJ81: 100 | AK81: 0 | AL81: =(AK81/E22) -> 0 | AM81: =AJ81*AL81 -> 0
BI82: Vul in het aantal ITEMS waarbij het complete gewicht al verklaard en bewezen is bij een andere categorie(ën).
DB83: subtotaal | DD83: =CT65+DD65 -> 0
AL84: subtotaal | AM84: =AD74+AD76+AD78+AD81+AM74+AM76+AM78+AM81+AI74+AI76+AI78+AI81 -> 0 | AT84: max punten | AU84: aangemaakt | AV84: ingevuld | AW84: % | AX84: score | AZ84: max punten | BA84: geüpload | BB84: % | BC84: score | BD84: max punten | BE84: bewezen | BF84: % | BG84: score | BI84: max punten | BJ84: al verklaard | BK84: % | BL84: score
AR85: during first cycle
AR86: recycling | AT86: 1 | AU86: =E22 -> 1 | AV86: 0 | AW86: =(AV86/E22) -> 0 | AX86: =AT86*AW86 -> 0 | AZ86: 1 | BA86: 0 | BB86: =(BA86/E22) -> 0 | BC86: =AZ86*BB86 -> 0 | BD86: 1 | BE86: 0 | BF86: =(BE86/E22) -> 0 | BG86: =BD86*BF86 -> 0 | BI86: 2 | BJ86: 0 | BK86: =(BJ86/E22) -> 0 | BL86: =BI86*BK86 -> 0
AR88: downcycling | AT88: 1 | AU88: =E22 -> 1 | AV88: 0 | AW88: =(AV88/E22) -> 0 | AX88: =AT88*AW88 -> 0 | AZ88: 1 | BA88: 0 | BB88: =(BA88/E22) -> 0 | BC88: =AZ88*BB88 -> 0 | BD88: 1 | BE88: 0 | BF88: =(BE88/E22) -> 0 | BG88: =BD88*BF88 -> 0 | BI88: 2 | BJ88: 0 | BK88: =(BJ88/E22) -> 0 | BL88: =BI88*BK88 -> 0
AR90: incinerate | AT90: 1 | AU90: =E22 -> 1 | AV90: 0 | AW90: =(AV90/E22) -> 0 | AX90: =AT90*AW90 -> 0 | AZ90: 1 | BA90: 0 | BB90: =(BA90/E22) -> 0 | BC90: =AZ90*BB90 -> 0 | BD90: 1 | BE90: 0 | BF90: =(BE90/E22) -> 0 | BG90: =BD90*BF90 -> 0 | BI90: 2 | BJ90: 0 | BK90: =(BJ90/E22) -> 0 | BL90: =BI90*BK90 -> 0
AR92: after first cycle
AR93: recycling | AT93: 1 | AU93: =E22 -> 1 | AV93: 0 | AW93: =(AV93/E22) -> 0 | AX93: =AT93*AW93 -> 0 | AZ93: 1 | BA93: 0 | BB93: =(BA93/E22) -> 0 | BC93: =AZ93*BB93 -> 0 | BD93: 1 | BE93: 0 | BF93: =(BE93/E22) -> 0 | BG93: =BD93*BF93 -> 0 | BI93: 2 | BJ93: 0 | BK93: =(BJ93/E22) -> 0 | BL93: =BI93*BK93 -> 0
AR95: downcycling | AT95: 1 | AU95: =E22 -> 1 | AV95: 0 | AW95: =(AV95/E22) -> 0 | AX95: =AT95*AW95 -> 0 | AZ95: 1 | BA95: 0 | BB95: =(BA95/E22) -> 0 | BC95: =AZ95*BB95 -> 0 | BD95: 1 | BE95: 0 | BF95: =(BE95/E22) -> 0 | BG95: =BD95*BF95 -> 0 | BI95: 2 | BJ95: 0 | BK95: =(BJ95/E22) -> 0 | BL95: =BI95*BK95 -> 0
AR97: incinerate | AT97: 1 | AU97: =E22 -> 1 | AV97: 0 | AW97: =(AV97/E22) -> 0 | AX97: =AT97*AW97 -> 0
AQ102: EF | AR102: data | AZ102: verificatie I | BI102: verificatie II
BI104: Vul in het aantal ITEMS waarbij het complete gewicht al verklaard en bewezen is bij een andere categorie(ën).
AR106: after first cycle | AZ106: max punten | BA106: geüpload | BB106: % | BC106: score | BD106: max punten | BE106: bewezen | BF106: % | BG106: score | BI106: max punten | BJ106: al verklaard | BK106: % | BL106: score
AR107: incinerate | AZ107: 1 | BA107: 0 | BB107: =(BA107/E22) -> 0 | BC107: =AZ107*BB107 -> 0 | BD107: 1 | BE107: 0 | BF107: =(BE107/E22) -> 0 | BG107: =BD107*BF107 -> 0 | BI107: 2 | BJ107: 0 | BK107: =(BJ107/E22) -> 0 | BL107: =BI107*BK107 -> 0
BK110: subtotaal | BL110: =AX86+AX88+AX90+AX93+AX95+AX97+BG86+BG88+BG90+BG93+BG95+BG107+BC86+BC88+BC90+BC93+BC95+BC107+BL86+BL88+BL90+BL93+BL95+BL107 -> 0
B116: MATERIALS | V116: MATERIALS | AP116: MATERIALS | BO116: MATERIALS | CB116: MATERIALS
C120: Required Fields | E120: Material | F120: Bewijs | W120: Required Fields | Y120: Material | Z120: Bewijs | AQ120: Required Fields | AS120: Material | AT120: Bewijs | BP120: Is er een bewijs document geüpload dat bewijst dat de aangemaakte MATERIALS de complete set MATRIALS zijn die samen het ITEM vormen?
CC121: gewicht (kg) | CE121: vul in het gewicht dat is ingevuld bij dit onderdeel in de PRP®-Tool
C122: extraction site | E122: EF | F122: EF | W122: downcycled content | Y122: RF | AQ122: after first cycle
C123: supplier | E123: RF | F123: EF | W123: recycled content | Y123: RF | AQ123: recycling | AS123: RF | AT123: EF
W124: energy use | Y124: RF | Z124: EF | AQ124: downcycling | AS124: RF | AT124: EF | BP124: geüpload | BQ124: vul in het aantal ITEMS waar één of meer bewijsdocumenten geüpload zijn in de PRP®-Tool voor dit onderdeel | CC124: correctie (kg) | CE124: vul in het gecorrigeerde gewicht
W125: energy generating | Y125: RF | Z125: EF | AQ125: incinerate | AS125: RF | AT125: EF
W126: social fairness self assessment | Y126: RF | Z126: EF
W127: toxicity | Y127: RF | Z127: RF | BP127: bewezen | BQ127: vul in het aantal ITEMS waar één of meer geüploade bewijsdocumenten samen bewezen hebben dat de MATERIAL-keten compleet is | CC127: Incinerate - gebruikt voor energieopwekking | CE127: vul in hoeveel kg van het gewicht ingevuld bij 'incinerate' gebruikt is voor energieopwekking
DJ129: totaal aantal velden
C130: ingevuld | D130: vul in het aantal MATERIALS waar er bij dit onderdeel in de PRP®-Tool iets is ingevuld | W130: ingevuld | X130: vul in het aantal MATERIALS waar er bij dit onderdeel in de PRP®-Tool iets is ingevuld | AQ130: ingevuld | AR130: vul in het aantal MATERIALS waar er bij dit onderdeel in de PRP®-Tool iets is ingevuld | DH130: aantal ITEMS | DI130: aantal velden
DH131: =E24 -> 1 | DI131: 9 | DJ131: =DH131*DI131 -> 9
C132: ingevuld | D132: vul in het aantal MATERIALS waar er bij dit onderdeel in de PRP®-Tool iets is ingevuld | W132: geüpload | X132: vul in het aantal MATERIALS waar er bij dit onderdeel één of meer bewijsdocumenten geüpload zijn in de PRP®-Tool | AQ132: geüpload | AR132: vul in het aantal MATERIALS waar er bij dit onderdeel één of meer bewijsdocumenten geüpload zijn in de PRP®-Tool | DH132: score
BP133: B | BQ133: verificatie | CC133: CP | CD133: data | CF133: after first cycle | CW133: verificatie | DG133: recycle | DH133: =CP137*CR137 -> 0
C134: geüpload | D134: vul in het aantal MATERIALS waar er bij dit onderdeel één of meer bewijsdocumenten geüpload zijn in de PRP®-Tool | W134: bewezen | X134: vul in het aantal MATERIALS waar één of meer geüploade bewijsdocumenten samen bewezen hebben wat er is ingevuld in de PRP®-Tool voor dit onderdeel | AQ134: bewezen | AR134: vul in het aantal MATERIALS waar één of meer geüploade bewijsdocumenten samen bewezen hebben wat er is ingevuld in de PRP®-Tool voor dit onderdeel | DG134: downcycke | DH134: =CP147*CR147 -> 0
BQ135: punten | BR135: aantal ITEMS | BS135: geüpload | BT135: % | BU135: score | BV135: punten | BW135: bewezen | BX135: % | BY135: score | CJ135: gewicht (kg) | CM135: correctie (kg) | CP135: behoud correctie % | CR135: punten per kg | CT135: score | CX135: totaal aantal velden | CZ135: totaal aantal velden bewezen | DB135: % | DD135: bonuspunten | DG135: incinatare | DH135: =CP149*CR149 -> 0
C136: bewezen | D136: vul in het aantal MATERIALS waar één of meer geüploade bewijsdocumenten samen bewezen hebben wat er is ingevuld in de PRP®-Tool voor dit onderdeel | W136: geüpload | X136: vul in het aantal MATERIALS waar er bij dit onderdeel één of meer bewijsdocumenten geüpload zijn in de PRP®-Tool | AQ136: al verklaard | AR136: Vul in het aantal MATERIALS waarbij het complete gewicht al verklaard en bewezen is bij één of twee andere categorie(ën) (zie voorbeeld*) | CE136: startgewicht (kg) | DG136: incinatar energie | DH136: =CP152*CR152 -> 0
BQ137: 50 | BR137: =E22 -> 1 | BS137: 0 | BT137: =(BS137/E22) -> 0 | BU137: =BQ137*BT137 -> 0 | BV137: 500 | BW137: 0 | BX137: =(BW137/E22) -> 0 | BY137: =BV137*BX137 -> 0 | CH137: recycle (d.m.v. 100% hernieuwbare energie) | CJ137: 0 | CM137: 0 | CP137: =CM137/CE138*100 -> 0 | CR137: 100
W138: bewezen | X138: vul in het aantal MATERIALS waar één of meer geüploade bewijsdocumenten samen bewezen hebben wat er is ingevuld in de PRP®-Tool voor dit onderdeel | AR138: *voorbeeld: | AS138: Het complete gewicht van het Material is in de PRP®-Tool ingevuld bij 'recyclen', er is hiervoor een bewijs geüpload, dit bewijs is akkoord en de inschrijver krijgt hier punten voor bij 'verificatie I'. | CE138: 1 | CT138: =DH142 -> 0 | CX138: =DJ131 -> 9 | CZ138: =Q157+Q159+AK159+AK167+AK169+AK171+BE164+BE166+BE168 -> 0 | DB138: =CZ138/CX138 -> 0 | DD138: =DB138*CT138 -> 0 | DG138: r>75 | DH138: =CP139*CR139 -> 0
AS139: Het kan zo zijn dat er dan geen (valide) bewijsdocumenten zijn geüpload bij 'downcyclen' en 'incinerate' (omdat het complete gewicht al ingevuld en bewezen is bij 'recyclen'), hierdoor zouden er bij 'verificatie I' voor de andere categorieën punten misgelopen worden. | CH139: recycle (d.m.v. > 75% hernieuwbare energie) | CJ139: 0 | CM139: 0 | CP139: =CM139/CE138*100 -> 0 | CR139: 75 | DG139: r>50 | DH139: =CP141*CR141 -> 0
AS140: In dit geval worden de andere categorieën ingevuld bij 'verificatie II' onder 'al verklaard'. | DG140: r>25 | DH140: =CP143*CR143 -> 0
AS141: Let op: als een categorie (per Material) al is ingevuld bij 'verificatie I' kan deze categorie niet nogmaals ingevuld bij 'verificatie II'. | CH141: recycle (d.m.v. > 50% hernieuwbare energie) | CJ141: 0 | CM141: 0 | CP141: =CM141/CE138*100 -> 0 | CR141: 50 | DG141: r>10 | DH141: =CP145*CR145 -> 0
DH142: =DH134+DH135+DH133+DH136 -> 0
BX143: subtotaal | BY143: =BY137+BU137 -> 0 | CH143: recycle (d.m.v. > 25% hernieuwbare energie) | CJ143: 0 | CM143: 0 | CP143: =CM143/CE138*100 -> 0 | CR143: 25
C145: RF | D145: data | W145: RF | X145: data | AF145: verificatie | AQ145: RF | AR145: data | CH145: recycle (d.m.v. > 10% hernieuwbare energie) | CJ145: 0 | CM145: 0 | CP145: =CM145/CE138*100 -> 0 | CR145: 10
F147: max punten | G147: aangemaakt | H147: ingevuld | I147: % | J147: score | Z147: max punten | AA147: aangemaakt | AB147: ingevuld | AC147: % | AD147: score | AF147: max punten | AG147: geüpload | AH147: % | AI147: score | AJ147: max punten | AK147: bewezen | AL147: % | AM147: score | AT147: max punten | AU147: aangemaakt | AV147: ingevuld | AW147: % | AX147: score | CH147: downcycle | CJ147: 0 | CM147: 0 | CP147: =CM147/CE138*100 -> 0 | CR147: 5
D148: supplier | F148: 1 | G148: =E24 -> 1 | H148: 0 | I148: =(H148/E24) -> 0 | J148: =F148*I148 -> 0 | X148: downcycled content | Z148: 2 | AA148: =E24 -> 1 | AB148: 0 | AC148: =(AB148/E24) -> 0 | AD148: =Z148*AC148 -> 0 | AR148: after first cycle
AR149: recycling | AT149: 1 | AU149: =E24 -> 1 | AV149: 0 | AW149: =(AV149/E24) -> 0 | AX149: =AT149*AW149 -> 0 | CH149: incinerate | CJ149: 0 | CM149: 0 | CP149: =CM149/CE138*100 -> 0 | CR149: -5
X150: recycled content | Z150: 2 | AA150: =E24 -> 1 | AB150: 0 | AC150: =(AB150/E24) -> 0 | AD150: =Z150*AC150 -> 0 | CH150: totaal | CJ150: =CJ137+CJ147+CJ149+CJ139+CJ141+CJ143+CJ145 -> 0 | CM150: =CM137+CM147+CM149+CM139+CM141+CM143+CM145+CN15 -> 0 | CP150: =CP137+CP147+CP149+CP139+CP141+CP143+CP145 -> 0
AR151: downcycling | AT151: 1 | AU151: =E24 -> 1 | AV151: 0 | AW151: =(AV151/E24) -> 0 | AX151: =AT151*AW151 -> 0
X152: energy use | Z152: 2 | AA152: =E24 -> 1 | AB152: 0 | AC152: =(AB152/E24) -> 0 | AD152: =Z152*AC152 -> 0 | CH152: Incinerate - gebruikt voor energieopwekking | CJ152: 0 | CM152: 0 | CP152: 0 | CR152: 4
AR153: incinerate | AT153: 1 | AU153: =E24 -> 1 | AV153: 0 | AW153: =(AV153/E24) -> 0 | AX153: =AT153*AW153 -> 0
C154: EF | D154: data | L154: verificatie | X154: energy generating | Z154: 2 | AA154: =E24 -> 1 | AB154: 0 | AC154: =(AB154/E24) -> 0 | AD154: =Z154*AC154 -> 0
F156: max punten | G156: aangemaakt | H156: ingevuld | I156: % | J156: score | L156: max punten | M156: geüpload | N156: % | O156: score | P156: max punten | Q156: bewezen | R156: % | S156: score | X156: social fairness self assessment | Z156: 2 | AA156: =E24 -> 1 | AB156: 0 | AC156: =(AB156/E24) -> 0 | AD156: =Z156*AC156 -> 0 | DB156: subtotaal | DD156: =CT138+DD138 -> 0
D157: extraction site | F157: 10 | G157: =E24 -> 1 | H157: 0 | I157: =(H157/E24) -> 0 | J157: =F157*I157 -> 0 | L157: 10 | M157: 0 | N157: =(M157/E24) -> 0 | O157: =L157*N157 -> 0 | P157: 100 | Q157: 0 | R157: =(Q157/E24) -> 0 | S157: =P157*R157 -> 0
AQ158: EF | AR158: data | AZ158: verificatie I | BI158: verificatie II
D159: supplier | L159: 10 | M159: 0 | N159: =(M159/E24) -> 0 | O159: =L159*N159 -> 0 | P159: 10 | Q159: 0 | R159: =(Q159/E24) -> 0 | S159: =P159*R159 -> 0 | X159: toxicity | Z159: 2 | AA159: =E24 -> 1 | AB159: 0 | AC159: =(AB159/E24) -> 0 | AD159: =Z159*AC159 -> 0 | AF159: 1 | AG159: 0 | AH159: =(AG159/E24) -> 0 | AI159: =AF159*AH159 -> 0 | AJ159: 1 | AK159: 0 | AL159: =(AK159/E24) -> 0 | AM159: =AJ159*AL159 -> 0
...

Sheet ontwikkelvariant 3
F2: ONTWIKKELPARTIJ | M2: PRP® circulaire analyse van Key-element:
F5: =voorblad!E8 -> vul in | M5: ONTWIKKEL VARIANT 3
F9: GEMEENTE BARNEVELD EN GEMEENTE WAGINGEN
F12: PRP® circulaire analyse | aanbesteding VERKEERSBORDEN ONTWIKKELPARTIJ
E21: vul in | P21: score | R21: max score
C22: ITEMS | E22: 1 | F22: 1 | H22: RF | J22: Required Field | N22: ITEMS | P22: =S79+AM84+BL110+DD83 -> 0 | R22: 20460
C24: MATERIALS | E24: 1 | F24: 1 | N24: MATERIALS | P24: =S162+AM175+BL171+BY143+DD156 -> 0 | R24: 22550
H25: EF | J25: Extra Field
C26: RESOURCES | E26: 1 | F26: 1 | N26: RESOURCES | P26: =S214+AM212+BL236+BY207+DD214 -> 0 | R26: 32355
H28: BO | J28: Bonus
N30: totaal | P30: =P22+P24+P26 -> 0 | R30: =R22+R24+R26 -> 75365
H31: CP | J31: Circulair Potentieel
P34: =P30 -> 0
B43: ITEMS | V43: ITEMS | AP43: ITEMS | BO43: ITEMS | CB43: ITEMS
C47: Required Fields | E47: Item | F47: Bewijs | W47: Required Fields | Y47: Item | Z47: Bewijs | AQ47: Required Fields | AS47: Item | AT47: Bewijs | BP47: N.V.T.
CC48: gewicht (kg) | CE48: vul in het gewicht dat is ingevuld bij dit onderdeel in de PRP®-Tool
C49: extraction site | E49: RF | F49: RF | W49: energy use | Y49: RF | Z49: RF | AQ49: during first cycle
C50: supplier | E50: RF | F50: RF | W50: energy generating | Y50: RF | Z50: RF | AQ50: recycling | AS50: RF | AT50: RF
W51: social fairness self assessment | Y51: RF | Z51: RF | AQ51: downcycling | AS51: RF | AT51: RF | CC51: correctie (kg) | CE51: vul in het gecorrigeerde gewicht
W52: toxicity | Y52: RF | Z52: RF | AQ52: incinerate | AS52: RF | AT52: RF
AQ53: after first cycle
AQ54: recycling | AS54: RF | AT54: RF | CC54: Incinerate - gebruikt voor energieopwekking | CE54: vul in hoeveel kg van het gewicht ingevuld bij 'incinerate' gebruikt is voor energieopwekking
AQ55: downcycling | AS55: RF | AT55: RF
AQ56: incinerate | AS56: RF | AT56: EF
C59: ingevuld | D59: vul in het aantal ITEMS waar er bij dit onderdeel in de PRP®-Tool iets is ingevuld | W59: ingevuld | X59: vul in het aantal ITEMS waar er bij dit onderdeel in de PRP®-Tool iets is ingevuld | AQ59: ingevuld | AR59: vul in het aantal ITEMS waar er bij dit onderdeel in de PRP®-Tool iets is ingevuld ('0' geldt ook als iets ingevuld) | DJ59: totaal aantal velden
CC60: CP | CD60: data | CF60: after first cycle | CW60: verificatie | DH60: aantal ITEMS | DI60: aantal velden
C61: geüpload | D61: vul in het aantal ITEMS waar er bij dit onderdeel één of meer bewijsdocumenten geüpload zijn in de PRP®-Tool | W61: geüpload | X61: vul in het aantal ITEMS waar er bij dit onderdeel één of meer bewijsdocumenten geüpload zijn in de PRP®-Tool | AQ61: geüpload | AR61: vul in het aantal ITEMS waar er bij dit onderdeel één of meer bewijsdocumenten geüpload zijn in de PRP®-Tool | DH61: =E22 -> 1 | DI61: 12 | DJ61: =DH61*DI61 -> 12
CJ62: gewicht (kg) | CM62: correctie (kg) | CP62: behoud correctie % | CR62: punten per kg | CT62: score | CX62: totaal aantal velden | CZ62: totaal aantal velden bewezen | DB62: % | DD62: bonuspunten | DH62: score
C63: bewezen | D63: vul in het aantal ITEMS waar één of meer geüploade bewijsdocumenten samen bewezen hebben wat er is ingevuld in de PRP®-Tool voor dit onderdeel | W63: bewezen | X63: vul in het aantal ITEMS waar één of meer geüploade bewijsdocumenten samen bewezen hebben wat er is ingevuld in de PRP®-Tool voor dit onderdeel | AQ63: bewezen | AR63: vul in het aantal ITEMS waar één of meer geüploade bewijsdocumenten samen bewezen hebben wat er is ingevuld in de PRP®-Tool voor dit onderdeel | CE63: startgewicht (kg) | DG63: recycle | DH63: =CP64*CR64 -> 0
CH64: recycle (d.m.v. 100% hernieuwbare energie) | CJ64: 0 | CM64: 0 | CP64: =CM64/CE65*100 -> 0 | CR64: 100 | DG64: downcycke | DH64: =CP74*CR74 -> 0
AQ65: al verklaard | AR65: Vul in het aantal ITEMS waarbij het complete gewicht al verklaard en bewezen is bij één of twee andere categorie(ën) (zie voorbeeld*) | CE65: 1 | CT65: =DH72 -> 0 | CX65: =DJ61 -> 12 | CZ65: =Q74+Q76+AK74+AK76+AK78+AK81+BE86+BE88+BE90+BE93+BE95+BE107 -> 0 | DB65: =CZ65/CX65 -> 0 | DD65: =DB65*CT65 -> 0 | DG65: incinatare | DH65: =CP76*CR76 -> 0
CH66: recycle (d.m.v. > 75% hernieuwbare energie) | CJ66: 0 | CM66: 0 | CP66: =CM66/CE65*100 -> 0 | CR66: 75 | DG66: incinatar energie | DH66: =CP79*CR79 -> 0
AQ67: geüpload | AR67: vul in het aantal ITEMS waar er bij dit onderdeel één of meer bewijsdocumenten geüpload zijn in de PRP®-Tool
CH68: recycle (d.m.v. > 50% hernieuwbare energie) | CJ68: 0 | CM68: 0 | CP68: =CM68/CE65*100 -> 0 | CR68: 50 | DG68: r>75 | DH68: =CP66*CR66 -> 0
AQ69: bewezen | AR69: vul in het aantal ITEMS waar één of meer geüploade bewijsdocumenten samen bewezen hebben wat er is ingevuld in de PRP®-Tool voor dit onderdeel | DG69: r>50 | DH69: =CP68*CR68 -> 0
CH70: recycle (d.m.v. > 25% hernieuwbare energie) | CJ70: 0 | CM70: 0 | CP70: =CM70/CE65*100 -> 0 | CR70: 25 | DG70: r>25 | DH70: =CP70*CR70 -> 0
C71: RF | D71: data | L71: verificatie | W71: RF | X71: data | AF71: verificatie | AQ71: al verklaard | AR71: Vul in het aantal ITEMS waarbij het complete gewicht al verklaard en bewezen is bij één of twee andere categorie(ën) (zie voorbeeld*) | DG71: r>10 | DH71: =CP72*CR72 -> 0
CH72: recycle (d.m.v. > 10% hernieuwbare energie) | CJ72: 0 | CM72: 0 | CP72: =CM72/CE65*100 -> 0 | CR72: 10 | DH72: =DH63+DH64+DH65+DH66+DH68+DH69+DH70+DH71 -> 0
F73: max punten | G73: aangemaakt | H73: ingevuld | I73: % | J73: score | L73: max punten | M73: geüpload | N73: % | O73: score | P73: max punten | Q73: bewezen | R73: % | S73: score | Z73: max punten | AA73: aangemaakt | AB73: ingevuld | AC73: % | AD73: score | AF73: max punten | AG73: geüpload | AH73: % | AI73: score | AJ73: max punten | AK73: bewezen | AL73: % | AM73: score | AR73: *voorbeeld: | AS73: Het complete gewicht van het Item is in de PRP®-Tool ingevuld bij 'recyclen', er is hiervoor een bewijs geüpload, dit bewijs is akkoord en de inschrijver krijgt hier punten voor bij 'verificatie I'.
D74: extraction site | F74: 1 | G74: =E22 -> 1 | H74: 0 | I74: =(H74/E22) -> 0 | J74: =F74*I74 -> 0 | L74: 1 | M74: 0 | N74: =(M74/E22) -> 0 | O74: =L74*N74 -> 0 | P74: 1 | Q74: 0 | R74: =(Q74/E22) -> 0 | S74: =P74*R74 -> 0 | X74: energy use | Z74: 1 | AA74: =E22 -> 1 | AB74: 0 | AC74: =(AB74/E22) -> 0 | AD74: =Z74*AC74 -> 0 | AF74: 10 | AG74: 0 | AH74: =(AG74/E22) -> 0 | AI74: =AF74*AH74 -> 0 | AJ74: 100 | AK74: 0 | AL74: =(AK74/E22) -> 0 | AM74: =AJ74*AL74 -> 0 | AS74: Het kan zo zijn dat er dan geen (valide) bewijsdocumenten zijn geüpload bij 'downcyclen' en 'incinerate' (omdat het complete gewicht al ingevuld en bewezen is bij 'recyclen'), hierdoor zouden er bij 'verificatie I' voor de andere categorieën punten misgelopen worden. | CH74: downcycle | CJ74: 0 | CM74: 0 | CP74: =CM74/CE65*100 -> 0 | CR74: 5
AS75: In dit geval worden de andere categorieën ingevuld bij 'verificatie II' onder 'al verklaard'.
D76: supplier | F76: 1 | G76: =E22 -> 1 | H76: 0 | I76: =(H76/E22) -> 0 | J76: =F76*I76 -> 0 | L76: 1 | M76: 0 | N76: =(M76/E22) -> 0 | O76: =L76*N76 -> 0 | P76: 1 | Q76: 0 | R76: =(Q76/E22) -> 0 | S76: =P76*R76 -> 0 | X76: energy generating | Z76: 1 | AA76: =E22 -> 1 | AB76: 0 | AC76: =(AB76/E22) -> 0 | AD76: =Z76*AC76 -> 0 | AF76: 10 | AG76: 0 | AH76: =(AG76/E22) -> 0 | AI76: =AF76*AH76 -> 0 | AJ76: 100 | AK76: 0 | AL76: =(AK76/E22) -> 0 | AM76: =AJ76*AL76 -> 0 | AS76: Let op: als een categorie (per Item) al is ingevuld bij 'verificatie I' kan deze categorie niet nogmaals ingevuld bij 'verificatie II'. | CH76: incinerate | CJ76: 0 | CM76: 0 | CP76: =CM76/CE65*100 -> 0 | CR76: -5
CH77: totaal | CJ77: =CJ64+CJ74+CJ76+CJ66+CJ68+CJ70+CJ72 -> 0 | CM77: =CM64+CM74+CM76+CM66+CM68+CM70+CM72 -> 0 | CP77: =CP64+CP74+CP76+CP66+CP68+CP70+CP72 -> 0
X78: social fairness self assessment | Z78: 1 | AA78: =E22 -> 1 | AB78: 0 | AC78: =(AB78/E22) -> 0 | AD78: =Z78*AC78 -> 0 | AF78: 1 | AG78: 0 | AH78: =(AG78/E22) -> 0 | AI78: =AF78*AH78 -> 0 | AJ78: 100 | AK78: 0 | AL78: =(AK78/E22) -> 0 | AM78: =AJ78*AL78 -> 0
R79: subtotaal | S79: =J74+J76+S74+S76+O74+O76 -> 0 | CH79: Incinerate - gebruikt voor energieopwekking | CJ79: 0 | CM79: 0 | CP79: 0 | CR79: 4
AQ80: RF | AR80: data | AZ80: verificatie I | BI80: verificatie II
X81: toxicity | Z81: 1 | AA81: =E22 -> 1 | AB81: 0 | AC81: =(AB81/E22) -> 0 | AD81: =Z81*AC81 -> 0 | AF81: 1 | AG81: 0 | AH81: =(AG81/E22) -> 0 | AI81: =AF81*AH81 -> 0 | AJ81: 100 | AK81: 0 | AL81: =(AK81/E22) -> 0 | AM81: =AJ81*AL81 -> 0
BI82: Vul in het aantal ITEMS waarbij het complete gewicht al verklaard en bewezen is bij een andere categorie(ën).
DB83: subtotaal | DD83: =CT65+DD65 -> 0
AL84: subtotaal | AM84: =AD74+AD76+AD78+AD81+AM74+AM76+AM78+AM81+AI74+AI76+AI78+AI81 -> 0 | AT84: max punten | AU84: aangemaakt | AV84: ingevuld | AW84: % | AX84: score | AZ84: max punten | BA84: geüpload | BB84: % | BC84: score | BD84: max punten | BE84: bewezen | BF84: % | BG84: score | BI84: max punten | BJ84: al verklaard | BK84: % | BL84: score
AR85: during first cycle
AR86: recycling | AT86: 1 | AU86: =E22 -> 1 | AV86: 0 | AW86: =(AV86/E22) -> 0 | AX86: =AT86*AW86 -> 0 | AZ86: 1 | BA86: 0 | BB86: =(BA86/E22) -> 0 | BC86: =AZ86*BB86 -> 0 | BD86: 1 | BE86: 0 | BF86: =(BE86/E22) -> 0 | BG86: =BD86*BF86 -> 0 | BI86: 2 | BJ86: 0 | BK86: =(BJ86/E22) -> 0 | BL86: =BI86*BK86 -> 0
AR88: downcycling | AT88: 1 | AU88: =E22 -> 1 | AV88: 0 | AW88: =(AV88/E22) -> 0 | AX88: =AT88*AW88 -> 0 | AZ88: 1 | BA88: 0 | BB88: =(BA88/E22) -> 0 | BC88: =AZ88*BB88 -> 0 | BD88: 1 | BE88: 0 | BF88: =(BE88/E22) -> 0 | BG88: =BD88*BF88 -> 0 | BI88: 2 | BJ88: 0 | BK88: =(BJ88/E22) -> 0 | BL88: =BI88*BK88 -> 0
AR90: incinerate | AT90: 1 | AU90: =E22 -> 1 | AV90: 0 | AW90: =(AV90/E22) -> 0 | AX90: =AT90*AW90 -> 0 | AZ90: 1 | BA90: 0 | BB90: =(BA90/E22) -> 0 | BC90: =AZ90*BB90 -> 0 | BD90: 1 | BE90: 0 | BF90: =(BE90/E22) -> 0 | BG90: =BD90*BF90 -> 0 | BI90: 2 | BJ90: 0 | BK90: =(BJ90/E22) -> 0 | BL90: =BI90*BK90 -> 0
AR92: after first cycle
AR93: recycling | AT93: 1 | AU93: =E22 -> 1 | AV93: 0 | AW93: =(AV93/E22) -> 0 | AX93: =AT93*AW93 -> 0 | AZ93: 1 | BA93: 0 | BB93: =(BA93/E22) -> 0 | BC93: =AZ93*BB93 -> 0 | BD93: 1 | BE93: 0 | BF93: =(BE93/E22) -> 0 | BG93: =BD93*BF93 -> 0 | BI93: 2 | BJ93: 0 | BK93: =(BJ93/E22) -> 0 | BL93: =BI93*BK93 -> 0
AR95: downcycling | AT95: 1 | AU95: =E22 -> 1 | AV95: 0 | AW95: =(AV95/E22) -> 0 | AX95: =AT95*AW95 -> 0 | AZ95: 1 | BA95: 0 | BB95: =(BA95/E22) -> 0 | BC95: =AZ95*BB95 -> 0 | BD95: 1 | BE95: 0 | BF95: =(BE95/E22) -> 0 | BG95: =BD95*BF95 -> 0 | BI95: 2 | BJ95: 0 | BK95: =(BJ95/E22) -> 0 | BL95: =BI95*BK95 -> 0
AR97: incinerate | AT97: 1 | AU97: =E22 -> 1 | AV97: 0 | AW97: =(AV97/E22) -> 0 | AX97: =AT97*AW97 -> 0
AQ102: EF | AR102: data | AZ102: verificatie I | BI102: verificatie II
BI104: Vul in het aantal ITEMS waarbij het complete gewicht al verklaard en bewezen is bij een andere categorie(ën).
AR106: after first cycle | AZ106: max punten | BA106: geüpload | BB106: % | BC106: score | BD106: max punten | BE106: bewezen | BF106: % | BG106: score | BI106: max punten | BJ106: al verklaard | BK106: % | BL106: score
AR107: incinerate | AZ107: 1 | BA107: 0 | BB107: =(BA107/E22) -> 0 | BC107: =AZ107*BB107 -> 0 | BD107: 1 | BE107: 0 | BF107: =(BE107/E22) -> 0 | BG107: =BD107*BF107 -> 0 | BI107: 2 | BJ107: 0 | BK107: =(BJ107/E22) -> 0 | BL107: =BI107*BK107 -> 0
BK110: subtotaal | BL110: =AX86+AX88+AX90+AX93+AX95+AX97+BG86+BG88+BG90+BG93+BG95+BG107+BC86+BC88+BC90+BC93+BC95+BC107+BL86+BL88+BL90+BL93+BL95+BL107 -> 0
B116: MATERIALS | V116: MATERIALS | AP116: MATERIALS | BO116: MATERIALS | CB116: MATERIALS
C120: Required Fields | E120: Material | F120: Bewijs | W120: Required Fields | Y120: Material | Z120: Bewijs | AQ120: Required Fields | AS120: Material | AT120: Bewijs | BP120: Is er een bewijs document geüpload dat bewijst dat de aangemaakte MATERIALS de complete set MATRIALS zijn die samen het ITEM vormen?
CC121: gewicht (kg) | CE121: vul in het gewicht dat is ingevuld bij dit onderdeel in de PRP®-Tool
C122: extraction site | E122: EF | F122: EF | W122: downcycled content | Y122: RF | AQ122: after first cycle
C123: supplier | E123: RF | F123: EF | W123: recycled content | Y123: RF | AQ123: recycling | AS123: RF | AT123: EF
W124: energy use | Y124: RF | Z124: EF | AQ124: downcycling | AS124: RF | AT124: EF | BP124: geüpload | BQ124: vul in het aantal ITEMS waar één of meer bewijsdocumenten geüpload zijn in de PRP®-Tool voor dit onderdeel | CC124: correctie (kg) | CE124: vul in het gecorrigeerde gewicht
W125: energy generating | Y125: RF | Z125: EF | AQ125: incinerate | AS125: RF | AT125: EF
W126: social fairness self assessment | Y126: RF | Z126: EF
W127: toxicity | Y127: RF | Z127: RF | BP127: bewezen | BQ127: vul in het aantal ITEMS waar één of meer geüploade bewijsdocumenten samen bewezen hebben dat de MATERIAL-keten compleet is | CC127: Incinerate - gebruikt voor energieopwekking | CE127: vul in hoeveel kg van het gewicht ingevuld bij 'incinerate' gebruikt is voor energieopwekking
DJ129: totaal aantal velden
C130: ingevuld | D130: vul in het aantal MATERIALS waar er bij dit onderdeel in de PRP®-Tool iets is ingevuld | W130: ingevuld | X130: vul in het aantal MATERIALS waar er bij dit onderdeel in de PRP®-Tool iets is ingevuld | AQ130: ingevuld | AR130: vul in het aantal MATERIALS waar er bij dit onderdeel in de PRP®-Tool iets is ingevuld | DH130: aantal ITEMS | DI130: aantal velden
DH131: =E24 -> 1 | DI131: 9 | DJ131: =DH131*DI131 -> 9
C132: ingevuld | D132: vul in het aantal MATERIALS waar er bij dit onderdeel in de PRP®-Tool iets is ingevuld | W132: geüpload | X132: vul in het aantal MATERIALS waar er bij dit onderdeel één of meer bewijsdocumenten geüpload zijn in de PRP®-Tool | AQ132: geüpload | AR132: vul in het aantal MATERIALS waar er bij dit onderdeel één of meer bewijsdocumenten geüpload zijn in de PRP®-Tool | DH132: score
BP133: B | BQ133: verificatie | CC133: CP | CD133: data | CF133: after first cycle | CW133: verificatie | DG133: recycle | DH133: =CP137*CR137 -> 0
C134: geüpload | D134: vul in het aantal MATERIALS waar er bij dit onderdeel één of meer bewijsdocumenten geüpload zijn in de PRP®-Tool | W134: bewezen | X134: vul in het aantal MATERIALS waar één of meer geüploade bewijsdocumenten samen bewezen hebben wat er is ingevuld in de PRP®-Tool voor dit onderdeel | AQ134: bewezen | AR134: vul in het aantal MATERIALS waar één of meer geüploade bewijsdocumenten samen bewezen hebben wat er is ingevuld in de PRP®-Tool voor dit onderdeel | DG134: downcycke | DH134: =CP147*CR147 -> 0
BQ135: punten | BR135: aantal ITEMS | BS135: geüpload | BT135: % | BU135: score | BV135: punten | BW135: bewezen | BX135: % | BY135: score | CJ135: gewicht (kg) | CM135: correctie (kg) | CP135: behoud correctie % | CR135: punten per kg | CT135: score | CX135: totaal aantal velden | CZ135: totaal aantal velden bewezen | DB135: % | DD135: bonuspunten | DG135: incinatare | DH135: =CP149*CR149 -> 0
C136: bewezen | D136: vul in het aantal MATERIALS waar één of meer geüploade bewijsdocumenten samen bewezen hebben wat er is ingevuld in de PRP®-Tool voor dit onderdeel | W136: geüpload | X136: vul in het aantal MATERIALS waar er bij dit onderdeel één of meer bewijsdocumenten geüpload zijn in de PRP®-Tool | AQ136: al verklaard | AR136: Vul in het aantal MATERIALS waarbij het complete gewicht al verklaard en bewezen is bij één of twee andere categorie(ën) (zie voorbeeld*) | CE136: startgewicht (kg) | DG136: incinatar energie | DH136: =CP152*CR152 -> 0
BQ137: 50 | BR137: =E22 -> 1 | BS137: 0 | BT137: =(BS137/E22) -> 0 | BU137: =BQ137*BT137 -> 0 | BV137: 500 | BW137: 0 | BX137: =(BW137/E22) -> 0 | BY137: =BV137*BX137 -> 0 | CH137: recycle (d.m.v. 100% hernieuwbare energie) | CJ137: 0 | CM137: 0 | CP137: =CM137/CE138*100 -> 0 | CR137: 100
W138: bewezen | X138: vul in het aantal MATERIALS waar één of meer geüploade bewijsdocumenten samen bewezen hebben wat er is ingevuld in de PRP®-Tool voor dit onderdeel | AR138: *voorbeeld: | AS138: Het complete gewicht van het Material is in de PRP®-Tool ingevuld bij 'recyclen', er is hiervoor een bewijs geüpload, dit bewijs is akkoord en de inschrijver krijgt hier punten voor bij 'verificatie I'. | CE138: 1 | CT138: =DH142 -> 0 | CX138: =DJ131 -> 9 | CZ138: =Q157+Q159+AK159+AK167+AK169+AK171+BE164+BE166+BE168 -> 0 | DB138: =CZ138/CX138 -> 0 | DD138: =DB138*CT138 -> 0 | DG138: r>75 | DH138: =CP139*CR139 -> 0
AS139: Het kan zo zijn dat er dan geen (valide) bewijsdocumenten zijn geüpload bij 'downcyclen' en 'incinerate' (omdat het complete gewicht al ingevuld en bewezen is bij 'recyclen'), hierdoor zouden er bij 'verificatie I' voor de andere categorieën punten misgelopen worden. | CH139: recycle (d.m.v. > 75% hernieuwbare energie) | CJ139: 0 | CM139: 0 | CP139: =CM139/CE138*100 -> 0 | CR139: 75 | DG139: r>50 | DH139: =CP141*CR141 -> 0
AS140: In dit geval worden de andere categorieën ingevuld bij 'verificatie II' onder 'al verklaard'. | DG140: r>25 | DH140: =CP143*CR143 -> 0
AS141: Let op: als een categorie (per Material) al is ingevuld bij 'verificatie I' kan deze categorie niet nogmaals ingevuld bij 'verificatie II'. | CH141: recycle (d.m.v. > 50% hernieuwbare energie) | CJ141: 0 | CM141: 0 | CP141: =CM141/CE138*100 -> 0 | CR141: 50 | DG141: r>10 | DH141: =CP145*CR145 -> 0
DH142: =DH134+DH135+DH133+DH136 -> 0
BX143: subtotaal | BY143: =BY137+BU137 -> 0 | CH143: recycle (d.m.v. > 25% hernieuwbare energie) | CJ143: 0 | CM143: 0 | CP143: =CM143/CE138*100 -> 0 | CR143: 25
C145: RF | D145: data | W145: RF | X145: data | AF145: verificatie | AQ145: RF | AR145: data | CH145: recycle (d.m.v. > 10% hernieuwbare energie) | CJ145: 0 | CM145: 0 | CP145: =CM145/CE138*100 -> 0 | CR145: 10
F147: max punten | G147: aangemaakt | H147: ingevuld | I147: % | J147: score | Z147: max punten | AA147: aangemaakt | AB147: ingevuld | AC147: % | AD147: score | AF147: max punten | AG147: geüpload | AH147: % | AI147: score | AJ147: max punten | AK147: bewezen | AL147: % | AM147: score | AT147: max punten | AU147: aangemaakt | AV147: ingevuld | AW147: % | AX147: score | CH147: downcycle | CJ147: 0 | CM147: 0 | CP147: =CM147/CE138*100 -> 0 | CR147: 5
D148: supplier | F148: 1 | G148: =E24 -> 1 | H148: 0 | I148: =(H148/E24) -> 0 | J148: =F148*I148 -> 0 | X148: downcycled content | Z148: 2 | AA148: =E24 -> 1 | AB148: 0 | AC148: =(AB148/E24) -> 0 | AD148: =Z148*AC148 -> 0 | AR148: after first cycle
AR149: recycling | AT149: 1 | AU149: =E24 -> 1 | AV149: 0 | AW149: =(AV149/E24) -> 0 | AX149: =AT149*AW149 -> 0 | CH149: incinerate | CJ149: 0 | CM149: 0 | CP149: =CM149/CE138*100 -> 0 | CR149: -5
X150: recycled content | Z150: 2 | AA150: =E24 -> 1 | AB150: 0 | AC150: =(AB150/E24) -> 0 | AD150: =Z150*AC150 -> 0 | CH150: totaal | CJ150: =CJ137+CJ147+CJ149+CJ139+CJ141+CJ143+CJ145 -> 0 | CM150: =CM137+CM147+CM149+CM139+CM141+CM143+CM145+CN15 -> 0 | CP150: =CP137+CP147+CP149+CP139+CP141+CP143+CP145 -> 0
AR151: downcycling | AT151: 1 | AU151: =E24 -> 1 | AV151: 0 | AW151: =(AV151/E24) -> 0 | AX151: =AT151*AW151 -> 0
X152: energy use | Z152: 2 | AA152: =E24 -> 1 | AB152: 0 | AC152: =(AB152/E24) -> 0 | AD152: =Z152*AC152 -> 0 | CH152: Incinerate - gebruikt voor energieopwekking | CJ152: 0 | CM152: 0 | CP152: 0 | CR152: 4
AR153: incinerate | AT153: 1 | AU153: =E24 -> 1 | AV153: 0 | AW153: =(AV153/E24) -> 0 | AX153: =AT153*AW153 -> 0
C154: EF | D154: data | L154: verificatie | X154: energy generating | Z154: 2 | AA154: =E24 -> 1 | AB154: 0 | AC154: =(AB154/E24) -> 0 | AD154: =Z154*AC154 -> 0
F156: max punten | G156: aangemaakt | H156: ingevuld | I156: % | J156: score | L156: max punten | M156: geüpload | N156: % | O156: score | P156: max punten | Q156: bewezen | R156: % | S156: score | X156: social fairness self assessment | Z156: 2 | AA156: =E24 -> 1 | AB156: 0 | AC156: =(AB156/E24) -> 0 | AD156: =Z156*AC156 -> 0 | DB156: subtotaal | DD156: =CT138+DD138 -> 0
D157: extraction site | F157: 10 | G157: =E24 -> 1 | H157: 0 | I157: =(H157/E24) -> 0 | J157: =F157*I157 -> 0 | L157: 10 | M157: 0 | N157: =(M157/E24) -> 0 | O157: =L157*N157 -> 0 | P157: 100 | Q157: 0 | R157: =(Q157/E24) -> 0 | S157: =P157*R157 -> 0
AQ158: EF | AR158: data | AZ158: verificatie I | BI158: verificatie II
D159: supplier | L159: 10 | M159: 0 | N159: =(M159/E24) -> 0 | O159: =L159*N159 -> 0 | P159: 10 | Q159: 0 | R159: =(Q159/E24) -> 0 | S159: =P159*R159 -> 0 | X159: toxicity | Z159: 2 | AA159: =E24 -> 1 | AB159: 0 | AC159: =(AB159/E24) -> 0 | AD159: =Z159*AC159 -> 0 | AF159: 1 | AG159: 0 | AH159: =(AG159/E24) -> 0 | AI159: =AF159*AH159 -> 0 | AJ159: 1 | AK159: 0 | AL159: =(AK159/E24) -> 0 | AM159: =AJ159*AL159 -> 0
...
