Workbook
Name SCORE: 'Beoordelen open vragen'!$A$17:$A$22

Sheet Beoordelen open vragen
A1: 7.1 Schriftelijke beantwoording open vragen
A2: Om de kwaliteit en toegevoegde waarde van de inschrijver(s) te kunnen beoordelen dient inschrijver haar kwaliteit aan te tonen en meerwaarde uit te werken conform onderstaande open vragen.
A3: 7.1.1 BELEVING SCHONE SCHOLEN
A4: Schoon is een beleving! De dag beginnen met een schone school voor leerlingen en medewerkers, iedere dag weer, dat is waar de aanbestedende dienst naar streeft. Met deze aanbesteding wil de aanbestedende dienst een partij selecteren die als geen ander begrijpt dat schoonmaak meer is dan alleen een werkprogramma uitvoeren en afvinken. Bij een schone school hoort een fris gevoel en een prettige geur! Inschrijver dient te beschrijven op maximaal 3 A4 wat zij verstaat onder schoon? Inschrijver beschrijft daarbij minimaal; - Welke invulling gaat inschrijver geven aan de beleving van schoon? - Op welke wijze zorgt inschrijver ervoor dat dit dagelijkse praktijk is gedurende de gehele looptijd van de overeenkomst? - Welke meerwaarde biedt inschrijver naast het afwerken van alleen het geëiste schoonmaakprogramma? - Hoe zien jullie de schoonmaak gedurende de gehele dag, waarbij er ook zichtbaar wordt schoongemaakt? - Welke extra structurele maatregelen treft de inschrijver om het verspreiden van virussen aan deurknopen, deurgrepen en andere contactelementen in de scholen te minimaliseren? Welke desinfectie past inschrijver permanent toe? - Op welke wijze geeft inschrijver invulling aan diverse seizoensinvloeden zoals de herfst en winter wanneer er extra aandacht aan het inlopen van vuil en vocht moet worden gegeven?
A5: 7.1.2 GOED WERKGEVERSCHAP
A6: Inschrijver dient te beschrijven op maximaal 3 A4 op welke wijze zij invulling geef aan goed werkgeverschap gericht op haar werknemers en beschrijft daarbij minimaal; - Hoe de vaste en flexibele werknemers worden zij gestimuleerd en gemotiveerd in hun werken ten einde een goede schoonmaakkwaliteit te realiseren en wat de rol van de direct leidinggevende hier in is; - Hoe zorgt inschrijver er voor dat de betrokkenheid van de schoonmakers bij de organisatie van de aanbestedende dienst stijgt, zodat de medewerkers van het schoonmaakbedrijf blij en trots zijn om bij de aanbestedende dienst te mogen werken en trots zijn op een schone school; - Op welke wijze zorgt inschrijver voor een goede overgang van medewerkers van het huidige schoonmaakbedrijf, daarbij lettend op; het functioneren en motivatie van de medewerkers in relatie tot de nieuwe overeenkomst en uitgangspunten van deze aanbesteding; - Daarnaast dient inschrijver te beschrijven hoe en in welke mate zij de eventueel te verkrijgen bonus laat toekomen aan de medewerkers die de schoonmaakwerkzaamheden op de locaties van de aanbestedende dienst uitvoeren, zodat zij beloont worden voor hun meerwaarde hierin; - Welke trainingen en opleidingen krijgen medewerkers van de inschrijver, gericht op communicatie, vakkennis en veiligheid. | C6: Onvoldoende
A7: 7.1.3 ONDERHOUD VLOEREN
A8: De aanbestedende dienst heeft diverse locaties die veelal ook verschillende vloeren hebben, zoals hout, marmoleum, linoleum, stof, PVC, rubberen en stenen vloeren. Bij een aantal locaties is er mogelijk sprake van achterstallig onderhoud. Tijdens de locatiebezoeken kunt u zich bekendmaken met deze locaties en de verschillende vloeren. Inschrijver dient per locatie een plan van aanpak in op maximaal 4 A4 voor; - het (eventueel achterstallige) onderhoud van de vloeren aan te leveren met daarin het advies met betrekking herstel en tot de reguliere schoonmaak; - het periodieke onderhoud en het eventuele jaarlijkse onderhoud. Inschrijver houdt hierbij rekening met de verschillende vloeren in relatie tot het praktijkonderwijs. | C8: Score:
A9: 7.1.4 INVULLING WERKZAAMHEDEN LEIDINGGEVENDE
A10: De aanbestedende dienst wil van inschrijver weten op welke wijze zij een invulling geeft aan de dagelijkse leiding van de schoonmaak. Inschrijver dient te beschrijven op maximaal 1 A4; - Hoe borgt inschrijver de drie taken die juist thuishoren bij een leidinggevende van de schoonmaakwerkzaamheden? De drie taken zijn (1) het uitvoeren van de controles en het rapporteren hiervan, (2) het leidinggeven aan de schoonmakers en (3) het eventueel meewerken/ mede schoonmaken; - Op welke wijze inschrijver invulling geeft op iedere locatie aan de functie leidinggevende waarbij minimaal beschreven wordt (a) hoeveel uur deze per locatie ingezet gaat worden en (b) welke extra aanvullende diensten er geboden worden bovenop de uitvoering van het werkprogramma?
A11: 7.1.5 KWALITEITSVERBETERING
A12: Inschrijvers hebben de mogelijkheid om de gebouwen te bezoeken tijdens de aanbestedingsprocedure (zie hiervoor het aanbestedingsdocument). Hoe kan de kwaliteit van de schoonmaak omhoog op wat u heeft waargenomen tijdens het locatiebezoek? Wat is u concreet opgevallen aan verbeterpunten? Wat is uw visie hierop? Inschrijver dient dit te beschrijven op maximaal 2 A4.
A13: 7.1.6 OVERMACHTSSITUATIES
A14: Inschrijver beschrijft op maximaal 3 A4 op welke wijze zij handelt in een situatie wanneer de COVID-19 crisis of een andere overmachtssituatie, waarbij de scholen (deels) zijn gesloten en er weinig tot geen dagelijkse werkzaamheden zijn uit te voeren, langer duurt dan 3 maanden. Inschrijver dient hierbij haar visie in en schrijft een plan van aanpak/ voorstel waarbij minimaal de volgende aandachtpunten zijn uitgewerkt: - Welke werkzaamheden zijn nog wel uit te voeren? - Hoe zal dit financieel worden doorbelast aan de aanbestedende dienst? - Hoe gaat inschrijver om met het personeel dat normaliter is ingezet op de scholen, zowel vaste als flexibele schoonmakers als leidinggevende(n)? - Welke meerwaarde kunt u bieden met betrekking tot bijvoorbeeld extra desinfectie, intensievere schoonmaakwerkzaamheden, aanpassing werkprogramma’s, etc.?
A15: 7.1.7 MILIEU EN DUURZAAMHEID
A16: Inschrijver beschrijft op maximaal 1 A4 op welke wijze zij bijdraagt aan een beter milieu en duurzaamheid en geeft antwoord op de volgende vragen; - Hoe ecologisch verantwoord zijn de schoonmaakmiddelen die door inschrijver gebruikt worden ten behoeve van een lagere milieu impact? - Welke opleidingen en/of werkinstructies geeft u uw medewerkers over het gebruik van schoonmaakmiddelen en energiebesparing? - Op welke wijze scheidt u het afval op de locatie van de aanbestedende dienst? - Hoe duurzaam zijn de materialen, vervoermiddelen en schoonmaakapparatuur die inschrijver gebruikt bij de uitvoering van haar werkzaamheden?
A17: Score: | B17: 7.1.1 | C17: 7.2.1 | D17: 7.1.3 | E17: 7.1.4 | F17: 7.1.5 | G17: 7.1.6 | H17: 7.1.7
A18: Uitmuntend | B18: 30000 | C18: 25000 | D18: 5000 | E18: 10000 | F18: 10000 | G18: 5000 | H18: 5000
A19: Goed | B19: 15000 | C19: 12500 | D19: 2500 | E19: 5000 | F19: 5000 | G19: 2500 | H19: 2500
A20: Voldoende | B20: 6000 | C20: 5000 | D20: 1000 | E20: 2000 | F20: 2000 | G20: 1000 | H20: 1000
A21: Matig | B21: 0 | C21: 0 | D21: 0 | E21: 0 | F21: 0 | G21: 0 | H21: 0
A22: Onvoldoende | B22: KO | C22: KO | D22: KO | E22: KO | F22: KO | G22: KO | H22: KO
A23: 7.2 Persoonlijke toelichting beantwoording van de schriftelijk ingediende open vragen
A24: Dit onderdeel kent dus GEEN eigen beoordelingskader, maar kan leiden tot een aanpassing van een beoordeling van de beantwoording van de open vragen.
A25: SCORE

Sheet Beoordelen interview
A1: 7.3 Interviewvragen sleutelfunctionarissen
A2: De inschrijver zal na een korte pauze (maximaal 10 minuten) vervolgens vier vragen gesteld krijgen die op voorhand zijn vastgesteld en voor iedere inschrijver gelijk zijn. Deze vragen zijn opgesteld VOOR publicatie van deze aanbesteding en in bewaring gesteld bij het begeleidende adviesbureau.
A3: De vastgestelde interviewvragen (niet bekend bij de inschrijver): | B3: Te behalen waarde bij Uitmuntend | C3: Te behalen waarde bij Goed | D3: Te behalen waarde bij Voldoende | E3: Te behalen waarde bij Matig | F3: Te behalen waarde bij Onvoldoende
A4: Vraag 1 | B4: 7500 | C4: 3750 | D4: 1500 | E4: 0 | F4: KO
A5: Vraag 2 | B5: 12500 | C5: 6250 | D5: 2500 | E5: 0 | F5: KO
A6: Vraag 3 | B6: 7500 | C6: 3750 | D6: 1500 | E6: 0 | F6: KO
A7: Vraag 4 | B7: 7500 | C7: 3750 | D7: 1500 | E7: 0 | F7: KO

Sheet Beoordelaar 1
A1: Beoordelaar 1: <<>> | C1: <NAAM INSCHRIJVER> | F1: <NAAM INSCHRIJVER> | I1: <NAAM INSCHRIJVER>
A2: Open vragen | C2: Score: | F2: Score: | I2: Score:
A3: ='Beoordelen open vragen'!A3 -> 7.1.1 BELEVING SCHONE SCHOLEN | C3: Score: | F3: Score: | I3: Score:
A4: ='Beoordelen open vragen'!A4 -> Schoon is een beleving! De dag beginnen met een schone school voor leerlingen en medewerkers, iedere dag weer, dat is waar de aanbestedende dienst naar streeft. Met deze aanbesteding wil de aanbestedende dienst een partij selecteren die als geen ander begrijpt dat schoonmaak meer is dan alleen een werkprogramma uitvoeren en afvinken. Bij een schone school hoort een fris gevoel en een prettige geur! Inschrijver dient te beschrijven op maximaal 3 A4 wat zij verstaat onder schoon? Inschrijver beschrijft daarbij minimaal; - Welke invulling gaat inschrijver geven aan de beleving van schoon? - Op welke wijze zorgt inschrijver ervoor dat dit dagelijkse praktijk is gedurende de gehele looptijd van de overeenkomst? - Welke meerwaarde biedt inschrijver naast het afwerken van alleen het geëiste schoonmaakprogramma? - Hoe zien jullie de schoonmaak gedurende de gehele dag, waarbij er ook zichtbaar wordt schoongemaakt? - Welke extra structurele maatregelen treft de inschrijver om het verspreiden van virussen aan deurknopen, deurgrepen en andere contactelementen in de scholen te minimaliseren? Welke desinfectie past inschrijver permanent toe? - Op welke wijze geeft inschrijver invulling aan diverse seizoensinvloeden zoals de herfst en winter wanneer er extra aandacht aan het inlopen van vuil en vocht moet worden gegeven? | C4: <MOTIVATIE> | F4: <MOTIVATIE> | I4: <MOTIVATIE>
A5: ='Beoordelen open vragen'!A5 -> 7.1.2 GOED WERKGEVERSCHAP | C5: Score: | F5: Score: | I5: Score:
A6: ='Beoordelen open vragen'!A6 -> Inschrijver dient te beschrijven op maximaal 3 A4 op welke wijze zij invulling geef aan goed werkgeverschap gericht op haar werknemers en beschrijft daarbij minimaal; - Hoe de vaste en flexibele werknemers worden zij gestimuleerd en gemotiveerd in hun werken ten einde een goede schoonmaakkwaliteit te realiseren en wat de rol van de direct leidinggevende hier in is; - Hoe zorgt inschrijver er voor dat de betrokkenheid van de schoonmakers bij de organisatie van de aanbestedende dienst stijgt, zodat de medewerkers van het schoonmaakbedrijf blij en trots zijn om bij de aanbestedende dienst te mogen werken en trots zijn op een schone school; - Op welke wijze zorgt inschrijver voor een goede overgang van medewerkers van het huidige schoonmaakbedrijf, daarbij lettend op; het functioneren en motivatie van de medewerkers in relatie tot de nieuwe overeenkomst en uitgangspunten van deze aanbesteding; - Daarnaast dient inschrijver te beschrijven hoe en in welke mate zij de eventueel te verkrijgen bonus laat toekomen aan de medewerkers die de schoonmaakwerkzaamheden op de locaties van de aanbestedende dienst uitvoeren, zodat zij beloont worden voor hun meerwaarde hierin; - Welke trainingen en opleidingen krijgen medewerkers van de inschrijver, gericht op communicatie, vakkennis en veiligheid. | C6: <MOTIVATIE> | F6: <MOTIVATIE> | I6: <MOTIVATIE>
A7: ='Beoordelen open vragen'!A7 -> 7.1.3 ONDERHOUD VLOEREN | C7: Score: | F7: Score: | I7: Score:
A8: ='Beoordelen open vragen'!A8 -> De aanbestedende dienst heeft diverse locaties die veelal ook verschillende vloeren hebben, zoals hout, marmoleum, linoleum, stof, PVC, rubberen en stenen vloeren. Bij een aantal locaties is er mogelijk sprake van achterstallig onderhoud. Tijdens de locatiebezoeken kunt u zich bekendmaken met deze locaties en de verschillende vloeren. Inschrijver dient per locatie een plan van aanpak in op maximaal 4 A4 voor; - het (eventueel achterstallige) onderhoud van de vloeren aan te leveren met daarin het advies met betrekking herstel en tot de reguliere schoonmaak; - het periodieke onderhoud en het eventuele jaarlijkse onderhoud. Inschrijver houdt hierbij rekening met de verschillende vloeren in relatie tot het praktijkonderwijs. | C8: <MOTIVATIE> | F8: <MOTIVATIE> | I8: <MOTIVATIE>
A9: ='Beoordelen open vragen'!A9 -> 7.1.4 INVULLING WERKZAAMHEDEN LEIDINGGEVENDE | C9: Score: | F9: Score: | I9: Score:
A10: ='Beoordelen open vragen'!A10 -> De aanbestedende dienst wil van inschrijver weten op welke wijze zij een invulling geeft aan de dagelijkse leiding van de schoonmaak. Inschrijver dient te beschrijven op maximaal 1 A4; - Hoe borgt inschrijver de drie taken die juist thuishoren bij een leidinggevende van de schoonmaakwerkzaamheden? De drie taken zijn (1) het uitvoeren van de controles en het rapporteren hiervan, (2) het leidinggeven aan de schoonmakers en (3) het eventueel meewerken/ mede schoonmaken; - Op welke wijze inschrijver invulling geeft op iedere locatie aan de functie leidinggevende waarbij minimaal beschreven wordt (a) hoeveel uur deze per locatie ingezet gaat worden en (b) welke extra aanvullende diensten er geboden worden bovenop de uitvoering van het werkprogramma? | C10: <MOTIVATIE> | F10: <MOTIVATIE> | I10: <MOTIVATIE>
A11: ='Beoordelen open vragen'!A11 -> 7.1.5 KWALITEITSVERBETERING | C11: Score: | F11: Score: | I11: Score:
A12: ='Beoordelen open vragen'!A12 -> Inschrijvers hebben de mogelijkheid om de gebouwen te bezoeken tijdens de aanbestedingsprocedure (zie hiervoor het aanbestedingsdocument). Hoe kan de kwaliteit van de schoonmaak omhoog op wat u heeft waargenomen tijdens het locatiebezoek? Wat is u concreet opgevallen aan verbeterpunten? Wat is uw visie hierop? Inschrijver dient dit te beschrijven op maximaal 2 A4. | C12: <MOTIVATIE> | F12: <MOTIVATIE> | I12: <MOTIVATIE>
A13: ='Beoordelen open vragen'!A13 -> 7.1.6 OVERMACHTSSITUATIES | C13: Score: | F13: Score: | I13: Score:
A14: ='Beoordelen open vragen'!A14 -> Inschrijver beschrijft op maximaal 3 A4 op welke wijze zij handelt in een situatie wanneer de COVID-19 crisis of een andere overmachtssituatie, waarbij de scholen (deels) zijn gesloten en er weinig tot geen dagelijkse werkzaamheden zijn uit te voeren, langer duurt dan 3 maanden. Inschrijver dient hierbij haar visie in en schrijft een plan van aanpak/ voorstel waarbij minimaal de volgende aandachtpunten zijn uitgewerkt: - Welke werkzaamheden zijn nog wel uit te voeren? - Hoe zal dit financieel worden doorbelast aan de aanbestedende dienst? - Hoe gaat inschrijver om met het personeel dat normaliter is ingezet op de scholen, zowel vaste als flexibele schoonmakers als leidinggevende(n)? - Welke meerwaarde kunt u bieden met betrekking tot bijvoorbeeld extra desinfectie, intensievere schoonmaakwerkzaamheden, aanpassing werkprogramma’s, etc.? | C14: <MOTIVATIE> | F14: <MOTIVATIE> | I14: <MOTIVATIE>
... A16: ='Beoordelen open vragen'!A16 -> Inschrijver beschrijft op maximaal 1 A4 op welke wijze zij bijdraagt aan een beter milieu en duurzaamheid en geeft antwoord op de volgende vragen; - Hoe ecologisch verantwoord zijn de schoonmaakmiddelen die door inschrijver gebruikt worden ten behoeve van een lagere milieu impact? - Welke opleidingen en/of werkinstructies geeft u uw medewerkers over het gebruik van schoonmaakmiddelen en energiebesparing? - Op welke wijze scheidt u het afval op de locatie van de aanbestedende dienst? - Hoe duurzaam zijn de materialen, vervoermiddelen en schoonmaakapparatuur die inschrijver gebruikt bij de uitvoering van haar werkzaamheden? | C16: <MOTIVATIE> | F16: <MOTIVATIE> | I16: <MOTIVATIE>
A19: ='Beoordelen interview'!A1 -> 7.3 Interviewvragen sleutelfunctionarissen
A20: ='Beoordelen interview'!A4:A4 -> Vraag 1 | C20: Score: | F20: Score: | I20: Score:
C21: <MOTIVATIE> | F21: <MOTIVATIE> | I21: <MOTIVATIE>
A22: ='Beoordelen interview'!A5:A5 -> Vraag 2 | C22: Score: | F22: Score: | I22: Score:
C23: <MOTIVATIE> | F23: <MOTIVATIE> | I23: <MOTIVATIE>
A24: ='Beoordelen interview'!A6:A6 -> Vraag 3 | C24: Score: | F24: Score: | I24: Score:
C25: <MOTIVATIE> | F25: <MOTIVATIE> | I25: <MOTIVATIE>
A26: ='Beoordelen interview'!A7:A7 -> Vraag 4 | C26: Score: | F26: Score: | I26: Score:
C27: <MOTIVATIE> | F27: <MOTIVATIE> | I27: <MOTIVATIE>

Sheet Beoordelaar 2
A1: Beoordelaar 2: <<>> | C1: ='Beoordelaar 1'!C1:D1 -> <NAAM INSCHRIJVER> | F1: ='Beoordelaar 1'!F1:G1 -> <NAAM INSCHRIJVER> | I1: ='Beoordelaar 1'!I1:J1 -> <NAAM INSCHRIJVER>
A2: Open vragen | C2: Score: | F2: Score: | I2: Score:
A3: ='Beoordelen open vragen'!A3 -> 7.1.1 BELEVING SCHONE SCHOLEN | C3: Score: | F3: Score: | I3: Score:
A4: ='Beoordelen open vragen'!A4 -> Schoon is een beleving! De dag beginnen met een schone school voor leerlingen en medewerkers, iedere dag weer, dat is waar de aanbestedende dienst naar streeft. Met deze aanbesteding wil de aanbestedende dienst een partij selecteren die als geen ander begrijpt dat schoonmaak meer is dan alleen een werkprogramma uitvoeren en afvinken. Bij een schone school hoort een fris gevoel en een prettige geur! Inschrijver dient te beschrijven op maximaal 3 A4 wat zij verstaat onder schoon? Inschrijver beschrijft daarbij minimaal; - Welke invulling gaat inschrijver geven aan de beleving van schoon? - Op welke wijze zorgt inschrijver ervoor dat dit dagelijkse praktijk is gedurende de gehele looptijd van de overeenkomst? - Welke meerwaarde biedt inschrijver naast het afwerken van alleen het geëiste schoonmaakprogramma? - Hoe zien jullie de schoonmaak gedurende de gehele dag, waarbij er ook zichtbaar wordt schoongemaakt? - Welke extra structurele maatregelen treft de inschrijver om het verspreiden van virussen aan deurknopen, deurgrepen en andere contactelementen in de scholen te minimaliseren? Welke desinfectie past inschrijver permanent toe? - Op welke wijze geeft inschrijver invulling aan diverse seizoensinvloeden zoals de herfst en winter wanneer er extra aandacht aan het inlopen van vuil en vocht moet worden gegeven? | C4: <MOTIVATIE> | F4: <MOTIVATIE> | I4: <MOTIVATIE>
A5: ='Beoordelen open vragen'!A5 -> 7.1.2 GOED WERKGEVERSCHAP | C5: Score: | F5: Score: | I5: Score:
A6: ='Beoordelen open vragen'!A6 -> Inschrijver dient te beschrijven op maximaal 3 A4 op welke wijze zij invulling geef aan goed werkgeverschap gericht op haar werknemers en beschrijft daarbij minimaal; - Hoe de vaste en flexibele werknemers worden zij gestimuleerd en gemotiveerd in hun werken ten einde een goede schoonmaakkwaliteit te realiseren en wat de rol van de direct leidinggevende hier in is; - Hoe zorgt inschrijver er voor dat de betrokkenheid van de schoonmakers bij de organisatie van de aanbestedende dienst stijgt, zodat de medewerkers van het schoonmaakbedrijf blij en trots zijn om bij de aanbestedende dienst te mogen werken en trots zijn op een schone school; - Op welke wijze zorgt inschrijver voor een goede overgang van medewerkers van het huidige schoonmaakbedrijf, daarbij lettend op; het functioneren en motivatie van de medewerkers in relatie tot de nieuwe overeenkomst en uitgangspunten van deze aanbesteding; - Daarnaast dient inschrijver te beschrijven hoe en in welke mate zij de eventueel te verkrijgen bonus laat toekomen aan de medewerkers die de schoonmaakwerkzaamheden op de locaties van de aanbestedende dienst uitvoeren, zodat zij beloont worden voor hun meerwaarde hierin; - Welke trainingen en opleidingen krijgen medewerkers van de inschrijver, gericht op communicatie, vakkennis en veiligheid. | C6: <MOTIVATIE> | F6: <MOTIVATIE> | I6: <MOTIVATIE>
A7: ='Beoordelen open vragen'!A7 -> 7.1.3 ONDERHOUD VLOEREN | C7: Score: | F7: Score: | I7: Score:
A8: ='Beoordelen open vragen'!A8 -> De aanbestedende dienst heeft diverse locaties die veelal ook verschillende vloeren hebben, zoals hout, marmoleum, linoleum, stof, PVC, rubberen en stenen vloeren. Bij een aantal locaties is er mogelijk sprake van achterstallig onderhoud. Tijdens de locatiebezoeken kunt u zich bekendmaken met deze locaties en de verschillende vloeren. Inschrijver dient per locatie een plan van aanpak in op maximaal 4 A4 voor; - het (eventueel achterstallige) onderhoud van de vloeren aan te leveren met daarin het advies met betrekking herstel en tot de reguliere schoonmaak; - het periodieke onderhoud en het eventuele jaarlijkse onderhoud. Inschrijver houdt hierbij rekening met de verschillende vloeren in relatie tot het praktijkonderwijs. | C8: <MOTIVATIE> | F8: <MOTIVATIE> | I8: <MOTIVATIE>
A9: ='Beoordelen open vragen'!A9 -> 7.1.4 INVULLING WERKZAAMHEDEN LEIDINGGEVENDE | C9: Score: | F9: Score: | I9: Score:
A10: ='Beoordelen open vragen'!A10 -> De aanbestedende dienst wil van inschrijver weten op welke wijze zij een invulling geeft aan de dagelijkse leiding van de schoonmaak. Inschrijver dient te beschrijven op maximaal 1 A4; - Hoe borgt inschrijver de drie taken die juist thuishoren bij een leidinggevende van de schoonmaakwerkzaamheden? De drie taken zijn (1) het uitvoeren van de controles en het rapporteren hiervan, (2) het leidinggeven aan de schoonmakers en (3) het eventueel meewerken/ mede schoonmaken; - Op welke wijze inschrijver invulling geeft op iedere locatie aan de functie leidinggevende waarbij minimaal beschreven wordt (a) hoeveel uur deze per locatie ingezet gaat worden en (b) welke extra aanvullende diensten er geboden worden bovenop de uitvoering van het werkprogramma? | C10: <MOTIVATIE> | F10: <MOTIVATIE> | I10: <MOTIVATIE>
A11: ='Beoordelen open vragen'!A11 -> 7.1.5 KWALITEITSVERBETERING | C11: Score: | F11: Score: | I11: Score:
A12: ='Beoordelen open vragen'!A12 -> Inschrijvers hebben de mogelijkheid om de gebouwen te bezoeken tijdens de aanbestedingsprocedure (zie hiervoor het aanbestedingsdocument). Hoe kan de kwaliteit van de schoonmaak omhoog op wat u heeft waargenomen tijdens het locatiebezoek? Wat is u concreet opgevallen aan verbeterpunten? Wat is uw visie hierop? Inschrijver dient dit te beschrijven op maximaal 2 A4. | C12: <MOTIVATIE> | F12: <MOTIVATIE> | I12: <MOTIVATIE>
A13: ='Beoordelen open vragen'!A13 -> 7.1.6 OVERMACHTSSITUATIES | C13: Score: | F13: Score: | I13: Score:
A14: ='Beoordelen open vragen'!A14 -> Inschrijver beschrijft op maximaal 3 A4 op welke wijze zij handelt in een situatie wanneer de COVID-19 crisis of een andere overmachtssituatie, waarbij de scholen (deels) zijn gesloten en er weinig tot geen dagelijkse werkzaamheden zijn uit te voeren, langer duurt dan 3 maanden. Inschrijver dient hierbij haar visie in en schrijft een plan van aanpak/ voorstel waarbij minimaal de volgende aandachtpunten zijn uitgewerkt: - Welke werkzaamheden zijn nog wel uit te voeren? - Hoe zal dit financieel worden doorbelast aan de aanbestedende dienst? - Hoe gaat inschrijver om met het personeel dat normaliter is ingezet op de scholen, zowel vaste als flexibele schoonmakers als leidinggevende(n)? - Welke meerwaarde kunt u bieden met betrekking tot bijvoorbeeld extra desinfectie, intensievere schoonmaakwerkzaamheden, aanpassing werkprogramma’s, etc.? | C14: <MOTIVATIE> | F14: <MOTIVATIE> | I14: <MOTIVATIE>
... A16: ='Beoordelen open vragen'!A16 -> Inschrijver beschrijft op maximaal 1 A4 op welke wijze zij bijdraagt aan een beter milieu en duurzaamheid en geeft antwoord op de volgende vragen; - Hoe ecologisch verantwoord zijn de schoonmaakmiddelen die door inschrijver gebruikt worden ten behoeve van een lagere milieu impact? - Welke opleidingen en/of werkinstructies geeft u uw medewerkers over het gebruik van schoonmaakmiddelen en energiebesparing? - Op welke wijze scheidt u het afval op de locatie van de aanbestedende dienst? - Hoe duurzaam zijn de materialen, vervoermiddelen en schoonmaakapparatuur die inschrijver gebruikt bij de uitvoering van haar werkzaamheden? | C16: <MOTIVATIE> | F16: <MOTIVATIE> | I16: <MOTIVATIE>
A19: ='Beoordelen interview'!A1 -> 7.3 Interviewvragen sleutelfunctionarissen
A20: ='Beoordelen interview'!A4:A4 -> Vraag 1 | C20: Score: | F20: Score: | I20: Score:
C21: <MOTIVATIE> | F21: <MOTIVATIE> | I21: <MOTIVATIE>
A22: ='Beoordelen interview'!A5:A5 -> Vraag 2 | C22: Score: | F22: Score: | I22: Score:
C23: <MOTIVATIE> | F23: <MOTIVATIE> | I23: <MOTIVATIE>
A24: ='Beoordelen interview'!A6:A6 -> Vraag 3 | C24: Score: | F24: Score: | I24: Score:
C25: <MOTIVATIE> | F25: <MOTIVATIE> | I25: <MOTIVATIE>
A26: ='Beoordelen interview'!A7:A7 -> Vraag 4 | C26: Score: | F26: Score: | I26: Score:
C27: <MOTIVATIE> | F27: <MOTIVATIE> | I27: <MOTIVATIE>

Sheet Beoordelaar 3
A1: Beoordelaar 3: <<>> | C1: ='Beoordelaar 1'!C1:D1 -> <NAAM INSCHRIJVER> | F1: ='Beoordelaar 1'!F1:G1 -> <NAAM INSCHRIJVER> | I1: ='Beoordelaar 1'!I1:J1 -> <NAAM INSCHRIJVER>
A2: Open vragen | C2: Score: | F2: Score: | I2: Score:
A3: ='Beoordelen open vragen'!A3 -> 7.1.1 BELEVING SCHONE SCHOLEN | C3: Score: | F3: Score: | I3: Score:
A4: ='Beoordelen open vragen'!A4 -> Schoon is een beleving! De dag beginnen met een schone school voor leerlingen en medewerkers, iedere dag weer, dat is waar de aanbestedende dienst naar streeft. Met deze aanbesteding wil de aanbestedende dienst een partij selecteren die als geen ander begrijpt dat schoonmaak meer is dan alleen een werkprogramma uitvoeren en afvinken. Bij een schone school hoort een fris gevoel en een prettige geur! Inschrijver dient te beschrijven op maximaal 3 A4 wat zij verstaat onder schoon? Inschrijver beschrijft daarbij minimaal; - Welke invulling gaat inschrijver geven aan de beleving van schoon? - Op welke wijze zorgt inschrijver ervoor dat dit dagelijkse praktijk is gedurende de gehele looptijd van de overeenkomst? - Welke meerwaarde biedt inschrijver naast het afwerken van alleen het geëiste schoonmaakprogramma? - Hoe zien jullie de schoonmaak gedurende de gehele dag, waarbij er ook zichtbaar wordt schoongemaakt? - Welke extra structurele maatregelen treft de inschrijver om het verspreiden van virussen aan deurknopen, deurgrepen en andere contactelementen in de scholen te minimaliseren? Welke desinfectie past inschrijver permanent toe? - Op welke wijze geeft inschrijver invulling aan diverse seizoensinvloeden zoals de herfst en winter wanneer er extra aandacht aan het inlopen van vuil en vocht moet worden gegeven? | C4: <MOTIVATIE> | F4: <MOTIVATIE> | I4: <MOTIVATIE>
A5: ='Beoordelen open vragen'!A5 -> 7.1.2 GOED WERKGEVERSCHAP | C5: Score: | F5: Score: | I5: Score:
A6: ='Beoordelen open vragen'!A6 -> Inschrijver dient te beschrijven op maximaal 3 A4 op welke wijze zij invulling geef aan goed werkgeverschap gericht op haar werknemers en beschrijft daarbij minimaal; - Hoe de vaste en flexibele werknemers worden zij gestimuleerd en gemotiveerd in hun werken ten einde een goede schoonmaakkwaliteit te realiseren en wat de rol van de direct leidinggevende hier in is; - Hoe zorgt inschrijver er voor dat de betrokkenheid van de schoonmakers bij de organisatie van de aanbestedende dienst stijgt, zodat de medewerkers van het schoonmaakbedrijf blij en trots zijn om bij de aanbestedende dienst te mogen werken en trots zijn op een schone school; - Op welke wijze zorgt inschrijver voor een goede overgang van medewerkers van het huidige schoonmaakbedrijf, daarbij lettend op; het functioneren en motivatie van de medewerkers in relatie tot de nieuwe overeenkomst en uitgangspunten van deze aanbesteding; - Daarnaast dient inschrijver te beschrijven hoe en in welke mate zij de eventueel te verkrijgen bonus laat toekomen aan de medewerkers die de schoonmaakwerkzaamheden op de locaties van de aanbestedende dienst uitvoeren, zodat zij beloont worden voor hun meerwaarde hierin; - Welke trainingen en opleidingen krijgen medewerkers van de inschrijver, gericht op communicatie, vakkennis en veiligheid. | C6: <MOTIVATIE> | F6: <MOTIVATIE> | I6: <MOTIVATIE>
A7: ='Beoordelen open vragen'!A7 -> 7.1.3 ONDERHOUD VLOEREN | C7: Score: | F7: Score: | I7: Score:
A8: ='Beoordelen open vragen'!A8 -> De aanbestedende dienst heeft diverse locaties die veelal ook verschillende vloeren hebben, zoals hout, marmoleum, linoleum, stof, PVC, rubberen en stenen vloeren. Bij een aantal locaties is er mogelijk sprake van achterstallig onderhoud. Tijdens de locatiebezoeken kunt u zich bekendmaken met deze locaties en de verschillende vloeren. Inschrijver dient per locatie een plan van aanpak in op maximaal 4 A4 voor; - het (eventueel achterstallige) onderhoud van de vloeren aan te leveren met daarin het advies met betrekking herstel en tot de reguliere schoonmaak; - het periodieke onderhoud en het eventuele jaarlijkse onderhoud. Inschrijver houdt hierbij rekening met de verschillende vloeren in relatie tot het praktijkonderwijs. | C8: <MOTIVATIE> | F8: <MOTIVATIE> | I8: <MOTIVATIE>
A9: ='Beoordelen open vragen'!A9 -> 7.1.4 INVULLING WERKZAAMHEDEN LEIDINGGEVENDE | C9: Score: | F9: Score: | I9: Score:
A10: ='Beoordelen open vragen'!A10 -> De aanbestedende dienst wil van inschrijver weten op welke wijze zij een invulling geeft aan de dagelijkse leiding van de schoonmaak. Inschrijver dient te beschrijven op maximaal 1 A4; - Hoe borgt inschrijver de drie taken die juist thuishoren bij een leidinggevende van de schoonmaakwerkzaamheden? De drie taken zijn (1) het uitvoeren van de controles en het rapporteren hiervan, (2) het leidinggeven aan de schoonmakers en (3) het eventueel meewerken/ mede schoonmaken; - Op welke wijze inschrijver invulling geeft op iedere locatie aan de functie leidinggevende waarbij minimaal beschreven wordt (a) hoeveel uur deze per locatie ingezet gaat worden en (b) welke extra aanvullende diensten er geboden worden bovenop de uitvoering van het werkprogramma? | C10: <MOTIVATIE> | F10: <MOTIVATIE> | I10: <MOTIVATIE>
A11: ='Beoordelen open vragen'!A11 -> 7.1.5 KWALITEITSVERBETERING | C11: Score: | F11: Score: | I11: Score:
A12: ='Beoordelen open vragen'!A12 -> Inschrijvers hebben de mogelijkheid om de gebouwen te bezoeken tijdens de aanbestedingsprocedure (zie hiervoor het aanbestedingsdocument). Hoe kan de kwaliteit van de schoonmaak omhoog op wat u heeft waargenomen tijdens het locatiebezoek? Wat is u concreet opgevallen aan verbeterpunten? Wat is uw visie hierop? Inschrijver dient dit te beschrijven op maximaal 2 A4. | C12: <MOTIVATIE> | F12: <MOTIVATIE> | I12: <MOTIVATIE>
A13: ='Beoordelen open vragen'!A13 -> 7.1.6 OVERMACHTSSITUATIES | C13: Score: | F13: Score: | I13: Score:
A14: ='Beoordelen open vragen'!A14 -> Inschrijver beschrijft op maximaal 3 A4 op welke wijze zij handelt in een situatie wanneer de COVID-19 crisis of een andere overmachtssituatie, waarbij de scholen (deels) zijn gesloten en er weinig tot geen dagelijkse werkzaamheden zijn uit te voeren, langer duurt dan 3 maanden. Inschrijver dient hierbij haar visie in en schrijft een plan van aanpak/ voorstel waarbij minimaal de volgende aandachtpunten zijn uitgewerkt: - Welke werkzaamheden zijn nog wel uit te voeren? - Hoe zal dit financieel worden doorbelast aan de aanbestedende dienst? - Hoe gaat inschrijver om met het personeel dat normaliter is ingezet op de scholen, zowel vaste als flexibele schoonmakers als leidinggevende(n)? - Welke meerwaarde kunt u bieden met betrekking tot bijvoorbeeld extra desinfectie, intensievere schoonmaakwerkzaamheden, aanpassing werkprogramma’s, etc.? | C14: <MOTIVATIE> | F14: <MOTIVATIE> | I14: <MOTIVATIE>
... A16: ='Beoordelen open vragen'!A16 -> Inschrijver beschrijft op maximaal 1 A4 op welke wijze zij bijdraagt aan een beter milieu en duurzaamheid en geeft antwoord op de volgende vragen; - Hoe ecologisch verantwoord zijn de schoonmaakmiddelen die door inschrijver gebruikt worden ten behoeve van een lagere milieu impact? - Welke opleidingen en/of werkinstructies geeft u uw medewerkers over het gebruik van schoonmaakmiddelen en energiebesparing? - Op welke wijze scheidt u het afval op de locatie van de aanbestedende dienst? - Hoe duurzaam zijn de materialen, vervoermiddelen en schoonmaakapparatuur die inschrijver gebruikt bij de uitvoering van haar werkzaamheden? | C16: <MOTIVATIE> | F16: <MOTIVATIE> | I16: <MOTIVATIE>
A19: ='Beoordelen interview'!A1 -> 7.3 Interviewvragen sleutelfunctionarissen
A20: ='Beoordelen interview'!A4:A4 -> Vraag 1 | C20: Score: | F20: Score: | I20: Score:
C21: <MOTIVATIE> | F21: <MOTIVATIE> | I21: <MOTIVATIE>
A22: ='Beoordelen interview'!A5:A5 -> Vraag 2 | C22: Score: | F22: Score: | I22: Score:
C23: <MOTIVATIE> | F23: <MOTIVATIE> | I23: <MOTIVATIE>
A24: ='Beoordelen interview'!A6:A6 -> Vraag 3 | C24: Score: | F24: Score: | I24: Score:
C25: <MOTIVATIE> | F25: <MOTIVATIE> | I25: <MOTIVATIE>
A26: ='Beoordelen interview'!A7:A7 -> Vraag 4 | C26: Score: | F26: Score: | I26: Score:
C27: <MOTIVATIE> | F27: <MOTIVATIE> | I27: <MOTIVATIE>

Sheet Beoordelaar 4
A1: Beoordelaar 4: <<>> | C1: ='Beoordelaar 1'!C1:D1 -> <NAAM INSCHRIJVER> | F1: ='Beoordelaar 1'!F1:G1 -> <NAAM INSCHRIJVER> | I1: ='Beoordelaar 1'!I1:J1 -> <NAAM INSCHRIJVER>
A2: Open vragen | C2: Score: | F2: Score: | I2: Score:
A3: ='Beoordelen open vragen'!A3 -> 7.1.1 BELEVING SCHONE SCHOLEN | C3: Score: | F3: Score: | I3: Score:
A4: ='Beoordelen open vragen'!A4 -> Schoon is een beleving! De dag beginnen met een schone school voor leerlingen en medewerkers, iedere dag weer, dat is waar de aanbestedende dienst naar streeft. Met deze aanbesteding wil de aanbestedende dienst een partij selecteren die als geen ander begrijpt dat schoonmaak meer is dan alleen een werkprogramma uitvoeren en afvinken. Bij een schone school hoort een fris gevoel en een prettige geur! Inschrijver dient te beschrijven op maximaal 3 A4 wat zij verstaat onder schoon? Inschrijver beschrijft daarbij minimaal; - Welke invulling gaat inschrijver geven aan de beleving van schoon? - Op welke wijze zorgt inschrijver ervoor dat dit dagelijkse praktijk is gedurende de gehele looptijd van de overeenkomst? - Welke meerwaarde biedt inschrijver naast het afwerken van alleen het geëiste schoonmaakprogramma? - Hoe zien jullie de schoonmaak gedurende de gehele dag, waarbij er ook zichtbaar wordt schoongemaakt? - Welke extra structurele maatregelen treft de inschrijver om het verspreiden van virussen aan deurknopen, deurgrepen en andere contactelementen in de scholen te minimaliseren? Welke desinfectie past inschrijver permanent toe? - Op welke wijze geeft inschrijver invulling aan diverse seizoensinvloeden zoals de herfst en winter wanneer er extra aandacht aan het inlopen van vuil en vocht moet worden gegeven? | C4: <MOTIVATIE> | F4: <MOTIVATIE> | I4: <MOTIVATIE>
A5: ='Beoordelen open vragen'!A5 -> 7.1.2 GOED WERKGEVERSCHAP | C5: Score: | F5: Score: | I5: Score:
A6: ='Beoordelen open vragen'!A6 -> Inschrijver dient te beschrijven op maximaal 3 A4 op welke wijze zij invulling geef aan goed werkgeverschap gericht op haar werknemers en beschrijft daarbij minimaal; - Hoe de vaste en flexibele werknemers worden zij gestimuleerd en gemotiveerd in hun werken ten einde een goede schoonmaakkwaliteit te realiseren en wat de rol van de direct leidinggevende hier in is; - Hoe zorgt inschrijver er voor dat de betrokkenheid van de schoonmakers bij de organisatie van de aanbestedende dienst stijgt, zodat de medewerkers van het schoonmaakbedrijf blij en trots zijn om bij de aanbestedende dienst te mogen werken en trots zijn op een schone school; - Op welke wijze zorgt inschrijver voor een goede overgang van medewerkers van het huidige schoonmaakbedrijf, daarbij lettend op; het functioneren en motivatie van de medewerkers in relatie tot de nieuwe overeenkomst en uitgangspunten van deze aanbesteding; - Daarnaast dient inschrijver te beschrijven hoe en in welke mate zij de eventueel te verkrijgen bonus laat toekomen aan de medewerkers die de schoonmaakwerkzaamheden op de locaties van de aanbestedende dienst uitvoeren, zodat zij beloont worden voor hun meerwaarde hierin; - Welke trainingen en opleidingen krijgen medewerkers van de inschrijver, gericht op communicatie, vakkennis en veiligheid. | C6: <MOTIVATIE> | F6: <MOTIVATIE> | I6: <MOTIVATIE>
A7: ='Beoordelen open vragen'!A7 -> 7.1.3 ONDERHOUD VLOEREN | C7: Score: | F7: Score: | I7: Score:
A8: ='Beoordelen open vragen'!A8 -> De aanbestedende dienst heeft diverse locaties die veelal ook verschillende vloeren hebben, zoals hout, marmoleum, linoleum, stof, PVC, rubberen en stenen vloeren. Bij een aantal locaties is er mogelijk sprake van achterstallig onderhoud. Tijdens de locatiebezoeken kunt u zich bekendmaken met deze locaties en de verschillende vloeren. Inschrijver dient per locatie een plan van aanpak in op maximaal 4 A4 voor; - het (eventueel achterstallige) onderhoud van de vloeren aan te leveren met daarin het advies met betrekking herstel en tot de reguliere schoonmaak; - het periodieke onderhoud en het eventuele jaarlijkse onderhoud. Inschrijver houdt hierbij rekening met de verschillende vloeren in relatie tot het praktijkonderwijs. | C8: <MOTIVATIE> | F8: <MOTIVATIE> | I8: <MOTIVATIE>
A9: ='Beoordelen open vragen'!A9 -> 7.1.4 INVULLING WERKZAAMHEDEN LEIDINGGEVENDE | C9: Score: | F9: Score: | I9: Score:
A10: ='Beoordelen open vragen'!A10 -> De aanbestedende dienst wil van inschrijver weten op welke wijze zij een invulling geeft aan de dagelijkse leiding van de schoonmaak. Inschrijver dient te beschrijven op maximaal 1 A4; - Hoe borgt inschrijver de drie taken die juist thuishoren bij een leidinggevende van de schoonmaakwerkzaamheden? De drie taken zijn (1) het uitvoeren van de controles en het rapporteren hiervan, (2) het leidinggeven aan de schoonmakers en (3) het eventueel meewerken/ mede schoonmaken; - Op welke wijze inschrijver invulling geeft op iedere locatie aan de functie leidinggevende waarbij minimaal beschreven wordt (a) hoeveel uur deze per locatie ingezet gaat worden en (b) welke extra aanvullende diensten er geboden worden bovenop de uitvoering van het werkprogramma? | C10: <MOTIVATIE> | F10: <MOTIVATIE> | I10: <MOTIVATIE>
A11: ='Beoordelen open vragen'!A11 -> 7.1.5 KWALITEITSVERBETERING | C11: Score: | F11: Score: | I11: Score:
A12: ='Beoordelen open vragen'!A12 -> Inschrijvers hebben de mogelijkheid om de gebouwen te bezoeken tijdens de aanbestedingsprocedure (zie hiervoor het aanbestedingsdocument). Hoe kan de kwaliteit van de schoonmaak omhoog op wat u heeft waargenomen tijdens het locatiebezoek? Wat is u concreet opgevallen aan verbeterpunten? Wat is uw visie hierop? Inschrijver dient dit te beschrijven op maximaal 2 A4. | C12: <MOTIVATIE> | F12: <MOTIVATIE> | I12: <MOTIVATIE>
A13: ='Beoordelen open vragen'!A13 -> 7.1.6 OVERMACHTSSITUATIES | C13: Score: | F13: Score: | I13: Score:
A14: ='Beoordelen open vragen'!A14 -> Inschrijver beschrijft op maximaal 3 A4 op welke wijze zij handelt in een situatie wanneer de COVID-19 crisis of een andere overmachtssituatie, waarbij de scholen (deels) zijn gesloten en er weinig tot geen dagelijkse werkzaamheden zijn uit te voeren, langer duurt dan 3 maanden. Inschrijver dient hierbij haar visie in en schrijft een plan van aanpak/ voorstel waarbij minimaal de volgende aandachtpunten zijn uitgewerkt: - Welke werkzaamheden zijn nog wel uit te voeren? - Hoe zal dit financieel worden doorbelast aan de aanbestedende dienst? - Hoe gaat inschrijver om met het personeel dat normaliter is ingezet op de scholen, zowel vaste als flexibele schoonmakers als leidinggevende(n)? - Welke meerwaarde kunt u bieden met betrekking tot bijvoorbeeld extra desinfectie, intensievere schoonmaakwerkzaamheden, aanpassing werkprogramma’s, etc.? | C14: <MOTIVATIE> | F14: <MOTIVATIE> | I14: <MOTIVATIE>
... A16: ='Beoordelen open vragen'!A16 -> Inschrijver beschrijft op maximaal 1 A4 op welke wijze zij bijdraagt aan een beter milieu en duurzaamheid en geeft antwoord op de volgende vragen; - Hoe ecologisch verantwoord zijn de schoonmaakmiddelen die door inschrijver gebruikt worden ten behoeve van een lagere milieu impact? - Welke opleidingen en/of werkinstructies geeft u uw medewerkers over het gebruik van schoonmaakmiddelen en energiebesparing? - Op welke wijze scheidt u het afval op de locatie van de aanbestedende dienst? - Hoe duurzaam zijn de materialen, vervoermiddelen en schoonmaakapparatuur die inschrijver gebruikt bij de uitvoering van haar werkzaamheden? | C16: <MOTIVATIE> | F16: <MOTIVATIE> | I16: <MOTIVATIE>
A19: ='Beoordelen interview'!A1 -> 7.3 Interviewvragen sleutelfunctionarissen
A20: ='Beoordelen interview'!A4:A4 -> Vraag 1 | C20: Score: | F20: Score: | I20: Score:
C21: <MOTIVATIE> | F21: <MOTIVATIE> | I21: <MOTIVATIE>
A22: ='Beoordelen interview'!A5:A5 -> Vraag 2 | C22: Score: | F22: Score: | I22: Score:
C23: <MOTIVATIE> | F23: <MOTIVATIE> | I23: <MOTIVATIE>
A24: ='Beoordelen interview'!A6:A6 -> Vraag 3 | C24: Score: | F24: Score: | I24: Score:
C25: <MOTIVATIE> | F25: <MOTIVATIE> | I25: <MOTIVATIE>
A26: ='Beoordelen interview'!A7:A7 -> Vraag 4 | C26: Score: | F26: Score: | I26: Score:
C27: <MOTIVATIE> | F27: <MOTIVATIE> | I27: <MOTIVATIE>

Sheet Consensus
A1: Totaalwaardes
A2: Open vraag | D2: ='Beoordelaar 1'!C1 -> <NAAM INSCHRIJVER> | E2: MOTIVATIE CONSENSUS | G2: ='Beoordelaar 1'!F1 -> <NAAM INSCHRIJVER> | H2: MOTIVATIE CONSENSUS | J2: ='Beoordelaar 1'!I1 -> <NAAM INSCHRIJVER> | K2: MOTIVATIE CONSENSUS
A3: ='Beoordelen open vragen'!A3 -> 7.1.1 BELEVING SCHONE SCHOLEN | B3: Beoordelaar 1 | D3: ='Beoordelaar 1'!C3 -> Score: | E3: <<motivatie CONSENSUS>> | G3: ='Beoordelaar 1'!F3 -> Score: | H3: <<motivatie CONSENSUS>> | J3: ='Beoordelaar 1'!I3 -> Score: | K3: <<motivatie CONSENSUS>>
B4: Beoordelaar 2 | D4: ='Beoordelaar 2'!C3 -> Score: | G4: ='Beoordelaar 2'!F3 -> Score: | J4: ='Beoordelaar 2'!I3 -> Score:
B5: Beoordelaar 3 | D5: ='Beoordelaar 3'!C3 -> Score: | G5: ='Beoordelaar 3'!F3 -> Score: | J5: ='Beoordelaar 3'!I3 -> Score:
B6: Beoordelaar 4 | D6: ='Beoordelaar 4'!C3 -> Score: | G6: ='Beoordelaar 4'!F3 -> Score: | J6: ='Beoordelaar 4'!I3 -> Score:
A7: Consensus | D7: Score: | G7: Score: | J7: Score:
D8: =IF(D7="Uitmuntend","€ 30.000",IF(D7="Goed","€15.000",IF(D7="Voldoende","€ 6.000",IF(D7="Matig","€ 0",IF(D7="Onvoldoende","KNOCK OUT"," "))))) | G8: =IF(G7="Uitmuntend","€ 30.000",IF(G7="Goed","€15.000",IF(G7="Voldoende","€ 6.000",IF(G7="Matig","€ 0",IF(G7="Onvoldoende","KNOCK OUT"," "))))) | J8: =IF(J7="Uitmuntend","€ 30.000",IF(J7="Goed","€15.000",IF(J7="Voldoende","€ 6.000",IF(J7="Matig","€ 0",IF(J7="Onvoldoende","KNOCK OUT"," ")))))
A9: ='Beoordelen open vragen'!A5 -> 7.1.2 GOED WERKGEVERSCHAP | B9: Beoordelaar 1 | D9: ='Beoordelaar 1'!C5 -> Score: | E9: <<motivatie CONSENSUS>> | G9: ='Beoordelaar 1'!F5 -> Score: | H9: <<motivatie CONSENSUS>> | J9: ='Beoordelaar 1'!I5 -> Score: | K9: <<motivatie CONSENSUS>>
B10: Beoordelaar 2 | D10: ='Beoordelaar 2'!C5 -> Score: | G10: ='Beoordelaar 2'!F5 -> Score: | J10: ='Beoordelaar 2'!I5 -> Score:
B11: Beoordelaar 3 | D11: ='Beoordelaar 3'!C5 -> Score: | G11: ='Beoordelaar 3'!F5 -> Score: | J11: ='Beoordelaar 3'!I5 -> Score:
B12: Beoordelaar 4 | D12: ='Beoordelaar 4'!C5 -> Score: | G12: ='Beoordelaar 4'!F5 -> Score: | J12: ='Beoordelaar 4'!I5 -> Score:
D13: Score: | G13: Score: | J13: Score:
D14: =IF(D13="Uitmuntend","€ 25.000",IF(D13="Goed","€ 12.500",IF(D13="Voldoende","€ 5.000",IF(D13="Matig","€ 0",IF(D13="Onvoldoende","KNOCK OUT"," "))))) | G14: =IF(G13="Uitmuntend","€ 25.000",IF(G13="Goed","€ 12.500",IF(G13="Voldoende","€ 5.000",IF(G13="Matig","€ 0",IF(G13="Onvoldoende","KNOCK OUT"," "))))) | J14: =IF(J13="Uitmuntend","€ 25.000",IF(J13="Goed","€ 12.500",IF(J13="Voldoende","€ 5.000",IF(J13="Matig","€ 0",IF(J13="Onvoldoende","KNOCK OUT"," ")))))
A15: ='Beoordelen open vragen'!A7 -> 7.1.3 ONDERHOUD VLOEREN | B15: Beoordelaar 1 | D15: ='Beoordelaar 1'!C7 -> Score: | E15: <<motivatie CONSENSUS>> | G15: ='Beoordelaar 1'!F7 -> Score: | H15: <<motivatie CONSENSUS>> | J15: ='Beoordelaar 1'!I7 -> Score: | K15: <<motivatie CONSENSUS>>
B16: Beoordelaar 2 | D16: ='Beoordelaar 2'!C7 -> Score: | G16: ='Beoordelaar 2'!F7 -> Score: | J16: ='Beoordelaar 2'!I7 -> Score:
B17: Beoordelaar 3 | D17: ='Beoordelaar 3'!C7 -> Score: | G17: ='Beoordelaar 3'!F7 -> Score: | J17: ='Beoordelaar 3'!I7 -> Score:
B18: Beoordelaar 4 | D18: ='Beoordelaar 4'!C7 -> Score: | G18: ='Beoordelaar 4'!F7 -> Score: | J18: ='Beoordelaar 4'!I7 -> Score:
A19: Consensus | D19: Score: | G19: Score: | J19: Score:
D20: =IF(D19="Uitmuntend","€ 5.000",IF(D19="Goed","€ 2.500",IF(D19="Voldoende","€ 1.000",IF(D19="Matig","€ 0",IF(D19="Onvoldoende","KNOCK OUT"," "))))) | G20: =IF(G19="Uitmuntend","€ 5.000",IF(G19="Goed","€ 2.500",IF(G19="Voldoende","€ 1.000",IF(G19="Matig","€ 0",IF(G19="Onvoldoende","KNOCK OUT"," "))))) | J20: =IF(J19="Uitmuntend","€ 5.000",IF(J19="Goed","€ 2.500",IF(J19="Voldoende","€ 1.000",IF(J19="Matig","€ 0",IF(J19="Onvoldoende","KNOCK OUT"," ")))))
A21: ='Beoordelen open vragen'!A9 -> 7.1.4 INVULLING WERKZAAMHEDEN LEIDINGGEVENDE | B21: Beoordelaar 1 | D21: ='Beoordelaar 1'!C9 -> Score: | E21: <<motivatie CONSENSUS>> | G21: ='Beoordelaar 1'!F9 -> Score: | H21: <<motivatie CONSENSUS>> | J21: ='Beoordelaar 1'!I9 -> Score: | K21: <<motivatie CONSENSUS>>
B22: Beoordelaar 2 | D22: ='Beoordelaar 2'!C9 -> Score: | G22: ='Beoordelaar 2'!F9 -> Score: | J22: ='Beoordelaar 2'!I9 -> Score:
B23: Beoordelaar 3 | D23: ='Beoordelaar 3'!C9 -> Score: | G23: ='Beoordelaar 3'!F9 -> Score: | J23: ='Beoordelaar 3'!I9 -> Score:
B24: Beoordelaar 4 | D24: ='Beoordelaar 4'!C9 -> Score: | G24: ='Beoordelaar 4'!F9 -> Score: | J24: ='Beoordelaar 4'!I9 -> Score:
A25: Consensus | D25: Score: | G25: Score: | J25: Score:
D26: =IF(D25="Uitmuntend","€ 10.000",IF(D25="Goed","€ 5.000",IF(D25="Voldoende","€ 2.000",IF(D25="Matig","€ 0",IF(D25="Onvoldoende","KNOCK OUT"," "))))) | G26: =IF(G25="Uitmuntend","€ 10.000",IF(G25="Goed","€ 5.000",IF(G25="Voldoende","€ 2.000",IF(G25="Matig","€ 0",IF(G25="Onvoldoende","KNOCK OUT"," "))))) | J26: =IF(J25="Uitmuntend","€ 10.000",IF(J25="Goed","€ 5.000",IF(J25="Voldoende","€ 2.000",IF(J25="Matig","€ 0",IF(J25="Onvoldoende","KNOCK OUT"," ")))))
A27: ='Beoordelen open vragen'!A11 -> 7.1.5 KWALITEITSVERBETERING | B27: Beoordelaar 1 | D27: ='Beoordelaar 1'!C11 -> Score: | E27: <<motivatie CONSENSUS>> | G27: ='Beoordelaar 1'!F11 -> Score: | H27: <<motivatie CONSENSUS>> | J27: ='Beoordelaar 1'!I11 -> Score: | K27: <<motivatie CONSENSUS>>
B28: Beoordelaar 2 | D28: ='Beoordelaar 2'!C11 -> Score: | G28: ='Beoordelaar 2'!F11 -> Score: | J28: ='Beoordelaar 2'!I11 -> Score:
B29: Beoordelaar 3 | D29: ='Beoordelaar 3'!C11 -> Score: | G29: ='Beoordelaar 3'!F11 -> Score: | J29: ='Beoordelaar 3'!I11 -> Score:
B30: Beoordelaar 4 | D30: ='Beoordelaar 4'!C11 -> Score: | G30: ='Beoordelaar 4'!F11 -> Score: | J30: ='Beoordelaar 4'!I11 -> Score:
A31: Consensus | D31: Score: | G31: Score: | J31: Score:
D32: =IF(D31="Uitmuntend","€ 10.000",IF(D31="Goed","€ 5.000",IF(D31="Voldoende","€ 2.000",IF(D31="Matig","€ 0",IF(D31="Onvoldoende","KNOCK OUT"," "))))) | G32: =IF(G31="Uitmuntend","€ 10.000",IF(G31="Goed","€ 5.000",IF(G31="Voldoende","€ 2.000",IF(G31="Matig","€ 0",IF(G31="Onvoldoende","KNOCK OUT"," "))))) | J32: =IF(J31="Uitmuntend","€ 10.000",IF(J31="Goed","€ 5.000",IF(J31="Voldoende","€ 2.000",IF(J31="Matig","€ 0",IF(J31="Onvoldoende","KNOCK OUT"," ")))))
A33: ='Beoordelen open vragen'!A13 -> 7.1.6 OVERMACHTSSITUATIES | B33: Beoordelaar 1 | D33: ='Beoordelaar 1'!C13 -> Score: | E33: <<motivatie CONSENSUS>> | G33: ='Beoordelaar 1'!F13 -> Score: | H33: <<motivatie CONSENSUS>> | J33: ='Beoordelaar 1'!I13 -> Score: | K33: <<motivatie CONSENSUS>>
B34: Beoordelaar 2 | D34: ='Beoordelaar 2'!C13 -> Score: | G34: ='Beoordelaar 2'!F13 -> Score: | J34: ='Beoordelaar 2'!I13 -> Score:
B35: Beoordelaar 3 | D35: ='Beoordelaar 3'!C13 -> Score: | G35: ='Beoordelaar 3'!F13 -> Score: | J35: ='Beoordelaar 3'!I13 -> Score:
B36: Beoordelaar 4 | D36: ='Beoordelaar 4'!C13 -> Score: | G36: ='Beoordelaar 4'!F13 -> Score: | J36: ='Beoordelaar 4'!I13 -> Score:
A37: Consensus | D37: Score: | G37: Score: | J37: Score:
D38: =IF(D37="Uitmuntend","€ 5.000",IF(D37="Goed","€ 2.500",IF(D37="Voldoende","€ 1.000",IF(D37="Matig","€ 0",IF(D37="Onvoldoende","KNOCK OUT"," "))))) | G38: =IF(G37="Uitmuntend","€ 5.000",IF(G37="Goed","€ 2.500",IF(G37="Voldoende","€ 1.000",IF(G37="Matig","€ 0",IF(G37="Onvoldoende","KNOCK OUT"," "))))) | J38: =IF(J37="Uitmuntend","€ 5.000",IF(J37="Goed","€ 2.500",IF(J37="Voldoende","€ 1.000",IF(J37="Matig","€ 0",IF(J37="Onvoldoende","KNOCK OUT"," ")))))
A39: ='Beoordelen open vragen'!A15 -> 7.1.7 MILIEU EN DUURZAAMHEID | B39: Beoordelaar 1 | D39: ='Beoordelaar 1'!C15 -> Score: | E39: <<motivatie CONSENSUS>> | G39: ='Beoordelaar 1'!F15 -> Score: | H39: <<motivatie CONSENSUS>> | J39: ='Beoordelaar 1'!I15 -> Score: | K39: <<motivatie CONSENSUS>>
B40: Beoordelaar 2 | D40: ='Beoordelaar 2'!C15 -> Score: | G40: ='Beoordelaar 2'!F15 -> Score: | J40: ='Beoordelaar 2'!I15 -> Score:
...

Sheet Eindscores
A1: Totaalwaarde criterium kwaliteit
A2: Onderdeel | C2: ='Beoordelaar 1'!C1:D1 -> <NAAM INSCHRIJVER> | E2: ='Beoordelaar 1'!F1 -> <NAAM INSCHRIJVER> | G2: ='Beoordelaar 1'!I1 -> <NAAM INSCHRIJVER>
A3: 6.1 Open vragen + toelichting | C3: =Consensus!D46 -> #VALUE! | E3: =Consensus!G46 -> #VALUE! | G3: =Consensus!J46 -> #VALUE!
A4: 6.3 Interview sleutelfunctionarissen | C4: =Consensus!D74 -> #VALUE! | E4: =Consensus!G74 -> #VALUE! | G4: =Consensus!J74 -> #VALUE!
A5: Totaal behaalde waarde criterium kwaliteit: | C5: =C3+C4 -> #VALUE! | E5: =E3+E4 -> #VALUE! | G5: =G3+G4 -> #VALUE!
A7: Totaal behaalde waarde criterium prijs: | C7: 0 | E7: 0 | G7: 0
A9: FICTIEVE EINDWAARDE (prijs -/- kwaliteit): | C9: =C7-C5 -> #VALUE! | E9: =E7-E5 -> #VALUE! | G9: =G7-G5 -> #VALUE!
