Workbook
Name bbi: #REF!
Name bbiw: [1]Woningen!$G$21
Name bbo: #REF!
Name bbow: [1]Woningen!$G$11
Name bdo: #REF!
Name bdow: [1]Woningen!$G$17
Name bgo: #REF!
Name bgob: [1]Woningen!$G$13
Name BTW: #REF!
Name bvo: #REF!
Name bvow: [1]Woningen!$G$10
Name dg: #REF!
Name Factor_kopgevel: #REF!
Name Factor_kopgevelw: [1]Woningen!$Q$15
Name gd: #REF!
Name gfh: #REF!
Name ob: #REF!
Name od: #REF!
Name og: #REF!
Name tabel: #REF!
Name tabel2: [2]Hoofdbouwdelen!$A$3:$B$45

Sheet Toelichting
B2: Toelichting Bijlage 2 - Prijzenblad MF-TR-KDV
B4: Voor de uitwerking van de gevraagde prijzen dient u gebruik te maken van dit format “Prijzenblad”.
B6: TAB 1: Kosten totaal
B7: Op het werkblad “Kosten totaal” worden alle kosten voor het MJOP, noodzakelijke onderhouds-, beheer- en advieskosten opgenomen per jaar die naar inzicht van Inschrijver nodig zijn om te kunnen voldoen aan alle genoemde (prestatie)eisen in de Offerteaanvraag binnen de gegevens kaders (waaronder het minimum en maximum budget per jaar). De inschrijfprijs (TOTAAL) moet zijn gebaseerd op de aanbodscope van Inschrijver en op alle generieke en specifieke informatie in het totale aanbestedingsdossier. Alles wat nodig is om invulling te geven aan de doelstellingen van de VU en de gebruikersorganisaties moet in de inschrijfprijs zijn inbegrepen. De inschrijfprijs kan op het tabblad "Kosten totaal" worden bijgevoegd. De bedragen in de kolommen Bouwkundig (planmatig) en Installaties (planmatig) worden autiomatisch berekend uit de totaalbedragen in tabblad "3, 5 en 7 MJOP Bouwkundig" en "4, 6 en 8 MJOP Installaties". De bedragen voor niet-planmatige werkzaamheden worden automatisch berekend aan de hand van de ingevulde tarieven in tabblad "2 Uurtarieven". De bedragen voor Vaste kosten beheerorganisatie en Opstellen en actualiseren MJOP en jaarplannen dienen handmatig ingevuld te worden.
B8: TAB 2: Uurtarieven
B9: Op het werkblad "2. Uurtarieven" dienen in de kolommen D12, D13, D15, D16, D17 de uurtarieven ingevuld te worden voor niet-planmatige werkzaamheden. Eenzelfde uurtarief voor de diverse soorten werkzaamheden is uiteraard mogelijk een €0 tarief is niet toegestaan. In de kolommen D26 t/m D29 dienen de opslagpercentages ingevuld te worden bij werkzaamheden buiten kantoortijden. Een opslagpercentage van 0% is hier wel toegestaan. In de kolommen D35 en D37 dienen de opslagpercentages ingevuld te worden voor materiaal bij niet planmatige werkzaamheden of werkzaamheden buiten scope en inzet derden bij werkzaamheden buiten scope. Een opslagpercentage van 0% is toegestaan.
B10: TAB 3, 5 en 7: MJOP Bouwkundig
B11: Inschrijver wordt gevraagd de onderhoudsactiviteiten af te prijzen. Inschrijver mag naar eigen inzicht activiteiten aanpassen, toevoegen, beperken, combineren etc. door middel van het leggen van de link met de prestatieonderhoudsniveaus. Uiteindelijk dient er doelmatig onderhoud gepleegd te worden. De keuzes hierin dienen uitgelegd te worden in het Plan van Aanpak MJOP. De getotaliseerde onderhoudskosten die voor de jaarplannen 2020 t/m 2025 door inschrijver zijn berekend komen vervolgens weer terug in het werkblad “1. Kosten totaal” onderdeel “Bouwkundig Planmatig”.
B12: TAB 4, 6 en 8: MJOP Installaties
B13: Inschrijver wordt gevraagd de onderhoudsactiviteiten af te prijzen. Inschrijver mag naar eigen inzicht activiteiten aanpassen, toevoegen, beperken, combineren etc. door middel van het leggen van de link met de prerstatieonderhoudsniveaus. Uiteindelijk dient er doelmatig onderhoud gepleegd te worden. De keuzes hierin dienen uitgelegd te worden in het Plan van Aanpak MJOP. De getotaliseerde onderhoudskosten die voor de jaarplannen 2020 t/m 2025 door inschrijver zijn berekend komen vervolgens weer terug in het werkblad “1. Kosten totaal” onderdeel “Installaties Planmatig”.

Sheet 1. Kosten totaal
B1: Vaste kosten per jaar
C3: Uitleg:
C4: Prijspeil 2020, vervolgjaren mogen in overleg en na goedkeuring van VGB worden geindexeerd.
B6: Omschrijving | E6: Bijzonderheden, opmerkingen of toelichting
F7: 2020 | G7: 2021 | H7: 2022 | I7: 2023 | J7: 2024 | K7: 2025 | L7: TOTAAL
F8: excl. BTW | G8: excl. BTW | H8: excl. BTW | I8: excl. BTW | J8: excl. BTW | K8: excl. BTW | L8: excl. BTW
C9: NEN-EN 15221
B10: 1. | C10: Medische Faculteit Bouwkundig
C11: Planmatig | E11: Bedrag uit MJOP | F11: ='3. MF-Bouwkundig'!N167 -> 0 | G11: ='3. MF-Bouwkundig'!O167 -> 0 | H11: ='3. MF-Bouwkundig'!P167 -> 0 | I11: ='3. MF-Bouwkundig'!Q167 -> 0 | J11: ='3. MF-Bouwkundig'!R167 -> 0 | K11: ='3. MF-Bouwkundig'!S167 -> 0 | L11: =SUM(F11:K11) -> 0
C12: Niet-planmatig | E12: O.b.v. aantal uren | F12: ='2. Uurtarieven'!$G$14*'2. Uurtarieven'!$D$14 -> 0 | G12: ='2. Uurtarieven'!$G$14*'2. Uurtarieven'!$D$14 -> 0 | H12: ='2. Uurtarieven'!$G$14*'2. Uurtarieven'!$D$14 -> 0 | I12: ='2. Uurtarieven'!$G$14*'2. Uurtarieven'!$D$14 -> 0 | J12: ='2. Uurtarieven'!$G$14*'2. Uurtarieven'!$D$14 -> 0 | K12: ='2. Uurtarieven'!$G$14*'2. Uurtarieven'!$D$14 -> 0 | L12: =SUM(F12:K12) -> 0
B13: 2. | C13: Medische Faculteit Installaties
C14: Planmatig | E14: Bedrag uit MJOP | F14: ='4. MF-Installaties'!V654 -> 0 | G14: ='4. MF-Installaties'!W654 -> 0 | H14: ='4. MF-Installaties'!X654 -> 0 | I14: ='4. MF-Installaties'!Y654 -> 0 | J14: ='4. MF-Installaties'!Z654 -> 0 | K14: ='4. MF-Installaties'!AA654 -> 0 | L14: =SUM(F14:K14) -> 0
C15: Niet-planmatig | E15: O.b.v. aantal uren | F15: ='2. Uurtarieven'!$G$18*'2. Uurtarieven'!$D$18 -> 0 | G15: ='2. Uurtarieven'!$G$18*'2. Uurtarieven'!$D$18 -> 0 | H15: ='2. Uurtarieven'!$G$18*'2. Uurtarieven'!$D$18 -> 0 | I15: ='2. Uurtarieven'!$G$18*'2. Uurtarieven'!$D$18 -> 0 | J15: ='2. Uurtarieven'!$G$18*'2. Uurtarieven'!$D$18 -> 0 | K15: ='2. Uurtarieven'!$G$18*'2. Uurtarieven'!$D$18 -> 0 | L15: =SUM(F15:K15) -> 0
C16: Totaal MF (maximaal € 162.500,- per jaar) | F16: =SUM(F11:F15) -> 0 | G16: =SUM(G11:G15) -> 0 | H16: =SUM(H11:H15) -> 0 | I16: =SUM(I11:I15) -> 0 | J16: =SUM(J11:J15) -> 0 | K16: =SUM(K11:K15) -> 0 | O16: =162.5+65+12.5 -> 240
B18: 3. | C18: Transitorium Bouwkundig
C19: Planmatig | E19: Bedrag uit MJOP | F19: ='5. TR-Bouwkundig'!M169 -> 0 | G19: ='5. TR-Bouwkundig'!N169 -> 0 | H19: ='5. TR-Bouwkundig'!O169 -> 0 | I19: ='5. TR-Bouwkundig'!P169 -> 0 | J19: ='5. TR-Bouwkundig'!Q169 -> 0 | K19: ='5. TR-Bouwkundig'!R169 -> 0 | L19: =SUM(F19:K19) -> 0
C20: Niet-planmatig | E20: O.b.v. aantal uren | F20: ='2. Uurtarieven'!$I$14*'2. Uurtarieven'!$D$14 -> 0 | G20: ='2. Uurtarieven'!$I$14*'2. Uurtarieven'!$D$14 -> 0 | H20: ='2. Uurtarieven'!$I$14*'2. Uurtarieven'!$D$14 -> 0 | I20: ='2. Uurtarieven'!$I$14*'2. Uurtarieven'!$D$14 -> 0 | J20: ='2. Uurtarieven'!$I$14*'2. Uurtarieven'!$D$14 -> 0 | K20: ='2. Uurtarieven'!$I$14*'2. Uurtarieven'!$D$14 -> 0 | L20: =SUM(F20:K20) -> 0
B21: 4. | C21: Transitorium Installaties
C22: Planmatig | E22: Bedrag uit MJOP | F22: ='6. TR-Installaties'!V192 -> 0 | G22: ='6. TR-Installaties'!W192 -> 0 | H22: ='6. TR-Installaties'!X192 -> 0 | I22: ='6. TR-Installaties'!Y192 -> 0 | J22: ='6. TR-Installaties'!Z192 -> 0 | K22: ='6. TR-Installaties'!AA192 -> 0 | L22: =SUM(F22:K22) -> 0
C23: Niet-planmatig | E23: O.b.v. aantal uren | F23: ='2. Uurtarieven'!$I$18*'2. Uurtarieven'!$D$18 -> 0 | G23: ='2. Uurtarieven'!$I$18*'2. Uurtarieven'!$D$18 -> 0 | H23: ='2. Uurtarieven'!$I$18*'2. Uurtarieven'!$D$18 -> 0 | I23: ='2. Uurtarieven'!$I$18*'2. Uurtarieven'!$D$18 -> 0 | J23: ='2. Uurtarieven'!$I$18*'2. Uurtarieven'!$D$18 -> 0 | K23: ='2. Uurtarieven'!$I$18*'2. Uurtarieven'!$D$18 -> 0 | L23: =SUM(F23:K23) -> 0
C24: Totaal Transitorium (maximaal € 65.000,- per jaar) | F24: =SUM(F19:F23) -> 0 | G24: =SUM(G19:G23) -> 0 | H24: =SUM(H19:H23) -> 0 | I24: =SUM(I19:I23) -> 0 | J24: =SUM(J19:J23) -> 0 | K24: =SUM(K19:K23) -> 0
B26: 5. | C26: Kinderdagverblijf Bouwkundig
C27: Planmatig | E27: Bedrag uit MJOP | F27: ='7. KDV-Bouwkundig'!N91 -> 0 | G27: ='7. KDV-Bouwkundig'!O91 -> 0 | H27: ='7. KDV-Bouwkundig'!P91 -> 0 | I27: ='7. KDV-Bouwkundig'!Q91 -> 0 | J27: ='7. KDV-Bouwkundig'!R91 -> 0 | K27: ='7. KDV-Bouwkundig'!S91 -> 0 | L27: =SUM(F27:K27) -> 0
C28: Niet-planmatig | E28: O.b.v. aantal uren | F28: ='2. Uurtarieven'!$K$14*'2. Uurtarieven'!$D$14 -> 0 | G28: ='2. Uurtarieven'!$K$14*'2. Uurtarieven'!$D$14 -> 0 | H28: ='2. Uurtarieven'!$K$14*'2. Uurtarieven'!$D$14 -> 0 | I28: ='2. Uurtarieven'!$K$14*'2. Uurtarieven'!$D$14 -> 0 | J28: ='2. Uurtarieven'!$K$14*'2. Uurtarieven'!$D$14 -> 0 | K28: ='2. Uurtarieven'!$K$14*'2. Uurtarieven'!$D$14 -> 0 | L28: =SUM(F28:K28) -> 0
B29: 6. | C29: Kinderdagverblijf Installaties
C30: Planmatig | E30: Bedrag uit MJOP | F30: ='8. KDV-Installaties'!V67 -> 0 | G30: ='8. KDV-Installaties'!W67 -> 0 | H30: ='8. KDV-Installaties'!X67 -> 0 | I30: ='8. KDV-Installaties'!Y67 -> 0 | J30: ='8. KDV-Installaties'!Z67 -> 0 | K30: ='8. KDV-Installaties'!AA67 -> 0 | L30: =SUM(F30:K30) -> 0
C31: Niet-planmatig | E31: O.b.v. aantal uren | F31: ='2. Uurtarieven'!$K$18*'2. Uurtarieven'!$D$18 -> 0 | G31: ='2. Uurtarieven'!$K$18*'2. Uurtarieven'!$D$18 -> 0 | H31: ='2. Uurtarieven'!$K$18*'2. Uurtarieven'!$D$18 -> 0 | I31: ='2. Uurtarieven'!$K$18*'2. Uurtarieven'!$D$18 -> 0 | J31: ='2. Uurtarieven'!$K$18*'2. Uurtarieven'!$D$18 -> 0 | K31: ='2. Uurtarieven'!$K$18*'2. Uurtarieven'!$D$18 -> 0 | L31: =SUM(F31:K31) -> 0
C32: Totaal Kinderdagverblijf (maximaal € 12.500,- per jaar) | F32: =SUM(F27:F31) -> 0 | G32: =SUM(G27:G31) -> 0 | H32: =SUM(H27:H31) -> 0 | I32: =SUM(I27:I31) -> 0 | J32: =SUM(J27:J31) -> 0 | K32: =SUM(K27:K31) -> 0
B34: 7 | C34: Vaste kosten beheer organisatie | L34: =SUM(F34:K34) -> 0
B35: 8 | C35: Opstellen en actualiseren MJOP & jaarplannen | L35: =SUM(F35:K35) -> 0
C37: TOTAAL INSCHRIJFPRIJS onderhoud (maximaal € 240.000,- per jaar) | F37: =SUM(F11+F12+F14+F15+F19+F20+F22+F23+F27+F28+F30+F31+F34+F35) -> 0 | G37: =SUM(G11+G12+G14+G15+G19+G20+G22+G23+G27+G28+G30+G31+G34+G35) -> 0 | H37: =SUM(H11+H12+H14+H15+H19+H20+H22+H23+H27+H28+H30+H31+H34+H35) -> 0 | I37: =SUM(I11+I12+I14+I15+I19+I20+I22+I23+I27+I28+I30+I31+I34+I35) -> 0 | J37: =SUM(J11+J12+J14+J15+J19+J20+J22+J23+J27+J28+J30+J31+J34+J35) -> 0 | K37: =SUM(K11+K12+K14+K15+K19+K20+K22+K23+K27+K28+K30+K31+K34+K35) -> 0 | L37: =SUM(F37:K37) -> 0
B39: 9 | C39: Extra benodigd budget voor realiseren gewenste kwaliteitsniveau o.b.v. beleidsparameters | F39: 0 | G39: 0 | H39: 0 | I39: 0 | J39: 0 | K39: 0 | L39: =SUM(F39:K39) -> 0
C42: TOTAAL vergelijkingswaarde (minimaal € 250.000 en maximaal € 350.000 per jaar) | F42: =F37+F39 -> 0 | G42: =G37+G39 -> 0 | H42: =H37+H39 -> 0 | I42: =I37+I39 -> 0 | J42: =J37+J39 -> 0 | K42: =K37+K39 -> 0 | L42: =SUM(F42:K42) -> 0

Sheet 2. Uurtarieven
B1: Overzicht uurtarieven en opslagpercentages
B3: Uitleg:
B4: De kosten voor regiewerkzaamheden kunnen per geval, na akkoord en opdracht door VGB, in rekening worden gebracht. Voor het uitvoeren van deze werkzaamheden geldt één uurtarief per aard van de werkzaamheden. Dit tarief dient per aard van de werkzaamheden loonkosten, reis- en verblijfkosten, algemene bedrijfskosten, winst en risico, een monteur, servicemonteur, werkvoorbereider, projectleider, etc. inclusief sociale lasten, te zijn opgebouwd.
B5: De leverancier is gehouden om VGB inzicht te geven in haar berekening van de integrale kostprijs van regiewerkzaamheden.
B7: Uurtarieven, prijspeil 2020, voor vervolg jaren mag in overleg met VGB geïndexeerd worden.
B9: Aard van de werkzaamheden | D9: Uurtarief in € | G9: Medische faculteit | I9: Transitorium | K9: KDV
D10: excl. BTW | G10: Uren | H10: Totaal per jaar | I10: Uren | J10: Totaal per jaar | K10: Uren | L10: Totaal per jaar
B11: 5
B12: B | C12: Bouwkundige werkzaamheden | D12: 0 | G12: 90 | H12: =G12*$D$12 -> 0 | I12: 30 | J12: =I12*$D$12 -> 0 | K12: 2 | L12: =K12*$D$12 -> 0
B13: B | C13: Schilderwerk | D13: 0 | G13: 10 | H13: =G13*$D$13 -> 0 | I13: 3 | J13: =I13*$D$13 -> 0 | K13: 0 | L13: =K13*$D$13 -> 0
C14: Gemiddeld uurtarief Bouw | D14: =AVERAGE(D12:D13) -> 0 | G14: 100 | H14: =SUM(H12:H13) -> 0 | I14: =I12+I13 -> 33 | J14: =SUM(J12:J13) -> 0 | K14: =K12+K13 -> 2 | L14: =SUM(L12:L13) -> 0
B15: I | C15: Loodgieterswerkzaamheden | D15: 0 | G15: 380 | H15: =G15*$D$15 -> 0 | I15: 128 | J15: =I15*$D$15 -> 0 | K15: 5 | L15: =K15*$D$15 -> 0
B16: I | C16: Werktuigbouwkundig installatiewerk | D16: 0 | G16: 380 | H16: =G16*$D$16 -> 0 | I16: 128 | J16: =I16*$D$16 -> 0 | K16: 5 | L16: =K16*$D$16 -> 0
B17: I | C17: Elektra installatiewerk | D17: 0 | G17: 380 | H17: =G17*$D$17 -> 0 | I17: 128 | J17: =I17*$D$17 -> 0 | K17: 5 | L17: =K17*$D$17 -> 0
C18: Gemiddeld uurtarief Installaties | D18: =AVERAGE(D15:D17) -> 0 | G18: =SUM(G15:G17) -> 1140 | H18: =SUM(H15:H17) -> 0 | I18: =I15+I16+I17 -> 384 | J18: =SUM(J15:J17) -> 0 | K18: =K15+K16+K17 -> 15 | L18: =SUM(L15:L17) -> 0
C19: Gemiddeld uurtarief totaal | D19: =AVERAGE(D14,D18) -> 0 | G19: =G14+G18 -> 1240 | H19: =H14+H18 -> 0 | I19: =I14+I18 -> 417 | J19: =J14+J18 -> 0 | K19: =K14+K18 -> 17 | L19: =L14+L18 -> 0
B21: Opslagpercentages
B23: Opslagpercentages voor werkzaamheden buiten de reguliere werktijden
D24: %
C26: Op werkdagen van 18.00 tot 23.00 uur
C27: Op werkdagen van 23.00 tot 07.30 uur
C28: Op zaterdagen van 07.30 tot 24.00 uur
C29: Op zon- en/of national erkende feestdagen van 00.00 tot 24.00 uur
D30: =AVERAGE(D26:D29) -> #DIV/0!
B32: Opslagpercentages materiaal en inzet derden
D33: %
C35: Materiaal Deze opslag mag alleen worden toegepast bij materialen buiten de initiële scope van het contract. Er wordt een dekkingsopslag gerekend over de netto kosten (lees: factuur excl. BTW) van de verbruikte of geleverde materialen. Materialen die buiten deze bedoelde scope vallen hebben betrekking op onderstaande situaties: - Correctief Onderhoud waar materialen voor gebruikt zijn of noodzakelijke vervanging van onderdelen of installatiecomponenten; - Verzoeken die op nacalculatie verrekend worden waar materialen verbruikt zijn of waar een verzoek tot levering gedaan is; - Aanvullende Werkzaamheden waar materialen voor nodig zijn op verzoek van VU of waar vooraf een prijsafspraak (offerte) voor gemaakt is. Er geldt een maximum van 12,5%
C37: Inzet derden Deze opslag mag alleen worden toegepast bij werkzaamheden buiten de initiële scope van het contract of indien er een onderaannemer op verzoek van de VU wordt ingeschakeld. Er wordt een dekkingsopslag gerekend over de netto kosten (lees: factuur excl. BTW) van de ingeschakelde derde. Werkzaamheden die buiten deze bedoelde scope vallen zijn: - Correctief Onderhoud waar een externe specialist voor nodig is en dus werkzaamheden die niet door de eigen technici van Opdrachtnemer uitgevoerd kunnen worden; - Verzoeken die op nacalculatie verrekend worden waar een externe specialist voor nodig is en dus werkzaamheden die niet door de eigen technici van Opdrachtgever uitgevoerd kunnen worden; - Aanvullende Werkzaamheden op verzoek van VU waar vooraf een prijsafspraak (offerte) voor gemaakt is. Er geldt een maximum van 12,5%

Sheet 3. MF-Bouwkundig
A2: ASSETLIJST VU MEDISCHE FACULTEIT - BOUWKUNDIG
A4: BVO: | B4: 44618
A5: Object: | B5: Medische Faculteit
A6: Bouwlagen | B6: 8 stuks
A7: Datum | B7: 43563
A8: Bouwjaar | B8: 1971
L9: Inschrijver mag naar eigen inzicht activiteiten aanpassen, door middel van het leggen van de link met de prerstatieonderhoudsniveaus. Uiteindelijk dient er doelmatig onderhoud gepleegd te worden. De keuzes hierin dienen uitgelegd te worden in het Plan van Aanpak MJOP.
A12: NL/Sfb code | B12: Omschrijving | C12: Bouwdeel gegevens | D12: Aantal | E12: Eenheid | F12: Discipline | G12: Gebrek | H12: Intensiteit | I12: Omvang | J12: Cvo | K12: Startjaar 2020 | L12: Activiteit | M12: Opmerking | N12: Prijs | T12: Totaal
N13: 2020 | O13: 2021 | P13: 2022 | Q13: 2023 | R13: 2024 | S13: 2025 | T13: 6 jaar
A14: 1- | C14: Bouwkundig
B15: Alg. en Bouwk. incidenteel periodiek onderhoud | C15: Reservering algemeen periodiek onderhoud | D15: 44618 | E15: m2BVO
B16: Alg. periodiek incidenteel OH WET en regelinstall. | C16: Reservering incidenteel en periodiek onderhoud | D16: 44618 | E16: m2BVO
A17: 17 | B17: PAALFUNDERING
A18: 172002 | B18: Paalfundering geheid; beton | C18: Fundering onbekend | D18: 1 | E18: pm | F18: B | J18: 2
A19: 21 | B19: BUITENWANDEN
A20: 212003 | B20: Buitenwanden, constructief; metselwerk | C20: Gevelmetselwerk | D20: 3564 | E20: m2 | F20: B | G20: Scheurvorming / beschadigingen | H20: 3 | I20: 1 | J20: 1 | K20: x
F21: B | G21: Vervuiling | H21: 2 | I21: 4 | J21: 2
A22: 22 | B22: BINNENWANDEN
A23: 221021 | B23: Binnenwand systeem | C23: Systeemwand | D23: 294 | E23: m2 | F23: B | J23: 1
A24: 221003 | B24: Binnenwand metsewlerk | C24: Metselwerk wanden | D24: 1 | E24: pm | F24: B | G24: Scheurvorming | H24: 3 | I24: 1 | J24: 1 | K24: x
A25: 23 | B25: VLOEREN
A26: 232002 | B26: Vloeren constructief; beton | C26: Vloerafwerking betonnen buitenvloer | D26: 786 | E26: m2 | F26: B | J26: 1
C27: Vloer beton | D27: 1236 | E27: m2 | F27: B | G27: Wapening manco tpv entree zijgevel (parkeerplaats) | H27: 3 | I27: 1 | J27: 2 | K27: x
C28: Vloer (banden) beton | D28: 625 | E28: m2 | F28: B | G28: Betonschade tpv vloer (banden) stalen roosters zijgevels | H28: 3 | I28: 1 | J28: 2 | K28: x
A29: 232005 | B29: Vloeren constructief; staal | C29: Stalen roostervloer | D29: 269 | E29: m2 | F29: B | G29: Verwering | H29: 2 | I29: 4 | J29: 3
A30: 24 | B30: TRAPPEN EN HELLINGEN
A31: 241001 | B31: Trappen; hout | C31: Binnentrappen hout | D31: 2 | E31: st | F31: B | J31: 1
A32: 241002 | B32: Trappen; beton | C32: Buitentrappen beton vzv natuursteen | D32: 1 | E32: st | F32: B | G32: Beschadigingen | H32: 3 | I32: 2 | J32: 2 | K32: x
C33: Binnentrappen beton | D33: 20 | E33: st | F33: B | J33: 1
C34: Binnentrappen beton vzv natuursteen | D34: 79 | E34: st | F34: B | G34: Beschadigingen | H34: 3 | I34: 1 | J34: 1
A35: 241005 | B35: Trappen; staal | C35: Buitentrappen staal | D35: 4 | E35: st | F35: B | G35: Veroudering / Corrosie bordes (oppervlakte corrosie treden) | H35: 2 | I35: 5 | J35: 4 | K35: x
C36: Binnentrappen staal vzv houten treden | D36: 6 | E36: st | F36: B | J36: 1
A37: 28 | B37: HOOFDDRAAGCONSTRUCTIES
A38: 281002 | B38: Kolommen en liggers beton | C38: Betonnen komommen (4375m1=5148m2) en liggers (2274m1=1820m2); buiten (uitgeslagen oppervlak) | D38: 6968 | E38: m2 | F38: B | G38: Wapening manco, Beschadigingen/scheurvorming | H38: 3 | I38: 1 | J38: 2 | K38: x
A39: 31 | B39: BUITENWANDOPENINGEN
A40: 314001 | B40: Buitenkozijnwerk; hout / staal (combi kozijnen) | C40: Houten buitenkozijnen voorzien van dekkend schilderwerk | D40: 9998 | E40: m2 | F40: B | G40: Beschadigingen | H40: 3 | I40: 1 | J40: 1
A41: 314005 | B41: Buitenkozijnwerk; staal (transformatordeuren ed) | C41: Stalen buitenkozijnen voorzien van dekkend schilderwerk | D41: 97 | E41: m2 | F41: B | G41: Verwering / veroudering | H41: 2 | I41: 4 | J41: 3
A42: 314101 | B42: Ramen; hout | C42: Houten ramen voorzien van dekkend schilderwerk | D42: 470 | E42: st | F42: B | G42: Hang- en sluitwerk manco | H42: 2 | I42: 3 | J42: 2 | K42: x
A43: 314105 | B43: Ramen; staal | C43: Stalen ramen voorzien van dekkend schilderwerk | D43: 1544 | E43: st | F43: B | G43: Hang- en sluitwerk manco | H43: 2 | I43: 3 | J43: 2 | K43: x
A44: 314201 | B44: Deuren; hout | C44: Houten buitendeuren voorzien van dekkend schilderwerk | D44: 6 | E44: st | F44: B | G44: Hang- en sluitwerk manco | H44: 2 | I44: 3 | J44: 2 | K44: x
...

Sheet 4. MF-Installaties
A2: ASSETLIJST VU MEDISCHE FACULTEIT - INSTALLATIES
A4: BVO: | B4: 44618
A5: Object: | B5: Medische Faculteit
A6: Bouwlagen | B6: 8 stuks
A7: Datum | B7: 43563
A8: Bouwjaar | B8: 1971
T9: Inschrijver mag naar eigen inzicht activiteiten aanpassen, door middel van het leggen van de link met de prerstatieonderhoudsniveaus. Uiteindelijk dient er doelmatig onderhoud gepleegd te worden. De keuzes hierin dienen uitgelegd te worden in het Plan van Aanpak MJOP.
A12: NL/Sfb code | B12: Huurder(H) | C12: Omschrijving | D12: TECHNISCHE STICKER | E12: Installatie gegevens | F12: Aantal | G12: Eenheid | H12: Bouwjaar | I12: Verdieping | J12: Ruimtenummer | K12: capaciteit | L12: eenheid | M12: Cyclus | N12: Discipline | O12: Gebrek | P12: Intensiteit | Q12: Omvang | R12: Cvo | S12: Startjaar 2020 | T12: Activiteit | U12: Opmerking | V12: Prijs | AB12: Totaal
B13: Verhuurder(V) | M13: bouwdeel | V13: 2020 | W13: 2021 | X13: 2022 | Y13: 2023 | Z13: 2024 | AA13: 2025 | AB13: 6 jaar
A14: 1- | C14: Bouwkundig
A15: 3- | C15: Inrichting
A16: 5- | C16: Werktuigbouwkundig
A17: 51 | C17: WARMTEOPWEKKING
A18: 510000 | B18: V | C18: Leidingwerk incl. appendages, afsluiters afscheiders, pompen etc. | F18: 1 | G18: post | H18: 1971 | I18: Gebouw | J18: Gebouw | K18: 44618 | L18: M2/BVO | M18: 50 | N18: W | O18: Corrosie | P18: 3 | Q18: 2 | R18: 3 | S18: x
A19: 513110 | B19: V | C19: Platenwarmtewisselaar | D19: 46MS31000 | E19: Platenwarmtewisselaar Centrifuges koeling H333f | F19: 1 | G19: st | H19: ?? | I19: 3e verdieping | J19: H339 | K19: ?? | L19: ?? | M19: 17 | N19: W | O19: Verval | P19: 3 | Q19: 5 | R19: 4 | S19: x
A20: 513110 | B20: V | C20: Platenwarmtewisselaar (Enchangeur a plaques) | E20: Uranus platenwarmtewisselaar 212 | F20: 4 | G20: st | H20: ?? | I20: Kelder | J20: BK26 | K20: ?? | L20: ?? | M20: 17 | N20: W | O20: Verval | P20: 3 | Q20: 5 | R20: 4 | S20: x
A21: 52 | C21: AFVOEREN
A22: 521110 | B22: V | C22: HWA | F22: 1 | G22: post | H22: 1971 | I22: Daken | J22: Daken | K22: ?? | L22: ?? | M22: 20 | N22: W | R22: 1
A23: 521120 | B23: V | C23: VWA systeem | E23: n.v.t. | F23: 1 | G23: post | H23: 1971 | I23: Gebouw | J23: Gebouw | K23: 44618 | L23: M2/BVO | M23: 50 | N23: W | R23: 1
A24: 521210 | B24: V | C24: Hemelwaterafvoer PVC | E24: Hemelwaterafvoer PVC | F24: 25 | G24: m1 | H24: ?? | I24: Dak | J24: Dak | K24: ?? | L24: ?? | M24: 20 | N24: W | O24: Verwering, ontbrekende hwa en corrosie bevestigers | P24: 2 | Q24: 5 | R24: 4 | S24: x
A25: 521610 | B25: V | C25: Vuilwaterput | E25: Vuilwaterput | F25: 1 | G25: st | H25: ?? | I25: Kelder | J25: AK01 | K25: ?? | L25: ?? | M25: 18 | N25: W | O25: Verval | P25: 3 | Q25: 5 | R25: 4 | S25: x
A26: 521610 | B26: V | C26: Vuilwaterput | E26: Vuilwaterput VDR 21-4 | F26: 1 | G26: st | H26: ?? | I26: Kelder | J26: Ak16 | K26: ?? | L26: ?? | M26: 18 | N26: W | O26: Verval | P26: 3 | Q26: 5 | R26: 4 | S26: x
A27: 521610 | B27: V | C27: Vuilwaterput | E27: Vuilwaterput | F27: 1 | G27: st | H27: ?? | I27: Kelder | J27: BK26 | K27: ?? | L27: ?? | M27: 18 | N27: W | O27: Verval | P27: 3 | Q27: 5 | R27: 4 | S27: x
A28: 521610 | B28: V | C28: Vuilwaterput | E28: Vuilwaterput | F28: 1 | G28: st | H28: ?? | I28: Kelder | J28: CK77 | K28: ?? | L28: ?? | M28: 18 | N28: W | O28: Verval | P28: 3 | Q28: 5 | R28: 4 | S28: x
A29: 521610 | B29: V | C29: Vuilwaterput | E29: Vuilwaterput AWA Drainer 301SE | F29: 1 | G29: st | H29: ?? | I29: Kelder | J29: EK05 | K29: ?? | L29: ?? | M29: 18 | N29: W | O29: Verval | P29: 3 | Q29: 5 | R29: 4 | S29: x
A30: 521610 | B30: V | C30: Vuilwaterput | E30: Vuilwaterput | F30: 1 | G30: st | H30: ?? | I30: Kelder | J30: FK06 | K30: ?? | L30: ?? | M30: 18 | N30: W | O30: Verval | P30: 3 | Q30: 5 | R30: 4 | S30: x
A31: 521610 | B31: V | C31: Vuilwaterput | E31: Vuilwaterput PA-I 2331/Miniboy | F31: 1 | G31: st | H31: ?? | I31: Kelder | J31: GK028 | K31: ?? | L31: ?? | M31: 18 | N31: W | O31: Verval | P31: 3 | Q31: 5 | R31: 4 | S31: x
A32: 521610 | B32: V | C32: Vuilwaterpomp (RV2) | F32: 1 | G32: st | H32: ?? | I32: Kelder | J32: GK-02b | K32: ?? | L32: ?? | M32: 15 | N32: W | O32: Verval | P32: 3 | Q32: 5 | R32: 4 | S32: x
A33: 521610 | B33: V | C33: Vuilwaterpomp 5+6 (RVW3) | E33: Duijvelaar | F33: 2 | G33: st | H33: 2016 | I33: Kelder | J33: AK01-A | K33: ?? | L33: ?? | M33: 15 | N33: W | R33: 1
A34: 523610 | B34: V | C34: Grondwaterpomp | E34: KSB | F34: 1 | G34: st | H34: ?? | I34: Kelder | J34: B-K26 | K34: ?? | L34: ?? | M34: 15 | N34: W | O34: Verval | P34: 2 | Q34: 5 | R34: 3 | S34: x
A35: 523610 | B35: V | C35: Pompunit tbv wasbakken | E35: Pompunit tbv wasbakken | F35: 5 | G35: st | H35: ?? | I35: Kelder | J35: JK | K35: ?? | L35: ?? | M35: 15 | N35: W | O35: Verval | P35: 2 | Q35: 5 | R35: 3 | S35: x
A36: 524030 | B36: V | C36: Afvoer Faecaliën, scheidingsinstallaties | E36: Onderbrekingsinstallatie Mortuarium HUV2 DPL4-40 N 5/4 (Duijvelaar) | F36: 1 | G36: st | H36: ?? | I36: ?? | J36: ?? | K36: ?? | L36: ?? | M36: 15 | N36: W | O36: Verval | P36: 2 | Q36: 5 | R36: 3 | S36: x
A37: 526002 | B37: V | C37: Vetopvanginstallatie | E37: Vetopvangtanks Keuken, KSB | F37: 1 | G37: st | H37: ?? | I37: Kelder | J37: GK02b | K37: ?? | L37: ?? | M37: 15 | N37: W | O37: Verval | P37: 3 | Q37: 5 | R37: 4 | S37: x
A38: 53 | C38: WATER
A39: 531000 | B39: V | C39: Drinkwaterinstallatie (leidingwerk incl. appendages) | E39: Drinkwaterinstallatie | F39: 1 | G39: pm | H39: ?? | I39: Gebouw | J39: Gebouw | K39: 44618 | L39: M2/BVO | M39: 15 | N39: W | O39: Corrosie leidingen en appendages | P39: 3 | Q39: 2 | R39: 3 | S39: x
A40: 535030 | B40: V | C40: Demiwater nabehandeld | E40: Demiwater nabehandeld | F40: 1 | G40: st | H40: ?? | I40: Gebouw | J40: Gebouw | K40: ?? | L40: ?? | M40: 15 | N40: W | O40: Corrosie leidingen en appendages | P40: 3 | Q40: 2 | R40: 3 | S40: x
A41: 535030 | B41: V | C41: Demiwater | E41: Demiwater | F41: 1 | G41: st | H41: ?? | I41: Gebouw | J41: Gebouw | K41: ?? | L41: ?? | M41: 15 | N41: W | O41: Corrosie leidingen en appendages | P41: 3 | Q41: 2 | R41: 3 | S41: x
A42: 531000 | B42: V | C42: Drinkwaterleiding LD | E42: Drinkwaterleiding LD | F42: 1 | G42: pm | H42: ?? | I42: Gebouw | J42: Gebouw | K42: ?? | L42: ?? | M42: 15 | N42: W | O42: Verval | P42: 3 | Q42: 4 | R42: 3
A43: 531000 | B43: V | C43: Drinkwaterleiding HD | E43: Drinkwaterleiding HD | F43: 1 | G43: pm | H43: ?? | I43: Gebouw | J43: Gebouw | K43: ?? | L43: ?? | M43: 15 | N43: W | O43: Verval | P43: 3 | Q43: 4 | R43: 3
A44: 531400 | B44: V | C44: Hydrofoor (4pomps), | E44: PREMIUM LINE HU3 DPV6/3 B VFD CM CC G 1 1/4 x G 2 | F44: 1 | G44: st | H44: 2019 | I44: Kelder | J44: B-K26 | K44: ?? | L44: ?? | M44: 15 | N44: W | O44: Verval | P44: 1 | Q44: 3 | R44: 1
...

Sheet 5. TR-Bouwkundig
A2: ASSETLIJST VU TRANSITORIUM - BOUWKUNDIG
A4: BVO: | B4: 14.803 m2
A5: Object: | B5: Transitorium
A6: Bouwlagen | B6: 7 stuks - inclusief kelder en souterain
A7: Datum | B7: 43572
A8: Bouwjaar | B8: 1968
A9: Bouwkundig | K9: Inschrijver mag naar eigen inzicht activiteiten aanpassen, door middel van het leggen van de link met de prerstatieonderhoudsniveaus. Uiteindelijk dient er doelmatig onderhoud gepleegd te worden. De keuzes hierin dienen uitgelegd te worden in het Plan van Aanpak MJOP.
M12: Prijs | S12: Totaal
A13: NL/Sfb code | B13: Omschrijving | C13: Bouwdeel gegevens | D13: Aantal | E13: Eenheid | F13: Gebrek | G13: Intensiteit | H13: Omvang | I13: Cvo | J13: Startjaar 2020 | K13: Activiteit | L13: Opmerking | M13: 2020 | N13: 2021 | O13: 2022 | P13: 2023 | Q13: 2024 | R13: 2025 | S13: 6 jaar
A14: 1- | C14: Bouwkundig
B15: Alg. en Bouwk. incidenteel periodiek onderhoud | C15: Reservering algemeen periodiek onderhoud | D15: 14803 | E15: m2
B16: Alg. periodiek incidenteel OH WET en regelinstall. | C16: Reservering incidenteel en periodiek onderhoud | D16: 14803 | E16: m2
A17: 17 | B17: PAALFUNDERING
A18: 172002 | B18: Paalfundering; beton | C18: Fundering (onbekend) | D18: 1 | E18: pm | I18: 1
A19: 21 | B19: BUITENWANDEN
A20: 211000 | B20: Buitenwanden | C20: Gebitumineerde polyestermat slabbe onderin oostgevel (Bims steen) en onder kozijnen onderin oostgevel (ruimte 0A-01) | D20: 25 | E20: m1 | F20: Verwering | G20: 3 | H20: 5 | I20: 5 | J20: x
A21: 211002 | B21: Buitenwanden, niet constructief beton | C21: Gevelelementen gewassen beton (2268m2) | D21: 2278 | E21: m2 | F21: Incidenteel afgeboerde randen | G21: 3 | H21: 1 | I21: 1 | J21: x
C22: Betonbanden v.v. dekkend schilderwerk, binnenplaats (21m1=10m2) | F22: Vuilaanslag en roestpitjes | G22: 1 | H22: 5 | I22: 3 | J22: x
A23: 211005 | B23: Buitenwanden, niet constructief staal | C23: Gemoffelde metalen hoekstrippen gevelpanelen. | D23: 53 | E23: m2 | F23: Corrosieplekken t.p.v. bevestiging | G23: 3 | H23: 1 | I23: 1 | J23: x
A24: 212003 | B24: Buitenwanden, niet constructief metselwerk | C24: Gevelmetselwerk Bims steen v.v. cementgebonden voegwerk (dakopbouw en kopgevel bouwdeel D) (248m2) | D24: 298 | E24: m2 | F24: Scheuren t.p.v. dakopbouw | G24: 3 | H24: 1 | I24: 2 | J24: x
C25: Metselwerk Bims steen v.v. cementgebonden voegwerk, bloembakken buitenruimte kelder (50m2) | F25: Breuk plantenbakken | G25: 3 | H25: 1 | I25: 2 | J25: x
F26: Vuilaanslag | G26: 1 | H26: 5 | I26: 3 | J26: x
C27: Gemoffelde aluminium dakranden hoofddak en t.p.v. binnenplaats | D27: 259 | E27: m1 | F27: Verwering | G27: 1 | H27: 5 | I27: 3
A28: 22 | B28: BINNENWANDEN
A29: 221002 | B29: Seperatiewand; steenachtig | C29: Diverse niet dragende binnenwanden, deels v.v. muurverfafwerking | D29: 7397 | E29: m2 | I29: 1
A30: 222003 | B30: Binnenwanden, constructief metselwerk | C30: Schoon metselwerk betonsteen v.v. voegwerk platvol | D30: 816 | E30: m2 | F30: Breuk t.p.v. gang 3F-00 en K2B-00 (tevens diverse beschadigingen geconstateerd) | G30: 3 | H30: 1 | I30: 1 | J30: x
A31: 23 | B31: VLOEREN
A32: 232002 | B32: Vloeren, constructief beton | C32: Betonvloer constructief | D32: 1 | E32: pm | F32: Breuk in glazen bouwstenen | G32: 3 | H32: 1 | I32: 2 | J32: x
C33: Betonvloer kelderdak met betontegels en glazen bouwstenen t.p.v. westgevel
C34: Betonnen omloopgalerijen / balustrade deels v.v. dekkend systeem (625m1 1,5m breed) | D34: 938 | E34: m2 | F34: Breuk/afboeren voornamelijk op aansluiting balustrade op galerijranden op veel plekken (ca 310 balusters) | G34: 3 | H34: 3 | I34: 4 | J34: x
A35: 24 | B35: TRAPPEN EN HELLINGEN
A36: 241002 | B36: Trappen beton | C36: Buitentrap beton (wenteltrap) (3st) | D36: 42 | E36: st | F36: Breuk in trede wenteltrap begane grond en buitentrap entree | G36: 3 | H36: 1 | I36: 2 | J36: x
C37: Buitentrap beton entree v.v. betontegels (1st)
C38: Binnentrap beton v.v. linoleum (opstapje 2e bouwdeel B) (1st)
C39: Binnentrap beton v.v. linoleum (opstapje begane grond bouwdeel B) (2st)
C40: Binnentrap grindbeton onafgewerkt (3 trappenhuizen) (35st)
A41: 241005 | B41: Trappen staal | C41: Buitentrap gegalvaniseerd staal (uitgang vleugel E begane grond) (1st) | D41: 3 | E41: st | F41: Verwering zinklaag buitentrap | G41: 1 | H41: 4 | I41: 2
C42: Binnentrap verzinkt staal (1st)
C43: Binnentrap staal v.v. dekkend schilderwerk (3e naar 4e bouwdeel B) (1st)
A44: 244006 | B44: Ladders en klimijzers | C44: Gemoffelde stalen kooiladders | D44: 3 | E44: st | I44: 1
...

Sheet 6. TR-Installaties
A2: ASSETLIJST VU TRANSITORIUM - INSTALLATIES
A4: BVO: | B4: 14803 m2
A5: Object: | B5: Transitorium
A6: Bouwlagen | B6: 7 stuks - inclusief kelder en souterain | T6: Inschrijver mag naar eigen inzicht activiteiten aanpassen, door middel van het leggen van de link met de prerstatieonderhoudsniveaus. Uiteindelijk dient er doelmatig onderhoud gepleegd te worden. De keuzes hierin dienen uitgelegd te worden in het Plan van Aanpak MJOP.
A7: Datum | B7: 43572
A8: Bouwjaar | B8: 1968
V12: Prijs | AB12: Totaal
A13: NL/Sfb code | B13: Huurder (H)/Verhuurder(V) | C13: Omschrijving | D13: TECHNISCHE STICKER | E13: Installatie gegevens | F13: Aantal | G13: Eenheid | H13: Bouwjaar | I13: Verdieping | J13: Ruimtenummer | K13: capaciteit | L13: eenheid | M13: Cyclus bouwdeel | N13: Discipline | O13: Gebrek | P13: Intensiteit | Q13: Omvang | R13: Cvo | S13: Startjaar 2020 | T13: Activiteit | U13: Opmerking | V13: 2020 | W13: 2021 | X13: 2022 | Y13: 2023 | Z13: 2024 | AA13: 2025 | AB13: 6 jaar
A14: 1- | C14: Bouwkundig
A15: 3- | C15: Inrichting
A16: 5- | C16: Werktuigbouwkundig
C17: Alg. en install. incidenteel periodiek onderhoud | F17: 14803 | G17: m2 BVO
C18: Alg. periodiek incidenteel OH WET en regelinstall. | F18: 14803 | G18: m2 BVO
A19: 51 | C19: WARMTEOPWEKKING
A20: 510000 | B20: V | C20: Leidingwerk incl. appendages, afsluiters afscheiders, pompen etc. | F20: 1 | G20: post | H20: 1968 | I20: Gebouw | J20: Gebouw | K20: 14803 | L20: M2/BVO | M20: 50 | N20: W | O20: Corrosie leidingen en gescheurd isolatiemateriaal | P20: 3 | Q20: 2 | R20: 3 | S20: x
A21: 513110 | B21: V | C21: TA | E21: TA | F21: 4 | G21: st | H21: -- | I21: Kelder | J21: K2B32 | M21: 15 | N21: W | O21: Verval | P21: 2 | Q21: 5 | R21: 3
A22: 513110 | B22: V | C22: TSA | D22: 47TBKT007 | E22: TSA | F22: 1 | G22: st | H22: -- | I22: Kelder | J22: K2B32 | M22: 20 | N22: W | O22: Verval | P22: 3 | Q22: 5 | R22: 4 | S22: x
A23: 513110 | B23: V | C23: TSA | D23: 49TBK1001 | E23: Alfa Laval -M6 MDFML | F23: 1 | G23: st | H23: 1999 | I23: Kelder | J23: K2B32 | M23: 20 | N23: W | O23: Verval | P23: 3 | Q23: 5 | R23: 4 | S23: x
A24: 513110 | B24: V | C24: Warmte wisselaar | D24: 47TBK10098 | E24: Warmtewiselaar | F24: 1 | G24: st | H24: -- | I24: Kelder | J24: K2B32 | M24: 20 | N24: W | O24: Verval | P24: 3 | Q24: 5 | R24: 4 | S24: x
A25: 513110 | B25: V | C25: Warmte wissalaar | D25: 49TEO4001 | E25: Warmtewiselaar | F25: 1 | G25: st | I25: Vierde verdieping | J25: 4E -18 | M25: 20 | N25: W | O25: Verval | P25: 2 | Q25: 5 | R25: 3
A26: 52 | C26: AFVOEREN
A27: 521110 | B27: V | C27: leidingwerk incl. appendages | F27: 1 | G27: post | H27: 1968 | I27: Gebouw | J27: Gebouw | K27: 14803 | L27: M2/BVO | M27: 50 | N27: W | O27: corrosie / lekkage | P27: 3 | Q27: 1 | R27: 2 | S27: x
A28: 521110 | B28: V | C28: HWA | E28: Inpandig en exterieur(circa 20 st) | F28: 20 | G28: st | H28: -- | I28: Daken | J28: Daken | M28: 20 | N28: W | R28: 1
A29: 521210 | B29: V | C29: Hemelwaterafvoer buiten pvc | E29: Pvc / koperen hwa stukken in gewassen betongevels goten onderaan hellende daken | F29: 9 | G29: m1 | H29: -- | I29: Daken | J29: Daken | M29: 20 | N29: W | O29: Verwering | P29: 2 | Q29: 5 | R29: 4 | S29: x
A30: 521210 | B30: V | C30: Draingoten | E30: Stalen lijngoten | F30: 3 | G30: m1 | H30: -- | I30: Daken | J30: Daken | M30: 20 | N30: W | O30: Verwering | P30: 1 | Q30: 4 | R30: 2
A31: 521210 | B31: V | C31: VWA systeem | E31: n.v.t. | F31: 1 | G31: post | H31: 1968 | I31: Gebouw | J31: Gebouw | K31: 14803 | L31: M2/BVO | M31: 50 | N31: W | O31: corrosie / lekkage | P31: 3 | Q31: 2 | R31: 3 | S31: x
A32: 521610 | B32: V | C32: Vuilwaterpomp, | D32: 43TFK2102 / 43TFK3101 | E32: Duijvelaar, type VWZ ORV 615-2-130 / 3,5 A | F32: 2 | G32: st | I32: Kelder | J32: K2F-45 | M32: 15 | N32: W | O32: Verval | P32: 2 | Q32: 5 | R32: 3
A33: 521610 | B33: V | C33: Vuilwaterpomp, | D33: 43TDK2110 | E33: Duijvelaar - FEKA Unit C1V915-2 / 1,5 kw / 28090-l/min / | F33: 1 | G33: st | H33: -- | I33: Kelder | J33: K2D-13 | M33: 15 | N33: W | O33: Verval | P33: 2 | Q33: 5 | R33: 3
A34: 521610 | B34: V | C34: vuilwaterpomp, | E34: Duijvelaar | F34: 1 | G34: st | H34: -- | I34: Kelder | J34: K2-D24 | M34: 15 | N34: W | O34: Verval | P34: 2 | Q34: 5 | R34: 3
A35: 521610 | B35: V | C35: vuilwaterpomp 1P-01C, VWA P-4 | E35: Duijvelaar | F35: 1 | G35: st | H35: 2009 | I35: Kelder - P- garage -1 | J35: Installatieruimte | M35: 15 | N35: W | O35: Verval | P35: 1 | Q35: 5 | R35: 2
A36: 521610 | B36: V | C36: vuilwaterpomp | E36: Duijvelaar | F36: 2 | G36: st | H36: 2016 | I36: Kelder | J36: K2B46C | M36: 15 | N36: W | R36: 1
A37: 53 | C37: WATER
A38: 531000 | B38: V | C38: leidingwerk incl appendages | F38: 1 | G38: post | H38: 2009 | I38: Gebouw | J38: Gebouw | K38: 14803 | L38: M2/BVO | M38: 50 | N38: W | R38: 1
A39: 531400 | B39: V | C39: hydrofoor | D39: 49TBK2001 | E39: Duijvwlaar DP Control - 2 pompen | F39: 1 | G39: st | H39: 2008 | I39: Kelder | J39: K2B-S1 | M39: 15 | N39: W | O39: Verval | P39: 1 | Q39: 5 | R39: 2
A40: 56 | C40: WARMTEDISTRIBUTIE
A41: 560000 | B41: V | C41: Leidingwerk incl appendages | E41: Leidingwerk incl appendages | F41: 1 | G41: post | H41: 1968 | I41: Gebouw | J41: Gebouw | K41: 14803 | L41: M2/BVO | M41: 50 | N41: W | O41: corrosie / lekkage | P41: 3 | Q41: 2 | R41: 3 | S41: x
A42: 561020 | B42: V | C42: Aanvoer-retourverdeler | E42: Grundfos UPE 25 -60 / TA - TB03RNCK1 - TB03RWCK1 | F42: 2 | G42: st | I42: Vierde verdieping | J42: 4B-32 | M42: 15 | N42: W | O42: Verval | P42: 2 | Q42: 5 | R42: 3
A43: 561020 | B43: V | C43: Aanvoer-retourverdeler | E43: Grundfos UPS 25 -80 / TA - TB 03 LLCK2 | F43: 1 | G43: st | I43: Vierde verdieping | J43: 4B-32 | M43: 15 | N43: W | O43: Verval | P43: 2 | Q43: 5 | R43: 3
A44: 561020 | B44: V | C44: Aanvoer-retourverdeler | E44: 4 x TA / 4 x pompen | F44: 1 | G44: st | H44: 1998 | I44: Kelder | J44: K2E -26A | M44: 15 | N44: W | O44: Verval | P44: 3 | Q44: 5 | R44: 4 | S44: x
A45: 561020 | B45: V | C45: Pomp | E45: TW 31 LWC 6 | F45: 1 | G45: st | I45: 1e verdieoping | J45: 1BS1 | M45: 15 | N45: W | O45: Verval | P45: 2 | Q45: 5 | R45: 3
...

Sheet 7. KDV-Bouwkundig
A2: ASSETLIJST VU KINDERDAGVERBLIJF - BOUWKUNDIG
A4: BVO: | B4: 1.115 m2/bvo
A5: Object: | B5: Kinderdagverblijf VU Amsterdam
A6: Bouwlagen | B6: 2 stuks | L6: Inschrijver mag naar eigen inzicht activiteiten aanpassen, door middel van het leggen van de link met de prerstatieonderhoudsniveaus. Uiteindelijk dient er doelmatig onderhoud gepleegd te worden. De keuzes hierin dienen uitgelegd te worden in het Plan van Aanpak MJOP.
A7: Datum | B7: 43577
A8: Bouwjaar | B8: 1996
N12: Prijs | T12: Totaal
A13: NL/Sfb code | B13: Omschrijving | C13: Bouwdeel gegevens | D13: Aantal | E13: Eenheid | F13: Discipline | G13: Gebrek | H13: Intensiteit | I13: Omvang | J13: Cvo | K13: Startjaar 2020 | L13: Activiteit | M13: Opmerking | N13: 2020 | O13: 2021 | P13: 2022 | Q13: 2023 | R13: 2024 | S13: 2025 | T13: 6 jaar
A14: 1- | C14: Bouwkundig
B15: Alg. en Bouwk. incidenteel periodiek onderhoud | C15: Reservering algemeen periodiek onderhoud | D15: 1115 | E15: m2 BVO | F15: B
B16: Alg. periodiek incidenteel OH WET en regelinstall. | C16: Reservering incidenteel en periodiek onderhoud | D16: 1115 | E16: m2 BVO | F16: B
A17: 17 | B17: PAALFUNDERING
A18: 172002 | B18: Paalfundering; beton | C18: Fundering (onbekend) | D18: 1 | E18: pm | F18: B | J18: 1
A19: 21 | B19: BUITENWANDEN
A20: 212003 | B20: Buitenwanden, constructief; metselwerk | C20: Halfsteens metselwerk, spouwmuur | D20: 268 | E20: m2 | F20: B | G20: Vuilaanslag | H20: 2 | I20: 3 | J20: 1
E21: m2 | F21: B | G21: Graffity | H21: 3 | I21: 1 | J21: 1 | K21: x
A22: 22 | B22: BINNENWANDEN
A23: 221021 | B23: Binnenwanden, niet constructief systeem | C23: Systeemwand met scanbehang v.v. muurverf | D23: 540 | E23: m2 | F23: B | J23: 1
A24: 23 | B24: VLOEREN
A25: 232002 | B25: Vloeren, constructief beton (binnen) | C25: Vloerconstructie beton | D25: 1580 | E25: m2 | F25: B | J25: 1
A26: 24 | B26: TRAPPEN
A27: 241002 | B27: Trappen beton | C27: Betontrap met marmoleum afwerking | D27: 2 | E27: st | F27: B | J27: 1
A28: 31 | B28: BUITENWANDOPENINGEN
A29: 314001 | B29: Kozijnen hout | C29: Hardhouten buitenkozijnen v.v. dekkend schilderwerk | D29: 238 | E29: m2 | F29: B | G29: Verwering | H29: 2 | I29: 3 | J29: 2
F30: B
A31: 314101 | B31: Ramen hout | C31: Hardhouten klepramen v.v. dekkend schilderwerk (40m2) | D31: 42 | E31: st | F31: B | J31: 1
C32: Hardhouten draaikiepramen v.v. dekkend schilderwerk (2m2) | F32: B
A33: 314201 | B33: Deuren hout | C33: Houten buitendeuren v.v. dekkend schilderwerk | D33: 10 | E33: st | F33: B | J33: 1
F34: B
A35: 315502 | B35: Isolatieglas | C35: Dubbele beglazing | D35: 190 | E35: m2 | F35: B | G35: Verwering | H35: 1 | I35: 4 | J35: 2
A36: 318711 | B36: Zonwering uitval electrisch | C36: Uitval zonweringschermen | D36: 45 | E36: m1 | F36: B | G36: Verwering | H36: 1 | I36: 5 | J36: 3
A37: 318741 | B37: Zonwering screens electrisch | C37: Screens zonwering (verdieping) | D37: 12 | E37: m1 | F37: B | G37: Verwering | H37: 1 | I37: 5 | J37: 3
A38: 32 | B38: BINNENWANDOPENINGEN
A39: 324001 | B39: Kozijnen hout | C39: Houten binnenkozijnwerk v.v. dekkend schilderwerk | D39: 286 | E39: m2 | F39: B | G39: Kleine beschadigingen | H39: 3 | I39: 1 | J39: 1
A40: 324201 | B40: Deuren hout | C40: Houten binnendeuren met HPL toplaag | D40: 59 | E40: st | F40: B | G40: Kleine beschadigingen | H40: 3 | I40: 1 | J40: 1
F41: B | G41: Gebreken aan hang en sluitwerk | H41: 2 | I41: 2 | J41: 1 | K41: x
A42: 34 | B42: BALUSTRADES EN LEUNINGEN
A43: 341505 | B43: Balustrades binnen staal | C43: Gemoffelde stalen traphekken | D43: 12 | E43: m2 | F43: B | G43: Kleine beschadigingen | H43: 3 | I43: 1 | J43: 1
A44: 37 | B44: DAKOPENINGEN
A45: 372011 | B45: Lichtkoepels | C45: Lichtkoepels polycarbonaat (1 st) | D45: 4 | E45: m2 | F45: B | G45: Verwering | H45: 1 | I45: 4 | J45: 2
...

Sheet 8. KDV-Installaties
A2: ASSETLIJST VU KINDERDAGVERBLIJF - INSTALLATIES
A4: BVO: | B4: 1115 m2/bvo
A5: Object: | B5: Kinderdagverblijf VU Amsterdam
A6: Bouwlagen | B6: 2 stuks | T6: Inschrijver mag naar eigen inzicht activiteiten aanpassen, door middel van het leggen van de link met de prerstatieonderhoudsniveaus. Uiteindelijk dient er doelmatig onderhoud gepleegd te worden. De keuzes hierin dienen uitgelegd te worden in het Plan van Aanpak MJOP.
A7: Datum | B7: 43577
A8: Bouwjaar | B8: 1996
T12: Activiteit | U12: Opmerking | V12: Prijs | AB12: Totaal
A13: NL/Sfb code | B13: Huurder (H)/Verhuurder(V) | C13: Omschrijving | D13: TECHNISCHE STICKER | E13: Installatie gegevens | F13: Aantal | G13: Eenheid | H13: Bouwjaar | I13: Verdieping | J13: Ruimtenummer | K13: capaciteit | L13: eenheid | M13: Cylcus bouwdeel | N13: Discipline | O13: Gebrek | P13: Intensiteit | Q13: Omvang | R13: Cvo | S13: Starjaar 2020 | V13: 2020 | W13: 2021 | X13: 2022 | Y13: 2023 | Z13: 2024 | AA13: 2025 | AB13: 6 jaar
A14: 1- | C14: Bouwkundig
A15: 3- | C15: Inrichting
A16: 5- | C16: Werktuigbouwkundig
B17: V | C17: Alg. en install. incidenteel periodiek onderhoud / klachtenonderhoud | F17: 1115 | G17: m2 BVO | M17: 1
B18: V | C18: Alg. periodiek incidenteel OH WET en regelinstall. | F18: 1115 | G18: m2 BVO | M18: 1
A19: 51 | C19: WARMTEOPWEKKING
A20: 513110 | B20: V | C20: TA , stadsverwarming | D20: 47K00004 | E20: TA , stadsverwarming | F20: 1 | G20: st | H20: 1996 | I20: Begane grond | J20: 0.19 | M20: 25 | N20: W | O20: Verval | P20: 2 | Q20: 5 | R20: 3
A21: 513110 | B21: V | C21: TA , stadsverwarming - ACVAT12SQL 35 | E21: Siemens | F21: 1 | G21: st | H21: 1996 | I21: Begane grond | J21: 0.19 | M21: 25 | N21: W | O21: Verval | P21: 2 | Q21: 5 | R21: 3
A22: 52 | C22: AFVOEREN
A23: 521110 | B23: V | C23: HWA - vrijverval. | E23: Pluvia systeem | F23: 4 | G23: st | H23: 1996 | I23: Daken | J23: Daken | M23: 20 | N23: W | O23: Vervuiling | P23: 3 | Q23: 2 | R23: 2 | S23: x
A24: 521120 | B24: V | C24: VWA systeem | E24: n.v.t. | F24: 1 | G24: post | H24: 1996 | I24: Gebouw | J24: Gebouw | K24: 1115 | L24: M2/BVO | M24: 50 | N24: W | R24: 1
A25: 53 | C25: WATER
A26: 531000 | B26: V | C26: Leidingwerk incl. appendages | F26: 1 | G26: post | H26: 1996 | I26: Gebouw | J26: Gebouw | K26: 1115 | L26: M2/BVO | M26: 50 | N26: W | R26: 1
A27: 532120 | B27: V | C27: Boiler | E27: Daalderop | F27: 1 | G27: st | H27: 1996 | I27: Begane grond | J27: 0.20 | K27: 150 | L27: liter | M27: 15 | N27: W | O27: Verval | P27: 2 | Q27: 5 | R27: 3 | S27: x
A28: 54 | C28: GASSEN
A29: 540000 | B29: V | C29: Leidingwerk incl appendages | F29: 1 | G29: post | H29: 1996 | I29: Gebouw | J29: Gebouw | K29: 1115 | L29: M2/BVO | M29: 50 | N29: W | R29: 1
A30: 55 | C30: KOUDEOPWEKKING
A31: 551200 | B31: V | C31: Split units | E31: Carrier 40 W / 82403530 / R410 A | F31: 8 | G31: St. | H31: 2008 | I31: Dak | J31: t.b.v. De 1e verdieping en de begane grond | K31: 40 | L31: W | M31: 17 | N31: W | O31: Verval | P31: 1 | Q31: 4 | R31: 2
A32: 551200 | B32: V | C32: Split units | E32: Mitsubitsi Invest R410A / 0,75 kg / nr. K91005 -11405 | F32: 2 | G32: st | H32: 2011 | I32: Dak | J32: t.b.v. De 1e verdieping en de begane grond | M32: 17 | N32: W | O32: Verval | P32: 1 | Q32: 4 | R32: 2
A33: 56 | C33: WARMTEDISTRIBUTIE
A34: 560000 | B34: V | C34: Leidingwerk incl appendages | F34: 1 | G34: post | H34: 1996 | I34: Gebouw | J34: Gebouw | K34: 1115 | L34: M2/BVO | M34: 50 | N34: W | R34: 1
A35: 561020 | B35: V | C35: Aanvoer-retourverdeler | E35: Pomp Grundfos UPE 32 - 120 / K100RDCP8 | F35: 1 | G35: st | H35: 1996 | I35: Begane grond | J35: 0.19 | M35: 25 | N35: W | O35: Verval | P35: 2 | Q35: 5 | R35: 3
A36: 561020 | B36: V | C36: Aanvoer-retourverdeler | E36: Pomp Grundfos Alpha 2 / 25 - 40 | F36: 1 | G36: st | H36: 1996 | I36: Begane grond | J36: 0.19 | M36: 25 | N36: W | O36: Verval | P36: 2 | Q36: 5 | R36: 3
A37: 561300 | B37: V | C37: Vloerverwarming smoorklep | E37: 120011N /12- 2 | F37: 1 | G37: st | H37: 1996 | M37: 25 | N37: W | O37: verval | P37: 2 | Q37: 5 | R37: 3
A38: 561110 | B38: V | C38: Radiatoren (+ leidingen) | F38: 30 | G38: st | H38: 1996 | I38: Gebouw | J38: Gebouw | K38: 1115 | L38: M2/BVO | M38: 30 | N38: W | O38: Verval | P38: 1 | Q38: 4 | R38: 2
A39: 561300 | B39: V | C39: Vloerverwarming | F39: 13 | G39: groepen | H39: 1996 | I39: Gebouw | J39: Gebouw | K39: 1115 | L39: M2/BVO | M39: 50 | N39: W | R39: 1
A40: 57 | C40: LUCHTBEHANDELING
A41: 572100 | B41: V | C41: Dakafzuigventilator diverse ruimten | E41: Holland Heating / 1998 - 0145 - HCDA110 | F41: 2 | G41: st | H41: 1996 | I41: Dak | J41: Hoogste dak | K41: 0.222 | L41: m3/sec | M41: 30 | N41: W | O41: Verval | P41: 2 | Q41: 5 | R41: 3
A42: 572100 | B42: V | C42: dakafzuigventilator diverse ruimten | D42: 45KI00001 | E42: Holland Heating / HCDA 122 - 97 - 145 | F42: 1 | G42: st | H42: 1996 | I42: Dak | J42: Dak | K42: 0.33 | L42: m3/sec | M42: 30 | N42: W | O42: Verval | P42: 2 | Q42: 5 | R42: 3
A43: 58 | C43: REGELING KLIMAAT EN SANITAIR
A44: 580000 | B44: V | C44: Regeltechniek algemeen | E44: Siemens - GBS | F44: 1 | G44: post | H44: 1998 | I44: Gebouw | J44: Gebouw | K44: 1115 | L44: M2/BVO | M44: 15 | N44: E | O44: Verval | P44: 2 | Q44: 5 | R44: 3
A45: 580000 | B45: V | C45: Warmtemeter | E45: Landis Gyr, type WSD5-6.00 S6 | F45: 1 | G45: st | H45: 1996 | I45: begane grond | J45: 0.19 | M45: 15 | N45: E | O45: Verval | P45: 2 | Q45: 5 | R45: 3
...
