Workbook

Sheet Inschrijfbiljet
A1: Inschrijfformulieren Provinciehuis (Provincie Noord-Brabant)
A2: Inspanningsgericht onderhoud E&W-installaties
A4: De hierna te noemen inschrijver
A5: gevestigd te
B7: verklaart zich door ondertekening van dit inschrijvingsbiljet bereid tot het inspanningsgericht onderhoud E&W-installaties van het Provinciehuis van Provincie Noord-Brabant te 's-Hertogenbosch conform Beschrijvend document met casenummer: C2240644
B11: en overeenkomstig de Nota('s) van inlichtingen, resp. Staten van Aanvulling en Wijzigingen.
A14: in het 1e contractjaar (2020) aan te nemen voor de volgende bedragen en verrekenprijzen:
B16: Kosten preventief OH | H16: ='Verzamelblad per gebouw'!Y11 -> 0
B17: Kosten gemaximaliseerde afkoop (tot € 750,- per melding) | H17: ='Verzamelblad per gebouw'!Z11 -> 0
B18: Kosten beheer | H18: ='Verzamelblad per gebouw'!AA11 -> 0
B19: Totaal inschrijving | H19: =SUM(H16:H18) -> 0
B21: Inschrijving (op basis van berekening vanuit calculatieschema B) | H21: =Rekenblad!D4 -> 0
B22: Inschrijving (op basis van berekening vanuit calculatieschema proj. C) | H22: =Rekenblad!D5 -> 0
B23: Totaal 'gewogen' inschrijving | H23: =Rekenblad!D7 -> 0
A26: De bedragen zijn exclusief BTW met prijspeil 2020
A29: Voorts verklaart de inschrijver dat de door hem ingevulde en onderstaand vermelde bijlagen
A30: deel uitmaken van dit inschrijvingsbiljet:
B32: - bijlage A Inventaris | F32: - bijlage C calc. schema proj
B33: - bijlage B cac. schema | F33: - bijlage D voorst. subco.
A36: Gedaan te | G36: datum:
A38: De inschrijver,
A40: Handtekening: | H40: Firmastempel:

Sheet Verzamelblad per gebouw
B1: =Inschrijfbiljet!A1 -> Inschrijfformulieren Provinciehuis (Provincie Noord-Brabant)
G3: 31 | H3: 51 | I3: 52 | J3: 53 | K3: 54 | L3: 55 | M3: 56 | N3: 57 | O3: 61 | P3: 62 | Q3: 63 | R3: 64 | S3: 65 | T3: 67
A4: Naam | B4: Straat naam + nr. | C4: Postcode | D4: Stad | E4: Circa (m2), BVO | F4: in inventaris | G4: Buitenwandopeningen | H4: Warmteopwekking | I4: Afvoeren | J4: Water | K4: Gassen | L4: Koude-opwekking en distributie | M4: Warmtedistributie | N4: Luchtbehandeling | O4: Centrale elektrotechnische voorzieningen | P4: Krachtstroom | Q4: Verlichting | R4: Communicatie | S4: Beveiliging (Blusmiddelen) | T4: Gebouwbeheervoorzieningen (veldapparatuur) | Y4: Totaal preventief onderhoud | Z4: Gemaximaliseerde afkoop (tot € 750,- per melding) | AA4: Beheer (zoals omschreven in paragraaf 3.3 en 3.4 van het onderhoudsbestek)
A5: Provinciehuis complex (hoofdgebouw, nieuwbouw en atoombunker) | B5: Brabantlaan1 | C5: 5216TV | D5: 's-Hertogenbosch | E5: 47300 | F5: Ja | Y5: =SUM(G5:X5) -> 0
Y6: =SUM(G6:X6) -> 0
Y7: =SUM(G7:X7) -> 0
A11: in het 1e contractjaar (2020) aan te nemen voor de volgende bedragen en verrekenprijzen: | F11: Totalen | G11: =SUM(G5:G7) -> 0 | H11: =SUM(H5:H7) -> 0 | I11: =SUM(I5:I7) -> 0 | J11: =SUM(J5:J7) -> 0 | K11: =SUM(K5:K7) -> 0 | L11: =SUM(L5:L7) -> 0 | M11: =SUM(M5:M7) -> 0 | N11: =SUM(N5:N7) -> 0 | ... AA11: =SUM(AA5:AA7) -> 0
B14: Gedaan te | C14: =Inschrijfbiljet!D36 -> 0 | Y14: =Inschrijfbiljet!H36 -> 0
B16: De inschrijver, | C16: =Inschrijfbiljet!E4 -> 0
B19: Handtekening:

Sheet A Inventaris
A1: ID | B1: Type vastgoed | C1: Gebouwnaam | D1: Adres | E1: Plaats | F1: Bouwlaag / Component locatie | G1: Discipline | H1: Hoofdelementomschrijving | I1: Hoofdelement- code | J1: Subelement- code | K1: Subelementomschrijving | L1: Component omschrijving | M1: Component fabrikant | N1: Component type | O1: Component capaciteit | P1: Component aantal | R1: Component bouwjaar | S1: Vigerende regelgeving | T1: Aanvullende info. | V1: kosten prev OH | W1: kosten gemaximaliseerde afkoop | Y1: Conditie | Z1: Conditie gewenst | AA1: Conditie aanvang contract 2015 | AB1: Conditie score kaart aanwezig
B3: Kantoor | C3: Proviciehuis | D3: Brabantlaan 1, 7 & 8 | E3: s-Hertogenbosch | F3: Gehele complex | G3: E&W | H3: Gebouwbeheervoorzieningen | I3: 67 | J3: 67.10 | K3: gebouwbeheervoorzieningen, bediening en signalering, algemeen (verzamelniveau) | L3: Regeltechniek Veldapparatuur | M3: div. | N3: div. | P3: 1 | Q3: post | R3: 1998
B4: Kantoor | C4: Proviciehuis | D4: Brabantlaan 1, 7 & 8 | E4: s-Hertogenbosch | F4: Gehele complex | G4: E&W | H4: Beveiliging | I4: 65 | J4: 65.13 | K4: beveiliging, brand, brandbestrijding | L4: Blusmiddelen | M4: div. | N4: div. | P4: 318 | Q4: st | S4: NEN 2559 (blussers) NEN EN 671-3 (brandslanghaspels) | T4: 100 st. brandslanghaspels, 214 st. handblussers 4x bluswagen (50 kg)
A5: 51.11.11.001 | B5: Kantoor | C5: Proviciehuis | D5: Brabantlaan 1 | E5: s-Hertogenbosch | F5: PH-01-K-K.005 (Ketelhuis) | G5: E&W | H5: Warmteopwekking | I5: 51 | J5: 51.11 | K5: warmte-opwekking, lokaal | L5: CV ketel 1 | M5: Novum Oss | N5: Novutherm HRC 1602A | O5: 2000 Kw | P5: 1 | Q5: st | R5: 1998 | S5: SCIOS
A6: 51.11.11.003 | B6: Kantoor | C6: Proviciehuis | D6: Brabantlaan 1 | E6: s-Hertogenbosch | F6: PH-01-K-K.005 (Ketelhuis) | G6: E&W | H6: Warmteopwekking | I6: 51 | J6: 51.11 | K6: warmte-opwekking, lokaal | L6: CV-ketel 2 | M6: Novum Oss | N6: Novutherm HRC 1602A | O6: 2000 Kw | P6: 1 | Q6: st | R6: 2000 | S6: SCIOS
A7: 51.11.11.005 | B7: Kantoor | C7: Proviciehuis | D7: Brabantlaan 1 | E7: s-Hertogenbosch | F7: PH-01-K-K.005 (Ketelhuis) | G7: E&W | H7: Warmteopwekking | I7: 51 | J7: 51.11 | K7: warmte-opwekking, lokaal | L7: CV-ketel 3 | M7: Novum Oss | N7: Novutherm VR 1602A | O7: 1900 Kw | P7: 1 | Q7: st | R7: 2000 | S7: SCIOS
A8: 51.12.20.001 | B8: Kantoor | C8: Proviciehuis | D8: Brabantlaan 1 | E8: s-Hertogenbosch | F8: PH-01-K-K.005 (Ketelhuis) | G8: E&W | H8: Warmteopwekking | I8: 51 | J8: 51.12 | K8: warmte-opwekking, lokaal | L8: Olie toevoerleiding CV-ketel 3 (scope 7c) | P8: 1 | Q8: st | S8: SCIOS Scope 7C
A9: 51.51.11.001 | B9: Kantoor | C9: Proviciehuis | D9: Brabantlaan 1 | E9: s-Hertogenbosch | F9: PH-01-K-K.005 (Ketelhuis) | G9: E&W | H9: Warmteopwekking | I9: 51 | J9: 51.51 | K9: warmte-opwekking, bijzonder, warmtepomp | L9: Warmtepomp WKO systeem | M9: Carrier | N9: 30RW-245-A0191-PE | P9: 1 | Q9: st | R9: 2015 | S9: F-gassen besluit, F-gassen richtlijn EU, EPBD-richtlijn EU, Regeling Energieprestatie, Besluit Energieprestatie. | T9: 2 x 19 kg 407C
A10: 52.32.10.001 | B10: Kantoor | C10: Proviciehuis | D10: Brabantlaan 1 | E10: s-Hertogenbosch | F10: PH-03--1-P Oost (Parkeerterrein Oost) | G10: E&W | H10: Afvoeren | I10: 52 | J10: 52.32 | K10: afvoeren, afvalwater, bedrijfsafval | L10: Vetput afvoer warme keuken en spoelkeuken | P10: 1 | Q10: st | S10: Activiteitenbesluit 3.131, NEN1825-1/2
A11: 52.36.11.001 | B11: Kantoor | C11: Proviciehuis | D11: Brabantlaan 1 | E11: s-Hertogenbosch | F11: PH-02-0-72 (Garage) | G11: E&W | H11: Afvoeren | I11: 52 | J11: 52.36 | K11: afvoeren, afvalwater, pompsysteem | L11: Vuilwaterpomp in put milieugarage | N11: RW2 DRV630-2 VL NW80X3 | P11: 1 | Q11: st | R11: 1994
A12: 52.36.11.002 | B12: Kantoor | C12: Proviciehuis | D12: Brabantlaan 1 | E12: s-Hertogenbosch | F12: PH-03-0-T Noord (Tuin Noord) | G12: E&W | H12: Afvoeren | I12: 52 | J12: 52.36 | K12: afvoeren, afvalwater, pompsysteem | L12: Vuilwaterpomp in put bij oud ijzer ruimte | N12: RW2DRK1215-2NW100X4 | P12: 1 | Q12: st | R12: 1996
A13: 52.36.11.003 | B13: Kantoor | C13: Proviciehuis | D13: Brabantlaan 1 | E13: s-Hertogenbosch | F13: PH-03--1-P Noord (Parkeerterrein Noord) | G13: E&W | H13: Afvoeren | I13: 52 | J13: 52.36 | K13: afvoeren, afvalwater, pompsysteem | L13: Vuilwaterpomp in put garage dienstauto's | N13: RW1 DRV1026-2 NW100X3 | P13: 1 | Q13: st | R13: 2002
A14: 52.36.11.004 | B14: Kantoor | C14: Proviciehuis | D14: Brabantlaan 1 | E14: s-Hertogenbosch | F14: PH-01-K-K.012b (Magazijn) | G14: E&W | H14: Afvoeren | I14: 52 | J14: 52.36 | K14: afvoeren, afvalwater, pompsysteem | L14: Vuilwaterpomp in put meubelopslag | N14: RW1 DRV66-2 100 2" | P14: 1 | Q14: st | R14: 2007
A15: 52.36.11.005 | B15: Kantoor | C15: Proviciehuis | D15: Brabantlaan 1 | E15: s-Hertogenbosch | F15: PH-03--1-P West (Parkeerterrein West) | G15: E&W | H15: Afvoeren | I15: 52 | J15: 52.36 | K15: afvoeren, afvalwater, pompsysteem | L15: Vuilwaterpomp in straatkolk | N15: VW1 DRV611-2 W 130 | P15: 1 | Q15: st | R15: 2006
A16: 52.36.11.006 | B16: Kantoor | C16: Proviciehuis | D16: Brabantlaan 1 | E16: s-Hertogenbosch | F16: PH-01-PCC | G16: E&W | H16: Afvoeren | I16: 52 | J16: 52.36 | K16: afvoeren, afvalwater, pompsysteem | L16: Vuilwaterpomp in put Bunker | N16: VW1 DRV 68-2 110 | P16: 1 | Q16: st | R16: 2017
A17: 52.36.11.007 | B17: Kantoor | C17: Proviciehuis | D17: Brabantlaan 1 | E17: s-Hertogenbosch | F17: PH-01-K-K.005 (Ketelhuis) | G17: E&W | H17: Afvoeren | I17: 52 | J17: 52.36 | K17: afvoeren, afvalwater, pompsysteem | L17: Vuilwaterpomp in put ketelhuis | N17: VW2 VRD17.5-508 | P17: 1 | Q17: st | R17: 1995
A18: 52.51.10.001 | B18: Kantoor | C18: Proviciehuis | D18: Brabantlaan 1 | E18: s-Hertogenbosch | F18: PH-03--1-P Noord (Parkeerterrein Noord) | G18: E&W | H18: Afvoeren | I18: 52 | J18: 52.51 | K18: afvoeren, speciaal, chemisch verontreinigd afvalwater | L18: Benzine-afscheider 1 | P18: 1 | Q18: st | S18: Activiteitenbesluit, Milieubeheer 2013, NEN-EN 858
A19: 52.51.10.002 | B19: Kantoor | C19: Proviciehuis | D19: Brabantlaan 1 | E19: s-Hertogenbosch | F19: PH-03--1-P Noord (Parkeerterrein Noord) | G19: E&W | H19: Afvoeren | I19: 52 | J19: 52.51 | K19: afvoeren, speciaal, chemisch verontreinigd afvalwater | L19: Benzine afscheider 2 | P19: 1 | Q19: st | S19: Activiteitenbesluit, Milieubeheer 2013, NEN-EN 858
A20: 52.51.10.003 | B20: Kantoor | C20: Proviciehuis | D20: Brabantlaan 1 | E20: s-Hertogenbosch | F20: PH-03--1-P Noord (Parkeerterrein Noord) | G20: E&W | H20: Afvoeren | I20: 52 | J20: 52.51 | K20: afvoeren, speciaal, chemisch verontreinigd afvalwater | L20: Benzine afscheider 3 | P20: 1 | Q20: st | S20: Activiteitenbesluit, Milieubeheer 2013, NEN-EN 858
A21: 53.11.10.001 | B21: Kantoor | C21: Proviciehuis | D21: Brabantlaan 1 | E21: s-Hertogenbosch | F21: PH-03--1-P Noord (Parkeerterrein Noord) | G21: E&W | H21: Water | I21: 53 | J21: 53.11 | K21: water, drinkwater, netaansluiting | L21: Netaansluiting Brabant water | P21: 1 | Q21: st | S21: Waterleidingwet, Waterleidingbesluit, Arbowet, ISSO 55.1
A22: 53.11.11.001 | B22: Kantoor | C22: Proviciehuis | D22: Brabantlaan 1 | E22: s-Hertogenbosch | F22: PH-01-Alg. | G22: E&W | H22: Water | I22: 53 | J22: 53.11 | K22: water, drinkwater, netaansluiting | L22: Drinkwaterinstallatie tappunten hoofdgebouw | P22: 1 | Q22: st | S22: Waterleidingwet, Waterleidingbesluit, Arbowet, ISSO 55.1 | T22: Datum keuringsrapport 15-02 -2018
A23: 53.11.11.002 | B23: Kantoor | C23: Proviciehuis | D23: Brabantlaan 1 | E23: s-Hertogenbosch | F23: PH-02-0-FLEX (Flexwerkplek) | G23: E&W | H23: Water | I23: 53 | J23: 53.11 | K23: water, drinkwater, netaansluiting | L23: Drinkwater installatie tappunten Nieuwbouw | P23: 1 | Q23: st | S23: Waterleidingwet, Waterleidingbesluit, Arbowet, ISSO 55.1
A24: 53.11.20.001 | B24: Kantoor | C24: Proviciehuis | D24: Brabantlaan 1 | E24: s-Hertogenbosch | F24: PH-01-PCC | G24: E&W | H24: Water | I24: 53 | J24: 53.11 | K24: water, drinkwater, netaansluiting | L24: Keerkleppen Provinciehuis volgens logblad 3 | P24: 1 | Q24: st | S24: Waterleidingwet, Waterleidingbesluit, Arbowet, ISSO 55.1
A25: 53.12.10.001 | B25: Kantoor | C25: Proviciehuis | D25: Brabantlaan 1 | E25: s-Hertogenbosch | F25: PH-03--1-P Noord (Parkeerterrein Noord) | G25: E&W | H25: Water | I25: 53 | J25: 53.12 | K25: water, drinkwater, bronaansluiting | L25: WKO provinciehuis hoofdgebouw | P25: 1 | Q25: st | S25: Wijzigingsbesluit bodemenergiesystemen
A26: 53.12.10.002 | B26: Kantoor | C26: Proviciehuis | D26: Brabantlaan 1 | E26: s-Hertogenbosch | F26: PH-03--1-P Noord (Parkeerterrein Noord) | G26: E&W | H26: Water | I26: 53 | J26: 53.12 | K26: water, drinkwater, bronaansluiting | L26: WKO provinciehuis nieuwbouw | P26: 1 | Q26: st | S26: Wijzigingsbesluit bodemenergiesystemen
A27: 53.14.11.001 | B27: Kantoor | C27: Proviciehuis | D27: Brabantlaan 1 | E27: s-Hertogenbosch | F27: PH-01-P-P.005 (Ketelhuis) | G27: E&W | H27: Water | I27: 53 | J27: 53.14 | K27: water, drinkwater, drukverhoging | L27: Hydrofoor 1 | M27: Duijvelaar | N27: model d41507308 | P27: 1 | Q27: st | R27: 1998 | T27: 3 x pomp CRe4-180
A28: 53.14.11.002 | B28: Kantoor | C28: Proviciehuis | D28: Brabantlaan 1 | E28: s-Hertogenbosch | F28: PH-01-P-P.005 (Ketelhuis) | G28: E&W | H28: Water | I28: 53 | J28: 53.14 | K28: water, drinkwater, drukverhoging | L28: Hydrofoor 2 | M28: Duijvelaar | N28: HU 2 DPVE10/10B | P28: 1 | Q28: st | R28: 2016 | T28: 2 x pomp
A29: 53.14.11.003 | B29: Kantoor | C29: Proviciehuis | D29: Brabantlaan 1 | E29: s-Hertogenbosch | F29: PH-01-P-P.005 (Ketelhuis) | G29: E&W | H29: Water | I29: 53 | J29: 53.14 | K29: water, drinkwater, drukverhoging | L29: Hydrofoor 3 | M29: Duijvelaar | N29: model d41567312 | P29: 1 | Q29: st | R29: 1998 | T29: 3 x pomp CR4-120
A30: 53.14.11.004 | B30: Kantoor | C30: Proviciehuis | D30: Brabantlaan 1 | E30: s-Hertogenbosch | F30: PH-01-P-P.005 (Ketelhuis) | G30: E&W | H30: Water | I30: 53 | J30: 53.14 | K30: water, drinkwater, drukverhoging | L30: Hydrofoor 4 | M30: Duijvelaar | P30: 1 | Q30: st | R30: 2009 | T30: 3 x pomp CRe5-20
A31: 53.14.11.005 | B31: Kantoor | C31: Proviciehuis | D31: Brabantlaan 1 | E31: s-Hertogenbosch | F31: PH-02-0-72 (Garage) | G31: E&W | H31: Water | I31: 53 | J31: 53.14 | K31: water, drinkwater, drukverhoging | L31: Hydrofoor Nieuwbouw | M31: Duijvelaar | N31: HU 3 DPL 4 -20N1x42 | P31: 1 | Q31: st | T31: 3 x pomp
A32: 53.21.11.001 | B32: Kantoor | C32: Proviciehuis | D32: Brabantlaan 1 | E32: s-Hertogenbosch | F32: PH-01-23-23.094 (Roosterruimte) | G32: E&W | H32: Water | I32: 53 | J32: 53.21 | K32: water, verwarmd tapwater, direct verwarmd met voorraad | L32: Close-up Boiler verdieping 23 | M32: Itho Daalderop | N32: 15 liter | P32: 1 | Q32: st
A33: 53.21.11.002 | B33: Kantoor | C33: Proviciehuis | D33: Brabantlaan 1 | E33: s-Hertogenbosch | F33: PH-01-20-20.004 (Pantry) | G33: E&W | H33: Water | I33: 53 | J33: 53.21 | K33: water, verwarmd tapwater, direct verwarmd met voorraad | L33: Close-in Boiler in facilitaire unit verdieping 20 | M33: Itho Daalderop | N33: 15 liter | P33: 1 | Q33: st
A34: 53.21.11.003 | B34: Kantoor | C34: Proviciehuis | D34: Brabantlaan 1 | E34: s-Hertogenbosch | F34: PH-01-17-17.004 (Pantry) | G34: E&W | H34: Water | I34: 53 | J34: 53.21 | K34: water, verwarmd tapwater, direct verwarmd met voorraad | L34: Close-in Boiler in facilitaire unit verdieping 17 | M34: Itho Daalderop | N34: 15 liter | P34: 1 | Q34: st
A35: 53.21.11.004 | B35: Kantoor | C35: Proviciehuis | D35: Brabantlaan 1 | E35: s-Hertogenbosch | F35: PH-01-14-14.004 (Pantry) | G35: E&W | H35: Water | I35: 53 | J35: 53.21 | K35: water, verwarmd tapwater, direct verwarmd met voorraad | L35: Close-in Boiler in facilitaire unit verdieping 14 | M35: Itho Daalderop | N35: 15 liter | P35: 1 | Q35: st
A36: 53.21.11.005 | B36: Kantoor | C36: Proviciehuis | D36: Brabantlaan 1 | E36: s-Hertogenbosch | F36: PH-01-11-11.004 (Pantry) | G36: E&W | H36: Water | I36: 53 | J36: 53.21 | K36: water, verwarmd tapwater, direct verwarmd met voorraad | L36: Close-in Boiler in facilitaire unit verdieping 11 | M36: Itho Daalderop | N36: 15 liter | P36: 1 | Q36: st
A37: 53.21.11.006 | B37: Kantoor | C37: Proviciehuis | D37: Brabantlaan 1 | E37: s-Hertogenbosch | F37: PH-01-8-08.004 (Pantry) | G37: E&W | H37: Water | I37: 53 | J37: 53.21 | K37: water, verwarmd tapwater, direct verwarmd met voorraad | L37: Close-in Boiler in facilitaire unit verdieping 8 | M37: Itho Daalderop | N37: 15 liter | P37: 1 | Q37: st
A38: 53.21.11.007 | B38: Kantoor | C38: Proviciehuis | D38: Brabantlaan 1 | E38: s-Hertogenbosch | F38: PH-01-5-05.004 (Pantry) | G38: E&W | H38: Water | I38: 53 | J38: 53.21 | K38: water, verwarmd tapwater, direct verwarmd met voorraad | L38: Close-in Boiler in facilitaire unit verdieping 5 | M38: Itho Daalderop | N38: 15 liter | P38: 1 | Q38: st
A39: 53.21.11.008 | B39: Kantoor | C39: Proviciehuis | D39: Brabantlaan 1 | E39: s-Hertogenbosch | F39: PH-01-1-1.107 (Schoonmaak) | G39: E&W | H39: Water | I39: 53 | J39: 53.21 | K39: water, verwarmd tapwater, direct verwarmd met voorraad | L39: Close-up Boiler 1e verdieping in werkkast t.o. ruimte 1.028 | M39: Itho Daalderop | N39: 15 liter | P39: 1 | Q39: st
A40: 53.21.11.009 | B40: Kantoor | C40: Proviciehuis | D40: Brabantlaan 1 | E40: s-Hertogenbosch | F40: PH-01-1-1.102 (Kolfkamer) | G40: E&W | H40: Water | I40: 53 | J40: 53.21 | K40: water, verwarmd tapwater, direct verwarmd met voorraad | L40: Close-up Boiler in kolfkamer 1e verdieping | M40: Itho Daalderop | N40: 15 liter | P40: 1 | Q40: st
A41: 53.21.11.010 | B41: Kantoor | C41: Proviciehuis | D41: Brabantlaan 1 | E41: s-Hertogenbosch | F41: PH-01-B-B.056 (Spoelkeuken) | G41: E&W | H41: Water | I41: 53 | J41: 53.21 | K41: water, verwarmd tapwater, direct verwarmd met voorraad | L41: Boiler 1 spoelkeuken | M41: Itho Daalderop | N41: 150 liter | P41: 1 | Q41: st
A42: 53.21.11.011 | B42: Kantoor | C42: Proviciehuis | D42: Brabantlaan 1 | E42: s-Hertogenbosch | F42: PH-01-B-B.056 (Spoelkeuken) | G42: E&W | H42: Water | I42: 53 | J42: 53.21 | K42: water, verwarmd tapwater, direct verwarmd met voorraad | L42: Boiler 2 spoelkeuken | M42: Itho Daalderop | N42: 150 liter | P42: 1 | Q42: st
A43: 53.21.11.012 | B43: Kantoor | C43: Proviciehuis | D43: Brabantlaan 1 | E43: s-Hertogenbosch | F43: PH-01-B-B.107 (EHBO) | G43: E&W | H43: Water | I43: 53 | J43: 53.21 | K43: water, verwarmd tapwater, direct verwarmd met voorraad | L43: Close-up boiler EHBO ruimte | M43: Itho Daalderop | N43: 15 liter | P43: 1 | Q43: st
... A70: 53.21.11.041 | B70: Kantoor | C70: Proviciehuis | D70: Brabantlaan 1 | E70: s-Hertogenbosch | F70: PH-02-4-65 (Pantry) | G70: E&W | H70: Water | I70: 53 | J70: 53.21 | K70: water, verwarmd tapwater, direct verwarmd met voorraad | L70: Close-in boiler in pantry 4e verdeiping | M70: Itho Daalderop | N70: 15 liter | P70: 1 | Q70: st
A71: 53.27.10.001 | B71: Kantoor | C71: Proviciehuis | D71: Brabantlaan 1 | E71: s-Hertogenbosch | G71: E&W | H71: Water | I71: 53 | J71: 53.27 | K71: water, verwarmd tapwater, doorstroom, indirect verwarmd | L71: Koudwater installatie | P71: 1 | Q71: st | S71: Waterleidingwet, Waterleidingbesluit, Arbowet, ISSO 55.1
A72: 53.27.20.001 | B72: Kantoor | C72: Proviciehuis | D72: Brabantlaan 1 | E72: s-Hertogenbosch | G72: E&W | H72: Water | I72: 53 | J72: 53.27 | K72: water, verwarmd tapwater, doorstroom, indirect verwarmd | L72: Meng- en aftap-kranen volgens logblad 1 | P72: 1 | Q72: st | S72: Waterleidingwet, Waterleidingbesluit, Arbowet, ISSO 55.1
A73: 53.35.10.001 | B73: Kantoor | C73: Proviciehuis | D73: Brabantlaan 1 | E73: s-Hertogenbosch | F73: PH-01-P-P.005 (Ketelhuis) | G73: E&W | H73: Water | I73: 53 | J73: 53.35 | K73: water, bedrijfswater, zwembad-watersysteem | L73: Grijswater installatie | M73: Lubron | N73: es2050 | P73: 1 | Q73: st | R73: 1998 | T73: incl. 4 buffervaten van 1000L (1x stookruimte, 3x miva-toilet op de 23e verdieping.)
A74: 53.50.11.001 | B74: Kantoor | C74: Proviciehuis | D74: Brabantlaan 1 | E74: s-Hertogenbosch | F74: PH-01-P-P.005 (Ketelhuis) | G74: E&W | H74: Water | I74: 53 | J74: 53.50 | K74: water, waterbehandeling, algemeen (verzamelniveau) | L74: Waterontharder Hydrofoor 2 | M74: Lubron | P74: 1 | Q74: st | R74: 2009
A75: 53.50.11.002 | B75: Kantoor | C75: Proviciehuis | D75: Brabantlaan 1 | E75: s-Hertogenbosch | F75: PH-01-P-P.005 (Ketelhuis) | G75: E&W | H75: Water | I75: 53 | J75: 53.50 | K75: water, waterbehandeling, algemeen (verzamelniveau) | L75: Waterontharder Hydrofoor 3 | M75: Lubron | P75: 1 | Q75: st | R75: 2016
A76: 54.11.11.001 | B76: Kantoor | C76: Proviciehuis | D76: Brabantlaan 1 | E76: s-Hertogenbosch | F76: PH-01-P-P.005 (Ketelhuis) | G76: E&W | H76: Gassen | I76: 54 | J76: 54.11 | K76: gassen, brandstof, aardgasvoorziening | L76: Gasleiding CV-ketels (scope 7a) | N76: 100 meter DN100 | P76: 1 | Q76: st | S76: SCIOS Scope 7a/7b
A77: 54.27.11.001 | B77: Kantoor | C77: Proviciehuis | D77: Brabantlaan 1 | E77: s-Hertogenbosch | F77: PH-01-K-K.005 (Ketelhuis) | G77: E&W | H77: Gassen | I77: 54 | J77: 54.27 | K77: gassen, perslucht en vacuüm, vacuümvoorziening | L77: Compressor 1 Ketelhuis | M77: Grassair | N77: BL55A / 250 YD | P77: 1 | Q77: st | R77: 2009 | T77: 30M3/uur 10 Bar
A78: 54.27.11.002 | B78: Kantoor | C78: Proviciehuis | D78: Brabantlaan 1 | E78: s-Hertogenbosch | F78: PH-01-K-K.005 (Ketelhuis) | G78: E&W | H78: Gassen | I78: 54 | J78: 54.27 | K78: gassen, perslucht en vacuüm, vacuümvoorziening | L78: Compressor 2 Ketelhuis | M78: Grassair | N78: BL55A / 250 YD | P78: 1 | Q78: st | R78: 2009 | T78: 30M3/uur 10 Bar
A79: 55.12.11.001 | B79: Kantoor | C79: Proviciehuis | D79: Brabantlaan 1 | E79: s-Hertogenbosch | F79: PH-01-P-P.001a (Archief) | G79: E&W | H79: Koude-opwekking en distributie | I79: 55 | J79: 55.12 | K79: koude-opwekking, lokaal, splitsystemen | L79: DX-koeling luchtbehandelingskast Archief | M79: Mitsubishi | O79: 3,5 kW | P79: 1 | Q79: st | R79: 2015 | S79: F-gassen besluit, F-gassen richtlijn EU, EPBD-richtlijn EU, Regeling Energieprestatie, Besluit Energieprestatie.
A80: 55.12.11.002 | B80: Kantoor | C80: Proviciehuis | D80: Brabantlaan 1 | E80: s-Hertogenbosch | F80: PH-01-23-23.001 (Ruimte verdieping 23) | G80: E&W | H80: Koude-opwekking en distributie | I80: 55 | J80: 55.12 | K80: koude-opwekking, lokaal, splitsystemen | L80: Koeling 23e verdieping hoogbouw | M80: Daikin | N80: VRV RXYQ8 T9 | O80: 22,4 kW | P80: 1 | Q80: st | R80: 2015 | S80: F-gassen besluit, F-gassen richtlijn EU, EPBD-richtlijn EU, Regeling Energieprestatie, Besluit Energieprestatie.
A81: 55.12.11.003 | B81: Kantoor | C81: Proviciehuis | D81: Brabantlaan 1 | E81: s-Hertogenbosch | F81: PH-01-1-1.040 (Kamer CdK) | G81: E&W | H81: Koude-opwekking en distributie | I81: 55 | J81: 55.12 | K81: koude-opwekking, lokaal, splitsystemen | L81: Koeling kamer CdK, wachtruimte GS en GS-kamer | M81: Daikin multisplit | N81: RXYSQ4P8Y 1B | O81: 11,2 kW | P81: 1 | Q81: st | R81: 2015 | S81: F-gassen besluit, F-gassen richtlijn EU, EPBD-richtlijn EU, Regeling Energieprestatie, Besluit Energieprestatie.
A82: 55.12.11.004 | B82: Kantoor | C82: Proviciehuis | D82: Brabantlaan 1 | E82: s-Hertogenbosch | F82: PH-01-1-1.038 (Kamerbewaarder) | G82: E&W | H82: Koude-opwekking en distributie | I82: 55 | J82: 55.12 | K82: koude-opwekking, lokaal, splitsystemen | L82: Koeling kamer kamerbewaarder en keuken GS | M82: Daikin | N82: 3MXS 52E4VIB2 (buiten); FDXS 25F2VEB (binnen 2x) | O82: 5 kW | P82: 1 | Q82: st | R82: 42627 | S82: F-gassen besluit, F-gassen richtlijn EU, EPBD-richtlijn EU, Regeling Energieprestatie, Besluit Energieprestatie.
A83: 55.12.11.005 | B83: Kantoor | C83: Proviciehuis | D83: Brabantlaan 1 | E83: s-Hertogenbosch | F83: PH-01-B-B.143 (Technische ruimte noordpijler) | G83: E&W | H83: Koude-opwekking en distributie | I83: 55 | J83: 55.12 | K83: koude-opwekking, lokaal, splitsystemen | L83: Koeling Techniek Ruimte noordpijler | M83: Daikin | N83: RX71GV1B (buitendeel); FTX71GV1B (binnendeel) | O83: 7,1 kW | P83: 1 | Q83: st | R83: 2016 | S83: F-gassen besluit, F-gassen richtlijn EU, EPBD-richtlijn EU, Regeling Energieprestatie, Besluit Energieprestatie.
A84: 55.12.11.006 | B84: Kantoor | C84: Proviciehuis | D84: Brabantlaan 1 | E84: s-Hertogenbosch | F84: PH-01-P-P.010a (Observatiepost) | G84: E&W | H84: Koude-opwekking en distributie | I84: 55 | J84: 55.12 | K84: koude-opwekking, lokaal, splitsystemen | L84: Koeling observatieruimte parkeerkuilniveau | M84: Daikin | N84: 2MXM50M (buiten) en FFA25A (binnen 2X) | O84: 5 kW | P84: 1 | Q84: st | R84: 2018 | S84: F-gassen besluit, F-gassen richtlijn EU, EPBD-richtlijn EU, Regeling Energieprestatie, Besluit Energieprestatie.
A85: 55.12.11.007 | B85: Kantoor | C85: Proviciehuis | D85: Brabantlaan 1 | E85: s-Hertogenbosch | F85: PH-01-K | G85: E&W | H85: Koude-opwekking en distributie | I85: 55 | J85: 55.12 | K85: koude-opwekking, lokaal, splitsystemen | L85: DX koelunit in luchtbehandelingskast bunker | M85: Carrier | O85: 8 kW | P85: 1 | Q85: st | R85: 2005 | S85: F-gassen besluit, F-gassen richtlijn EU, EPBD-richtlijn EU, Regeling Energieprestatie, Besluit Energieprestatie.
A86: 55.12.11.008 | B86: Kantoor | C86: Proviciehuis | D86: Brabantlaan 1 | E86: s-Hertogenbosch | F86: PH-01-B-B.132 (Toezichtsruimte - Beveligingsl) | G86: E&W | H86: Koude-opwekking en distributie | I86: 55 | J86: 55.12 | K86: koude-opwekking, lokaal, splitsystemen | L86: Koeling toezichtsruimte BG | M86: Carrier | N86: 38GLP036G9 | O86: 13,6 kW | P86: 1 | Q86: st | R86: 2007 | S86: F-gassen besluit, F-gassen richtlijn EU, EPBD-richtlijn EU, Regeling Energieprestatie, Besluit Energieprestatie.
A87: 55.12.11.009 | B87: Kantoor | C87: Proviciehuis | D87: Brabantlaan 1 | E87: s-Hertogenbosch | F87: PH-01-B-B.156 (Satelietkeuken) | G87: E&W | H87: Koude-opwekking en distributie | I87: 55 | J87: 55.12 | K87: koude-opwekking, lokaal, splitsystemen | L87: Koeling keuken | M87: Mitsubishi | N87: PKA-RP50 HAL (binnen); SUZ-KA50VA 4E (buiten) | O87: 5,5 kW | P87: 1 | Q87: st | R87: 2015 | S87: F-gassen besluit, F-gassen richtlijn EU, EPBD-richtlijn EU, Regeling Energieprestatie, Besluit Energieprestatie.
A88: 55.12.11.010 | B88: Kantoor | C88: Proviciehuis | D88: Brabantlaan 1 | E88: s-Hertogenbosch | F88: PH-02-4-HJZ (Hertog Janzaal) | G88: E&W | H88: Koude-opwekking en distributie | I88: 55 | J88: 55.12 | K88: koude-opwekking, lokaal, splitsystemen | L88: DX-koeling hertog Jan zaal | O88: 8 kW | P88: 1 | Q88: st | R88: 2018 | S88: F-gassen besluit, F-gassen richtlijn EU, EPBD-richtlijn EU, Regeling Energieprestatie, Besluit Energieprestatie.
A89: 55.12.11.011 | B89: Kantoor | C89: Proviciehuis | D89: Brabantlaan 1 | E89: s-Hertogenbosch | F89: PH-02-2-47 (Kantoor) | G89: E&W | H89: Koude-opwekking en distributie | I89: 55 | J89: 55.12 | K89: koude-opwekking, lokaal, splitsystemen | L89: DX-koeling 1 Serverruimte Nieuwbouw | M89: Toshiba | N89: RAV-SP562AT-E (buiten); OAV-SM562CT-E (binnen) | O89: 5,3 kW | P89: 1 | Q89: st | R89: 2009 | S89: F-gassen besluit, F-gassen richtlijn EU, EPBD-richtlijn EU, Regeling Energieprestatie, Besluit Energieprestatie.
A90: 55.12.11.012 | B90: Kantoor | C90: Proviciehuis | D90: Brabantlaan 1 | E90: s-Hertogenbosch | F90: PH-02-2-47 (Kantoor) | G90: E&W | H90: Koude-opwekking en distributie | I90: 55 | J90: 55.12 | K90: koude-opwekking, lokaal, splitsystemen | L90: DX-koeling 2 Serverruimte Nieuwbouw | M90: Toshiba | N90: RAV-SP562AT-E (buiten); OAV-SM562CT-E (binnen) | O90: 5,3 kW | P90: 1 | Q90: st | R90: 2009 | S90: F-gassen besluit, F-gassen richtlijn EU, EPBD-richtlijn EU, Regeling Energieprestatie, Besluit Energieprestatie.
A91: 55.21.11.001 | B91: Kantoor | C91: Proviciehuis | D91: Brabantlaan 1 | E91: s-Hertogenbosch | F91: PH-01-2-02.000 (Technische ruimte) | G91: E&W | H91: Koude-opwekking en distributie | I91: 55 | J91: 55.21 | K91: koude-opwekking, centraal, compressorensystemen | L91: Koelmachine 1 (restaurant, patio, keuken, LS-ruimte en back-up Datacenter) | M91: Western | N91: ZETA REV 16.2 LN | O91: 154,6 kW | P91: 1 | Q91: st | R91: 2016 | S91: F-gassen besluit, F-gassen richtlijn EU, EPBD-richtlijn EU, Regeling Energieprestatie, Besluit Energieprestatie.
A92: 55.21.11.002 | B92: Kantoor | C92: Proviciehuis | D92: Brabantlaan 1 | E92: s-Hertogenbosch | F92: PH-01-2-02.000 (Technische ruimte) | G92: E&W | H92: Koude-opwekking en distributie | I92: 55 | J92: 55.21 | K92: koude-opwekking, centraal, compressorensystemen | L92: Koelmachine 2 (restaurant, patio, keuken, LS-ruimte en back-up Datacenter) | M92: Western | N92: ZETA REV 16.2 LN | O92: 154,6 kW | P92: 1 | Q92: st | R92: 2016 | S92: F-gassen besluit, F-gassen richtlijn EU, EPBD-richtlijn EU, Regeling Energieprestatie, Besluit Energieprestatie.
A93: 55.21.11.003 | B93: Kantoor | C93: Proviciehuis | D93: Brabantlaan 1 | E93: s-Hertogenbosch | F93: PH-01-2-02.000 (Technische ruimte) | G93: E&W | H93: Koude-opwekking en distributie | I93: 55 | J93: 55.21 | K93: koude-opwekking, centraal, compressorensystemen | L93: koelmachine 3 (restaurant, patio, keuken, LS-ruimte en back-up Datacenter) | M93: Western | N93: ZETA REV 5.2 LN | O93: 51,4 kW | P93: 1 | Q93: st | R93: 2016 | S93: F-gassen besluit, F-gassen richtlijn EU, EPBD-richtlijn EU, Regeling Energieprestatie, Besluit Energieprestatie.
A94: 55.21.11.004 | B94: Kantoor | C94: Proviciehuis | D94: Brabantlaan 1 | E94: s-Hertogenbosch | F94: PH-01-2-02.000 (Technische ruimte) | G94: E&W | H94: Koude-opwekking en distributie | I94: 55 | J94: 55.21 | K94: koude-opwekking, centraal, compressorensystemen | L94: Koelmachine 2 Datacenter | M94: APAC-Uniflair | N94: ISAF 0621A | O94: 62 kW | P94: 1 | Q94: st | R94: 2015 | S94: F-gassen besluit, F-gassen richtlijn EU, EPBD-richtlijn EU, Regeling Energieprestatie, Besluit Energieprestatie.
A95: 55.21.11.005 | B95: Kantoor | C95: Proviciehuis | D95: Brabantlaan 1 | E95: s-Hertogenbosch | F95: PH-01-2-02.000 (Technische ruimte) | G95: E&W | H95: Koude-opwekking en distributie | I95: 55 | J95: 55.21 | K95: koude-opwekking, centraal, compressorensystemen | L95: Koelmachine 1 Datacenter | M95: APAC-Uniflair | N95: ISAF 0621A | O95: 62 kW | P95: 1 | Q95: st | R95: 2015 | S95: F-gassen besluit, F-gassen richtlijn EU, EPBD-richtlijn EU, Regeling Energieprestatie, Besluit Energieprestatie.
A96: 55.31.11.001 | B96: Kantoor | C96: Proviciehuis | D96: Brabantlaan 1 | E96: s-Hertogenbosch | F96: PH-01-P-P.005 (Ketelhuis) | G96: E&W | H96: Koude-opwekking en distributie | I96: 55 | J96: 55.31 | K96: koude-opwekking, distributie, distributiesystemen | L96: Buffervat GKW | N96: 7000 liter | P96: 1 | Q96: st
A97: 55.31.11.002 | B97: Kantoor | C97: Proviciehuis | D97: Brabantlaan 1 | E97: s-Hertogenbosch | F97: PH-01-2-02.000 (Technische ruimte) | G97: E&W | H97: Koude-opwekking en distributie | I97: 55 | J97: 55.31 | K97: koude-opwekking, distributie, distributiesystemen | L97: Buffervat GKW | N97: 1000 liter | P97: 1 | Q97: st
A98: 55.31.11.003 | B98: Kantoor | C98: Proviciehuis | D98: Brabantlaan 1 | E98: s-Hertogenbosch | F98: PH-01-22-22.001 (Technische ruimte) | G98: E&W | H98: Koude-opwekking en distributie | I98: 55 | J98: 55.31 | K98: koude-opwekking, distributie, distributiesystemen | L98: Verdeler GKW 22e verdieping | N98: 5 groepen | P98: 1 | Q98: st | R98: 1997
A99: 55.31.11.004 | B99: Kantoor | C99: Proviciehuis | D99: Brabantlaan 1 | E99: s-Hertogenbosch | F99: PH-01-2-02.000 (Technische ruimte) | G99: E&W | H99: Koude-opwekking en distributie | I99: 55 | J99: 55.31 | K99: koude-opwekking, distributie, distributiesystemen | L99: Verdeler GKW 2e verdieping | N99: 7 groepen | P99: 1 | Q99: st | R99: 1998
A100: 55.31.11.005 | B100: Kantoor | C100: Proviciehuis | D100: Brabantlaan 1 | E100: s-Hertogenbosch | F100: PH-01-P-P.156a (Technische ruimte) | G100: E&W | H100: Koude-opwekking en distributie | I100: 55 | J100: 55.31 | K100: koude-opwekking, distributie, distributiesystemen | L100: Verdeler GKW glazen ruimte parkeerkuilniveau | N100: 6 groepen | P100: 1 | Q100: st | R100: 1998
A101: 55.31.11.006 | B101: Kantoor | C101: Proviciehuis | D101: Brabantlaan 1 | E101: s-Hertogenbosch | F101: PH-01-2-02.000 (Technische ruimte) | G101: E&W | H101: Koude-opwekking en distributie | I101: 55 | J101: 55.31 | K101: koude-opwekking, distributie, distributiesystemen | L101: Transportpompen GKW | M101: Grundfos | N101: MGE 100 LB2 | P101: 1 | Q101: st
A102: 55.31.11.007 | B102: Kantoor | C102: Proviciehuis | D102: Brabantlaan 1 | E102: s-Hertogenbosch | F102: PH-01-22-22.001 (Technische ruimte) | G102: E&W | H102: Koude-opwekking en distributie | I102: 55 | J102: 55.31 | K102: koude-opwekking, distributie, distributiesystemen | L102: GKW Vul-Expansieautomaat 22e verdieping | M102: Flamco | N102: Flamcomat M02 G3 | P102: 1 | Q102: st | R102: 2017 | T102: incl. voorraadvat
A103: 55.31.11.008 | B103: Kantoor | C103: Proviciehuis | D103: Brabantlaan 1 | E103: s-Hertogenbosch | F103: PH-02-3-48 (Technische ruimte) | G103: E&W | H103: Koude-opwekking en distributie | I103: 55 | J103: 55.31 | K103: koude-opwekking, distributie, distributiesystemen | L103: GKW-verdeler Nieuwbouw | M103: grundfos | N103: 3 groepen | P103: 1 | Q103: st | R103: 2006
A104: 55.31.11.008 | B104: Kantoor | C104: Proviciehuis | D104: Brabantlaan 1 | E104: s-Hertogenbosch | F104: PH-02-3-48 (Technische ruimte) | G104: E&W | H104: Koude-opwekking en distributie | I104: 55 | J104: 55.31 | K104: koude-opwekking, distributie, distributiesystemen | L104: Regelafsluiter met servomotor wko | P104: 16 | Q104: st
A105: 56.11.21.001 | B105: Kantoor | C105: Proviciehuis | D105: Brabantlaan 1 | E105: s-Hertogenbosch | F105: PH-01-P-P.005 (Ketelhuis) | G105: E&W | H105: Warmtedistributie | I105: 56 | J105: 56.11 | K105: warmtedistributie, water, radiatorsystemen | L105: luchtverhitters ketelhuis | M105: downflow | P105: 4 | Q105: st | T105: Downflow luchtverhitters
A106: 56.11.21.001 | B106: Kantoor | C106: Proviciehuis | D106: Brabantlaan 1 | E106: s-Hertogenbosch | F106: PH-01-P-P.005 (Ketelhuis) | G106: E&W | H106: Warmtedistributie | I106: 56 | J106: 56.11 | K106: warmtedistributie, water, radiatorsystemen | L106: 3 weg-regelafsluiter met servomotor cv | P106: 50 | Q106: st
A107: 56.11.21.001 | B107: Kantoor | C107: Proviciehuis | D107: Brabantlaan 1 | E107: s-Hertogenbosch | F107: PH-01-P-P.005 (Ketelhuis) | G107: E&W | H107: Warmtedistributie | I107: 56 | J107: 56.11 | K107: warmtedistributie, water, radiatorsystemen | L107: Inregelafsluiter met meetnippel cv | P107: 50 | Q107: st
A108: 56.18.11.001 | B108: Kantoor | C108: Proviciehuis | D108: Brabantlaan 1 | E108: s-Hertogenbosch | F108: PH-01-P-P.005 (Ketelhuis) | G108: E&W | H108: Warmtedistributie | I108: 56 | J108: 56.18 | K108: warmtedistributie, water, vloerverwarmingssystemen | L108: Buffervat CV | N108: 1000 ltr. | P108: 1 | Q108: st
B109: Kantoor | C109: Proviciehuis | D109: Brabantlaan 1 | E109: s-Hertogenbosch | G109: E&W | H109: Warmtedistributie | I109: 56 | J109: 56.18 | K109: warmtedistributie, water, vloerverwarmingssystemen | L109: TSA kelder | O109: DN125 / 16.73 l/s | P109: 2 | Q109: st
B110: Kantoor | C110: Proviciehuis | D110: Brabantlaan 1 | E110: s-Hertogenbosch | G110: E&W | H110: Warmtedistributie | I110: 56 | J110: 56.18 | K110: warmtedistributie, water, vloerverwarmingssystemen | L110: TSA parkeer/vloerverwarming | O110: DN80 / DN150 | P110: 1 | Q110: st
B111: Kantoor | C111: Proviciehuis | D111: Brabantlaan 1 | E111: s-Hertogenbosch | G111: E&W | H111: Warmtedistributie | I111: 56 | J111: 56.18 | K111: warmtedistributie, water, vloerverwarmingssystemen | L111: TSA 1e verdieping / vloerverwamrming ontvangst | O111: DN40 / DN65 | P111: 1 | Q111: st
A112: 56.18.11.004 | B112: Kantoor | C112: Proviciehuis | D112: Brabantlaan 1 | E112: s-Hertogenbosch | F112: PH-01-P-P.156a (Technische ruimte) | G112: E&W | H112: Warmtedistributie | I112: 56 | J112: 56.18 | K112: warmtedistributie, water, vloerverwarmingssystemen | L112: CV-verdeler 1 glazen ruimte parkeerkuilniveau | M112: Grundfos | N112: 4 groepen | P112: 1 | Q112: st | R112: 2006 | T112: 4 stuks pompen
A113: 56.18.11.005 | B113: Kantoor | C113: Proviciehuis | D113: Brabantlaan 1 | E113: s-Hertogenbosch | F113: PH-01-P-P.156a (Technische ruimte) | G113: E&W | H113: Warmtedistributie | I113: 56 | J113: 56.18 | K113: warmtedistributie, water, vloerverwarmingssystemen | L113: CV-verdeler 2 glazen ruimte parkeerkuilniveau | M113: Grundfos | N113: 8 groepen | P113: 1 | Q113: st | R113: 1998 | T113: 8 stuks pompen
A114: 56.18.11.006 | B114: Kantoor | C114: Proviciehuis | D114: Brabantlaan 1 | E114: s-Hertogenbosch | F114: PH-01-K-K.005 (Ketelhuis) | G114: E&W | H114: Warmtedistributie | I114: 56 | J114: 56.18 | K114: warmtedistributie, water, vloerverwarmingssystemen | L114: CV-verdeler 1 ketelhuis | M114: Grundfos | N114: 6 groepen | P114: 1 | Q114: st | R114: 1998 | T114: 6 stuks pompen
A115: 56.18.11.007 | B115: Kantoor | C115: Proviciehuis | D115: Brabantlaan 1 | E115: s-Hertogenbosch | F115: PH-01-P-P.005 (Ketelhuis) | G115: E&W | H115: Warmtedistributie | I115: 56 | J115: 56.18 | K115: warmtedistributie, water, vloerverwarmingssystemen | L115: CV-verdeler 2 ketelhuis | M115: Grundfos | N115: 11 groepen | P115: 1 | Q115: st | R115: 1998 | T115: 11 stuks pompen
A116: 56.18.11.008 | B116: Kantoor | C116: Proviciehuis | D116: Brabantlaan 1 | E116: s-Hertogenbosch | F116: PH-01-1-1.163 (Technische ruimte) | G116: E&W | H116: Warmtedistributie | I116: 56 | J116: 56.18 | K116: warmtedistributie, water, vloerverwarmingssystemen | L116: CV-verdeler 1e verdieping | M116: Grundfos | N116: 5 groepen | P116: 1 | Q116: st | R116: 1998 | T116: 5 stuks pompen
A117: 56.18.11.009 | B117: Kantoor | C117: Proviciehuis | D117: Brabantlaan 1 | E117: s-Hertogenbosch | F117: PH-01-2-02.000 (Technische ruimte) | G117: E&W | H117: Warmtedistributie | I117: 56 | J117: 56.18 | K117: warmtedistributie, water, vloerverwarmingssystemen | L117: CV-verdeler 1, 2e verdieping | M117: Grundfos | N117: 5 groepen | P117: 1 | Q117: st | R117: 1998 | T117: 5 stuks pompen
A118: 56.18.11.010 | B118: Kantoor | C118: Proviciehuis | D118: Brabantlaan 1 | E118: s-Hertogenbosch | F118: PH-01-2-02.000 (Technische ruimte) | G118: E&W | H118: Warmtedistributie | I118: 56 | J118: 56.18 | K118: warmtedistributie, water, vloerverwarmingssystemen | L118: CV-verdeler 2, 2e verdieping | M118: Grundfos | N118: 6 groepen | P118: 1 | Q118: st | R118: 1998 | T118: 6 stuks pompen
A119: 56.18.11.011 | B119: Kantoor | C119: Proviciehuis | D119: Brabantlaan 1 | E119: s-Hertogenbosch | F119: PH-01-3-03.000 (Technische ruimte) | G119: E&W | H119: Warmtedistributie | I119: 56 | J119: 56.18 | K119: warmtedistributie, water, vloerverwarmingssystemen | L119: CV-verdeler, 3e verdieping | M119: Grundfos | N119: 4 groepen | P119: 1 | Q119: st | R119: 1998 | T119: 4 stuks pompen
A120: 56.18.11.012 | B120: Kantoor | C120: Proviciehuis | D120: Brabantlaan 1 | E120: s-Hertogenbosch | F120: PH-01-9-09.092a (Technische ruimte) | G120: E&W | H120: Warmtedistributie | I120: 56 | J120: 56.18 | K120: warmtedistributie, water, vloerverwarmingssystemen | L120: CV-verdeler, 9e verdieping | M120: Grundfos | N120: 4 groepen | P120: 1 | Q120: st | R120: 1997 | T120: 4 stuks pompen
A121: 56.18.11.013 | B121: Kantoor | C121: Proviciehuis | D121: Brabantlaan 1 | E121: s-Hertogenbosch | F121: PH-01-16-16.092a (Technische ruimte) | G121: E&W | H121: Warmtedistributie | I121: 56 | J121: 56.18 | K121: warmtedistributie, water, vloerverwarmingssystemen | L121: CV-verdeler, 16e verdieping | M121: Grundfos | N121: 4 groepen | P121: 1 | Q121: st | R121: 1997 | T121: 4 stuks pompen
A122: 56.18.11.014 | B122: Kantoor | C122: Proviciehuis | D122: Brabantlaan 1 | E122: s-Hertogenbosch | F122: PH-01-22-22.001 (Technische ruimte) | G122: E&W | H122: Warmtedistributie | I122: 56 | J122: 56.18 | K122: warmtedistributie, water, vloerverwarmingssystemen | L122: CV-verdeler, 22e verdieping | M122: Grundfos | N122: 6 groepen | P122: 1 | Q122: st | R122: 1997 | T122: 6 stuks pompen
A123: 56.18.11.015 | B123: Kantoor | C123: Proviciehuis | D123: Brabantlaan 1 | E123: s-Hertogenbosch | F123: PH-01-22-22.001 (Technische ruimte) | G123: E&W | H123: Warmtedistributie | I123: 56 | J123: 56.18 | K123: warmtedistributie, water, vloerverwarmingssystemen | L123: CV Vul-Expansieautomaat 22e verdieping | M123: Flamco | N123: Flamcomat M02 G3 | P123: 1 | Q123: st | R123: 2017 | S123: expansievaten | T123: incl. voorraadvat
A124: 56.18.11.016 | B124: Kantoor | C124: Proviciehuis | D124: Brabantlaan 1 | E124: s-Hertogenbosch | F124: PH-01-K-K.005 (Ketelhuis) | G124: E&W | H124: Warmtedistributie | I124: 56 | J124: 56.18 | K124: warmtedistributie, water, vloerverwarmingssystemen | L124: CV Vul-Expansieautomaat ketelhuis | M124: Flamco | N124: Flamcomat D10 G3 | P124: 1 | Q124: st | R124: 2017 | T124: incl. voorraadvat
A125: 56.18.11.017 | B125: Kantoor | C125: Proviciehuis | D125: Brabantlaan 1 | E125: s-Hertogenbosch | F125: PH-01-P-P.005 (Ketelhuis) | G125: E&W | H125: Warmtedistributie | I125: 56 | J125: 56.18 | K125: warmtedistributie, water, vloerverwarmingssystemen | L125: CV Transportpompen | M125: Stork | N125: Fundatiepomp CN 80-160G1M1L1 | P125: 1 | Q125: st | R125: 1998 | T125: 5 keer set van twee
A126: 56.18.11.018 | B126: Kantoor | C126: Proviciehuis | D126: Brabantlaan 1 | E126: s-Hertogenbosch | F126: PH-02-3-48 (Technische ruimte) | G126: E&W | H126: Warmtedistributie | I126: 56 | J126: 56.18 | K126: warmtedistributie, water, vloerverwarmingssystemen | L126: CV-verdeler Nieuwbouw | M126: Grundfos | N126: 4 groepen | P126: 1 | Q126: st | R126: 1998 | T126: 4 stuks pompen
A127: 56.18.11.019 | B127: Kantoor | C127: Proviciehuis | D127: Brabantlaan 1 | E127: s-Hertogenbosch | F127: PH-01-K-K.005 (Ketelhuis) | G127: E&W | H127: Warmtedistributie | I127: 56 | J127: 56.18 | K127: warmtedistributie, water, vloerverwarmingssystemen | L127: TSA WKO hoofdgebouw | O127: 1238 kW | P127: 1 | Q127: st
...

Sheet B calc schema
B1: =Inschrijfbiljet!A1 -> Inschrijfformulieren Provinciehuis (Provincie Noord-Brabant)
A3: Calculatieschema en uurtarieven voor onderhoud
A4: Voor verrekenbaar correctief onderhoud en regie werkzaamheden op afroep
C6: Inschrijver: | E6: =Inschrijfbiljet!E4 -> 0
A8: De inschrijver verklaart de verrekenbare correctieve onderhoudswerkzaamheden
A9: en regie werkzaamheden op afroep ten behoeve van de te onderhouden installaties, conform de bepalingen
A10: in het beschrijvend document te zullen uitvoeren op basis van onderstaand calculatieschema en uurtarieven:
A13: 1) | B13: Calculatieschema
B14: • | C14: Netto materiaalprijs | G14: € | H14: A
B15: • | C15: Toeslag op groot materiaal: > € 1.000,00 | G15: % € | H15: A1 | CB15: =12000*(F15/100+1) -> 12000
C16: Toeslag op klein materiaal: < € 1.000,00 | G16: % € | H16: A2 | CB16: =3000*(F16/100+1) -> 3000
G17: € | H17: A1 + A2 = | I17: X
B18: Werk derden: | G18: € | H18: B
B19: Toeslag op werk derden: | G19: % € | H19: C | CB19: =10000*(F19/100+1) -> 10000
G20: € | H20: B + C = | I20: Y
B21: Lonen: Manuren a) x manuurtarief 2): | I21: Z
B22: Totaalbedrag incl. projectleiding, werkvoorbereiding, calculatie, engineering, aanleveren revisiegegevens en winst & risico
I23: X + Y + Z | CB23: =SUM(CB40:CB43,CB35:CB38,CB19,CB15:CB16) -> 25000
B25: a) | C25: Voor de calculatie van manuren zal waar mogelijk worden uitgegaan van de UNETO-normen, resp. Gustav Ende
C26: met de volgende correctiefactoren:
C27: • UNETO x | D27: 1
C28: • G.E. x | D28: 1
A30: 2) | B30: Manuurtarieven voor onderhoud:
B31: MANUURTARIEVEN
F32: Werkdagen | G32: Werkdagen | H32: Werkdagen | I32: Zon- en
F33: 7.00 - 19.00 | G33: 19.00 - 24:00 | H33: 's nachts + | I33: feest-
F34: uur | G34: uur | H34: zaterdagen | I34: dagen
B35: • | C35: Servicemonteur / technicus E | G35: Tarief + 25% | H35: Tarief + 50% | I35: Tarief + 75% | CB35: =500*F35 -> 0
B36: • | C36: Servicemonteur / technicus W | G36: Tarief + 25% | H36: Tarief + 50% | I36: Tarief + 75% | CB36: =500*F36 -> 0
B37: • | C37: Monteur / technicus E | G37: Tarief + 25% | H37: Tarief + 50% | I37: Tarief + 75% | CB37: =150*F37 -> 0
B38: • | C38: Monteur / technicus W | G38: Tarief + 25% | H38: Tarief + 50% | I38: Tarief + 75% | CB38: =150*F38 -> 0
B39: • | C39: Servicespecialist
C40: – Stookinstallaties | G40: Tarief + 25% | H40: Tarief + 50% | I40: Tarief + 75% | CB40: =153*F40 -> 0
C41: – Koeltechniek | G41: Tarief + 25% | H41: Tarief + 50% | I41: Tarief + 75% | CB41: =100*F41 -> 0
C42: – Meet en regeltechniek | G42: Tarief + 25% | H42: Tarief + 50% | I42: Tarief + 75% | CB42: =100*F42 -> 0
B43: • | C43: Installatieverantwoordelijke | G43: Tarief + 25% | H43: Tarief + 50% | I43: Tarief + 75% | CB43: =100*F43 -> 0
B45: Alle bedragen zijn exclusief BTW.
B46: Voorrijkosten, reisuren en reiskosten zijn niet verrekenbaar, doch in de tarieven inbegrepen.
A49: Gedaan te | D49: =Inschrijfbiljet!D36 -> 0 | F49: datum: | G49: =Inschrijfbiljet!H36 -> 0
A51: De inschrijver, | D51: =Inschrijfbiljet!D38:G38 -> 0
A53: Handtekening: | H53: Firmastempel:

Sheet C calc schema proj
B1: =Inschrijfbiljet!A1 -> Inschrijfformulieren Provinciehuis (Provincie Noord-Brabant)
A3: Calculatieschema en uurtarieven voor projecten e.d. tot € 50.000
D4: Voor projecten, uitbreidingen, vervangingen en wijzigingen
C6: Inschrijver: | E6: =Inschrijfbiljet!E4:H4 -> 0
A8: De inschrijver verklaart klussen, projecten, omdificaties, enz. welke op basis van offerte met open begroting zullen worden gegund,
A9: aan te zullen bieden op basis van onderstaand calculatieschema en uurtarieven. Zij verklaart dit schema en uurtarieven
A10: bovendien als maximum te zullen hanteren bij aanbestedingen boven € 50.000.
A12: 1) | B12: Calculatieschema
B13: • | C13: Netto materiaalprijs | G13: € | H13: A
B14: • | C14: Toeslag op groot materiaal: > € 1.000,00 | G14: % € | H14: A1 | CC14: =12000*(F14/100+1) -> 12000
C15: Toeslag op klein materiaal: < € 1.000,00 | G15: % € | H15: A2 | CC15: =3000*(F15/100+1) -> 3000
G16: € | H16: A1 + A2 = | I16: X
B17: Werk derden: | G17: € | H17: B
B18: Toeslag op werk derden: | G18: % € | H18: C | CC18: =10000*(F18/100+1) -> 10000
G19: € | H19: B + C = | I19: Y
B20: Lonen: uren a) x tarief betreffende monteur / technicus en of specialist | I20: Z
B21: Subtotaal exclusief eventuele engineering | I21: X + Y + Z
B22: Toeslag voor engineering / ontwerp b) | I22: F
B23: Totaalbedrag incl. projectleiding, werkvoorbereiding, calculatie, revisietek en winst & risico
I24: X+Y+Z+F | CC24: =CC14+CC15+CC18+CC38*CC30+CC39*CC30+CC40*CC29+CC41*CC29 -> 25000 | CD24: =CC24*CE30 -> 25000
B26: a) | C26: Voor de calculatie van manuren zal waar mogelijk | F26: b) toeslag voor engineering / ontwerp:
C27: worden uitgegaan van de UNETO-normen, | F27: Bij volledig uitgewerkte uitvraag | I27: % | CD27: =H27%+1 -> 1
C28: resp. Gustav Ende met de volgende correctiefactoren: | F28: Bij een uitvraag obv richtlijnen | I28: % | CD28: =H28%+1 -> 1
C29: • UNETO x | F29: Bij volledige engineering door inschrijver | I29: % | CC29: =D29 -> 0 | CD29: =H29%+1 -> 1
C30: • G.E. x | CC30: =D30 -> 0 | CD30: =SUM(CD27:CD29) -> 3 | CE30: =CD30/3 -> 1
A33: 2) | B33: Manuurtarieven voor projecten e.d.:
B34: MANUURTARIEVEN
F35: Werkdagen | G35: Werkdagen | H35: Werkdagen | I35: Zon- en
F36: 8.00 - 17.00 | G36: 17.00 - 24.00 | H36: 's nachts + | I36: feest-
F37: uur | G37: uur | H37: zaterdagen | I37: dagen
B38: • | C38: Monteur / technicus E | G38: Tarief + 25% | H38: Tarief + 50% | I38: Tarief + 75% | CC38: =F38*500 -> 0
B39: • | C39: Monteur / technicus W | G39: Tarief + 25% | H39: Tarief + 50% | I39: Tarief + 75% | CC39: =F39*500 -> 0
B40: • | C40: Specialist E technische installaties | G40: Tarief + 25% | H40: Tarief + 50% | I40: Tarief + 75% | CC40: =F40*500 -> 0
B41: • | C41: Specialist W technische installaties | G41: Tarief + 25% | H41: Tarief + 50% | I41: Tarief + 75% | CC41: =F41*500 -> 0
B43: Alle bedragen zijn exclusief BTW.
B44: Voorrijkosten, reisuren en reiskosten zijn niet verrekenbaar, doch in de tarieven inbegrepen.
A47: Gedaan te | D47: =Inschrijfbiljet!D36:F36 -> 0 | F47: datum: | G47: =Inschrijfbiljet!H36 -> 0
A49: De inschrijver,
D50: =Inschrijfbiljet!D38:G38 -> 0
A51: Handtekening: | H51: Firmastempel:

Sheet D voorst subco
B3: =Inschrijfbiljet!A1 -> Inschrijfformulieren Provinciehuis (Provincie Noord-Brabant)
B5: Voorstel onderaannemers
B7: Inschrijver: | D7: =Inschrijfbiljet!E4 -> 0
B11: Installatie / Installatiedeel | E11: Onderaannemer
E12: Naam | H12: Plaats
A39: Gedaan te | C39: =Inschrijfbiljet!D36 -> 0 | G39: datum: | H39: =Inschrijfbiljet!H36 -> 0
A41: De inschrijver, | C41: =Inschrijfbiljet!E4 -> 0
A43: Handtekening: | G43: Firmastempel:

Sheet Rekenblad
B2: Weging
B3: 1 | C3: Kosten vanuit verzamelblad per gebouw (Totaal) | D3: ='Verzamelblad per gebouw'!Y11+'Verzamelblad per gebouw'!Z11+'Verzamelblad per gebouw'!AA11 -> 0 | E3: = | F3: =D3*B3 -> 0
B4: 0,4 | C4: Inschrijving (op basis van berekening calculatieschema B) | D4: =('B calc schema'!CB23/100000)*D3 -> 0 | E4: = | F4: =D4*B4 -> 0
B5: 0,5 | C5: Inschrijving (op basis van berekening calculatieschema proj. C) | D5: =('C calc schema proj'!CD24)/100000*D3 -> 0 | E5: = | F5: =D5*B5 -> 0
C7: Totaal 'gewogen' inschrijving incl. B&C | D7: =SUM(F3:F5) -> 0
