Workbook

Sheet Inschrijfbiljet
A1: Inschrijfformulieren Provinciehuis (Provincie Noord-Brabant)
A2: Inspanningsgericht onderhoud E&W-installaties
A4: De hierna te noemen inschrijver
A5: gevestigd te
B7: verklaart zich door ondertekening van dit inschrijvingsbiljet bereid tot het inspanningsgericht onderhoud E&W-installaties van het Provinciehuis van Provincie Noord-Brabant te 's-Hertogenbosch conform Beschrijvend document met casenummer: C2240644
B11: en overeenkomstig de Nota('s) van inlichtingen, resp. Staten van Aanvulling en Wijzigingen.
A14: in het 1e contractjaar (2020) aan te nemen voor de volgende bedragen en verrekenprijzen:
B16: Kosten preventief OH | H16: ='Verzamelblad per gebouw'!Y11 -> 0
B17: Kosten gemaximaliseerde afkoop (tot € 750,- per melding) | H17: ='Verzamelblad per gebouw'!Z11 -> 0
B18: Kosten beheer | H18: ='Verzamelblad per gebouw'!AA11 -> 0
B19: Totaal inschrijving | H19: =SUM(H16:H18) -> 0
B21: Inschrijving (op basis van berekening vanuit calculatieschema B) | H21: =Rekenblad!D4 -> 0
B22: Inschrijving (op basis van berekening vanuit calculatieschema proj. C) | H22: =Rekenblad!D5 -> 0
B23: Totaal 'gewogen' inschrijving | H23: =Rekenblad!D7 -> 0
A26: De bedragen zijn exclusief BTW met prijspeil 2020
A29: Voorts verklaart de inschrijver dat de door hem ingevulde en onderstaand vermelde bijlagen
A30: deel uitmaken van dit inschrijvingsbiljet:
B32: - bijlage A Inventaris | F32: - bijlage C calc. schema proj
B33: - bijlage B cac. schema | F33: - bijlage D voorst. subco.
A36: Gedaan te | G36: datum:
A38: De inschrijver,
A40: Handtekening: | H40: Firmastempel:

Sheet Verzamelblad per gebouw
B1: =Inschrijfbiljet!A1 -> Inschrijfformulieren Provinciehuis (Provincie Noord-Brabant)
G3: 31 | H3: 51 | I3: 52 | J3: 53 | K3: 54 | L3: 55 | M3: 56 | N3: 57 | O3: 61 | P3: 62 | Q3: 63 | R3: 64 | S3: 65 | T3: 67
A4: Naam | B4: Straat naam + nr. | C4: Postcode | D4: Stad | E4: Circa (m2), BVO | F4: in inventaris | G4: Buitenwandopeningen | H4: Warmteopwekking | I4: Afvoeren | J4: Water | K4: Gassen | L4: Koude-opwekking en distributie | M4: Warmtedistributie | N4: Luchtbehandeling | O4: Centrale elektrotechnische voorzieningen | P4: Krachtstroom | Q4: Verlichting | R4: Communicatie | S4: Beveiliging (Blusmiddelen) | T4: Gebouwbeheervoorzieningen (veldapparatuur) | Y4: Totaal preventief onderhoud | Z4: Gemaximaliseerde afkoop (tot € 750,- per melding) | AA4: Beheer (zoals omschreven in paragraaf 3.3 en 3.4 van het onderhoudsbestek)
A5: Provinciehuis complex (hoofdgebouw, nieuwbouw en atoombunker) | B5: Brabantlaan1 | C5: 5216TV | D5: 's-Hertogenbosch | E5: 47300 | F5: Ja | Y5: =SUM(G5:X5) -> 0
Y6: =SUM(G6:X6) -> 0
Y7: =SUM(G7:X7) -> 0
A11: in het 1e contractjaar (2020) aan te nemen voor de volgende bedragen en verrekenprijzen: | F11: Totalen | G11: =SUM(G5:G7) -> 0 | H11: =SUM(H5:H7) -> 0 | I11: =SUM(I5:I7) -> 0 | J11: =SUM(J5:J7) -> 0 | K11: =SUM(K5:K7) -> 0 | L11: =SUM(L5:L7) -> 0 | M11: =SUM(M5:M7) -> 0 | N11: =SUM(N5:N7) -> 0 | ... AA11: =SUM(AA5:AA7) -> 0
B14: Gedaan te | C14: =Inschrijfbiljet!D36 -> 0 | Y14: =Inschrijfbiljet!H36 -> 0
B16: De inschrijver, | C16: =Inschrijfbiljet!E4 -> 0
B19: Handtekening:

Sheet A Inventaris
A1: ID | B1: Type vastgoed | C1: Gebouwnaam | D1: Adres | E1: Plaats | F1: Bouwlaag / Component locatie | G1: Discipline | H1: Hoofdelementomschrijving | I1: Hoofdelement- code | J1: Subelement- code | K1: Subelementomschrijving | L1: Component omschrijving | M1: Component fabrikant | N1: Component type | O1: Component capaciteit | P1: Component aantal | R1: Component bouwjaar | S1: Vigerende regelgeving | T1: Aanvullende info. | V1: kosten prev OH | W1: kosten gemaximaliseerde afkoop | Y1: Conditie | Z1: Conditie gewenst | AA1: Conditie aanvang contract 2015 | AB1: Conditie score kaart aanwezig
B3: Kantoor | C3: Proviciehuis | D3: Brabantlaan 1, 7 & 8 | E3: s-Hertogenbosch | F3: Gehele complex | G3: E&W | H3: Gebouwbeheervoorzieningen | I3: 67 | J3: 67.10 | K3: gebouwbeheervoorzieningen, bediening en signalering, algemeen (verzamelniveau) | L3: Regeltechniek Veldapparatuur | M3: div. | N3: div. | P3: 1 | Q3: post | R3: 1998
B4: Kantoor | C4: Proviciehuis | D4: Brabantlaan 1, 7 & 8 | E4: s-Hertogenbosch | F4: Gehele complex | G4: E&W | H4: Beveiliging | I4: 65 | J4: 65.13 | K4: beveiliging, brand, brandbestrijding | L4: Blusmiddelen | M4: div. | N4: div. | P4: 318 | Q4: st | S4: NEN 2559 (blussers) NEN EN 671-3 (brandslanghaspels) | T4: 100 st. brandslanghaspels, 214 st. handblussers 4x bluswagen (50 kg)
A5: 51.11.11.001 | B5: Kantoor | C5: Proviciehuis | D5: Brabantlaan 1 | E5: s-Hertogenbosch | F5: PH-01-K-K.005 (Ketelhuis) | G5: E&W | H5: Warmteopwekking | I5: 51 | J5: 51.11 | K5: warmte-opwekking, lokaal | L5: CV ketel 1 | M5: Novum Oss | N5: Novutherm HRC 1602A | O5: 2000 Kw | P5: 1 | Q5: st | R5: 1998 | S5: SCIOS
A6: 51.11.11.003 | B6: Kantoor | C6: Proviciehuis | D6: Brabantlaan 1 | E6: s-Hertogenbosch | F6: PH-01-K-K.005 (Ketelhuis) | G6: E&W | H6: Warmteopwekking | I6: 51 | J6: 51.11 | K6: warmte-opwekking, lokaal | L6: CV-ketel 2 | M6: Novum Oss | N6: Novutherm HRC 1602A | O6: 2000 Kw | P6: 1 | Q6: st | R6: 2000 | S6: SCIOS
A7: 51.11.11.005 | B7: Kantoor | C7: Proviciehuis | D7: Brabantlaan 1 | E7: s-Hertogenbosch | F7: PH-01-K-K.005 (Ketelhuis) | G7: E&W | H7: Warmteopwekking | I7: 51 | J7: 51.11 | K7: warmte-opwekking, lokaal | L7: CV-ketel 3 | M7: Novum Oss | N7: Novutherm VR 1602A | O7: 1900 Kw | P7: 1 | Q7: st | R7: 2000 | S7: SCIOS
A8: 51.12.20.001 | B8: Kantoor | C8: Proviciehuis | D8: Brabantlaan 1 | E8: s-Hertogenbosch | F8: PH-01-K-K.005 (Ketelhuis) | G8: E&W | H8: Warmteopwekking | I8: 51 | J8: 51.12 | K8: warmte-opwekking, lokaal | L8: Olie toevoerleiding CV-ketel 3 (scope 7c) | P8: 1 | Q8: st | S8: SCIOS Scope 7C
A9: 51.51.11.001 | B9: Kantoor | C9: Proviciehuis | D9: Brabantlaan 1 | E9: s-Hertogenbosch | F9: PH-01-K-K.005 (Ketelhuis) | G9: E&W | H9: Warmteopwekking | I9: 51 | J9: 51.51 | K9: warmte-opwekking, bijzonder, warmtepomp | L9: Warmtepomp WKO systeem | M9: Carrier | N9: 30RW-245-A0191-PE | P9: 1 | Q9: st | R9: 2015 | S9: F-gassen besluit, F-gassen richtlijn EU, EPBD-richtlijn EU, Regeling Energieprestatie, Besluit Energieprestatie. | T9: 2 x 19 kg 407C
A10: 52.32.10.001 | B10: Kantoor | C10: Proviciehuis | D10: Brabantlaan 1 | E10: s-Hertogenbosch | F10: PH-03--1-P Oost (Parkeerterrein Oost) | G10: E&W | H10: Afvoeren | I10: 52 | J10: 52.32 | K10: afvoeren, afvalwater, bedrijfsafval | L10: Vetput afvoer warme keuken en spoelkeuken | P10: 1 | Q10: st | S10: Activiteitenbesluit 3.131, NEN1825-1/2
A11: 52.36.11.001 | B11: Kantoor | C11: Proviciehuis | D11: Brabantlaan 1 | E11: s-Hertogenbosch | F11: PH-02-0-72 (Garage) | G11: E&W | H11: Afvoeren | I11: 52 | J11: 52.36 | K11: afvoeren, afvalwater, pompsysteem | L11: Vuilwaterpomp in put milieugarage | N11: RW2 DRV630-2 VL NW80X3 | P11: 1 | Q11: st | R11: 1994
A12: 52.36.11.002 | B12: Kantoor | C12: Proviciehuis | D12: Brabantlaan 1 | E12: s-Hertogenbosch | F12: PH-03-0-T Noord (Tuin Noord) | G12: E&W | H12: Afvoeren | I12: 52 | J12: 52.36 | K12: afvoeren, afvalwater, pompsysteem | L12: Vuilwaterpomp in put bij oud ijzer ruimte | N12: RW2DRK1215-2NW100X4 | P12: 1 | Q12: st | R12: 1996
A13: 52.36.11.003 | B13: Kantoor | C13: Proviciehuis | D13: Brabantlaan 1 | E13: s-Hertogenbosch | F13: PH-03--1-P Noord (Parkeerterrein Noord) | G13: E&W | H13: Afvoeren | I13: 52 | J13: 52.36 | K13: afvoeren, afvalwater, pompsysteem | L13: Vuilwaterpomp in put garage dienstauto's | N13: RW1 DRV1026-2 NW100X3 | P13: 1 | Q13: st | R13: 2002
A14: 52.36.11.004 | B14: Kantoor | C14: Proviciehuis | D14: Brabantlaan 1 | E14: s-Hertogenbosch | F14: PH-01-K-K.012b (Magazijn) | G14: E&W | H14: Afvoeren | I14: 52 | J14: 52.36 | K14: afvoeren, afvalwater, pompsysteem | L14: Vuilwaterpomp in put meubelopslag | N14: RW1 DRV66-2 100 2" | P14: 1 | Q14: st | R14: 2007
A15: 52.36.11.005 | B15: Kantoor | C15: Proviciehuis | D15: Brabantlaan 1 | E15: s-Hertogenbosch | F15: PH-03--1-P West (Parkeerterrein West) | G15: E&W | H15: Afvoeren | I15: 52 | J15: 52.36 | K15: afvoeren, afvalwater, pompsysteem | L15: Vuilwaterpomp in straatkolk | N15: VW1 DRV611-2 W 130 | P15: 1 | Q15: st | R15: 2006
A16: 52.36.11.006 | B16: Kantoor | C16: Proviciehuis | D16: Brabantlaan 1 | E16: s-Hertogenbosch | F16: PH-01-PCC | G16: E&W | H16: Afvoeren | I16: 52 | J16: 52.36 | K16: afvoeren, afvalwater, pompsysteem | L16: Vuilwaterpomp in put Bunker | N16: VW1 DRV 68-2 110 | P16: 1 | Q16: st | R16: 2017
A17: 52.36.11.007 | B17: Kantoor | C17: Proviciehuis | D17: Brabantlaan 1 | E17: s-Hertogenbosch | F17: PH-01-K-K.005 (Ketelhuis) | G17: E&W | H17: Afvoeren | I17: 52 | J17: 52.36 | K17: afvoeren, afvalwater, pompsysteem | L17: Vuilwaterpomp in put ketelhuis | N17: VW2 VRD17.5-508 | P17: 1 | Q17: st | R17: 1995
A18: 52.51.10.001 | B18: Kantoor | C18: Proviciehuis | D18: Brabantlaan 1 | E18: s-Hertogenbosch | F18: PH-03--1-P Noord (Parkeerterrein Noord) | G18: E&W | H18: Afvoeren | I18: 52 | J18: 52.51 | K18: afvoeren, speciaal, chemisch verontreinigd afvalwater | L18: Benzine-afscheider 1 | P18: 1 | Q18: st | S18: Activiteitenbesluit, Milieubeheer 2013, NEN-EN 858
A19: 52.51.10.002 | B19: Kantoor | C19: Proviciehuis | D19: Brabantlaan 1 | E19: s-Hertogenbosch | F19: PH-03--1-P Noord (Parkeerterrein Noord) | G19: E&W | H19: Afvoeren | I19: 52 | J19: 52.51 | K19: afvoeren, speciaal, chemisch verontreinigd afvalwater | L19: Benzine afscheider 2 | P19: 1 | Q19: st | S19: Activiteitenbesluit, Milieubeheer 2013, NEN-EN 858
A20: 52.51.10.003 | B20: Kantoor | C20: Proviciehuis | D20: Brabantlaan 1 | E20: s-Hertogenbosch | F20: PH-03--1-P Noord (Parkeerterrein Noord) | G20: E&W | H20: Afvoeren | I20: 52 | J20: 52.51 | K20: afvoeren, speciaal, chemisch verontreinigd afvalwater | L20: Benzine afscheider 3 | P20: 1 | Q20: st | S20: Activiteitenbesluit, Milieubeheer 2013, NEN-EN 858
A21: 53.11.10.001 | B21: Kantoor | C21: Proviciehuis | D21: Brabantlaan 1 | E21: s-Hertogenbosch | F21: PH-03--1-P Noord (Parkeerterrein Noord) | G21: E&W | H21: Water | I21: 53 | J21: 53.11 | K21: water, drinkwater, netaansluiting | L21: Netaansluiting Brabant water | P21: 1 | Q21: st | S21: Waterleidingwet, Waterleidingbesluit, Arbowet, ISSO 55.1
A22: 53.11.11.001 | B22: Kantoor | C22: Proviciehuis | D22: Brabantlaan 1 | E22: s-Hertogenbosch | F22: PH-01-Alg. | G22: E&W | H22: Water | I22: 53 | J22: 53.11 | K22: water, drinkwater, netaansluiting | L22: Drinkwaterinstallatie tappunten hoofdgebouw | P22: 1 | Q22: st | S22: Waterleidingwet, Waterleidingbesluit, Arbowet, ISSO 55.1 | T22: Datum keuringsrapport 15-02 -2018
A23: 53.11.11.002 | B23: Kantoor | C23: Proviciehuis | D23: Brabantlaan 1 | E23: s-Hertogenbosch | F23: PH-02-0-FLEX (Flexwerkplek) | G23: E&W | H23: Water | I23: 53 | J23: 53.11 | K23: water, drinkwater, netaansluiting | L23: Drinkwater installatie tappunten Nieuwbouw | P23: 1 | Q23: st | S23: Waterleidingwet, Waterleidingbesluit, Arbowet, ISSO 55.1
A24: 53.11.20.001 | B24: Kantoor | C24: Proviciehuis | D24: Brabantlaan 1 | E24: s-Hertogenbosch | F24: PH-01-PCC | G24: E&W | H24: Water | I24: 53 | J24: 53.11 | K24: water, drinkwater, netaansluiting | L24: Keerkleppen Provinciehuis volgens logblad 3 | P24: 1 | Q24: st | S24: Waterleidingwet, Waterleidingbesluit, Arbowet, ISSO 55.1
A25: 53.12.10.001 | B25: Kantoor | C25: Proviciehuis | D25: Brabantlaan 1 | E25: s-Hertogenbosch | F25: PH-03--1-P Noord (Parkeerterrein Noord) | G25: E&W | H25: Water | I25: 53 | J25: 53.12 | K25: water, drinkwater, bronaansluiting | L25: WKO provinciehuis hoofdgebouw | P25: 1 | Q25: st | S25: Wijzigingsbesluit bodemenergiesystemen
A26: 53.12.10.002 | B26: Kantoor | C26: Proviciehuis | D26: Brabantlaan 1 | E26: s-Hertogenbosch | F26: PH-03--1-P Noord (Parkeerterrein Noord) | G26: E&W | H26: Water | I26: 53 | J26: 53.12 | K26: water, drinkwater, bronaansluiting | L26: WKO provinciehuis nieuwbouw | P26: 1 | Q26: st | S26: Wijzigingsbesluit bodemenergiesystemen
A27: 53.14.11.001 | B27: Kantoor | C27: Proviciehuis | D27: Brabantlaan 1 | E27: s-Hertogenbosch | F27: PH-01-P-P.005 (Ketelhuis) | G27: E&W | H27: Water | I27: 53 | J27: 53.14 | K27: water, drinkwater, drukverhoging | L27: Hydrofoor 1 | M27: Duijvelaar | N27: model d41507308 | P27: 1 | Q27: st | R27: 1998 | T27: 3 x pomp CRe4-180
A28: 53.14.11.002 | B28: Kantoor | C28: Proviciehuis | D28: Brabantlaan 1 | E28: s-Hertogenbosch | F28: PH-01-P-P.005 (Ketelhuis) | G28: E&W | H28: Water | I28: 53 | J28: 53.14 | K28: water, drinkwater, drukverhoging | L28: Hydrofoor 2 | M28: Duijvelaar | N28: HU 2 DPVE10/10B | P28: 1 | Q28: st | R28: 2016 | T28: 2 x pomp
A29: 53.14.11.003 | B29: Kantoor | C29: Proviciehuis | D29: Brabantlaan 1 | E29: s-Hertogenbosch | F29: PH-01-P-P.005 (Ketelhuis) | G29: E&W | H29: Water | I29: 53 | J29: 53.14 | K29: water, drinkwater, drukverhoging | L29: Hydrofoor 3 | M29: Duijvelaar | N29: model d41567312 | P29: 1 | Q29: st | R29: 1998 | T29: 3 x pomp CR4-120
A30: 53.14.11.004 | B30: Kantoor | C30: Proviciehuis | D30: Brabantlaan 1 | E30: s-Hertogenbosch | F30: PH-01-P-P.005 (Ketelhuis) | G30: E&W | H30: Water | I30: 53 | J30: 53.14 | K30: water, drinkwater, drukverhoging | L30: Hydrofoor 4 | M30: Duijvelaar | P30: 1 | Q30: st | R30: 2009 | T30: 3 x pomp CRe5-20
A31: 53.14.11.005 | B31: Kantoor | C31: Proviciehuis | D31: Brabantlaan 1 | E31: s-Hertogenbosch | F31: PH-02-0-72 (Garage) | G31: E&W | H31: Water | I31: 53 | J31: 53.14 | K31: water, drinkwater, drukverhoging | L31: Hydrofoor Nieuwbouw | M31: Duijvelaar | N31: HU 3 DPL 4 -20N1x42 | P31: 1 | Q31: st | T31: 3 x pomp
A32: 53.21.11.001 | B32: Kantoor | C32: Proviciehuis | D32: Brabantlaan 1 | E32: s-Hertogenbosch | F32: PH-01-23-23.094 (Roosterruimte) | G32: E&W | H32: Water | I32: 53 | J32: 53.21 | K32: water, verwarmd tapwater, direct verwarmd met voorraad | L32: Close-up Boiler verdieping 23 | M32: Itho Daalderop | N32: 15 liter | P32: 1 | Q32: st
A33: 53.21.11.002 | B33: Kantoor | C33: Proviciehuis | D33: Brabantlaan 1 | E33: s-Hertogenbosch | F33: PH-01-20-20.004 (Pantry) | G33: E&W | H33: Water | I33: 53 | J33: 53.21 | K33: water, verwarmd tapwater, direct verwarmd met voorraad | L33: Close-in Boiler in facilitaire unit verdieping 20 | M33: Itho Daalderop | N33: 15 liter | P33: 1 | Q33: st
A34: 53.21.11.003 | B34: Kantoor | C34: Proviciehuis | D34: Brabantlaan 1 | E34: s-Hertogenbosch | F34: PH-01-17-17.004 (Pantry) | G34: E&W | H34: Water | I34: 53 | J34: 53.21 | K34: water, verwarmd tapwater, direct verwarmd met voorraad | L34: Close-in Boiler in facilitaire unit verdieping 17 | M34: Itho Daalderop | N34: 15 liter | P34: 1 | Q34: st
A35: 53.21.11.004 | B35: Kantoor | C35: Proviciehuis | D35: Brabantlaan 1 | E35: s-Hertogenbosch | F35: PH-01-14-14.004 (Pantry) | G35: E&W | H35: Water | I35: 53 | J35: 53.21 | K35: water, verwarmd tapwater, direct verwarmd met voorraad | L35: Close-in Boiler in facilitaire unit verdieping 14 | M35: Itho Daalderop | N35: 15 liter | P35: 1 | Q35: st
A36: 53.21.11.005 | B36: Kantoor | C36: Proviciehuis | D36: Brabantlaan 1 | E36: s-Hertogenbosch | F36: PH-01-11-11.004 (Pantry) | G36: E&W | H36: Water | I36: 53 | J36: 53.21 | K36: water, verwarmd tapwater, direct verwarmd met voorraad | L36: Close-in Boiler in facilitaire unit verdieping 11 | M36: Itho Daalderop | N36: 15 liter | P36: 1 | Q36: st
A37: 53.21.11.006 | B37: Kantoor | C37: Proviciehuis | D37: Brabantlaan 1 | E37: s-Hertogenbosch | F37: PH-01-8-08.004 (Pantry) | G37: E&W | H37: Water | I37: 53 | J37: 53.21 | K37: water, verwarmd tapwater, direct verwarmd met voorraad | L37: Close-in Boiler in facilitaire unit verdieping 8 | M37: Itho Daalderop | N37: 15 liter | P37: 1 | Q37: st
A38: 53.21.11.007 | B38: Kantoor | C38: Proviciehuis | D38: Brabantlaan 1 | E38: s-Hertogenbosch | F38: PH-01-5-05.004 (Pantry) | G38: E&W | H38: Water | I38: 53 | J38: 53.21 | K38: water, verwarmd tapwater, direct verwarmd met voorraad | L38: Close-in Boiler in facilitaire unit verdieping 5 | M38: Itho Daalderop | N38: 15 liter | P38: 1 | Q38: st
A39: 53.21.11.008 | B39: Kantoor | C39: Proviciehuis | D39: Brabantlaan 1 | E39: s-Hertogenbosch | F39: PH-01-1-1.107 (Schoonmaak) | G39: E&W | H39: Water | I39: 53 | J39: 53.21 | K39: water, verwarmd tapwater, direct verwarmd met voorraad | L39: Close-up Boiler 1e verdieping in werkkast t.o. ruimte 1.028 | M39: Itho Daalderop | N39: 15 liter | P39: 1 | Q39: st
A40: 53.21.11.009 | B40: Kantoor | C40: Proviciehuis | D40: Brabantlaan 1 | E40: s-Hertogenbosch | F40: PH-01-1-1.102 (Kolfkamer) | G40: E&W | H40: Water | I40: 53 | J40: 53.21 | K40: water, verwarmd tapwater, direct verwarmd met voorraad | L40: Close-up Boiler in kolfkamer 1e verdieping | M40: Itho Daalderop | N40: 15 liter | P40: 1 | Q40: st
A41: 53.21.11.010 | B41: Kantoor | C41: Proviciehuis | D41: Brabantlaan 1 | E41: s-Hertogenbosch | F41: PH-01-B-B.056 (Spoelkeuken) | G41: E&W | H41: Water | I41: 53 | J41: 53.21 | K41: water, verwarmd tapwater, direct verwarmd met voorraad | L41: Boiler 1 spoelkeuken | M41: Itho Daalderop | N41: 150 liter | P41: 1 | Q41: st
...

Sheet B calc schema
B1: =Inschrijfbiljet!A1 -> Inschrijfformulieren Provinciehuis (Provincie Noord-Brabant)
A3: Calculatieschema en uurtarieven voor onderhoud
A4: Voor verrekenbaar correctief onderhoud en regie werkzaamheden op afroep
C6: Inschrijver: | E6: =Inschrijfbiljet!E4 -> 0
A8: De inschrijver verklaart de verrekenbare correctieve onderhoudswerkzaamheden
A9: en regie werkzaamheden op afroep ten behoeve van de te onderhouden installaties, conform de bepalingen
A10: in het beschrijvend document te zullen uitvoeren op basis van onderstaand calculatieschema en uurtarieven:
A13: 1) | B13: Calculatieschema
B14: • | C14: Netto materiaalprijs | G14: € | H14: A
B15: • | C15: Toeslag op groot materiaal: > € 1.000,00 | G15: % € | H15: A1 | CB15: =12000*(F15/100+1) -> 12000
C16: Toeslag op klein materiaal: < € 1.000,00 | G16: % € | H16: A2 | CB16: =3000*(F16/100+1) -> 3000
G17: € | H17: A1 + A2 = | I17: X
B18: Werk derden: | G18: € | H18: B
B19: Toeslag op werk derden: | G19: % € | H19: C | CB19: =10000*(F19/100+1) -> 10000
G20: € | H20: B + C = | I20: Y
B21: Lonen: Manuren a) x manuurtarief 2): | I21: Z
B22: Totaalbedrag incl. projectleiding, werkvoorbereiding, calculatie, engineering, aanleveren revisiegegevens en winst & risico
I23: X + Y + Z | CB23: =SUM(CB40:CB43,CB35:CB38,CB19,CB15:CB16) -> 25000
B25: a) | C25: Voor de calculatie van manuren zal waar mogelijk worden uitgegaan van de UNETO-normen, resp. Gustav Ende
C26: met de volgende correctiefactoren:
C27: • UNETO x | D27: 1
C28: • G.E. x | D28: 1
A30: 2) | B30: Manuurtarieven voor onderhoud:
B31: MANUURTARIEVEN
F32: Werkdagen | G32: Werkdagen | H32: Werkdagen | I32: Zon- en
F33: 7.00 - 19.00 | G33: 19.00 - 24:00 | H33: 's nachts + | I33: feest-
F34: uur | G34: uur | H34: zaterdagen | I34: dagen
B35: • | C35: Servicemonteur / technicus E | G35: Tarief + 25% | H35: Tarief + 50% | I35: Tarief + 75% | CB35: =500*F35 -> 0
B36: • | C36: Servicemonteur / technicus W | G36: Tarief + 25% | H36: Tarief + 50% | I36: Tarief + 75% | CB36: =500*F36 -> 0
B37: • | C37: Monteur / technicus E | G37: Tarief + 25% | H37: Tarief + 50% | I37: Tarief + 75% | CB37: =150*F37 -> 0
B38: • | C38: Monteur / technicus W | G38: Tarief + 25% | H38: Tarief + 50% | I38: Tarief + 75% | CB38: =150*F38 -> 0
B39: • | C39: Servicespecialist
C40: – Stookinstallaties | G40: Tarief + 25% | H40: Tarief + 50% | I40: Tarief + 75% | CB40: =153*F40 -> 0
C41: – Koeltechniek | G41: Tarief + 25% | H41: Tarief + 50% | I41: Tarief + 75% | CB41: =100*F41 -> 0
C42: – Meet en regeltechniek | G42: Tarief + 25% | H42: Tarief + 50% | I42: Tarief + 75% | CB42: =100*F42 -> 0
B43: • | C43: Installatieverantwoordelijke | G43: Tarief + 25% | H43: Tarief + 50% | I43: Tarief + 75% | CB43: =100*F43 -> 0
B45: Alle bedragen zijn exclusief BTW.
B46: Voorrijkosten, reisuren en reiskosten zijn niet verrekenbaar, doch in de tarieven inbegrepen.
A49: Gedaan te | D49: =Inschrijfbiljet!D36 -> 0 | F49: datum: | G49: =Inschrijfbiljet!H36 -> 0
A51: De inschrijver, | D51: =Inschrijfbiljet!D38:G38 -> 0
...

Sheet C calc schema proj
B1: =Inschrijfbiljet!A1 -> Inschrijfformulieren Provinciehuis (Provincie Noord-Brabant)
A3: Calculatieschema en uurtarieven voor projecten e.d. tot € 50.000
D4: Voor projecten, uitbreidingen, vervangingen en wijzigingen
C6: Inschrijver: | E6: =Inschrijfbiljet!E4:H4 -> 0
A8: De inschrijver verklaart klussen, projecten, omdificaties, enz. welke op basis van offerte met open begroting zullen worden gegund,
A9: aan te zullen bieden op basis van onderstaand calculatieschema en uurtarieven. Zij verklaart dit schema en uurtarieven
A10: bovendien als maximum te zullen hanteren bij aanbestedingen boven € 50.000.
A12: 1) | B12: Calculatieschema
B13: • | C13: Netto materiaalprijs | G13: € | H13: A
B14: • | C14: Toeslag op groot materiaal: > € 1.000,00 | G14: % € | H14: A1 | CC14: =12000*(F14/100+1) -> 12000
C15: Toeslag op klein materiaal: < € 1.000,00 | G15: % € | H15: A2 | CC15: =3000*(F15/100+1) -> 3000
G16: € | H16: A1 + A2 = | I16: X
B17: Werk derden: | G17: € | H17: B
B18: Toeslag op werk derden: | G18: % € | H18: C | CC18: =10000*(F18/100+1) -> 10000
G19: € | H19: B + C = | I19: Y
B20: Lonen: uren a) x tarief betreffende monteur / technicus en of specialist | I20: Z
B21: Subtotaal exclusief eventuele engineering | I21: X + Y + Z
B22: Toeslag voor engineering / ontwerp b) | I22: F
B23: Totaalbedrag incl. projectleiding, werkvoorbereiding, calculatie, revisietek en winst & risico
I24: X+Y+Z+F | CC24: =CC14+CC15+CC18+CC38*CC30+CC39*CC30+CC40*CC29+CC41*CC29 -> 25000 | CD24: =CC24*CE30 -> 25000
B26: a) | C26: Voor de calculatie van manuren zal waar mogelijk | F26: b) toeslag voor engineering / ontwerp:
C27: worden uitgegaan van de UNETO-normen, | F27: Bij volledig uitgewerkte uitvraag | I27: % | CD27: =H27%+1 -> 1
C28: resp. Gustav Ende met de volgende correctiefactoren: | F28: Bij een uitvraag obv richtlijnen | I28: % | CD28: =H28%+1 -> 1
C29: • UNETO x | F29: Bij volledige engineering door inschrijver | I29: % | CC29: =D29 -> 0 | CD29: =H29%+1 -> 1
C30: • G.E. x | CC30: =D30 -> 0 | CD30: =SUM(CD27:CD29) -> 3 | CE30: =CD30/3 -> 1
A33: 2) | B33: Manuurtarieven voor projecten e.d.:
B34: MANUURTARIEVEN
F35: Werkdagen | G35: Werkdagen | H35: Werkdagen | I35: Zon- en
F36: 8.00 - 17.00 | G36: 17.00 - 24.00 | H36: 's nachts + | I36: feest-
F37: uur | G37: uur | H37: zaterdagen | I37: dagen
B38: • | C38: Monteur / technicus E | G38: Tarief + 25% | H38: Tarief + 50% | I38: Tarief + 75% | CC38: =F38*500 -> 0
B39: • | C39: Monteur / technicus W | G39: Tarief + 25% | H39: Tarief + 50% | I39: Tarief + 75% | CC39: =F39*500 -> 0
B40: • | C40: Specialist E technische installaties | G40: Tarief + 25% | H40: Tarief + 50% | I40: Tarief + 75% | CC40: =F40*500 -> 0
B41: • | C41: Specialist W technische installaties | G41: Tarief + 25% | H41: Tarief + 50% | I41: Tarief + 75% | CC41: =F41*500 -> 0
B43: Alle bedragen zijn exclusief BTW.
B44: Voorrijkosten, reisuren en reiskosten zijn niet verrekenbaar, doch in de tarieven inbegrepen.
A47: Gedaan te | D47: =Inschrijfbiljet!D36:F36 -> 0 | F47: datum: | G47: =Inschrijfbiljet!H36 -> 0
A49: De inschrijver,
D50: =Inschrijfbiljet!D38:G38 -> 0
A51: Handtekening: | H51: Firmastempel:

Sheet D voorst subco
B3: =Inschrijfbiljet!A1 -> Inschrijfformulieren Provinciehuis (Provincie Noord-Brabant)
B5: Voorstel onderaannemers
B7: Inschrijver: | D7: =Inschrijfbiljet!E4 -> 0
B11: Installatie / Installatiedeel | E11: Onderaannemer
E12: Naam | H12: Plaats
A39: Gedaan te | C39: =Inschrijfbiljet!D36 -> 0 | G39: datum: | H39: =Inschrijfbiljet!H36 -> 0
A41: De inschrijver, | C41: =Inschrijfbiljet!E4 -> 0
A43: Handtekening: | G43: Firmastempel:

Sheet Rekenblad
B2: Weging
B3: 1 | C3: Kosten vanuit verzamelblad per gebouw (Totaal) | D3: ='Verzamelblad per gebouw'!Y11+'Verzamelblad per gebouw'!Z11+'Verzamelblad per gebouw'!AA11 -> 0 | E3: = | F3: =D3*B3 -> 0
B4: 0,4 | C4: Inschrijving (op basis van berekening calculatieschema B) | D4: =('B calc schema'!CB23/100000)*D3 -> 0 | E4: = | F4: =D4*B4 -> 0
B5: 0,5 | C5: Inschrijving (op basis van berekening calculatieschema proj. C) | D5: =('C calc schema proj'!CD24)/100000*D3 -> 0 | E5: = | F5: =D5*B5 -> 0
C7: Totaal 'gewogen' inschrijving incl. B&C | D7: =SUM(F3:F5) -> 0
