Workbook

Sheet  Aanbiedingsformat Totaal 
B1: Aanbiedingsformat Totaal
D3: Project: | E3: Contractperceel 2:NZ
D4: Status document: | E4: definitief
D5: Versie: | E5: 1.0
D7: Naam Inschrijver | E7: Aannemer
D8: datum | E8: Datum
A12: Jaar | B12: Omschrijving | D12: Totalen
A13: 2019 | B13: 1 | C13: Annex 1 | D13: ='2019'!G10 -> 0
B14: 2 | C14: Annex 2 | D14: ='2019'!G21 -> 0
B15: 3 | C15: Stelpost | D15: ='2019'!G22 -> 20000
A16: 2020 | B16: 1 | C16: Annex 1 | D16: ='2020'!G10 -> 0
B17: 2 | C17: Annex 2 | D17: ='2020'!G21 -> 0
B18: 3 | C18: Stelpost | D18: ='2020'!G22 -> 20000
A19: 2021 | B19: 1 | C19: Annex 1 | D19: ='2021'!G10 -> 0
B20: 2 | C20: Annex 2 | D20: ='2021'!G21 -> 0
B21: 3 | C21: Stelpost | D21: ='2021'!G22 -> 20000
A22: 2022 | B22: 1 | C22: Annex 1 | D22: ='2022'!G10 -> 0
B23: 2 | C23: Annex 2 | D23: ='2022'!G21 -> 0
B24: 3 | C24: Stelpost | D24: ='2022'!G22 -> 20000
A25: 2023 | B25: 1 | C25: Annex 1 | D25: ='2023'!G10 -> 0
B26: 2 | C26: Annex 2 | D26: ='2023'!G15 -> 0
B27: 3 | C27: Stelpost | D27: ='2023'!G16 -> 20000
A28: 2024 | B28: 1 | C28: Annex 1 | D28: ='2024'!G10 -> 0
B29: 2 | C29: Annex 2 | D29: ='2024'!G15 -> 0
B30: 3 | C30: Stelpost | D30: ='2024'!G16 -> 10000
A31: 2025 | B31: 1 | C31: Annex 1 | D31: ='2025'!G10 -> 0
B32: 2 | C32: Annex 2 | D32: ='2025'!G15 -> 0
B33: 3 | C33: Stelpost | D33: ='2025'!G16 -> 10000
A34: 2026 | B34: 1 | C34: Annex 1 | D34: ='2026'!G10 -> 0
B35: 2 | C35: Annex 2 | D35: ='2026'!G15 -> 0
B36: 3 | C36: Stelpost | D36: ='2026'!G16 -> 10000
C37: Inschrijfsom | D37: =SUM(D13:D36) -> 130000
A43: Annex 2, hoeveelheid is een verrekenbare hoeveelheid in de uitvoering. Verrekening vindt plaats o.b.v. de werkelijk uitgevoerde meters tegen de vaste PPE (prijs per eenheid)
A45: Gegadigde dient bij aanbieding een getekende PDF van dit document in te dienen en tevens dient het bestand in bewerkbaar native-format (excel) te worden aangeleverd.
B47: Grijze cellen in te vullen door de aannemer
D50: Naam gegadigde | E50: =E7 -> Aannemer
D51: Datum | E51: =E8 -> Datum
D53: Handtekening

Sheet 2019
B1: Aanbiedingsformat 2019
C3: =' Aanbiedingsformat Totaal '!E3 -> Contractperceel 2:NZ
B9: omschrijving | D9: eenheid | E9: hoeveelheid | F9: PPE €/m | G9: totaal
B10: 1 | C10: Annex 1 | D10: post | E10: 1 | G10: 0
B11: Verrekenbare hoeveelheden WP 1
B12: 2 | C12: Amstelpoort annex 2 | D12: m1 | E12: 34087 | F12: 0 | G12: =F12*E12 -> 0
B13: 3 | C13: Amstelpoort annex 2, optie plus percelen | D13: m1 | E13: 1646 | F13: 0 | G13: =F13*E13 -> 0
B14: 4 | C14: Amsterdam annex 2 | D14: m1 | E14: 726 | F14: 0 | G14: =F14*E14 -> 0
B15: 5 | C15: Amsterdam annex 2, optie plus percelen | D15: m1 | E15: 8 | F15: 0 | G15: =F15*E15 -> 0
B16: 6 | C16: Hollands Noorderkwartier annex 2 | D16: m1 | E16: 175538 | F16: 0 | G16: =F16*E16 -> 0
B17: 7 | C17: Hollands Noorderkwartier annex 2, optie plus percelen | D17: m1 | E17: 7689 | F17: 0 | G17: =F17*E17 -> 0
B18: 8 | C18: Hollands Noorderkwartier annex 2, optie percelen derden | D18: m1 | E18: 25131 | F18: 0 | G18: =F18*E18 -> 0
B19: 9 | C19: Kennemerland annex 2 | D19: m1 | E19: 32755 | F19: 0 | G19: =F19*E19 -> 0
B20: 10 | C20: Kennemerland annex 2, optie plus percelen | D20: m1 | E20: 2917 | F20: 0 | G20: =F20*E20 -> 0
C21: Totaal Annex 2 | G21: =SUM(G12:G20) -> 0
B22: 11 | C22: Stelpost | D22: post | E22: 1 | G22: 20000
C23: Inschrijfsom 2019 | G23: =G21+G22+G10 -> 20000
A28: Annex 2, hoeveelheid is een verrekenbare hoeveelheid in de uitvoering. Verrekening vindt plaats o.b.v. de werkelijk uitgevoerde meters tegen de vaste PPE (prijs per eenheid)
A30: Gegadigde dient bij aanbieding een getekende PDF van dit document in te dienen en tevens dient het bestand in bewerkbaar native-format (excel) te worden aangeleverd.
B32: Grijze cellen in te vullen door de aannemer

Sheet 2020
B1: Aanbiedingsformat 2020
C3: =' Aanbiedingsformat Totaal '!E3 -> Contractperceel 2:NZ
B9: omschrijving | D9: eenheid | E9: hoeveelheid | F9: PPE €/m | G9: totaal
B10: 1 | C10: Annex 1 | D10: post | E10: 1 | G10: 0
B11: Verrekenbare hoeveelheden WP 1
B12: 2 | C12: Amstelpoort annex 2 | D12: m1 | E12: 34087 | F12: 0 | G12: =F12*E12 -> 0
B13: 3 | C13: Amstelpoort annex 2, optie plus percelen | D13: m1 | E13: 1646 | F13: 0 | G13: =F13*E13 -> 0
B14: 4 | C14: Amsterdam annex 2 | D14: m1 | E14: 726 | F14: 0 | G14: =F14*E14 -> 0
B15: 5 | C15: Amsterdam annex 2, optie plus percelen | D15: m1 | E15: 8 | F15: 0 | G15: =F15*E15 -> 0
B16: 6 | C16: Hollands Noorderkwartier annex 2 | D16: m1 | E16: 175538 | F16: 0 | G16: =F16*E16 -> 0
B17: 7 | C17: Hollands Noorderkwartier annex 2, optie plus percelen | D17: m1 | E17: 7689 | F17: 0 | G17: =F17*E17 -> 0
B18: 8 | C18: Hollands Noorderkwartier annex 2, optie percelen derden | D18: m1 | E18: 25131 | F18: 0 | G18: =F18*E18 -> 0
B19: 9 | C19: Kennemerland annex 2 | D19: m1 | E19: 32755 | F19: 0 | G19: =F19*E19 -> 0
B20: 10 | C20: Kennemerland annex 2, optie plus percelen | D20: m1 | E20: 2917 | F20: 0 | G20: =F20*E20 -> 0
C21: Totaal Annex 2 | G21: =SUM(G12:G20) -> 0
B22: 11 | C22: Stelpost | D22: post | E22: 1 | G22: 20000
C23: Inschrijfsom 2020 | G23: =G21+G22+G10 -> 20000
A28: Annex 2, hoeveelheid is een verrekenbare hoeveelheid in de uitvoering. Verrekening vindt plaats o.b.v. de werkelijk uitgevoerde meters tegen de vaste PPE (prijs per eenheid)
A30: Gegadigde dient bij aanbieding een getekende PDF van dit document in te dienen en tevens dient het bestand in bewerkbaar native-format (excel) te worden aangeleverd.
B32: Grijze cellen in te vullen door de aannemer

Sheet 2021
B1: Aanbiedingsformat 2021
C3: =' Aanbiedingsformat Totaal '!E3 -> Contractperceel 2:NZ
B9: omschrijving | D9: eenheid | E9: hoeveelheid | F9: PPE €/m | G9: totaal
B10: 1 | C10: Annex 1 | D10: post | E10: 1 | G10: 0
B11: Verrekenbare hoeveelheden WP 1
B12: 2 | C12: Amstelpoort annex 2 | D12: m1 | E12: 34087 | F12: 0 | G12: =F12*E12 -> 0
B13: 3 | C13: Amstelpoort annex 2, optie plus percelen | D13: m1 | E13: 1646 | F13: 0 | G13: =F13*E13 -> 0
B14: 4 | C14: Amsterdam annex 2 | D14: m1 | E14: 726 | F14: 0 | G14: =F14*E14 -> 0
B15: 5 | C15: Amsterdam annex 2, optie plus percelen | D15: m1 | E15: 8 | F15: 0 | G15: =F15*E15 -> 0
B16: 6 | C16: Hollands Noorderkwartier annex 2 | D16: m1 | E16: 175538 | F16: 0 | G16: =F16*E16 -> 0
B17: 7 | C17: Hollands Noorderkwartier annex 2, optie plus percelen | D17: m1 | E17: 7689 | F17: 0 | G17: =F17*E17 -> 0
B18: 8 | C18: Hollands Noorderkwartier annex 2, optie percelen derden | D18: m1 | E18: 25131 | F18: 0 | G18: =F18*E18 -> 0
B19: 9 | C19: Kennemerland annex 2 | D19: m1 | E19: 32755 | F19: 0 | G19: =F19*E19 -> 0
B20: 10 | C20: Kennemerland annex 2, optie plus percelen | D20: m1 | E20: 2917 | F20: 0 | G20: =F20*E20 -> 0
C21: Totaal Annex 2 | G21: =SUM(G12:G20) -> 0
B22: 11 | C22: Stelpost | D22: post | E22: 1 | G22: 20000
C23: Inschrijfsom 2021 | G23: =G21+G22+G10 -> 20000
A28: Annex 2, hoeveelheid is een verrekenbare hoeveelheid in de uitvoering. Verrekening vindt plaats o.b.v. de werkelijk uitgevoerde meters tegen de vaste PPE (prijs per eenheid)
A30: Gegadigde dient bij aanbieding een getekende PDF van dit document in te dienen en tevens dient het bestand in bewerkbaar native-format (excel) te worden aangeleverd.
B32: Grijze cellen in te vullen door de aannemer

Sheet 2022
B1: Aanbiedingsformat 2022
C3: =' Aanbiedingsformat Totaal '!E3 -> Contractperceel 2:NZ
B9: omschrijving | D9: eenheid | E9: hoeveelheid | F9: PPE €/m | G9: totaal
B10: 1 | C10: Annex 1 | D10: post | E10: 1 | G10: 0
B11: Verrekenbare hoeveelheden WP 1
B12: 2 | C12: Amstelpoort annex 2 | D12: m1 | E12: 34087 | F12: 0 | G12: =F12*E12 -> 0
B13: 3 | C13: Amstelpoort annex 2, optie plus percelen | D13: m1 | E13: 1646 | F13: 0 | G13: =F13*E13 -> 0
B14: 4 | C14: Amsterdam annex 2 | D14: m1 | E14: 726 | F14: 0 | G14: =F14*E14 -> 0
B15: 5 | C15: Amsterdam annex 2, optie plus percelen | D15: m1 | E15: 8 | F15: 0 | G15: =F15*E15 -> 0
B16: 6 | C16: Hollands Noorderkwartier annex 2 | D16: m1 | E16: 175538 | F16: 0 | G16: =F16*E16 -> 0
B17: 7 | C17: Hollands Noorderkwartier annex 2, optie plus percelen | D17: m1 | E17: 7689 | F17: 0 | G17: =F17*E17 -> 0
B18: 8 | C18: Hollands Noorderkwartier annex 2, optie percelen derden | D18: m1 | E18: 25131 | F18: 0 | G18: =F18*E18 -> 0
B19: 9 | C19: Kennemerland annex 2 | D19: m1 | E19: 32755 | F19: 0 | G19: =F19*E19 -> 0
B20: 10 | C20: Kennemerland annex 2, optie plus percelen | D20: m1 | E20: 2917 | F20: 0 | G20: =F20*E20 -> 0
C21: Totaal Annex 2 | G21: =SUM(G12:G20) -> 0
B22: 11 | C22: Stelpost | D22: post | E22: 1 | G22: 20000
C23: Inschrijfsom 2022 | G23: =G21+G22+G10 -> 20000
A28: Annex 2, hoeveelheid is een verrekenbare hoeveelheid in de uitvoering. Verrekening vindt plaats o.b.v. de werkelijk uitgevoerde meters tegen de vaste PPE (prijs per eenheid)
A30: Gegadigde dient bij aanbieding een getekende PDF van dit document in te dienen en tevens dient het bestand in bewerkbaar native-format (excel) te worden aangeleverd.
B32: Grijze cellen in te vullen door de aannemer

Sheet 2023
B1: Aanbiedingsformat 2023
C3: =' Aanbiedingsformat Totaal '!E3 -> Contractperceel 2:NZ
B9: omschrijving | D9: eenheid | E9: hoeveelheid | F9: PPE €/m | G9: totaal
B10: 1 | C10: Annex 1 | D10: post | E10: 1 | G10: 0
B11: Verrekenbare hoeveelheden WP 1
B12: 2 | C12: Hollands Noorderkwartier annex 2 | D12: m1 | E12: 175538 | F12: 0 | G12: =F12*E12 -> 0
B13: 3 | C13: Hollands Noorderkwartier annex 2, optie plus percelen | D13: m1 | E13: 7689 | F13: 0 | G13: =F13*E13 -> 0
B14: 4 | C14: Hollands Noorderkwartier annex 2, optie percelen derden | D14: m1 | E14: 25131 | F14: 0 | G14: =F14*E14 -> 0
C15: Totaal Annex 2 | G15: =SUM(G12:G14) -> 0
B16: 5 | C16: Stelpost | D16: post | E16: 1 | G16: 20000
C17: Inschrijfsom 2023 | G17: =G15+G16+G10 -> 20000
A22: Annex 2, hoeveelheid is een verrekenbare hoeveelheid in de uitvoering. Verrekening vindt plaats o.b.v. de werkelijk uitgevoerde meters tegen de vaste PPE (prijs per eenheid)
A24: Gegadigde dient bij aanbieding een getekende PDF van dit document in te dienen en tevens dient het bestand in bewerkbaar native-format (excel) te worden aangeleverd.
B26: Grijze cellen in te vullen door de aannemer

Sheet 2024
B1: Aanbiedingsformat 2024
C3: =' Aanbiedingsformat Totaal '!E3 -> Contractperceel 2:NZ
B9: omschrijving | D9: eenheid | E9: hoeveelheid | F9: PPE €/m | G9: totaal
B10: 1 | C10: Annex 1 | D10: post | E10: 1 | G10: 0
B11: Verrekenbare hoeveelheden WP 1
B12: 2 | C12: Hollands Noorderkwartier annex 2 | D12: m1 | E12: 175538 | F12: 0 | G12: =F12*E12 -> 0
B13: 3 | C13: Hollands Noorderkwartier annex 2, optie plus percelen | D13: m1 | E13: 7689 | F13: 0 | G13: =F13*E13 -> 0
B14: 4 | C14: Hollands Noorderkwartier annex 2, optie percelen derden | D14: m1 | E14: 25131 | F14: 0 | G14: =F14*E14 -> 0
C15: Totaal Annex 2 | G15: =SUM(G12:G14) -> 0
B16: 5 | C16: Stelpost | D16: post | E16: 1 | G16: 10000
C17: Inschrijfsom 2024 | G17: =G15+G16+G10 -> 10000
A22: Annex 2, hoeveelheid is een verrekenbare hoeveelheid in de uitvoering. Verrekening vindt plaats o.b.v. de werkelijk uitgevoerde meters tegen de vaste PPE (prijs per eenheid)
A24: Gegadigde dient bij aanbieding een getekende PDF van dit document in te dienen en tevens dient het bestand in bewerkbaar native-format (excel) te worden aangeleverd.
B26: Grijze cellen in te vullen door de aannemer

Sheet 2025
B1: Aanbiedingsformat 2025
C3: =' Aanbiedingsformat Totaal '!E3 -> Contractperceel 2:NZ
B9: omschrijving | D9: eenheid | E9: hoeveelheid | F9: PPE €/m | G9: totaal
B10: 1 | C10: Annex 1 | D10: post | E10: 1 | G10: 0
B11: Verrekenbare hoeveelheden WP 1
B12: 2 | C12: Hollands Noorderkwartier annex 2 | D12: m1 | E12: 175538 | F12: 0 | G12: =F12*E12 -> 0
B13: 3 | C13: Hollands Noorderkwartier annex 2, optie plus percelen | D13: m1 | E13: 7689 | F13: 0 | G13: =F13*E13 -> 0
B14: 4 | C14: Hollands Noorderkwartier annex 2, optie percelen derden | D14: m1 | E14: 25131 | F14: 0 | G14: =F14*E14 -> 0
C15: Totaal Annex 2 | G15: =SUM(G12:G14) -> 0
B16: 5 | C16: Stelpost | D16: post | E16: 1 | G16: 10000
C17: Inschrijfsom 2025 | G17: =G15+G16+G10 -> 10000
A22: Annex 2, hoeveelheid is een verrekenbare hoeveelheid in de uitvoering. Verrekening vindt plaats o.b.v. de werkelijk uitgevoerde meters tegen de vaste PPE (prijs per eenheid)
A24: Gegadigde dient bij aanbieding een getekende PDF van dit document in te dienen en tevens dient het bestand in bewerkbaar native-format (excel) te worden aangeleverd.
B26: Grijze cellen in te vullen door de aannemer

Sheet 2026
B1: Aanbiedingsformat 2026
C3: =' Aanbiedingsformat Totaal '!E3 -> Contractperceel 2:NZ
B9: omschrijving | D9: eenheid | E9: hoeveelheid | F9: PPE €/m | G9: totaal
B10: 1 | C10: Annex 1 | D10: post | E10: 1 | G10: 0
B11: Verrekenbare hoeveelheden WP 1
B12: 2 | C12: Hollands Noorderkwartier annex 2 | D12: m1 | E12: 175538 | F12: 0 | G12: =F12*E12 -> 0
B13: 3 | C13: Hollands Noorderkwartier annex 2, optie plus percelen | D13: m1 | E13: 7689 | F13: 0 | G13: =F13*E13 -> 0
B14: 4 | C14: Hollands Noorderkwartier annex 2, optie percelen derden | D14: m1 | E14: 25131 | F14: 0 | G14: =F14*E14 -> 0
C15: Totaal Annex 2 | G15: =SUM(G12:G14) -> 0
B16: 5 | C16: Stelpost | D16: post | E16: 1 | G16: 10000
C17: Inschrijfsom 2026 | G17: =G15+G16+G10 -> 10000
A22: Annex 2, hoeveelheid is een verrekenbare hoeveelheid in de uitvoering. Verrekening vindt plaats o.b.v. de werkelijk uitgevoerde meters tegen de vaste PPE (prijs per eenheid)
A24: Gegadigde dient bij aanbieding een getekende PDF van dit document in te dienen en tevens dient het bestand in bewerkbaar native-format (excel) te worden aangeleverd.
B26: Grijze cellen in te vullen door de aannemer
