Workbook

Sheet Voorblad
A2: =Instructie!A2 -> Bijlage Prijzenblad 'Beheersysteem Openbare ruimte', inkoopcode: AICT-2018-0026
A3: Naam Inschrijver: | B3: Invullen op 'voorblad'
A4: Tabblad: Voorblad

Sheet Instructie
A2: Bijlage Prijzenblad 'Beheersysteem Openbare ruimte', inkoopcode: AICT-2018-0026
A3: Tabblad: Instructie
A4: Nr. | B4: Invulinstructie Dit bestand betreft het Prijzenblad. Inschrijver wordt verzocht dit formulier in te vullen. Daarbij geldt de volgende instructie:
A5: 1 | B5: Inschrijver dient uitsluitend de blauw gearceerde cellen te voorzien van de gevraagde informatie;
A6: 2 | B6: Inschrijvers dienen alle gevraagde prijzen volledig in te vullen met gebruikmaking van dit prijzenblad;
A7: 3 | B7: De opgegeven prijzen dienen op maximaal twee cijfers achter de komma worden afgerond;
A8: 4 | B8: Het verkeerd interpreteren van het prijzenblad komt voor verantwoordelijkheid van de Inschrijver. Vragen omtrent dit prijzenblad kunnen gesteld worden, conform de mogelijkheden die staan beschreven in de Aanbestedingsleidraad;
A9: 5 | B9: Het niet volledig invullen van deze bijlage, het aanbrengen van wijzigingen of het doen van aanvullingen in de prijzenbladen leidt tot ongeldigverklaring van uw inschrijving en derhalve tot uitsluiting;
A10: 6 | B10: Het indienen van prijzen welke niet voldoen aan de drempelbedragen , negatieve prijzen, is niet toegestaan op straffe van uitsluiting;
A11: 7 | B11: De prijzen dienen alle kosten te bevatten die nodig zijn voor het uitvoeren van de werkzaamheden, inclusief overhead, uitvoeringskosten, reiskosten, algemene kosten, winst en risico, afschrijvingskosten en dergelijke. Kosten welke niet in de template zijn opgenomen kunnen niet bij de gemeente Amsterdam in rekening worden gebracht.
A12: 8 | B12: De prijsopgave dient in Euro’s en exclusief BTW te geschieden;
A13: 9 | B13: Het prijzenblad gaat uit van een berekening van de prijzen over de maximale looptijd van de Overeenkomst (TCO-berekening), te weten 120 maanden. De som van de subtotalen vormt de fictieve TCO. Het is een fictieve TCO omdat in het tabblad additionele kosten met fictieve meerwerkuren wordt gerekend;
A14: 10 | B14: De in te vullen bedragen zijn gebaseerd op de in Aanbestedingsleidraad met inkoopcode AICT-2018-0026 vermelde informatie.
B15: Toelichting tabbladen
A16: 11 | B16: Tabblad 'Voorblad': Inschrijver dient eenmalig zijn naam in te vullen in het tabblad 'voorblad'.
A17: 12 | B17: Tabblad 'Instructie': dit tabblad, in dit tabblad wordt een algemene toelichting en een toelichting op de verschillende onderdelen per tabblad benoemd.
A18: 13 | B18: Tabblad 'Eenmalige kosten': in dit tabblad zijn de eenmalige kosten opgenomen. Inschrijver dient slechts de blauw gearceerde cellen in te vullen.
A19: 14 | B19: Tabblad 'Structurele kosten': in dit tabblad zijn de variabele kosten opgenomen. Inschrijver dient slechts de blauw gearceerde cellen in te vullen.
A20: 15 | B20: Tabblad 'Additionele kosten': in dit tabblad zijn verschillende functieprofielen opgenomen, waarbij de Inschrijver per functieprofiel een uurtarief dient op te geven. De uurtarieven gaan uit van een fictief aantal uren (voor de weging). Inschrijver kan hier geen rechten aan ontlenen. Inschrijver dient slechts de blauw gearceerde cellen in te vullen.
A21: 16 | B21: Tabblad 'Totaal': dit tabblad wordt automatisch gevuld, Inschrijver hoeft deze niet te vullen.
A22: 17 | B22: EINDE

Sheet Eenmalige kosten
A2: =Instructie!$A$2 -> Bijlage Prijzenblad 'Beheersysteem Openbare ruimte', inkoopcode: AICT-2018-0026
A3: Naam Inschrijver: | C3: =Voorblad!B3 -> Invullen op 'voorblad'
A4: Tabblad: Eenmalige kosten
A5: Prijsitem 1 Project- en implementatiekosten | D5: Bedrag excl. BTW
A6: 1a. Project- en Implementatiekosten fase 1 Toelichting: Gebruiksklaar opleveren van de SaaS-oplossing. Dit is inclusief conversie/migratie/installatie/implementatie. Zie paragraaf 1.3.10 van de Aanbestedingsleidraad, onderdelen: - A1 (Levering en Beheer fase 1); - B1 (Conversie van de in het huidige Beheersysteem aanwezige, volgens IMBOR 2018-2 beschreven, Objecten naar IMBOR in het nieuwe Beheersysteem); - D3 (Koppeling Beheersysteem en Geovoorziening). Prijsplafond max. € 40.000,- excl. BTW. | D6: 1
A7: 1b. Project- en Implementatiekosten fase 2 Toelichting: Gebruiksklaar opleveren van de SaaS-oplossing. Dit is inclusief conversie/migratie/installatie/implementatie. Zie paragraaf 1.3.10 van de Aanbestedingsleidraad, onderdelen: - A2 (Levering en beheer fase 2); - B2 (Conversie van de in het huidige Beheersysteem aanwezige, nog niet volgens IMBOR beschreven, Objecten naar IMBOR in het nieuwe Beheersysteem); - B3 (Conversie van de buiten het huidige Beheersysteem aanwezige Objecten). Prijsplafond max. € 60.000,- excl. BTW. | D7: 1
A8: Subtotaal prijsitem 1 | D8: =SUM(D6:D7) -> 2
A9: Prijsitem 2 Opleidingen | D9: Bedrag excl. BTW
A10: 2. Opleidingen Toelichting: Zie paragraaf 1.3.10 van de Aanbestedingsleidraad, onderdeel A4. Prijsplafond max. € 10.000,- excl. BTW. | D10: 1
A11: Subtotaal prijsitem 2 | D11: =D10 -> 1
A12: Prijsitem 3 Inrichting | D12: Bedrag excl. BTW
A13: 3a. Inrichten beheersysteem fase 1 Toelichting: zie Aanbestedingsleidraad hoofdstuk 1.3.10 C) Inrichting voor beheer en kwaliteitsgegevens. Prijsplafond max. € 20.000,- excl. BTW. | D13: 1
A14: 3b. Inrichten beheersysteem fase 2 Toelichting: zie Aanbestedingsleidraad hoofdstuk 1.3.10 C) Inrichting voor beheer en kwaliteitsgegevens. Prijsplafond max. € 30.000,- excl. BTW. | D14: 1
A15: Subtotaal prijsitem 3 | D15: =SUM(D13:D14) -> 2
A16: Prijsitem 4 Koppelingen/gegevensuitwisseling bij implementatie | D16: Bedrag excl. BTW
A17: Toelichting: Prijsplafond optelsom prijsitem 4a t/m 4h max. € 80.000,- excl. BTW.
A18: 4a. Gegevensuitwisseling tussen beheersysteem en Datapunt Toelichting: zie Aanbestedingsleidraad hoofdstuk 1.3.10 Gevraagde koppelingen en uitwisselingen nr. D1. | D18: 1
A19: 4b. Inrichten webservices Toelichting: zie Aanbestedingsleidraad hoofdstuk 1.3.10 Gevraagde koppelingen en uitwisselingen nr. D2. | D19: 1
A20: 4c. Importeren en exporteren van IMBOR-objecten Toelichting: zie Aanbestedingsleidraad hoofdstuk 1.3.10 Gevraagde koppelingen en uitwisselingen nr. D4. | D20: 1
A21: 4d. Inrichten uitwisseling met de kwaliteits-/inspectiescore op objectniveau; Toelichting: zie Aanbestedingsleidraad hoofdstuk 1.3.10 Gevraagde koppelingen en uitwisselingen nr. D5. | D21: 1
A22: 4e. Inrichten uitwisseling inspectiegegevens (incl. NEN) Toelichting: zie Aanbestedingsleidraad hoofdstuk 1.3.10 Gevraagde koppelingen en uitwisselingen nr. D6. | D22: 1
A23: 4f. Verwerken nieuwe objecten uit het BIM-proces Toelichting: zie Aanbestedingsleidraad hoofdstuk 1.3.10 Gevraagde koppelingen en uitwisselingen nr. D7. | D23: 1
A24: 4g. Koppeling object en documenten Toelichting: zie Aanbestedingsleidraad hoofdstuk 1.3.10 Gevraagde koppelingen en uitwisselingen nr. D8. | D24: 1
A25: 4h. Inlezen van gebiedsgrenzen Toelichting: zie Aanbestedingsleidraad hoofdstuk 1.3.10 Gevraagde koppelingen en uitwisselingen nr. D9. | D25: 1
A26: Subtotaal prijsitem 4 | D26: =SUM(D18:D25) -> 8
A27: TOTAAL EENMALIGE KOSTEN EXCL. BTW (Optelsom van subtotaal prijsitem 1 t/m subtotaal prijsitem 4. | D27: =D8+D11+D15+D26 -> 13

Sheet Structurele kosten
A2: =Instructie!$A$2 -> Bijlage Prijzenblad 'Beheersysteem Openbare ruimte', inkoopcode: AICT-2018-0026
A3: Naam Inschrijver: | C3: =Voorblad!B3 -> Invullen op 'voorblad'
A4: Tabblad: Structurele kosten
A5: Prijsitem 5 Structurele kosten SaaS-oplossing | D5: Prijs/maand excl. BTW | E5: Maanden | F5: Totale kosten, looptijd 120 maanden, excl. BTW (TCO)
A6: 5. Structurele kosten SaaS-oplossing Toelichting: Deze kosten zijn incl. software/licenties en beheer en onderhoud van het Beheersysteem (incl. support, hostingskosten, instructie gebruikers). Prijsplafond max. € 6.500,00 excl. BTW per maand. | D6: 1 | E6: 120 | F6: =D6*E6 -> 120
A7: Subtotaal prijsitem 5, 120 maanden | F7: =F6 -> 120
A8: Prijsitem 6 Koppelingen | D8: Prijs/maand excl. BTW | E8: Maanden | F8: Totale kosten, looptijd 120 maanden, excl. BTW (TCO)
A9: 6. Koppelingen Toelichting: De betreft de maandelijkse kosten voor het beheer en onderhoud van de koppeligen welke staan gespecificeerd in tabblad eenmalige kosten. Prijsplafond max. € 1.000,00 excl. BTW per maand. | D9: 1 | E9: 120 | F9: =D9*E9 -> 120
A10: Subtotaal prijsitem 6, 120 maanden | F10: =F9 -> 120
A11: Prijsitem 7 Overige structurele kosten | D11: Prijs/maand excl. BTW | E11: Maanden | F11: Totale kosten, looptijd 120 maanden, excl. BTW (TCO)
A12: 7. Overige structurele kosten Toelichting: Dit betreft alle overige kosten die nog niet zijn vermeld in dit tabblad. Indien Inschrijver deze kostenpost niet opneemt, dan gaat de gemeente Amsterdam ervan uit dat deze kosten niet bestaan en onderdeel zijn van de Inschrijving. Prijsplafond max. € 500,00 excl. BTW per maand.
A13: Beschrijving van de kosten invullen door Inschrijver. | D13: 1 | E13: 120 | F13: =D13*E13 -> 120
A14: Subtotaal prijsitem 7, 120 maanden | F14: =F13 -> 120
A15: TOTAAL STRUCTURELE KOSTEN LOOPTIJD 120 MAANDEN(TCO) EXCL. BTW | F15: =F7+F10+F14 -> 360

Sheet Additionele kosten
A2: =Instructie!$A$2 -> Bijlage Prijzenblad 'Beheersysteem Openbare ruimte', inkoopcode: AICT-2018-0026
A3: Naam Inschrijver: | B3: =Voorblad!B3 -> Invullen op 'voorblad'
A4: Tabblad: Additionele kosten
A5: Prijsitem 8 Dienstverlening | B5: Aantal fictieve uren | C5: Uurtarief excl. BTW | D5: Totale kosten, looptijd 120 maanden, excl. BTW (TCO)
A6: 8. Dienstverlening Toelichting: Bij elke functie gaat het om senior functieprofielen (meer dan 5 jaar relevante werkervaring). Onderstaande uurtarieven zijn van toepassing op mogelijk toekomstig meerwerk voor bijvoorbeeld koppelingen welke op termijn gerealiseerd dienen te worden/ verdere doorontwikkeling. Het aantal fictieve uren zijn zoals het woord als zegt 'fictief, het aantal uur kan meer of minder worden (werken als wegingsfactor voor de TCO-berekening voor de looptijd van 120 maanden) . Prijsplafond max. € 125,00 excl. BTW per uur voor onderstaande functieprofielen.
A7: 8a. Consultant (advies inrichting) | B7: 100 | C7: 1 | D7: =B7*C7 -> 100
A8: 8b. Implementatie manager / projectleider opdrachtnemer | B8: 50 | C8: 1 | D8: =B8*C8 -> 50
A9: 8c. Geo IT specialist | B9: 250 | C9: 1 | D9: =B9*C9 -> 250
A10: 8d. Database specialist (t.b.v. het inrichten en aanpassen van een datamodel) | B10: 150 | C10: 1 | D10: =B10*C10 -> 150
A11: TOTAAL ADDITIONELE KOSTEN EXCL. BTW | D11: =SUM(D7:D10) -> 550

Sheet Totaal
A1: =Instructie!A2 -> Bijlage Prijzenblad 'Beheersysteem Openbare ruimte', inkoopcode: AICT-2018-0026
A2: Naam Inschrijver: | B2: =Voorblad!$B$3 -> Invullen op 'voorblad'
A4: Tabblad: Totaal
A5: Prijsitem | B5: Type kosten | C5: Totale kosten, looptijd 120 maanden, excl. BTW (TCO)
A6: ='Eenmalige kosten'!A5:C5 -> Prijsitem 1 Project- en implementatiekosten | B6: Eenmalige kosten | C6: ='Eenmalige kosten'!D8 -> 2
A7: ='Eenmalige kosten'!A9:C9 -> Prijsitem 2 Opleidingen | B7: Eenmalige kosten | C7: ='Eenmalige kosten'!D11 -> 1
A8: ='Eenmalige kosten'!A12:C12 -> Prijsitem 3 Inrichting | B8: Eenmalige kosten | C8: ='Eenmalige kosten'!D15 -> 2
A9: ='Eenmalige kosten'!A16:C16 -> Prijsitem 4 Koppelingen/gegevensuitwisseling bij implementatie | B9: Eenmalige kosten | C9: ='Eenmalige kosten'!D26 -> 8
A10: ='Structurele kosten'!A5:B5 -> Prijsitem 5 Structurele kosten SaaS-oplossing | B10: Structurele kosten | C10: ='Structurele kosten'!F7 -> 120
A11: ='Structurele kosten'!A8:B8 -> Prijsitem 6 Koppelingen | B11: Structurele kosten | C11: ='Structurele kosten'!F10 -> 120
A12: ='Structurele kosten'!A11:B11 -> Prijsitem 7 Overige structurele kosten | B12: Structurele kosten | C12: ='Structurele kosten'!F14 -> 120
A13: ='Additionele kosten'!A5 -> Prijsitem 8 Dienstverlening | B13: Additionele kosten | C13: ='Additionele kosten'!D11 -> 550
B14: Totaal | C14: =SUM(C6:C13) -> 923
