Workbook

Sheet Leverancier
B3: Autorisaties RVB Systemen tbv leveranciers | P3: CONDOR DAGELIJKS ONDERHOUD | Q3: CONDOR BOEI | R3: ORACLE STORINGSONDERHOUD
B4: Leveranciersnaam: | H4: =IF(ISBLANK(Commer!$D$6)=TRUE,"",Commer!$D$6)
B5: Personalia
B6: Voornaam | C6: Tussenvoegsel | D6: Achternaam | E6: E-mailadres | F6: Mobiel tel. nummer | G6: Perceel / Contract | H6: Doel Aanvraag | I6: Opmerkingen
A7: 1. | Y7: JA | Z7: Nieuw
A8: 2. | Y8: NEE | Z8: Wijziging
A9: 3. | Z9: Intrekken
A10: 4.
A11: 5.
A12: 6.
A13: 7.
A14: 8.
A15: 9.
A16: 10.
B19: Leverancier | C19: voor akkoord: | E19: Voornaam: | H19: Datum:
E22: Achternaam: | H22: Handtekening:
B28: Medewerkers
B29: Voornaam | C29: Volledige voornaam
B30: Tussenvoegsel | C30: (voluit)
B31: Achternaam | C31: Volledige naam (evt. Inclusief meisjesnaam)
B32: E-mailadres | C32: Een op een persoon herleidbaar e-mailadres (bijv P.deWit@bedrijf.nl, niet toegestaan bijv: contract23@bedrijf)
B33: Telefoonnumm | C33: Het directe persoonlijke mobiele telefoonnummer
B34: Doel aanvraag | C34: Nieuw (medewerker), Wijziging (muteren rechten medewerker), Intrekken (verwijder medewerker)
B35: Perceel/ Contract | C35: Vul per medewerker slechts 1 contract/ perceel)
B37: Autorisaties
B38: JA | C38: Autrorisatie rol toekenne
B39: NEE | C39: Autorisatie rol intrekken
B40: (blanco/ leeg) | C40: Huidige instelling behouden (als er geen rechten zijn, blijft dit zo, als er al rechten uitgeven waren blijft dit ook zo)

Sheet Commer
A2: Aanmelden Autorisaties RVB Systemen
A3: Blauw = invullen commer
A5: Betreft | B5: Leveranciersnaam (Oraclenaam)
B6: Leveranciersnummer (Oracle)
A9: Medewerker 1
A10: Personalia
B11: Leveranciersnaam (Oraclenaam) | D11: =$D$5 -> 0
B12: Leveranciersnummer (Oracle) | D12: =$D$6 -> 0
B13: Voornaam | D13: =Leverancier!B7 -> 0
B14: Tussenvoegsel | D14: =Leverancier!C7 -> 0
B15: Achternaam | D15: =Leverancier!D7 -> 0
B16: E-mailadres (gebruikersnaam) | D16: =Leverancier!E7 -> 0
B17: Telefoonnummer | D17: =Leverancier!F7 -> 0
A19: Autorisatie
A21: Condor
C22: Dashboard
B23: Extern afmelden verplichting (wet- en regelgeving) | C23: Dag. Ondh | D23: =IFERROR(IF(Leverancier!$P$7="JA","Toekennen","Intrekken"),"") -> Intrekken
B24: Extern vastlegger technische verslaglegging | C24: Dag. Ondh | D24: =IFERROR(IF(Leverancier!$P$7="JA","Toekennen","Intrekken"),"") -> Intrekken
B25: Extern beheren onderhoudsinspectie | C25: Dag. Ondh | D25: =IFERROR(IF(Leverancier!$P$7="JA","Toekennen","Intrekken"),"") -> Intrekken
B26: Extern aanmaken meer/minder werk | C26: Dag. Ondh | D26: =IFERROR(IF(Leverancier!$P$7="JA","Toekennen","Intrekken"),"") -> Intrekken
B27: extern aanmaken BKW aanvraag | C27: Dag. Ondh | D27: =IFERROR(IF(Leverancier!$P$7="JA","Toekennen","Intrekken"),"") -> Intrekken
B28: Extern MUP inspecteur | C28: Dag. Ondh | D28: =IFERROR(IF(Leverancier!$Q$7="JA","Toekennen","Intrekken"),"") -> Intrekken
B29: Extern MUP Adviseur | C29: Dag. Ondh | D29: =IFERROR(IF(Leverancier!$Q$7="JA","Toekennen","Intrekken"),"") -> Intrekken
A31: Oracle (Gereedmeldenstoring)
B32: Contract/ Perceel | D32: =Leverancier!$G$7 -> 0
B33: Leveranciersvestiging (invullen bij Oracle autorisatie)
B34: Oracle Gereedmelden storingen | D34: =IFERROR(IF(Leverancier!R$7="JA","Toekennen","Intrekken"),"") -> Intrekken
A38: Aanmelden Autorisaties RVB Systemen
A39: Blauw = invullen commer
A41: Betreft | B41: Leveranciersnaam (Oraclenaam) | D41: =$D$5 -> 0
B42: Leveranciersnummer (Oracle) | D42: =$D$6 -> 0
A45: Medewerker 2
A46: Personalia
B47: Leveranciersnaam (Oraclenaam) | D47: =$D$5 -> 0
B48: Leveranciersnummer (Oracle) | D48: =$D$6 -> 0
B49: Voornaam | D49: =Leverancier!B8 -> 0
B50: Tussenvoegsel | D50: =Leverancier!C8 -> 0
B51: Achternaam | D51: =Leverancier!D8 -> 0
B52: E-mailadres (gebruikersnaam) | D52: =Leverancier!E8 -> 0
B53: Telefoonnummer | D53: =Leverancier!F8 -> 0
...
