Workbook

Sheet Leverancier
B3: Autorisaties RVB Systemen tbv leveranciers | P3: CONDOR DAGELIJKS ONDERHOUD | Q3: CONDOR BOEI | R3: ORACLE STORINGSONDERHOUD
B4: Leveranciersnaam: | H4: =IF(ISBLANK(Commer!$D$6)=TRUE,"",Commer!$D$6)
B5: Personalia
B6: Voornaam | C6: Tussenvoegsel | D6: Achternaam | E6: E-mailadres | F6: Mobiel tel. nummer | G6: Perceel / Contract | H6: Doel Aanvraag | I6: Opmerkingen
A7: 1. | Y7: JA | Z7: Nieuw
A8: 2. | Y8: NEE | Z8: Wijziging
A9: 3. | Z9: Intrekken
A10: 4.
A11: 5.
A12: 6.
A13: 7.
A14: 8.
A15: 9.
A16: 10.
B19: Leverancier | C19: voor akkoord: | E19: Voornaam: | H19: Datum:
E22: Achternaam: | H22: Handtekening:
B28: Medewerkers
B29: Voornaam | C29: Volledige voornaam
B30: Tussenvoegsel | C30: (voluit)
B31: Achternaam | C31: Volledige naam (evt. Inclusief meisjesnaam)
B32: E-mailadres | C32: Een op een persoon herleidbaar e-mailadres (bijv P.deWit@bedrijf.nl, niet toegestaan bijv: contract23@bedrijf)
B33: Telefoonnumm | C33: Het directe persoonlijke mobiele telefoonnummer
B34: Doel aanvraag | C34: Nieuw (medewerker), Wijziging (muteren rechten medewerker), Intrekken (verwijder medewerker)
B35: Perceel/ Contract | C35: Vul per medewerker slechts 1 contract/ perceel)
B37: Autorisaties
B38: JA | C38: Autrorisatie rol toekenne
B39: NEE | C39: Autorisatie rol intrekken
B40: (blanco/ leeg) | C40: Huidige instelling behouden (als er geen rechten zijn, blijft dit zo, als er al rechten uitgeven waren blijft dit ook zo)

Sheet Commer
A2: Aanmelden Autorisaties RVB Systemen
A3: Blauw = invullen commer
A5: Betreft | B5: Leveranciersnaam (Oraclenaam)
B6: Leveranciersnummer (Oracle)
A9: Medewerker 1
A10: Personalia
B11: Leveranciersnaam (Oraclenaam) | D11: =$D$5 -> 0
B12: Leveranciersnummer (Oracle) | D12: =$D$6 -> 0
B13: Voornaam | D13: =Leverancier!B7 -> 0
B14: Tussenvoegsel | D14: =Leverancier!C7 -> 0
B15: Achternaam | D15: =Leverancier!D7 -> 0
B16: E-mailadres (gebruikersnaam) | D16: =Leverancier!E7 -> 0
B17: Telefoonnummer | D17: =Leverancier!F7 -> 0
A19: Autorisatie
A21: Condor
C22: Dashboard
B23: Extern afmelden verplichting (wet- en regelgeving) | C23: Dag. Ondh | D23: =IFERROR(IF(Leverancier!$P$7="JA","Toekennen","Intrekken"),"") -> Intrekken
B24: Extern vastlegger technische verslaglegging | C24: Dag. Ondh | D24: =IFERROR(IF(Leverancier!$P$7="JA","Toekennen","Intrekken"),"") -> Intrekken
B25: Extern beheren onderhoudsinspectie | C25: Dag. Ondh | D25: =IFERROR(IF(Leverancier!$P$7="JA","Toekennen","Intrekken"),"") -> Intrekken
B26: Extern aanmaken meer/minder werk | C26: Dag. Ondh | D26: =IFERROR(IF(Leverancier!$P$7="JA","Toekennen","Intrekken"),"") -> Intrekken
B27: extern aanmaken BKW aanvraag | C27: Dag. Ondh | D27: =IFERROR(IF(Leverancier!$P$7="JA","Toekennen","Intrekken"),"") -> Intrekken
B28: Extern MUP inspecteur | C28: Dag. Ondh | D28: =IFERROR(IF(Leverancier!$Q$7="JA","Toekennen","Intrekken"),"") -> Intrekken
B29: Extern MUP Adviseur | C29: Dag. Ondh | D29: =IFERROR(IF(Leverancier!$Q$7="JA","Toekennen","Intrekken"),"") -> Intrekken
A31: Oracle (Gereedmeldenstoring)
B32: Contract/ Perceel | D32: =Leverancier!$G$7 -> 0
B33: Leveranciersvestiging (invullen bij Oracle autorisatie)
B34: Oracle Gereedmelden storingen | D34: =IFERROR(IF(Leverancier!R$7="JA","Toekennen","Intrekken"),"") -> Intrekken
A38: Aanmelden Autorisaties RVB Systemen
A39: Blauw = invullen commer
A41: Betreft | B41: Leveranciersnaam (Oraclenaam) | D41: =$D$5 -> 0
B42: Leveranciersnummer (Oracle) | D42: =$D$6 -> 0
A45: Medewerker 2
A46: Personalia
B47: Leveranciersnaam (Oraclenaam) | D47: =$D$5 -> 0
B48: Leveranciersnummer (Oracle) | D48: =$D$6 -> 0
B49: Voornaam | D49: =Leverancier!B8 -> 0
B50: Tussenvoegsel | D50: =Leverancier!C8 -> 0
B51: Achternaam | D51: =Leverancier!D8 -> 0
B52: E-mailadres (gebruikersnaam) | D52: =Leverancier!E8 -> 0
B53: Telefoonnummer | D53: =Leverancier!F8 -> 0
A55: Autorisatie
A57: Condor
C58: Dashboard
B59: Extern afmelden verplichting (wet- en regelgeving) | C59: Dag. Ondh | D59: =IFERROR(IF(Leverancier!$P$8="JA","Toekennen","Intrekken"),"") -> Intrekken
B60: Extern vastlegger technische verslaglegging | C60: Dag. Ondh | D60: =IFERROR(IF(Leverancier!$P$8="JA","Toekennen","Intrekken"),"") -> Intrekken
B61: Extern beheren onderhoudsinspectie | C61: Dag. Ondh | D61: =IFERROR(IF(Leverancier!$P$8="JA","Toekennen","Intrekken"),"") -> Intrekken
B62: Extern aanmaken meer/minder werk | C62: Dag. Ondh | D62: =IFERROR(IF(Leverancier!$P$8="JA","Toekennen","Intrekken"),"") -> Intrekken
B63: extern aanmaken BKW aanvraag | C63: Dag. Ondh | D63: =IFERROR(IF(Leverancier!$P$8="JA","Toekennen","Intrekken"),"") -> Intrekken
B64: Extern MUP inspecteur | C64: Dag. Ondh | D64: =IFERROR(IF(Leverancier!$Q$8="JA","Toekennen","Intrekken"),"") -> Intrekken
B65: Extern MUP Adviseur | C65: Dag. Ondh | D65: =IFERROR(IF(Leverancier!$Q$8="JA","Toekennen","Intrekken"),"") -> Intrekken
A67: Oracle (Gereedmeldenstoring)
B68: Contract/ Perceel | D68: =Leverancier!G8 -> 0
B69: Leveranciersvestiging (invullen bij Oracle autorisatie)
B70: Oracle Gereedmelden storingen | D70: =IFERROR(IF(Leverancier!R$8="JA","Toekennen","Intrekken"),"") -> Intrekken
A74: Aanmelden Autorisaties RVB Systemen
A75: Blauw = invullen commer
A77: Betreft | B77: Leveranciersnaam (Oraclenaam) | D77: =$D$5 -> 0
B78: Leveranciersnummer (Oracle) | D78: =$D$6 -> 0
A81: Medewerker 3
A82: Personalia
B83: Leveranciersnaam (Oraclenaam) | D83: =$D$5 -> 0
B84: Leveranciersnummer (Oracle) | D84: =$D$6 -> 0
B85: Voornaam | D85: =Leverancier!B9 -> 0
B86: Tussenvoegsel | D86: =Leverancier!C9 -> 0
B87: Achternaam | D87: =Leverancier!D9 -> 0
B88: E-mailadres (gebruikersnaam) | D88: =Leverancier!E9 -> 0
B89: Telefoonnummer | D89: =Leverancier!F9 -> 0
A91: Autorisatie
A93: Condor
C94: Dashboard
B95: Extern afmelden verplichting (wet- en regelgeving) | C95: Dag. Ondh | D95: =IFERROR(IF(Leverancier!$P$9="JA","Toekennen","Intrekken"),"") -> Intrekken
B96: Extern vastlegger technische verslaglegging | C96: Dag. Ondh | D96: =IFERROR(IF(Leverancier!$P$9="JA","Toekennen","Intrekken"),"") -> Intrekken
B97: Extern beheren onderhoudsinspectie | C97: Dag. Ondh | D97: =IFERROR(IF(Leverancier!$P$9="JA","Toekennen","Intrekken"),"") -> Intrekken
B98: Extern aanmaken meer/minder werk | C98: Dag. Ondh | D98: =IFERROR(IF(Leverancier!$P$9="JA","Toekennen","Intrekken"),"") -> Intrekken
B99: extern aanmaken BKW aanvraag | C99: Dag. Ondh | D99: =IFERROR(IF(Leverancier!$P$9="JA","Toekennen","Intrekken"),"") -> Intrekken
B100: Extern MUP inspecteur | C100: Dag. Ondh | D100: =IFERROR(IF(Leverancier!$Q$9="JA","Toekennen","Intrekken"),"") -> Intrekken
B101: Extern MUP Adviseur | C101: Dag. Ondh | D101: =IFERROR(IF(Leverancier!$Q$9="JA","Toekennen","Intrekken"),"") -> Intrekken
A103: Oracle (Gereedmeldenstoring)
B104: Contract/ Perceel | D104: =Leverancier!G9 -> 0
B105: Leveranciersvestiging (invullen bij Oracle autorisatie)
B106: Oracle Gereedmelden storingen | D106: =IFERROR(IF(Leverancier!R$7="JA","Toekennen","Intrekken"),"") -> Intrekken
A110: Aanmelden Autorisaties RVB Systemen
A111: Blauw = invullen commer
A113: Betreft | B113: Leveranciersnaam (Oraclenaam) | D113: =$D$5 -> 0
B114: Leveranciersnummer (Oracle) | D114: =$D$6 -> 0
A117: Medewerker 4
A118: Personalia
B119: Leveranciersnaam (Oraclenaam) | D119: =$D$5 -> 0
B120: Leveranciersnummer (Oracle) | D120: =$D$6 -> 0
B121: Voornaam | D121: =Leverancier!B10 -> 0
B122: Tussenvoegsel | D122: =Leverancier!C10 -> 0
B123: Achternaam | D123: =Leverancier!D10 -> 0
B124: E-mailadres (gebruikersnaam) | D124: =Leverancier!E10 -> 0
B125: Telefoonnummer | D125: =Leverancier!F10 -> 0
A127: Autorisatie
A129: Condor
C130: Dashboard
B131: Extern afmelden verplichting (wet- en regelgeving) | C131: Dag. Ondh | D131: =IFERROR(IF(Leverancier!$P$10="JA","Toekennen","Intrekken"),"") -> Intrekken
B132: Extern vastlegger technische verslaglegging | C132: Dag. Ondh | D132: =IFERROR(IF(Leverancier!$P$10="JA","Toekennen","Intrekken"),"") -> Intrekken
B133: Extern beheren onderhoudsinspectie | C133: Dag. Ondh | D133: =IFERROR(IF(Leverancier!$P$10="JA","Toekennen","Intrekken"),"") -> Intrekken
...
